Workbook

Sheet Hoja 1
F1: GESTIÓN CONTRACTUAL | AB1: Código: IDPAC-GC-FT-52 Versión: 02 Página 1 de 2 Fecha: 22/02/2021
F2: INFORME Y CERTIFICADO DE SUPERVISIÓN PROCESOS DE SELECCIÓN Y/O PERSONAS JURÍDICAS
A4: I. INFORMACIÓN DE SUPERVISIÓN O INTERVENTORÍA
C6: FECHA DE EXPEDICIÓN | J6: DATOS DEL SUPERVISOR O INTERVENTOR | AA6: N° DE CONTRATO DE INTERVENTORIA
C7: DÍA | E7: MES | G7: AÑO | J7: NOMBRE | M7: SANDRA LUCÍA CIFUENTES CARVALHO | AA7: N/A
C8: 15 | E8: MAYO | G8: 2021 | J8: CARGO | M8: PROFESIONAL UNIVERSITARIO GRADO 219-02
A11: II. INFORMACIÓN CONTRACTUAL
A12: NOMBRE O RAZÓN SOCIAL DEL CONTRATISTA | Y12: NIT O C.C. No.
G13: HENRY PUENTES DUSSAN | Z13: 12.111.266
A15: TIPO DE CONTRATACIÓN: | I15: 10 10-Contrato de Obra
J17: DD | K17: MM | L17: AAAA | R17: DD | S17: MM | T17: AAAA | V17: PLAZO DE EJECUCION INICIAL | AB17: FECHA DE TERMINACIÓN
A18: CONTRATO | D18: No. | E18: 1023 | G18: CON FECHA | J18: 17 | K18: 12 | L18: 2020 | N18: FECHA DE INICIO | R18: 12 | S18: 1 | T18: 2021 | V18: 1 | W18: meses y | Y18: 15 | Z18: dias | AB18: 15 | AC18: 4 | AE18: 2021
J20: DD | K20: MM | L20: AAAA | R20: DD | S20: MM | T20: AAAA | V20: PLAZO DE EJECUCION
A21: PRORROGA | D21: No. | E21: 1 | G21: CON FECHA | J21: 26 | K21: 2 | L21: 2021 | N21: FECHA DE INICIO | R21: 27 | S21: 2 | T21: 2021 | V21: 1 MESES Y 20 DIAS
A22: PRORROGA | D22: No. | E22: 2 | G22: CON FECHA | N22: FECHA DE INICIO | V22: 00 MESES Y 00 DIAS
A23: PRORROGA | D23: No. | E23: 3 | G23: CON FECHA | N23: FECHA DE INICIO | V23: 00 MESES Y 00 DIAS
J24: DD | K24: MM | L24: AAAA
A25: ADICION | D25: No. | E25: 1 | G25: CON FECHA | N25: VALOR DE ADICION No. 1 | V25: 0
A26: ADICION | D26: No. | E26: 2 | G26: CON FECHA | N26: VALOR DE ADICION No. 2 | V26: 0
A27: ADICION | D27: No. | E27: 3 | G27: CON FECHA | N27: VALOR DE ADICION No. 3 | V27: 0
A29: FORMA Y CONDICIÓN DE PAGO
A30: El IDPAC, pagará el 80% según avance de obra conforme al cronograma establecido por el IDPAC, para la ejecución de las mismas. El pago del 20% final requerirá además acta de recibo final de la obra y acta de liquidación del contrato. El pago se realizará dentro de los treinta (30) días calendario previa entrega de documentos, para lo cual, el contratista presentara las facturas o cuentas de cobro, acompañadas según corresponda de las actas de corte parcial o de recibo a satisfacción de la obra, así como certificado de supervisión, documentos que deberán ser suscritos por el contratista, así como, el certificado de paz y salvo por concepto del pago de los aportes de sus empleados a los Sistemas de Salud, Pensiones, Riesgos Profesionales y Aportes a las Cajas de Compensación Familiar, instituto Colombiano de Bienestar Familiar ICBF y Servicio Nacional de Aprendizaje SENA, expedida por el Revisor Fiscal si la empresa está legalmente obligada a contar con Revisoría Fiscal , o por el Representante Legal. Sin perjuicio de lo anterior, queda entendido que el pago total del valor del contrato, supone entrega real y efectiva de las obras, los informes y/o productos pactados y del cumplimiento de las obligaciones generales y específicas. Si las facturas o cuentas de cobro no han sido correctamente elaboradas o no se acompañan los documentos requeridos para el pago, el término para este solo efecto empezara a contarse desde la fecha en que se haya aportado el último de los documentos. El pago estará sujeto a la programación del PAC por parte de la Tesorería del IDPAC y para efectos de aquél, los valores serán consignados en la cuenta de ahorros y/o corriente, suministrada por EL CONTRATISTA de acuerdo con el acuerdo con el acuerdo con el formato del Sistema Automático de pagos. El IDPAC no reconocerá pagos sobre pedidos o entregas de elementos que no hubieren sido previamente requeridos o autorizados por el Supervisor del contrato. El precio incluye todos los costos y gastos, directos e indirectos, derivados de la celebración, ejecución y liquidación del contrato. Por tanto, en el valor pactado se entienden incluidos, entre otros, los costos y gastos de administración, salarios, prestaciones sociales e indemnizaciones del personal, incrementos salariales y prestacionales, desplazamientos, transporte, almacenamiento de materiales, herramientas y toda clase de equipos necesarios, honorarios en actividades relacionadas con la ejecución del contrato; la totalidad de tributos originados por la celebración, ejecución y liquidación del contrato; las deducciones a que haya lugar; y, en general, todos los costos y gastos en los que deba incurrir el Contratista para la cumplida ejecución del contrato. EL IDPAC no reconocerá, por consiguiente, reajuste alguno realizado por el Contratista en relación con los costos, gastos o actividades adicionales que aquel requería para la ejecución del contrato y que fueron previsibles al momento de la presentación de la propuesta.
A49: OBJETO CONTRACTUAL
A50: Contratar las Obras con Saldo Pedagógico que permitan adecuar, mantener y mejorar la infraestructura física de los espacios priorizados a través de los diálogos y concertación ciudadana liderados por el Instituto Distrital de la Participación y la Acción Comunal IDPAC.
A52: CERTIFICO BAJO MI ENTERA RESPONSABILIDAD QUE EL CONTRATISTA CUMPLIÓ A CABALIDAD CON EL OBJETO DEL CONTRATO EN LOS TÉRMINOS Y TIEMPO PACTADOS CON EL INSTITUTO DISTRITAL DE LA PARTICIPACION Y ACCION COMUNAL
A54: POR LO TANTO AUTORIZO EL PAGO POR VALOR DE: | L54: 44043646
Z56: DD | AA56: MM | AC56: AAAA
A57: MARQUE CON X SI FACTURA | J57: X | L57: NUMERO DE FACTURA | V57: DE FECHA : | AA57: 4 | AC57: 2021
A59: EL CONTRATISTA PRESENTA LAS CONSTANCIAS DE PAGO DE APORTES AL SISTEMA DE SEGURIDAD SOCIAL CORRESPONDIENTES
J60: SI | K60: X | M60: NO
A62: III. MODIFICACIONES AL CONTRATO
J64: DD | K64: MM | L64: AAAA | P64: DD | Q64: MM | R64: AAAA | U64: DD | V64: MM | W64: AAAA
A65: SUSPENSIÓN | D65: No. | E65: 1 | G65: CON FECHA | J65: 21 | K65: 1 | L65: 2021 | M65: PERIODO DEL | P65: 21 | Q65: 1 | R65: 2021 | S65: AL | U65: 1 | V65: 2 | W65: 2021 | X65: PLAZO SUSPENSIÓN | AC65: 00 MESES Y 12 DIAS
A66: SUSPENSIÓN | D66: No. | G66: CON FECHA | M66: PERIODO DEL | S66: AL | X66: PLAZO SUSPENSIÓN
J68: DD | K68: MM | L68: AAAA | P68: DD | Q68: MM | R68: AAAA | T68: NOMBRES Y APELLIDOS DEL CEDENTE O CESIONARIO
A69: CESION | D69: No. | E69: 1 | G69: CON FECHA | M69: A PARTIR DEL | AB69: C.C. | AH69: GIROS YA REALIZADOS
AH70: ENERO | AI70: 0
J71: DD | K71: MM | L71: AAAA | Q71: DD | R71: MM | S71: AAAA | AH71: FEBRERO | AI71: 0
A72: TERMINACIÓN ANTICIPADA DE FECHA: | M72: A PARTIR DEL: | AH72: MARZO | AI72: 0
AH73: ABRIL | AI73: 0
...

Sheet Hoja 2
F1: GESTIÓN CONTRACTUAL | U1: Código: IDPAC-GC-FT-52 Versión: 02 Página 1 de 2 Fecha: 22/02/2021
F2: INFORME Y CERTIFICADO DE SUPERVISIÓN PROCESOS DE SELECCIÓN Y/O PERSONAS JURÍDICAS
A4: DATOS GENERALES DEL CONTRATO
A5: PERIODO DEL INFORME | F5: Del | G5: DIA | H5: MES | I5: AÑO | K5: Hasta | M5: DIA | N5: MES | O5: AÑO | R5: FECHA DEL INFORME | W5: DIA | X5: MES | Y5: AÑO
G6: 12 | H6: 1 | I6: 2021 | M6: 15 | N6: 3 | O6: 2021 | W6: 15 | X6: 5 | Y6: 2021
A7: CONTRATO No. | E7: =+'Hoja 1'!$E$18 -> 1023 | G7: FECHA DE CONTRATO | K7: =+'Hoja 1'!$J$18 -> 17 | L7: =+'Hoja 1'!$K$18 -> 12 | M7: =+'Hoja 1'!$L$18 -> 2020 | N7: TIPO CONTRATO | R7: =+'Hoja 1'!I15 -> 10 10-Contrato de Obra
A8: NOMBRE O RAZÓN SOCIAL DEL CONTRATISTA / COEJECUTOR / ASOCIADO | N8: =+'Hoja 1'!G13 -> HENRY PUENTES DUSSAN
A9: TIPO DE IDENTIFICACIÓN | G9: C.C. | I9: NUMERO | L9: =+'Hoja 1'!Z13 -> 12.111.266 | Q9: FECHA DE INICIO | U9: FECHA DE TERMINACIÓN
Q10: =+'Hoja 1'!R18 -> 12 | R10: =+'Hoja 1'!S18 -> 1 | S10: =+'Hoja 1'!T18 -> 2021 | U10: =+'Hoja 1'!AB18 -> 15 | V10: =+'Hoja 1'!AC18 -> 4 | X10: =+'Hoja 1'!AE18 -> 2021
A11: OBJETO CONTRACTUAL
A12: =+'Hoja 1'!A50 -> Contratar las Obras con Saldo Pedagógico que permitan adecuar, mantener y mejorar la infraestructura física de los espacios priorizados a través de los diálogos y concertación ciudadana liderados por el Instituto Distrital de la Participación y la Acción Comunal IDPAC.
A13: PLAZO DE EJECUCIÓN INICIAL | H13: =+'Hoja 1'!V18 -> 1 | I13: Meses y | K13: =+'Hoja 1'!Y18 -> 15 | L13: Días | N13: FECHA DE INICIACIÓN | W13: =+'Hoja 1'!R18 -> 12 | X13: =+'Hoja 1'!S18 -> 1 | Y13: =+'Hoja 1'!T18 -> 2021
A14: PRORROGA | D14: No. | E14: DIA | F14: MES | G14: AÑO | I14: TIEMPO | L14: No. | M14: DIA | N14: MES | O14: AÑO | Q14: TIEMPO | S14: No. | T14: DIA | U14: MES | V14: AÑO | W14: TIEMPO
D15: 1 | E15: =+'Hoja 1'!J21 -> 26 | F15: =+'Hoja 1'!K21 -> 2 | G15: =+'Hoja 1'!L21 -> 2021 | I15: =+'Hoja 1'!V21 -> 1 MESES Y 20 DIAS | L15: 2 | M15: =+'Hoja 1'!J22 -> 0 | N15: =+'Hoja 1'!K22 -> 0 | O15: =+'Hoja 1'!L22 -> 0 | Q15: =+'Hoja 1'!V22 -> 00 MESES Y 00 DIAS | S15: 3 | T15: =+'Hoja 1'!J23 -> 0 | U15: =+'Hoja 1'!K23 -> 0 | V15: =+'Hoja 1'!L23 -> 0 | W15: =+'Hoja 1'!V23 -> 00 MESES Y 00 DIAS
A16: ADICION | D16: No. | E16: DIA | F16: MES | G16: AÑO | I16: VALOR | L16: No. | M16: DIA | N16: MES | O16: AÑO | Q16: VALOR | S16: No. | T16: DIA | U16: MES | V16: AÑO | W16: VALOR
D17: 1 | E17: =+'Hoja 1'!J25 -> 0 | F17: =+'Hoja 1'!K25 -> 0 | G17: =+'Hoja 1'!L25 -> 0 | I17: =+'Hoja 1'!V25 -> 0 | L17: 2 | M17: =+'Hoja 1'!J26 -> 0 | N17: =+'Hoja 1'!K26 -> 0 | O17: =+'Hoja 1'!L26 -> 0 | Q17: =+'Hoja 1'!V26 -> 0 | S17: 3 | T17: =+'Hoja 1'!J27 -> 0 | U17: =+'Hoja 1'!K27 -> 0 | V17: =+'Hoja 1'!L27 -> 0 | W17: =+'Hoja 1'!V27 -> 0
A18: NOMBRE DEL INTERVENTOR Y/O SUPERVISOR | K18: =+'Hoja 1'!M7 -> SANDRA LUCÍA CIFUENTES CARVALHO
A19: OFICINA O DEPENDENCIA A LA CUAL PERTENECE | K19: =+'Hoja 1'!M8 -> PROFESIONAL UNIVERSITARIO GRADO 219-02
A20: DESCRIPCIÓN DE ACTIVIDADES DESARROLLADAS EN CUMPLIMIENTO DEL OBJETO CONTRATUAL
A21: No. | B21: OBLIGACIONES CONTRACTUALES Y/O PRODUCTOS VERFICABLES (1) | H21: ACTIVIDADES REALIZADAS Y/O PRODUCTOS ENTREGADOS | P21: SOPORTES (Describa las evidencias de las actividades realizadas y sitio de conservación de la información, relacionar la cantidad de folios anexos al informe)
B22: OBLIGACIONES ESPECÍFICAS DEL CONTRATISTA
A23: 1 | B23: Con el propósito de que se conozcan las condiciones en que se va a ejecutar la obra, se exige como requisito indispensable que el contratista practique una detenida visita al sitio donde se desarrollarán las obras y tomen nota de detalles en sitio; ubicación de la población, accesos, disponibilidad de materiales, mano de obra, y en general analicen todos los factores que contribuyan a la buena ejecución de las obras en cuanto a su calidad, seguridad, economía, buena presentación y desarrollo. | H23: El contratista conjuntamente con los profesionales de la Gerencia de Proyectos y la Supervisora del Contrato, realizó las visitas a los direrentes sitios donde se desarrollarán las obras, se tomó nota de detalles en sitio; ubicación de la población, accesos, disponibilidad de materiales, mano de obra, y en general se analizaron todos los factores que contribuyen a la buena ejecución de las obras en cuanto a su calidad, seguridad, economía, buena presentación y desarrollo. | P23: Acta de reunión No. 02 Localidad Chapinero Barrio Juan XXIII el 22-dic-2020 Acta de reunión No. 03 Localidad Usaquén Barrio El Codito el 22-dic-2020 Acta de reunión No. 04 Localidad Suba Barrio Berlín el 22-dic-2020 Acta de reunión No. 05 Localidad Suba Barrio Nueva Tibabuyes el 22-dic-2020 Acta de reunión No. 06 Localidad Engativá Barrio Palestina el 22-dic-2020 Acta de reunión No. 07 Localidad Barrios Unidos Barrio Metrópolis el 22-dic-2020 Acta de reunión No. 08 Localidad Fontibón Barrio Batavia el 22-dic-2020 Acta de reunión No. 09 Localidad Bosa Barrio Naranjos el 23-dic-2020 Acta de reunión No. 10 Localidad Tunjuelito Barrio Tunjuelito el 23-dic-2020 Acta de reunión No. 11 Localidad Antonio Nariño Barrio Villa Mayor el 23-dic-2020 se anexan Actas de reunion de la 12 a la 34 un total de 141 folios Archivo: Expediente contractual No. 1023-2020 Secretaría General - IDPAC y SECOP II
A24: 2 | B24: Verificar antes de iniciar el contrato si existen diferencias entre las cantidades de obra y especificaciones técnicas contenidas en los presentes términos de referencia y las condiciones del sitio donde se llevaran a cabo los trabajos objeto del presente proceso, además es su deber consultar oportunamente, por escrito cualquier cambio o modificación en la ejecución de los trabajos y únicamente podrán ejecutarse después de haber sido aprobadas por el supervisión del contrato, en caso contrario serán por cuenta y riesgo del contratista. | H24: El contratista conjuntamente con los profesionales de la Gerencia de Proyectos y la Supervisora del Contrato, verificaron antes, durante y después las diferencias entre cantidades de obra y especificaciones técnicas contenidas en los términos de referencia y las condiciones del sitio donde se llevaran a cabo los trabajos objeto del presente proceso, las cantidades de obra realmente ejecutadas por el contratista y se realizaron las diferentes consultas por escrito, mismas que fueron resueltas y aprobadas al contratista por el Ordenador del Gasto con Acta de Modificación No. 1 y aprobada por la supervisora con el Acta de modificación No. 2. | P24: INFORME FINAL DEL CONTRATISTA. Radicado No. 2021ER3896 del 29-abril-2021. (34 folios) ACTA DE MODIFICACION No. 1 (17 folios) ACTA DE MODIFICACION No. 2 (18 folios) Archivo: Expediente contractual No. 1023-2020 Secretaría General - IDPAC y SECOP II
A25: 3 | B25: Velar porque todas las órdenes le sean impartidas por escrito, mediante comunicaciones oficiales o en el libro de obra dado para tal fin. Allí se consignarán las observaciones, insinuaciones y demás hechos que tengan que ver con el desarrollo normal de la obra. | H25: El contratista acató todas las órdenes impartidas por la Supervisora del contrato, que fueron impartidas en los Comités de obra realizados a la fecha y fueron consignadas las observaciones en la Bitácora de obra. | P25: BITACORA DE OBRA. Se anexan 99 FOLIOS: 1. Tunjuelito Tunjuelito fl. 1 al 8, 2. Suba Nueva Tibabuyes fl. 9 al 15, 3.Suba Berlín fl. 16 al 22, 4. Barrios Unidos Metrópolis fl. 23 al 35, 5. Chapinero Juan XXIII fl.34 al 43, 6. Engativá Palestina fl.44 al 51, 7. Fontibón Batavia fl. 52 al 58, 8. Bosa Los Naranjos fl.59 al 67, 9. Usaquén El Codito fl.68 al 82, 10. Antonio Nariño Villa Mayor fl. 83 al 94, 11. Rafael Uribe Uribe Quiroga I Etapa fl. 95 al 99
A26: 4 | B26: Registrar las observaciones de obra y sus avances, en una bitácora y en un registro fotográfico o fílmico para garantizar la transparencia de la información, esto permitirá realizar un seguimiento permanente de la evolución del proyecto en aras de garantizar el manejo adecuado de los recursos públicos. Una vez finalizada la obra, el contratista deberá presentar el informe y acta finales de la obra. | H26: El contratista ha registrado todas las observaciones de obra y sus avances, en una bitácora y en un registro fotográfico, para garantizar la transparencia de la información, que le ha permitido realizar un seguimiento permanente de la evolución del proyecto en para garantizar el manejo adecuado de los recursos públicos. | P26: BITACORA DE OBRA. Se anexan 99 FOLIOS: 1. Tunjuelito Tunjuelito fl. 1 al 8, 2. Suba Nueva Tibabuyes fl. 9 al 15, 3.Suba Berlín fl. 16 al 22, 4. Barrios Unidos Metrópolis fl. 23 al 35, 5. Chapinero Juan XXIII fl.34 al 43, 6. Engativá Palestina fl.44 al 51, 7. Fontibón Batavia fl. 52 al 58, 8. Bosa Los Naranjos fl.59 al 67, 9. Usaquén El Codito fl.68 al 82, 10. Antonio Nariño Villa Mayor fl. 83 al 94, 11. Rafael Uribe Uribe Quiroga I Etapa fl. 95 al 99. INFORME FINAL DEL CONTRATISTA RADICADO No. 2021ER3896 29/abr/2021.
A27: 5 | B27: Aportar todas las herramientas, implementos mecánicos y de transporte vertical y horizontal necesarios para la correcta ejecución de la obra y deberá ser tomado desde el punto en la visita de obra, los costos de los consumos correrán por cuenta del Contratista. | H27: El contratista a aportado y suministrado por su propia cuenta todas las herramientas, implementos mecánicos y de transporte vertical y horizontal necesarios para la correcta ejecución de las obras. | P27: BITACORA DE OBRA. Se anexan 99 FOLIOS: 1. Tunjuelito Tunjuelito fl. 1 al 8, 2. Suba Nueva Tibabuyes fl. 9 al 15, 3.Suba Berlín fl. 16 al 22, 4. Barrios Unidos Metrópolis fl. 23 al 35, 5. Chapinero Juan XXIII fl.34 al 43, 6. Engativá Palestina fl.44 al 51, 7. Fontibón Batavia fl. 52 al 58, 8. Bosa Los Naranjos fl.59 al 67, 9. Usaquén El Codito fl.68 al 82, 10. Antonio Nariño Villa Mayor fl. 83 al 94, 11. Rafael Uribe Uribe Quiroga I Etapa fl. 95 al 99
A28: 6 | B28: Los elementos y materiales que se utilicen en la obra deberán ser previamente aprobados por el supervisor del contrato mediante la presentación de muestras con la debida anticipación, el supervisor del contrato podrá ordenar por cuenta del Contratista los ensayos necesarios para comprobar que éstos se ajustan a las especificaciones. | H28: La Supervisora del contrato a aprobado los elementos y materiales utilizados en la obra, previa presentación por parte del contratista, se solicitaron pruebas de laboratorio del concreto en el Proyecto de Usaquén - barrio El Codito y la certificación del concreto del Proyecto de Tunjuelito - barrio Tunjuelito. Se anexan fichas técnicas de Hierros, Bloques de cemento y pinturas utilizados en los proyectos. | P28: 1. LA BITACORA DE OBRA se anexan 99 folios: 1. Tunjuelito Tunjuelito fl. 1 al 8, 2. Suba Nueva Tibabuyes fl. 9 al 15, 3.Suba Berlín fl. 16 al 22, 4. Barrios Unidos Metrópolis fl. 23 al 35, 5. Chapinero Juan XXIII fl.34 al 43, 6. Engativá Palestina fl.44 al 51, 7. Fontibón Batavia fl. 52 al 58, 8. Bosa Los Naranjos fl.59 al 67, 9. Usaquén El Codito fl.68 al 82, 10. Antonio Nariño Villa Mayor fl. 83 al 94, 11. Rafael Uribe Uribe Quiroga I Etapa fl. 95 al 99. 2. PRUEBAS DE LABORATORIO. Se realizaron para el proyecto del Codito Localidad USAQUEN (Ver Informe Final del Contratista RADICADO No. 2021ER3896 del 29 de abril de 2021 folio 48. 3. CERTIFICACION CONCRETO. Para el proyecto de TUNJUELITO se utilizó concreto certifiado de Cemex (Ver Informe Final del Contratista RADICADO No. 2021ER3896 del 29 de abril de 2021 folios 49 al 52 4. FICHAS TECNICAS: De los materiales utilizados en las obras, aprobados por la supervisora, como: Hierros, Bloques de Cemento, Pinturas. (Ver Informe Final del Contratista RADICADO No. 2021ER3896 del 29 de abril de 2021 folios 53 al 77.
A29: 7 | B29: Es de absoluta responsabilidad y costo para el contratista, la construcción del campamento, cerramiento y demás espacios requeridos por el contratista para el almacenamiento y seguridad de materiales, herramientas y dotación del personal. Cuya localización debe ser aprobada por el supervisor del contrato. | H29: El contratista no tubo la necesidad de construir campamentos. Asumió por cuenta y riesgo los costos del cerramiento y demás espacios utilizados para el almacenamiento y seguridad de materiales, herramientas y dotación del personal. Se contó con el prestamo de los salones comunales, sitio fue aprobado por la Supervisora. | P29: BITACORA DE OBRA. Se anexan 99 FOLIOS: 1. Tunjuelito Tunjuelito fl. 1 al 8, 2. Suba Nueva Tibabuyes fl. 9 al 15, 3.Suba Berlín fl. 16 al 22, 4. Barrios Unidos Metrópolis fl. 23 al 35, 5. Chapinero Juan XXIII fl.34 al 43, 6. Engativá Palestina fl.44 al 51, 7. Fontibón Batavia fl. 52 al 58, 8. Bosa Los Naranjos fl.59 al 67, 9. Usaquén El Codito fl.68 al 82, 10. Antonio Nariño Villa Mayor fl. 83 al 94, 11. Rafael Uribe Uribe Quiroga I Etapa fl. 95 al 99
A30: 8 | B30: Tan pronto se hayan terminado las obras y antes de que se efectúe la liquidación final del Contrato, el contratista deberá por su cuenta y riesgo, retirar materiales y sobrantes, así como el campamento y cerramientos, dejando las zonas intervenidas completamente limpias. | H30: El contratista ha retirado de manera permanente los materiales sobrantes y cerramientos, dejando las zonas intervenidas completamente limpias al finalizar las obras, por su cuenta y riesgo. | P30: BITACORA DE OBRA. Se anexan 99 folios: 1. Tunjuelito Tunjuelito fl. 1 al 8, 2. Suba Nueva Tibabuyes fl. 9 al 15, 3.Suba Berlín fl. 16 al 22, 4. Barrios Unidos Metrópolis fl. 23 al 35, 5. Chapinero Juan XXIII fl.34 al 43, 6. Engativá Palestina fl.44 al 51, 7. Fontibón Batavia fl. 52 al 58, 8. Bosa Los Naranjos fl.59 al 67, 9. Usaquén El Codito fl.68 al 82, 10. Antonio Nariño Villa Mayor fl. 83 al 94, 11. Rafael Uribe Uribe Quiroga I Etapa fl. 95 al 99,
A31: 9 | B31: El Contratista se responsabilizará por la protección y conservación de las obras hasta la entrega y recibo en forma definitiva por el supervisor del contrato. La reparación de daños, si los hubiera, correrá por cuenta del Contratista y se hará a satisfacción del supervisor del contrato. | H31: El Contratista se ha responsabilizado por la protección y conservación de las obras que a la fecha se han terminado. No se han deteriorado las obras ejecutadas ni los bienes. | P31: BITACORA DE OBRA, Se anexan 99 folios: 1. Tunjuelito Tunjuelito fl. 1 al 8, 2. Suba Nueva Tibabuyes fl. 9 al 15, 3.Suba Berlín fl. 16 al 22, 4. Barrios Unidos Metrópolis fl. 23 al 35, 5. Chapinero Juan XXIII fl.34 al 43, 6. Engativá Palestina fl.44 al 51, 7. Fontibón Batavia fl. 52 al 58, 8. Bosa Los Naranjos fl.59 al 67, 9. Usaquén El Codito fl.68 al 82, 10. Antonio Nariño Villa Mayor fl. 83 al 94, 11. Rafael Uribe Uribe Quiroga I Etapa fl. 95 al 99,
A32: 10 | B32: Los precios unitarios deben incluir el costo del suministro e instalación de los materiales, mano de obra, herramientas, equipos, transporte, control de calidad y demás elementos y gastos inherentes para el cumplimiento satisfactorio del Contrato. | H32: Los precios unitarios incluyen los costos del suministro e instalación de los materiales, mano de obra, herramientas, equipos, transporte, control de calidad y demás elementos y gastos inherentes para el cumplimiento satisfactorio del Contrato. | P32: ANALISIS DE PRECIOS UNITARIOS - ACTA No. 02 (i archivo en excel 8 hojas)
A33: 11 | B33: Cuando por descuido, imprevisión, negligencia, o causas imputables al Contratista ocurriesen daños a terceros, éste será el directo responsable de ellos. | H33: Cuando por descuido, imprevisión, negligencia, o causas imputables al Contratista ocurriesen daños a terceros, éste será el directo responsable de ellos. | P33: A LA FECHA NO HAN OCURRIDO DAÑOS A TERCEROS
A34: 12 | B34: En la construcción y acabados de las obras, el supervisor del contrato será exigente y por lo tanto, el Contratista utilizará materiales de primera calidad y mano de obra altamente calificada. El supervisor del contrato, rechazará cualquier trabajo que a su juicio no cumpla con las normas dadas en estas especificaciones. | H34: Durante la ejecución, construcción y acabados de las obras, la supervisora del contrato será exigente y a aprobado la calidad de los materiales los cuales son de primera calidad y la mano de obra altamente calificada. No se han rechazado materiales, como tampoco se a rechazado personal trabajador. | P34: 1. BITACORA DE OBRA. Se anexan 99 folios: 1. Tunjuelito Tunjuelito fl. 1 al 8, 2. Suba Nueva Tibabuyes fl. 9 al 15, 3.Suba Berlín fl. 16 al 22, 4. Barrios Unidos Metrópolis fl. 23 al 35, 5. Chapinero Juan XXIII fl.34 al 43, 6. Engativá Palestina fl.44 al 51, 7. Fontibón Batavia fl. 52 al 58, 8. Bosa Los Naranjos fl.59 al 67, 9. Usaquén El Codito fl.68 al 82, 10. Antonio Nariño Villa Mayor fl. 83 al 94, 11. Rafael Uribe Uribe Quiroga I Etapa fl. 95 al 99. 2. FICHAS TECNICAS: De los materiales utilizados en las obras, aprobados por la supervisora, como: Hierros, Bloques de Cemento, Pinturas. (Ver Informe Final del Contratista RADICADO No. 2021ER3896 del 29 de abril de 2021 folios 53 al 77.
... A54: 32 | B54: El contratista deberá garantizar el almacenamiento de los materiales, insumos y productos utilizados para la ejecución de las obras, disponiendo de las fichas técnicas, hojas de seguridad y tarjetas de emergencias cuando aplique. | H54: El contratista garantizo el almacenamiento de los materiales, insumos y productos utilizados para la ejecución de las obras, para lo cual se cont[o con los Salones Comunales del barrio donde se ejecutaron las obras. El contratista entrego la fichas técnicas del generador electrico | P54: INFORME FINAL DEL CONTRATISTA (34 folios) - Registro Fotográfico
B55: OBLIGACIONES GENERALES DEL CONTRATISTA
A56: 1 | B56: Cumplir con todos los requerimientos exigidos en los Estudios Previos, y demás documentos del proceso de selección. | H56: El Contratita dio CUMPLIMIENTO con todos los requerimientos exigidos en los Estudios Previos, y demás documentos del proceso de selección. | P56: Actas de reunion y comites de obra de la No. 35 a la 52 y bitacora de obra
A57: 2 | B57: Contar con el Recurso Humano indispensable para el cumplimiento de los servicios y/o bienes objeto del contrato. | H57: El Contratista dio CUMPLIMIENTO al contar con el Recurso Humano indispensable para el cumplimiento de los servicios y/o bienes objeto, como tambien la ejecucion del contrato. | P57: Actas de reunion y comites de obra de la No. 35 a la 52 y bitacora de obra
A58: 3 | B58: Pagar por su cuenta y riesgo exclusivo, todos los salarios, prestaciones legales y extralegales de sus operarios, afiliación al sistema de seguridad social, cobertura en riesgos profesionales y demás aportes a que haya lugar. | H58: El Contratista dio CUMPLIMIENTO por cuanto paga por su cuenta y riesgo exclusivo, todos los salarios, prestaciones legales y extralegales de sus operarios, afiliación al sistema de seguridad social, cobertura en riesgos profesionales y demás aportes a que haya lugar. | P58: Actas de reunion y comites de obra de la No. 35 a la 52 y bitacora de obra Certificado y planillas de aportes a la seguridad social
A59: 4 | B59: Participar y apoyar al IDPAC en todas las reuniones a las que éste lo convoque relacionadas con la ejecución del contrato. | H59: El Contratista dio CUMPLIMIENTO al participar y apoyar al IDPAC en todas las reuniones a las que fue convocado relacionadas con la ejecución del contrato. | P59: Actas de reunion y comites de obra de la No. 35 a la 52
A60: 5 | B60: Escuchar y atender en forma inmediata los reclamos y sugerencias requerido por el supervisor del contrato, con el fin de mejorar la calidad del servicio prestado o de los bienes a entregar en el evento en que se llegue a observar alguna deficiencia relacionada con el objeto contratado. | H60: A la fecha no han habido sugerencias ni reclamaciones por parte de la supervisora del contrato, por calidad del servicio prestado o de los bienes entregados no hay observacion frente a deficiencias relacionada con el objeto contratado. | P60: NO APLICA EVIDENCIA
...

Sheet .
C1: Lista Desplegable | G1: Lista Desplegable | H1: Lista Desplegable
C2: ENERO | D2: SALDO POR CANCELAR | G2: 10 10-Contrato de Obra | I2: 1 1. Licitación pública | J2: 2 2: Refrigerios Escolares
C3: FEBRERO | D3: SALDO POR LIBERAR | G3: 21 21-Consultoría (Interventoría) | I3: 2 2. Selección abreviada | J3: 3 3: Tecnologia
C4: MARZO | G4: 22 22-Consultoría (Gerencia de Obra) | I4: 3 3. Concurso de méritos | J4: 4 4: Obras Públicas
C5: ABRIL | G5: 23 23-Consultoría (Gerencia de Proyecto) | I5: 4 4. Mínima cuantía | J5: 5 5: Medicamentos
C6: MAYO | G6: 24 24-Consultoría (Estudios y Diseños Tecnicos) | I6: 5 5. Contratación directa | J6: 6 6: Prestacion de servicios
C7: JUNIO | E7: Lista Desplegable | G7: 25 25-Consultoría (Estudios de Prefactibilidad y Factibilidad) | I7: 6 6. Contratación directa por Urgencia Manifiesta | J7: 7 7: Seguridad Ciudadana
A8: Lista Desplegable | C8: JULIO | E8: AHORROS | G8: 26 26-Consultoría (Asesoría Técnica) | I8: 7 7. Convocatoria pública | J8: 8 8: Cultura
A9: 2018 | C9: AGOSTO | E9: CORRIENTE | G9: 29 29-Consultoría (Otros) | I9: 8 8. Otra | J9: 9 9: Ambiente
A10: 2019 | C10: SEPTIEMBRE | G10: 30 30-Servicios de Mantenimiento y/o Reparación | J10: 10 10: Educacion
A11: 2020 | C11: OCTUBRE | G11: 31 31-Servicios Profesionales | J11: 11 11: Salud
C12: NOVIEMBRE | G12: 32 32-Servicios Artísticos | J12: 12 12: Desplazados
C13: DICIEMBRE | G13: 33 33-Servicios Apoyo a la Gestion de la Entidad (servicios administrativos) | J13: 13 13: Infancia y Adolecencia
G14: 34 34-Servicios Asistenciales de Salud | J14: 14 14: Madres Comunitarias
G15: 35 35-Servicios de Comunicaciones | J15: 15 15: Discapacidad
C16: Lista Desplegable | G16: 36 36-Servicios de Edición | J16: 16 16: Regimen Subsidiado
C17: CEDENTE | G17: 37 37-Servicios de Impresión | J17: 17 17: Regimen Contributivo
C18: CESIONARIO | G18: 38 38-Servicios de Publicación | J18: 18 18: Sisben
G19: 39 39-Servicios de Capacitación | J19: 19 19: Suministro Equipos Salud
G20: 40 40-Servicios de Outsourcing | J20: 20 20: Eps Distrital
G21: 41 41-Desarrollo de Proyectos Culturales | J21: 21 21: Agricultura Urbana
G22: 42 42-Suministro de Bienes en general | J22: 22 22: Personas Vulnerables
G23: 43 43-Suministro de Servicio de Vigilancia | J23: 23 23: Desmovilizados
G24: 44 44-Suministro de Servicio de Aseo | J24: 24 24:Otro
G25: 45 45-Sumunistro de Alimentos
G26: 46 46-Sumunistro de Medicamentos
G27: 48 48-Otros Suministros
G28: 49 49-Otros Servicios
G29: 50 50-Servicios de Transporte
G30: 51 51-Concesión (Administración de Bienes)
G31: 52 52-Concesión (Servicios Públicos Domiciliarios)
G32: 54 54-Concesión (Servicios de Salud)
G33: 55 55-Concesión (Obra Pública)
G34: 59 59-Concesión (Otros)
G35: 61 61-Contrato de Fiducia o Encargo Fiduciario
G36: 62 62-Contrato de Administración Profesional de Acciones
... G73: 999 999-Otro tipo de naturaleza de contratos
