Workbook

Sheet Presupuesto Convenio
A1: ID | B1: CONCEPTO | C1: CANTIDAD | D1: VALOR MENSUAL | E1: MESES | F1: VALOR TOTAL | G1: CATEGORIA CIRCULAR 01 | H1: NIVEL | I1: DESCRIPCION PERFIL
A2: 1 | B2: EQUIPO PROFESIONAL
A3: 1.1 | B3: Ingeniero Topográfico | C3: 2 | D3: 5300000 | E3: 6 | F3: =(C3*D3)*E3 -> 63600000 | G3: III | H3: 3 | I3: Ingeniero Topográfico con especialización el SIG y al menos 16 meses de experiencia profesional en levantamientos topográficos y análisis predial.
A4: 1.2 | B4: Técnico Topográfico | C4: 1 | D4: 4000000 | E4: 6 | F4: =(C4*D4)*E4 -> 24000000 | G4: II | H4: 7 | I4: Técnico Topográfico con 30 meses de Experiencia en realización de levantamientos topográficos
A5: 1.3 | B5: Ingeniero catastral y geodesta | C5: 1 | D5: 5300000 | E5: 6 | F5: =(C5*D5)*E5 -> 31800000 | G5: III | H5: 3 | I5: Ingenio Catastral y Geodesia con especialización el SIG y al menos 16 meses de experiencia profesional en levantamientos topográficos y análisis predial.
A6: 1.4 | B6: Especialista SIG | C6: 2 | D6: 5300000 | E6: 6 | F6: =(C6*D6)*E6 -> 63600000 | G6: III | H6: 3 | I6: Profesional en Ingeniería Catastral, Geográfica, agrícola, agroforestal o afines con especialización el SIG y al menos 16 meses de experiencia profesional en levantamientos topográficos y análisis predial.
A7: 1.5 | B7: Ingeniero de Sistemas - Desarrollador | C7: 2 | D7: 5300000 | E7: 6 | F7: =(C7*D7)*E7 -> 63600000 | G7: III | H7: 3 | I7: Ingeniero de Sistemas con Especialización relacionada con programación de software y mínimo 16 meses de experiencia
A8: 1.6 | B8: Ingeniero de Sistemas - Requerimientos | C8: 2 | D8: 5300000 | E8: 6 | F8: =(C8*D8)*E8 -> 63600000 | G8: III | H8: 3 | I8: Ingeniero de Sistemas con Especialización relacionada con programación de software y mínimo 16 meses de experiencia
A9: 1.7 | B9: Profesionales Ciencías Agropecuarias | C9: 8 | D9: 5300000 | E9: 6 | F9: =(C9*D9)*E9 -> 254400000 | G9: III | H9: 3 | I9: Profesionales en ciencias agropecuarias, con especialización en áreas relacionadas con la gestión de proyectos o de producción agropecuaria o ambiental con mínimo 16 meses de experiencia profesional
A10: 1.8 | B10: Profesional Administrativo - Financiero | C10: 1 | D10: 5300000 | E10: 6 | F10: =(C10*D10)*E10 -> 31800000
A11: 1.9 | B11: Profesional Derecho | C11: 2 | D11: 4100000 | E11: 6 | F11: =(C11*D11)*E11 -> 49200000 | G11: III | H11: 1 | I11: Profesional en Derecho con especialización y mínimo 10 meses de experiencia laboral
A12: 1.10 | B12: Profesional Social | C12: 1 | D12: 4100000 | E12: 6 | F12: =(C12*D12)*E12 -> 24600000 | G12: III | H12: 1 | I12: Profesional en áreas sociales con mínimo 30 meses de experiencia
A13: 1.11 | B13: Técnicos en Gestión Documental | C13: 8 | D13: 2500000 | E13: 6 | F13: =(C13*D13)*E13 -> 120000000 | G13: II | H13: 1 | I13: Título de bachiller con al menos 12 meses de experiencia relacionada en gestión documental
A14: 1.12 | B14: Técnico Líder en Gestión Documental | C14: 1 | D14: 2800000 | E14: 6 | F14: =(C14*D14)*E14 -> 16800000 | G14: II | H14: 2 | I14: Título en formación técnica profesional o título de formación tecnológica con al menos 15 meses de experiencia en temas de gestión documental
A15: 1.13 | B15: Coordinador de Convenio | C15: 1 | D15: 8500000 | E15: 6 | F15: =(C15*D15)*E15 -> 51000000 | G15: IV | H15: 2 | I15: Título Profesional en cuentas administrativas o agropecuarias o ingenierías o afines, con maestria relacionada en gestión de proyectos y con al menos 6 meses de experiencia profesional
A16: 1.14 | B16: Profesional Administrativo | C16: 1 | D16: 4200000 | E16: 6 | F16: =(C16*D16)*E16 -> 25200000 | G16: II | H16: 7 | I16: Título Profesional en cuentas administrativas con 30 meses de experiencia relacionada.
A17: 1.15 | B17: Profesional Financiero | C17: 1 | D17: 6000000 | E17: 6 | F17: =(C17*D17)*E17 -> 36000000 | G17: III | H17: 5 | I17: Profesional en Ciencias Administrativas o profesional contador, con especialización en áreas relacionadas y con 22 meses de experiencia profesional.
A18: (1) SUBTOTAL CONTRATACIÓN EQUIPO PROFESIONAL | F18: =SUM(F3:F17) -> 919200000
A19: 2 | B19: TOPOGRAFIA Y AVALUOS COMERCIALES
A20: 2.1 | B20: Equipos de Topografia | C20: 1 | D20: 30000000 | E20: 6 | F20: =(C20*D20)*E20 -> 180000000
A21: 2.2 | B21: Avaluos Comerciales de Predio | C21: 60 | D21: 2500000 | E21: 1 | F21: =(C21*D21)*E21 -> 150000000
A22: (2) SUBTOTAL TOPOGRAFIA Y AVALUOS | F22: =+F20+F21 -> 330000000
A23: 3 | B23: GASTOS OPERATIVOS Y ADMINISTRATIVOS
A24: 3.1 | B24: Gastos Operacionales | C24: 1 | D24: 33060000 | E24: 6 | F24: =(C24*D24)*E24 -> 198360000
A25: 3.1 | B25: Gastos Administrativos | C25: 1 | D25: 33333333 | E25: 6 | F25: =+D25*C25*E25 -> 2e+08
A26: 3.2 | B26: Viaticos y Transportes | C26: 1 | D26: 58740000 | E26: 6 | F26: =(C26*D26)*E26 -> 352440000
A27: (3) SUBTOTAL GASTOS OPERATIVOS Y ADMINISTRATIVOS | F27: =SUM(F24:F26) -> 7.508e+08
A28: TOTAL CONVENIO | F28: =(F18+F22+F27) -> 2e+09

Sheet Presupuesto Mensual
B1: CONCEPTO | C1: MES 1 | D1: MES 2 | E1: MES 3 | F1: MES 4 | G1: MES 5 | H1: MES 6
B2: =('Presupuesto Convenio'!B3) -> Ingeniero Topográfico | C2: =('Presupuesto Convenio'!D3*'Presupuesto Convenio'!C3) -> 10600000 | D2: =('Presupuesto Convenio'!$D$3*'Presupuesto Convenio'!$C$3) -> 10600000 | E2: =('Presupuesto Convenio'!D3*'Presupuesto Convenio'!C3) -> 10600000 | F2: =('Presupuesto Convenio'!D3*'Presupuesto Convenio'!C3) -> 10600000 | G2: =('Presupuesto Convenio'!D3*'Presupuesto Convenio'!C3) -> 10600000 | H2: =('Presupuesto Convenio'!D3*'Presupuesto Convenio'!C3) -> 10600000
B3: =('Presupuesto Convenio'!B4) -> Técnico Topográfico | C3: =('Presupuesto Convenio'!D4*'Presupuesto Convenio'!C4) -> 4000000 | D3: =('Presupuesto Convenio'!D4*'Presupuesto Convenio'!C4) -> 4000000 | E3: =('Presupuesto Convenio'!D4*'Presupuesto Convenio'!C4) -> 4000000 | F3: =('Presupuesto Convenio'!D4*'Presupuesto Convenio'!C4) -> 4000000 | G3: =('Presupuesto Convenio'!D4*'Presupuesto Convenio'!C4) -> 4000000 | H3: =('Presupuesto Convenio'!D4*'Presupuesto Convenio'!C4) -> 4000000
B4: =('Presupuesto Convenio'!B5) -> Ingeniero catastral y geodesta | C4: =('Presupuesto Convenio'!D5*'Presupuesto Convenio'!C5) -> 5300000 | D4: =('Presupuesto Convenio'!D5*'Presupuesto Convenio'!C5) -> 5300000 | E4: =('Presupuesto Convenio'!D5*'Presupuesto Convenio'!C5) -> 5300000 | F4: =('Presupuesto Convenio'!D5*'Presupuesto Convenio'!C5) -> 5300000 | G4: =('Presupuesto Convenio'!D5*'Presupuesto Convenio'!C5) -> 5300000 | H4: =('Presupuesto Convenio'!D5*'Presupuesto Convenio'!C5) -> 5300000
B5: =('Presupuesto Convenio'!B6) -> Especialista SIG | C5: =('Presupuesto Convenio'!D6*'Presupuesto Convenio'!C6) -> 10600000 | D5: =('Presupuesto Convenio'!D6*'Presupuesto Convenio'!C6) -> 10600000 | E5: =('Presupuesto Convenio'!D6*'Presupuesto Convenio'!C6) -> 10600000 | F5: =('Presupuesto Convenio'!D6*'Presupuesto Convenio'!C6) -> 10600000 | G5: =('Presupuesto Convenio'!D6*'Presupuesto Convenio'!C6) -> 10600000 | H5: =('Presupuesto Convenio'!D6*'Presupuesto Convenio'!C6) -> 10600000
B6: =('Presupuesto Convenio'!B7) -> Ingeniero de Sistemas - Desarrollador | C6: =('Presupuesto Convenio'!D7*'Presupuesto Convenio'!C7) -> 10600000 | D6: =('Presupuesto Convenio'!D7*'Presupuesto Convenio'!C7) -> 10600000 | E6: =('Presupuesto Convenio'!D7*'Presupuesto Convenio'!C7) -> 10600000 | F6: =('Presupuesto Convenio'!D7*'Presupuesto Convenio'!C7) -> 10600000 | G6: =('Presupuesto Convenio'!D7*'Presupuesto Convenio'!C7) -> 10600000 | H6: =('Presupuesto Convenio'!D7*'Presupuesto Convenio'!C7) -> 10600000
B7: =('Presupuesto Convenio'!B8) -> Ingeniero de Sistemas - Requerimientos | C7: =('Presupuesto Convenio'!D8*'Presupuesto Convenio'!C8) -> 10600000 | D7: =('Presupuesto Convenio'!D8*'Presupuesto Convenio'!C8) -> 10600000 | E7: =('Presupuesto Convenio'!D8*'Presupuesto Convenio'!C8) -> 10600000 | F7: =('Presupuesto Convenio'!D8*'Presupuesto Convenio'!C8) -> 10600000 | G7: =('Presupuesto Convenio'!D8*'Presupuesto Convenio'!C8) -> 10600000 | H7: =('Presupuesto Convenio'!D8*'Presupuesto Convenio'!C8) -> 10600000
B8: =('Presupuesto Convenio'!B9) -> Profesionales Ciencías Agropecuarias | C8: =('Presupuesto Convenio'!D9*'Presupuesto Convenio'!C9) -> 42400000 | D8: =('Presupuesto Convenio'!D9*'Presupuesto Convenio'!C9) -> 42400000 | E8: =('Presupuesto Convenio'!D9*'Presupuesto Convenio'!C9) -> 42400000 | F8: =('Presupuesto Convenio'!D9*'Presupuesto Convenio'!C9) -> 42400000 | G8: =('Presupuesto Convenio'!D9*'Presupuesto Convenio'!C9) -> 42400000 | H8: =('Presupuesto Convenio'!D9*'Presupuesto Convenio'!C9) -> 42400000
B9: =('Presupuesto Convenio'!B10) -> Profesional Administrativo - Financiero | C9: =('Presupuesto Convenio'!D10*'Presupuesto Convenio'!C10) -> 5300000 | D9: =('Presupuesto Convenio'!D10*'Presupuesto Convenio'!C10) -> 5300000 | E9: =('Presupuesto Convenio'!D10*'Presupuesto Convenio'!C10) -> 5300000 | F9: =('Presupuesto Convenio'!D10*'Presupuesto Convenio'!C10) -> 5300000 | G9: =('Presupuesto Convenio'!D10*'Presupuesto Convenio'!C10) -> 5300000 | H9: =('Presupuesto Convenio'!D10*'Presupuesto Convenio'!C10) -> 5300000
B10: =('Presupuesto Convenio'!B11) -> Profesional Derecho | C10: =('Presupuesto Convenio'!D11*'Presupuesto Convenio'!C11) -> 8200000 | D10: =('Presupuesto Convenio'!D11*'Presupuesto Convenio'!C11) -> 8200000 | E10: =('Presupuesto Convenio'!D11*'Presupuesto Convenio'!C11) -> 8200000 | F10: =('Presupuesto Convenio'!D11*'Presupuesto Convenio'!C11) -> 8200000 | G10: =('Presupuesto Convenio'!D11*'Presupuesto Convenio'!C11) -> 8200000 | H10: =('Presupuesto Convenio'!D11*'Presupuesto Convenio'!C11) -> 8200000
B11: =('Presupuesto Convenio'!B12) -> Profesional Social | C11: =('Presupuesto Convenio'!D12*'Presupuesto Convenio'!C12) -> 4100000 | D11: =('Presupuesto Convenio'!D12*'Presupuesto Convenio'!C12) -> 4100000 | E11: =('Presupuesto Convenio'!D12*'Presupuesto Convenio'!C12) -> 4100000 | F11: =('Presupuesto Convenio'!D12*'Presupuesto Convenio'!C12) -> 4100000 | G11: =('Presupuesto Convenio'!D12*'Presupuesto Convenio'!C12) -> 4100000 | H11: =('Presupuesto Convenio'!D12*'Presupuesto Convenio'!C12) -> 4100000
B12: =('Presupuesto Convenio'!B13) -> Técnicos en Gestión Documental | C12: =('Presupuesto Convenio'!D13*'Presupuesto Convenio'!C13) -> 20000000 | D12: =('Presupuesto Convenio'!D13*'Presupuesto Convenio'!C13) -> 20000000 | E12: =('Presupuesto Convenio'!D13*'Presupuesto Convenio'!C13) -> 20000000 | F12: =('Presupuesto Convenio'!D13*'Presupuesto Convenio'!C13) -> 20000000 | G12: =('Presupuesto Convenio'!D13*'Presupuesto Convenio'!C13) -> 20000000 | H12: =('Presupuesto Convenio'!D13*'Presupuesto Convenio'!C13) -> 20000000
B13: =('Presupuesto Convenio'!B14) -> Técnico Líder en Gestión Documental | C13: =('Presupuesto Convenio'!D14*'Presupuesto Convenio'!C14) -> 2800000 | D13: =('Presupuesto Convenio'!D14*'Presupuesto Convenio'!C14) -> 2800000 | E13: =('Presupuesto Convenio'!D14*'Presupuesto Convenio'!C14) -> 2800000 | F13: =('Presupuesto Convenio'!D14*'Presupuesto Convenio'!C14) -> 2800000 | G13: =('Presupuesto Convenio'!D14*'Presupuesto Convenio'!C14) -> 2800000 | H13: =('Presupuesto Convenio'!D14*'Presupuesto Convenio'!C14) -> 2800000
B14: =('Presupuesto Convenio'!B15) -> Coordinador de Convenio | C14: =('Presupuesto Convenio'!D15*'Presupuesto Convenio'!C15) -> 8500000 | D14: =('Presupuesto Convenio'!D15*'Presupuesto Convenio'!C15) -> 8500000 | E14: =('Presupuesto Convenio'!D15*'Presupuesto Convenio'!C15) -> 8500000 | F14: =('Presupuesto Convenio'!D15*'Presupuesto Convenio'!C15) -> 8500000 | G14: =('Presupuesto Convenio'!D15*'Presupuesto Convenio'!C15) -> 8500000 | H14: =('Presupuesto Convenio'!D15*'Presupuesto Convenio'!C15) -> 8500000
... B16: =('Presupuesto Convenio'!B17) -> Profesional Financiero | C16: =('Presupuesto Convenio'!D17*'Presupuesto Convenio'!C17) -> 6000000 | D16: =('Presupuesto Convenio'!D17*'Presupuesto Convenio'!C17) -> 6000000 | E16: =('Presupuesto Convenio'!D17*'Presupuesto Convenio'!C17) -> 6000000 | F16: =('Presupuesto Convenio'!D17*'Presupuesto Convenio'!C17) -> 6000000 | G16: =('Presupuesto Convenio'!D17*'Presupuesto Convenio'!C17) -> 6000000 | H16: =('Presupuesto Convenio'!D17*'Presupuesto Convenio'!C17) -> 6000000
B17: SUB TOTAL EQUIPO PROFESIONAL | C17: =SUM(C2:C16) -> 153200000 | D17: =SUM(D2:D16) -> 153200000 | E17: =SUM(E2:E16) -> 153200000 | F17: =SUM(F2:F16) -> 153200000 | G17: =SUM(G2:G16) -> 153200000 | H17: =SUM(H2:H16) -> 153200000
B18: Equipos de Topografia | C18: =('Presupuesto Convenio'!D20*'Presupuesto Convenio'!C20) -> 30000000 | D18: =('Presupuesto Convenio'!$D$20) -> 30000000 | E18: =('Presupuesto Convenio'!$D$20) -> 30000000 | F18: =('Presupuesto Convenio'!$D$20) -> 30000000 | G18: =('Presupuesto Convenio'!$D$20) -> 30000000 | H18: =('Presupuesto Convenio'!$D$20) -> 30000000
B19: Avaluos Comerciales de Predio | D19: 30000000 | E19: 30000000 | F19: 30000000 | G19: 30000000 | H19: 30000000
B20: SUB TOTAL AVALUOS Y TOPOGRAFIA | C20: =SUM(C18:C19) -> 30000000 | D20: =SUM(D18:D19) -> 60000000 | E20: =SUM(E18:E19) -> 60000000 | F20: =SUM(F18:F19) -> 60000000 | G20: =SUM(G18:G19) -> 60000000 | H20: =SUM(H18:H19) -> 60000000
B21: =('Presupuesto Convenio'!B24) -> Gastos Operacionales | C21: =('Presupuesto Convenio'!$D$24) -> 33060000 | D21: =('Presupuesto Convenio'!$D$24) -> 33060000 | E21: =('Presupuesto Convenio'!$D$24) -> 33060000 | F21: =('Presupuesto Convenio'!$D$24) -> 33060000 | G21: =('Presupuesto Convenio'!$D$24) -> 33060000 | H21: =('Presupuesto Convenio'!$D$24) -> 33060000
B22: =('Presupuesto Convenio'!B25) -> Gastos Administrativos | C22: =('Presupuesto Convenio'!$D$25) -> 33333333 | D22: =('Presupuesto Convenio'!$D$25) -> 33333333 | E22: =('Presupuesto Convenio'!$D$25) -> 33333333 | F22: =('Presupuesto Convenio'!$D$25) -> 33333333 | G22: =('Presupuesto Convenio'!$D$25) -> 33333333 | H22: =('Presupuesto Convenio'!$D$25) -> 33333333
B23: Viaticos y Transportes | C23: =('Presupuesto Convenio'!$D$26) -> 58740000 | D23: =('Presupuesto Convenio'!$D$26) -> 58740000 | E23: =('Presupuesto Convenio'!$D$26) -> 58740000 | F23: =('Presupuesto Convenio'!$D$26) -> 58740000 | G23: =('Presupuesto Convenio'!$D$26) -> 58740000 | H23: =('Presupuesto Convenio'!$D$26) -> 58740000
B24: SUB TOTAL ADMINISTRATIVOS Y OPERATIVOS | C24: =SUM(C21:C23) -> 1.2513333e+08 | D24: =SUM(D21:D23) -> 1.2513333e+08 | E24: =SUM(E21:E23) -> 1.2513333e+08 | F24: =SUM(F21:F23) -> 1.2513333e+08 | G24: =SUM(G21:G23) -> 1.2513333e+08 | H24: =SUM(H21:H23) -> 1.2513333e+08
B25: TOTAL PRESUPUESTO MENSUAL | C25: =(C17+C20+C24) -> 3.0833333e+08 | D25: =(D17+D20+D24) -> 3.3833333e+08 | E25: =(E17+E20+E24) -> 3.3833333e+08 | F25: =(F17+F20+F24) -> 3.3833333e+08 | G25: =(G17+G20+G24) -> 3.3833333e+08 | H25: =(H17+H20+H24) -> 3.3833333e+08
B27: VALOR CONVENIO | C27: 2000000000 | D27: VALOR DESEMBOLSO | E27: REQUERIMIENTO FINANCIERO | F27: SALDO ANTERIOR | G27: SALDO
B28: Desembolso 1 | C28: 0.4 | D28: =+D34 -> 800000000 | E28: =+C25+D25 -> 6.4666667e+08 | F28: 0 | G28: =+D28-E28 -> 1.5333333e+08
B29: Desembolso 2 | C29: 0.3 | D29: =+D35 -> 600000000 | E29: =(E25+F25) -> 6.7666667e+08 | F29: =+G28 -> 1.5333333e+08 | G29: =((D29+F29)-E29) -> 76666667
B30: Desembolso 3 | C30: 0.25 | D30: =+D36 -> 500000000 | E30: =(G25+H25) -> 6.7666667e+08 | F30: =+G29 -> 76666667 | G30: =(((D30+F30)-E30)) -> -1e+08
B31: Desembolso 4 | C31: 0.05 | D31: =+D37 -> 100000000 | E31: =(G26+H26) -> 0 | F31: =+G30 -> -1e+08 | G31: =(D31+F31) -> 0.0200001
B33: DESEMBOLSO | C33: PORCENTAJE | D33: VALOR | E33: AVANCE POA | F33: FECHA ESTIMADA
B34: 1 | C34: 0.4 | D34: =($C$27*C34) -> 800000000 | E34: 0.023 | F34: Mes 1
B35: 2 | C35: 0.3 | D35: =($C$27*C35) -> 600000000 | E35: 0.4 | F35: MES 3
B36: 3 | C36: 0.25 | D36: =($C$27*C36) -> 500000000 | E36: 0.7 | F36: MES 5
B37: 4 | C37: 0.05 | D37: =($C$27*C37) -> 100000000 | E37: 1 | F37: Mes 7

Sheet Distribucion de Recursos
A1: VALOR TOTAL CONVENIO | C1: 2000000000
A3: LINEA DE ACCION | B3: OBJETIVO | C3: RUBRO | D3: VALOR ($) | E3: PORCENTAJE (%)
A4: L1 | B4: ESTABLECER LA ESTRATEGIA OPERATIVA QUE PERMITA LA EJECUCIÓN DE LAS ACTIVIDADES ESTABLECIDAS EN EL CONVENIO | C4: EQUIPO PROFESIONAL | D4: =('Presupuesto Mensual'!C14+'Presupuesto Mensual'!C15+'Presupuesto Mensual'!C16) -> 18700000 | E4: =(D4/C1) -> 0.00935
C5: GASTOS OPERACIONALES | D5: =('Presupuesto Convenio'!F24*5%) -> 9918000 | E5: =(D5/C1) -> 0.004959
C6: GASTOS ADMINISTRATIVOS | D6: =('Presupuesto Convenio'!F25*0.05) -> 10000000 | E6: =(D6/$C$1) -> 0.005
C7: SUBTOTAL | D7: =SUM(D4:D6) -> 38618000 | E7: =(D7/C1) -> 0.019309
A8: L2 | B8: REALIZAR EL MEJORAMIENTO Y SOPORTE DE LAS FUNCIONALIDADES REQUERIDAS EN EL APLICATIVO SIDRA -SIRA -SIT, ASÍ COMO LA CONSTRUCCIÓN DE NUEVAS FUNCIONALIDADES DEL SISTEMA DE INFORMACIÓN DEL REGISTRO DE INMUEBLES RURALES - RIR. | C8: EQUIPO PROFESIONAL | D8: =('Presupuesto Convenio'!F7+'Presupuesto Convenio'!F8) -> 127200000 | E8: =(D8/$C$1) -> 0.0636
C9: GASTOS OPERACIONALES | D9: =('Presupuesto Convenio'!F24*20%) -> 39672000 | E9: =(D9/$C$1) -> 0.019836
C10: GASTOS ADMINISTRATIVOS | D10: =('Presupuesto Convenio'!F25*0.2) -> 40000000 | E10: =(D10/$C$1) -> 0.02
C11: SUBTOTAL | D11: =SUM(D8:D10) -> 2.06872e+08 | E11: =(D11/$C$1) -> 0.103436
A12: L3 | B12: REALIZAR LA NORMALIZACIÓN DE EXPEDIENTES DE LOS PROCESOS DE SUBSIDIO MATERIALIZADOS | C12: EQUIPO PROFESIONAL | D12: =('Presupuesto Convenio'!F13+'Presupuesto Convenio'!F14) -> 136800000 | E12: =(D12/$C$1) -> 0.0684
C13: GASTOS OPERACIONALES | D13: =('Presupuesto Convenio'!F24*20%) -> 39672000 | E13: =(D13/$C$1) -> 0.019836
C14: GASTOS ADMINISTRATIVOS | D14: =('Presupuesto Convenio'!F25*0.2) -> 40000000 | E14: =(D14/$C$1) -> 0.02
C15: SUBTOTAL | D15: =SUM(D12:D14) -> 2.16472e+08 | E15: =(D15/$C$1) -> 0.108236
A16: L4 | B16: DESARROLLAR LAS ACTIVIDADES ESTABLECIDAS PARA LA MATERIALIZACIÓN DE LOS SUBSIDIOS DE LAS CONVOCATORIAS SIT, SIDRA Y SIRA DE ACUERDO CON LA NORMATIVIDAD Y PROCEDIMIENTOS VIGENTES | C16: EQUIPO PROFESIONAL | D16: =('Presupuesto Convenio'!F3+'Presupuesto Convenio'!F4+'Presupuesto Convenio'!F5+'Presupuesto Convenio'!F6+'Presupuesto Convenio'!F7+'Presupuesto Convenio'!F8+'Presupuesto Convenio'!F9+'Presupuesto Convenio'!F10+'Presupuesto Convenio'!F11+'Presupuesto Convenio'!F12+'Presupuesto Convenio'!F15+'Presupuesto Convenio'!F16+'Presupuesto Convenio'!F17)-D4-D8 -> 636500000 | E16: =(D16/$C$1) -> 0.31825
C17: GASTOS OPERACIONALES | D17: =('Presupuesto Convenio'!F24-'Distribucion de Recursos'!D5-'Distribucion de Recursos'!D9-'Distribucion de Recursos'!D13)+'Presupuesto Convenio'!F26 -> 461538000 | E17: =(D17/$C$1) -> 0.230769
C18: TOPOGRAFIA Y AVALUOS COMERCIALES | D18: =('Presupuesto Convenio'!F22) -> 330000000 | E18: =(D18/$C$1) -> 0.165
C19: GASTOS ADMINISTRATIVOS | D19: =('Presupuesto Convenio'!F25-'Distribucion de Recursos'!D6-'Distribucion de Recursos'!D10-'Distribucion de Recursos'!D14) -> 1.1e+08 | E19: =(D19/$C$1) -> 0.055
C20: SUBTOTAL | D20: =SUM(D16:D19) -> 1.538038e+09 | E20: =(D20/$C$1) -> 0.769019
C21: TOTAL CONVENIO | D21: =+D7+D11+D15+D20 -> 2e+09 | E21: =(E7+E11+E15+E20) -> 1
