Workbook
Name Actividades: 'PRESUPUESTO OFICIAL'!$G$13:$G$15
Name cantidades: 'PRESUPUESTO OFICIAL'!$I$13:$I$15
Name Item: 'PRESUPUESTO OFICIAL'!$D$13:$D$15
Name Unidades: 'PRESUPUESTO OFICIAL'!$H$13:$H$15

Sheet PRESUPUESTO OFICIAL
C3: Código | D3: CCE-EICP-FM-14 | E3: Versión | F3: 2
C6: FORMULARIO 1 PRESUPUESTO OFICIAL
C7: MANTENIMIENTO RUTINARIO DE LAS VIAS TERCIARIAS DEL MUNICIPIO DE AGUACHICA, DEPARTAMENTO DEL CESAR
C10: Nº | D10: ÍTEM DE PAGO | E10: ESPECIFICACIONES | G10: DESCRIPCIÓN | H10: UND | I10: CANTIDAD | J10: VALOR UNITARIO | K10: VALOR TOTAL
E11: GENERAL | F11: PARTICULAR
C12: 1. Preliminares
D13: 1.01 | G13: Conformación de calzada existente, sin adición de material - incluye rectificación de cunetas | H13: M2 | I13: =+M1.01!J21 -> 201500 | J13: =+'1.01'!O47 -> 1033 | K13: =ROUND(I13*J13,0) -> 208149500 | O13: 1173 | P13: =+O13*I13 -> 236359500 | T13: =+O13/1.3 -> 902.30769
D14: 1.02 | G14: Mejoramiento de la sub-rasante con adicion de materiales | H14: M2 | I14: =M1.02!J14 -> 52571.668 | J14: ='1.02'!O48 -> 2398 | K14: =ROUND(I14*J14,0) -> 126066860 | O14: 2665 | P14: =+O14*I14 -> 1.401035e+08 | Q14: =+P15*0.01 -> 3764630 | T14: =+O14/1.3 -> 2050
C15: Subtotal | K15: =SUM(K13:K14) -> 334216360 | P15: =+P13+P14 -> 3.76463e+08 | Q15: =+P15+Q14 -> 3.8022763e+08 | S15: =+Q15*1.3 -> 4.9429591e+08
C16: SUBTOTAL OBRAS | K16: =+K15 -> 334216360
G18: Plan de manejo de tránsito | J18: 0.01 | K18: =ROUND(K16*J18,0) -> 3342164 | O18: =+O24-K21 -> 42669101 | P18: =+O18/O24 -> 0.11221989
G19: SUBTOTAL OBRAS (INCLUYE IVA) | K19: =+K16+K18 -> 337558524
G20: Interventoría | J20: 0 | K20: =ROUND(K19*J20,0) -> 0
G21: VALOR TOTAL | K21: =+K19+K20 -> 337558524 | N21: =+O24*0.12 -> 45627315 | O21: =+O24-N21 -> 334600310
C24: NOTA 1: Se debe tener en cuenta que el PRECIO UNITARIO incluye el valor de A.I.U. | H24: DESCRIPCION | K24: PORCENTAJE | O24: 380227625 | P24: =+O24-O21 -> 45627315
C25: NOTA 2: Cuando la fracción decimal del peso sea igual o superior a 5 se aproximará por exceso al número entero siguiente del peso y cuando la fracción decimal del peso sea inferior a 5 se aproximará por defecto al número entero del peso. | H25: ADMINISTRACIÓN | J25: A= | K25: 0.27
C26: NOTA 3: El A.I.U y su discriminación deben estar en porcentaje (%). | H26: IMPREVISTO | J26: I= | K26: 0
C27: NOTA 4: Los valores de los Materiales de Obra y equipo se ajustan a los valores comerciales. | H27: UTILIDAD | J27: U= | K27: 0.03
C28: NOTA 5: | H28: TOTAL A.I.U | J28: A.I.U.= | K28: =K25+K26+K27 -> 0.3
C29: NOTA 6:
G32: PDF FIRMADO
D34: Giancarlo Solano Lobo
D35: R/L ESTRUCAD INGENIERIA Y CONSULTORIA S.A.S.
D36: OFERENTE

Sheet MO2021
C3: Código | D3: MO2020 | E3: Versión | F3: 2
E5: ALCALDÍA DE AGUACHICA
C8: TARIFAS MANO DE OBRA Y PRESTACIONES SOCIALES
C10: 1.-SALARIOS DE MANO DE OBRA | G10: %
C11: A- Salario Minimo Legal | F11: 908526
C12: B- Auxilio de Transporte | F12: 106454
C13: C- Total Mensual | F13: =SUM(F11:F12) -> 1014980
C14: D- Anual (SB*12) | F14: =+F11*12 -> 10902312 | G14: 1
C15: Subsidio de Transporte Anual | F15: =+F12*12 -> 1277448 | G15: =F15/$F$14 -> 0.11717221
C16: Descuento a subsidio de transporte | E16: 18 | F16: =-(F12/30)*E16 -> -63872.4
C17: E- Anual con Subsidio de Transporte | F17: =+F14+F15 -> 12179760
C19: PRESTACIONES | D19: BASE
C20: Cesantias | D20: E | E20: 0.1 | F20: =+F17*E20 -> 1217976 | G20: =F20/$F$14 -> 0.11171722
C21: Intereses | D21: =+C20 -> Cesantias | E21: 0.12 | F21: =+F20*E21 -> 146157.12 | G21: =F21/$F$14 -> 0.013406067
C22: Vacaciones 15 Dias | D22: A | E22: 0.5 | F22: =+F11/2 -> 454263 | G22: =F22/$F$14 -> 0.041666667
C23: Primas 30 Dias | D23: C | E23: 1 | F23: =+F13 -> 1014980 | G23: =F23/$F$14 -> 0.093097684
C25: OTROS COSTOS
C26: Botas, Camisa y Overol | D26: 165000 | E26: 3 | F26: =+D26*E26 -> 495000 | G26: =F26/$F$14 -> 0.045403214
C27: Seguro Colectivo | D27: D | E27: 0 | F27: =+F14*E27 -> 0 | G27: =F27/$F$14 -> 0
C28: Examen médico | F28: 336280 | G28: =F28/$F$14 -> 0.030844834
C30: SEGURIDAD SOCIAL
C31: Pensiones | D31: D | E31: 0.12 | F31: =+F14*E31 -> 1308277.4 | G31: =F31/$F$14 -> 0.12
C32: Medicina Familiar | D32: D | E32: 0 | F32: =+F14*E32 -> 0 | G32: =F32/$F$14 -> 0
C33: Riesgos Profesionales | D33: D | E33: 0.0696 | F33: =+F14*E33 -> 758800.92 | G33: =F33/$F$14 -> 0.0696
C35: APORTES SENA
C36: Aporte Ordinario | D36: D | E36: 0 | F36: =+F14*E36 -> 0 | G36: =F36/$F$14 -> 0
C37: F.I.C | D37: Nota 4 | F37: =+(F11*12)/40 -> 272557.8 | G37: =F37/$F$14 -> 0.025
C39: OTROS APORTES
C40: I.C.B.F | D40: D | E40: 0 | F40: =+F14*E40 -> 0 | G40: =F40/$F$14 -> 0
C41: Subsidio Familiar | D41: D | E41: 0.04 | F41: =+F14*E41 -> 436092.48 | G41: =F41/$F$14 -> 0.04
C43: VALOR REAL DEL SALARIO | F43: =SUM(F16:F42) -> 18556272 | G43: =F43/$F$14 -> 1.7020493
C45: NOTAS:
C46: 1.- Subsidio de transporte solo se paga hasta sueldos de 2 salarios minimos mensules legales vigentes.
C47: 2.- Subsidio de transporte anual = Subsidio mensual / 30 x (365 dias-18 fiestas - 3 permisos- 15 dias vacaciones).
C48: 3.- Porcentajes solo son validos para actividades de construccion. Para otros empleados se debe utilizar 30 dias de cesantia y 2.2% (promedio para empresas de bajo riesgo).
C49: 4.- Un salario minimo por cada 40 trabajadores. El valor se obtiene asi: (Salario minimo x 12 / 40) / Salario annual estudiado.
C50: 5.- El artículo 65 de la ley 1819 de 2016 exonera las sociedades y personas jurídicas del pago de parafiscales de Sena e ICBF y cotizaciones al régimen de salud por trabajadores que devenguen menos de 10 salarios mínimos
C51: 6.- Todos los porcentajes estan relacionados con el salario para 360 dias.
C52: 7.- Los 18 feriados hacen referencia a los dias feriados que de lunes a viernes tendra 2020
C54: 2- CALCULO DE SOBRECOSTO POR HORAS EFECTIVAS TRABAJADAS-OBREROS CON UN SALARIO MINIMO TRABAJADO
...

Sheet Básicos
C3: Código | D3: CCE-EICP-FM-14 | E3: Versión | F3: 2 | H3: ALCALDÍA DE AGUACHICA
L5: VERSIÓN
D6: ANALISIS DE PRECIOS UNITARIOS | L6: PÁGINA | M6: 1 | N6: DE | O6: 1
L8: FECHA | M8: DD | N8: MM | O8: AA
C9: ÍTEMS BÁSICOS
C10: DATOS ESPECÍFICOS
C11: ÍTEM | D11: DESCRIPCIÓN | M11: UNIDAD | O11: CANTIDAD
C12: B1 | D12: Concreto 28Mpa | M12: M3
C13: I. EQUIPO
C14: DESCRIPCIÓN | H14: MARCA | J14: TIPO | L14: TARIFA | M14: RENDIMIENTO | O14: Vr. UNITARIO
C15: Herramienta menor (%M.O) | L15: 0.05 | O15: =L15*O42 -> 1960.0723
C16: Mezcladora | L16: 92800 | M16: =0.125 -> 0.125 | O16: =L16*M16 -> 11600
C20: SUBTOTAL $ | O20: =SUM(O15:O19) -> 13560.072
C21: II. MATERIALES
C22: DESCRIPCIÓN | K22: UNIDAD | L22: CANTIDAD | M22: PRECIO UNIT. | O22: Vr. UNITARIO
C23: Cemento | K23: kg | L23: 450 | M23: 600 | O23: =L23*M23 -> 270000
C24: Triturado | K24: kg | L24: 0.7 | M24: 98175 | O24: =L24*M24 -> 68722.5
C25: Arena | K25: m3 | L25: 0.7 | M25: 40320 | O25: =L25*M25 -> 28224
C26: Agua | K26: Lt | L26: 220 | M26: 69 | O26: =L26*M26 -> 15180
C27: Aditivo redutor de agua y plastificante (eucon) | K27: Kg | L27: 1.35 | M27: 17595.6 | O27: =L27*M27 -> 23754.06
C28: Aditivo acelerante u retardante | K28: Kg | L28: 1.35 | M28: 19719 | O28: =L28*M28 -> 26620.65
C30: Desperdicio | L30: 0.05 | O30: =SUM(O23:O29)*L30 -> 21625.061
C31: SUBTOTAL $ | O31: =SUM(O23:O30) -> 454126.27
C32: III. TRANSPORTES
C33: MATERIAL | J33: VOL. o PESO | K33: DISTANCIA | L33: M3 o Ton/Km | M33: TARIFA | O33: Vr. UNITARIO
C34: Triturado Planta Obra | J34: =+L24 -> 0.7 | K34: 26.5 | L34: =J34*K34 -> 18.55 | M34: 1200 | O34: =L34*M34 -> 22260
C35: Arena cantera obra | J35: =+L25 -> 0.7 | K35: 26.5 | L35: =J35*K35 -> 18.55 | M35: 1200 | O35: =L35*M35 -> 22260
C36: SUBTOTAL $ | O36: =SUM(O34:O35) -> 44520
C37: IV. MANO DE OBRA
C38: TRABAJADOR | K38: HORA TOTAL | M38: RENDIMIENTO | O38: Vr. UNITARIO
C39: =+'MO2021'!C72 -> CUADRILLA "AA" (Albañileria) | K39: =+'MO2021'!F82 -> 26134.298 | M39: 1.5 | O39: =K39*M39 -> 39201.447
C42: SUBTOTAL $ | O42: =SUM(O39:O41) -> 39201.447
C44: TOTAL COSTO DIRECTO $ | O44: =+O20+O31+O36+O42 -> 551407.79
C45: V. COSTOS INDIRECTOS
C46: Descripción | L46: Porcentaje | M46: Valor Total
C47: ADMINISTRACION | L47: 0 | M47: =O44*L47 -> 0
C48: IMPREVISTOS | L48: 0 | M48: =+O44*L48 -> 0
C49: UTILIDAD | L49: 0 | M49: =O44*L49 -> 0
C50: SUBTOTAL $ | O50: =SUM(M47:N49) -> 0
C52: Precio Unitario Total Aproximado al peso $ | O52: =ROUND(O44+O50,0) -> 551408
...

Sheet 1.01
F3: ANALISIS DE PRECIOS UNITARIOS
C5: ÍTEMS DE PRESUPUESTO OFICIAL
C7: DATOS ESPECÍFICOS
C8: ÍTEM | D8: DESCRIPCIÓN | M8: UNIDAD | O8: CANTIDAD
C9: =+'PRESUPUESTO OFICIAL'!D13 -> 1.01 | D9: =LOOKUP(C9,Item,Actividades) -> Conformación de calzada existente, sin adición de material - incluye rectificación de cunetas | M9: =LOOKUP(C9,Item,Unidades) -> M2 | O9: =LOOKUP(C9,Item,cantidades) -> 201500
C10: I. EQUIPO
C11: DESCRIPCIÓN | H11: MARCA | J11: TIPO | L11: TARIFA/HORA | M11: RENDIMIENTO | O11: Vr. UNITARIO
C12: Herramienta menor (%M.O) | L12: 0.05 | O12: =L12*O37 -> 2.1778582
C13: Carrotanque de agua | L13: 68000 | M13: 600 | O13: =L13/M13 -> 113.33333
C14: Motoniveladora ancho cuchilla 4,27m | L14: 160000 | M14: 600 | O14: =L14/M14 -> 266.66667
C15: Vibrocompactador 10 Ton | L15: 110000 | M15: 600 | O15: =L15/M15 -> 183.33333
C16: SUBTOTAL $ | O16: =SUM(O12:O15) -> 565.51119
C17: II. MATERIALES
C18: DESCRIPCIÓN | K18: UNIDAD | L18: CANTIDAD | M18: PRECIO UNIT. | O18: Vr. UNITARIO
C19: Agua | K19: lt | L19: 3 | M19: 60 | O19: =L19*M19 -> 180
O20: =L20*M20 -> 0
C24: desperdicio | L24: 0.03 | O24: =O19*L24 -> 5.4
C26: SUBTOTAL $ | O26: =SUM(O19:O25) -> 185.4
C27: III. TRANSPORTES
C28: MATERIAL | J28: VOL. o PESO | K28: DISTANCIA | L28: M3 o Ton/Km | M28: TARIFA | O28: Vr. UNITARIO
O29: =L29*M29 -> 0
C31: SUBTOTAL $ | O31: =SUM(O29:O30) -> 0
C32: IV. MANO DE OBRA
C33: TRABAJADOR | K33: HORA TOTAL | M33: RENDIMIENTO | O33: Vr. UNITARIO
C34: =+'MO2021'!C72 -> CUADRILLA "AA" (Albañileria) | K34: =+'MO2021'!F82 -> 26134.298 | M34: 600 | O34: =K34/M34 -> 43.557163
O35: =K35*M35 -> 0
C37: SUBTOTAL $ | O37: =SUM(O34:O36) -> 43.557163
C39: TOTAL COSTO DIRECTO $ | O39: =+O16+O26+O31+O37 -> 794.46835
C40: V. COSTOS INDIRECTOS
C41: Descripción | L41: Porcentaje | M41: Valor Total
C42: ADMINISTRACION | L42: ='PRESUPUESTO OFICIAL'!K25 -> 0.27 | M42: =O39*L42 -> 214.50646
C43: IMPREVISTOS | L43: ='PRESUPUESTO OFICIAL'!K26 -> 0 | M43: =+O39*L43 -> 0
C44: UTILIDAD | L44: ='PRESUPUESTO OFICIAL'!K27 -> 0.03 | M44: =O39*L44 -> 23.834051
C45: SUBTOTAL $ | O45: =SUM(M42:N44) -> 238.34051
C47: Precio Unitario Total Aproximado al peso $ | O47: =ROUND(O39+O45,0) -> 1033
C50: Giancarlo Solano Lobo
C51: R/L ESTRUCAD INGENIERIA Y CONSULTORIA S.A.S.
C52: PROPONENTE

Sheet 1.02
F3: ANALISIS DE PRECIOS UNITARIOS
C6: ÍTEMS DE PRESUPUESTO OFICIAL
C8: DATOS ESPECÍFICOS
C9: ÍTEM | D9: DESCRIPCIÓN | M9: UNIDAD | O9: CANTIDAD
C10: ='PRESUPUESTO OFICIAL'!D14 -> 1.02 | D10: ='PRESUPUESTO OFICIAL'!G14 -> Mejoramiento de la sub-rasante con adicion de materiales | M10: =LOOKUP(C10,Item,Unidades) -> M2 | O10: =LOOKUP(C10,Item,cantidades) -> 52571.668
C11: I. EQUIPO
C12: DESCRIPCIÓN | H12: MARCA | J12: TIPO | L12: TARIFA/HORA | M12: RENDIMIENTO | O12: Vr. UNITARIO
C13: Herramienta menor (%M.O) | L13: 0.05 | O13: =L13*O38 -> 2.1778582
C14: Carrotanque de agua | L14: 68000 | M14: 600 | O14: =L14/M14 -> 113.33333
C15: Motoniveladora ancho cuchilla 4,27m | L15: =+'1.01'!L14 -> 160000 | M15: 600 | O15: =L15/M15 -> 266.66667
C16: Vibrocompactador 10 Ton | L16: =+'1.01'!L15 -> 110000 | M16: 600 | O16: =L16/M16 -> 183.33333
C17: SUBTOTAL $ | O17: =SUM(O13:O16) -> 565.51119
C18: II. MATERIALES
C19: DESCRIPCIÓN | K19: UNIDAD | L19: CANTIDAD | M19: PRECIO UNIT. | O19: Vr. UNITARIO
C20: Agua | K20: lt | L20: 3 | M20: =+'1.01'!M19:N19 -> 60 | O20: =L20*M20 -> 180
O21: =L21*M21 -> 0
C25: desperdicio | L25: 0.03 | O25: =O20*L25 -> 5.4
C27: SUBTOTAL $ | O27: =SUM(O20:O26) -> 185.4
C28: III. TRANSPORTES
C29: MATERIAL | J29: VOL. o PESO | K29: DISTANCIA | L29: M3 o Ton/Km | M29: TARIFA | O29: Vr. UNITARIO
C30: material de sub-base | K30: 20 | L30: 7 | M30: 1050 | O30: =L30*M30*K30/140 -> 1050
C32: SUBTOTAL $ | O32: =SUM(O30:O31) -> 1050
C33: IV. MANO DE OBRA
C34: TRABAJADOR | K34: HORA TOTAL | M34: RENDIMIENTO | O34: Vr. UNITARIO
C35: =+'MO2021'!C72 -> CUADRILLA "AA" (Albañileria) | K35: =+'MO2021'!F82 -> 26134.298 | M35: 600 | O35: =K35/M35 -> 43.557163
O36: =K36*M36 -> 0
C38: SUBTOTAL $ | O38: =SUM(O35:O37) -> 43.557163
C40: TOTAL COSTO DIRECTO $ | O40: =+O17+O27+O32+O38 -> 1844.4684
C41: V. COSTOS INDIRECTOS
C42: Descripción | L42: Porcentaje | M42: Valor Total
C43: ADMINISTRACION | L43: ='PRESUPUESTO OFICIAL'!K25 -> 0.27 | M43: =O40*L43 -> 498.00646
C44: IMPREVISTOS | L44: ='PRESUPUESTO OFICIAL'!K26 -> 0 | M44: =+O40*L44 -> 0
C45: UTILIDAD | L45: ='PRESUPUESTO OFICIAL'!K27 -> 0.03 | M45: =O40*L45 -> 55.334051
C46: SUBTOTAL $ | O46: =SUM(M43:N45) -> 553.34051
C48: Precio Unitario Total Aproximado al peso $ | O48: =ROUND(O40+O46,0) -> 2398
C51: Giancarlo Solano Lobo
C52: R/L ESTRUCAD INGENIERIA Y CONSULTORIA S.A.S.
C53: PROPONENTE

Sheet M1.01
C3: Código MC 14 Versión 2
D6: MEMORIA DE CANTIDADES
K7: Fecha: | L7: 07 de enero de 2021
D8: ÍTEM | E8: DESCRIPCIÓN | L8: UNIDAD
D9: =+'PRESUPUESTO OFICIAL'!D13 -> 1.01 | E9: =LOOKUP(D9,Item,Actividades) -> Conformación de calzada existente, sin adición de material - incluye rectificación de cunetas | L9: =LOOKUP(D9,Item,Unidades) -> M2
D11: Área/lugar/elemento | G11: Longitud (m) | H11: Ancho (m) | I11: A. PARCIAL | J11: Total | K11: ESQUEMA
D12: Via Nacional - Planadas de Limoncito | G12: 4800 | H12: 5 | I12: =G12*H12 -> 24000 | J12: =I12 -> 24000
D13: Planadas de limoncito - Yee Platanal (vereda boqueron) | G13: 5700 | H13: 5 | I13: =G13*H13 -> 28500 | J13: =I13 -> 28500
D14: Yee platanal (vereda boqueron) - Vereda Honduras(fin de via) | G14: 6200 | H14: 5 | I14: =G14*H14 -> 31000 | J14: =I14 -> 31000
D15: Yee platanal (vereda boqueron) - Quebrada el Tigre (fin de via vereda boqueron) | G15: 2200 | H15: 5 | I15: =G15*H15 -> 11000 | J15: =I15 -> 11000
D16: Yee planadas de limoncito - Yee palenquillo (vereda palenquillo) | G16: 5000 | H16: 5 | I16: =G16*H16 -> 25000 | J16: =I16 -> 25000
D17: Yee palenquillo ( vereda palenquillo) - Fin de Via Palenquillo (escuela sede palenquillo) | G17: 500 | H17: 5 | I17: =G17*H17 -> 2500 | J17: =I17 -> 2500
D18: Yee palenquillo ( vereda palenquillo) - Fin de Via Santa Rosa de Caracol | G18: 500 | H18: 5 | I18: =G18*H18 -> 2500 | J18: =I18 -> 2500
D19: Yee Comeavio - Escuela Cerro Redondo (vereda cerro redondo) | G19: 15400 | H19: 5 | I19: =G19*H19 -> 77000 | J19: =I19 -> 77000
G20: =SUM(G12:G19) -> 40300
J21: =SUM(J12:J20) -> 201500
D22: Observaciones:
D24: Leonel Pallares Guillin
D25: Gerente de Planeación y Obras

Sheet Hoja1

Sheet M1.02
C3: Código MC 14 Versión 2
D6: MEMORIA DE CANTIDADES
K7: Fecha: | L7: 07 de enero de 2021
D8: ÍTEM | E8: DESCRIPCIÓN | L8: UNIDAD
D9: ='PRESUPUESTO OFICIAL'!D14 -> 1.02 | E9: ='PRESUPUESTO OFICIAL'!G14 -> Mejoramiento de la sub-rasante con adicion de materiales | L9: =LOOKUP(D9,Item,Unidades) -> M2
D11: Área/lugar/elemento | G11: Longitud (m) | H11: Ancho (m) | I11: A. PARCIAL | J11: Total | K11: ESQUEMA
D12: Via Nacional - escuela Guaduas | G12: 7326.7 | H12: 5 | I12: =G12*H12 -> 36633.5 | J12: =I12 -> 36633.5
D13: Yee de Guaduas - Medios Caños | G13: 3187.6336 | H13: 5 | I13: =G13*H13 -> 15938.168 | J13: =I13 -> 15938.168
J14: =SUM(J12:J13) -> 52571.668
D15: Observaciones:
D17: Leonel Pallares Guillin
D18: Gerente de Planeación y Obras
