Workbook
Name inf: #REF!
Name inf: #REF!
Name inf: #REF!
Name inf: #REF!
Name inf: #REF!
Name inf: #REF!
Name inf: #REF!
Name inf: #REF!
Name inf: #REF!
Name inf: #REF!
Name inf: #REF!
Name inf: #REF!
Name inf: #REF!
Name Print_Area_MI: #REF!
Name Print_Area_MI: #REF!
Name Print_Area_MI: #REF!
Name Print_Area_MI: #REF!
Name Print_Area_MI: #REF!
Name Print_Area_MI: #REF!
Name Print_Area_MI: #REF!
Name Print_Area_MI: #REF!
Name Print_Area_MI: #REF!
Name Print_Area_MI: #REF!
Name Print_Area_MI: #REF!
Name Print_Area_MI: #REF!
Name Print_Area_MI: #REF!
Name Print_Titles_MI: #REF!
Name Print_Titles_MI: #REF!
Name Print_Titles_MI: #REF!
Name Print_Titles_MI: #REF!
Name Print_Titles_MI: #REF!
Name Print_Titles_MI: #REF!
Name Print_Titles_MI: #REF!
Name Print_Titles_MI: #REF!
Name Print_Titles_MI: #REF!
Name Print_Titles_MI: #REF!
Name Print_Titles_MI: #REF!
Name Print_Titles_MI: #REF!
Name Print_Titles_MI: #REF!

Sheet Estudiodemercado DEF
F1: OBJETO: CONTRATAR EL MANTENIMIENTO DE LAS ZONAS DE SEGURIDAD Y CANALES DEL AEROPUERTO EL RIO DE AMALFI-ANTIOQUIA | AL1: OBJETO: CONTRATAR EL MANTENIMIENTO DE LAS ZONAS DE SEGURIDAD Y CANALES DEL AEROPUERTO EL RIO DE AMALFI-ANTIOQUIA
B2: ESTUDIO DE MERCADO
B3: FECHA : FEBRERO 15 DE 2017 | F3: ARIETE SAS CARLOS AUGUSTO DÍAZ HERRERA | H3: B&C INGNIERIA INTEGRAL | J3: ALFONSO ANTONIO PEREA HURTADO | L3: FRANCISCO ALVAREZ PEREZ | N3: CARLOS SALAZAR GÓMEZ | P3: CARLOS CASTRO VEGA | R3: JUAN CARLOS ORTIZ LÓPEZ | T3: OSCAR MUÑOZ CORREA | V3: PROMEDIO PROPUESTAS PRESENTADAS CONTRATACIÒN 10000044-OI 2010 INCREMENTADOLAS AL IPC 3,17% DE 2010, 3,73% DE 2011, 2,44% DE 2012, 1,94 DE 2013, 3,66% DE 2014, 6,77% DE 2015 Y 5,75% DE 2016 | X3: PROMEDIO PROPUESTAS PRESENTADAS CONTRATACIÒN 11000049 OR 2011 INCREMENTADOLAS AL IPC 3,73% DE 2011, 2,44% DE 2012, 1,94 DE 2013, 3,66% DE 2014, 6,77% DE 2015 Y 5,75% DE 2016 | Z3: PROMEDIO PROPUESTAS PRESENTADAS CONTRATACIÒN 120000133 OR 2012 INCREMENTADOLAS AL IPC 2,44% DE 2012, 1,94 DE 2013, 3,66% DE 2014, 6,77% DE 2015 Y 5,75% DE 2016 | AB3: PROMEDIO PROPUESTAS PRESENTADAS CONTRATACIÒN 130000198 OR 2013 INCREMENTADOLAS AL IPC 1,94 DE 2013, 3,66% DE 2014, 6,77% DE 2015 Y 5,75% DE 2016 | AD3: PROMEDIO PROPUESTAS PRESENTADAS CONTRATACIÒN 130000198 A OR 2013 INCREMENTADOLAS AL IPC 1,94 DE 2013, 3,66% DE 2014, 6,77% DE 2015 Y 5,75% DE 2016 | AF3: PROMEDIO PROPUESTAS PRESENTADAS CONTRATACIÒN 14000024 OI 2014 INCREMENTADOLAS AL IPC 3,66% DE 2014, 6,77% DE 2015 Y 5,75% DE 2016 | AH3: PROMEDIO PROPUESTAS PRESENTADAS CONTRATACIÒN 15000049 OI 2015 INCREMENTADOLAS AL IPC 6,77% DE 2015 Y 5,75% DE 2016 | AJ3: PROMEDIO PROPUESTAS PRESENTADAS CONTRATACIÒN 30016019 INCREMENTADOLAS AL IPC 5,75% DE 2015. | AL3: PROMEDIO | AN3: MEDIANA | AP3: MEDIA ARMONICA | AR3: MEDIA GEOMETRICA
A4: ÍTEM | B4: DESCRIPCIÓN | C4: Und | D4: Cant | E4: Rondas | F4: Valor Unitario | G4: TOTAL | H4: Valor Unitario | I4: TOTAL | J4: Valor Unitario | K4: TOTAL | L4: Valor Unitario | M4: TOTAL | N4: Valor Unitario | O4: TOTAL | P4: Valor Unitario | Q4: TOTAL | R4: Valor Unitario | S4: TOTAL | T4: Valor Unitario | U4: TOTAL | V4: Valor Unitario | W4: TOTAL | X4: Valor Unitario | Y4: TOTAL | Z4: Valor Unitario | AA4: TOTAL | AB4: Valor Unitario | AC4: TOTAL | AD4: Valor Unitario | AE4: TOTAL | AF4: Valor Unitario | AG4: TOTAL | AH4: Valor Unitario | AI4: TOTAL | AJ4: Valor Unitario | AK4: TOTAL | AL4: Valor Unitario | AM4: TOTAL | AN4: Valor Unitario | AO4: TOTAL | AP4: Valor Unitario | AQ4: TOTAL | AR4: Valor Unitario | AS4: TOTAL
A5: 1 | B5: Mantenimiento de zonas verdes. Roceria: zonas de seguridad y demas areas del aeropuerto, incluyendo la limpieza de las áreas perimetrales internas (desde las zonas de seguridad hasta el cerramiento). Consistente en desmonte y limpieza de zonas no boscosas. | C5: Ha | D5: 17 | E5: 4 | F5: 320000 | G5: =ROUND(D5*E5*F5,0) -> 21760000 | H5: 612439 | I5: =ROUND(D5*E5*H5,0) -> 41645852 | J5: 275000 | K5: =ROUND(D5*E5*J5,0) -> 18700000 | L5: 250000 | M5: =L5*E5*D5 -> 17000000 | N5: 280000 | O5: =D5*E5*N5 -> 19040000 | P5: 300000 | Q5: =D5*E5*P5 -> 20400000 | R5: 310000 | S5: =D5*E5*R5 -> 21080000 | T5: 315000 | U5: =D5*E5*T5 -> 21420000 | V5: =308440*1.0317*1.0373*1.0244*1.0194*1.0366*1.0677*1.0575 -> 403444.25 | W5: =D5*E5*V5 -> 27434209 | X5: =309600*1.0373*1.0244*1.0194*1.0366*1.0677*1.0575 -> 392518.7 | Y5: =D5*E5*X5 -> 26691272 | Z5: =227519*1.0244*1.0194*1.0366*1.0677*1.0575 -> 278081.88 | AA5: =D5*E5*Z5 -> 18909568 | AB5: =230836*1.0194*1.0366*1.0677*1.0575 -> 275415.89 | AC5: =D5*E5*AB5 -> 18728281 | AD5: =240375*1.0194*1.0366*1.0677*1.0575 -> 286797.1 | AE5: =D5*E5*AD5 -> 19502203 | AF5: =249866*1.0366*1.0677*1.0575 -> 292447.55 | AG5: =D5*E5*AF5 -> 19886433 | AH5: =247151*1.0677*1.0575 -> 279056.4 | AI5: =D5*E5*AH5 -> 18975835 | AJ5: =301528*1.0575 -> 318865.86 | AK5: =D5*E5*AJ5 -> 21682878 | AL5: =ROUND((AVERAGE(F5,H5,J5,L5,N5,P5,R5,T5,V5,X5,Z5,AB5,AD5,AF5,AH5,AJ5)),0) -> 324317 | AM5: =ROUND((D5*E5*AL5),0) -> 22053556 | AN5: =ROUND((MEDIAN(F5,H5,J5,N5,L5,P5,R5,T5,V5,X5,Z5,AB5,AD5,AF5,AH5,AJ5)),0) -> 296224 | AO5: =ROUND((D5*E5*AN5),0) -> 20143232 | AP5: =ROUND((HARMEAN(F5,H5,J5,L5,N5,P5,R5,T5,V5,X5,Z5,AB5,AD5,AF5,AH5,AJ5)),0) -> 310207 | AQ5: =ROUND((D5*E5*AP5),0) -> 21094076 | AR5: =ROUND((GEOMEAN(F5,H5,J5,L5,N5,P5,R5,T5,V5,X5,Z5,AB5,AD5,AF5,AH5,AJ5)),0) -> 316235 | AS5: =ROUND((D5*E5*AR5),0) -> 21503980
A6: 2 | B6: Limpieza (desmalezado y evacuación sedimentos) en canales (en tierra o en concreto) de evacuación aguas, retiro y disposición de material sobrante a cualquier distancia en botadero autorizado. Consistente en mantenimiento de taludes, reconstrucción de canales y limpieza de cauce a cualquier ancho de canal. | C6: Ml | D6: 3000 | E6: 4 | F6: 2100 | G6: =ROUND(D6*E6*F6,0) -> 25200000 | H6: 6500 | I6: =ROUND(D6*E6*H6,0) -> 78000000 | J6: 1550 | K6: =ROUND(D6*E6*J6,0) -> 18600000 | L6: 1800 | M6: =L6*E6*D6 -> 21600000 | N6: 2100 | O6: =D6*E6*N6 -> 25200000 | P6: 2950 | Q6: =D6*E6*P6 -> 35400000 | R6: 2700 | S6: =D6*E6*R6 -> 32400000 | T6: 2800 | U6: =D6*E6*T6 -> 33600000 | V6: =1294*1.0317*1.0373*1.0244*1.0194*1.0366*1.0677*1.0575 -> 1692.5718 | W6: =D6*E6*V6 -> 20310862 | X6: =1466*1.0373*1.0244*1.0194*1.0366*1.0677*1.0575 -> 1858.6318 | Y6: =D6*E6*X6 -> 22303582 | Z6: =1645*1.0244*1.0194*1.0366*1.0677*1.0575 -> 2010.578 | AA6: =D6*E6*Z6 -> 24126936 | AB6: =1295*1.0194*1.0366*1.0677*1.0575 -> 1545.0951 | AC6: =D6*E6*AB6 -> 18541141 | AD6: =1053*1.0194*1.0366*1.0677*1.0575 -> 1256.3592 | AE6: =D6*E6*AD6 -> 15076310 | AF6: =1507*1.0366*1.0677*1.0575 -> 1763.8192 | AG6: =D6*E6*AF6 -> 21165831 | AH6: =1607*1.0677*1.0575 -> 1814.452 | AI6: =D6*E6*AH6 -> 21773425 | AJ6: =1697*1.0575 -> 1794.5775 | AK6: =D6*E6*AJ6 -> 21534930 | AL6: =ROUND((AVERAGE(F6,H6,J6,L6,N6,P6,R6,T6,V6,X6,Z6,AB6,AD6,AF6,AH6,AJ6)),0) -> 2265 | AM6: =ROUND((D6*E6*AL6),0) -> 27180000 | AN6: =ROUND((MEDIAN(F6,H6,J6,N6,L6,P6,R6,T6,V6,X6,Z6,AB6,AD6,AF6,AH6,AJ6)),0) -> 1837 | AO6: =ROUND((D6*E6*AN6),0) -> 22044000 | AP6: =ROUND((HARMEAN(F6,H6,J6,L6,N6,P6,R6,T6,V6,X6,Z6,AB6,AD6,AF6,AH6,AJ6)),0) -> 1971 | AQ6: =ROUND((D6*E6*AP6),0) -> 23652000 | AR6: =ROUND((GEOMEAN(F6,H6,J6,L6,N6,P6,R6,T6,V6,X6,Z6,AB6,AD6,AF6,AH6,AJ6)),0) -> 2083 | AS6: =ROUND((D6*E6*AR6),0) -> 24996000
A7: 3 | B7: Limpieza de cerramiento internos y externos y limpieza a una altura maxima del cerramiento. Limpieza manual del cerramiento (mallas) con la implementación de la fumigación con un herbicida químico, en una franja de 3 metros alrededor del aeropuerto. Incluye Cargue y disposición de material sobrante a cualquier distancia en botadero autorizado | C7: Ml | D7: 2623 | E7: 4 | F7: 2200 | G7: =ROUND(D7*E7*F7,0) -> 23082400 | H7: 3860 | I7: =ROUND(D7*E7*H7,0) -> 40499120 | J7: 1700 | K7: =ROUND(D7*E7*J7,0) -> 17836400 | L7: 1800 | M7: =L7*E7*D7 -> 18885600 | N7: 2100 | O7: =D7*E7*N7 -> 22033200 | P7: 2950 | Q7: =D7*E7*P7 -> 30951400 | R7: 2700 | S7: =D7*E7*R7 -> 28328400 | T7: 2800 | U7: =D7*E7*T7 -> 29377600 | V7: =1256*1.0317*1.0373*1.0244*1.0194*1.0366*1.0677*1.0575 -> 1642.8672 | W7: =D7*E7*V7 -> 17236963 | X7: =1547*1.0373*1.0244*1.0194*1.0366*1.0677*1.0575 -> 1961.3257 | Y7: =D7*E7*X7 -> 20578229 | Z7: =1551*1.0244*1.0194*1.0366*1.0677*1.0575 -> 1895.6878 | AA7: =D7*E7*Z7 -> 19889557 | AB7: =1352*1.0194*1.0366*1.0677*1.0575 -> 1613.1032 | AC7: =D7*E7*AB7 -> 16924678 | AD7: =1352*1.0194*1.0366*1.0677*1.0575 -> 1613.1032 | AE7: =D7*E7*AD7 -> 16924678 | AF7: =1514*1.0366*1.0677*1.0575 -> 1772.0122 | AG7: =D7*E7*AF7 -> 18591952 | AH7: =1662*1.0677*1.0575 -> 1876.5522 | AI7: =D7*E7*AH7 -> 19688785 | AJ7: =1781*1.0575 -> 1883.4075 | AK7: =D7*E7*AJ7 -> 19760711 | AL7: =ROUND((AVERAGE(F7,H7,J7,L7,N7,P7,R7,T7,V7,X7,Z7,AB7,AD7,AF7,AH7,AJ7)),0) -> 2148 | AM7: =ROUND((D7*E7*AL7),0) -> 22536816 | AN7: =ROUND((MEDIAN(F7,H7,J7,N7,L7,P7,R7,T7,V7,X7,Z7,AB7,AD7,AF7,AH7,AJ7)),0) -> 1890 | AO7: =ROUND((D7*E7*AN7),0) -> 19829880 | AP7: =ROUND((HARMEAN(F7,H7,J7,L7,N7,P7,R7,T7,V7,X7,Z7,AB7,AD7,AF7,AH7,AJ7)),0) -> 2022 | AQ7: =ROUND((D7*E7*AP7),0) -> 21214824 | AR7: =ROUND((GEOMEAN(F7,H7,J7,L7,N7,P7,R7,T7,V7,X7,Z7,AB7,AD7,AF7,AH7,AJ7)),0) -> 2078 | AS7: =ROUND((D7*E7*AR7),0) -> 21802376
A8: 4 | B8: Aplicación de matamatelezas (combatran, randall o similar) a todas las zonas de seguridad incluida la base del cerramiento y los canales de drenaje | C8: Ha | D8: 12 | E8: 4 | F8: 500000 | G8: =ROUND(D8*E8*F8,0) -> 24000000 | H8: 1200000 | I8: =ROUND(D8*E8*H8,0) -> 57600000 | J8: 165000 | K8: =ROUND(D8*E8*J8,0) -> 7920000 | L8: 180000 | M8: =L8*E8*D8 -> 8640000 | N8: 200000 | O8: =D8*E8*N8 -> 9600000 | P8: 250000 | Q8: =D8*E8*P8 -> 12000000 | R8: 170000 | S8: =D8*E8*R8 -> 8160000 | T8: 180000 | U8: =D8*E8*T8 -> 8640000 | W8: =D8*E8*V8 -> 0 | Y8: =D8*E8*X8 -> 0 | AA8: =D8*E8*Z8 -> 0 | AB8: =122781*1.0194*1.0366*1.0677*1.0575 -> 146492.91 | AC8: =D8*E8*AB8 -> 7031659.9 | AD8: =131875*1.0194*1.0366*1.0677*1.0575 -> 157343.18 | AF8: =135468*1.0366*1.0677*1.0575 -> 158554.12 | AG8: =D8*E8*AF8 -> 7610597.9 | AH8: =148060*1.0677*1.0575 -> 167173.47 | AI8: =D8*E8*AH8 -> 8024326.7 | AJ8: =166300*1.0575 -> 175862.25 | AK8: =D8*E8*AJ8 -> 8441388 | AL8: =ROUND((AVERAGE(F8,H8,J8,L8,N8,P8,R8,T8,V8,X8,Z8,AB8,AD8,AF8,AH8,AJ8)),0) -> 280802 | AM8: =ROUND((D8*E8*AL8),0) -> 13478496 | AN8: =ROUND((MEDIAN(F8,H8,J8,N8,L8,P8,R8,T8,V8,X8,Z8,AB8,AD8,AF8,AH8,AJ8)),0) -> 175862 | AO8: =ROUND((D8*E8*AN8),0) -> 8441376 | AP8: =ROUND((HARMEAN(F8,H8,J8,L8,N8,P8,R8,T8,V8,X8,Z8,AB8,AD8,AF8,AH8,AJ8)),0) -> 196838 | AQ8: =ROUND((D8*E8*AP8),0) -> 9448224 | AR8: =ROUND((GEOMEAN(F8,H8,J8,L8,N8,P8,R8,T8,V8,X8,Z8,AB8,AD8,AF8,AH8,AJ8)),0) -> 220596 | AS8: =ROUND((D8*E8*AR8),0) -> 10588608
AC9: =D9*E9*AB9 -> 0
B10: SUB TOTAL | F10: º | G10: =SUM(G5:G8) -> 94042400 | H10: º | I10: =SUM(I5:I8) -> 217744972 | J10: º | K10: =SUM(K5:K8) -> 63056400 | L10: º | M10: =SUM(M5:M8) -> 66125600 | N10: º | O10: =SUM(O5:O8) -> 75873200 | P10: º | Q10: =SUM(Q5:Q8) -> 98751400 | R10: º | S10: =SUM(S5:S8) -> 89968400 | T10: º | U10: =SUM(U5:U8) -> 93037600 | V10: º | W10: =SUM(W5:W8) -> 64982034 | X10: º | Y10: =SUM(Y5:Y8) -> 69573083 | Z10: º | AA10: =SUM(AA5:AA8) -> 62926060 | AB10: º | AC10: =SUM(AC5:AC8) -> 61225760 | AD10: º | AE10: =SUM(AE5:AE8) -> 51503191 | AF10: º | AG10: =SUM(AG5:AG8) -> 67254814 | AH10: º | AI10: =SUM(AI5:AI8) -> 68462372 | AJ10: º | AK10: =SUM(AK5:AK8) -> 71419908 | AM10: =SUM(AM5:AM8) -> 85248868 | AO10: =SUM(AO5:AO8) -> 70458488 | AQ10: =SUM(AQ5:AQ8) -> 75409124 | AS10: =SUM(AS5:AS8) -> 78890964
B11: IVA del 19% | F11: 0.19 | G11: =ROUND(G10*F11,0) -> 17868056 | H11: 0.19 | I11: =ROUND(I10*H11,0) -> 41371545 | J11: 0.19 | K11: =ROUND(K10*J11,0) -> 11980716 | L11: 0.19 | M11: =ROUND(M10*L11,0) -> 12563864 | N11: 0.19 | O11: =ROUND(O10*N11,0) -> 14415908 | P11: 0.19 | Q11: =ROUND(Q10*P11,0) -> 18762766 | R11: 0.19 | S11: =ROUND(S10*R11,0) -> 17093996 | T11: 0.19 | U11: =ROUND(U10*T11,0) -> 17677144 | V11: 0.19 | W11: =ROUND(W10*V11,0) -> 12346586 | X11: 0.19 | Y11: =ROUND(Y10*X11,0) -> 13218886 | Z11: 0.19 | AA11: =ROUND(AA10*Z11,0) -> 11955951 | AB11: 0.19 | AC11: =ROUND(AC10*AB11,0) -> 11632894 | AD11: 0.19 | AE11: =ROUND(AE10*AD11,0) -> 9785606 | AF11: 0.19 | AG11: =ROUND(AG10*AF11,0) -> 12778415 | AH11: 0.19 | AI11: =ROUND(AI10*AH11,0) -> 13007851 | AJ11: 0.19 | AK11: =ROUND(AK10*AJ11,0) -> 13569783 | AL11: 0.19 | AM11: =ROUND(AM10*AL11,0) -> 16197285 | AN11: 0.19 | AO11: =ROUND(AO10*AN11,0) -> 13387113 | AP11: 0.19 | AQ11: =ROUND(AQ10*AP11,0) -> 14327734 | AR11: 0.19 | AS11: =ROUND(AS10*AR11,0) -> 14989283
B12: COSTO TOTAL (1) | G12: =SUM(G10:G11) -> 111910456 | I12: =SUM(I10:I11) -> 259116517 | K12: =SUM(K10:K11) -> 75037116 | M12: =SUM(M10:M11) -> 78689464 | O12: =SUM(O10:O11) -> 90289108 | Q12: =SUM(Q10:Q11) -> 117514166 | S12: =SUM(S10:S11) -> 107062396 | U12: =SUM(U10:U11) -> 110714744 | W12: =SUM(W10:W11) -> 77328620 | Y12: =SUM(Y10:Y11) -> 82791969 | AA12: =SUM(AA10:AA11) -> 74882011 | AC12: =SUM(AC10:AC11) -> 72858654 | AE12: =SUM(AE10:AE11) -> 61288797 | AG12: =SUM(AG10:AG11) -> 80033229 | AI12: =SUM(AI10:AI11) -> 81470223 | AK12: =SUM(AK10:AK11) -> 84989691 | AM12: =SUM(AM10:AM11) -> 101446153 | AO12: =SUM(AO10:AO11) -> 83845601 | AQ12: =SUM(AQ10:AQ11) -> 89736858 | AS12: =SUM(AS10:AS11) -> 93880247
F13: OBJETO: MANTENIMIENTO DE ZONAS DE SEGURIDAD Y CANALES DEL AEROPUERTO ALBERTO JARAMILLO DE OTÚ - REMEDIOS - ANTIOQUIA | AJ13: OBJETO: MANTENIMIENTO DE ZONAS DE SEGURIDAD Y CANALES DEL AEROPUERTO ALBERTO JARAMILLO DE OTÚ - REMEDIOS - ANTIOQUIA
B14: ESTUDIO DE MERCADO
B15: FECHA : FEBRERO 15 DE 2017 | F15: ARIETE SAS CARLOS AUGUSTO DÍAZ HERRERA | H15: B&C INGNIERIA INTEGRAL | J15: ALFONSO ANTONIO PEREA HURTADO | L15: FRANCISCO ALVAREZ PEREZ | N15: CARLOS SALAZAR GÓMEZ | P15: CARLOS CASTRO VEGA | R15: JUAN CARLOS ORTIZ LÓPEZ | T15: OSCAR MUÑOZ CORREA | V15: PROMEDIO PROPUESTAS PRESENTADAS CONTRATACIÓN 10000047-OI 2010 INCREMENTÁNDOLAS AL IPC 3,17% DE 2010, 3,73% DE 2011, 2,44% DE 2012, 1,94 DE 2013, 3,66% DE 2014, 6,77% DE 2015 Y 5,75% DE 2016 | X15: PROMEDIO PROPUESTAS PRESENTADAS CONTRATACIÓN 11000060 OR 2011 INCREMENTÁNDOLAS AL IPC 3,73% DE 2011, 2,44% DE 2012, 1,94 DE 2013, 3,66% DE 2014, 6,77% DE 2015 Y 5,75% DE 2016 | Z15: PROMEDIO PROPUESTAS PRESENTADAS CONTRATACIÓN 120000026 OI 2012 INCREMENTÁNDOLAS AL IPC 2,44% DE 2012, 1,94 DE 2013, 3,66% DE 2014, 6,77% DE 2015 Y 5,75% DE 2016 | AB15: PROMEDIO PROPUESTAS PRESENTADAS CONTRATACIÓN 130000027 OI 2013 INCREMENTÁNDOLAS AL IPC 2,44% DE 2012, 1,94 DE 2013, 3,66% DE 2014, 6,77% DE 2015 Y 5,75% DE 2016 | AD15: PROMEDIO PROPUESTAS PRESENTADAS CONTRATACIÒN 14000024 OI 2014 INCREMENTADOLAS AL IPC 3,66% DE 2014, 6,77% DE 2015 Y 5,75% DE 2016 | AF15: PROMEDIO PROPUESTAS PRESENTADAS CONTRATACIÒN 15000049 OI 2015 INCREMENTADOLAS AL IPC 6,77% DE 2015 Y 5,75% DE 2016 | AH15: PROMEDIO PROPUESTAS PRESENTADAS CONTRATACIÒN 30016019 INCREMENTADOLAS AL IPC 5,75% DE 2015. | AJ15: PROMEDIO | AL15: MEDIANA | AN15: MEDIA ARMÓNICA | AP15: MEDIA GEOMÉTRICA
A16: ÍTEM | B16: DESCRIPCIÓN | C16: Und | D16: Cant | E16: Rondas | F16: Valor Unitario | G16: TOTAL | H16: Valor Unitario | I16: TOTAL | J16: Valor Unitario | K16: TOTAL | L16: Valor Unitario | M16: TOTAL | N16: Valor Unitario | O16: TOTAL | P16: Valor Unitario | Q16: TOTAL | R16: Valor Unitario | S16: TOTAL | T16: Valor Unitario | U16: TOTAL | V16: Valor Unitario | W16: TOTAL | X16: Valor Unitario | Y16: TOTAL | Z16: Valor Unitario | AA16: TOTAL | AB16: Valor Unitario | AC16: TOTAL | AD16: Valor Unitario | AE16: TOTAL | AF16: Valor Unitario | AG16: TOTAL | AH16: Valor Unitario | AI16: TOTAL | AJ16: Valor Unitario | AK16: TOTAL | AL16: Valor Unitario | AM16: TOTAL | AN16: Valor Unitario | AO16: TOTAL | AP16: Valor Unitario | AQ16: TOTAL
A17: 5 | B17: Mantenimiento de zonas verdes. Rocería: zonas de seguridad y demás áreas del aeropuerto, incluyendo la limpieza de las áreas perimetrales internas (desde las zonas de seguridad hasta el cerramiento). Consistente en desmonte y limpieza de zonas no boscosas. | C17: Ha | D17: 20.6 | E17: 4 | F17: 320000 | G17: =ROUND(D17*E17*F17,0) -> 26368000 | H17: 612439 | I17: =ROUND(D17*E17*H17,0) -> 50464974 | J17: 285000 | K17: =ROUND(D17*E17*J17,0) -> 23484000 | L17: 250000 | M17: =L17*E17*D17 -> 20600000 | N17: 280000 | O17: =D17*E17*N17 -> 23072000 | P17: 300000 | Q17: =D17*E17*P17 -> 24720000 | R17: 310000 | S17: =D17*E17*R17 -> 25544000 | T17: 315000 | U17: =D17*E17*T17 -> 25956000 | V17: =302500*1.0317*1.0373*1.0244*1.0194*1.0366*1.0677*1.0575 -> 395674.63 | W17: =D17*E17*V17 -> 32603590 | X17: =290931*1.0373*1.0244*1.0194*1.0366*1.0677*1.0575 -> 368849.67 | Y17: =D17*E17*X17 -> 30393213 | Z17: =309544*1.0244*1.0194*1.0366*1.0677*1.0575 -> 378335.78 | AA17: =D17*E17*Z17 -> 31174868 | AB17: =340040*1.0194*1.0366*1.0677*1.0575 -> 405709.76 | AC17: =D17*E17*AB17 -> 33430485 | AD17: =274204*1.0366*1.0677*1.0575 -> 320933.17 | AE17: =D17*E17*AD17 -> 26444893 | AF17: =279156*1.0677*1.0575 -> 315193.02 | AG17: =D17*E17*AF17 -> 25971904 | AH17: =293183*1.0575 -> 310041.02 | AI17: =ROUND((D17*E17*AH17),0) -> 25547380 | AJ17: =ROUND((AVERAGE(F17,H17,J17,L17,N17,P17,R17,T17,V17,X17,Z17,AB17,AD17,AF17,AH17)),0) -> 344478 | AK17: =ROUND((D17*E17*AJ17),0) -> 28384987 | AL17: =ROUND((MEDIAN(F17,H17,J17,L17,N17,P17,R17,T17,V17,X17,Z17,AB17,AD17,AF17,AH17)),0) -> 315193 | AM17: =ROUND((D17*E17*AL17),0) -> 25971903 | AN17: =ROUND((HARMEAN(F17,H17,J17,L17,N17,P17,R17,T17,V17,X17,Z17,AB17,AD17,AF17,AH17)),0) -> 330163 | AO17: =ROUND((D17*E17*AN17),0) -> 27205431 | AP17: =ROUND((GEOMEAN(F17,H17,J17,L17,N17,P17,R17,T17,V17,X17,Z17,AB17,AD17,AF17,AH17)),0) -> 336545 | AQ17: =ROUND((D17*E17*AP17),0) -> 27731308
A18: 6 | B18: Limpieza (desmalezado y evacuación sedimentos) en canales (en tierra o en concreto) de evacuación aguas, retiro y disposición de material sobrante a cualquier distancia en botadero autorizado. Consistente en mantenimiento de taludes, reconstrucción de canales y limpieza de cauce a cualquier ancho de canal. | C18: Ml | D18: 2940 | E18: 4 | F18: 2100 | G18: =ROUND(D18*E18*F18,0) -> 24696000 | H18: 6500 | I18: =ROUND(D18*E18*H18,0) -> 76440000 | J18: 1650 | K18: =ROUND(D18*E18*J18,0) -> 19404000 | L18: 1800 | M18: =L18*E18*D18 -> 21168000 | N18: 2100 | O18: =D18*E18*N18 -> 24696000 | P18: 2950 | Q18: =D18*E18*P18 -> 34692000 | R18: 2700 | S18: =D18*E18*R18 -> 31752000 | T18: 2800 | U18: =D18*E18*T18 -> 32928000 | V18: =981*1.0317*1.0373*1.0244*1.0194*1.0366*1.0677*1.0575 -> 1283.163 | W18: =D18*E18*V18 -> 15089997 | X18: =1221*1.0373*1.0244*1.0194*1.0366*1.0677*1.0575 -> 1548.0146 | Y18: =D18*E18*X18 -> 18204652 | Z18: =1737*1.0244*1.0194*1.0366*1.0677*1.0575 -> 2123.0237 | AA18: =D18*E18*Z18 -> 24966759 | AB18: =1805*1.0194*1.0366*1.0677*1.0575 -> 2153.5882 | AC18: =D18*E18*AB18 -> 25326197 | AD18: =1621*1.0366*1.0677*1.0575 -> 1897.2468 | AE18: =D18*E18*AD18 -> 22311623 | AF18: =1600*1.0677*1.0575 -> 1806.5484 | AG18: =D18*E18*AF18 -> 21245009 | AH18: =1823*1.0575 -> 1927.8225 | AI18: =ROUND((D18*E18*AH18),0) -> 22671193 | AJ18: =ROUND((AVERAGE(F18,H18,J18,L18,N18,P18,R18,T18,V18,X18,Z18,AB18,AD18,AF18,AH18)),0) -> 2356 | AK18: =ROUND((D18*E18*AJ18),0) -> 27706560 | AL18: =ROUND((MEDIAN(F18,H18,J18,L18,N18,P18,R18,T18,V18,X18,Z18,AB18,AD18,AF18,AH18)),0) -> 2100 | AM18: =ROUND((D18*E18*AL18),0) -> 24696000 | AN18: =ROUND((HARMEAN(F18,H18,J18,L18,N18,P18,R18,T18,V18,X18,Z18,AB18,AD18,AF18,AH18)),0) -> 2056 | AO18: =ROUND((D18*E18*AN18),0) -> 24178560 | AP18: =ROUND((GEOMEAN(F18,H18,J18,L18,N18,P18,R18,T18,V18,X18,Z18,AB18,AD18,AF18,AH18)),0) -> 2173 | AQ18: =ROUND((D18*E18*AP18),0) -> 25554480
A19: 7 | B19: Limpieza de guarda fuegos de cerramiento internos y externos y limpieza del cerramiento a una altura máxima del cerramiento. Limpieza manual del cerramiento (mallas) con la implementación de la fumigación con un herbicida químico, en una franja de 3 metros alrededor del aeropuerto. Incluye Cargue y disposición de material sobrante a cualquier distancia en botadero autorizado | C19: Ml | D19: 3110 | E19: 4 | F19: 2200 | G19: =ROUND(D19*E19*F19,0) -> 27368000 | H19: 3860 | I19: =ROUND(D19*E19*H19,0) -> 48018400 | J19: 1950 | K19: =ROUND(D19*E19*J19,0) -> 24258000 | L19: 1800 | M19: =L19*E19*D19 -> 22392000 | N19: 2100 | O19: =D19*E19*N19 -> 26124000 | P19: 2950 | Q19: =D19*E19*P19 -> 36698000 | R19: 2700 | S19: =D19*E19*R19 -> 33588000 | T19: 2800 | U19: =D19*E19*T19 -> 34832000 | V19: =1160*1.0317*1.0373*1.0244*1.0194*1.0366*1.0677*1.0575 -> 1517.2978 | W19: =D19*E19*V19 -> 18875184 | X19: =1325*1.0373*1.0244*1.0194*1.0366*1.0677*1.0575 -> 1679.8685 | Y19: =D19*E19*X19 -> 20897564 | Z19: =1597*1.0244*1.0194*1.0366*1.0677*1.0575 -> 1951.9107 | AA19: =D19*E19*Z19 -> 24281769 | AC19: =D19*E19*AB19 -> 0 | AD19: =1529*1.0366*1.0677*1.0575 -> 1789.5684 | AE19: =D19*E19*AD19 -> 22262231 | AF19: =1641*1.0677*1.0575 -> 1852.8412 | AG19: =D19*E19*AF19 -> 23049345 | AH19: =1847*1.0575 -> 1953.2025 | AI19: =ROUND((D19*E19*AH19),0) -> 24297839 | AJ19: =ROUND((AVERAGE(F19,H19,J19,L19,N19,P19,R19,T19,V19,X19,Z19,AB19,AD19,AF19,AH19)),0) -> 2222 | AK19: =ROUND((D19*E19*AJ19),0) -> 27641680 | AL19: =ROUND((MEDIAN(F19,H19,J19,L19,N19,P19,R19,T19,V19,X19,Z19,AB19,AD19,AF19,AH19)),0) -> 1953 | AM19: =ROUND((D19*E19*AL19),0) -> 24295320 | AN19: =ROUND((HARMEAN(F19,H19,J19,L19,N19,P19,R19,T19,V19,X19,Z19,AB19,AD19,AF19,AH19)),0) -> 2089 | AO19: =ROUND((D19*E19*AN19),0) -> 25987160 | AP19: =ROUND((GEOMEAN(F19,H19,J19,L19,N19,P19,R19,T19,V19,X19,Z19,AB19,AD19,AF19,AH19)),0) -> 2150 | AQ19: =ROUND((D19*E19*AP19),0) -> 26746000
A20: 8 | B20: Aplicación de matamalezas (combatran, randall o similar) a todas las zonas de seguridad incluida la base del cerramiento y los canales de drenaje | C20: Ha | D20: 12 | E20: 4 | F20: 500000 | G20: =ROUND(D20*E20*F20,0) -> 24000000 | H20: 1200000 | I20: =ROUND(D20*E20*H20,0) -> 57600000 | J20: 146000 | K20: =ROUND(D20*E20*J20,0) -> 7008000 | L20: 180000 | M20: =L20*E20*D20 -> 8640000 | N20: 200000 | O20: =D20*E20*N20 -> 9600000 | P20: 250000 | Q20: =D20*E20*P20 -> 12000000 | R20: 170000 | S20: =D20*E20*R20 -> 8160000 | T20: 180000 | U20: =D20*E20*T20 -> 8640000 | V20: =128163*1.0317*1.0373*1.0244*1.0194*1.0366*1.0677*1.0575 -> 167639.17 | W20: =D20*E20*V20 -> 8046680 | X20: =134336*1.0373*1.0244*1.0194*1.0366*1.0677*1.0575 -> 170314.57 | Y20: =D20*E20*X20 -> 8175099.6 | Z20: =176507*1.0244*1.0194*1.0366*1.0677*1.0575 -> 215733.19 | AA20: =D20*E20*Z20 -> 10355193 | AB20: =190430*1.0194*1.0366*1.0677*1.0575 -> 227206.54 | AC20: =D20*E20*AB20 -> 10905914 | AD20: =139509*1.0366*1.0677*1.0575 -> 163283.78 | AE20: =D20*E20*AD20 -> 7837621.5 | AF20: =156913*1.0677*1.0575 -> 177169.33 | AG20: =D20*E20*AF20 -> 8504127.9 | AH20: =190335*1.0575 -> 201279.26 | AI20: =ROUND((D20*E20*AH20),0) -> 9661405 | AJ20: =ROUND((AVERAGE(F20,H20,J20,L20,N20,P20,R20,T20,V20,X20,Z20,AB20,AD20,AF20,AH20)),0) -> 276575 | AK20: =ROUND((D20*E20*AJ20),0) -> 13275600 | AL20: =ROUND((MEDIAN(F20,H20,J20,L20,N20,P20,R20,T20,V20,X20,Z20,AB20,AD20,AF20,AH20)),0) -> 180000 | AM20: =ROUND((D20*E20*AL20),0) -> 8640000 | AN20: =ROUND((HARMEAN(F20,H20,J20,L20,N20,P20,R20,T20,V20,X20,Z20,AB20,AD20,AF20,AH20)),0) -> 204677 | AO20: =ROUND((D20*E20*AN20),0) -> 9824496 | AP20: =ROUND((GEOMEAN(F20,H20,J20,L20,N20,P20,R20,T20,V20,X20,Z20,AB20,AD20,AF20,AH20)),0) -> 225374 | AQ20: =ROUND((D20*E20*AP20),0) -> 10817952
A21: 9 | B21: Limpieza de bordes de pista mediante maquinaria pesada (motoniveladora) y/o herramientas menores (azadón etc.). Cinco (5) metros a cada lado. Retiro de material vegetal que esta invadiendo la pista. Incluye retiro y disposición de material en botadero oficial. | C21: ML | D21: =ROUND(944*2+17.6*2,0) -> 1923 | E21: 4 | F21: 2800 | G21: =ROUND(D21*E21*F21,0) -> 21537600 | H21: 1600 | I21: =ROUND(D21*E21*H21,0) -> 12307200 | J21: 1800 | K21: =ROUND(D21*E21*J21,0) -> 13845600 | L21: 3600 | M21: =L21*E21*D21 -> 27691200 | N21: 3500 | O21: =D21*E21*N21 -> 26922000 | P21: 3350 | Q21: =D21*E21*P21 -> 25768200 | R21: 3800 | S21: =D21*E21*R21 -> 29229600 | T21: 4200 | U21: =D21*E21*T21 -> 32306400 | W21: =D21*E21*V21 -> 0 | Y21: =D21*E21*X21 -> 0 | AA21: =D21*E21*Z21 -> 0 | AC21: =D21*E21*AB21 -> 0 | AD21: =2085*1.0366*1.0677*1.0575 -> 2440.3206 | AE21: =D21*E21*AD21 -> 18770946 | AF21: =1979*1.0677*1.0575 -> 2234.4746 | AG21: =D21*E21*AF21 -> 17187578 | AH21: =1884*1.0575 -> 1992.33 | AI21: =ROUND((D21*E21*AH21),0) -> 15325002 | AJ21: =ROUND((AVERAGE(F21,H21,J21,L21,N21,P21,R21,T21,V21,X21,Z21,AB21,AD21,AF21,AH21)),0) -> 2847 | AK21: =ROUND((D21*E21*AJ21),0) -> 21899124 | AL21: =ROUND((MEDIAN(F21,H21,J21,L21,N21,P21,R21,T21,V21,X21,Z21,AB21,AD21,AF21,AH21)),0) -> 2800 | AM21: =ROUND((D21*E21*AL21),0) -> 21537600 | AN21: =ROUND((HARMEAN(F21,H21,J21,L21,N21,P21,R21,T21,V21,X21,Z21,AB21,AD21,AF21,AH21)),0) -> 2582 | AO21: =ROUND((D21*E21*AN21),0) -> 19860744 | AP21: =ROUND((GEOMEAN(F21,H21,J21,L21,N21,P21,R21,T21,V21,X21,Z21,AB21,AD21,AF21,AH21)),0) -> 2715 | AQ21: =ROUND((D21*E21*AP21),0) -> 20883780
A22: 10 | B22: Tala de arboles y arbustos. Consistente en desmonte y limpieza de zonas boscosas. Incluye Cargue y disposición de material sobrante a cualquier distancia en botadero autorizado. Limpieza destronque de raices. Areas en zonas de seguridad y demas areas del aeropuerto con retiro de material vegetal fuera del sitio. Se requiere se realice el tramite ante la Corporacion ambiental de permisos de tala y poda. | C22: Ha | D22: 2 | E22: 1 | F22: 2000000 | G22: =ROUND(D22*E22*F22,0) -> 4000000 | H22: 918659 | I22: =ROUND(D22*E22*H22,0) -> 1837318 | J22: 800000 | K22: =ROUND(D22*E22*J22,0) -> 1600000 | L22: 980000 | M22: =L22*E22*D22 -> 1960000 | N22: 1600000 | O22: =D22*E22*N22 -> 3200000 | P22: 1050000 | Q22: =D22*E22*P22 -> 2100000 | R22: 1400000 | S22: =D22*E22*R22 -> 2800000 | T22: 930000 | U22: =D22*E22*T22 -> 1860000 | W22: =D22*E22*V22 -> 0 | Y22: =D22*E22*X22 -> 0 | Z22: =663800*1.0244*1.0194*1.0366*1.0677*1.0575 -> 811320.17 | AA22: =D22*E22*Z22 -> 1622640.3 | AC22: =D22*E22*AB22 -> 0 | AE22: =D22*E22*AD22 -> 0 | AF22: =968705*1.0677*1.0575 -> 1093757.8 | AG22: =D22*E22*AF22 -> 2187515.6 | AH22: =1398612*1.0575 -> 1479032.2 | AI22: =ROUND((D22*E22*AH22),0) -> 2958064 | AJ22: =ROUND((AVERAGE(F22,H22,J22,L22,N22,P22,R22,T22,V22,X22,Z22,AB22,AD22,AF22,AH22)),0) -> 1187524 | AK22: =ROUND((D22*E22*AJ22),0) -> 2375048 | AL22: =ROUND((MEDIAN(F22,H22,J22,L22,N22,P22,R22,T22,V22,X22,Z22,AB22,AD22,AF22,AH22)),0) -> 1050000 | AM22: =ROUND((D22*E22*AL22),0) -> 2100000 | AN22: =ROUND((HARMEAN(F22,H22,J22,L22,N22,P22,R22,T22,V22,X22,Z22,AB22,AD22,AF22,AH22)),0) -> 1094653 | AO22: =ROUND((D22*E22*AN22),0) -> 2189306 | AP22: =ROUND((GEOMEAN(F22,H22,J22,L22,N22,P22,R22,T22,V22,X22,Z22,AB22,AD22,AF22,AH22)),0) -> 1137749 | AQ22: =ROUND((D22*E22*AP22),0) -> 2275498
B24: SUB TOTAL | G24: =SUM(G17:G22) -> 127969600 | I24: =SUM(I17:I22) -> 246667892 | K24: =SUM(K17:K22) -> 89599600 | M24: =SUM(M17:M22) -> 102451200 | O24: =SUM(O17:O22) -> 113614000 | Q24: =SUM(Q17:Q22) -> 135978200 | S24: =SUM(S17:S22) -> 131073600 | U24: =SUM(U17:U22) -> 136522400 | W24: =SUM(W17:W22) -> 74615451 | Y24: =SUM(Y17:Y22) -> 77670528 | AA24: =SUM(AA17:AA22) -> 92401229 | AC24: =SUM(AC17:AC22) -> 69662595 | AE24: =SUM(AE17:AE22) -> 97627315 | AG24: =SUM(AG17:AG22) -> 98145480 | AI24: =SUM(AI17:AI22) -> 100460883 | AK24: =SUM(AK17:AK22) -> 121282999 | AM24: =SUM(AM17:AM22) -> 107240823 | AO24: =SUM(AO17:AO22) -> 109245697 | AQ24: =SUM(AQ17:AQ22) -> 114009018
B25: IVA del 19% | F25: 0.19 | G25: =ROUND(G24*F25,0) -> 24314224 | H25: 0.19 | I25: =ROUND(I24*H25,0) -> 46866899 | J25: 0.19 | K25: =ROUND(K24*J25,0) -> 17023924 | L25: 0.19 | M25: =ROUND(M24*L25,0) -> 19465728 | N25: 0.19 | O25: =ROUND(O24*N25,0) -> 21586660 | P25: 0.19 | Q25: =ROUND(Q24*P25,0) -> 25835858 | R25: 0.19 | S25: =ROUND(S24*R25,0) -> 24903984 | T25: 0.19 | U25: =ROUND(U24*T25,0) -> 25939256 | V25: 0.19 | W25: =ROUND(W24*V25,0) -> 14176936 | X25: 0.19 | Y25: =ROUND(Y24*X25,0) -> 14757400 | Z25: 0.19 | AA25: =ROUND(AA24*Z25,0) -> 17556233 | AB25: 0.19 | AC25: =ROUND(AC24*AB25,0) -> 13235893 | AD25: 0.19 | AE25: =ROUND(AE24*AD25,0) -> 18549190 | AF25: 0.19 | AG25: =ROUND(AG24*AF25,0) -> 18647641 | AH25: 0.19 | AI25: =ROUND(AI24*AH25,0) -> 19087568 | AJ25: 0.19 | AK25: =ROUND(AK24*AJ25,0) -> 23043770 | AL25: 0.19 | AM25: =ROUND(AM24*AL25,0) -> 20375756 | AN25: 0.19 | AO25: =ROUND(AO24*AN25,0) -> 20756682 | AP25: 0.19 | AQ25: =ROUND(AQ24*AP25,0) -> 21661713
B26: COSTO TOTAL (1) | G26: =SUM(G24:G25) -> 152283824 | I26: =SUM(I24:I25) -> 293534791 | K26: =SUM(K24:K25) -> 106623524 | M26: =SUM(M24:M25) -> 121916928 | O26: =SUM(O24:O25) -> 135200660 | Q26: =SUM(Q24:Q25) -> 161814058 | S26: =SUM(S24:S25) -> 155977584 | U26: =SUM(U24:U25) -> 162461656 | W26: =SUM(W24:W25) -> 88792387 | Y26: =SUM(Y24:Y25) -> 92427928 | AA26: =SUM(AA24:AA25) -> 1.0995746e+08 | AC26: =SUM(AC24:AC25) -> 82898488 | AE26: =SUM(AE24:AE25) -> 1.161765e+08 | AG26: =SUM(AG24:AG25) -> 1.1679312e+08 | AI26: =SUM(AI24:AI25) -> 119548451 | AK26: =SUM(AK24:AK25) -> 144326769 | AM26: =SUM(AM24:AM25) -> 127616579 | AO26: =SUM(AO24:AO25) -> 130002379 | AQ26: =SUM(AQ24:AQ25) -> 135670731
W28: =W12+W26 -> 1.6612101e+08 | Y28: =Y12+Y26 -> 1.752199e+08 | AA28: =AA12+AA26 -> 1.8483947e+08 | AC28: =AC12+AC26 -> 1.5575714e+08 | AE28: =AE12+AE26 -> 1.774653e+08 | AG28: =AG12+AG26 -> 1.9682635e+08 | AI28: =AI12+AI26 -> 2.0101867e+08 | AK28: =AK12+AK26 -> 2.2931646e+08 | AM28: =AM12+AM26 -> 229062732 | AO28: =AO12+AO26 -> 213847980 | AQ28: =AQ12+AQ26 -> 225407589
B29: TOTAL (1) + (2)
F31: =UPPER("OBJETO: Mantenimiento de las zonas seguridad y canales del aeropuerto Berastegui de Cienaga de Oro - Cordoba") -> OBJETO: MANTENIMIENTO DE LAS ZONAS SEGURIDAD Y CANALES DEL AEROPUERTO BERASTEGUI DE CIENAGA DE ORO - CORDOBA | AL31: =UPPER("OBJETO: Mantenimiento de las zonas seguridad y canales del aeropuerto Berastegui de Cienaga de Oro - Cordoba") -> OBJETO: MANTENIMIENTO DE LAS ZONAS SEGURIDAD Y CANALES DEL AEROPUERTO BERASTEGUI DE CIENAGA DE ORO - CORDOBA
B32: ESTUDIO DE MERCADO
B33: FECHA : FEBRERO 15 DE 2017 | F33: ARIETE SAS CARLOS AUGUSTO DÍAZ HERRERA | H33: B&C INGNIERIA INTEGRAL | J33: ALFONSO ANTONIO PEREA HURTADO | L33: FRANCISCO ALVAREZ PEREZ | N33: CARLOS SALAZAR GÓMEZ | P33: CARLOS CASTRO VEGA | R33: JUAN CARLOS ORTIZ LÓPEZ | T33: OSCAR MUÑOZ CORREA | X33: PROMEDIO PROPUESTAS PRESENTADAS CONTRATACIÒN 11000071-OR DE 2011 INCREMENTADOLAS AL IPC 3,73% DE 2011, 2,44% DE 2012, 1,94 DE 2013, 3,66% DE 2014, 6,77% DE 2015 Y 5,75% DE 2016 | Z33: PROMEDIO PROPUESTAS PRESENTADAS CONTRATACIÒN 120000199 OR 2012 INCREMENTADOLAS AL IPC 2,44% DE 2012, 1,94 DE 2013, 3,66% DE 2014, 6,77% DE 2015 Y 5,75% DE 2016 | AB33: PROMEDIO PROPUESTAS PRESENTADAS CONTRATACIÒN 13000209 OR 2013 INCREMENTADOLAS AL IPC 1,94 DE 2013, 3,66% DE 2014, 6,77% DE 2015 Y 5,75% DE 2016 | AD33: PROMEDIO PROPUESTAS PRESENTADAS CONTRATACIÒN 13000209 A OR 2013 INCREMENTADOLAS AL IPC 1,94 DE 2013, 3,66% DE 2014, 6,77% DE 2015 Y 5,75% DE 2016 | AF33: PROMEDIO PROPUESTAS PRESENTADAS CONTRATACIÒN 14000028 OI 2014 INCREMENTADOLAS AL IPC 3,66% DE 2014, 6,77% DE 2015 Y 5,75% DE 2016 | AH33: PROMEDIO PROPUESTAS PRESENTADAS CONTRATACIÒN 150000050 OI 2015 INCREMENTADOLAS AL IPC 6,77% DE 2015 Y 5,75% DE 2016 | AJ33: PROMEDIO PROPUESTAS PRESENTADAS CONTRATACIÒN 30016030 INCREMENTADOLAS AL IPC 5,75% DE 2015. | AL33: PROMEDIO | AN33: MEDIANA | AP33: MEDIA ARMONICA | AR33: MEDIA GEOMETRICA
A34: ÍTEM | B34: DESCRIPCIÓN | C34: Und | D34: Cant | E34: Rondas | F34: Valor Unitario | G34: TOTAL | H34: Valor Unitario | I34: TOTAL | J34: Valor Unitario | K34: TOTAL | L34: Valor Unitario | M34: TOTAL | N34: Valor Unitario | O34: TOTAL | P34: Valor Unitario | Q34: TOTAL | R34: Valor Unitario | S34: TOTAL | T34: Valor Unitario | U34: TOTAL | V34: Valor Unitario | W34: TOTAL | X34: Valor Unitario | Y34: TOTAL | Z34: Valor Unitario | AA34: TOTAL | AB34: Valor Unitario | AC34: TOTAL | AD34: Valor Unitario | AE34: TOTAL | AF34: Valor Unitario | AG34: TOTAL | AH34: Valor Unitario | AI34: TOTAL | AJ34: Valor Unitario | AK34: TOTAL | AL34: Valor Unitario | AM34: TOTAL | AN34: Valor Unitario | AO34: TOTAL | AP34: Valor Unitario | AQ34: TOTAL | AR34: Valor Unitario | AS34: TOTAL
A35: 1 | B35: Mantenimiento de zonas verdes. Roceria: zonas de seguridad y demas areas del aeropuerto, incluyendo la limpieza de las áreas perimetrales internas (desde las zonas de seguridad hasta el cerramiento). Consistente en desmonte y limpieza de zonas no boscosas. | C35: Ha | D35: 33.25 | E35: 4 | F35: 320000 | G35: =ROUND(D35*E35*F35,0) -> 42560000 | H35: 612439 | I35: =ROUND(D35*E35*H35,0) -> 81454387 | J35: 290000 | K35: =ROUND(D35*E35*J35,0) -> 38570000 | L35: 250000 | M35: =L35*E35*D35 -> 33250000 | N35: 280000 | O35: =D35*E35*N35 -> 37240000 | P35: 300000 | Q35: =D35*E35*P35 -> 39900000 | R35: 310000 | S35: =D35*E35*R35 -> 41230000 | T35: 315000 | U35: =D35*E35*T35 -> 41895000 | W35: =D35*E35*V35 -> 0 | X35: =250000*1.0373*1.0244*1.0194*1.0366*1.0677*1.0575 -> 316956.31 | Y35: =D35*E35*X35 -> 42155190 | Z35: =240000*1.0244*1.0194*1.0366*1.0677*1.0575 -> 293336.61 | AA35: =D35*E35*Z35 -> 39013769 | AB35: =246578*1.0194*1.0366*1.0677*1.0575 -> 294198.04 | AC35: =D35*E35*AB35 -> 39128340 | AD35: =253457*1.0194*1.0366*1.0677*1.0575 -> 302405.54 | AE35: =D35*E35*AD35 -> 40219937 | AF35: =268008*1.0366*1.0677*1.0575 -> 313681.27 | AG35: =D35*E35*AF35 -> 41719608 | AH35: =257126*1.0677*1.0575 -> 290319.1 | AI35: =D35*E35*AH35 -> 38612441 | AJ35: =291864*1.0575 -> 308646.18 | AK35: =D35*E35*AJ35 -> 41049942 | AL35: =ROUND((AVERAGE(F35,H35,J35,L35,N35,P35,R35,T35,X35,Z35,AB35,AD35,AF35,AH35,AJ35)),0) -> 319799 | AM35: =ROUND((D35*E35*AL35),0) -> 42533267 | AN35: =ROUND((MEDIAN(F35,H35,J35,N35,L35,P35,R35,T35,V35,X35,Z35,AB35,AD35,AF35,AH35,AJ35)),0) -> 302406 | AO35: =ROUND((D35*E35*AN35),0) -> 40219998 | AP35: =ROUND((HARMEAN(F35,H35,J35,L35,N35,P35,R35,T35,V35,X35,Z35,AB35,AD35,AF35,AH35,AJ35)),0) -> 308302 | AQ35: =ROUND((D35*E35*AP35),0) -> 41004166 | AR35: =ROUND((GEOMEAN(F35,H35,J35,L35,N35,P35,R35,T35,V35,X35,Z35,AB35,AD35,AF35,AH35,AJ35)),0) -> 312988 | AS35: =ROUND((D35*E35*AR35),0) -> 41627404
A36: 2 | B36: Limpieza de guarda fuegos de cerramiento internos y externos y limpieza del cerramiento a una altura maxima del cerramiento. Limpieza manual del cerramiento (mallas) con la implementación de la fumigación con un herbicida químico, en una franja de 3 metros alrededor del aeropuerto. Incluye Cargue y disposición de material sobrante a cualquier distancia en botadero autorizado | C36: Ml | D36: 4206 | E36: 4 | F36: 2200 | G36: =ROUND(D36*E36*F36,0) -> 37012800 | H36: 3860 | I36: =ROUND(D36*E36*H36,0) -> 64940640 | J36: 1700 | K36: =ROUND(D36*E36*J36,0) -> 28600800 | L36: 1800 | M36: =L36*E36*D36 -> 30283200 | N36: 2100 | O36: =D36*E36*N36 -> 35330400 | P36: 2950 | Q36: =D36*E36*P36 -> 49630800 | R36: 2700 | S36: =D36*E36*R36 -> 45424800 | T36: 2800 | U36: =D36*E36*T36 -> 47107200 | W36: =D36*E36*V36 -> 0 | Y36: =D36*E36*X36 -> 0 | Z36: =4284*1.0244*1.0194*1.0366*1.0677*1.0575 -> 5236.0584 | AA36: =D36*E36*Z36 -> 88091447 | AC36: =D36*E36*AB36 -> 0 | AE36: =D36*E36*AD36 -> 0 | AF36: =1942*1.0366*1.0677*1.0575 -> 2272.9509 | AG36: =D36*E36*AF36 -> 38240125 | AH36: =1670*1.0677*1.0575 -> 1885.5849 | AI36: =D36*E36*AH36 -> 31723080 | AJ36: =1993*1.0575 -> 2107.5975 | AK36: =D36*E36*AJ36 -> 35458220 | AL36: =ROUND((AVERAGE(F36,H36,J36,L36,N36,P36,R36,T36,X36,Z36,AB36,AD36,AF36,AH36,AJ36)),0) -> 2634 | AM36: =ROUND((D36*E36*AL36),0) -> 44314416 | AN36: =ROUND((MEDIAN(F36,H36,J36,N36,L36,P36,R36,T36,V36,X36,Z36,AB36,AD36,AF36,AH36,AJ36)),0) -> 2236 | AO36: =ROUND((D36*E36*AN36),0) -> 37618464 | AP36: =ROUND((HARMEAN(F36,H36,J36,L36,N36,P36,R36,T36,V36,X36,Z36,AB36,AD36,AF36,AH36,AJ36)),0) -> 2383 | AQ36: =ROUND((D36*E36*AP36),0) -> 40091592 | AR36: =ROUND((GEOMEAN(F36,H36,J36,L36,N36,P36,R36,T36,V36,X36,Z36,AB36,AD36,AF36,AH36,AJ36)),0) -> 2493 | AS36: =ROUND((D36*E36*AR36),0) -> 41942232
A37: 3 | B37: Limpieza (desmalezado y evacuación sedimentos) en canales (en tierra o en concreto) de evacuación aguas, retiro y disposición de material sobrante a cualquier distancia en botadero autorizado. Consistente en mantenimiento de taludes, reconstrucción de canales y limpieza de cauce a cualquier ancho de canal. | C37: Ml | D37: 2567 | E37: 4 | F37: 2100 | G37: =ROUND(D37*E37*F37,0) -> 21562800 | H37: 6500 | I37: =ROUND(D37*E37*H37,0) -> 66742000 | J37: 1600 | K37: =ROUND(D37*E37*J37,0) -> 16428800 | L37: 1800 | M37: =L37*E37*D37 -> 18482400 | N37: 2100 | O37: =D37*E37*N37 -> 21562800 | P37: 2950 | Q37: =D37*E37*P37 -> 30290600 | R37: 2700 | S37: =D37*E37*R37 -> 27723600 | T37: 2800 | U37: =D37*E37*T37 -> 28750400 | W37: =D37*E37*V37 -> 0 | Y37: =D37*E37*X37 -> 0 | AA37: =D37*E37*Z37 -> 0 | AC37: =D37*E37*AB37 -> 0 | AE37: =D37*E37*AD37 -> 0 | AF37: =1841*1.0366*1.0677*1.0575 -> 2154.7387 | AG37: =D37*E37*AF37 -> 22124857 | AH37: =1893*1.0677*1.0575 -> 2137.3726 | AI37: =D37*E37*AH37 -> 21946542 | AJ37: =1911*1.0575 -> 2020.8825 | AK37: =D37*E37*AJ37 -> 20750422 | AL37: =ROUND((AVERAGE(F37,H37,J37,L37,N37,P37,R37,T37,X37,Z37,AB37,AD37,AF37,AH37,AJ37)),0) -> 2624 | AM37: =ROUND((D37*E37*AL37),0) -> 26943232 | AN37: =ROUND((MEDIAN(F37,H37,J37,N37,L37,P37,R37,T37,V37,X37,Z37,AB37,AD37,AF37,AH37,AJ37)),0) -> 2137 | AO37: =ROUND((D37*E37*AN37),0) -> 21942716 | AP37: =ROUND((HARMEAN(F37,H37,J37,L37,N37,P37,R37,T37,V37,X37,Z37,AB37,AD37,AF37,AH37,AJ37)),0) -> 2301 | AQ37: =ROUND((D37*E37*AP37),0) -> 23626668 | AR37: =ROUND((GEOMEAN(F37,H37,J37,L37,N37,P37,R37,T37,V37,X37,Z37,AB37,AD37,AF37,AH37,AJ37)),0) -> 2426 | AS37: =ROUND((D37*E37*AR37),0) -> 24910168
A38: 4 | B38: Aplicación de matamatelezas (combatran, randall o similar) a todas las zonas de seguridad incluida la base del cerramiento y los canales de drenaje | C38: Ha | D38: 14 | E38: 4 | F38: 500000 | G38: =ROUND(D38*E38*F38,0) -> 28000000 | H38: 1200000 | I38: =ROUND(D38*E38*H38,0) -> 67200000 | J38: 147000 | K38: =ROUND(D38*E38*J38,0) -> 8232000 | L38: 170000 | M38: =L38*E38*D38 -> 9520000 | N38: 200000 | O38: =D38*E38*N38 -> 11200000 | P38: 250000 | Q38: =D38*E38*P38 -> 14000000 | R38: 170000 | S38: =D38*E38*R38 -> 9520000 | T38: 180000 | U38: =D38*E38*T38 -> 10080000 | W38: =D38*E38*V38 -> 0 | Y38: =D38*E38*X38 -> 0 | Z38: =338945*1.0244*1.0194*1.0366*1.0677*1.0575 -> 414270.73 | AA38: =D38*E38*Z38 -> 23199161 | AB38: =246492*1.0194*1.0366*1.0677*1.0575 -> 294095.43 | AC38: =D38*E38*AB38 -> 16469344 | AD38: =158950*1.0194*1.0366*1.0677*1.0575 -> 189647 | AE38: =D38*E38*AD38 -> 10620232 | AF38: =146173*1.0366*1.0677*1.0575 -> 171083.44 | AG38: =D38*E38*AF38 -> 9580672.9 | AH38: =170161*1.0677*1.0575 -> 192127.55 | AI38: =D38*E38*AH38 -> 10759143 | AJ38: =196479*1.0575 -> 207776.54 | AK38: =D38*E38*AJ38 -> 11635486 | AL38: =ROUND((AVERAGE(F38,H38,J38,L38,N38,P38,R38,T38,X38,Z38,AB38,AD38,AF38,AH38,AJ38)),0) -> 306143 | AM38: =ROUND((D38*E38*AL38),0) -> 17144008 | AN38: =ROUND((MEDIAN(F38,H38,J38,N38,L38,P38,R38,T38,V38,X38,Z38,AB38,AD38,AF38,AH38,AJ38)),0) -> 196064 | AO38: =ROUND((D38*E38*AN38),0) -> 10979584 | AP38: =ROUND((HARMEAN(F38,H38,J38,L38,N38,P38,R38,T38,V38,X38,Z38,AB38,AD38,AF38,AH38,AJ38)),0) -> 222553 | AQ38: =ROUND((D38*E38*AP38),0) -> 12462968 | AR38: =ROUND((GEOMEAN(F38,H38,J38,L38,N38,P38,R38,T38,V38,X38,Z38,AB38,AD38,AF38,AH38,AJ38)),0) -> 249489 | AS38: =ROUND((D38*E38*AR38),0) -> 13971384
AC39: =D39*E39*AB39 -> 0
B40: SUB TOTAL | G40: =SUM(G35:G38) -> 129135600 | I40: =SUM(I35:I38) -> 280337027 | K40: =SUM(K35:K38) -> 91831600 | M40: =SUM(M35:M38) -> 91535600 | O40: =SUM(O35:O38) -> 105333200 | Q40: =SUM(Q35:Q38) -> 133821400 | S40: =SUM(S35:S38) -> 123898400 | U40: =SUM(U35:U38) -> 127832600 | W40: =SUM(W35:W38) -> 0 | Y40: =SUM(Y35:Y38) -> 42155190 | AA40: =SUM(AA35:AA38) -> 1.5030438e+08 | AC40: =SUM(AC35:AC38) -> 55597684 | AE40: =SUM(AE35:AE38) -> 50840169 | AG40: =SUM(AG35:AG38) -> 1.1166526e+08 | AI40: =SUM(AI35:AI38) -> 1.0304121e+08 | AK40: =SUM(AK35:AK38) -> 1.0889407e+08 | AM40: =SUM(AM35:AM38) -> 130934923 | AO40: =SUM(AO35:AO38) -> 110760762 | AQ40: =SUM(AQ35:AQ38) -> 117185394 | AS40: =SUM(AS35:AS38) -> 122451188
B41: IVA del 19% | E41: 0.19 | F41: 0.19 | G41: =ROUND(G40*F41,0) -> 24535764 | H41: 0.19 | I41: =ROUND(I40*H41,0) -> 53264035 | J41: 0.19 | K41: =ROUND(K40*J41,0) -> 17448004 | L41: 0.19 | M41: =ROUND(M40*L41,0) -> 17391764 | N41: 0.19 | O41: =ROUND(O40*N41,0) -> 20013308 | P41: 0.19 | Q41: =ROUND(Q40*P41,0) -> 25426066 | R41: 0.19 | S41: =ROUND(S40*R41,0) -> 23540696 | T41: 0.19 | U41: =ROUND(U40*T41,0) -> 24288194 | V41: 0.19 | W41: =ROUND(W40*V41,0) -> 0 | X41: 0.19 | Y41: =ROUND(Y40*X41,0) -> 8009486 | Z41: 0.19 | AA41: =ROUND(AA40*Z41,0) -> 28557832 | AB41: 0.19 | AC41: =ROUND(AC40*AB41,0) -> 10563560 | AD41: 0.19 | AE41: =ROUND(AE40*AD41,0) -> 9659632 | AF41: 0.19 | AG41: =ROUND(AG40*AF41,0) -> 21216400 | AH41: 0.19 | AI41: =ROUND(AI40*AH41,0) -> 19577829 | AJ41: 0.19 | AK41: =ROUND(AK40*AJ41,0) -> 20689873 | AL41: 0.19 | AM41: =ROUND(AM40*AL41,0) -> 24877635 | AN41: 0.19 | AO41: =ROUND(AO40*AN41,0) -> 21044545 | AP41: 0.19 | AQ41: =ROUND(AQ40*AP41,0) -> 22265225 | AR41: 0.19 | AS41: =ROUND(AS40*AR41,0) -> 23265726
B42: COSTO TOTAL (1) | G42: =SUM(G40:G41) -> 153671364 | I42: =SUM(I40:I41) -> 333601062 | K42: =SUM(K40:K41) -> 109279604 | M42: =SUM(M40:M41) -> 108927364 | O42: =SUM(O40:O41) -> 125346508 | Q42: =SUM(Q40:Q41) -> 159247466 | S42: =SUM(S40:S41) -> 147439096 | U42: =SUM(U40:U41) -> 152120794 | W42: =SUM(W40:W41) -> 0 | Y42: =SUM(Y40:Y41) -> 50164676 | AA42: =SUM(AA40:AA41) -> 1.7886221e+08 | AC42: =SUM(AC40:AC41) -> 66161244 | AE42: =SUM(AE40:AE41) -> 60499801 | AG42: =SUM(AG40:AG41) -> 1.3288166e+08 | AI42: =SUM(AI40:AI41) -> 1.2261903e+08 | AK42: =SUM(AK40:AK41) -> 1.2958394e+08 | AM42: =SUM(AM40:AM41) -> 155812558 | AO42: =SUM(AO40:AO41) -> 131805307 | AQ42: =SUM(AQ40:AQ41) -> 139450619 | AS42: =SUM(AS40:AS41) -> 145716914
G45: =UPPER("OBJETO:Contratar el Mantenimiento de las zonas seguridad y canales del aeropuerto El Pindo de Montelibano - Cordoba") -> OBJETO:CONTRATAR EL MANTENIMIENTO DE LAS ZONAS SEGURIDAD Y CANALES DEL AEROPUERTO EL PINDO DE MONTELIBANO - CORDOBA | AJ45: =UPPER("OBJETO:Contratar el Mantenimiento de las zonas seguridad y canales del aeropuerto El Pindo de Montelibano - Cordoba") -> OBJETO:CONTRATAR EL MANTENIMIENTO DE LAS ZONAS SEGURIDAD Y CANALES DEL AEROPUERTO EL PINDO DE MONTELIBANO - CORDOBA
...

Sheet EstudiodemercadoTotaldef
A1: OBJETO: CONTRATAR EL MANTENIMIENTO DE LAS ZONAS DE SEGURIDAD Y CANALES DE LOS AEROPUERTOS DE LA REGIONAL ANTIOQUIA
A2: ESTUDIO DE MERCADO
B3: FECHA : FEBRERO 15 DE 2017 | F3: PROMEDIO | H3: MEDIANA | J3: MEDIA ARMONICA | L3: MEDIA GEOMETRICA
A4: ÍTEM | B4: DESCRIPCIÓN | C4: Und | D4: Cant | E4: Rondas | F4: Valor Unitario | G4: TOTAL | H4: Valor Unitario | I4: TOTAL | J4: Valor Unitario | K4: TOTAL | L4: Valor Unitario | M4: TOTAL
B5: AEROPUERTO EL RIO DE AMALFI-ANTIOQUIA
A6: 1 | B6: Mantenimiento de zonas verdes. Roceria: zonas de seguridad y demas areas del aeropuerto, incluyendo la limpieza de las áreas perimetrales internas (desde las zonas de seguridad hasta el cerramiento). Consistente en desmonte y limpieza de zonas no boscosas. | C6: Ha | D6: 17 | E6: 4 | F6: ='Estudiodemercado DEF'!AL5 -> 324317 | G6: =ROUND((D6*E6*F6),0) -> 22053556 | H6: ='Estudiodemercado DEF'!AN5 -> 296224 | I6: =ROUND((D6*E6*H6),0) -> 20143232 | J6: ='Estudiodemercado DEF'!AP5 -> 310207 | K6: =ROUND((D6*E6*J6),0) -> 21094076 | L6: ='Estudiodemercado DEF'!AR5 -> 316235 | M6: =ROUND((D6*E6*L6),0) -> 21503980
A7: 2 | B7: Limpieza (desmalezado y evacuación sedimentos) en canales (en tierra o en concreto) de evacuación aguas, retiro y disposición de material sobrante a cualquier distancia en botadero autorizado. Consistente en mantenimiento de taludes, reconstrucción de canales y limpieza de cauce a cualquier ancho de canal. | C7: Ml | D7: 3000 | E7: 4 | F7: ='Estudiodemercado DEF'!AL6 -> 2265 | G7: =ROUND((D7*E7*F7),0) -> 27180000 | H7: ='Estudiodemercado DEF'!AN6 -> 1837 | I7: =ROUND((D7*E7*H7),0) -> 22044000 | J7: ='Estudiodemercado DEF'!AP6 -> 1971 | K7: =ROUND((D7*E7*J7),0) -> 23652000 | L7: ='Estudiodemercado DEF'!AR6 -> 2083 | M7: =ROUND((D7*E7*L7),0) -> 24996000
A8: 3 | B8: Limpieza de cerramiento internos y externos y limpieza a una altura maxima del cerramiento. Limpieza manual del cerramiento (mallas) con la implementación de la fumigación con un herbicida químico, en una franja de 3 metros alrededor del aeropuerto. Incluye Cargue y disposición de material sobrante a cualquier distancia en botadero autorizado | C8: Ml | D8: 2623 | E8: 4 | F8: ='Estudiodemercado DEF'!AL7 -> 2148 | G8: =ROUND((D8*E8*F8),0) -> 22536816 | H8: ='Estudiodemercado DEF'!AN7 -> 1890 | I8: =ROUND((D8*E8*H8),0) -> 19829880 | J8: ='Estudiodemercado DEF'!AP7 -> 2022 | K8: =ROUND((D8*E8*J8),0) -> 21214824 | L8: ='Estudiodemercado DEF'!AR7 -> 2078 | M8: =ROUND((D8*E8*L8),0) -> 21802376
A9: 4 | B9: Aplicación de matamatelezas (combatran, randall o similar) a todas las zonas de seguridad incluida la base del cerramiento y los canales de drenaje | C9: Ha | D9: 12 | E9: 4 | F9: ='Estudiodemercado DEF'!AL8 -> 280802 | G9: =ROUND((D9*E9*F9),0) -> 13478496 | H9: ='Estudiodemercado DEF'!AN8 -> 175862 | I9: =ROUND((D9*E9*H9),0) -> 8441376 | J9: ='Estudiodemercado DEF'!AP8 -> 196838 | K9: =ROUND((D9*E9*J9),0) -> 9448224 | L9: ='Estudiodemercado DEF'!AR8 -> 220596 | M9: =ROUND((D9*E9*L9),0) -> 10588608
B10: SUB TOTAL | G10: =SUM(G6:G9) -> 85248868 | I10: =SUM(I6:I9) -> 70458488 | K10: =SUM(K6:K9) -> 75409124 | M10: =SUM(M6:M9) -> 78890964
B11: IVA del 19% | F11: 0.19 | G11: =ROUND(G10*F11,0) -> 16197285 | H11: 0.19 | I11: =ROUND(I10*H11,0) -> 13387113 | J11: 0.19 | K11: =ROUND(K10*J11,0) -> 14327734 | L11: 0.19 | M11: =ROUND(M10*L11,0) -> 14989283
B12: COSTO TOTAL (1) | G12: =SUM(G10:G11) -> 101446153 | I12: =SUM(I10:I11) -> 83845601 | K12: =SUM(K10:K11) -> 89736858 | M12: =SUM(M10:M11) -> 93880247
B14: AEROPUERTO ALBERTO JARAMILLO DE OTÚ - REMEDIOS - ANTIOQUIA | G14: =ROUND((D14*E14*F14),0) -> 0 | I14: =ROUND((D14*E14*H14),0) -> 0 | K14: =ROUND((D14*E14*J14),0) -> 0 | M14: =ROUND((D14*E14*L14),0) -> 0
A15: 5 | B15: Mantenimiento de zonas verdes. Rocería: zonas de seguridad y demás áreas del aeropuerto, incluyendo la limpieza de las áreas perimetrales internas (desde las zonas de seguridad hasta el cerramiento). Consistente en desmonte y limpieza de zonas no boscosas. | C15: Ha | D15: 20.6 | E15: 4 | F15: ='Estudiodemercado DEF'!AJ17 -> 344478 | G15: =ROUND((D15*E15*F15),0) -> 28384987 | H15: ='Estudiodemercado DEF'!AL17 -> 315193 | I15: =ROUND((D15*E15*H15),0) -> 25971903 | J15: ='Estudiodemercado DEF'!AN17 -> 330163 | K15: =ROUND((D15*E15*J15),0) -> 27205431 | L15: ='Estudiodemercado DEF'!AP17 -> 336545 | M15: =ROUND((D15*E15*L15),0) -> 27731308
A16: 6 | B16: Limpieza (desmalezado y evacuación sedimentos) en canales (en tierra o en concreto) de evacuación aguas, retiro y disposición de material sobrante a cualquier distancia en botadero autorizado. Consistente en mantenimiento de taludes, reconstrucción de canales y limpieza de cauce a cualquier ancho de canal. | C16: Ml | D16: 2940 | E16: 4 | F16: ='Estudiodemercado DEF'!AJ18 -> 2356 | G16: =ROUND((D16*E16*F16),0) -> 27706560 | H16: ='Estudiodemercado DEF'!AL18 -> 2100 | I16: =ROUND((D16*E16*H16),0) -> 24696000 | J16: ='Estudiodemercado DEF'!AN18 -> 2056 | K16: =ROUND((D16*E16*J16),0) -> 24178560 | L16: ='Estudiodemercado DEF'!AP18 -> 2173 | M16: =ROUND((D16*E16*L16),0) -> 25554480
A17: 7 | B17: Limpieza de guarda fuegos de cerramiento internos y externos y limpieza del cerramiento a una altura máxima del cerramiento. Limpieza manual del cerramiento (mallas) con la implementación de la fumigación con un herbicida químico, en una franja de 3 metros alrededor del aeropuerto. Incluye Cargue y disposición de material sobrante a cualquier distancia en botadero autorizado | C17: Ml | D17: 3110 | E17: 4 | F17: ='Estudiodemercado DEF'!AJ19 -> 2222 | G17: =ROUND((D17*E17*F17),0) -> 27641680 | H17: ='Estudiodemercado DEF'!AL19 -> 1953 | I17: =ROUND((D17*E17*H17),0) -> 24295320 | J17: ='Estudiodemercado DEF'!AN19 -> 2089 | K17: =ROUND((D17*E17*J17),0) -> 25987160 | L17: ='Estudiodemercado DEF'!AP19 -> 2150 | M17: =ROUND((D17*E17*L17),0) -> 26746000
A18: 8 | B18: Aplicación de matamalezas (combatran, randall o similar) a todas las zonas de seguridad incluida la base del cerramiento y los canales de drenaje | C18: Ha | D18: 12 | E18: 4 | F18: ='Estudiodemercado DEF'!AJ20 -> 276575 | G18: =ROUND((D18*E18*F18),0) -> 13275600 | H18: ='Estudiodemercado DEF'!AL20 -> 180000 | I18: =ROUND((D18*E18*H18),0) -> 8640000 | J18: ='Estudiodemercado DEF'!AN20 -> 204677 | K18: =ROUND((D18*E18*J18),0) -> 9824496 | L18: ='Estudiodemercado DEF'!AP20 -> 225374 | M18: =ROUND((D18*E18*L18),0) -> 10817952
A19: 9 | B19: Limpieza de bordes de pista mediante maquinaria pesada (motoniveladora) y/o herramientas menores (azadón etc.). Cinco (5) metros a cada lado. Retiro de material vegetal que esta invadiendo la pista. Incluye retiro y disposición de material en botadero oficial. | C19: ML | D19: =ROUND(944*2+17.6*2,0) -> 1923 | E19: 4 | F19: ='Estudiodemercado DEF'!AJ21 -> 2847 | G19: =ROUND((D19*E19*F19),0) -> 21899124 | H19: ='Estudiodemercado DEF'!AL21 -> 2800 | I19: =ROUND((D19*E19*H19),0) -> 21537600 | J19: ='Estudiodemercado DEF'!AN21 -> 2582 | K19: =ROUND((D19*E19*J19),0) -> 19860744 | L19: ='Estudiodemercado DEF'!AP21 -> 2715 | M19: =ROUND((D19*E19*L19),0) -> 20883780
A20: 10 | B20: Tala de arboles y arbustos. Consistente en desmonte y limpieza de zonas boscosas. Incluye Cargue y disposición de material sobrante a cualquier distancia en botadero autorizado. Limpieza destronque de raices. Areas en zonas de seguridad y demas areas del aeropuerto con retiro de material vegetal fuera del sitio. Se requiere se realice el tramite ante la Corporacion ambiental de permisos de tala y poda. | C20: Ha | D20: 2 | E20: 1 | F20: ='Estudiodemercado DEF'!AJ22 -> 1187524 | G20: =ROUND((D20*E20*F20),0) -> 2375048 | H20: ='Estudiodemercado DEF'!AL22 -> 1050000 | I20: =ROUND((D20*E20*H20),0) -> 2100000 | J20: ='Estudiodemercado DEF'!AN22 -> 1094653 | K20: =ROUND((D20*E20*J20),0) -> 2189306 | L20: ='Estudiodemercado DEF'!AP22 -> 1137749 | M20: =ROUND((D20*E20*L20),0) -> 2275498
B21: SUB TOTAL | G21: =SUM(G15:G20) -> 121282999 | I21: =SUM(I15:I20) -> 107240823 | K21: =SUM(K15:K20) -> 109245697 | M21: =SUM(M15:M20) -> 114009018
B22: IVA del 19% | F22: 0.19 | G22: =ROUND(G21*F22,0) -> 23043770 | H22: 0.19 | I22: =ROUND(I21*H22,0) -> 20375756 | J22: 0.19 | K22: =ROUND(K21*J22,0) -> 20756682 | L22: 0.19 | M22: =ROUND(M21*L22,0) -> 21661713
B23: COSTO TOTAL (2) | G23: =SUM(G21:G22) -> 144326769 | I23: =SUM(I21:I22) -> 127616579 | K23: =SUM(K21:K22) -> 130002379 | M23: =SUM(M21:M22) -> 135670731
B25: =UPPER("aeropuerto Berastegui de Cienaga de Oro - Cordoba") -> AEROPUERTO BERASTEGUI DE CIENAGA DE ORO - CORDOBA | G25: =ROUND((D25*E25*F25),0) -> 0 | I25: =ROUND((D25*E25*H25),0) -> 0 | K25: =ROUND((D25*E25*J25),0) -> 0 | M25: =ROUND((D25*E25*L25),0) -> 0
A26: 1 | B26: Mantenimiento de zonas verdes. Roceria: zonas de seguridad y demas areas del aeropuerto, incluyendo la limpieza de las áreas perimetrales internas (desde las zonas de seguridad hasta el cerramiento). Consistente en desmonte y limpieza de zonas no boscosas. | C26: Ha | D26: 33.25 | E26: 4 | F26: ='Estudiodemercado DEF'!AL35 -> 319799 | G26: =ROUND((D26*E26*F26),0) -> 42533267 | H26: ='Estudiodemercado DEF'!AN35 -> 302406 | I26: =ROUND((D26*E26*H26),0) -> 40219998 | J26: ='Estudiodemercado DEF'!AP35 -> 308302 | K26: =ROUND((D26*E26*J26),0) -> 41004166 | L26: ='Estudiodemercado DEF'!AR35 -> 312988 | M26: =ROUND((D26*E26*L26),0) -> 41627404
A27: 2 | B27: Limpieza de guarda fuegos de cerramiento internos y externos y limpieza del cerramiento a una altura maxima del cerramiento. Limpieza manual del cerramiento (mallas) con la implementación de la fumigación con un herbicida químico, en una franja de 3 metros alrededor del aeropuerto. Incluye Cargue y disposición de material sobrante a cualquier distancia en botadero autorizado | C27: Ml | D27: 4206 | E27: 4 | F27: ='Estudiodemercado DEF'!AL36 -> 2634 | G27: =ROUND((D27*E27*F27),0) -> 44314416 | H27: ='Estudiodemercado DEF'!AN36 -> 2236 | I27: =ROUND((D27*E27*H27),0) -> 37618464 | J27: ='Estudiodemercado DEF'!AP36 -> 2383 | K27: =ROUND((D27*E27*J27),0) -> 40091592 | L27: ='Estudiodemercado DEF'!AR36 -> 2493 | M27: =ROUND((D27*E27*L27),0) -> 41942232
A28: 3 | B28: Limpieza (desmalezado y evacuación sedimentos) en canales (en tierra o en concreto) de evacuación aguas, retiro y disposición de material sobrante a cualquier distancia en botadero autorizado. Consistente en mantenimiento de taludes, reconstrucción de canales y limpieza de cauce a cualquier ancho de canal. | C28: Ml | D28: 2567 | E28: 4 | F28: ='Estudiodemercado DEF'!AL37 -> 2624 | G28: =ROUND((D28*E28*F28),0) -> 26943232 | H28: ='Estudiodemercado DEF'!AN37 -> 2137 | I28: =ROUND((D28*E28*H28),0) -> 21942716 | J28: ='Estudiodemercado DEF'!AP37 -> 2301 | K28: =ROUND((D28*E28*J28),0) -> 23626668 | L28: ='Estudiodemercado DEF'!AR37 -> 2426 | M28: =ROUND((D28*E28*L28),0) -> 24910168
A29: 4 | B29: Aplicación de matamatelezas (combatran, randall o similar) a todas las zonas de seguridad incluida la base del cerramiento y los canales de drenaje | C29: Ha | D29: 14 | E29: 4 | F29: ='Estudiodemercado DEF'!AL38 -> 306143 | G29: =ROUND((D29*E29*F29),0) -> 17144008 | H29: ='Estudiodemercado DEF'!AN38 -> 196064 | I29: =ROUND((D29*E29*H29),0) -> 10979584 | J29: ='Estudiodemercado DEF'!AP38 -> 222553 | K29: =ROUND((D29*E29*J29),0) -> 12462968 | L29: ='Estudiodemercado DEF'!AR38 -> 249489 | M29: =ROUND((D29*E29*L29),0) -> 13971384
B30: SUB TOTAL | G30: =SUM(G26:G29) -> 130934923 | I30: =SUM(I26:I29) -> 110760762 | K30: =SUM(K26:K29) -> 117185394 | M30: =SUM(M26:M29) -> 122451188
B31: IVA del 19% | F31: 0.19 | G31: =ROUND(G30*F31,0) -> 24877635 | H31: 0.19 | I31: =ROUND(I30*H31,0) -> 21044545 | J31: 0.19 | K31: =ROUND(K30*J31,0) -> 22265225 | L31: 0.19 | M31: =ROUND(M30*L31,0) -> 23265726
B32: COSTO TOTAL (3) | G32: =SUM(G30:G31) -> 155812558 | I32: =SUM(I30:I31) -> 131805307 | K32: =SUM(K30:K31) -> 139450619 | M32: =SUM(M30:M31) -> 145716914
B34: =UPPER("aeropuerto El Pindo de Montelibano - Cordoba") -> AEROPUERTO EL PINDO DE MONTELIBANO - CORDOBA | G34: =ROUND((D34*E34*F34),0) -> 0 | I34: =ROUND((D34*E34*H34),0) -> 0 | K34: =ROUND((D34*E34*J34),0) -> 0 | M34: =ROUND((D34*E34*L34),0) -> 0
A35: 5 | B35: Mantenimiento de zonas verdes. Roceria: zonas de seguridad y demas areas del aeropuerto, incluyendo la limpieza de las áreas perimetrales internas (desde las zonas de seguridad hasta el cerramiento). Consistente en desmonte y limpieza de zonas no boscosas. | C35: Ha | D35: 13 | E35: 4 | F35: ='Estudiodemercado DEF'!AJ49 -> 324289 | G35: =ROUND((D35*E35*F35),0) -> 16863028 | H35: ='Estudiodemercado DEF'!AL49 -> 305632 | I35: =ROUND((D35*E35*H35),0) -> 15892864 | J35: ='Estudiodemercado DEF'!AN49 -> 309804 | K35: =ROUND((D35*E35*J35),0) -> 16109808 | L35: ='Estudiodemercado DEF'!AP49 -> 315763 | M35: =ROUND((D35*E35*L35),0) -> 16419676
A36: 6 | B36: Limpieza de cerramiento internos y externos y limpieza a una altura maxima del cerramiento. Limpieza manual del cerramiento (mallas) con la implementación de la fumigación con un herbicida químico, en una franja de 3 metros alrededor del aeropuerto. Incluye Cargue y disposición de material sobrante a cualquier distancia en botadero autorizado | C36: Ml | D36: 2792 | E36: 4 | F36: ='Estudiodemercado DEF'!AJ50 -> 2387 | G36: =ROUND((D36*E36*F36),0) -> 26658016 | H36: ='Estudiodemercado DEF'!AL50 -> 2104 | I36: =ROUND((D36*E36*H36),0) -> 23497472 | J36: ='Estudiodemercado DEF'!AN50 -> 2262 | K36: =ROUND((D36*E36*J36),0) -> 25262016 | L36: ='Estudiodemercado DEF'!AP50 -> 2320 | M36: =ROUND((D36*E36*L36),0) -> 25909760
A37: 7 | B37: Aplicación de matamatelezas (combatran, randall o similar) a todas las zonas de seguridad incluida la base del cerramiento y los canales de drenaje | C37: Ha | D37: 12 | E37: 4 | F37: ='Estudiodemercado DEF'!AJ51 -> 293304 | G37: =ROUND((D37*E37*F37),0) -> 14078592 | H37: ='Estudiodemercado DEF'!AL51 -> 180000 | I37: =ROUND((D37*E37*H37),0) -> 8640000 | J37: ='Estudiodemercado DEF'!AN51 -> 204149 | K37: =ROUND((D37*E37*J37),0) -> 9799152 | L37: ='Estudiodemercado DEF'!AP51 -> 229847 | M37: =ROUND((D37*E37*L37),0) -> 11032656
A38: 8 | B38: Limpieza de bordes de pista mediante maquinaria pesada (motoniveladora) y/o herramientas menores (azadón etc.). Cinco (5) metros a cada lado. Retiro de material vegetal que esta invadiendo la pista. Incluye retiro y disposición de material en botadero oficial. | C38: ML | D38: =1100*2 -> 2200 | E38: 4 | F38: ='Estudiodemercado DEF'!AJ52 -> 2808 | G38: =ROUND((D38*E38*F38),0) -> 24710400 | H38: ='Estudiodemercado DEF'!AL52 -> 2800 | I38: =ROUND((D38*E38*H38),0) -> 24640000 | J38: ='Estudiodemercado DEF'!AN52 -> 2514 | K38: =ROUND((D38*E38*J38),0) -> 22123200 | L38: ='Estudiodemercado DEF'!AP52 -> 2660 | M38: =ROUND((D38*E38*L38),0) -> 23408000
B39: SUB TOTAL | G39: =SUM(G35:G38) -> 82310036 | I39: =SUM(I35:I38) -> 72670336 | K39: =SUM(K35:K38) -> 73294176 | M39: =SUM(M35:M38) -> 76770092
B40: IVA del 19% | F40: 0.19 | G40: =ROUND(G39*F40,0) -> 15638907 | H40: 0.19 | I40: =ROUND(I39*H40,0) -> 13807364 | J40: 0.19 | K40: =ROUND(K39*J40,0) -> 13925893 | L40: 0.19 | M40: =ROUND(M39*L40,0) -> 14586317
B41: COSTO TOTAL (4) | G41: =SUM(G39:G40) -> 97948943 | I41: =SUM(I39:I40) -> 86477700 | K41: =SUM(K39:K40) -> 87220069 | M41: =SUM(M39:M40) -> 91356409
B43: =UPPER("aeropuerto Morela de Puerto Berrio - Antioquia") -> AEROPUERTO MORELA DE PUERTO BERRIO - ANTIOQUIA | G43: =ROUND((D43*E43*F43),0) -> 0 | I43: =ROUND((D43*E43*H43),0) -> 0 | K43: =ROUND((D43*E43*J43),0) -> 0 | M43: =ROUND((D43*E43*L43),0) -> 0
A44: 1 | B44: Mantenimiento de zonas verdes. Roceria: zonas de seguridad y demas areas del aeropuerto, incluyendo la limpieza de las áreas perimetrales internas (desde las zonas de seguridad hasta el cerramiento). Consistente en desmonte y limpieza de zonas no boscosas. | C44: Ha | D44: 14 | E44: 4 | F44: ='Estudiodemercado DEF'!AJ64 -> 345702 | G44: =ROUND((D44*E44*F44),0) -> 19359312 | H44: ='Estudiodemercado DEF'!AL64 -> 315000 | I44: =ROUND((D44*E44*H44),0) -> 17640000 | J44: ='Estudiodemercado DEF'!AN64 -> 331981 | K44: =ROUND((D44*E44*J44),0) -> 18590936 | L44: ='Estudiodemercado DEF'!AP64 -> 338056 | M44: =ROUND((D44*E44*L44),0) -> 18931136
...

Sheet Estudiodemercado Roceria
A1: OBJETO: CONTRATAR EL MANTENIMIENTO DE LAS ZONAS DE SEGURIDAD Y CANALES DEL AEROPUERTO EL RIO DE AMALFI-ANTIOQUIA
A2: ESTUDIO DE MERCADO
