Workbook
Name agricola: Cotizaciones_Reactivos!$B:$C
Name dani: #REF!

Sheet Cotizaciones_Reactivos
A1: Ítem | B1: Descripción técnica | C1: Marca | D1: Presentación | E1: 1.03 | F1: Información 2018 | H1: Información 2019 | J1: Información 2020 | L1: PROMEDIO 2018 - 2020 + IPC | N1: Quimicos y Reactivos S.A.S | T1: ARC ANÁLISIS | Z1: LMV S.A.S | AF1: DISPROQUILAB LIMITADA | AL1: Elementos Quimicos | AR1: Clinicos Isla S.A.S | AX1: LABBRANDS | BD1: QUIMIOLAB | BJ1: DISTRIBUIDORA Y COMERCIALIZADORA DIZAR LTDA | BP1: SANITAS S.A.S | BV1: AVANTIKA COLOMBIA SAS | CB1: Inversiones Jimsa Ltda | CH1: MYC LAB S.A.S | CN1: INSOLAB | CT1: QUIMITRÓNICA | CZ1: Purificación y Análisis PAF | DF1: Exogena Ltda | DL1: ARC ANÁLISIS 2 | DR1: EXOGENA LTDA 2 | DX1: BD | ED1: ADN | EJ1: CATVER | EP1: TECNOLOGÍAS OROZCO TORRES | FH1: SUMA TOTAL | FI1: Cantidad de cotizaciones | FJ1: PROMEDIO
E2: Cantidad TOTAL | F2: Valor unitario con IVA | G2: ADJUDICACIÓN VR. UNIT. | H2: Valor unitario promedio | I2: ADJUDICACIÓN VR. UNIT. | J2: Valor unitario con IVA | K2: ADJUDICACIÓN VR. UNIT. | L2: Valor unitario con IVA | M2: ADJUDICACIÓN VR. UNIT. | N2: Vlr. Unitario Sin IVA | O2: IVA | P2: Valor unitario con IVA | Q2: Presentación | R2: Marca | S2: Observaciones | T2: Vlr. Unitario Sin IVA | U2: IVA | V2: Valor unitario con IVA | W2: Presentación | X2: Marca | Y2: Observaciones | Z2: Vlr. Unitario Sin IVA | AA2: IVA | AB2: Valor unitario con IVA | AC2: Presentación | AD2: Marca | AE2: Observaciones | AF2: Vlr. Unitario Sin IVA | AG2: IVA | AH2: Valor unitario con IVA | AI2: Presentación | AJ2: Marca | AK2: Observaciones | AL2: Vlr. Unitario Sin IVA | AM2: IVA | AN2: Valor unitario con IVA | AO2: Presentación | AP2: Marca | AQ2: Observaciones | AR2: Vlr. Unitario Sin IVA | AS2: IVA | AT2: Valor unitario con IVA | AU2: Presentación | AV2: Marca | AW2: Observaciones | AX2: Vlr. Unitario Sin IVA | AY2: IVA | AZ2: Valor unitario con IVA | BA2: Presentación | BB2: Marca | BC2: Observaciones | BD2: Vlr. Unitario Sin IVA | BE2: IVA | BF2: Valor unitario con IVA | BG2: Presentación | BH2: Marca | BI2: Observaciones | BJ2: Vlr. Unitario Sin IVA | BK2: IVA | BL2: Valor unitario con IVA | BM2: Presentación | BN2: Marca | BO2: Observaciones | BP2: Vlr. Unitario Sin IVA | BQ2: IVA | BR2: Valor unitario con IVA | BS2: Presentación | BT2: Marca | BU2: Observaciones | BV2: Vlr. Unitario Sin IVA | BW2: IVA | BX2: Valor unitario con IVA | BY2: Presentación | BZ2: Marca | CA2: Observaciones | CB2: Vlr. Unitario Sin IVA | CC2: IVA | CD2: Valor unitario con IVA | CE2: Presentación | CF2: Marca | CG2: Observaciones | CH2: Vlr. Unitario Sin IVA | CI2: IVA | CJ2: Valor unitario con IVA | CK2: Presentación | CL2: Marca | CM2: Observaciones | CN2: Vlr. Unitario Sin IVA | CO2: IVA | CP2: Valor unitario con IVA | CQ2: Presentación | CR2: Marca | CS2: Observaciones | CT2: Vlr. Unitario Sin IVA | CU2: IVA | CV2: Valor unitario con IVA | CW2: Presentación | CX2: Marca | CY2: Observaciones | CZ2: Vlr. Unitario Sin IVA | DA2: IVA | DB2: Valor unitario con IVA | DC2: Presentación | DD2: Marca | DE2: Observaciones | DF2: Vlr. Unitario Sin IVA | DG2: IVA | DH2: Valor unitario con IVA | DI2: Presentación | DJ2: Marca | DK2: Observaciones | DL2: Vlr. Unitario Sin IVA | DM2: IVA | DN2: Valor unitario con IVA | DO2: Presentación | DP2: Marca | DQ2: Observaciones | DR2: Vlr. Unitario Sin IVA | DS2: IVA | DT2: Valor unitario con IVA | DU2: Presentación | DV2: Marca | DW2: Observaciones | DX2: Vlr. Unitario Sin IVA | DY2: IVA | DZ2: Valor unitario con IVA | EA2: Presentación | EB2: Marca | EC2: Observaciones | ED2: Vlr. Unitario Sin IVA | EE2: IVA | EF2: Valor unitario con IVA | EG2: Presentación | EH2: Marca | EI2: Observaciones | EJ2: Vlr. Unitario Sin IVA | EK2: IVA | EL2: Valor unitario con IVA | EM2: Presentación | EN2: Marca | EO2: Observaciones | EP2: Vlr. Unitario Sin IVA | EQ2: IVA | ER2: Valor unitario con IVA | ES2: Presentación | ET2: Marca | EU2: Observaciones | EV2: Vlr. Unitario Sin IVA | EW2: IVA | EX2: Valor unitario con IVA | EY2: Presentación | EZ2: Marca | FA2: Observaciones | FB2: Vlr. Unitario Sin IVA | FC2: IVA | FD2: Valor unitario con IVA | FE2: Presentación | FF2: Marca | FG2: Observaciones
A3: =Distribución_Reactivos!A3 -> 1 | B3: =Distribución_Reactivos!B3 -> 2-Nitrobenzaldehido | C3: =Distribución_Reactivos!C3 -> Sigma N10802 | D3: =Distribución_Reactivos!D3 -> Frasco x 2g | E3: 1 | F3: 148298.1 | G3: 148274 | H3: 174809.95 | I3: 0 | J3: 225477.23 | K3: 195160 | L3: =AVERAGE(F3,H3,J3) -> 182861.76 | M3: =AVERAGE(G3,K3)*1.03 -> 176868.51 | AR3: 345600 | AS3: =+AR3*0.19 -> 65664 | AT3: =+AR3+AS3 -> 411264 | AU3: Frasco x 25g | AV3: Santa Cruz Biotechnology | BV3: 394800 | BW3: =BV3*19% -> 75012 | BX3: =+BV3+BW3 -> 469812 | BY3: frasco x 2 gr | BZ3: SIGMA | CH3: 402696 | CI3: =+CH3*0.19 -> 76512.24 | CJ3: =+CH3+CI3 -> 479208.24 | CK3: frasco x 2 gr | CL3: SIGMA | CT3: 117500 | CU3: 22325 | CV3: =+CT3+CU3 -> 139825 | FH3: =SUM(M3,P3,V3,AB3,AH3,AN3,AT3,AZ3,BF3,BL3,BR3,BX3,CD3,CJ3,CP3,CV3,DB3,DH3,DN3,DT3,DZ3,EF3,EL3,ER3,EX3,FD3) -> 1676977.8 | FI3: =COUNTA(M3,N3,T3,Z3,AF3,AL3,AR3,AX3,BD3,BJ3,BP3,BV3,CB3,CH3,CN3,CT3,CZ3,DF3,DL3,DR3,DX3,ED3,EJ3,EP3,EV3,FB3) -> 5 | FJ3: =IFERROR(FH3/FI3," ") -> 335395.55
A4: =Distribución_Reactivos!A4 -> 2 | B4: =Distribución_Reactivos!B4 -> 5-Bromo-4-chloro-3-indolyl phosphate p-toluidine salt (BCIP)- Tabletas | C4: =Distribución_Reactivos!C4 -> Sigma B 0274 | D4: =Distribución_Reactivos!D4 -> Frasco x 25und | E4: 1 | F4: 0 | G4: 0 | H4: 0 | I4: 0 | J4: 514080 | K4: 0 | L4: =J4 -> 514080 | BV4: 5019000 | BW4: =BV4*19% -> 953610 | BX4: =+BV4+BW4 -> 5972610 | BY4: frasco x 25und | BZ4: SIGMA | CI4: =+CH4*0.19 -> 0 | CJ4: =+CH4+CI4 -> 0 | CT4: 2688750 | CU4: 510862.5 | CV4: =+CT4+CU4 -> 3199612.5 | FH4: =SUM(M4,P4,V4,AB4,AH4,AN4,AT4,AZ4,BF4,BL4,BR4,BX4,CD4,CJ4,CP4,CV4,DB4,DH4,DN4,DT4,DZ4,EF4,EL4,ER4,EX4,FD4) -> 9172222.5 | FI4: =COUNTA(M4,N4,T4,Z4,AF4,AL4,AR4,AX4,BD4,BJ4,BP4,BV4,CB4,CH4,CN4,CT4,CZ4,DF4,DL4,DR4,DX4,ED4,EJ4,EP4,EV4,FB4) -> 2 | FJ4: =IFERROR(FH4/FI4," ") -> 4586111.2
A5: =Distribución_Reactivos!A5 -> 3 | B5: =Distribución_Reactivos!B5 -> Aceite de clavo | C5: =Distribución_Reactivos!C5 -> Cualquier marca | D5: =Distribución_Reactivos!D5 -> Frasco x 250ml | E5: 1 | F5: 205513 | G5: 202419 | H5: 292987.37 | I5: 0 | J5: 406149.97 | K5: 0 | L5: =AVERAGE(F5,H5,J5) -> 301550.11 | M5: =G5*1.03 -> 208491.57 | AF5: 250000 | AG5: =AF5*19% -> 47500 | AH5: =+AF5+AG5 -> 297500 | AR5: 504000 | AS5: =+AR5*0.19 -> 95760 | AT5: =+AR5+AS5 -> 599760 | AU5: Frasco x 100 ml | AV5: Santa Cruz Biotechnology | BV5: 311100 | BW5: =BV5*19% -> 59109 | BX5: =+BV5+BW5 -> 370209 | BY5: frasco x 250 ml | BZ5: ENTHOS | CB5: 365000 | CC5: =+CB5*19% -> 69350 | CD5: =+CC5+CB5 -> 434350 | CH5: 329766 | CI5: =+CH5*0.19 -> 62655.54 | CJ5: =+CH5+CI5 -> 392421.54 | CK5: frasco x 250 ml | CL5: ENTHOS | FH5: =SUM(M5,P5,V5,AB5,AH5,AN5,AT5,AZ5,BF5,BL5,BR5,BX5,CD5,CJ5,CP5,CV5,DB5,DH5,DN5,DT5,DZ5,EF5,EL5,ER5,EX5,FD5) -> 2302732.1 | FI5: =COUNTA(M5,N5,T5,Z5,AF5,AL5,AR5,AX5,BD5,BJ5,BP5,BV5,CB5,CH5,CN5,CT5,CZ5,DF5,DL5,DR5,DX5,ED5,EJ5,EP5,EV5,FB5) -> 6 | FJ5: =IFERROR(FH5/FI5," ") -> 383788.68
A6: =Distribución_Reactivos!A6 -> 4 | B6: =Distribución_Reactivos!B6 -> Aceite de inmersión | C6: =Distribución_Reactivos!C6 -> Cualquier marca | D6: =Distribución_Reactivos!D6 -> Frasco x 100ml | E6: 1 | F6: 173504.38 | G6: 37485 | H6: 105576.91 | I6: 80325 | J6: 111045.19 | K6: 114716 | L6: =AVERAGE(F6,H6,J6) -> 130042.16 | M6: =AVERAGE(G6,I6,K6)*1.03 -> 79833.927 | N6: 100500 | O6: =+N6*0.19 -> 19095 | P6: =+N6+O6 -> 119595 | Q6: Frasco x 100 ml. | R6: CARLO ERBA | AF6: 120000 | AG6: =AF6*19% -> 22800 | AH6: =+AF6+AG6 -> 142800 | AL6: 124000 | AM6: =+AL6*0.19 -> 23560 | AN6: =+AL6+AM6 -> 147560 | AO6: Frasco x 100ml | AP6: PANREAC | AR6: 122668 | AS6: =+AR6*0.19 -> 23306.92 | AT6: =+AR6+AS6 -> 145974.92 | AU6: Frasco x 100 ml | AV6: Panreac | BV6: 85700 | BW6: =BV6*19% -> 16283 | BX6: =+BV6+BW6 -> 101983 | BY6: frasco x 100 ml | BZ6: BIOQUIGEN | CB6: 45200 | CC6: =+CB6*19% -> 8588 | CD6: =+CC6+CB6 -> 53788 | CH6: 86557 | CI6: =+CH6*0.19 -> 16445.83 | CJ6: =+CH6+CI6 -> 103002.83 | CK6: frasco x 100 ml | CL6: BIOQUIGEN | FH6: =SUM(M6,P6,V6,AB6,AH6,AN6,AT6,AZ6,BF6,BL6,BR6,BX6,CD6,CJ6,CP6,CV6,DB6,DH6,DN6,DT6,DZ6,EF6,EL6,ER6,EX6,FD6) -> 894537.68 | FI6: =COUNTA(M6,N6,T6,Z6,AF6,AL6,AR6,AX6,BD6,BJ6,BP6,BV6,CB6,CH6,CN6,CT6,CZ6,DF6,DL6,DR6,DX6,ED6,EJ6,EP6,EV6,FB6) -> 8 | FJ6: =IFERROR(FH6/FI6," ") -> 111817.21
A7: =Distribución_Reactivos!A7 -> 5 | B7: =Distribución_Reactivos!B7 -> Aceite mineral | C7: =Distribución_Reactivos!C7 -> Cualquier marca | D7: =Distribución_Reactivos!D7 -> Frasco x 50ml | E7: 1 | F7: 0 | G7: 0 | H7: 24253.39 | I7: 0 | J7: 26775 | K7: 26180 | L7: =AVERAGE(H7,J7) -> 25514.195 | M7: =K7*1.03 -> 26965.4 | AF7: 22000 | AG7: =AF7*19% -> 4180 | AH7: =+AF7+AG7 -> 26180 | AL7: =35000/20 -> 1750 | AM7: =+AL7*0.19 -> 332.5 | AN7: =+AL7+AM7 -> 2082.5 | AO7: Frasco x 1 litro | AP7: CHEMI | AR7: 144000 | AS7: =+AR7*0.19 -> 27360 | AT7: =+AR7+AS7 -> 171360 | AU7: Frasco x 5 ml | AV7: Santa Cruz Biotechnology | BV7: 21800 | BW7: =BV7*19% -> 4142 | BX7: =+BV7+BW7 -> 25942 | BY7: frasco x 50 ml | BZ7: JULIAO | CB7: 15500 | CC7: =+CB7*19% -> 2945 | CD7: =+CC7+CB7 -> 18445 | CH7: 23108 | CI7: =+CH7*0.19 -> 4390.52 | CJ7: =+CH7+CI7 -> 27498.52 | CK7: frasco x 50 ml | CL7: JULIAO | CT7: 288750 | CU7: =+CT7*0 -> 0 | CV7: =+CT7+CU7 -> 288750 | FH7: =SUM(M7,P7,V7,AB7,AH7,AN7,AT7,AZ7,BF7,BL7,BR7,BX7,CD7,CJ7,CP7,CV7,DB7,DH7,DN7,DT7,DZ7,EF7,EL7,ER7,EX7,FD7) -> 587223.42 | FI7: =COUNTA(M7,N7,T7,Z7,AF7,AL7,AR7,AX7,BD7,BJ7,BP7,BV7,CB7,CH7,CN7,CT7,CZ7,DF7,DL7,DR7,DX7,ED7,EJ7,EP7,EV7,FB7) -> 8 | FJ7: =IFERROR(FH7/FI7," ") -> 73402.928
A8: =Distribución_Reactivos!A8 -> 6 | B8: =Distribución_Reactivos!B8 -> Acetato de amonio grado masas | C8: =Distribución_Reactivos!C8 -> LiChropur (número en catálogo Millipore-Sigma 73594) | D8: =Distribución_Reactivos!D8 -> Frasco x 100g | E8: 1 | F8: 2006533.4 | G8: 2006459 | H8: 1361631.6 | I8: 0 | J8: 1338434.7 | K8: 0 | L8: =AVERAGE(F8,H8,J8) -> 1568866.6 | M8: =G8*1.03 -> 2066652.8 | AR8: 136800 | AS8: =+AR8*0.19 -> 25992 | AT8: =+AR8+AS8 -> 162792 | AU8: Frasco x 100g | AV8: Santa Cruz Biotechnology | AW8: sc-203818 | BV8: 3507000 | BW8: =BV8*19% -> 666330 | BX8: =+BV8+BW8 -> 4173330 | BY8: frasco x 100 gr | BZ8: SIGMA | CT8: 175000 | CU8: 33250 | CV8: =+CT8+CU8 -> 208250 | CZ8: 2928300 | DA8: =+CZ8*0.19 -> 556377 | DB8: =+CZ8+DA8 -> 3484677 | DC8: 100g | DD8: Merck | DE8: 73594100GF | FH8: =SUM(M8,P8,V8,AB8,AH8,AN8,AT8,AZ8,BF8,BL8,BR8,BX8,CD8,CJ8,CP8,CV8,DB8,DH8,DN8,DT8,DZ8,EF8,EL8,ER8,EX8,FD8) -> 10095702 | FI8: =COUNTA(M8,N8,T8,Z8,AF8,AL8,AR8,AX8,BD8,BJ8,BP8,BV8,CB8,CH8,CN8,CT8,CZ8,DF8,DL8,DR8,DX8,ED8,EJ8,EP8,EV8,FB8) -> 5 | FJ8: =IFERROR(FH8/FI8," ") -> 2019140.4
A9: =Distribución_Reactivos!A9 -> 7 | B9: =Distribución_Reactivos!B9 -> Acetato de etilo grado masas | C9: =Distribución_Reactivos!C9 -> Sigma Aldrich / Merck / JT Baker o equivalente | D9: =Distribución_Reactivos!D9 -> Frasco x 1 litro | E9: 1 | F9: 0 | G9: 0 | H9: 351635.2 | I9: 0 | J9: 608328 | K9: 0 | L9: =AVERAGE(H9,J9) -> 479981.6 | AR9: 511200 | AS9: =+AR9*0.19 -> 97128 | AT9: =+AR9+AS9 -> 608328 | AU9: Frasco x 1 litro | AV9: Santa Cruz Biotechnology | BV9: 400300 | BW9: =BV9*19% -> 76057 | BX9: =+BV9+BW9 -> 476357 | BY9: frasco x 1 litro | BZ9: JT BAKER | CH9: 428321 | CI9: =+CH9*0.19 -> 81380.99 | CJ9: =+CH9+CI9 -> 509701.99 | CK9: frasco x 1 litro | CL9: JT BAKER | CZ9: 168276 | DA9: =+CZ9*0.19 -> 31972.44 | DB9: =+CZ9+DA9 -> 200248.44 | DC9: 1 LT | DD9: Merck | DE9: CTRM1008681000 | FH9: =SUM(M9,P9,V9,AB9,AH9,AN9,AT9,AZ9,BF9,BL9,BR9,BX9,CD9,CJ9,CP9,CV9,DB9,DH9,DN9,DT9,DZ9,EF9,EL9,ER9,EX9,FD9) -> 1794635.4 | FI9: =COUNTA(M9,N9,T9,Z9,AF9,AL9,AR9,AX9,BD9,BJ9,BP9,BV9,CB9,CH9,CN9,CT9,CZ9,DF9,DL9,DR9,DX9,ED9,EJ9,EP9,EV9,FB9) -> 4 | FJ9: =IFERROR(FH9/FI9," ") -> 448658.86
A10: =Distribución_Reactivos!A10 -> 8 | B10: =Distribución_Reactivos!B10 -> Acetato de etilo para análisis de residuos | C10: =Distribución_Reactivos!C10 -> Sigma Aldrich / Merck / JT Baker o equivalente | D10: =Distribución_Reactivos!D10 -> Frasco x 4 litros | E10: 1 | F10: 542283 | G10: 525980 | H10: 550966.13 | I10: 550851 | J10: 484389.5 | K10: 490875 | L10: =AVERAGE(F10,H10,J10) -> 525879.54 | M10: =AVERAGE(G10,I10,K10)*1.03 -> 538245.73 | AX10: 438013.43 | AY10: =+AX10*0.19 -> 83222.551 | AZ10: =+AX10+AY10 -> 521235.98 | BA10: Frasco x 4 litros | BB10: JT Baker | BV10: 1068000 | BW10: =BV10*19% -> 202920 | BX10: =+BV10+BW10 -> 1270920 | BY10: frasco x 4 litros | BZ10: ACROS ORGANICS | CH10: 1100040 | CI10: =+CH10*0.19 -> 209007.6 | CJ10: =+CH10+CI10 -> 1309047.6 | CK10: frasco x 4 litros | CL10: ACROS ORGANICS | CZ10: 444690 | DA10: =+CZ10*0.19 -> 84491.1 | DB10: =+CZ10+DA10 -> 529181.1 | DC10: 4 LT | DD10: Merck | DE10: CTR1096234000 | FH10: =SUM(M10,P10,V10,AB10,AH10,AN10,AT10,AZ10,BF10,BL10,BR10,BX10,CD10,CJ10,CP10,CV10,DB10,DH10,DN10,DT10,DZ10,EF10,EL10,ER10,EX10,FD10) -> 4168630.4 | FI10: =COUNTA(M10,N10,T10,Z10,AF10,AL10,AR10,AX10,BD10,BJ10,BP10,BV10,CB10,CH10,CN10,CT10,CZ10,DF10,DL10,DR10,DX10,ED10,EJ10,EP10,EV10,FB10) -> 5 | FJ10: =IFERROR(FH10/FI10," ") -> 833726.08
A11: =Distribución_Reactivos!A11 -> 9 | B11: =Distribución_Reactivos!B11 -> Acetato de potasio | C11: =Distribución_Reactivos!C11 -> Merck | D11: =Distribución_Reactivos!D11 -> Frasco x 500 o 1Kg | E11: 1 | F11: 247573.55 | G11: 0 | H11: 509377.15 | I11: 0 | J11: 0 | K11: 0 | L11: =AVERAGE(F11,H11) -> 378475.35 | AL11: 230000 | AM11: =+AL11*0.19 -> 43700 | AN11: =+AL11+AM11 -> 273700 | AO11: Frasco x 500g | AP11: PANREAC | AR11: 288000 | AS11: =+AR11*0.19 -> 54720 | AT11: =+AR11+AS11 -> 342720 | AU11: Frasco x 500g | AV11: Santa Cruz Biotechnology | BV11: 644000 | BW11: =BV11*19% -> 122360 | BX11: =+BV11+BW11 -> 766360 | BY11: frasco x 500 gr | BZ11: PANREAC | CH11: 676200 | CI11: =+CH11*0.19 -> 128478 | CJ11: =+CH11+CI11 -> 804678 | CK11: frasco x 500 gr | CL11: PANREAC | CT11: 678333.33 | CU11: 128883.33 | CV11: =+CT11+CU11 -> 807216.67 | CZ11: 255172 | DA11: =+CZ11*0.19 -> 48482.68 | DB11: =+CZ11+DA11 -> 303654.68 | DC11: 500g | DD11: Merck | DE11: P236497500G | FH11: =SUM(M11,P11,V11,AB11,AH11,AN11,AT11,AZ11,BF11,BL11,BR11,BX11,CD11,CJ11,CP11,CV11,DB11,DH11,DN11,DT11,DZ11,EF11,EL11,ER11,EX11,FD11) -> 3298329.3 | FI11: =COUNTA(M11,N11,T11,Z11,AF11,AL11,AR11,AX11,BD11,BJ11,BP11,BV11,CB11,CH11,CN11,CT11,CZ11,DF11,DL11,DR11,DX11,ED11,EJ11,EP11,EV11,FB11) -> 6 | FJ11: =IFERROR(FH11/FI11," ") -> 549721.56
A12: =Distribución_Reactivos!A12 -> 10 | B12: =Distribución_Reactivos!B12 -> Acetato de sodio anhidro | C12: =Distribución_Reactivos!C12 -> Cualquier marca | D12: =Distribución_Reactivos!D12 -> Frasco x 500g | E12: 1 | F12: 275083.29 | G12: 261324 | H12: 288452.07 | I12: 128520 | J12: 326718.27 | K12: 329511 | L12: =AVERAGE(F12,H12,J12) -> 296751.21 | M12: =AVERAGE(G12,I12,K12)*1.03 -> 246978.55 | AF12: 300000 | AG12: =AF12*19% -> 57000 | AH12: =+AF12+AG12 -> 357000 | AL12: 254000 | AM12: =+AL12*0.19 -> 48260 | AN12: =+AL12+AM12 -> 302260 | AO12: Frasco x 500g | AP12: PANREAC | AR12: =201600*2 -> 403200 | AS12: =+AR12*0.19 -> 76608 | AT12: =+AR12+AS12 -> 479808 | AU12: Frasco x 250g | AV12: Santa Cruz Biotechnology | AX12: 153293.76 | AY12: =+AX12*0.19 -> 29125.814 | AZ12: =+AX12+AY12 -> 182419.57 | BA12: Frasco x 500g | BB12: JT Baker | BV12: 347600 | BW12: =BV12*19% -> 66044 | BX12: =+BV12+BW12 -> 413644 | BY12: frasco x 500 gr | BZ12: JT BAKER | CB12: 206000 | CC12: =+CB12*19% -> 39140 | CD12: =+CC12+CB12 -> 245140 | CH12: 364980 | CI12: =+CH12*0.19 -> 69346.2 | CJ12: =+CH12+CI12 -> 434326.2 | CK12: frasco x 500 gr | CL12: JT BAKER | CT12: 136000 | CU12: 25840 | CV12: =+CT12+CU12 -> 161840 | FH12: =SUM(M12,P12,V12,AB12,AH12,AN12,AT12,AZ12,BF12,BL12,BR12,BX12,CD12,CJ12,CP12,CV12,DB12,DH12,DN12,DT12,DZ12,EF12,EL12,ER12,EX12,FD12) -> 2823416.3 | FI12: =COUNTA(M12,N12,T12,Z12,AF12,AL12,AR12,AX12,BD12,BJ12,BP12,BV12,CB12,CH12,CN12,CT12,CZ12,DF12,DL12,DR12,DX12,ED12,EJ12,EP12,EV12,FB12) -> 9 | FJ12: =IFERROR(FH12/FI12," ") -> 313712.92
A13: =Distribución_Reactivos!A13 -> 11 | B13: =Distribución_Reactivos!B13 -> Ácetato de zinc di hidratado | C13: =Distribución_Reactivos!C13 -> Cualquier marca | D13: =Distribución_Reactivos!D13 -> Frasco x 250 g | E13: 1 | F13: 0 | G13: 0 | H13: 0 | I13: 0 | J13: 359383.97 | K13: 335342 | L13: =J13 -> 359383.97 | M13: =K13*1.03 -> 345402.26 | AL13: =298000/2 -> 149000 | AM13: =+AL13*0.19 -> 28310 | AN13: =+AL13+AM13 -> 177310 | AO13: Frasco x 500g | AP13: PANREAC | BV13: 382600 | BW13: =BV13*19% -> 72694 | BX13: =+BV13+BW13 -> 455294 | BY13: frasco x 250 gr | BZ13: JT BAKER | CB13: 236000 | CC13: =+CB13*19% -> 44840 | CD13: =+CC13+CB13 -> 280840 | CH13: 401730 | CI13: =+CH13*0.19 -> 76328.7 | CJ13: =+CH13+CI13 -> 478058.7 | CK13: frasco x 250 gr | CL13: JT BAKER | CT13: 338000 | CU13: 64220 | CV13: =+CT13+CU13 -> 402220 | CZ13: 110897 | DA13: =+CZ13*0.19 -> 21070.43 | DB13: =+CZ13+DA13 -> 131967.43 | DC13: 250 G | DD13: Merck | DE13: 1088020250 | FH13: =SUM(M13,P13,V13,AB13,AH13,AN13,AT13,AZ13,BF13,BL13,BR13,BX13,CD13,CJ13,CP13,CV13,DB13,DH13,DN13,DT13,DZ13,EF13,EL13,ER13,EX13,FD13) -> 2271092.4 | FI13: =COUNTA(M13,N13,T13,Z13,AF13,AL13,AR13,AX13,BD13,BJ13,BP13,BV13,CB13,CH13,CN13,CT13,CZ13,DF13,DL13,DR13,DX13,ED13,EJ13,EP13,EV13,FB13) -> 7 | FJ13: =IFERROR(FH13/FI13," ") -> 324441.77
A14: =Distribución_Reactivos!A14 -> 12 | B14: =Distribución_Reactivos!B14 -> Acetona grado reactivo | C14: =Distribución_Reactivos!C14 -> Merck, JT Baker, Mallinckrodt, Scharlau | D14: =Distribución_Reactivos!D14 -> Frasco x 4 litros | E14: 1 | F14: 248276.5 | G14: 239547 | H14: 292904.21 | I14: 292859 | J14: 294171.98 | K14: 325465 | L14: =AVERAGE(F14,H14,J14) -> 278450.9 | M14: =AVERAGE(G14,I14,K14)*1.03 -> 294535.71 | AL14: 265000 | AM14: =+AL14*0.19 -> 50350 | AN14: =+AL14+AM14 -> 315350 | AO14: Frasco x 5 litro | AP14: PANREAC | AX14: 373837.68 | AY14: =+AX14*0.19 -> 71029.159 | AZ14: =+AX14+AY14 -> 444866.84 | BA14: Frasco x 4 litros | BB14: JT Baker | BV14: 281400 | BW14: =BV14*19% -> 53466 | BX14: =+BV14+BW14 -> 334866 | BY14: frasco x 4 litros | BZ14: JT BAKER | CH14: 295470 | CI14: =+CH14*0.19 -> 56139.3 | CJ14: =+CH14+CI14 -> 351609.3 | CK14: frasco x 4 litros | CL14: JT BAKER | CT14: 538000 | CU14: 102220 | CV14: =+CT14+CU14 -> 640220 | CZ14: 153931 | DA14: =+CZ14*0.19 -> 29246.89 | DB14: =+CZ14+DA14 -> 183177.89 | DC14: 4LT | DD14: Merck | DE14: CTRM1000144000 | FH14: =SUM(M14,P14,V14,AB14,AH14,AN14,AT14,AZ14,BF14,BL14,BR14,BX14,CD14,CJ14,CP14,CV14,DB14,DH14,DN14,DT14,DZ14,EF14,EL14,ER14,EX14,FD14) -> 2564625.7 | FI14: =COUNTA(M14,N14,T14,Z14,AF14,AL14,AR14,AX14,BD14,BJ14,BP14,BV14,CB14,CH14,CN14,CT14,CZ14,DF14,DL14,DR14,DX14,ED14,EJ14,EP14,EV14,FB14) -> 7 | FJ14: =IFERROR(FH14/FI14," ") -> 366375.11
A15: =Distribución_Reactivos!A15 -> 13 | B15: =Distribución_Reactivos!B15 -> Acetona HPLC con certificado de analisis y ficha de seguridad. | C15: =Distribución_Reactivos!C15 -> Merck, JT Baker, Mallinckrodt, Scharlau o equivalente | D15: =Distribución_Reactivos!D15 -> Frasco x 4 litros | E15: 1 | F15: 0 | G15: 0 | H15: 0 | I15: 0 | J15: 0 | K15: 0 | AF15: 725000 | AG15: =AF15*19% -> 137750 | AH15: =+AF15+AG15 -> 862750 | AL15: 590000 | AM15: =+AL15*0.19 -> 112100 | AN15: =+AL15+AM15 -> 702100 | AO15: Frasco x 4 litro | AP15: PANREAC | AX15: 823237.47 | AY15: =+AX15*0.19 -> 156415.12 | AZ15: =+AX15+AY15 -> 979652.59 | BA15: Frasco x 4 litros | BB15: JT Baker | BV15: 726600 | BW15: =BV15*19% -> 138054 | BX15: =+BV15+BW15 -> 864654 | BY15: frasco x 4 litros | BZ15: JT BAKER | CH15: 733866 | CI15: =+CH15*0.19 -> 139434.54 | CJ15: =+CH15+CI15 -> 873300.54 | CK15: frasco x 4 litros | CL15: JT BAKER | CT15: 305000 | CU15: 57950 | CV15: =+CT15+CU15 -> 362950 | CZ15: 414344 | DA15: =+CZ15*0.19 -> 78725.36 | DB15: =+CZ15+DA15 -> 493069.36 | DC15: 4 Lts | DD15: Merck | DE15: CTRM1000204000 | FH15: =SUM(M15,P15,V15,AB15,AH15,AN15,AT15,AZ15,BF15,BL15,BR15,BX15,CD15,CJ15,CP15,CV15,DB15,DH15,DN15,DT15,DZ15,EF15,EL15,ER15,EX15,FD15) -> 5138476.5 | FI15: =COUNTA(M15,N15,T15,Z15,AF15,AL15,AR15,AX15,BD15,BJ15,BP15,BV15,CB15,CH15,CN15,CT15,CZ15,DF15,DL15,DR15,DX15,ED15,EJ15,EP15,EV15,FB15) -> 7 | FJ15: =IFERROR(FH15/FI15," ") -> 734068.07
A16: =Distribución_Reactivos!A16 -> 14 | B16: =Distribución_Reactivos!B16 -> Acetonitrilo grado HPLC con certificado de analisis y ficha de seguridad. | C16: =Distribución_Reactivos!C16 -> Cualquier marca | D16: =Distribución_Reactivos!D16 -> Frasco x 4 litros | E16: 1 | F16: 0 | G16: 0 | H16: 0 | I16: 0 | J16: 0 | K16: 0 | AF16: 290000 | AG16: =AF16*19% -> 55100 | AH16: =+AF16+AG16 -> 345100 | AL16: 297000 | AM16: =+AL16*0.19 -> 56430 | AN16: =+AL16+AM16 -> 353430 | AO16: Frasco x 4 litro | AP16: PANREAC | AR16: 281534 | AS16: =+AR16*0.19 -> 53491.46 | AT16: =+AR16+AS16 -> 335025.46 | AU16: Frasco x 4 litros | AV16: PANREAC | BV16: 349400 | BW16: =BV16*19% -> 66386 | BX16: =+BV16+BW16 -> 415786 | BY16: frasco x 4 litros | BZ16: JT BAKER | CB16: 199800 | CC16: =+CB16*19% -> 37962 | CD16: =+CC16+CB16 -> 237762 | CH16: 370364 | CI16: =+CH16*0.19 -> 70369.16 | CJ16: =+CH16+CI16 -> 440733.16 | CK16: frasco x 4 litros | CL16: JT BAKER | CT16: 444000 | CU16: =+CT16*0 -> 0 | CV16: =+CT16+CU16 -> 444000 | CZ16: 312828 | DA16: =+CZ16*0.19 -> 59437.32 | DB16: =+CZ16+DA16 -> 372265.32 | DC16: 4 LT | DD16: Merck | DE16: 1000304000 | FH16: =SUM(M16,P16,V16,AB16,AH16,AN16,AT16,AZ16,BF16,BL16,BR16,BX16,CD16,CJ16,CP16,CV16,DB16,DH16,DN16,DT16,DZ16,EF16,EL16,ER16,EX16,FD16) -> 2944101.9 | FI16: =COUNTA(M16,N16,T16,Z16,AF16,AL16,AR16,AX16,BD16,BJ16,BP16,BV16,CB16,CH16,CN16,CT16,CZ16,DF16,DL16,DR16,DX16,ED16,EJ16,EP16,EV16,FB16) -> 8 | FJ16: =IFERROR(FH16/FI16," ") -> 368012.74
A17: =Distribución_Reactivos!A17 -> 15 | B17: =Distribución_Reactivos!B17 -> Acetonitrilo grado reactivo con certificado de analisis y ficha de seguridad. | C17: =Distribución_Reactivos!C17 -> Merck o JT Baker | D17: =Distribución_Reactivos!D17 -> Frasco x 4 litros | E17: 1 | F17: 0 | G17: 0 | H17: 0 | I17: 0 | J17: 0 | K17: 0 | AF17: 398000 | AG17: =AF17*19% -> 75620 | AH17: =+AF17+AG17 -> 473620 | BV17: 800500 | BW17: =BV17*19% -> 152095 | BX17: =+BV17+BW17 -> 952595 | BY17: frasco x 4 litros | BZ17: JT BAKER | CT17: 842500 | CU17: =+CT17*0 -> 0 | CV17: =+CT17+CU17 -> 842500 | CZ17: 228966 | DA17: =+CZ17*0.19 -> 43503.54 | DB17: =+CZ17+DA17 -> 272469.54 | DC17: 4LT | DD17: Merck | DE17: 1000034000 | FH17: =SUM(M17,P17,V17,AB17,AH17,AN17,AT17,AZ17,BF17,BL17,BR17,BX17,CD17,CJ17,CP17,CV17,DB17,DH17,DN17,DT17,DZ17,EF17,EL17,ER17,EX17,FD17) -> 2541184.5 | FI17: =COUNTA(M17,N17,T17,Z17,AF17,AL17,AR17,AX17,BD17,BJ17,BP17,BV17,CB17,CH17,CN17,CT17,CZ17,DF17,DL17,DR17,DX17,ED17,EJ17,EP17,EV17,FB17) -> 4 | FJ17: =IFERROR(FH17/FI17," ") -> 635296.14
A18: =Distribución_Reactivos!A18 -> 16 | B18: =Distribución_Reactivos!B18 -> Acetonitrilo LC/MS con certificado de analisis y ficha de seguridad. | C18: =Distribución_Reactivos!C18 -> Merck o JT Baker o equivalente | D18: =Distribución_Reactivos!D18 -> Frasco x 2.5 litros | E18: 1 | F18: 0 | G18: 0 | H18: 0 | I18: 0 | J18: 0 | K18: 0 | BV18: 1920000 | BW18: =BV18*19% -> 364800 | BX18: =+BV18+BW18 -> 2284800 | BY18: frasco x 2.5 litros | BZ18: MERCK | CT18: 175000 | CU18: 8750 | CV18: =+CT18+CU18 -> 183750 | CZ18: 410483 | DA18: =+CZ18*0.19 -> 77991.77 | DB18: =+CZ18+DA18 -> 488474.77 | DC18: 2.5 L | DD18: Merck | DE18: 1000292500 | FH18: =SUM(M18,P18,V18,AB18,AH18,AN18,AT18,AZ18,BF18,BL18,BR18,BX18,CD18,CJ18,CP18,CV18,DB18,DH18,DN18,DT18,DZ18,EF18,EL18,ER18,EX18,FD18) -> 2957024.8 | FI18: =COUNTA(M18,N18,T18,Z18,AF18,AL18,AR18,AX18,BD18,BJ18,BP18,BV18,CB18,CH18,CN18,CT18,CZ18,DF18,DL18,DR18,DX18,ED18,EJ18,EP18,EV18,FB18) -> 3 | FJ18: =IFERROR(FH18/FI18," ") -> 985674.92
A19: =Distribución_Reactivos!A19 -> 17 | B19: =Distribución_Reactivos!B19 -> Ácido acético glacial 96% PA con certificado y ficha de seguridad | C19: =Distribución_Reactivos!C19 -> Cualquier marca | D19: =Distribución_Reactivos!D19 -> Frasco x 2.5 litros | E19: 1 | F19: 191114 | G19: 183379 | H19: 277191.14 | I19: 277151 | J19: 203348.42 | K19: 198254 | L19: =AVERAGE(F19,H19,J19) -> 223884.52 | M19: =AVERAGE(G19,I19,K19)*1.03 -> 226182.51 | AF19: 190000 | AG19: =AF19*19% -> 36100 | AH19: =+AF19+AG19 -> 226100 | AL19: 189000 | AM19: =+AL19*0.19 -> 35910 | AN19: =+AL19+AM19 -> 224910 | AO19: Frasco x 2,5 litro | AP19: PANREAC | AR19: 179980 | AS19: =+AR19*0.19 -> 34196.2 | AT19: =+AR19+AS19 -> 214176.2 | AU19: Frasco x 2,5 litro | AV19: PANREAC | AX19: 260576.73 | AY19: =+AX19*0.19 -> 49509.579 | AZ19: =+AX19+AY19 -> 310086.31 | BA19: Frasco x 2,5 litros | BB19: JT Baker | BV19: 296800 | BW19: =BV19*19% -> 56392 | BX19: =+BV19+BW19 -> 353192 | BY19: frasco x 2.5 litros | BZ19: MERCK | CB19: 128250 | CC19: =+CB19*19% -> 24367.5 | CD19: =+CC19+CB19 -> 152617.5 | CH19: 317576 | CI19: =+CH19*0.19 -> 60339.44 | CJ19: =+CH19+CI19 -> 377915.44 | CK19: frasco x 2.5 litros | CL19: MERCK | CT19: 416666.67 | CU19: 79166.667 | CV19: =+CT19+CU19 -> 495833.33 | CZ19: 142345 | DA19: =+CZ19*0.19 -> 27045.55 | DB19: =+CZ19+DA19 -> 169390.55 | DC19: 2.5 L | DD19: Merck | DE19: 1000622500 | FH19: =SUM(M19,P19,V19,AB19,AH19,AN19,AT19,AZ19,BF19,BL19,BR19,BX19,CD19,CJ19,CP19,CV19,DB19,DH19,DN19,DT19,DZ19,EF19,EL19,ER19,EX19,FD19) -> 2750403.8 | FI19: =COUNTA(M19,N19,T19,Z19,AF19,AL19,AR19,AX19,BD19,BJ19,BP19,BV19,CB19,CH19,CN19,CT19,CZ19,DF19,DL19,DR19,DX19,ED19,EJ19,EP19,EV19,FB19) -> 10 | FJ19: =IFERROR(FH19/FI19," ") -> 275040.38
A20: =Distribución_Reactivos!A20 -> 18 | B20: =Distribución_Reactivos!B20 -> Ácido bórico | C20: =Distribución_Reactivos!C20 -> Cualquier marca (Panreac, Merck, JT Baker o equivalente. | D20: =Distribución_Reactivos!D20 -> Frasco x 1Kg | E20: 1 | F20: 277448.5 | G20: 273224 | H20: 265023.19 | I20: 265013 | J20: 324258.88 | K20: 311780 | L20: =AVERAGE(F20,H20,J20) -> 288910.19 | M20: =AVERAGE(G20,I20,K20)*1.03 -> 291839.17 | AF20: 250000 | AG20: =AF20*19% -> 47500 | AH20: =+AF20+AG20 -> 297500 | AL20: 260000 | AM20: =+AL20*0.19 -> 49400 | AN20: =+AL20+AM20 -> 309400 | AO20: Frasco x 1Kg | AP20: PANREAC | AR20: 468000 | AS20: =+AR20*0.19 -> 88920 | AT20: =+AR20+AS20 -> 556920 | AU20: Frasco x 500g | AV20: Santa Cruz Biotechnology | BV20: 297600 | BW20: =BV20*19% -> 56544 | BX20: =+BV20+BW20 -> 354144 | BY20: frasco x 1kg | BZ20: JT BAKER | CB20: 188000 | CC20: =+CB20*19% -> 35720 | CD20: =+CC20+CB20 -> 223720 | CH20: 300576 | CI20: =+CH20*0.19 -> 57109.44 | CJ20: =+CH20+CI20 -> 357685.44 | CK20: frasco x 1kg | CL20: JT BAKER | CT20: 995520 | CU20: 189148.8 | CV20: =+CT20+CU20 -> 1184668.8 | CZ20: 179310 | DA20: =+CZ20*0.19 -> 34068.9 | DB20: =+CZ20+DA20 -> 213378.9 | DC20: 100g | DD20: Merck | DE20: 1004680100 | FH20: =SUM(M20,P20,V20,AB20,AH20,AN20,AT20,AZ20,BF20,BL20,BR20,BX20,CD20,CJ20,CP20,CV20,DB20,DH20,DN20,DT20,DZ20,EF20,EL20,ER20,EX20,FD20) -> 3789256.3 | FI20: =COUNTA(M20,N20,T20,Z20,AF20,AL20,AR20,AX20,BD20,BJ20,BP20,BV20,CB20,CH20,CN20,CT20,CZ20,DF20,DL20,DR20,DX20,ED20,EJ20,EP20,EV20,FB20) -> 9 | FJ20: =IFERROR(FH20/FI20," ") -> 421028.48
A21: =Distribución_Reactivos!A21 -> 19 | B21: =Distribución_Reactivos!B21 -> Ácido cítrico monohidratado | C21: =Distribución_Reactivos!C21 -> Merck, Carlo Erba, Scharlau, JT Baker | D21: =Distribución_Reactivos!D21 -> Frasco x 1Kg | E21: 1 | F21: 384951.91 | G21: 371399 | H21: 374396.3 | I21: 374374 | J21: 307766.34 | K21: 357000 | L21: =AVERAGE(F21,H21,J21) -> 355704.85 | M21: =AVERAGE(G21,I21,K21)*1.03 -> 378618.73 | AF21: 400000 | AG21: =AF21*19% -> 76000 | AH21: =+AF21+AG21 -> 476000 | AL21: 321000 | AM21: =+AL21*0.19 -> 60990 | AN21: =+AL21+AM21 -> 381990 | AO21: Frasco x 1Kg | AP21: PANREAC | AR21: 273600 | AS21: =+AR21*0.19 -> 51984 | AT21: =+AR21+AS21 -> 325584 | AU21: Frasco x 500g | AV21: Santa Cruz Biotechnology | AX21: 184944.69 | AY21: =+AX21*0.19 -> 35139.491 | AZ21: =+AX21+AY21 -> 220084.18 | BA21: Frasco x 1kg | BB21: JT Baker | BV21: 480000 | BW21: =BV21*19% -> 91200 | BX21: =+BV21+BW21 -> 571200 | BY21: frasco x 1kg | BZ21: MERCK | CH21: 508800 | CI21: =+CH21*0.19 -> 96672 | CJ21: =+CH21+CI21 -> 605472 | CK21: frasco x 1kg | CL21: MERCK | CT21: 995520 | CU21: 189148.8 | CV21: =+CT21+CU21 -> 1184668.8 | CZ21: 229517 | DA21: =+CZ21*0.19 -> 43608.23 | DB21: =+CZ21+DA21 -> 273125.23 | DC21: 1 Kg | DD21: Merck | DE21: 1002441000 | FH21: =SUM(M21,P21,V21,AB21,AH21,AN21,AT21,AZ21,BF21,BL21,BR21,BX21,CD21,CJ21,CP21,CV21,DB21,DH21,DN21,DT21,DZ21,EF21,EL21,ER21,EX21,FD21) -> 4416742.9 | FI21: =COUNTA(M21,N21,T21,Z21,AF21,AL21,AR21,AX21,BD21,BJ21,BP21,BV21,CB21,CH21,CN21,CT21,CZ21,DF21,DL21,DR21,DX21,ED21,EJ21,EP21,EV21,FB21) -> 9 | FJ21: =IFERROR(FH21/FI21," ") -> 490749.22
A22: =Distribución_Reactivos!A22 -> 20 | B22: =Distribución_Reactivos!B22 -> Ácido clorhídrico 37 - 38% | C22: =Distribución_Reactivos!C22 -> Merck, JT Baker, Scharlau o equivalente. | D22: =Distribución_Reactivos!D22 -> Frasco x 2.5 litros | E22: 1 | F22: 175229.2 | G22: 174930 | H22: 159205.28 | I22: 0 | J22: 211073.67 | K22: 190876 | L22: =AVERAGE(F22,H22,J22) -> 181836.05 | M22: =AVERAGE(G22,K22)*1.03 -> 188390.09 | AF22: 138000 | AG22: =AF22*19% -> 26220 | AH22: =+AF22+AG22 -> 164220 | AL22: 149000 | AM22: =+AL22*0.19 -> 28310 | AN22: =+AL22+AM22 -> 177310 | AO22: Frasco x 2,5 litro | AP22: PANREAC | BV22: 130500 | BW22: =BV22*19% -> 24795 | BX22: =+BV22+BW22 -> 155295 | BY22: frasco x 2.5 litros | BZ22: JT BAKER | CH22: 138330 | CI22: =+CH22*0.19 -> 26282.7 | CJ22: =+CH22+CI22 -> 164612.7 | CK22: frasco x 2.5 litros | CL22: JT BAKER | CT22: 250240 | CU22: 47545.6 | CV22: =+CT22+CU22 -> 297785.6 | CZ22: 99862 | DA22: =+CZ22*0.19 -> 18973.78 | DB22: =+CZ22+DA22 -> 118835.78 | DC22: 2.5 l | DD22: Merck | DE22: CTR1003172500 | FH22: =SUM(M22,P22,V22,AB22,AH22,AN22,AT22,AZ22,BF22,BL22,BR22,BX22,CD22,CJ22,CP22,CV22,DB22,DH22,DN22,DT22,DZ22,EF22,EL22,ER22,EX22,FD22) -> 1266449.2 | FI22: =COUNTA(M22,N22,T22,Z22,AF22,AL22,AR22,AX22,BD22,BJ22,BP22,BV22,CB22,CH22,CN22,CT22,CZ22,DF22,DL22,DR22,DX22,ED22,EJ22,EP22,EV22,FB22) -> 7 | FJ22: =IFERROR(FH22/FI22," ") -> 180921.31
A23: =Distribución_Reactivos!A23 -> 21 | B23: =Distribución_Reactivos!B23 -> Ácido fórmico 98-100 % pureza, con certificado de análisis y ficha de seguridad | C23: =Distribución_Reactivos!C23 -> Cualquier marca | D23: =Distribución_Reactivos!D23 -> Frasco x 2.5 litros | E23: 1 | F23: 0 | G23: 0 | H23: 1120997.6 | I23: 197540 | J23: 333332.91 | K23: 315350 | L23: =AVERAGE(H23,J23) -> 727165.23 | M23: =AVERAGE(I23,K23)*1.03 -> 264138.35 | AF23: 260000 | AG23: =AF23*19% -> 49400 | AH23: =+AF23+AG23 -> 309400 | AL23: 276000 | AM23: =+AL23*0.19 -> 52440 | AN23: =+AL23+AM23 -> 328440 | AO23: Frasco x 2,5 litro | AP23: PANREAC | AR23: 271479 | AS23: =+AR23*0.19 -> 51581.01 | AT23: =+AR23+AS23 -> 323060.01 | AU23: Frasco x 2,5 litros | AV23: PANREAC | BV23: 404200 | BW23: =BV23*19% -> 76798 | BX23: =+BV23+BW23 -> 480998 | BY23: frasco x 2.5 litros | BZ23: MERCK | CH23: 416326 | CI23: =+CH23*0.19 -> 79101.94 | CJ23: =+CH23+CI23 -> 495427.94 | CK23: frasco x 2.5 litros | CL23: MERCK | CT23: 244800 | CU23: 46512 | CV23: =+CT23+CU23 -> 291312 | FH23: =SUM(M23,P23,V23,AB23,AH23,AN23,AT23,AZ23,BF23,BL23,BR23,BX23,CD23,CJ23,CP23,CV23,DB23,DH23,DN23,DT23,DZ23,EF23,EL23,ER23,EX23,FD23) -> 2492776.3 | FI23: =COUNTA(M23,N23,T23,Z23,AF23,AL23,AR23,AX23,BD23,BJ23,BP23,BV23,CB23,CH23,CN23,CT23,CZ23,DF23,DL23,DR23,DX23,ED23,EJ23,EP23,EV23,FB23) -> 7 | FJ23: =IFERROR(FH23/FI23," ") -> 356110.9
A24: =Distribución_Reactivos!A24 -> 22 | B24: =Distribución_Reactivos!B24 -> Acido formico para LC-MS certificado de análisis y ficha de seguridad | C24: =Distribución_Reactivos!C24 -> Cualquier marca | D24: =Distribución_Reactivos!D24 -> Frasco 50 mL | E24: 1 | F24: 0 | G24: 0 | H24: 0 | I24: 0 | J24: 0 | K24: 0 | AX24: 553735.82 | AY24: =+AX24*0.19 -> 105209.81 | AZ24: =+AX24+AY24 -> 658945.63 | BA24: Frasco x 2,5 litros | BB24: JT Baker | BV24: 454100 | BW24: =BV24*19% -> 86279 | BX24: =+BV24+BW24 -> 540379 | BY24: frasco 50 ml | BZ24: MERCK | CH24: 463182 | CI24: =+CH24*0.19 -> 88004.58 | CJ24: =+CH24+CI24 -> 551186.58 | CK24: frasco 50 ml | CL24: MERCK | CT24: 342720 | CU24: 65116.8 | CV24: =+CT24+CU24 -> 407836.8 | FH24: =SUM(M24,P24,V24,AB24,AH24,AN24,AT24,AZ24,BF24,BL24,BR24,BX24,CD24,CJ24,CP24,CV24,DB24,DH24,DN24,DT24,DZ24,EF24,EL24,ER24,EX24,FD24) -> 2158348 | FI24: =COUNTA(M24,N24,T24,Z24,AF24,AL24,AR24,AX24,BD24,BJ24,BP24,BV24,CB24,CH24,CN24,CT24,CZ24,DF24,DL24,DR24,DX24,ED24,EJ24,EP24,EV24,FB24) -> 4 | FJ24: =IFERROR(FH24/FI24," ") -> 539587
A25: =Distribución_Reactivos!A25 -> 23 | B25: =Distribución_Reactivos!B25 -> Ácido fosfomolibdico solución 2% | C25: =Distribución_Reactivos!C25 -> Sigma Aldrich / Merck / JT Baker | D25: =Distribución_Reactivos!D25 -> Frasco x 25g | E25: 1 | F25: 0 | G25: 0 | H25: 1372129.5 | I25: 0 | J25: 1374436.9 | K25: 0 | L25: =AVERAGE(H25,J25) -> 1373283.2 | AL25: 1250000 | AM25: =+AL25*0.19 -> 237500 | AN25: =+AL25+AM25 -> 1487500 | AO25: Frasco x 100g | AP25: PANREAC | AR25: =893871/4 -> 223467.75 | AS25: =+AR25*0.19 -> 42458.872 | AT25: =+AR25+AS25 -> 265926.62 | AU25: Frasco x 100g | AV25: PANREAC | BV25: 3194800 | BW25: =BV25*19% -> 607012 | BX25: =+BV25+BW25 -> 3801812 | BY25: frasco x 25 gr | BZ25: JT BAKER | CT25: 369920 | CU25: 70284.8 | CV25: =+CT25+CU25 -> 440204.8 | CZ25: 342621 | DA25: =+CZ25*0.19 -> 65097.99 | DB25: =+CZ25+DA25 -> 407718.99 | DC25: BOTELLA/25g | DD25: Merck | DE25: 1005320025 | FH25: =SUM(M25,P25,V25,AB25,AH25,AN25,AT25,AZ25,BF25,BL25,BR25,BX25,CD25,CJ25,CP25,CV25,DB25,DH25,DN25,DT25,DZ25,EF25,EL25,ER25,EX25,FD25) -> 6403162.4 | FI25: =COUNTA(M25,N25,T25,Z25,AF25,AL25,AR25,AX25,BD25,BJ25,BP25,BV25,CB25,CH25,CN25,CT25,CZ25,DF25,DL25,DR25,DX25,ED25,EJ25,EP25,EV25,FB25) -> 5 | FJ25: =IFERROR(FH25/FI25," ") -> 1280632.5
A26: =Distribución_Reactivos!A26 -> 24 | B26: =Distribución_Reactivos!B26 -> Ácido fosfotúngstico | C26: =Distribución_Reactivos!C26 -> Sigma Aldrich / Merck / JT Baker | D26: =Distribución_Reactivos!D26 -> Frasco x 25g | E26: 1 | F26: 0 | G26: 0 | H26: 661045 | I26: 0 | J26: 0 | K26: 0 | L26: =H26 -> 661045 | BV26: 1151600 | BW26: =BV26*19% -> 218804 | BX26: =+BV26+BW26 -> 1370404 | BY26: frasco x 25gr | BZ26: JT BAKER | CH26: 1220696 | CI26: =+CH26*0.19 -> 231932.24 | CJ26: =+CH26+CI26 -> 1452628.2 | CK26: frasco x 25gr | CL26: JT BAKER | CT26: 183000 | CU26: 34770 | CV26: =+CT26+CU26 -> 217770 | FH26: =SUM(M26,P26,V26,AB26,AH26,AN26,AT26,AZ26,BF26,BL26,BR26,BX26,CD26,CJ26,CP26,CV26,DB26,DH26,DN26,DT26,DZ26,EF26,EL26,ER26,EX26,FD26) -> 3040802.2 | FI26: =COUNTA(M26,N26,T26,Z26,AF26,AL26,AR26,AX26,BD26,BJ26,BP26,BV26,CB26,CH26,CN26,CT26,CZ26,DF26,DL26,DR26,DX26,ED26,EJ26,EP26,EV26,FB26) -> 3 | FJ26: =IFERROR(FH26/FI26," ") -> 1013600.7
A27: =Distribución_Reactivos!A27 -> 25 | B27: =Distribución_Reactivos!B27 -> Ácido láctico Cas 79-33-4 | C27: =Distribución_Reactivos!C27 -> Aeros/JT Baker | D27: =Distribución_Reactivos!D27 -> Frasco X 250ml | E27: 1 | F27: 331752.17 | G27: 185521 | H27: 489978.88 | I27: 0 | J27: 404479.02 | K27: 0 | L27: =AVERAGE(F27,H27,J27) -> 408736.69 | M27: =G27*1.03 -> 191086.63 | AL27: =280000/4 -> 70000 | AM27: =+AL27*0.19 -> 13300 | AN27: =+AL27+AM27 -> 83300 | AO27: Frasco x 1 litro | AP27: PANREAC | AR27: =576000/4 -> 144000 | AS27: =+AR27*0.19 -> 27360 | AT27: =+AR27+AS27 -> 171360 | AU27: Frasco x 1 litro | AV27: Santa Cruz Biotechnology | BV27: 784000 | BW27: =BV27*19% -> 148960 | BX27: =+BV27+BW27 -> 932960 | BY27: frasco x 250 ml | BZ27: PANREAC | CH27: 791840 | CI27: =+CH27*0.19 -> 150449.6 | CJ27: =+CH27+CI27 -> 942289.6 | CK27: frasco x 250 ml | CL27: PANREAC | CT27: 209000 | CU27: 39710 | CV27: =+CT27+CU27 -> 248710 | FH27: =SUM(M27,P27,V27,AB27,AH27,AN27,AT27,AZ27,BF27,BL27,BR27,BX27,CD27,CJ27,CP27,CV27,DB27,DH27,DN27,DT27,DZ27,EF27,EL27,ER27,EX27,FD27) -> 2569706.2 | FI27: =COUNTA(M27,N27,T27,Z27,AF27,AL27,AR27,AX27,BD27,BJ27,BP27,BV27,CB27,CH27,CN27,CT27,CZ27,DF27,DL27,DR27,DX27,ED27,EJ27,EP27,EV27,FB27) -> 6 | FJ27: =IFERROR(FH27/FI27," ") -> 428284.37
A28: =Distribución_Reactivos!A28 -> 26 | B28: =Distribución_Reactivos!B28 -> Ácido nítrico ACS 69-70% certificado de análisis y ficha de seguridad | C28: =Distribución_Reactivos!C28 -> Merck o JT Baker o equivalente | D28: =Distribución_Reactivos!D28 -> Frasco x 2.5 litros | E28: 1 | F28: 0 | G28: 0 | H28: 0 | I28: 0 | J28: 0 | K28: 0 | AF28: 296000 | AG28: =AF28*19% -> 56240 | AH28: =+AF28+AG28 -> 352240 | AL28: 359000 | AM28: =+AL28*0.19 -> 68210 | AN28: =+AL28+AM28 -> 427210 | AO28: Frasco x 2.5 litros | AP28: PANREAC | AR28: =+(179980/1000)*2500 -> 449950 | AS28: =+AR28*0.19 -> 85490.5 | AT28: =+AR28+AS28 -> 535440.5 | AU28: Frasco x 1 litro | AV28: PANREAC | BV28: 347800 | BW28: =BV28*19% -> 66082 | BX28: =+BV28+BW28 -> 413882 | BY28: frasco x 2.5 litros | BZ28: JT BAKER | CH28: 372146 | CI28: =+CH28*0.19 -> 70707.74 | CJ28: =+CH28+CI28 -> 442853.74 | CK28: frasco x 2.5 litros | CL28: JT BAKER | CT28: 527680 | CU28: 100259.2 | CV28: =+CT28+CU28 -> 627939.2 | CZ28: 311172 | DA28: =+CZ28*0.19 -> 59122.68 | DB28: =+CZ28+DA28 -> 370294.68 | DC28: 2.5 L | DD28: Merck | DE28: 1017992500 | FH28: =SUM(M28,P28,V28,AB28,AH28,AN28,AT28,AZ28,BF28,BL28,BR28,BX28,CD28,CJ28,CP28,CV28,DB28,DH28,DN28,DT28,DZ28,EF28,EL28,ER28,EX28,FD28) -> 3169860.1 | FI28: =COUNTA(M28,N28,T28,Z28,AF28,AL28,AR28,AX28,BD28,BJ28,BP28,BV28,CB28,CH28,CN28,CT28,CZ28,DF28,DL28,DR28,DX28,ED28,EJ28,EP28,EV28,FB28) -> 7 | FJ28: =IFERROR(FH28/FI28," ") -> 452837.16
A29: =Distribución_Reactivos!A29 -> 27 | B29: =Distribución_Reactivos!B29 -> Acido Oxálico Grado reactivo con certificado de análisis y fecha de vencimiento no inferior a un año a partir de la fecha de entrega. Cas 144-62-7 | C29: =Distribución_Reactivos!C29 -> Merck, JT Baker, Scharlau o equivalente | D29: =Distribución_Reactivos!D29 -> Frasco x 1Kg | E29: 1 | F29: 0 | G29: 0 | H29: 0 | I29: 0 | J29: 0 | K29: 0 | AF29: 190000 | AG29: =AF29*19% -> 36100 | AH29: =+AF29+AG29 -> 226100 | AL29: 340000 | AM29: =+AL29*0.19 -> 64600 | AN29: =+AL29+AM29 -> 404600 | AO29: Frasco x 1kg | AP29: PANREAC | AR29: 341863 | AS29: =+AR29*0.19 -> 64953.97 | AT29: =+AR29+AS29 -> 406816.97 | AU29: Frasco x 1kg | AV29: PANREAC | BV29: 1687400 | BW29: =BV29*19% -> 320606 | BX29: =+BV29+BW29 -> 2008006 | BY29: frasco x 1kg | BZ29: JT BAKER | CT29: 209000 | CU29: 39710 | CV29: =+CT29+CU29 -> 248710 | FH29: =SUM(M29,P29,V29,AB29,AH29,AN29,AT29,AZ29,BF29,BL29,BR29,BX29,CD29,CJ29,CP29,CV29,DB29,DH29,DN29,DT29,DZ29,EF29,EL29,ER29,EX29,FD29) -> 3294233 | FI29: =COUNTA(M29,N29,T29,Z29,AF29,AL29,AR29,AX29,BD29,BJ29,BP29,BV29,CB29,CH29,CN29,CT29,CZ29,DF29,DL29,DR29,DX29,ED29,EJ29,EP29,EV29,FB29) -> 5 | FJ29: =IFERROR(FH29/FI29," ") -> 658846.59
A30: =Distribución_Reactivos!A30 -> 28 | B30: =Distribución_Reactivos!B30 -> Acido perclórico, reactivo analítico | C30: =Distribución_Reactivos!C30 -> Merck, JT Baker, Scharlau, Panreac o equivalente. | D30: =Distribución_Reactivos!D30 -> Frasco x 2.5 litros | E30: 1 | F30: 0 | G30: 0 | H30: 1561698.4 | I30: 1561637 | J30: 1676184.4 | K30: 1634227 | L30: =AVERAGE(H30,J30) -> 1618941.4 | M30: =AVERAGE(I30,K30)*1.03 -> 1645870 | AF30: 1800000 | AG30: =AF30*19% -> 342000 | AH30: =+AF30+AG30 -> 2142000 | AL30: 1330000 | AM30: =+AL30*0.19 -> 252700 | AN30: =+AL30+AM30 -> 1582700 | AO30: Frasco x 2,5 litro | AP30: PANREAC | AR30: 1322206 | AS30: =+AR30*0.19 -> 251219.14 | AT30: =+AR30+AS30 -> 1573425.1 | AU30: Frasco x 2,5 litros | AV30: PANREAC | BV30: 1411900 | BW30: =BV30*19% -> 268261 | BX30: =+BV30+BW30 -> 1680161 | BY30: frasco x 2.5 litros | BZ30: MACRON | CT30: 209000 | CU30: 39710 | CV30: =+CT30+CU30 -> 248710 | FH30: =SUM(M30,P30,V30,AB30,AH30,AN30,AT30,AZ30,BF30,BL30,BR30,BX30,CD30,CJ30,CP30,CV30,DB30,DH30,DN30,DT30,DZ30,EF30,EL30,ER30,EX30,FD30) -> 8872866.1 | FI30: =COUNTA(M30,N30,T30,Z30,AF30,AL30,AR30,AX30,BD30,BJ30,BP30,BV30,CB30,CH30,CN30,CT30,CZ30,DF30,DL30,DR30,DX30,ED30,EJ30,EP30,EV30,FB30) -> 6 | FJ30: =IFERROR(FH30/FI30," ") -> 1478811
A31: =Distribución_Reactivos!A31 -> 29 | B31: =Distribución_Reactivos!B31 -> Ácido peryódico | C31: =Distribución_Reactivos!C31 -> Merck / JT Baker | D31: =Distribución_Reactivos!D31 -> Frasco x 25g | E31: 1 | F31: 0 | G31: 0 | H31: 776234.83 | I31: 0 | J31: 0 | K31: 0 | L31: =H31 -> 776234.83 | AF31: 850000 | AG31: =AF31*19% -> 161500 | AH31: =+AF31+AG31 -> 1011500 | AL31: 543000 | AM31: =+AL31*0.19 -> 103170 | AN31: =+AL31+AM31 -> 646170 | AO31: Frasco x 100g | AP31: PANREAC | AR31: =573123/4 -> 143280.75 | AS31: =+AR31*0.19 -> 27223.342 | AT31: =+AR31+AS31 -> 170504.09 | AU31: Frasco x 100g | AV31: PANREAC | BV31: 1874100 | BW31: =BV31*19% -> 356079 | BX31: =+BV31+BW31 -> 2230179 | BY31: frasco x 25 gr | BZ31: MERCK | CT31: 331840 | CU31: 63049.6 | CV31: =+CT31+CU31 -> 394889.6 | FH31: =SUM(M31,P31,V31,AB31,AH31,AN31,AT31,AZ31,BF31,BL31,BR31,BX31,CD31,CJ31,CP31,CV31,DB31,DH31,DN31,DT31,DZ31,EF31,EL31,ER31,EX31,FD31) -> 4453242.7 | FI31: =COUNTA(M31,N31,T31,Z31,AF31,AL31,AR31,AX31,BD31,BJ31,BP31,BV31,CB31,CH31,CN31,CT31,CZ31,DF31,DL31,DR31,DX31,ED31,EJ31,EP31,EV31,FB31) -> 5 | FJ31: =IFERROR(FH31/FI31," ") -> 890648.54
A32: =Distribución_Reactivos!A32 -> 30 | B32: =Distribución_Reactivos!B32 -> Acido Pícrico | C32: =Distribución_Reactivos!C32 -> Sigma Aldrich / Merck / JT Baker | D32: =Distribución_Reactivos!D32 -> Frasco X 25g | E32: 1 | F32: 0 | G32: 0 | H32: 775007.33 | I32: 0 | J32: 952221.94 | K32: 0 | L32: =AVERAGE(H32,J32) -> 863614.63 | AL32: 798000 | AM32: =+AL32*0.19 -> 151620 | AN32: =+AL32+AM32 -> 949620 | AO32: Frasco x 500g | AP32: PANREAC | AR32: 802373 | AS32: =+AR32*0.19 -> 152450.87 | AT32: =+AR32+AS32 -> 954823.87 | AU32: Frasco x 500g | AV32: PANREAC | BV32: 1345500 | BW32: =BV32*19% -> 255645 | BX32: =+BV32+BW32 -> 1601145 | BY32: frasco x 25 gr | BZ32: SIGMA | CT32: 212160 | CU32: 40310.4 | CV32: =+CT32+CU32 -> 252470.4 | FH32: =SUM(M32,P32,V32,AB32,AH32,AN32,AT32,AZ32,BF32,BL32,BR32,BX32,CD32,CJ32,CP32,CV32,DB32,DH32,DN32,DT32,DZ32,EF32,EL32,ER32,EX32,FD32) -> 3758059.3 | FI32: =COUNTA(M32,N32,T32,Z32,AF32,AL32,AR32,AX32,BD32,BJ32,BP32,BV32,CB32,CH32,CN32,CT32,CZ32,DF32,DL32,DR32,DX32,ED32,EJ32,EP32,EV32,FB32) -> 4 | FJ32: =IFERROR(FH32/FI32," ") -> 939514.82
A33: =Distribución_Reactivos!A33 -> 31 | B33: =Distribución_Reactivos!B33 -> Ácido sulfúrico 97-98% analítico con certificado de análisis y ficha de seguridad | C33: =Distribución_Reactivos!C33 -> Sigma Aldrich / Merck / JT Baker o equivalente | D33: =Distribución_Reactivos!D33 -> Frasco x 2.5 litros | E33: 1 | F33: 0 | G33: 0 | H33: 0 | I33: 0 | J33: 0 | K33: 0 | AF33: 175000 | AG33: =AF33*19% -> 33250 | AH33: =+AF33+AG33 -> 208250 | AL33: 192000 | AM33: =+AL33*0.19 -> 36480 | AN33: =+AL33+AM33 -> 228480 | AO33: Frasco x 2,5 litros | AP33: PANREAC | BV33: 202500 | BW33: =BV33*19% -> 38475 | BX33: =+BV33+BW33 -> 240975 | BY33: frasco x 2.5 litros | BZ33: JT BAKER | CH33: 206550 | CI33: =+CH33*0.19 -> 39244.5 | CJ33: =+CH33+CI33 -> 245794.5 | CK33: frasco x 2.5 litros | CL33: JT BAKER | CT33: 250240 | CU33: 47545.6 | CV33: =+CT33+CU33 -> 297785.6 | CZ33: 208000 | DA33: =+CZ33*0.19 -> 39520 | DB33: =+CZ33+DA33 -> 247520 | DC33: 2.5 LTS. | DD33: Merck | DE33: CTRM1120802500 | FH33: =SUM(M33,P33,V33,AB33,AH33,AN33,AT33,AZ33,BF33,BL33,BR33,BX33,CD33,CJ33,CP33,CV33,DB33,DH33,DN33,DT33,DZ33,EF33,EL33,ER33,EX33,FD33) -> 1468805.1 | FI33: =COUNTA(M33,N33,T33,Z33,AF33,AL33,AR33,AX33,BD33,BJ33,BP33,BV33,CB33,CH33,CN33,CT33,CZ33,DF33,DL33,DR33,DX33,ED33,EJ33,EP33,EV33,FB33) -> 6 | FJ33: =IFERROR(FH33/FI33," ") -> 244800.85
A34: =Distribución_Reactivos!A34 -> 32 | B34: =Distribución_Reactivos!B34 -> Acido tricloroacético, Con certificado de análisis e incertidumbre. Fecha de vencimiento no inferior a 2 años | C34: =Distribución_Reactivos!C34 -> Merck | D34: =Distribución_Reactivos!D34 -> Frasco x 250g | E34: 1 | F34: 329630 | G34: 321300 | H34: 284563.19 | I34: 0 | J34: 252869.45 | K34: 247758 | L34: =AVERAGE(F34,H34,J34) -> 289020.88 | M34: =AVERAGE(G34,K34)*1.03 -> 293064.87 | AF34: 300000 | AG34: =AF34*19% -> 57000 | AH34: =+AF34+AG34 -> 357000 | AL34: 173000 | AM34: =+AL34*0.19 -> 32870 | AN34: =+AL34+AM34 -> 205870 | AO34: Frasco x 250g | AP34: PANREAC | AR34: 180986 | AS34: =+AR34*0.19 -> 34387.34 | AT34: =+AR34+AS34 -> 215373.34 | AU34: Frasco x 500g | AV34: PANREAC | BV34: 349200 | BW34: =BV34*19% -> 66348 | BX34: =+BV34+BW34 -> 415548 | BY34: frasco x 250 gr | BZ34: MERCK | CH34: 356184 | CI34: =+CH34*0.19 -> 67674.96 | CJ34: =+CH34+CI34 -> 423858.96 | CK34: frasco x 250 gr | CL34: MERCK | CT34: 1408960 | CU34: 267702.4 | CV34: =+CT34+CU34 -> 1676662.4 | CZ34: 172690 | DA34: =+CZ34*0.19 -> 32811.1 | DB34: =+CZ34+DA34 -> 205501.1 | DC34: 250 G | DD34: Merck | DE34: 1008070250 | FH34: =SUM(M34,P34,V34,AB34,AH34,AN34,AT34,AZ34,BF34,BL34,BR34,BX34,CD34,CJ34,CP34,CV34,DB34,DH34,DN34,DT34,DZ34,EF34,EL34,ER34,EX34,FD34) -> 3792878.7 | FI34: =COUNTA(M34,N34,T34,Z34,AF34,AL34,AR34,AX34,BD34,BJ34,BP34,BV34,CB34,CH34,CN34,CT34,CZ34,DF34,DL34,DR34,DX34,ED34,EJ34,EP34,EV34,FB34) -> 8 | FJ34: =IFERROR(FH34/FI34," ") -> 474109.83
A35: =Distribución_Reactivos!A35 -> 33 | B35: =Distribución_Reactivos!B35 -> Actinobacillus pleuropneumoniae (Shope) Pohl et al. (ATCC® 27088D™) | C35: =Distribución_Reactivos!C35 -> ATCC | D35: =Distribución_Reactivos!D35 -> 0 | E35: 1 | F35: 0 | G35: 0 | H35: 0 | I35: 0 | J35: 0 | K35: 0 | BJ35: 3297000 | BK35: =+BJ35*0.19 -> 626430 | BL35: =+BK35+BJ35 -> 3923430 | BV35: 1100000 | BW35: 0 | BX35: =+BV35+BW35 -> 1100000 | BY35: pack x 2 kwik stik | BZ35: MICROBIOLOGICS | CH35: 1166000 | CI35: =+CH35*0 -> 0 | CJ35: =+CH35+CI35 -> 1166000 | CK35: pack x 2 kwik stik | CL35: MICROBIOLOGICS | CT35: 3410880 | CU35: 648067.2 | CV35: =+CT35+CU35 -> 4058947.2 | FH35: =SUM(M35,P35,V35,AB35,AH35,AN35,AT35,AZ35,BF35,BL35,BR35,BX35,CD35,CJ35,CP35,CV35,DB35,DH35,DN35,DT35,DZ35,EF35,EL35,ER35,EX35,FD35) -> 10248377 | FI35: =COUNTA(M35,N35,T35,Z35,AF35,AL35,AR35,AX35,BD35,BJ35,BP35,BV35,CB35,CH35,CN35,CT35,CZ35,DF35,DL35,DR35,DX35,ED35,EJ35,EP35,EV35,FB35) -> 4 | FJ35: =IFERROR(FH35/FI35," ") -> 2562094.3
A36: =Distribución_Reactivos!A36 -> 34 | B36: =Distribución_Reactivos!B36 -> Agar Medio de cultivo Glucosa OF Medium | C36: =Distribución_Reactivos!C36 -> Pronadisa o equivalente | D36: =Distribución_Reactivos!D36 -> Frasco x 500g | E36: 1 | F36: 0 | G36: 0 | H36: 0 | I36: 0 | J36: 0 | K36: 0 | BJ36: 425000 | BK36: =+BJ36*0.19 -> 80750 | BL36: =+BK36+BJ36 -> 505750 | BM36: LIOFILCHEM | BV36: 1038000 | BW36: =BV36*19% -> 197220 | BX36: =+BV36+BW36 -> 1235220 | BY36: frasco x 500 gr | BZ36: SCHARLAU | CB36: 506144 | CC36: =+CB36*19% -> 96167.36 | CD36: =+CC36+CB36 -> 602311.36 | CT36: 326400 | CU36: 62016 | CV36: =+CT36+CU36 -> 388416 | FH36: =SUM(M36,P36,V36,AB36,AH36,AN36,AT36,AZ36,BF36,BL36,BR36,BX36,CD36,CJ36,CP36,CV36,DB36,DH36,DN36,DT36,DZ36,EF36,EL36,ER36,EX36,FD36) -> 2731697.4 | FI36: =COUNTA(M36,N36,T36,Z36,AF36,AL36,AR36,AX36,BD36,BJ36,BP36,BV36,CB36,CH36,CN36,CT36,CZ36,DF36,DL36,DR36,DX36,ED36,EJ36,EP36,EV36,FB36) -> 4 | FJ36: =IFERROR(FH36/FI36," ") -> 682924.34
A37: =Distribución_Reactivos!A37 -> 35 | B37: =Distribución_Reactivos!B37 -> Agar agar | C37: =Distribución_Reactivos!C37 -> Merck, Oxoid, BBL, Difco, Acumedia, Scharlau, Sigma-Aldrich | D37: =Distribución_Reactivos!D37 -> Frasco x 500g | E37: 1 | F37: 0 | G37: 0 | H37: 0 | I37: 0 | J37: 797300 | K37: 773500 | L37: =J37 -> 797300 | M37: =K37*1.03 -> 796705 | N37: 795000 | O37: =+N37*0.19 -> 151050 | P37: =+O37+N37 -> 946050 | Q37: Frasco x 500 Gr | R37: OXOID | AL37: 498000 | AM37: =+AL37*0.19 -> 94620 | AN37: =+AL37+AM37 -> 592620 | AO37: Frasco 500g | AP37: PANREAC | AR37: 648000 | AS37: =+AR37*0.19 -> 123120 | AT37: =+AR37+AS37 -> 771120 | AU37: Frasco x 500g | AV37: Santa Cruz Biotechnology | BV37: 1872300 | BW37: =BV37*19% -> 355737 | BX37: =+BV37+BW37 -> 2228037 | BY37: frasco x 500 gr | BZ37: MERCK | CB37: 678500 | CC37: =+CB37*19% -> 128915 | CD37: =+CC37+CB37 -> 807415 | CT37: 225000 | CU37: 42750 | CV37: =+CT37+CU37 -> 267750 | CZ37: 1135359 | DA37: =+CZ37*0.19 -> 215718.21 | DB37: =+CZ37+DA37 -> 1351077.2 | DC37: 1 KG | DD37: Merck | DE37: 1016141000 | FH37: =SUM(M37,P37,V37,AB37,AH37,AN37,AT37,AZ37,BF37,BL37,BR37,BX37,CD37,CJ37,CP37,CV37,DB37,DH37,DN37,DT37,DZ37,EF37,EL37,ER37,EX37,FD37) -> 7760774.2 | FI37: =COUNTA(M37,N37,T37,Z37,AF37,AL37,AR37,AX37,BD37,BJ37,BP37,BV37,CB37,CH37,CN37,CT37,CZ37,DF37,DL37,DR37,DX37,ED37,EJ37,EP37,EV37,FB37) -> 8 | FJ37: =IFERROR(FH37/FI37," ") -> 970096.78
A38: =Distribución_Reactivos!A38 -> 36 | B38: =Distribución_Reactivos!B38 -> Agar casman | C38: =Distribución_Reactivos!C38 -> BBL BD 211106 | D38: =Distribución_Reactivos!D38 -> Frasco x 500g | E38: 1 | F38: 757137.5 | G38: 0 | H38: 783107.32 | I38: 0 | J38: 1606500 | K38: 1583890 | L38: =AVERAGE(F38,H38,J38) -> 1048914.9 | M38: =K38*1.03 -> 1631406.7 | BV38: 2540000 | BW38: =BV38*19% -> 482600 | BX38: =+BV38+BW38 -> 3022600 | BY38: frasco x 500 gr | BZ38: BD | CT38: 238000 | CU38: 45220 | CV38: =+CT38+CU38 -> 283220 | CZ38: 734358 | DA38: =+CZ38*0.19 -> 139528.02 | DB38: =+CZ38+DA38 -> 873886.02 | DC38: 500 GR | DD38: Merck | DE38: 1039150500 | FH38: =SUM(M38,P38,V38,AB38,AH38,AN38,AT38,AZ38,BF38,BL38,BR38,BX38,CD38,CJ38,CP38,CV38,DB38,DH38,DN38,DT38,DZ38,EF38,EL38,ER38,EX38,FD38) -> 5811112.7 | FI38: =COUNTA(M38,N38,T38,Z38,AF38,AL38,AR38,AX38,BD38,BJ38,BP38,BV38,CB38,CH38,CN38,CT38,CZ38,DF38,DL38,DR38,DX38,ED38,EJ38,EP38,EV38,FB38) -> 4 | FJ38: =IFERROR(FH38/FI38," ") -> 1452778.2
A39: =Distribución_Reactivos!A39 -> 37 | B39: =Distribución_Reactivos!B39 -> Agar Extracto de levadura | C39: =Distribución_Reactivos!C39 -> Sigma | D39: =Distribución_Reactivos!D39 -> Frasco x 500g | E39: 1 | F39: 0 | G39: 0 | H39: 776701.1 | I39: 0 | J39: 869890 | K39: 0 | L39: =AVERAGE(H39,J39) -> 823295.55 | N39: 1413000 | O39: =+N39*0.19 -> 268470 | P39: =+O39+N39 -> 1681470 | Q39: Frasco x 500 Gr | R39: OXOID | BP39: 556235 | BQ39: =BP39*19% -> 105684.65 | BR39: =+BP39+BQ39 -> 661919.65 | BS39: Frasco x 500 g | BT39: GENEON Ref. CE169 | BU39: Yeast extract powder (Molecular Biology Grade) 500 g | BV39: 1997700 | BW39: =BV39*19% -> 379563 | BX39: =+BV39+BW39 -> 2377263 | BY39: frasco x 500 gr | BZ39: MERCK | CT39: 315520 | CU39: 59948.8 | CV39: =+CT39+CU39 -> 375468.8 | FH39: =SUM(M39,P39,V39,AB39,AH39,AN39,AT39,AZ39,BF39,BL39,BR39,BX39,CD39,CJ39,CP39,CV39,DB39,DH39,DN39,DT39,DZ39,EF39,EL39,ER39,EX39,FD39) -> 5096121.5 | FI39: =COUNTA(M39,N39,T39,Z39,AF39,AL39,AR39,AX39,BD39,BJ39,BP39,BV39,CB39,CH39,CN39,CT39,CZ39,DF39,DL39,DR39,DX39,ED39,EJ39,EP39,EV39,FB39) -> 4 | FJ39: =IFERROR(FH39/FI39," ") -> 1274030.4
A40: =Distribución_Reactivos!A40 -> 38 | B40: =Distribución_Reactivos!B40 -> Agar Hugh- Leifson (OF) | C40: =Distribución_Reactivos!C40 -> Pronadisa o equivalente | D40: =Distribución_Reactivos!D40 -> Frasco x 500g | E40: 1 | F40: 0 | G40: 0 | H40: 0 | I40: 0 | J40: 0 | K40: 0 | BV40: 2046900 | BW40: =BV40*19% -> 388911 | BX40: =+BV40+BW40 -> 2435811 | BY40: frasco x 500 gr | BZ40: MERCK | CT40: 293760 | CU40: 55814.4 | CV40: =+CT40+CU40 -> 349574.4 | FH40: =SUM(M40,P40,V40,AB40,AH40,AN40,AT40,AZ40,BF40,BL40,BR40,BX40,CD40,CJ40,CP40,CV40,DB40,DH40,DN40,DT40,DZ40,EF40,EL40,ER40,EX40,FD40) -> 2785385.4 | FI40: =COUNTA(M40,N40,T40,Z40,AF40,AL40,AR40,AX40,BD40,BJ40,BP40,BV40,CB40,CH40,CN40,CT40,CZ40,DF40,DL40,DR40,DX40,ED40,EJ40,EP40,EV40,FB40) -> 2 | FJ40: =IFERROR(FH40/FI40," ") -> 1392692.7
...

Sheet Distribución_Reactivos
E1: Proponente No. 1. AVANTIKA COLOMBIA SAS | O1: Proponente No. 2 CATVER SAS | Y1: Proponente No. 3 CYMA | AI1: Proponente No. 4 ELEMENTOS QUIMICOS | AS1: Proponente No. 8 YEQUIM SA
A2: Ítem | B2: Descripción técnica | C2: Marca | D2: Presentación | E2: Ficha del producto | F2: Especificaciones minimas tecnicas | G2: Certificación Distribución Autorizada | H2: Registro ICA, como importador de biológico veterinarios | I2: Experiencia especifica | J2: Certifcado de carencia de informes por trafico de estupefacientes | K2: Garantía adicional | L2: Total Puntaje | M2: Habilitado | N2: Observaciones | O2: Ficha del producto | P2: Especificaciones minimas tecnicas | Q2: Certificación Distribución Autorizada | R2: Registro ICA, como importador de biológico veterinarios | S2: Experiencia especifica | T2: Certificado de Carencia de Informes por Tráfico de Estupefacientes | U2: Garantía adicional | V2: Total Puntaje | W2: Habilitado | X2: Observaciones | Y2: Ficha del producto | Z2: Especificaciones minimas tecnicas | AA2: Certificación Distribución Autorizada | AB2: Registro ICA, como importador de biológico veterinarios | AC2: Experiencia especifica | AD2: Certificado de Carencia de Informes por Tráfico de Estupefacientes | AE2: Garantía adicional | AF2: Total Puntaje | AG2: Habilitado | AH2: Observaciones | AI2: Ficha del producto | AJ2: Especificaciones minimas tecnicas | AK2: Certificación Distribución Autorizada | AL2: Registro ICA, como importador de biológico veterinarios | AM2: Experiencia especifica | AN2: Certificado de Carencia de Informes por Tráfico de Estupefacientes | AO2: Garantía adicional | AP2: Total Puntaje | AQ2: Habilitado | AR2: Observaciones | AS2: Ficha del producto | AT2: Especificaciones minimas tecnicas | AU2: Certificación Distribución Autorizada | AV2: Registro ICA, como importador de biológico veterinarios | AW2: Experiencia especifica | AX2: Certificado de Carencia de Informes por Tráfico de Estupefacientes | AY2: Garantía adicional | AZ2: Total Puntaje | BA2: Habilitado | BB2: Observaciones | BC2: Cantidad habilitada | BD2: Resultado de la evaluación Técnica
A3: 1 | B3: 2-Nitrobenzaldehido | C3: Sigma N10802 | D3: Frasco x 2g | L3: =+K3 -> 0 | V3: =+U3 -> 0 | AF3: =AE3 -> 0 | AP3: =+AO3 -> 0 | AS3: Cumple | AT3: Cumple | AU3: Cumple | AV3: No Aplica | AW3: Cumple | AX3: No Aplica | AY3: 0 | AZ3: =+AY3 -> 0 | BA3: Habilitado | BC3: =COUNTIF(M3,"Habilitado")+COUNTIF(W3,"Habilitado")+COUNTIF(AG3,"Habilitado")+COUNTIF(AQ3,"Habilitado")+COUNTIF(AS3,"Habilitado")+COUNTIF(BA3,"Habilitado") -> 1 | BD3: =IF(BC3>=1,"Habilitado","Desierto") -> Habilitado | BE3: Habilitados | BF3: =COUNTIF(BD3:BD568,"Habilitado") -> 335 | BG3: =+BF3/BF5 -> 0.67134269
A4: 2 | B4: 5-Bromo-4-chloro-3-indolyl phosphate p-toluidine salt (BCIP)- Tabletas | C4: Sigma B 0274 | D4: Frasco x 25und | E4: Cumple | F4: Cumple | G4: Cumple | H4: No Aplica | I4: Cumple | J4: No Aplica | K4: 40 | L4: =+K4 -> 40 | M4: Habilitado | V4: =+U4 -> 0 | AF4: =AE4 -> 0 | AP4: =+AO4 -> 0 | AS4: Cumple | AT4: Cumple | AU4: Cumple | AV4: No Aplica | AW4: Cumple | AX4: No Aplica | AY4: 0 | AZ4: =+AY4 -> 0 | BA4: Habilitado | BC4: =COUNTIF(M4,"Habilitado")+COUNTIF(W4,"Habilitado")+COUNTIF(AG4,"Habilitado")+COUNTIF(AQ4,"Habilitado")+COUNTIF(AS4,"Habilitado")+COUNTIF(BA4,"Habilitado") -> 2 | BD4: =IF(BC4>=1,"Habilitado","Desierto") -> Habilitado | BE4: Desiertos | BF4: =COUNTIF(BD3:BD568,"Desierto") -> 164 | BG4: =+BF4/BF5 -> 0.32865731
A5: 3 | B5: Aceite de clavo | C5: Cualquier marca | D5: Frasco x 250ml | E5: Cumple | F5: Cumple | G5: Cumple | H5: No Aplica | I5: Cumple | J5: No Aplica | K5: 40 | L5: =+K5 -> 40 | M5: Habilitado | V5: =+U5 -> 0 | AF5: =AE5 -> 0 | AP5: =+AO5 -> 0 | AS5: Cumple | AT5: No Cumple | AU5: No Cumple | AV5: No Aplica | AW5: Cumple | AX5: No Aplica | AY5: 0 | AZ5: =+AY5 -> 0 | BA5: No habilitado | BB5: La presentación de 5ml no es la requerida. N o allega certificación de distribución | BC5: =COUNTIF(M5,"Habilitado")+COUNTIF(W5,"Habilitado")+COUNTIF(AG5,"Habilitado")+COUNTIF(AQ5,"Habilitado")+COUNTIF(AS5,"Habilitado")+COUNTIF(BA5,"Habilitado") -> 1 | BD5: =IF(BC5>=1,"Habilitado","Desierto") -> Habilitado | BE5: Total de ítems elementos | BF5: =+BF3+BF4 -> 499
A6: 4 | B6: Aceite de inmersión | C6: Cualquier marca | D6: Frasco x 100ml | E6: Cumple | F6: Cumple | G6: No Aplica | H6: No Aplica | I6: Cumple | J6: No Aplica | K6: 40 | L6: =+K6 -> 40 | M6: Habilitado | V6: =+U6 -> 0 | Y6: Cumple | Z6: Cumple | AA6: No Aplica | AB6: No Aplica | AC6: Cumple | AD6: No Aplica | AE6: 40 | AF6: =AE6 -> 40 | AG6: Habilitado | AI6: Cumple | AJ6: Cumple | AK6: Cumple | AL6: No Aplica | AM6: Cumple | AN6: No Aplica | AO6: 20 | AP6: =+AO6 -> 20 | AQ6: Habilitado | AS6: Cumple | AT6: Cumple | AU6: No Aplica | AV6: No Aplica | AW6: Cumple | AX6: No Aplica | AY6: 0 | AZ6: =+AY6 -> 0 | BA6: Habilitado | BC6: =COUNTIF(M6,"Habilitado")+COUNTIF(W6,"Habilitado")+COUNTIF(AG6,"Habilitado")+COUNTIF(AQ6,"Habilitado")+COUNTIF(AS6,"Habilitado")+COUNTIF(BA6,"Habilitado") -> 4 | BD6: =IF(BC6>=1,"Habilitado","Desierto") -> Habilitado
A7: 5 | B7: Aceite mineral | C7: Cualquier marca | D7: Frasco x 50ml | E7: Cumple | F7: Cumple | G7: Cumple | H7: No Aplica | I7: Cumple | J7: No Aplica | K7: 40 | L7: =+K7 -> 40 | M7: Habilitado | V7: =+U7 -> 0 | AF7: =AE7 -> 0 | AI7: Cumple | AJ7: Cumple | AK7: Cumple | AL7: No Aplica | AM7: Cumple | AN7: No Aplica | AO7: 20 | AP7: =+AO7 -> 20 | AQ7: Habilitado | AR7: Se acepta la presentación de 1L ofrecida por el proponente, siempre y cuando no se exceda el presupuesto definido para el item | AS7: Cumple | AT7: Cumple | AU7: Cumple | AV7: No Aplica | AW7: Cumple | AX7: No Aplica | AY7: 0 | AZ7: =+AY7 -> 0 | BA7: Habilitado | BB7: Se acepta la presentación de 1L ofrecida por el proponente, siempre y cuando no se exceda el presupuesto definido para el item | BC7: =COUNTIF(M7,"Habilitado")+COUNTIF(W7,"Habilitado")+COUNTIF(AG7,"Habilitado")+COUNTIF(AQ7,"Habilitado")+COUNTIF(AS7,"Habilitado")+COUNTIF(BA7,"Habilitado") -> 3 | BD7: =IF(BC7>=1,"Habilitado","Desierto") -> Habilitado
A8: 6 | B8: Acetato de amonio grado masas | C8: LiChropur (número en catálogo Millipore-Sigma 73594) | D8: Frasco x 100g | L8: =+K8 -> 0 | V8: =+U8 -> 0 | AF8: =AE8 -> 0 | AP8: =+AO8 -> 0 | AS8: Cumple | AT8: Cumple | AU8: Cumple | AV8: No Aplica | AW8: Cumple | AX8: No Aplica | AY8: 0 | AZ8: =+AY8 -> 0 | BA8: Habilitado | BC8: =COUNTIF(M8,"Habilitado")+COUNTIF(W8,"Habilitado")+COUNTIF(AG8,"Habilitado")+COUNTIF(AQ8,"Habilitado")+COUNTIF(AS8,"Habilitado")+COUNTIF(BA8,"Habilitado") -> 1 | BD8: =IF(BC8>=1,"Habilitado","Desierto") -> Habilitado
A9: 7 | B9: Acetato de etilo grado masas | C9: Sigma Aldrich / Merck / JT Baker o equivalente | D9: Frasco x 1 litro | L9: =+K9 -> 0 | V9: =+U9 -> 0 | Y9: Cumple | Z9: Cumple | AA9: Cumple | AB9: No Aplica | AC9: Cumple | AD9: Cumple | AE9: 40 | AF9: =AE9 -> 40 | AG9: Habilitado | AP9: =+AO9 -> 0 | AZ9: =+AY9 -> 0 | BC9: =COUNTIF(M9,"Habilitado")+COUNTIF(W9,"Habilitado")+COUNTIF(AG9,"Habilitado")+COUNTIF(AQ9,"Habilitado")+COUNTIF(AS9,"Habilitado")+COUNTIF(BA9,"Habilitado") -> 1 | BD9: =IF(BC9>=1,"Habilitado","Desierto") -> Habilitado
A10: 8 | B10: Acetato de etilo para análisis de residuos | C10: Sigma Aldrich / Merck / JT Baker o equivalente | D10: Frasco x 4 litros | E10: Cumple | F10: Cumple | G10: Cumple | H10: No Aplica | I10: Cumple | J10: Cumple | K10: 40 | L10: =+K10 -> 40 | M10: Habilitado | V10: =+U10 -> 0 | Y10: Cumple | Z10: Cumple | AA10: Cumple | AB10: No Aplica | AC10: Cumple | AD10: Cumple | AE10: 40 | AF10: =AE10 -> 40 | AG10: Habilitado | AP10: =+AO10 -> 0 | AZ10: =+AY10 -> 0 | BC10: =COUNTIF(M10,"Habilitado")+COUNTIF(W10,"Habilitado")+COUNTIF(AG10,"Habilitado")+COUNTIF(AQ10,"Habilitado")+COUNTIF(AS10,"Habilitado")+COUNTIF(BA10,"Habilitado") -> 2 | BD10: =IF(BC10>=1,"Habilitado","Desierto") -> Habilitado
A11: 9 | B11: Acetato de potasio | C11: Merck | D11: Frasco x 500 o 1Kg | L11: =+K11 -> 0 | V11: =+U11 -> 0 | AF11: =AE11 -> 0 | AP11: =+AO11 -> 0 | AZ11: =+AY11 -> 0 | BC11: =COUNTIF(M11,"Habilitado")+COUNTIF(W11,"Habilitado")+COUNTIF(AG11,"Habilitado")+COUNTIF(AQ11,"Habilitado")+COUNTIF(AS11,"Habilitado")+COUNTIF(BA11,"Habilitado") -> 0 | BD11: =IF(BC11>=1,"Habilitado","Desierto") -> Desierto
