Workbook
Name _______AFC3: [1]INV!$F$25:$I$28
Name _______AFC5: [1]INV!$K$25:$N$28
Name _______BGC1: [1]INV!$A$5:$D$8
Name _______BGC3: [1]INV!$F$5:$I$8
Name _______BGC5: [1]INV!$K$5:$N$8
Name _______CAC1: [1]INV!$A$19:$D$22
Name _______CAC3: [1]INV!$F$19:$I$22
Name _______CAC5: [1]INV!$K$19:$N$22
Name _______SBC1: [1]INV!$A$12:$D$15
Name _______SBC3: [1]INV!$F$12:$I$15
Name _______SBC5: [1]INV!$K$12:$N$15
Name ______AFC1: [1]INV!$A$25:$D$28
Name ______AFC3: [1]INV!$F$25:$I$28
Name ______AFC5: [1]INV!$K$25:$N$28
Name ______BGC1: [1]INV!$A$5:$D$8
Name ______BGC3: [1]INV!$F$5:$I$8
Name ______BGC5: [1]INV!$K$5:$N$8
Name ______CAC1: [1]INV!$A$19:$D$22
Name ______CAC3: [1]INV!$F$19:$I$22
Name ______CAC5: [1]INV!$K$19:$N$22
Name ______SBC1: [1]INV!$A$12:$D$15
Name ______SBC3: [1]INV!$F$12:$I$15
Name ______SBC5: [1]INV!$K$12:$N$15
Name _____AFC1: [1]INV!$A$25:$D$28
Name _____AFC3: [1]INV!$F$25:$I$28
Name _____AFC5: [1]INV!$K$25:$N$28
Name _____BGC1: [1]INV!$A$5:$D$8
Name _____BGC3: [1]INV!$F$5:$I$8
Name _____BGC5: [1]INV!$K$5:$N$8
Name _____CAC1: [1]INV!$A$19:$D$22
Name _____CAC3: [1]INV!$F$19:$I$22
Name _____CAC5: [1]INV!$K$19:$N$22
Name _____SBC1: [1]INV!$A$12:$D$15
Name _____SBC3: [1]INV!$F$12:$I$15
Name _____SBC5: [1]INV!$K$12:$N$15
Name ____AFC1: [1]INV!$A$25:$D$28
Name ____AFC3: [1]INV!$F$25:$I$28
Name ____AFC5: [1]INV!$K$25:$N$28
Name ____BGC1: [1]INV!$A$5:$D$8
Name ____BGC3: [1]INV!$F$5:$I$8
Name ____BGC5: [1]INV!$K$5:$N$8
Name ____CAC1: [1]INV!$A$19:$D$22
Name ____CAC3: [1]INV!$F$19:$I$22
Name ____CAC5: [1]INV!$K$19:$N$22
Name ____SBC1: [1]INV!$A$12:$D$15
Name ____SBC3: [1]INV!$F$12:$I$15
Name ____SBC5: [1]INV!$K$12:$N$15
Name ___AFC1: [1]INV!$A$25:$D$28
Name ___AFC3: [1]INV!$F$25:$I$28
Name ___AFC5: [1]INV!$K$25:$N$28
Name ___BGC1: [1]INV!$A$5:$D$8
Name ___BGC3: [1]INV!$F$5:$I$8
Name ___BGC5: [1]INV!$K$5:$N$8
Name ___CAC1: [1]INV!$A$19:$D$22
Name ___CAC3: [1]INV!$F$19:$I$22
Name ___CAC5: [1]INV!$K$19:$N$22
Name ___SBC1: [1]INV!$A$12:$D$15
Name ___SBC3: [1]INV!$F$12:$I$15
Name ___SBC5: [1]INV!$K$12:$N$15
Name __AFC1: [1]INV!$A$25:$D$28

Sheet Presup 
B1: REPUBLICA DE COLOMBIA
B2: DEPARTAMENTO DE NARIÑO
B3: ALCALDÍA MUNICIPAL DE SAN LORENZO
B5: MEJORAMIENTO VÍA LA LAGUNA, SALINAS, LOS OLIVOS
B7: Via LA LAGUNA, SALINAS, LOS OLIVOS
B9: PRESUPUESTO GENERAL
B11: ÍTEM | C11: ÍTEM | D11: ESPECIFICACIÓN | E11: DESCRIPCIÓN | F11: UNIDAD | G11: CANTIDAD | H11: VALOR UNITARIO | I11: COSTO TOTAL
E12: No.1. EXPLANACIÓN
B13: 200.2 | C13: 200.2 | D13: 200.13 | E13: =+P.Detall!E13 -> DESMONTE Y LIMPIEZA EN ZONAS NO BOSCOSAS | F13: =+P.Detall!F13 -> HA | G13: =+P.Detall!G13 -> 10.1 | H13: =+P.Detall!H13 -> 437035 | I13: =ROUND(H13*G13,0) -> 4414054
B14: 200.4P | C14: 200.4P | D14: - | E14: =+P.Detall!E14 -> LOCALIZACIÓN Y REPLANTEO (CARRETERA) | F14: =+P.Detall!F14 -> ML | G14: =+P.Detall!G14 -> 200 | H14: =+P.Detall!H14 -> 1903 | I14: =ROUND(H14*G14,0) -> 380600
B15: 201.7 | C15: 201.7 | D15: 201-13 | E15: =+P.Detall!E15 -> DEMOLICIÓN DE ESTRUCTURAS | F15: =+P.Detall!F15 -> M3 | G15: =+P.Detall!G15 -> 38 | H15: =+P.Detall!H15 -> 121154 | I15: =ROUND(H15*G15,0) -> 4603852
B16: 215 | D16: 201-13 | E16: =+P.Detall!E16 -> REMOSIÓN DE ALCANTARILLAS | F16: =+P.Detall!F16 -> ML | G16: =+P.Detall!G16 -> 30 | H16: =+P.Detall!H16 -> 38069 | I16: =ROUND(H16*G16,0) -> 1142070
B17: 210.1.1 | D17: 210-13 | E17: =+P.Detall!E17 -> EXCAVACION SIN CLASIFICAR DE LA EXPLANACIÓN Y CANALES | F17: =+P.Detall!F17 -> M3 | G17: =+P.Detall!G17 -> 39 | H17: =+P.Detall!H17 -> 15835 | I17: =ROUND(H17*G17,0) -> 617565
B18: 210.2.1 | D18: 210-13 | E18: =+P.Detall!E18 -> EXCAVACION EN ROCA DE LA EXPLANACION Y CANALES | F18: =+P.Detall!F18 -> M3 | G18: =+P.Detall!G18 -> 10 | H18: =+P.Detall!H18 -> 64116 | I18: =ROUND(H18*G18,0) -> 641160
B19: 211.1 | D19: 220-13 | E19: =+P.Detall!E19 -> REMOCION DE DERRUMBES | F19: =+P.Detall!F19 -> M3 | G19: =+P.Detall!G19 -> 4 | H19: =+P.Detall!H19 -> 6812 | I19: =ROUND(H19*G19,0) -> 27248
B20: 220.1 | E20: =+P.Detall!E20 -> TERRAPLEN | F20: =+P.Detall!F20 -> M3 | G20: =+P.Detall!G20 -> 34 | H20: =+P.Detall!H20 -> 271005 | I20: =ROUND(H20*G20,0) -> 9214170
B21: 230.1 | D21: 230-13 | E21: =+P.Detall!E21 -> MEJORAMIENTO DE LA SUBRASANTE EMPLEANDO UNICAMENTE MATERIAL ADICIONADO | F21: =+P.Detall!F21 -> M3 | G21: =+P.Detall!G21 -> 66 | H21: =+P.Detall!H21 -> 214427 | I21: =ROUND(H21*G21,0) -> 14152182
B22: 310.1 | D22: 310-13 | E22: =+P.Detall!E22 -> CONFORMACIÓN DE LA CALZADA EXISTENTE CON ADICIÓN DE MATERIAL | F22: =+P.Detall!F22 -> M2 | G22: =+P.Detall!G22 -> 900 | H22: =+P.Detall!H22 -> 21590 | I22: =ROUND(H22*G22,0) -> 19431000
G24: SUBTOTAL EXPLANACION | I24: =+SUM(I13:I23) -> 54623901
E26: No.2. AFIRMADO Y SUBBASE
B27: 311.1 | C27: 311.1 | D27: 311-13 | E27: =+P.Detall!E27 -> AFIRMADO | F27: =+P.Detall!F27 -> M3 | G27: =+P.Detall!G27 -> 135 | H27: =+P.Detall!H27 -> 209641 | I27: =ROUND(H27*G27,0) -> 28301535
B28: 320.1 | C28: 330.1 | D28: 320-13 | E28: =+P.Detall!E28 -> SUBBASE GRANULAR | F28: =+P.Detall!F28 -> M3 | G28: =+P.Detall!G28 -> 180 | H28: =+P.Detall!H28 -> 277788 | I28: =ROUND(H28*G28,0) -> 50001840
G30: SUBTOTAL AFIRMADO Y SUBBASE | I30: =+SUM(I27:I29) -> 78303375
E32: No.3. PAVIMENTO
B33: 500.1 | D33: 500-13 | E33: =+P.Detall!E33 -> CONCRETO HIDRAULICO DE 210 KG/CM² (3.000 PSI) CLASE D, ESPESOR 0,15 M - PLACAS Y DENTELLONES | F33: =+P.Detall!F33 -> M3 | G33: =+P.Detall!G33 -> 54 | H33: =+P.Detall!H33 -> 753952 | I33: =ROUND(H33*G33,0) -> 40713408
G35: SUBTOTAL PAVIMENTO: | I35: =+SUM(I33:I34) -> 40713408
E37: No.4. ESTRUCTURAS Y DRENAJES
E38: =+P.Detall!E38 -> EXCAVACIONES PARA ESTRUCTURAS:
B39: 600.1.1 | C39: 225P | D39: 600-13 | E39: =+P.Detall!E39 -> EXCAVACIONES VARIAS SIN CLASIFICAR | F39: =+P.Detall!F39 -> M3 | G39: =+P.Detall!G39 -> 952 | H39: =+P.Detall!H39 -> 15470 | I39: =ROUND(H39*G39,0) -> 14727440
B40: 600.2.1 | D40: 600-13 | E40: =+P.Detall!E40 -> EXCAVACIONES VARIAS EN ROCA EN SECO | F40: =+P.Detall!F40 -> M3 | G40: =+P.Detall!G40 -> 238 | H40: =+P.Detall!H40 -> 85717 | I40: =ROUND(H40*G40,0) -> 20400646
B41: 600.2.2 | C41: 600.3 | D41: 600-13 | E41: =+P.Detall!E41 -> EXCAVACIONES VARIAS EN ROCA BAJO AGUA | F41: =+P.Detall!F41 -> M3 | G41: =+P.Detall!G41 -> 48 | H41: =+P.Detall!H41 -> 126016 | I41: =ROUND(H41*G41,0) -> 6048768
B42: 600.2.4 | C42: 600.5 | D42: 600-13 | E42: =+P.Detall!E42 -> EXCAVACIONES VARIAS EN MATERIAL COMÚN BAJO AGUA | F42: =+P.Detall!F42 -> M3 | G42: =+P.Detall!G42 -> 10 | H42: =+P.Detall!H42 -> 17713 | I42: =ROUND(H42*G42,0) -> 177130
E44: =+P.Detall!E44 -> ESTRUCTURAS DE CONCRETO:
B45: 630.1 | C45: 630.4 | D45: 630-13 | E45: =+P.Detall!E45 -> CONCRETO CLASE C | F45: =+P.Detall!F45 -> M3 | G45: =+P.Detall!G45 -> 30 | H45: =+P.Detall!H45 -> 805045 | I45: =ROUND(H45*G45,0) -> 24151350
B46: 630.2 | D46: 630-13 | E46: =+P.Detall!E46 -> CONCRETO CLASE D | F46: =+P.Detall!F46 -> M3 | G46: =+P.Detall!G46 -> 77 | H46: =+P.Detall!H46 -> 769874 | I46: =ROUND(H46*G46,0) -> 59280298
B47: 630.3 | C47: 630.6 | D47: 630-13 | E47: =+P.Detall!E47 -> CONCRETO CLASE F | F47: =+P.Detall!F47 -> M3 | G47: =+P.Detall!G47 -> 14 | H47: =+P.Detall!H47 -> 594611 | I47: =ROUND(H47*G47,0) -> 8324554
B48: 630.4 | C48: 630.7 | D48: 630-13 | E48: =+P.Detall!E48 -> CONCRETO CLASE G | F48: =+P.Detall!F48 -> M3 | G48: =+P.Detall!G48 -> 139 | H48: =+P.Detall!H48 -> 336812 | I48: =ROUND(H48*G48,0) -> 46816868
E50: =+P.Detall!E50 -> SUMINISTROS:
B51: 640.1 | D51: 640-13 | E51: =+P.Detall!E51 -> ACERO DE REFUERZO fy 412 Mpa | F51: =+P.Detall!F51 -> KG | G51: =+P.Detall!G51 -> 14966 | H51: =+P.Detall!H51 -> 8870 | I51: =ROUND(H51*G51,0) -> 132748420
B52: 610.1 | C52: 610.1 | D52: 610-13 | E52: =+P.Detall!E52 -> RELLENO PARA ESTRUCTURAS CON RECEBO | F52: =+P.Detall!F52 -> M3 | G52: =+P.Detall!G52 -> 271 | H52: =+P.Detall!H52 -> 78359 | I52: =ROUND(H52*G52,0) -> 21235289
...

Sheet P.Detall
B1: REPUBLICA DE COLOMBIA
B2: DEPARTAMENTO DE NARIÑO
B3: =+'Presup '!B3:I3 -> ALCALDÍA MUNICIPAL DE SAN LORENZO
B5: =+'Presup '!B5:I6 -> MEJORAMIENTO VÍA LA LAGUNA, SALINAS, LOS OLIVOS
B9: PRESUPUESTO DETALLADO
B11: ÍTEM | C11: ÍTEM | D11: ESPECIFICACIÓN | E11: DESCRIPCIÓN | F11: UNIDAD | G11: CANTIDAD | H11: VALOR UNITARIO | I11: COSTO TOTAL | J11: EQUIPO | K11: TOTAL EQUIPO | L11: MATERIALES | M11: TOTAL MATERIALES | N11: TRANSPORTE | O11: TOTAL TRANSPORTE | P11: MANO DE OBRA | Q11: TOTAL MANO DE OBRA | R11: COSTO DIRECTO | S11: TOTAL COSTO DIRECTO | T11: COSTO INDIRECTO | U11: TOTAL COSTO INDIRECTO | V11: VALOR UNITARIO | W11: TOTAL
E12: No.1. EXPLANACIÓN
B13: =+'Presup '!B13 -> 200.2 | C13: 200.2 | D13: 200.13 | E13: DESMONTE Y LIMPIEZA EN ZONAS NO BOSCOSAS | F13: HA | G13: =+cant!J31 -> 10.1 | H13: =+'200.2'!I55 -> 437035 | I13: =ROUND(H13*G13,0) -> 4414054 | J13: =+'200.2'!I19 -> 154181 | K13: =+J13*G13 -> 1557228.1 | L13: =+'200.2'!I29 -> 0 | M13: =+L13*G13 -> 0 | N13: =+'200.2'!I36 -> 62050 | O13: =+N13*G13 -> 626705 | P13: =+'200.2'!I45 -> 119950 | Q13: =+P13*G13 -> 1211495 | R13: =+J13+L13+N13+P13 -> 336181 | S13: =+R13*G13 -> 3395428.1 | T13: =+'200.2'!I53 -> 100854 | U13: =+T13*G13 -> 1018625.4 | V13: =+J13+L13+N13+P13+T13 -> 437035 | W13: =+V13*G13 -> 4414053.5
B14: =+'Presup '!B14 -> 200.4P | C14: 200.4P | D14: - | E14: LOCALIZACIÓN Y REPLANTEO (CARRETERA) | F14: ML | G14: =+cant!E36 -> 200 | H14: =+'200,4P'!I55 -> 1903 | I14: =ROUND(H14*G14,0) -> 380600 | J14: =+'200,4P'!I19 -> 103 | K14: =+J14*G14 -> 20600 | L14: =+'200,4P'!I29 -> 621 | M14: =+L14*G14 -> 124200 | N14: =+'200,4P'!I36 -> 0 | O14: =+N14*G14 -> 0 | P14: =+'200,4P'!I45 -> 740 | Q14: =+P14*G14 -> 148000 | R14: =+J14+L14+N14+P14 -> 1464 | S14: =+R14*G14 -> 292800 | T14: =+'200,4P'!I53 -> 439 | U14: =+T14*G14 -> 87800 | V14: =+J14+L14+N14+P14+T14 -> 1903 | W14: =+V14*G14 -> 380600
B15: =+'Presup '!B15 -> 201.7 | C15: 201.7 | D15: 201-13 | E15: DEMOLICIÓN DE ESTRUCTURAS | F15: M3 | G15: =+cant!J112 -> 38 | H15: =+'201,7'!I55 -> 121154 | I15: =ROUND(H15*G15,0) -> 4603852 | J15: =+'201,7'!I19 -> 68466 | K15: =+J15*G15 -> 2601708 | L15: =+'201,7'!I29 -> 0 | M15: =+L15*G15 -> 0 | N15: =+'201,7'!I36 -> 3309 | O15: =+N15*G15 -> 125742 | P15: =+'201,7'!I45 -> 21420 | Q15: =+P15*G15 -> 813960 | R15: =+J15+L15+N15+P15 -> 93195 | S15: =+R15*G15 -> 3541410 | T15: =+'201,7'!I53 -> 27959 | U15: =+T15*G15 -> 1062442 | V15: =+J15+L15+N15+P15+T15 -> 121154 | W15: =+V15*G15 -> 4603852
B16: =+'Presup '!B16 -> 215 | D16: 201-13 | E16: REMOSIÓN DE ALCANTARILLAS | F16: ML | G16: =+cant!J128 -> 30 | H16: =+'215'!I55 -> 38069 | I16: =ROUND(H16*G16,0) -> 1142070 | J16: =+'215'!I19 -> 20817 | K16: =+J16*G16 -> 624510 | L16: =+'215'!I29 -> 0 | M16: =+L16*G16 -> 0 | N16: =+'215'!I36 -> 1613 | O16: =+N16*G16 -> 48390 | P16: =+'215'!I45 -> 6854 | Q16: =+P16*G16 -> 205620 | R16: =+J16+L16+N16+P16 -> 29284 | S16: =+R16*G16 -> 878520 | T16: =+'215'!I53 -> 8785 | U16: =+T16*G16 -> 263550 | V16: =+J16+L16+N16+P16+T16 -> 38069 | W16: =+V16*G16 -> 1142070
B17: =+'Presup '!B17 -> 210.1.1 | D17: 210-13 | E17: EXCAVACION SIN CLASIFICAR DE LA EXPLANACIÓN Y CANALES | F17: M3 | G17: =+cant!J147 -> 39 | H17: =+'210,1,1'!I55 -> 15835 | I17: =ROUND(H17*G17,0) -> 617565 | J17: =+'210,1,1'!I19 -> 10358 | K17: =+J17*G17 -> 403962 | L17: =+'210,1,1'!I29 -> 0 | M17: =+L17*G17 -> 0 | N17: =+'210,1,1'!I36 -> 0 | O17: =+N17*G17 -> 0 | P17: =+'210,1,1'!I45 -> 1823 | Q17: =+P17*G17 -> 71097 | R17: =+J17+L17+N17+P17 -> 12181 | S17: =+R17*G17 -> 475059 | T17: =+'210,1,1'!I53 -> 3654 | U17: =+T17*G17 -> 142506 | V17: =+J17+L17+N17+P17+T17 -> 15835 | W17: =+V17*G17 -> 617565
B18: =+'Presup '!B18 -> 210.2.1 | D18: 210-13 | E18: EXCAVACION EN ROCA DE LA EXPLANACION Y CANALES | F18: M3 | G18: =+cant!J169 -> 10 | H18: =+'210,2,1'!I55 -> 64116 | I18: =ROUND(H18*G18,0) -> 641160 | J18: =+'210,2,1'!I19 -> 21947 | K18: =+J18*G18 -> 219470 | L18: =+'210,2,1'!I29 -> 24215 | M18: =+L18*G18 -> 242150 | N18: =+'210,2,1'!I36 -> 0 | O18: =+N18*G18 -> 0 | P18: =+'210,2,1'!I45 -> 3158 | Q18: =+P18*G18 -> 31580 | R18: =+J18+L18+N18+P18 -> 49320 | S18: =+R18*G18 -> 493200 | T18: =+'210,2,1'!I53 -> 14796 | U18: =+T18*G18 -> 147960 | V18: =+J18+L18+N18+P18+T18 -> 64116 | W18: =+V18*G18 -> 641160
B19: =+'Presup '!B19 -> 211.1 | D19: 220-13 | E19: REMOCION DE DERRUMBES | F19: M3 | G19: =+cant!J187 -> 4 | H19: =+'211,1'!I55 -> 6812 | I19: =ROUND(H19*G19,0) -> 27248 | J19: =+'211,1'!I19 -> 2289 | K19: =+J19*G19 -> 9156 | L19: =+'211,1'!I29 -> 2236 | M19: =+L19*G19 -> 8944 | N19: =+'211,1'!I36 -> 0 | O19: =+N19*G19 -> 0 | P19: =+'211,1'!I45 -> 715 | Q19: =+P19*G19 -> 2860 | R19: =+J19+L19+N19+P19 -> 5240 | S19: =+R19*G19 -> 20960 | T19: =+'211,1'!I53 -> 1572 | U19: =+T19*G19 -> 6288 | V19: =+J19+L19+N19+P19+T19 -> 6812 | W19: =+V19*G19 -> 27248
B20: 220.1 | E20: TERRAPLEN | F20: M3 | G20: =+cant!J202 -> 34 | H20: =+'220,1'!I55 -> 271005 | I20: =ROUND(H20*G20,0) -> 9214170 | J20: =+'220,1'!I19 -> 6732 | K20: =+J20*G20 -> 228888 | L20: =+'220,1'!I29 -> 33605 | M20: =+L20*G20 -> 1142570 | N20: =+'220,1'!I36 -> 167783 | O20: =+N20*G20 -> 5704622 | P20: =+'220,1'!I45 -> 345 | Q20: =+P20*G20 -> 11730 | R20: =+J20+L20+N20+P20 -> 208465 | S20: =+R20*G20 -> 7087810 | T20: =+'220,1'!I53 -> 62540 | U20: =+T20*G20 -> 2126360 | V20: =+J20+L20+N20+P20+T20 -> 271005 | W20: =+V20*G20 -> 9214170
B21: =+'Presup '!B21 -> 230.1 | D21: 230-13 | E21: MEJORAMIENTO DE LA SUBRASANTE EMPLEANDO UNICAMENTE MATERIAL ADICIONADO | F21: M3 | G21: =+cant!J217 -> 66 | H21: =+'230,1'!I55 -> 214427 | I21: =ROUND(H21*G21,0) -> 14152182 | J21: =+'230,1'!I19 -> 1947 | K21: =+J21*G21 -> 128502 | L21: =+'230,1'!I29 -> 33693 | M21: =+L21*G21 -> 2223738 | N21: =+'230,1'!I36 -> 129064 | O21: =+N21*G21 -> 8518224 | P21: =+'230,1'!I45 -> 240 | Q21: =+P21*G21 -> 15840 | R21: =+J21+L21+N21+P21 -> 164944 | S21: =+R21*G21 -> 10886304 | T21: =+'230,1'!I53 -> 49483 | U21: =+T21*G21 -> 3265878 | V21: =+J21+L21+N21+P21+T21 -> 214427 | W21: =+V21*G21 -> 14152182
B22: =+'Presup '!B22 -> 310.1 | D22: 310-13 | E22: CONFORMACIÓN DE LA CALZADA EXISTENTE CON ADICIÓN DE MATERIAL | F22: M2 | G22: =+cant!J239 -> 900 | H22: =+'310,1'!I55 -> 21590 | I22: =ROUND(H22*G22,0) -> 19431000 | J22: =+'310,1'!I19 -> 487 | K22: =+J22*G22 -> 438300 | L22: =+'310,1'!I29 -> 3190 | M22: =+L22*G22 -> 2871000 | N22: =+'310,1'!I36 -> 12906 | O22: =+N22*G22 -> 11615400 | P22: =+'310,1'!I45 -> 25 | Q22: =+P22*G22 -> 22500 | R22: =+J22+L22+N22+P22 -> 16608 | S22: =+R22*G22 -> 14947200 | T22: =+'310,1'!I53 -> 4982 | U22: =+T22*G22 -> 4483800 | V22: =+J22+L22+N22+P22+T22 -> 21590 | W22: =+V22*G22 -> 19431000
G24: SUBTOTAL EXPLANACION | I24: =+SUM(I13:I23) -> 54623901 | K24: =+SUM(K13:K23) -> 6232324.1 | M24: =+SUM(M13:M23) -> 6612602 | O24: =+SUM(O13:O23) -> 26639083 | Q24: =+SUM(Q13:Q23) -> 2534682 | S24: =+SUM(S13:S23) -> 42018691 | U24: =+SUM(U13:U23) -> 12605209 | W24: =+SUM(W13:W23) -> 54623900
E26: No.2. AFIRMADO Y SUBBASE
B27: 311.1 | C27: 311.1 | D27: 311-13 | E27: AFIRMADO | F27: M3 | G27: =+cant!J256 -> 135 | H27: =+'311,1'!I55 -> 209641 | I27: =ROUND(H27*G27,0) -> 28301535 | J27: =+'311,1'!I19 -> 5842 | K27: =+J27*G27 -> 788670 | L27: =+'311,1'!I29 -> 31020 | M27: =+L27*G27 -> 4187700 | N27: =+'311,1'!I36 -> 124100 | O27: =+N27*G27 -> 16753500 | P27: =+'311,1'!I45 -> 300 | Q27: =+P27*G27 -> 40500 | R27: =+J27+L27+N27+P27 -> 161262 | S27: =+R27*G27 -> 21770370 | T27: =+'311,1'!I53 -> 48379 | U27: =+T27*G27 -> 6531165 | V27: =+J27+L27+N27+P27+T27 -> 209641 | W27: =+V27*G27 -> 28301535
B28: 320.1 | C28: 330.1 | D28: 320-13 | E28: SUBBASE GRANULAR | F28: M3 | G28: =+cant!J270 -> 180 | H28: =+'320,1'!I55 -> 277788 | I28: =ROUND(H28*G28,0) -> 50001840 | J28: =+'320,1'!I19 -> 6525 | K28: =+J28*G28 -> 1174500 | L28: =+'320,1'!I29 -> 51700 | M28: =+L28*G28 -> 9306000 | N28: =+'320,1'!I36 -> 155125 | O28: =+N28*G28 -> 27922500 | P28: =+'320,1'!I45 -> 333 | Q28: =+P28*G28 -> 59940 | R28: =+J28+L28+N28+P28 -> 213683 | S28: =+R28*G28 -> 38462940 | T28: =+'320,1'!I53 -> 64105 | U28: =+T28*G28 -> 11538900 | V28: =+J28+L28+N28+P28+T28 -> 277788 | W28: =+V28*G28 -> 50001840
G30: SUBTOTAL AFIRMADO Y SUBBASE | I30: =+SUM(I27:I29) -> 78303375 | K30: =+SUM(K27:K29) -> 1963170 | M30: =+SUM(M27:M29) -> 13493700 | O30: =+SUM(O27:O29) -> 44676000 | Q30: =+SUM(Q27:Q29) -> 100440 | S30: =+SUM(S27:S29) -> 60233310 | U30: =+SUM(U27:U29) -> 18070065 | W30: =+SUM(W27:W29) -> 78303375
E32: No.3. PAVIMENTO PLACA HUELLA
B33: 500.1 | D33: 500-13 | E33: CONCRETO HIDRAULICO DE 210 KG/CM² (3.000 PSI) CLASE D, ESPESOR 0,15 M - PLACAS Y DENTELLONES | F33: M3 | G33: =+cant!J284 -> 54 | H33: =+'500,1'!I55 -> 753952 | I33: =ROUND(H33*G33,0) -> 40713408 | J33: =+'500,1'!I19 -> 9960 | K33: =+J33*G33 -> 537840 | L33: =+'500,1'!I29 -> 466225 | M33: =+L33*G33 -> 25176150 | N33: =+'500,1'!I36 -> 99280 | O33: =+N33*G33 -> 5361120 | P33: =+'500,1'!I45 -> 4498 | Q33: =+P33*G33 -> 242892 | R33: =+J33+L33+N33+P33 -> 579963 | S33: =+R33*G33 -> 31318002 | T33: =+'500,1'!I53 -> 173989 | U33: =+T33*G33 -> 9395406 | V33: =+J33+L33+N33+P33+T33 -> 753952 | W33: =+V33*G33 -> 40713408
G35: SUBTOTAL AFIRMADO Y SUBBASE: | I35: =+SUM(I33:I34) -> 40713408 | K35: =+SUM(K33:K34) -> 537840 | M35: =+SUM(M33:M34) -> 25176150 | O35: =+SUM(O33:O34) -> 5361120 | Q35: =+SUM(Q33:Q34) -> 242892 | S35: =+SUM(S33:S34) -> 31318002 | U35: =+SUM(U33:U34) -> 9395406 | W35: =+SUM(W33:W34) -> 40713408
E37: No.4. ESTRUCTURAS Y DRENAJES
E38: EXCAVACIONES PARA ESTRUCTURAS:
B39: 600.1.1 | C39: 225P | D39: 600-13 | E39: EXCAVACIONES VARIAS SIN CLASIFICAR | F39: M3 | G39: =+cant!J392 -> 952 | H39: =+'600,1,1'!I55 -> 15470 | I39: =ROUND(H39*G39,0) -> 14727440 | J39: =+'600,1,1'!I19 -> 7888 | K39: =+J39*G39 -> 7509376 | L39: =+'600,1,1'!I29 -> 0 | M39: =+L39*G39 -> 0 | N39: =+'600,1,1'!I36 -> 1613 | O39: =+N39*G39 -> 1535576 | P39: =+'600,1,1'!I45 -> 2399 | Q39: =+P39*G39 -> 2283848 | R39: =+J39+L39+N39+P39 -> 11900 | S39: =+R39*G39 -> 11328800 | T39: =+'600,1,1'!I53 -> 3570 | U39: =+T39*G39 -> 3398640 | V39: =+J39+L39+N39+P39+T39 -> 15470 | W39: =+V39*G39 -> 14727440
B40: 600.2.1 | D40: 600-13 | E40: EXCAVACIONES VARIAS EN ROCA EN SECO | F40: M3 | G40: =+cant!J405 -> 238 | H40: =+'600,2,1'!I55 -> 85717 | I40: =ROUND(H40*G40,0) -> 20400646 | J40: =+'600,2,1'!I19 -> 33844 | K40: =+J40*G40 -> 8054872 | L40: =+'600,2,1'!I29 -> 25441 | M40: =+L40*G40 -> 6054958 | N40: =+'600,2,1'!I36 -> 1613 | O40: =+N40*G40 -> 383894 | P40: =+'600,2,1'!I45 -> 5038 | Q40: =+P40*G40 -> 1199044 | R40: =+J40+L40+N40+P40 -> 65936 | S40: =+R40*G40 -> 15692768 | T40: =+'600,2,1'!I53 -> 19781 | U40: =+T40*G40 -> 4707878 | V40: =+J40+L40+N40+P40+T40 -> 85717 | W40: =+V40*G40 -> 20400646
B41: 600.2.2 | C41: 600.3 | D41: 600-13 | E41: EXCAVACIONES VARIAS EN ROCA BAJO AGUA | F41: M3 | G41: =+cant!J419 -> 48 | H41: =+'6002,2'!I55 -> 126016 | I41: =ROUND(H41*G41,0) -> 6048768 | J41: =+'6002,2'!I19 -> 46982 | K41: =+J41*G41 -> 2255136 | L41: =+'6002,2'!I29 -> 25441 | M41: =+L41*G41 -> 1221168 | N41: =+'6002,2'!I36 -> 1613 | O41: =+N41*G41 -> 77424 | P41: =+'6002,2'!I45 -> 22899 | Q41: =+P41*G41 -> 1099152 | R41: =+J41+L41+N41+P41 -> 96935 | S41: =+R41*G41 -> 4652880 | T41: =+'6002,2'!I53 -> 29081 | U41: =+T41*G41 -> 1395888 | V41: =+J41+L41+N41+P41+T41 -> 126016 | W41: =+V41*G41 -> 6048768
B42: 600.2.4 | C42: 600.5 | D42: 600-13 | E42: EXCAVACIONES VARIAS EN MATERIAL COMÚN BAJO AGUA | F42: M3 | G42: =+cant!J432 -> 10 | H42: =+'600,2,4'!I55 -> 17713 | I42: =ROUND(H42*G42,0) -> 177130 | J42: =+'600,2,4'!I19 -> 10584 | K42: =+J42*G42 -> 105840 | L42: =+'600,2,4'!I29 -> 0 | M42: =+L42*G42 -> 0 | N42: =+'600,2,4'!I36 -> 1613 | O42: =+N42*G42 -> 16130 | P42: =+'600,2,4'!I45 -> 1428 | Q42: =+P42*G42 -> 14280 | R42: =+J42+L42+N42+P42 -> 13625 | S42: =+R42*G42 -> 136250 | T42: =+'600,2,4'!I53 -> 4088 | U42: =+T42*G42 -> 40880 | V42: =+J42+L42+N42+P42+T42 -> 17713 | W42: =+V42*G42 -> 177130
E44: ESTRUCTURAS DE CONCRETO:
B45: 630.1 | C45: 630.4 | D45: 630-13 | E45: CONCRETO CLASE C | F45: M3 | G45: =+cant!J498 -> 30 | H45: =+'630,1'!I55 -> 805045 | I45: =ROUND(H45*G45,0) -> 24151350 | J45: =+'630,1'!I19 -> 24093 | K45: =+J45*G45 -> 722790 | L45: =+'630,1'!I29 -> 408757 | M45: =+L45*G45 -> 12262710 | N45: =+'630,1'!I36 -> 126440 | O45: =+N45*G45 -> 3793200 | P45: =+'630,1'!I45 -> 59975 | Q45: =+P45*G45 -> 1799250 | R45: =+J45+L45+N45+P45 -> 619265 | S45: =+R45*G45 -> 18577950 | T45: =+'630,1'!I53 -> 185780 | U45: =+T45*G45 -> 5573400 | V45: =+J45+L45+N45+P45+T45 -> 805045 | W45: =+V45*G45 -> 24151350
B46: 630.2 | D46: 630-13 | E46: CONCRETO CLASE D | F46: M3 | G46: =+cant!J514 -> 77 | H46: =+'630,2'!I55 -> 769874 | I46: =ROUND(H46*G46,0) -> 59280298 | J46: =+'630,2'!I19 -> 28263 | K46: =+J46*G46 -> 2176251 | L46: =+'630,2'!I29 -> 365049 | M46: =+L46*G46 -> 28108773 | N46: =+'630,2'!I36 -> 148920 | O46: =+N46*G46 -> 11466840 | P46: =+'630,2'!I45 -> 49979 | Q46: =+P46*G46 -> 3848383 | R46: =+J46+L46+N46+P46 -> 592211 | S46: =+R46*G46 -> 45600247 | T46: =+'630,2'!I53 -> 177663 | U46: =+T46*G46 -> 13680051 | V46: =+J46+L46+N46+P46+T46 -> 769874 | W46: =+V46*G46 -> 59280298
B47: 630.3 | C47: 630.6 | D47: 630-13 | E47: CONCRETO CLASE F | F47: M3 | G47: =+cant!J582 -> 14 | H47: =+'630,3'!I55 -> 594611 | I47: =ROUND(H47*G47,0) -> 8324554 | J47: =+'630,3'!I19 -> 20508 | K47: =+J47*G47 -> 287112 | L47: =+'630,3'!I29 -> 247914 | M47: =+L47*G47 -> 3470796 | N47: =+'630,3'!I36 -> 138992 | O47: =+N47*G47 -> 1945888 | P47: =+'630,3'!I45 -> 49979 | Q47: =+P47*G47 -> 699706 | R47: =+J47+L47+N47+P47 -> 457393 | S47: =+R47*G47 -> 6403502 | T47: =+'630,3'!I53 -> 137218 | U47: =+T47*G47 -> 1921052 | V47: =+J47+L47+N47+P47+T47 -> 594611 | W47: =+V47*G47 -> 8324554
B48: 630.4 | C48: 630.7 | D48: 630-13 | E48: CONCRETO CLASE G | F48: M3 | G48: =+cant!J599 -> 139 | H48: =+'630,4'!I55 -> 336812 | I48: =ROUND(H48*G48,0) -> 46816868 | J48: =+'630,4'!I19 -> 2999 | K48: =+J48*G48 -> 416861 | L48: =+'630,4'!I29 -> 193134 | M48: =+L48*G48 -> 26845626 | N48: =+'630,4'!I36 -> 2978 | O48: =+N48*G48 -> 413942 | P48: =+'630,4'!I45 -> 59975 | Q48: =+P48*G48 -> 8336525 | R48: =+J48+L48+N48+P48 -> 259086 | S48: =+R48*G48 -> 36012954 | T48: =+'630,4'!I53 -> 77726 | U48: =+T48*G48 -> 10803914 | V48: =+J48+L48+N48+P48+T48 -> 336812 | W48: =+V48*G48 -> 46816868
E50: SUMINISTROS:
B51: 640.1 | D51: 640-13 | E51: ACERO DE REFUERZO fy 412 Mpa | F51: KG | G51: =+cant!J666 -> 14966 | H51: =+'640,1'!I55 -> 8870 | I51: =ROUND(H51*G51,0) -> 132748420 | J51: =+'640,1'!I19 -> 46 | K51: =+J51*G51 -> 688436 | L51: =+'640,1'!I29 -> 5877 | M51: =+L51*G51 -> 87955182 | N51: =+'640,1'!I36 -> 0 | O51: =+N51*G51 -> 0 | P51: =+'640,1'!I45 -> 900 | Q51: =+P51*G51 -> 13469400 | R51: =+J51+L51+N51+P51 -> 6823 | S51: =+R51*G51 -> 102113018 | T51: =+'640,1'!I53 -> 2047 | U51: =+T51*G51 -> 30635402 | V51: =+J51+L51+N51+P51+T51 -> 8870 | W51: =+V51*G51 -> 132748420
B52: 610.1 | C52: 610.1 | D52: 610-13 | E52: RELLENO PARA ESTRUCTURAS CON RECEBO | F52: M3 | G52: =+cant!J738 -> 271 | H52: =+'610,1'!I55 -> 78359 | I52: =ROUND(H52*G52,0) -> 21235289 | J52: =+'610,1'!I19 -> 3676 | K52: =+J52*G52 -> 996196 | L52: =+'610,1'!I29 -> 34925 | M52: =+L52*G52 -> 9464675 | N52: =+'610,1'!I36 -> 9680 | O52: =+N52*G52 -> 2623280 | P52: =+'610,1'!I45 -> 11995 | Q52: =+P52*G52 -> 3250645 | R52: =+J52+L52+N52+P52 -> 60276 | S52: =+R52*G52 -> 16334796 | T52: =+'610,1'!I53 -> 18083 | U52: =+T52*G52 -> 4900493 | V52: =+J52+L52+N52+P52+T52 -> 78359 | W52: =+V52*G52 -> 21235289
B53: 661.1 | C53: 661.1 | D53: 661-13 | E53: TUBERÍA DE CONCRETO REFORZADO 900 MM DIÁMETRO INTERIOR (TIPO 1) | F53: ML | G53: =+cant!J753 -> 113 | H53: =+'661,1'!I55 -> 734009 | I53: =ROUND(H53*G53,0) -> 82943017 | J53: =+'661,1'!I19 -> 3999 | K53: =+J53*G53 -> 451887 | L53: =+'661,1'!I29 -> 376853 | M53: =+L53*G53 -> 42584389 | N53: =+'661,1'!I36 -> 168776 | O53: =+N53*G53 -> 19071688 | P53: =+'661,1'!I45 -> 14994 | Q53: =+P53*G53 -> 1694322 | R53: =+J53+L53+N53+P53 -> 564622 | S53: =+R53*G53 -> 63802286 | T53: =+'661,1'!I53 -> 169387 | U53: =+T53*G53 -> 19140731 | V53: =+J53+L53+N53+P53+T53 -> 734009 | W53: =+V53*G53 -> 82943017
...

Sheet cant
B1: REPUBLICA DE COLOMBIA
B2: DEPARTAMENTO DE NARIÑO
B3: =+'Presup '!B3:I3 -> ALCALDÍA MUNICIPAL DE SAN LORENZO
B5: =+'Presup '!B5:I6 -> MEJORAMIENTO VÍA LA LAGUNA, SALINAS, LOS OLIVOS
L8: =+'Presup '!F123 -> ING. JHONATAN STIVEN PANTOJA MORILLO
B9: CANTIDADES DE OBRA | L9: =+'Presup '!F124 -> M.P. 111037-0520109 NRÑ
D11: No.1. EXPLANACIÓN
E13: Dimensiones | I13: Unidad: | J13: =+P.Detall!F13 -> HA | K13: DESCRIPCIÓN GRÁFICA
B14: ÍTEM | C14: ÍTEM | D14: DESCRIPCIÓN | E14: Long. (m) | F14: Ancho (m) | G14: Espesor (m) | J14: Sub-Total
B15: 200-2 | C15: 200.2 | D15: =+P.Detall!E13 -> DESMONTE Y LIMPIEZA EN ZONAS NO BOSCOSAS | E15: 20200 | J15: =(F21*E15/10000) -> 10.1 | M15: =6015-650-765 -> 4600
D16: ancho calzada | F16: 5
D17: ancho cuneta der | F17: 0
D18: ancho cuneta izq | F18: =+F17 -> 0
D19: perfilado extra der | F19: 0
D20: perfilado extra izq | F20: =+F19 -> 0
F21: =SUM(F16:F20) -> 5
B29: OBSERVACIONES:
G31: TOTAL: | J31: =ROUND(SUM(J15:J21),2) -> 10.1
E34: Dimensiones | I34: Unidad: | J34: =+P.Detall!F14 -> ML | K34: DESCRIPCIÓN GRÁFICA
B35: ÍTEM | C35: ÍTEM | D35: DESCRIPCIÓN | E35: Long. (m) | F35: Ancho (m) | G35: Espesor (m) | J35: Sub-Total
B36: 200-4P | C36: 200.2 | D36: =+P.Detall!E14 -> LOCALIZACIÓN Y REPLANTEO (CARRETERA) | E36: =200 -> 200 | J36: =+E36 -> 200
B63: OBSERVACIONES:
G65: TOTAL: | J65: =ROUND(SUM(J36:J63),0) -> 200
E68: Dimensiones | I68: Unidad: | J68: =+P.Detall!F15 -> M3 | K68: DESCRIPCIÓN GRÁFICA
B69: ÍTEM | C69: ÍTEM | D69: DESCRIPCIÓN | E69: Und | F69: Elemento | G69: m3 | J69: Sub-Total
B70: 201-7 | C70: 200.2 | D70: =+P.Detall!E15 -> DEMOLICIÓN DE ESTRUCTURAS | F70: muro aletas der | G70: =2*2.25*0.2 -> 0.9 | J70: =+E109*G75 -> 38
D71: volumen promedio de estructuras existentes antiguas (aletas, cabezales, muros, etc) | F71: muro aletas izq | G71: =+G70 -> 0.9
F72: base der | G72: =1*2*0.3 -> 0.6
F73: base izq | G73: =+G72 -> 0.6
F74: muro | G74: =1*2*0.2*2 -> 0.8
G75: =SUM(G70:G74) -> 3.8
D76: 1 | E76: 1
D77: 2 | E77: =+E76 -> 1
D78: 3 | E78: =+E77 -> 1
D79: 4 | E79: =+E78 -> 1
D80: 5 | E80: =+E79 -> 1
D81: 6 | E81: =+E80 -> 1
D82: 7 | E82: =+E81 -> 1
D83: 8 | E83: =+E82 -> 1
D84: 9 | E84: =+E83 -> 1
...

Sheet MGA
B1: =+'Presup '!B5 -> MEJORAMIENTO VÍA LA LAGUNA, SALINAS, LOS OLIVOS
B4: M.G.A.
AC5: VALORES DISCRIMINADOS MGA
B6: ÍTEM | C6: ÍTEM | D6: ESPECIFICACIÓN | E6: DESCRIPCIÓN | F6: UNIDAD | G6: CANTIDAD | H6: VALOR UNITARIO | I6: COSTO TOTAL | J6: EQUIPO | K6: TOTAL EQUIPO | L6: MATERIALES | M6: TOTAL MATERIALES | N6: TRANSPORTE | O6: TOTAL TRANSPORTE | P6: MANO DE OBRA | Q6: TOTAL MANO DE OBRA | R6: COSTO DIRECTO | S6: TOTAL COSTO DIRECTO | T6: COSTO INDIRECTO | U6: AUI | V6: VALOR UNITARIO | W6: EQUIPO | X6: MATERIALES | Y6: TRANSPORTE | Z6: M.O. CALIFICADA | AA6: M.O.NO CALIFICADA | AB6: VERIFICACION | AC6: EQUIPO | AD6: MATERIALES | AE6: TRANSPORTE | AF6: M.O. CALIFICADA | AG6: M.O.NO CALIFICADA | AH6: TOTAL | AI6: EQUIPO | AJ6: MATERIALES | AK6: TRANSPORTE | AL6: M.O. CALIFICADA | AM6: M.O.NO CALIFICADA
E7: No.1. EXPLANACIÓN
B8: =+'Presup '!B13 -> 200.2 | C8: 200.2 | D8: 200.13 | E8: DESMONTE Y LIMPIEZA EN ZONAS NO BOSCOSAS | F8: HA | G8: =+P.Detall!G13 -> 10.1 | H8: =+'200.2'!I55 -> 437035 | I8: =ROUND(H8*G8,0) -> 4414054 | J8: =+'200.2'!I19 -> 154181 | K8: =+J8*G8 -> 1557228.1 | L8: =+'200.2'!I29 -> 0 | M8: =+L8*G8 -> 0 | N8: =+'200.2'!I36 -> 62050 | O8: =+N8*G8 -> 626705 | P8: =+'200.2'!I45 -> 119950 | Q8: =+P8*G8 -> 1211495 | R8: =+J8+L8+N8+P8 -> 336181 | S8: =+R8*G8 -> 3395428.1 | T8: =+'200.2'!I53 -> 100854 | U8: =+T8*G8 -> 1018625.4 | V8: =+J8+L8+N8+P8+T8 -> 437035 | W8: =+K8/S8 -> 0.45862497 | X8: =+M8/S8 -> 0 | Y8: =+O8/S8 -> 0.18457319 | Z8: =+(Q8/S8)*0.2 -> 0.071360368 | AA8: =+(Q8/S8)*0.8 -> 0.28544147 | AB8: =+SUM(W8:AA8) -> 1 | AC8: =+W8*I8 -> 2024395.4 | AD8: =+X8*I8 -> 0 | AE8: =+Y8*I8 -> 814716.03 | AF8: =+Z8*I8 -> 314988.52 | AG8: =+AA8*I8 -> 1259954.1 | AH8: =+SUM(AC8:AG8) -> 4414054
B9: =+'Presup '!B14 -> 200.4P | C9: 200.4P | D9: - | E9: LOCALIZACIÓN Y REPLANTEO (CARRETERA) | F9: ML | G9: =+P.Detall!G14 -> 200 | H9: =+'200,4P'!I55 -> 1903 | I9: =ROUND(H9*G9,0) -> 380600 | J9: =+'200,4P'!I19 -> 103 | K9: =+J9*G9 -> 20600 | L9: =+'200,4P'!I29 -> 621 | M9: =+L9*G9 -> 124200 | N9: =+'200,4P'!I36 -> 0 | O9: =+N9*G9 -> 0 | P9: =+'200,4P'!I45 -> 740 | Q9: =+P9*G9 -> 148000 | R9: =+J9+L9+N9+P9 -> 1464 | S9: =+R9*G9 -> 292800 | T9: =+'200,4P'!I53 -> 439 | U9: =+T9*G9 -> 87800 | V9: =+J9+L9+N9+P9+T9 -> 1903 | W9: =+K9/S9 -> 0.070355191 | X9: =+M9/S9 -> 0.42418033 | Y9: =+O9/S9 -> 0 | Z9: =+(Q9/S9)*0.8 -> 0.40437158 | AA9: =+(Q9/S9)*0.2 -> 0.1010929 | AB9: =+SUM(W9:AA9) -> 1 | AC9: =+W9*I9 -> 26777.186 | AD9: =+X9*I9 -> 161443.03 | AE9: =+Y9*I9 -> 0 | AF9: =+Z9*I9 -> 153903.83 | AG9: =+AA9*I9 -> 38475.956 | AH9: =+SUM(AC9:AG9) -> 380600
B10: =+'Presup '!B15 -> 201.7 | C10: 201.7 | D10: 201-13 | E10: DEMOLICIÓN DE ESTRUCTURAS | F10: M3 | G10: =+P.Detall!G15 -> 38 | H10: =+'201,7'!I55 -> 121154 | I10: =ROUND(H10*G10,0) -> 4603852 | J10: =+'201,7'!I19 -> 68466 | K10: =+J10*G10 -> 2601708 | L10: =+'201,7'!I29 -> 0 | M10: =+L10*G10 -> 0 | N10: =+'201,7'!I36 -> 3309 | O10: =+N10*G10 -> 125742 | P10: =+'201,7'!I45 -> 21420 | Q10: =+P10*G10 -> 813960 | R10: =+J10+L10+N10+P10 -> 93195 | S10: =+R10*G10 -> 3541410 | T10: =+'201,7'!I53 -> 27959 | U10: =+T10*G10 -> 1062442 | V10: =+J10+L10+N10+P10+T10 -> 121154 | W10: =+K10/S10 -> 0.73465315 | X10: =+M10/S10 -> 0 | Y10: =+O10/S10 -> 0.035506197 | Z10: =+(Q10/S10)*0.2 -> 0.045968131 | AA10: =+(Q10/S10)*0.8 -> 0.18387253 | AB10: =+SUM(W10:AA10) -> 1 | AC10: =+W10*I10 -> 3382234.4 | AD10: =+X10*I10 -> 0 | AE10: =+Y10*I10 -> 163465.27 | AF10: =+Z10*I10 -> 211630.47 | AG10: =+AA10*I10 -> 846521.89 | AH10: =+SUM(AC10:AG10) -> 4603852
B11: =+'Presup '!B16 -> 215 | D11: 201-13 | E11: REMOSIÓN DE ALCANTARILLAS | F11: ML | G11: =+P.Detall!G16 -> 30 | H11: =+'215'!I55 -> 38069 | I11: =ROUND(H11*G11,0) -> 1142070 | J11: =+'215'!I19 -> 20817 | K11: =+J11*G11 -> 624510 | L11: =+'215'!I29 -> 0 | M11: =+L11*G11 -> 0 | N11: =+'215'!I36 -> 1613 | O11: =+N11*G11 -> 48390 | P11: =+'215'!I45 -> 6854 | Q11: =+P11*G11 -> 205620 | R11: =+J11+L11+N11+P11 -> 29284 | S11: =+R11*G11 -> 878520 | T11: =+'215'!I53 -> 8785 | U11: =+T11*G11 -> 263550 | V11: =+J11+L11+N11+P11+T11 -> 38069 | W11: =+K11/S11 -> 0.710866 | X11: =+M11/S11 -> 0 | Y11: =+O11/S11 -> 0.055081273 | Z11: =+(Q11/S11)*0.2 -> 0.046810545 | AA11: =+(Q11/S11)*0.8 -> 0.18724218 | AB11: =+SUM(W11:AA11) -> 1 | AC11: =+W11*I11 -> 811858.73 | AD11: =+X11*I11 -> 0 | AE11: =+Y11*I11 -> 62906.67 | AF11: =+Z11*I11 -> 53460.919 | AG11: =+AA11*I11 -> 213843.68 | AH11: =+SUM(AC11:AG11) -> 1142070
B12: =+'Presup '!B17 -> 210.1.1 | D12: 210-13 | E12: EXCAVACION SIN CLASIFICAR DE LA EXPLANACIÓN Y CANALES | F12: M3 | G12: =+P.Detall!G17 -> 39 | H12: =+'210,1,1'!I55 -> 15835 | I12: =ROUND(H12*G12,0) -> 617565 | J12: =+'210,1,1'!I19 -> 10358 | K12: =+J12*G12 -> 403962 | L12: =+'210,1,1'!I29 -> 0 | M12: =+L12*G12 -> 0 | N12: =+'210,1,1'!I36 -> 0 | O12: =+N12*G12 -> 0 | P12: =+'210,1,1'!I45 -> 1823 | Q12: =+P12*G12 -> 71097 | R12: =+J12+L12+N12+P12 -> 12181 | S12: =+R12*G12 -> 475059 | T12: =+'210,1,1'!I53 -> 3654 | U12: =+T12*G12 -> 142506 | V12: =+J12+L12+N12+P12+T12 -> 15835 | W12: =+K12/S12 -> 0.85034069 | X12: =+M12/S12 -> 0 | Y12: =+O12/S12 -> 0 | Z12: =+(Q12/S12)*0.2 -> 0.029931861 | AA12: =+(Q12/S12)*0.8 -> 0.11972744 | AB12: =+SUM(W12:AA12) -> 1 | AC12: =+W12*I12 -> 525140.65 | AD12: =+X12*I12 -> 0 | AE12: =+Y12*I12 -> 0 | AF12: =+Z12*I12 -> 18484.87 | AG12: =+AA12*I12 -> 73939.479 | AH12: =+SUM(AC12:AG12) -> 617565
B13: =+'Presup '!B18 -> 210.2.1 | D13: 210-13 | E13: EXCAVACION EN ROCA DE LA EXPLANACION Y CANALES | F13: M3 | G13: =+P.Detall!G18 -> 10 | H13: =+'210,2,1'!I55 -> 64116 | I13: =ROUND(H13*G13,0) -> 641160 | J13: =+'210,2,1'!I19 -> 21947 | K13: =+J13*G13 -> 219470 | L13: =+'210,2,1'!I29 -> 24215 | M13: =+L13*G13 -> 242150 | N13: =+'210,2,1'!I36 -> 0 | O13: =+N13*G13 -> 0 | P13: =+'210,2,1'!I45 -> 3158 | Q13: =+P13*G13 -> 31580 | R13: =+J13+L13+N13+P13 -> 49320 | S13: =+R13*G13 -> 493200 | T13: =+'210,2,1'!I53 -> 14796 | U13: =+T13*G13 -> 147960 | V13: =+J13+L13+N13+P13+T13 -> 64116 | W13: =+K13/S13 -> 0.44499189 | X13: =+M13/S13 -> 0.49097729 | Y13: =+O13/S13 -> 0 | Z13: =+(Q13/S13)*0.2 -> 0.012806164 | AA13: =+(Q13/S13)*0.8 -> 0.051224655 | AB13: =+SUM(W13:AA13) -> 1 | AC13: =+W13*I13 -> 285311 | AD13: =+X13*I13 -> 314795 | AE13: =+Y13*I13 -> 0 | AF13: =+Z13*I13 -> 8210.8 | AG13: =+AA13*I13 -> 32843.2 | AH13: =+SUM(AC13:AG13) -> 641160
B14: =+'Presup '!B19 -> 211.1 | D14: 220-13 | E14: REMOCION DE DERRUMBES | F14: M3 | G14: =+P.Detall!G19 -> 4 | H14: =+'211,1'!I55 -> 6812 | I14: =ROUND(H14*G14,0) -> 27248 | J14: =+'211,1'!I19 -> 2289 | K14: =+J14*G14 -> 9156 | L14: =+'211,1'!I29 -> 2236 | M14: =+L14*G14 -> 8944 | N14: =+'211,1'!I36 -> 0 | O14: =+N14*G14 -> 0 | P14: =+'211,1'!I45 -> 715 | Q14: =+P14*G14 -> 2860 | R14: =+J14+L14+N14+P14 -> 5240 | S14: =+R14*G14 -> 20960 | T14: =+'211,1'!I53 -> 1572 | U14: =+T14*G14 -> 6288 | V14: =+J14+L14+N14+P14+T14 -> 6812 | W14: =+K14/S14 -> 0.43683206 | X14: =+M14/S14 -> 0.42671756 | Y14: =+O14/S14 -> 0 | Z14: =+(Q14/S14)*0.2 -> 0.027290076 | AA14: =+(Q14/S14)*0.8 -> 0.10916031 | AB14: =+SUM(W14:AA14) -> 1 | AC14: =+W14*I14 -> 11902.8 | AD14: =+X14*I14 -> 11627.2 | AE14: =+Y14*I14 -> 0 | AF14: =+Z14*I14 -> 743.6 | AG14: =+AA14*I14 -> 2974.4 | AH14: =+SUM(AC14:AG14) -> 27248
B15: 220.1 | E15: TERRAPLEN | F15: M3 | G15: =+P.Detall!G20 -> 34 | H15: =+'220,1'!I55 -> 271005 | I15: =ROUND(H15*G15,0) -> 9214170 | J15: =+'220,1'!I19 -> 6732 | K15: =+J15*G15 -> 228888 | L15: =+'220,1'!I29 -> 33605 | M15: =+L15*G15 -> 1142570 | N15: =+'220,1'!I36 -> 167783 | O15: =+N15*G15 -> 5704622 | P15: =+'220,1'!I45 -> 345 | Q15: =+P15*G15 -> 11730 | R15: =+J15+L15+N15+P15 -> 208465 | S15: =+R15*G15 -> 7087810 | T15: =+'220,1'!I53 -> 62540 | U15: =+T15*G15 -> 2126360 | V15: =+J15+L15+N15+P15+T15 -> 271005 | W15: =+K15/S15 -> 0.032293191 | X15: =+M15/S15 -> 0.16120212 | Y15: =+O15/S15 -> 0.80484973 | Z15: =+(Q15/S15)*0.8 -> 0.0013239633 | AA15: =+(Q15/S15)*0.2 -> 0.00033099081 | AB15: =+SUM(W15:AA15) -> 1 | AC15: =+W15*I15 -> 297554.95 | AD15: =+X15*I15 -> 1485343.7 | AE15: =+Y15*I15 -> 7416022.3 | AF15: =+Z15*I15 -> 12199.223 | AG15: =+AA15*I15 -> 3049.8056 | AH15: =+SUM(AC15:AG15) -> 9214170
B16: =+'Presup '!B21 -> 230.1 | D16: 230-13 | E16: MEJORAMIENTO DE LA SUBRASANTE EMPLEANDO UNICAMENTE MATERIAL ADICIONADO | F16: M3 | G16: =+P.Detall!G21 -> 66 | H16: =+'230,1'!I55 -> 214427 | I16: =ROUND(H16*G16,0) -> 14152182 | J16: =+'230,1'!I19 -> 1947 | K16: =+J16*G16 -> 128502 | L16: =+'230,1'!I29 -> 33693 | M16: =+L16*G16 -> 2223738 | N16: =+'230,1'!I36 -> 129064 | O16: =+N16*G16 -> 8518224 | P16: =+'230,1'!I45 -> 240 | Q16: =+P16*G16 -> 15840 | R16: =+J16+L16+N16+P16 -> 164944 | S16: =+R16*G16 -> 10886304 | T16: =+'230,1'!I53 -> 49483 | U16: =+T16*G16 -> 3265878 | V16: =+J16+L16+N16+P16+T16 -> 214427 | W16: =+K16/S16 -> 0.011804006 | X16: =+M16/S16 -> 0.20426933 | Y16: =+O16/S16 -> 0.78247163 | Z16: =+(Q16/S16)*0.8 -> 0.0011640314 | AA16: =+(Q16/S16)*0.2 -> 0.00029100786 | AB16: =+SUM(W16:AA16) -> 1 | AC16: =+W16*I16 -> 167052.44 | AD16: =+X16*I16 -> 2890856.7 | AE16: =+Y16*I16 -> 11073681 | AF16: =+Z16*I16 -> 16473.585 | AG16: =+AA16*I16 -> 4118.3962 | AH16: =+SUM(AC16:AG16) -> 14152182
B17: =+'Presup '!B22 -> 310.1 | D17: 310-13 | E17: CONFORMACIÓN DE LA CALZADA EXISTENTE CON ADICIÓN DE MATERIAL | F17: M2 | G17: =+P.Detall!G22 -> 900 | H17: =+'310,1'!I55 -> 21590 | I17: =ROUND(H17*G17,0) -> 19431000 | J17: =+'310,1'!I19 -> 487 | K17: =+J17*G17 -> 438300 | L17: =+'310,1'!I29 -> 3190 | M17: =+L17*G17 -> 2871000 | N17: =+'310,1'!I36 -> 12906 | O17: =+N17*G17 -> 11615400 | P17: =+'310,1'!I45 -> 25 | Q17: =+P17*G17 -> 22500 | R17: =+J17+L17+N17+P17 -> 16608 | S17: =+R17*G17 -> 14947200 | T17: =+'310,1'!I53 -> 4982 | U17: =+T17*G17 -> 4483800 | V17: =+J17+L17+N17+P17+T17 -> 21590 | W17: =+K17/S17 -> 0.029323218 | X17: =+M17/S17 -> 0.19207611 | Y17: =+O17/S17 -> 0.77709538 | Z17: =+(Q17/S17)*0.8 -> 0.0012042389 | AA17: =+(Q17/S17)*0.2 -> 0.00030105973 | AB17: =+SUM(W17:AA17) -> 1 | AC17: =+W17*I17 -> 569779.44 | AD17: =+X17*I17 -> 3732230.9 | AE17: =+Y17*I17 -> 15099740 | AF17: =+Z17*I17 -> 23399.566 | AG17: =+AA17*I17 -> 5849.8916 | AH17: =+SUM(AC17:AG17) -> 19431000
G18: SUBTOTAL EXPLANACION | I18: =+SUM(I8:I17) -> 54623901 | K18: =+SUM(K8:K17) -> 6232324.1 | M18: =+SUM(M8:M17) -> 6612602 | O18: =+SUM(O8:O17) -> 26639083 | Q18: =+SUM(Q8:Q17) -> 2534682 | S18: =+SUM(S8:S17) -> 42018691 | U18: =+SUM(U8:U17) -> 12605209 | W18: =+K18/S18 -> 0.14832266 | X18: =+M18/S18 -> 0.15737287 | Y18: =+O18/S18 -> 0.63398174 | Z18: =+(SUM(Z8:Z17)*((Q18/S18)))/SUM(Z8:AA17) -> 0.023047632 | AA18: =+(SUM(AA8:AA17)*((Q18/S18)))/SUM(Z8:AA17) -> 0.037275094 | AB18: =+SUM(W18:AA18) -> 1 | AC18: =+SUM(AC8:AC17) -> 8102006.9 | AD18: =+SUM(AD8:AD17) -> 8596296.5 | AE18: =+SUM(AE8:AE17) -> 34630531 | AF18: =+SUM(AF8:AF17) -> 813495.38 | AG18: =+SUM(AG8:AG17) -> 2481570.8 | AH18: =+SUM(AH8:AH17) -> 54623901 | AI18: 4.961088e+08 | AJ18: 4.1363809e+08 | AK18: 76729246 | AL18: 20059337 | AM18: 62117152
E19: No.2. AFIRMADO Y SUBBASE
B20: 311.1 | C20: 311.1 | D20: 311-13 | E20: AFIRMADO | F20: M3 | G20: =+P.Detall!G27 -> 135 | H20: =+'311,1'!I55 -> 209641 | I20: =ROUND(H20*G20,0) -> 28301535 | J20: =+'311,1'!I19 -> 5842 | K20: =+J20*G20 -> 788670 | L20: =+'311,1'!I29 -> 31020 | M20: =+L20*G20 -> 4187700 | N20: =+'311,1'!I36 -> 124100 | O20: =+N20*G20 -> 16753500 | P20: =+'311,1'!I45 -> 300 | Q20: =+P20*G20 -> 40500 | R20: =+J20+L20+N20+P20 -> 161262 | S20: =+R20*G20 -> 21770370 | T20: =+'311,1'!I53 -> 48379 | U20: =+T20*G20 -> 6531165 | V20: =+J20+L20+N20+P20+T20 -> 209641 | W20: =+K20/S20 -> 0.036226761 | X20: =+M20/S20 -> 0.19235778 | Y20: =+O20/S20 -> 0.76955513 | Z20: =+(Q20/S20)*0.8 -> 0.0014882613 | AA20: =+(Q20/S20)*0.2 -> 0.00037206533 | AB20: =+SUM(W20:AA20) -> 1 | AC20: =+W20*I20 -> 1025273 | AD20: =+X20*I20 -> 5444020.4 | AE20: =+Y20*I20 -> 21779592 | AF20: =+Z20*I20 -> 42120.08 | AG20: =+AA20*I20 -> 10530.02 | AH20: =+SUM(AC20:AG20) -> 28301535
B21: 320.1 | C21: 330.1 | D21: 320-13 | E21: SUBBASE GRANULAR | F21: M3 | G21: =+P.Detall!G28 -> 180 | H21: =+'320,1'!I55 -> 277788 | I21: =ROUND(H21*G21,0) -> 50001840 | J21: =+'320,1'!I19 -> 6525 | K21: =+J21*G21 -> 1174500 | L21: =+'320,1'!I29 -> 51700 | M21: =+L21*G21 -> 9306000 | N21: =+'320,1'!I36 -> 155125 | O21: =+N21*G21 -> 27922500 | P21: =+'320,1'!I45 -> 333 | Q21: =+P21*G21 -> 59940 | R21: =+J21+L21+N21+P21 -> 213683 | S21: =+R21*G21 -> 38462940 | T21: =+'320,1'!I53 -> 64105 | U21: =+T21*G21 -> 11538900 | V21: =+J21+L21+N21+P21+T21 -> 277788 | W21: =+J21/R21 -> 0.030535887 | X21: =+L21/R21 -> 0.24194718 | Y21: =+N21/R21 -> 0.72595855 | Z21: =+(P21/R21)*0.8 -> 0.0012467066 | AA21: =+(P21/R21)*0.2 -> 0.00031167664 | AB21: =+SUM(W21:AA21) -> 1 | AC21: =+W21*I21 -> 1526850.5 | AD21: =+X21*I21 -> 12097804 | AE21: =+Y21*I21 -> 36299263 | AF21: =+Z21*I21 -> 62337.622 | AG21: =+AA21*I21 -> 15584.406 | AH21: =+SUM(AC21:AG21) -> 50001840
G22: SUBTOTAL AFIRMADO Y SUBBASE | I22: =+SUM(I20:I21) -> 78303375 | K22: =+SUM(K20:K21) -> 1963170 | M22: =+SUM(M20:M21) -> 13493700 | O22: =+SUM(O20:O21) -> 44676000 | Q22: =+SUM(Q20:Q21) -> 100440 | S22: =+SUM(S20:S21) -> 60233310 | U22: =+SUM(U20:U21) -> 18070065 | W22: =+K22/S22 -> 0.032592763 | X22: =+M22/S22 -> 0.22402388 | Y22: =+O22/S22 -> 0.74171584 | Z22: =+(SUM(Z20:Z21)*((Q22/S22)))/SUM(Z20:AA21) -> 0.0013340127 | AA22: =+(SUM(AA20:AA21)*((Q22/S22)))/SUM(Z20:AA21) -> 0.00033350317 | AB22: =+SUM(W22:AA22) -> 1 | AC22: =+SUM(AC20:AC21) -> 2552123.5 | AD22: =+SUM(AD20:AD21) -> 17541825 | AE22: =+SUM(AE20:AE21) -> 58078855 | AF22: =+SUM(AF20:AF21) -> 104457.7 | AG22: =+SUM(AG20:AG21) -> 26114.426 | AH22: =+SUM(AH20:AH21) -> 78303375 | AI22: 1.169469e+08 | AJ22: 8.7959904e+08 | AK22: 2.1612283e+08 | AL22: 4782953.4 | AM22: 1195738.3
E23: No.3. PAVIMENTO
B24: 500.1 | D24: 500-13 | E24: PAVIMENTO DE CONCRETO HIDRÁULICO | F24: M3 | G24: =+P.Detall!G33 -> 54 | H24: =+'500,1'!I55 -> 753952 | I24: =ROUND(H24*G24,0) -> 40713408 | J24: =+'500,1'!I19 -> 9960 | K24: =+J24*G24 -> 537840 | L24: =+'500,1'!I29 -> 466225 | M24: =+L24*G24 -> 25176150 | N24: =+'500,1'!I36 -> 99280 | O24: =+N24*G24 -> 5361120 | P24: =+'500,1'!I45 -> 4498 | Q24: =+P24*G24 -> 242892 | R24: =+J24+L24+N24+P24 -> 579963 | S24: =+R24*G24 -> 31318002 | T24: =+'500,1'!I53 -> 173989 | U24: =+T24*G24 -> 9395406 | V24: =+J24+L24+N24+P24+T24 -> 753952 | W24: =+K24/S24 -> 0.017173509 | X24: =+M24/S24 -> 0.80388749 | Y24: =+O24/S24 -> 0.17118333 | Z24: =+(Q24/S24)*0.8 -> 0.0062045337 | AA24: =+(Q24/S24)*0.2 -> 0.0015511334 | AB24: =+SUM(W24:AA24) -> 1 | AC24: =+W24*I24 -> 699192.09 | AD24: =+X24*I24 -> 32728999 | AE24: =+Y24*I24 -> 6969456.9 | AF24: =+Z24*I24 -> 252607.71 | AG24: =+AA24*I24 -> 63151.928 | AH24: =+SUM(AC24:AG24) -> 40713408
G25: SUBTOTAL AFIRMADO Y SUBBASE: | I25: =+SUM(I24:I24) -> 40713408 | K25: =+SUM(K24:K24) -> 537840 | M25: =+SUM(M24:M24) -> 25176150 | O25: =+SUM(O24:O24) -> 5361120 | Q25: =+SUM(Q24:Q24) -> 242892 | S25: =+SUM(S24:S24) -> 31318002 | U25: =+SUM(U24:U24) -> 9395406 | W25: =+K25/S25 -> 0.017173509 | X25: =+M25/S25 -> 0.80388749 | Y25: =+O25/S25 -> 0.17118333 | Z25: =+(SUM(Z24)*((Q25/S25)))/SUM(Z24:AA24) -> 0.0062045337 | AA25: =+(SUM(AA24)*((Q25/S25)))/SUM(Z24:AA24) -> 0.0015511334 | AB25: =+SUM(W25:AA25) -> 1 | AC25: =+SUM(AC24) -> 699192.09 | AD25: =+SUM(AD24) -> 32728999 | AE25: =+SUM(AE24) -> 6969456.9 | AF25: =+SUM(AF24) -> 252607.71 | AG25: =+SUM(AG24) -> 63151.928 | AH25: =+SUM(AH24) -> 40713408 | AI25: 76235693 | AJ25: 3.568728e+09 | AK25: 9.8777143e+08 | AL25: 27499303 | AM25: 6874825.9
E26: No.4. ESTRUCTURAS Y DRENAJES
E27: EXCAVACIONES PARA ESTRUCTURAS:
B28: 600.1.1 | C28: 225P | D28: 600-13 | E28: EXCAVACIONES VARIAS SIN CLASIFICAR | F28: M3 | G28: =+P.Detall!G39 -> 952 | H28: =+'600,1,1'!I55 -> 15470 | I28: =ROUND(H28*G28,0) -> 14727440 | J28: =+'600,1,1'!I19 -> 7888 | K28: =+J28*G28 -> 7509376 | L28: =+'600,1,1'!I29 -> 0 | M28: =+L28*G28 -> 0 | N28: =+'600,1,1'!I36 -> 1613 | O28: =+N28*G28 -> 1535576 | P28: =+'600,1,1'!I45 -> 2399 | Q28: =+P28*G28 -> 2283848 | R28: =+J28+L28+N28+P28 -> 11900 | S28: =+R28*G28 -> 11328800 | T28: =+'600,1,1'!I53 -> 3570 | U28: =+T28*G28 -> 3398640 | V28: =+J28+L28+N28+P28+T28 -> 15470 | W28: =+K28/S28 -> 0.66285714 | X28: =+M28/S28 -> 0 | Y28: =+O28/S28 -> 0.13554622 | Z28: =+(Q28/S28)*0.2 -> 0.040319328 | AA28: =+(Q28/S28)*0.8 -> 0.16127731 | AB28: =+SUM(W28:AA28) -> 1 | AC28: =+W28*I28 -> 9762188.8 | AD28: =+X28*I28 -> 0 | AE28: =+Y28*I28 -> 1996248.8 | AF28: =+Z28*I28 -> 593800.48 | AG28: =+AA28*I28 -> 2375201.9 | AH28: =+SUM(AC28:AG28) -> 14727440
B29: 600.2.1 | D29: 600-13 | E29: EXCAVACIONES VARIAS EN ROCA EN SECO | F29: M3 | G29: =+P.Detall!G40 -> 238 | H29: =+'600,2,1'!I55 -> 85717 | I29: =ROUND(H29*G29,0) -> 20400646 | J29: =+'600,2,1'!I19 -> 33844 | K29: =+J29*G29 -> 8054872 | L29: =+'600,2,1'!I29 -> 25441 | M29: =+L29*G29 -> 6054958 | N29: =+'600,2,1'!I36 -> 1613 | O29: =+N29*G29 -> 383894 | P29: =+'600,2,1'!I45 -> 5038 | Q29: =+P29*G29 -> 1199044 | R29: =+J29+L29+N29+P29 -> 65936 | S29: =+R29*G29 -> 15692768 | T29: =+'600,2,1'!I53 -> 19781 | U29: =+T29*G29 -> 4707878 | V29: =+J29+L29+N29+P29+T29 -> 85717 | W29: =+K29/S29 -> 0.51328561 | X29: =+M29/S29 -> 0.38584385 | Y29: =+O29/S29 -> 0.024463116 | Z29: =+(Q29/S29)*0.2 -> 0.015281485 | AA29: =+(Q29/S29)*0.8 -> 0.06112594 | AB29: =+SUM(W29:AA29) -> 1 | AC29: =+W29*I29 -> 10471358 | AD29: =+X29*I29 -> 7871463.8 | AE29: =+Y29*I29 -> 499063.36 | AF29: =+Z29*I29 -> 311752.17 | AG29: =+AA29*I29 -> 1247008.7 | AH29: =+SUM(AC29:AG29) -> 20400646
B30: 600.2.2 | C30: 600.3 | D30: 600-13 | E30: EXCAVACIONES VARIAS EN ROCA BAJO AGUA | F30: M3 | G30: =+P.Detall!G41 -> 48 | H30: =+'6002,2'!I55 -> 126016 | I30: =ROUND(H30*G30,0) -> 6048768 | J30: =+'6002,2'!I19 -> 46982 | K30: =+J30*G30 -> 2255136 | L30: =+'6002,2'!I29 -> 25441 | M30: =+L30*G30 -> 1221168 | N30: =+'6002,2'!I36 -> 1613 | O30: =+N30*G30 -> 77424 | P30: =+'6002,2'!I45 -> 22899 | Q30: =+P30*G30 -> 1099152 | R30: =+J30+L30+N30+P30 -> 96935 | S30: =+R30*G30 -> 4652880 | T30: =+'6002,2'!I53 -> 29081 | U30: =+T30*G30 -> 1395888 | V30: =+J30+L30+N30+P30+T30 -> 126016 | W30: =+K30/S30 -> 0.4846753 | X30: =+M30/S30 -> 0.26245422 | Y30: =+O30/S30 -> 0.016640017 | Z30: =+(Q30/S30)*0.2 -> 0.047246093 | AA30: =+(Q30/S30)*0.8 -> 0.18898437 | AB30: =+SUM(W30:AA30) -> 1 | AC30: =+W30*I30 -> 2931688.4 | AD30: =+X30*I30 -> 1587524.7 | AE30: =+Y30*I30 -> 100651.6 | AF30: =+Z30*I30 -> 285780.65 | AG30: =+AA30*I30 -> 1143122.6 | AH30: =+SUM(AC30:AG30) -> 6048768
B31: 600.2.4 | C31: 600.5 | D31: 600-13 | E31: EXCAVACIONES VARIAS EN MATERIAL COMÚN BAJO AGUA | F31: M3 | G31: =+P.Detall!G42 -> 10 | H31: =+'600,2,4'!I55 -> 17713 | I31: =ROUND(H31*G31,0) -> 177130 | J31: =+'600,2,4'!I19 -> 10584 | K31: =+J31*G31 -> 105840 | L31: =+'600,2,4'!I29 -> 0 | M31: =+L31*G31 -> 0 | N31: =+'600,2,4'!I36 -> 1613 | O31: =+N31*G31 -> 16130 | P31: =+'600,2,4'!I45 -> 1428 | Q31: =+P31*G31 -> 14280 | R31: =+J31+L31+N31+P31 -> 13625 | S31: =+R31*G31 -> 136250 | T31: =+'600,2,4'!I53 -> 4088 | U31: =+T31*G31 -> 40880 | V31: =+J31+L31+N31+P31+T31 -> 17713 | W31: =+K31/S31 -> 0.77680734 | X31: =+M31/S31 -> 0 | Y31: =+O31/S31 -> 0.11838532 | Z31: =+(Q31/S31)*0.2 -> 0.020961468 | AA31: =+(Q31/S31)*0.8 -> 0.083845872 | AB31: =+SUM(W31:AA31) -> 1 | AC31: =+W31*I31 -> 137595.88 | AD31: =+X31*I31 -> 0 | AE31: =+Y31*I31 -> 20969.592 | AF31: =+Z31*I31 -> 3712.9048 | AG31: =+AA31*I31 -> 14851.619 | AH31: =+SUM(AC31:AG31) -> 177130
E32: ESTRUCTURAS DE CONCRETO:
B33: 630.1 | C33: 630.4 | D33: 630-13 | E33: CONCRETO CLASE C | F33: M3 | G33: =+P.Detall!G45 -> 30 | H33: =+'630,1'!I55 -> 805045 | I33: =ROUND(H33*G33,0) -> 24151350 | J33: =+'630,1'!I19 -> 24093 | K33: =+J33*G33 -> 722790 | L33: =+'630,1'!I29 -> 408757 | M33: =+L33*G33 -> 12262710 | N33: =+'630,1'!I36 -> 126440 | O33: =+N33*G33 -> 3793200 | P33: =+'630,1'!I45 -> 59975 | Q33: =+P33*G33 -> 1799250 | R33: =+J33+L33+N33+P33 -> 619265 | S33: =+R33*G33 -> 18577950 | T33: =+'630,1'!I53 -> 185780 | U33: =+T33*G33 -> 5573400 | V33: =+J33+L33+N33+P33+T33 -> 805045 | W33: =+K33/S33 -> 0.0389058 | X33: =+M33/S33 -> 0.66006798 | Y33: =+O33/S33 -> 0.20417753 | Z33: =+(Q33/S33)*0.8 -> 0.077478947 | AA33: =+(Q33/S33)*0.2 -> 0.019369737 | AB33: =+SUM(W33:AA33) -> 1 | AC33: =+W33*I33 -> 939627.58 | AD33: =+X33*I33 -> 15941533 | AE33: =+Y33*I33 -> 4931163.1 | AF33: =+Z33*I33 -> 1871221.2 | AG33: =+AA33*I33 -> 467805.29 | AH33: =+SUM(AC33:AG33) -> 24151350
B34: 630.2 | D34: 630-13 | E34: CONCRETO CLASE D | F34: M3 | G34: =+P.Detall!G46 -> 77 | H34: =+'630,2'!I55 -> 769874 | I34: =ROUND(H34*G34,0) -> 59280298 | J34: =+'630,2'!I19 -> 28263 | K34: =+J34*G34 -> 2176251 | L34: =+'630,2'!I29 -> 365049 | M34: =+L34*G34 -> 28108773 | N34: =+'630,2'!I36 -> 148920 | O34: =+N34*G34 -> 11466840 | P34: =+'630,2'!I45 -> 49979 | Q34: =+P34*G34 -> 3848383 | R34: =+J34+L34+N34+P34 -> 592211 | S34: =+R34*G34 -> 45600247 | T34: =+'630,2'!I53 -> 177663 | U34: =+T34*G34 -> 13680051 | V34: =+J34+L34+N34+P34+T34 -> 769874 | W34: =+K34/S34 -> 0.047724544 | X34: =+M34/S34 -> 0.61641712 | Y34: =+O34/S34 -> 0.25146443 | Z34: =+(Q34/S34)*0.8 -> 0.067515126 | AA34: =+(Q34/S34)*0.2 -> 0.016878781 | AB34: =+SUM(W34:AA34) -> 1 | AC34: =+W34*I34 -> 2829125.2 | AD34: =+X34*I34 -> 36541391 | AE34: =+Y34*I34 -> 14906886 | AF34: =+Z34*I34 -> 4002316.8 | AG34: =+AA34*I34 -> 1000579.2 | AH34: =+SUM(AC34:AG34) -> 59280298
B35: 630.3 | C35: 630.6 | D35: 630-13 | E35: CONCRETO CLASE F | F35: M3 | G35: =+P.Detall!G47 -> 14 | H35: =+'630,3'!I55 -> 594611 | I35: =ROUND(H35*G35,0) -> 8324554 | J35: =+'630,3'!I19 -> 20508 | K35: =+J35*G35 -> 287112 | L35: =+'630,3'!I29 -> 247914 | M35: =+L35*G35 -> 3470796 | N35: =+'630,3'!I36 -> 138992 | O35: =+N35*G35 -> 1945888 | P35: =+'630,3'!I45 -> 49979 | Q35: =+P35*G35 -> 699706 | R35: =+J35+L35+N35+P35 -> 457393 | S35: =+R35*G35 -> 6403502 | T35: =+'630,3'!I53 -> 137218 | U35: =+T35*G35 -> 1921052 | V35: =+J35+L35+N35+P35+T35 -> 594611 | W35: =+K35/S35 -> 0.044836716 | X35: =+M35/S35 -> 0.54201529 | Y35: =+O35/S35 -> 0.30387872 | Z35: =+(Q35/S35)*0.8 -> 0.087415417 | AA35: =+(Q35/S35)*0.2 -> 0.021853854 | AB35: =+SUM(W35:AA35) -> 1 | AC35: =+W35*I35 -> 373245.66 | AD35: =+X35*I35 -> 4512035.6 | AE35: =+Y35*I35 -> 2529654.8 | AF35: =+Z35*I35 -> 727694.36 | AG35: =+AA35*I35 -> 181923.59 | AH35: =+SUM(AC35:AG35) -> 8324554
B36: 630.4 | C36: 630.7 | D36: 630-13 | E36: CONCRETO CLASE G | F36: M3 | G36: =+P.Detall!G48 -> 139 | H36: =+'630,4'!I55 -> 336812 | I36: =ROUND(H36*G36,0) -> 46816868 | J36: =+'630,4'!I19 -> 2999 | K36: =+J36*G36 -> 416861 | L36: =+'630,4'!I29 -> 193134 | M36: =+L36*G36 -> 26845626 | N36: =+'630,4'!I36 -> 2978 | O36: =+N36*G36 -> 413942 | P36: =+'630,4'!I45 -> 59975 | Q36: =+P36*G36 -> 8336525 | R36: =+J36+L36+N36+P36 -> 259086 | S36: =+R36*G36 -> 36012954 | T36: =+'630,4'!I53 -> 77726 | U36: =+T36*G36 -> 10803914 | V36: =+J36+L36+N36+P36+T36 -> 336812 | W36: =+K36/S36 -> 0.011575307 | X36: =+M36/S36 -> 0.7454436 | Y36: =+O36/S36 -> 0.011494253 | Z36: =+(Q36/S36)*0.8 -> 0.18518947 | AA36: =+(Q36/S36)*0.2 -> 0.046297368 | AB36: =+SUM(W36:AA36) -> 1 | AC36: =+W36*I36 -> 541919.62 | AD36: =+X36*I36 -> 34899335 | AE36: =+Y36*I36 -> 538124.92 | AF36: =+Z36*I36 -> 8669991.1 | AG36: =+AA36*I36 -> 2167497.8 | AH36: =+SUM(AC36:AG36) -> 46816868
E37: SUMINISTROS:
B38: 640.1 | D38: 640-13 | E38: ACERO DE REFUERZO fy 412 Mpa | F38: KG | G38: =+P.Detall!G51 -> 14966 | H38: =+'640,1'!I55 -> 8870 | I38: =ROUND(H38*G38,0) -> 132748420 | J38: =+'640,1'!I19 -> 46 | K38: =+J38*G38 -> 688436 | L38: =+'640,1'!I29 -> 5877 | M38: =+L38*G38 -> 87955182 | N38: =+'640,1'!I36 -> 0 | O38: =+N38*G38 -> 0 | P38: =+'640,1'!I45 -> 900 | Q38: =+P38*G38 -> 13469400 | R38: =+J38+L38+N38+P38 -> 6823 | S38: =+R38*G38 -> 102113018 | T38: =+'640,1'!I53 -> 2047 | U38: =+T38*G38 -> 30635402 | V38: =+J38+L38+N38+P38+T38 -> 8870 | W38: =+K38/S38 -> 0.0067419024 | X38: =+M38/S38 -> 0.86135131 | Y38: =+O38/S38 -> 0 | Z38: =+(Q38/S38)*0.8 -> 0.10552543 | AA38: =+(Q38/S38)*0.2 -> 0.026381357 | AB38: =+SUM(W38:AA38) -> 1 | AC38: =+W38*I38 -> 894976.89 | AD38: =+X38*I38 -> 1.1434303e+08 | AE38: =+Y38*I38 -> 0 | AF38: =+Z38*I38 -> 14008334 | AG38: =+AA38*I38 -> 3502083.5 | AH38: =+SUM(AC38:AG38) -> 1.3274842e+08
B39: 610.1 | C39: 610.1 | D39: 610-13 | E39: RELLENO PARA ESTRUCTURAS CON RECEBO | F39: M3 | G39: =+P.Detall!G52 -> 271 | H39: =+'610,1'!I55 -> 78359 | I39: =ROUND(H39*G39,0) -> 21235289 | J39: =+'610,1'!I19 -> 3676 | K39: =+J39*G39 -> 996196 | L39: =+'610,1'!I29 -> 34925 | M39: =+L39*G39 -> 9464675 | N39: =+'610,1'!I36 -> 9680 | O39: =+N39*G39 -> 2623280 | P39: =+'610,1'!I45 -> 11995 | Q39: =+P39*G39 -> 3250645 | R39: =+J39+L39+N39+P39 -> 60276 | S39: =+R39*G39 -> 16334796 | T39: =+'610,1'!I53 -> 18083 | U39: =+T39*G39 -> 4900493 | V39: =+J39+L39+N39+P39+T39 -> 78359 | W39: =+K39/S39 -> 0.06098613 | X39: =+M39/S39 -> 0.57941801 | Y39: =+O39/S39 -> 0.1605946 | Z39: =+(Q39/S39)*0.8 -> 0.15920101 | AA39: =+(Q39/S39)*0.2 -> 0.039800252 | AB39: =+SUM(W39:AA39) -> 1 | AC39: =+W39*I39 -> 1295058.1 | AD39: =+X39*I39 -> 12304109 | AE39: =+Y39*I39 -> 3410272.7 | AF39: =+Z39*I39 -> 3380679.4 | AG39: =+AA39*I39 -> 845169.86 | AH39: =+SUM(AC39:AG39) -> 21235289
B40: 661.1 | C40: 661.1 | D40: 661-13 | E40: TUBERÍA DE CONCRETO REFORZADO 900 MM DIÁMETRO INTERIOR (TIPO 1) | F40: ML | G40: =+P.Detall!G53 -> 113 | H40: =+'661,1'!I55 -> 734009 | I40: =ROUND(H40*G40,0) -> 82943017 | J40: =+'661,1'!I19 -> 3999 | K40: =+J40*G40 -> 451887 | L40: =+'661,1'!I29 -> 376853 | M40: =+L40*G40 -> 42584389 | N40: =+'661,1'!I36 -> 168776 | O40: =+N40*G40 -> 19071688 | P40: =+'661,1'!I45 -> 14994 | Q40: =+P40*G40 -> 1694322 | R40: =+J40+L40+N40+P40 -> 564622 | S40: =+R40*G40 -> 63802286 | T40: =+'661,1'!I53 -> 169387 | U40: =+T40*G40 -> 19140731 | V40: =+J40+L40+N40+P40+T40 -> 734009 | W40: =+K40/S40 -> 0.0070826146 | X40: =+M40/S40 -> 0.667443 | Y40: =+O40/S40 -> 0.29891857 | Z40: =+(Q40/S40)*0.8 -> 0.021244656 | AA40: =+(Q40/S40)*0.2 -> 0.0053111639 | AB40: =+SUM(W40:AA40) -> 1 | AC40: =+W40*I40 -> 587453.42 | AD40: =+X40*I40 -> 55359736 | AE40: =+Y40*I40 -> 24793208 | AF40: =+Z40*I40 -> 1762095.8 | AG40: =+AA40*I40 -> 440523.96 | AH40: =+SUM(AC40:AG40) -> 82943017
E41: ELEMENTOS AUXILIARES DE CONDUCCIÓN:
B42: 660.1 | C42: 671.1 | D42: 660-13 | E42: CUNETA DE CONCRETO FUNDIDA EN EL LUGAR | F42: M3 | G42: =+P.Detall!G56 -> 46 | H42: =+'660,1'!I55 -> 814173 | I42: =ROUND(H42*G42,0) -> 37451958 | J42: =+'660,1'!I19 -> 1200 | K42: =+J42*G42 -> 55200 | L42: =+'660,1'!I29 -> 501817 | M42: =+L42*G42 -> 23083582 | N42: =+'660,1'!I36 -> 99280 | O42: =+N42*G42 -> 4566880 | P42: =+'660,1'!I45 -> 23990 | Q42: =+P42*G42 -> 1103540 | R42: =+J42+L42+N42+P42 -> 626287 | S42: =+R42*G42 -> 28809202 | T42: =+'660,1'!I53 -> 187886 | U42: =+T42*G42 -> 8642756 | V42: =+J42+L42+N42+P42+T42 -> 814173 | W42: =+K42/S42 -> 0.0019160545 | X42: =+M42/S42 -> 0.80125725 | Y42: =+O42/S42 -> 0.15852157 | Z42: =+(Q42/S42)*0.8 -> 0.030644098 | AA42: =+(Q42/S42)*0.2 -> 0.0076610244 | AB42: =+SUM(W42:AA42) -> 1 | AC42: =+W42*I42 -> 71759.991 | AD42: =+X42*I42 -> 30008653 | AE42: =+Y42*I42 -> 5936943.3 | AF42: =+Z42*I42 -> 1147681.5 | AG42: =+AA42*I42 -> 286920.36 | AH42: =+SUM(AC42:AG42) -> 37451958
...

Sheet FP 1
B2: =+'Presup '!B5 -> MEJORAMIENTO VÍA LA LAGUNA, SALINAS, LOS OLIVOS
B4: FACTOR PRESTACIONAL SALARIOS < 2 SMMLV
B6: 1 | C6: SALARIOS | E6: 1
B8: 2 | C8: PRESTACIONES SOCIALES | E8: =ROUND(SUM(D9:D21),2) -> 0.85
B9: 2.01 | C9: Cesantias 100.00%/12 Meses | D9: 0.083333333
B10: 2.02 | C10: Intereses de cesantías | D10: 0.01
B11: 2.03 | C11: Prima Anual 100.00%/12 Meses | D11: 0.083333333
B12: 2.04 | C12: Vacaciones | D12: 0.0417
B13: 2.05 | C13: Seguridad Social (salud) | D13: 0
B14: 2.06 | C14: Seguridad Social (pensión) | D14: 0.12
B15: 2.07 | C15: Aseguradora de Riesgos Laborales | D15: 0.0696
B16: 2.08 | C16: Caja de Compensación Familiar | D16: 0.04
B17: 2.09 | C17: ICBF | D17: 0
B18: 2.1 | C18: SENA | D18: 0
B19: 2.11 | C19: Subsidio de Transporte | D19: 0.12
B20: 2.12 | C20: Otros Subsidios (Transporte, prestaciones extralegales, incapacidades no cubiertas) | D20: 0.15
B21: 2.13 | C21: Dotación | D21: 0.13
C23: TOTAL FACTOR PRESTACIONAL | E23: =E6+E8 -> 1.85
B25: OBSERVACIÓN: Exoneración para empleadores de acuerdo con el artículo 65 de la Ley 1819 de 2016, para trabajadores que devenguen menos de 10 SMMLV. Salud, SENA e ICBF quedan en cero pesos para el empleador.
B35: =+'Presup '!F123 -> ING. JHONATAN STIVEN PANTOJA MORILLO
B36: =+'Presup '!F124 -> M.P. 111037-0520109 NRÑ

Sheet FP 2
B2: =+'Presup '!B5 -> MEJORAMIENTO VÍA LA LAGUNA, SALINAS, LOS OLIVOS
B4: FACTOR PRESTACIONAL SALARIOS > 2 SMMLV
B6: 1 | C6: SALARIOS | E6: 1
B8: 2 | C8: PRESTACIONES SOCIALES | E8: =ROUND(SUM(D9:D21),2) -> 0.73
B9: 2.01 | C9: Cesantias 100.00%/12 Meses | D9: 0.083333333
B10: 2.02 | C10: Intereses de cesantías | D10: 0.01
B11: 2.03 | C11: Prima Anual 100.00%/12 Meses | D11: 0.083333333
B12: 2.04 | C12: Vacaciones | D12: 0.0417
B13: 2.05 | C13: Seguridad Social (salud) | D13: 0
B14: 2.06 | C14: Seguridad Social (pensión) | D14: 0.12
B15: 2.07 | C15: Aseguradora de Riesgos Laborales | D15: 0.0696
B16: 2.08 | C16: Caja de Compensación Familiar | D16: 0.04
B17: 2.09 | C17: ICBF | D17: 0
B18: 2.1 | C18: SENA | D18: 0
B19: 2.11 | C19: Subsidio de Transporte | D19: 0
B20: 2.12 | C20: Otros Subsidios (Transporte, prestaciones extralegales, incapacidades no cubiertas) | D20: 0.15
B21: 2.13 | C21: Dotación | D21: 0.13
C23: TOTAL FACTOR PRESTACIONAL | E23: =E6+E8 -> 1.73
B25: OBSERVACIÓN: Exoneración para empleadores de acuerdo con el artículo 65 de la Ley 1819 de 2016, para trabajadores que devenguen menos de 10 SMMLV. Salud, SENA e ICBF quedan en cero pesos para el empleador.
B34: =+'FP 1'!B35 -> ING. JHONATAN STIVEN PANTOJA MORILLO
B35: =+'FP 1'!B36 -> M.P. 111037-0520109 NRÑ

Sheet AIU 
A1: REPUBLICA DE COLOMBIA
A2: DEPARTAMENTO DE NARIÑO
A3: =+'Presup '!B3 -> ALCALDÍA MUNICIPAL DE SAN LORENZO
A5: =+'Presup '!B5 -> MEJORAMIENTO VÍA LA LAGUNA, SALINAS, LOS OLIVOS
I6: F.P. < 2SMMLV | J6: ='FP 1'!E23 -> 1.85
I7: F.P. > 2SMMLV | J7: ='FP 2'!E23 -> 1.73
I8: 2 SMMLV | J8: =908526*2 -> 1817052
A9: DISCRIMINACION DETALLADA DEL AUI | D9: =+A5 -> MEJORAMIENTO VÍA LA LAGUNA, SALINAS, LOS OLIVOS | L9: =+C12-G17 -> -1.1411689e+08
A12: COSTO BÁSICO | C12: =+P.Detall!I99 -> 763014745 | F12: VALOR CONTRATO
A13: COSTO DIRECTO ESTIMADO DE OBRA (CD) | C13: =+P.Detall!S97 -> 5.4454281e+08 | F13: COSTO DIRECTO | G13: =C13 -> 5.4454281e+08 | H13: =100%-(H14+H15+H16) -> 0.38923292 | N13: LLEVAR A M.O.
A14: TERMINO ESTIMADO DE EJECUCIÓN DE OBRA | C14: 6 | E14: MESES | F14: A = | G14: =ROUND((G13*N14),0) -> 278134541 | H14: =G14/$G$13 -> 0.51076708 | N14: =G84 -> 0.51076708
F15: U = | G15: =ROUND((G13*N15),0) -> 27227141 | H15: =G15/$G$13 -> 0.050000001 | N15: 0.05
F16: I = | G16: =ROUND((G13*N16),0) -> 27227141 | H16: =G16/$G$13 -> 0.050000001 | N16: 0.05
A17: A. ADMINISTRACIÓN | F17: COSTO TOTAL | G17: =SUM(G13:G16) -> 8.7713164e+08 | H17: =SUM(H13:H16) -> 1 | I17: =+C12-G17 -> -1.1411689e+08 | L17: =O21 -> 15295219703 | N17: =SUM(N14:N16) -> 0.61076708 | O17: 15295219703
A18: 1. COSTOS MENSUALES DE PERSONAL | L18: =G17-L17 -> -1.4418088e+10
A19: # | B19: CARGO | C19: CATEGORÍA | D19: DEDICACIÓN MES | E19: TOPE MÁXIMO SALARIO | F19: FACTOR PRESTACIONAL | G19: SALARIO MÁS PRESTACIONES | H19: SALARIO MÁS PRESTACIONES
A20: A | D20: B | E20: C | F20: D | G20: E = A * B * C * D | H20: E = A * B * C * D | K20: MESES | L20: =+C14 -> 6 | O20: 1 | P20: =G17/O17 -> 0.057346782
A21: 1.1 PERSONAL PROFESIONAL (Ingenieros y Otros) | K21: % | L21: 0.4 | O21: =O17*O20 -> 15295219703
A22: 1 | B22: INGENIERO DIRECTOR DE OBRA | D22: 0.5 | E22: =+MdeObra!C29 -> 8160037 | F22: =IF(E22<$J$8,$J$6,$J$7) -> 1.73 | G22: =A22*D22*E22*F22 -> 7058432 | H22: =G22/$G$13 -> 0.012962125 | L22: 3200000 | M22: =+L22+L22*$L$21 -> 4480000 | N22: =+M22*F22 -> 7750400 | O22: =+N22/$G$13 -> 0.014232857
A23: 1 | B23: INGENIERO RESIDENTE DE OBRA | D23: 1 | E23: =+MdeObra!C31 -> 5094999 | F23: =IF(E23<$J$8,$J$6,$J$7) -> 1.73 | G23: =A23*D23*E23*F23 -> 8814348.3 | H23: =G23/$G$13 -> 0.016186695 | L23: 2200000 | M23: =+L23+L23*$L$21 -> 3080000 | N23: =+M23*F23 -> 5328400 | O23: =+N23/$G$13 -> 0.0097850892
A24: 1 | B24: INGENIERO AUXILIAR DE OBRA | D24: 1 | E24: =+MdeObra!C33 -> 3054989 | F24: =IF(E24<$J$8,$J$6,$J$7) -> 1.73 | G24: =A24*D24*E24*F24 -> 5285131 | H24: =G24/$G$13 -> 0.0097056298
A25: 1 | B25: INGENIERO ESPECIALISTA SISO | D25: 1 | E25: =+MdeObra!C37 -> 3054989 | F25: =IF(E25<$J$8,$J$6,$J$7) -> 1.73 | G25: =A25*D25*E25*F25 -> 5285131 | H25: =G25/$G$13 -> 0.0097056298
A26: 1 | B26: INGENIERO ESPECIALISTA EN VIAS | D26: 0.3 | E26: =+MdeObra!C30 -> 6120028 | F26: =IF(E26<$J$8,$J$6,$J$7) -> 1.73 | G26: =A26*D26*E26*F26 -> 3176294.5 | H26: =G26/$G$13 -> 0.0058329565 | L26: 2250000 | M26: =+L26+L26*$L$21 -> 3150000 | N26: =+M26*F26 -> 5449500 | O26: =+N26/$G$13 -> 0.010007478
A27: 1 | B27: INGENIERO ESPECIALISTA EN GEOTECNIA | D27: 0.3 | E27: =+MdeObra!C34 -> 6120028 | F27: =IF(E27<$J$8,$J$6,$J$7) -> 1.73 | G27: =A27*D27*E27*F27 -> 3176294.5 | H27: =G27/$G$13 -> 0.0058329565 | L27: 2250000 | M27: =+L27+L27*$L$21 -> 3150000 | N27: =+M27*F27 -> 5449500 | O27: =+N27/$G$13 -> 0.010007478
A28: 1 | B28: INGENIERO ESPECIALISTA EN ESTRUCTURAS | D28: 0.3 | E28: =+MdeObra!C35 -> 6120028 | F28: =IF(E28<$J$8,$J$6,$J$7) -> 1.73 | G28: =A28*D28*E28*F28 -> 3176294.5 | H28: =G28/$G$13 -> 0.0058329565 | L28: 2250000 | M28: =+L28+L28*$L$21 -> 3150000 | N28: =+M28*F28 -> 5449500 | O28: =+N28/$G$13 -> 0.010007478
