Workbook
Name Departamento: #REF!
Name Municipio: #REF!

Sheet Cadena de Valor
A1: FORTALECIMIENTO DE LOS PROCESOS DE CALIDAD DE LA EDUCACIÓN INCLUSIVA EN LOS ESTABLECIMIENTOS EDUCATIVOS DE LOS MUNICIPIOS NO CERTIFICADOS DEL DEPARTAMENTO DEL CAUCA
A2: Objetivos | B2: Producto | C2: Número | D2: Actividades | E2: Unidad | F2: Cantidad | G2: Entregable | H2: Valor | I2: Valor MGA
A3: 1. Establecer una ruta metodológica para la apropiación de orientaciones técnicas, administrativas y pedagógicas desde los lineamientos del MEN | B3: 1.1 Producto 1: Servicio de asistencia técnica en educación con enfoque incluyente y de calidad Medido a través de : Número de entidades, organizaciones y núcleos familiares Cantidad : 101,0000 Costo $ 3.628.401.272,00 | C3: 1.1 | D3: Asistencia tecnica para el desarrollo de la Guia 34 | E3: Establecimientos educativos | F3: 101 | G3: Asistencias técnicas o asesorías para la aplicación del índice de inclusión | H3: ='1.1'!H10 -> 2039605000 | I3: 2084258500
F4: 101 | G4: Informes de las características inclusivas en la gestión escolar
F5: 101 | G5: Planes de mejoramiento con enfoque inclusivo
C6: 1.2 | D6: Asistencia técnica y acompañamiento para el fortalecimiento del Sistema de Evaluación (SIEE), Promoción y prácticas pedagógicas inclusivas para los EE. | E6: Establecimientos educativos | F6: 83 | G6: Documentos con recomendaciones para el sistema institucional de evaluación | H6: ='1.2'!G5 -> 184675000 | I6: 229328500
E7: Establecimientos educativos | F7: 83 | G7: Actas de asistencia técnica y acompañamiento
C8: 1.3 | D8: Diplomado en educación inclusiva para personal de Secretaría de Educación del Cauca, docentes de aula, docentes orientadores, docentes directivos y directores de núcleo de los establecimientos educativos a focalizar. | E8: Personas | F8: 210 | G8: 1 diplomado en educación inclusiva | H8: ='1.3'!G3 -> 672262605 | I8: 716916105
C9: 1.4 | D9: Creación de un módulo en el sistema de información del recurso tecnopedagógico con los instrumentos de la guía 34 del MEN, que permita a la SEC realizar seguimiento a su implementación. | E9: Modulo de Información | F9: 1 | G9: Modulo para el sistema de información para la guía 34 desarrollado e implementado | H9: ='1.4'!G9 -> 344000000 | I9: 388653500
A10: 2. Incrementar estrategias y herramientas didácticas con capacitación docente, en prácticas pedagógicas incluyentes basadas en el Diseño Universal para el Aprendizaje DUA. | B10: 2.1 Producto 2: Servicio de apoyo para el acceso a la educación Medido a través de : Número de personas Cantidad : 2.137,0000 Costo $ 4.201.802.355,00 | C10: 2.1 | D10: ='[1]5'!A1 -> Orientación a docentes para la construcción e implementación, de 603 PIAR ( Planes individuales de ajustes razonables) teniendo en cuenta estrategias basadas en DUA | E10: Profesionales | F10: 15 | G10: Profesionales de apoyo | H10: ='2.1'!G10 -> 1534516500 | I10: 1579170000
E11: Establecimientos educativos | F11: 34 | G11: Informes de jornada de acompañamiento con anexo de documento de PIAR construido
E12: Establecimientos educativos | F12: 68 | G12: Actas de acompañamiento, orientación y apoyo pedagógico para para la implementación de ajustes en la Planeación docente
C13: 2.2 | D13: Asistencia técnica y acompañamiento profesional para EE en educación inclusiva. | E13: Establecimientos educativos | F13: 101 | G13: Actas de asesoría y acompañamiento | H13: ='2.2'!G7 -> 48985000 | I13: 93638500
C14: 2.3 | D14: Implementación de prácticas educativas diferenciales para población con discapacidad sensorial de acuerdo al decreto 1421 de 2017 | E14: Establecimientos educativos | F14: 101 | G14: 101 establecimiento acompañadas con profesionales para la atención a estudiantes con discapacidad sensorial | H14: ='2.3'!G10 -> 264350000 | I14: 309003500
C15: 2.4 | D15: Diseño de material didáctico adaptado para discapacidad sensorial, Intelectual, autismo y trastornos del aprendizaje. | E15: Establecimientos educativos | F15: 101 | G15: 101 diseños de material pedagógico adaptado para diferentes áreas y niveles | H15: ='2.4'!I15 -> 363700000 | I15: 408353500
C16: 2.5 | D16: Asesoría para el seguimiento, evaluación y ajuste de los PIAR existentes en los EE | E16: Establecimientos educativos | F16: 67 | G16: 67 actas de seguimiento, evaluación y ajuste a los PIAR | H16: ='2.5'!G6 -> 460200000 | I16: 504853500
C17: 2.6 | D17: Acompañamiento para el fortalecimiento de las experiencias significativas de los docentes en el marco del II Congreso de Socialización de experiencias significativas “Listos para transformar” | E17: Establecimientos educativos | F17: 101 | G17: 1 congreso de socialización (evento virtual) | H17: ='2.6'!G7 -> 144040000 | I17: 188693500
C18: 2.7 | D18: Implementar prácticas pedagogicas basadas en DUA para la apropiación de estrategias flexibles | E18: Establecimientos educativos | F18: 101 | G18: 101 talleres virtuales | H18: ='2.7'!G6 -> 321665000 | I18: 366318500
C19: 2.8 | D19: Dotación de material pedagógico a 101 Establecimientos Educativos, en el marco de la educación inclusiva | E19: Establecimientos educativos | F19: 101 | G19: Canastas educativas para la atención a estudiantes con discapacidad y talentos excepcionales | H19: ='2.8'!H2 -> 4.9787319e+08 | I19: 5.4252669e+08
A20: 3. Implementar y apropiar la herramienta tecnopedagógica digital articulada a las prácticas pedagógicas, que permita alcanzar el potencial e impacto que dicho recurso tiene. | B20: 3.1 Producto 3: Servicio de desarrollo de contenidos educativos para la educación inicial, preescolar, básica y media de personas con discapacidad Medido a través de : Número de contenidos Cantidad : 1,0000 Costo $ 1.177.558.432,00 | C20: 3.1 | D20: Implementación de una ruta de apropiación a los padres de familia para el uso y apropiación de la herramienta tecnopedagógica digital para familias y/o cuidadores. | E20: Establecimientos Educativos | F20: 101 | G20: 101 Instituciones apropiadas con la herramienta tecnopedagógica digital para padres de familia y cuidadores | H20: ='3.1'!G7 -> 284000000 | I20: 328653500
C21: 3.2 | D21: Implementar una estrategia de Educomunicación inclusiva, a partir de fuentes oficiales de la SED que permita legitimar la pertinencia del uso y apropiación del recurso digital. | E21: Establecimientos Educativos | F21: 1 | G21: Una estrategia de Educomunicación implementada | H21: 200000000 | I21: 244653500
C22: 3.3 | D22: Dotar de material pedagógico DUA análogo digital articulado con la herramienta tecnopedagógica | E22: Kits | F22: 117 | G22: 117 kits material pedagógico DUA análogo digital articulado con la herramienta tecnopedagógica | H22: ='3.3'!G6 -> 230699766 | I22: 275353266
C23: 3.4 | D23: Realizar una ruta de apropiación a los funcionarios de la SEC en el sistema de información de la herramienta tecnopedagógica para la toma de decisiones asociadas a la gestión pedagógica. | E23: Establecimientos Educativos | F23: 1 | G23: Equipo de la SEC apropiado del Sistema de Información de la herrameinta tecnopedagógica a partir de un plan estrategico de uso para la toma decisiones aosciadas a la gestión pedagógica en el marco de la educación inclusiva | H23: ='3.4'!G6 -> 75000000 | I23: 119653500
G24: SUBTOTAL | H24: =SUM(H3:H23) -> 7.6655721e+09 | I24: =SUM(I3:I23) -> 8.3800281e+09
G25: Administración (9%) | H25: =Administración!F16 -> 714456000
G26: Interventoría (7%) | H26: =Interventoría!F17 -> 535734000 | I26: =H26 -> 535734000
G27: Apoyo a la supervisión | H27: ='Apoyo a la supervisión'!G6 -> 92000000 | I27: =H27 -> 92000000
G28: TOTAL | H28: =SUM(H24:H27) -> 9.0077621e+09 | I28: =SUM(I24:I27) -> 9.0077621e+09

Sheet 1.1
A1: Asistencia técnica para el desarrollo de la Guía 34
A3: No | B3: SUBACTIVIDADES | C3: UNIDAD DE MEDIDA | D3: CANTIDAD | E3: Tiempo | F3: VR. UNITARIO | G3: VR. TOTAL | H3: TOTAL ACTIVIDADES
A4: 1.1.1 | B4: Realizar 101 encuentros virtuales (1 por Institución Educativa) en asistencia técnica para el desarrollo de la guía 34 dirigido a docentes y directivos docentes | C4: Encuentros virtuales | D4: 101 | E4: 1 | F4: 2705000 | G4: =+D4*F4 -> 273205000 | H4: =D4*F4*E4 -> 273205000
A5: 1.1.2 | B5: Consultoría para las características inclusivas en la gestión escolar | C5: Informes | D5: 101 | E5: 1 | F5: 3920000 | G5: =D5*F5 -> 395920000 | H5: =D5*F5*E5 -> 395920000
A6: 1.1.3 | B6: Aplicación de índice de inclusión por establecimiento educativo | C6: Documento | D6: 101 | E6: 1 | F6: 7080000 | G6: =D6*F6 -> 715080000 | H6: =D6*F6*E6 -> 715080000
A7: 1.1.4 | B7: Asistencia técnica para la gestión escolar y el mejoramiento | C7: Jornadas de asistencia técnica | D7: 101 | E7: 2 | F7: 1500000 | G7: =D7*F7 -> 151500000 | H7: =D7*F7*E7 -> 303000000
A8: 1.1.5 | B8: Documento de plan de mejoramiento con enfoque inclusivo | C8: Informes | D8: 101 | E8: 1 | F8: 3400000 | G8: =D8*F8 -> 343400000 | H8: =D8*F8*E8 -> 343400000
A9: 1.1.6 | B9: Diseño y alistamiento de la asistencia técnica para el desarrollo de la guía 34 dirigido a docentes y directivos docentes | C9: Documento | D9: 1 | E9: 1 | F9: 9000000 | G9: =E9*F9 -> 9000000 | H9: =D9*F9*E9 -> 9000000
A10: TOTAL | H10: =SUM(H4:H9) -> 2039605000
A12: =+B4 -> Realizar 101 encuentros virtuales (1 por Institución Educativa) en asistencia técnica para el desarrollo de la guía 34 dirigido a docentes y directivos docentes | H12: NOTAS AL PRESUPUESTO
A13: No | B13: CONCEPTO | C13: UNIDAD DE MEDIDA | D13: CANTIDAD | F13: VR. UNITARIO | G13: VR. TOTAL
A14: 1.1.1
A16: 1.1.1.1 | B16: Tallerista por 4 horas | C16: horas | D16: 4 | F16: 370000 | G16: =D16*F16 -> 1480000
A17: 1.1.1.3 | B17: Apoyos pedadógicos para la gestión escolar inclusiva (2 por encuentro) | C17: horas | D17: 10 | F17: 110000 | G17: =D17*F17 -> 1100000
A18: 1.1.1.4 | B18: Soporte tecnológico con enfoque pedagógico | C18: Encuentros virtuales | D18: 1 | F18: 125000 | G18: =F18*D18 -> 125000
A22: TOTAL | G22: =SUM(G16:G21) -> 2705000
A25: =B5 -> Consultoría para las características inclusivas en la gestión escolar | H25: NOTAS AL PRESUPUESTO
A26: No | B26: CONCEPTO | C26: UNIDAD DE MEDIDA | D26: CANTIDAD | E26: TIEMPO | F26: VR. UNITARIO | G26: VR. TOTAL
A27: 1.1.3
A29: 1.1.3.1 | B29: Jornada de aplicación de instrumentos para identificación de características en la gestión escolar | C29: horas por jornada | D29: 3 | E29: 4 | F29: 160000 | G29: =D29*E29*F29 -> 1920000
A30: 1.1.3.2 | B30: Análisis de instrumentos para identificación de características en la gestión escolar | C30: Matriz | D30: 1 | E30: 1 | F30: 1200000 | G30: =D30*F30 -> 1200000
A31: 1.1.3.3 | B31: Sistematización de las características en la gestión escolar | C31: Documento | D31: 1 | E31: 1 | F31: 800000 | G31: =D31*F31 -> 800000
A36: TOTAL | G36: =SUM(G29:G35) -> 3920000
A38: =B6 -> Aplicación de índice de inclusión por establecimiento educativo | H38: NOTAS AL PRESUPUESTO
A39: No | B39: CONCEPTO | C39: UNIDAD DE MEDIDA | D39: CANTIDAD | E39: TIEMPO | F39: VR. UNITARIO | G39: VR. TOTAL
A40: 1.1.4
A42: 1.1.4.1 | B42: Jornada de sensibilización para la aplicación del índice de inclusión | C42: horas por jornada | D42: 2 | E42: 1 | F42: 160000 | G42: =D42*E42*F42 -> 320000
A43: 1.1.4.2 | B43: Jornada de aplicación de encuestas para docentes | C43: horas por jornada | D43: 3 | E43: 4 | F43: 160000 | G43: =D43*E43*F43 -> 1920000
A44: 1.1.4.3 | B44: Jornada de aplicación de encuestas para estudiantes | C44: horas por jornada | D44: 3 | E44: 4 | F44: 160000 | G44: =D44*E44*F44 -> 1920000
A45: 1.1.4.4 | B45: Jornada de aplicación de encuestas para padres de familia. | C45: horas por jornada | D45: 3 | E45: 4 | F45: 160000 | G45: =D45*E45*F45 -> 1920000
A46: 1.1.4.5 | B46: Matriz de resultados de la evaluación institucional | C46: Matriz | D46: 1 | E46: 1 | F46: 1000000 | G46: =D46*E46*F46 -> 1000000
A50: TOTAL | G50: =SUM(G42:G49) -> 7080000
A53: =B8 -> Documento de plan de mejoramiento con enfoque inclusivo | H53: NOTAS AL PRESUPUESTO
A54: No | B54: CONCEPTO | C54: UNIDAD DE MEDIDA | D54: CANTIDAD | E54: TIEMPO | F54: VR. UNITARIO | G54: VR. TOTAL
A55: 1.1.6
A57: 1.1.6.1 | B57: Jornada de acompañamiento para el mejoramiento escolar en el marco de la educación inclusiva | C57: horas por jornada | D57: 3 | E57: 4 | F57: 160000 | G57: =D57*E57*F57 -> 1920000
A58: 1.1.6.2 | B58: Sistematización de resultados para el mejoramiento escolar en el marco de la educación inclusiva | C58: Documento | D58: 1 | E58: 1 | F58: 800000 | G58: =D58*E58*F58 -> 800000
A65: TOTAL | G65: =SUM(G57:G64) -> 2720000

Sheet 1.2
A1: Asistencia técnica y acompañamiento para el fortalecimiento del Sistema de Evaluación (SIEE) para los EE.
A2: No | B2: Subactividad | C2: Unidad | D2: Cantidad | E2: Tiempo | F2: Valor Unitario | G2: Valor total
A3: 1.2.1 | B3: Mesas virtuales de asistencia técnica y acompañamiento con soporte tecnológico (1 por cada EEO) | C3: Mesas de trabajo | D3: 83 | E3: 10 | F3: 192500 | G3: =F3*E3*D3 -> 159775000
A4: 1.2.2 | B4: Actas de asistencia técnica y acompañamiento e informes con recomendaciones para el sistema de evaluación | C4: Informes | D4: 83 | E4: 10 | F4: 30000 | G4: =D4*F4*E4 -> 24900000
A5: TOTAL | G5: =SUM(G3:G4) -> 184675000

Sheet 1.3
A1: ='Cadena de Valor'!D8 -> Diplomado en educación inclusiva para personal de Secretaría de Educación del Cauca, docentes de aula, docentes orientadores, docentes directivos y directores de núcleo de los establecimientos educativos a focalizar.
A2: No | B2: Actividad | C2: Unidad | D2: Cantidad | E2: tiempo | F2: Valor unitario | G2: Valor total
A3: 1.3 | B3: Diplomado: Gestores de Educación Inclusiva: "Fortaleciendo la capacidad institucional" | C3: Personas | D3: 210 | E3: 7 | F3: 457321.5 | G3: =D3*F3*E3 -> 672262605
A4: TOTAL | G4: =SUM(G3) -> 672262605

Sheet 1.4
A1: Creación de un módulo en el sistema de información del recurso tecnopedagógico con los instrumentos de la guía 34 del MEN, que permita a la SEC realizar seguimiento a su implementación.
A2: No | B2: Subactividad | C2: Unidad | D2: Cantidad | E2: Tiempo | F2: Valor Unitario | G2: Valor total
A3: 1.4.1 | B3: Determinar los requerimientos fundamentales para el diseño del módulo en el sistema de información del recurso tecnopedagógico con los instrumentos de la guía 34 del MEN, que permita a la SEC realizar seguimiento a su implementación. | C3: Unidad | D3: 1 | E3: 1 | F3: 10000000 | G3: =D3*F3 -> 10000000
A4: 1.4.2 | B4: Diseñar la estructura del módulo basado en el enfoque de Diseño Centrado en el Usuario (DCU) | C4: Unidad | D4: 1 | E4: 1 | F4: 15000000 | G4: =D4*F4 -> 15000000
A5: 1.4.3 | B5: Desarrollar prototipo funcional del módulo | C5: Unidad | D5: 1 | E5: 6 | F5: 34000000 | G5: =F5*E5*D5 -> 204000000
A6: 1.4.4 | B6: Realizar proceso de pruebas funcionales, técnicas, de seguridad y de experiencia de usuario al prototipo funcional del módulo. | C6: Unidad | D6: 1 | E6: 1 | F6: 35000000 | G6: =D6*F6 -> 35000000
A7: 1.4.5 | B7: Ajustar el prototipo funcional del módulo de acuerdo a los resultados de las pruebas realizadas | C7: Unidad | D7: 1 | E7: 1 | F7: 15000000 | G7: =D7*F7 -> 15000000
A8: 1.4.6 | B8: Desplegar el módulo en el sistema de información del recurso tecnopedagógico con los instrumentos de la guía 34 del MEN, que permita a la SEC realizar seguimiento a su implementación. | C8: Unidad | D8: 1 | E8: 2 | F8: 32500000 | G8: =E8*F8*D8 -> 65000000
A9: TOTAL | G9: =SUM(G3:G8) -> 344000000

Sheet 2.1
A1: Orientación a docentes para la construcción e implementación, de 603 PIAR ( Planes individuales de ajustes razonables ) teniendo en cuenta estrategias basadas en DUA
A2: No | B2: Actividad | C2: Unidad | D2: Cantidad | E2: tiempo | F2: Valor unitario | G2: Valor total
A3: 2.1.1 | B3: Asistencia técnica y acompañamiento al proceso de construción del PIAR y valoración pedagógica para 603 estudiantes con discapacidad. | G3: =SUM(G4:G4) -> 1047200000
A4: 2.1.1.1 | B4: Jornadas virtuales de asistencia técnica (2 por establecimiento educativo) para el acompañamiento a los docentes en el proceso de construción del PIAR y valoración pedagógica para 603 estudiantes con discapacidad con soporte tecnológico | C4: Jornadas de asistencia técnica | D4: 68 | E4: 8 | F4: 1925000 | G4: =D4*E4*F4 -> 1047200000
A5: 2.1.2 | B5: Construcción de historias pedagógicas | C5: unidad | G5: =SUM(G6:G7) -> 283316500
A6: 2.1.2.1 | B6: Profesionales para la sistematización de evaluaciones pedagógicas (el equipo se conformará con 10 profesionales de apoyo que cuenten con experiencia en trabajo con estudiantes con discapacidad) | C6: Profesional por mes | D6: 10 | E6: 8 | F6: 3500000 | G6: =D6*E6*F6 -> 280000000
A7: 2.1.2.2 | B7: Impresión de historias pedagógicas (paquete de 12 hojas) | C7: unidad | D7: 603 | E7: 1 | F7: 5500 | G7: =D7*E7*F7 -> 3316500
A8: 2.1.3 | B8: Jornadas de acompañamiento, orientación y apoyo pedagógico para la implementación de ajustes razonables en la Planeación docente, teneindo en cuenta estrategias basadas en DUA | C8: unidad | G8: =SUM(G9) -> 204000000
A9: 2.1.3.1 | B9: Jornadas de acompañamiento, orientación y apoyo pedagógico para la implementación de ajustes razonbles PIAR en la planeación escolar .(2 por institución educativa durante 2 meses) | C9: Jornadas de acompañamiento | D9: 34 | E9: 2 | F9: 3000000 | G9: =D9*E9*F9 -> 204000000
A10: TOTAL | G10: =G8+G5+G4 -> 1534516500

Sheet 2.2
A1: ='Cadena de Valor'!D13 -> Asistencia técnica y acompañamiento profesional para EE en educación inclusiva.
A2: No | B2: Subactividad | C2: Unidad | D2: Cantidad | E2: Tiempo | F2: Valor Unitario | G2: Valor total
A3: 2.2.1 | B3: Asesoría en ruta institucional de atención educativa a la población con discapacidad. | C3: Asesoría | D3: 101 | E3: 1 | F3: 120000 | G3: =F3*E3*D3 -> 12120000
A4: 2.2.2 | B4: Asesoría en procesos de atención a estudiantes con discapacidad , capacidades o talentos excepcionales y trastornos espacificos en el aprendizaje escolar y el comportamiento | C4: Asesoría | D4: 101 | E4: 1 | F4: 120000 | G4: =D4*F4 -> 12120000
A5: 2.2.3 | B5: Asesoría en evaluación pedagógica | C5: Asesoría | D5: 101 | E5: 1 | F5: 120000 | G5: =D5*F5 -> 12120000
A6: 2.2.4 | B6: Soporte tecnológico con enfoque pedagógico para el acompañamiento a docentes | C6: Unidad | D6: 101 | E6: 1 | F6: 125000 | G6: =D6*F6 -> 12625000
A7: TOTAL | G7: =SUM(G3:G6) -> 48985000

Sheet 2.3
A1: Implementación de Prácticas educativas basadas en modelo lingüístico, tiflología y guía intérprete
A2: No. | B2: Subactividad | C2: Unidad | D2: Cantidad | E2: Tiempo | F2: Valor Unitario | G2: Valor Total
A3: 2.3.1 | B3: EXPERTOS EN TIFLOLOGÍA (2): con mínimo un (1) año de experiencia en atención pedagógica de estudiantes con discapacidad visual, desempeñándose como tiflólogo. | C3: Personas | D3: 2 | E3: 8 | F3: 3200000 | G3: =F3*D3*E3 -> 51200000
A4: 2.3.2 | B4: MODELOS LINGÜÍSTICOS (3):Persona con discapacidad auditiva mayor de edad, con formación mínima de bachiller con conocimiento de lengua de señas y experiencia mínima de un año. | C4: Personas | D4: 3 | E4: 8 | F4: 3200000 | G4: =F4*D4*E4 -> 76800000
A5: 2.3.3 | B5: GUÍA INTÉRPRETE (1) Debe tener formación mínima de bachiller, habilidades de lenguas de señas colombianas y braille, ábaco y movilidad con experiencia en la atención a estudiantes con discapacidad visual y auditiva mínima de un año. | C5: Personas | D5: 1 | E5: 8 | F5: 3200000 | G5: =F5*D5*E5 -> 25600000
A6: 2.3.4 | B6: Asistencia técnica y acompañamiento al docente en prácticas pedagógicas para el fortalecimiento de las competencias linguísticas de los estudiantes sordos | C6: Asesorías | D6: 101 | E6: 1 | F6: 250000 | G6: =PRODUCT(D6:F6) -> 25250000
A7: 2.3.5 | B7: Asistencia técnica y acompañamiento al docente para el fortalecimiento de prácticas pedagógicas basadas en tiflología y tiflotecnología | C7: Asesorías | D7: 101 | E7: 1 | F7: 250000 | G7: =PRODUCT(D7:F7) -> 25250000
A8: 2.3.6 | B8: Asistencia técnica y acompañamiento al docente en sistemas de comunicación para la atención a la población estudiantil con discapacidad visual y auditiva | C8: Asesorías | D8: 101 | E8: 1 | F8: 250000 | G8: =PRODUCT(D8:F8) -> 25250000
A9: 2.3.7 | B9: Soporte tecnológico con enfoque pedagogico para el acompañamiento a docentes de 35 EEO | C9: Unidad | D9: 35 | E9: 8 | F9: 125000 | G9: =F9*D9*E9 -> 35000000
A10: TOTAL | G10: =SUM(G3:G9) -> 264350000

Sheet 2.4
A1: ='Cadena de Valor'!D15 -> Diseño de material didáctico adaptado para discapacidad sensorial, Intelectual, autismo y trastornos del aprendizaje.
A3: 2.4 | B3: MATERIAL | C3: TIPO DE DISCAPACIDAD | D3: UNIDADES | E3: Cantidad | F3: ASIGNATURA | G3: DESCRIPCIÓN | H3: Valor Unitario | I3: Valor Total
A4: 2.4.1 | B4: Material adaptado para el fortalecimiento de la Competencia lingüística en estudiantes sordos usuarios de LSC | C4: Auditiva (usuarios de la lengua de señas colombiana) | D4: Videos | E4: 60 | F4: Vocabulario de L.S.C | G4: -Videos y cartillas adaptados en L.S.C | H4: 700000 | I4: =H4*E4 -> 42000000
D5: Cartillas didácticas | E5: 60 | G5: - Documento de relación del material adaptado | H5: 700000 | I5: =H5*E5 -> 42000000
A7: 2.4.2 | B7: Material videos adaptados en LSC con contenidos que incorporen los Derechos Básicos de Aprendizaje (DBA) Matematicas y lenguaje DE 1 A 11 | C7: Auditiva | D7: Contenidos audiovisuales | E7: 80 | F7: Lengua castellana y matemáticas grado desde 1 a 11 | G7: -Videos adaptados en L.S.C | H7: 700000 | I7: =H7*E7 -> 56000000
A8: 2.4.3 | B8: Archivos digitales , compatibles con lectores de pantalla, guias adaptadas , elaboración de material en alto relieve que permita la incorporación de Derechos Básicos de Aprendizaje (DBA) | C8: Visual: ceguera total y baja visión irreversible | D8: Contenidos digitales | E8: 60 | F8: Lengua castellana y matemáticas grado desde 1 a 11 | G8: -Archivos digitales compatibles con lectores de pantalla | H8: 700000 | I8: =H8*E8 -> 42000000
D9: Contenidos digitales | G9: - Guías adaptadas con audio y audiodescripción | H9: 700000 | I9: =H9*E8 -> 42000000
D10: Material adaptado elaborado para estudiantes con discapacidad visual | E10: 60 | F10: Matemáticas, Español, Ciencias Sociales y naturales | G10: =B17 -> Taller de elaboración de material adaptado en alto relieve para estudiantes con discapacidad visual | H10: 720000 | I10: =E10*H10 -> 43200000
E11: 1 | G11: Diseño del taller de elaboración del material adaptado en alto relieve | H11: 2000000 | I11: 2000000
E12: 8 | G12: 1 intérprte de Lengua de Señas con certificación en competencia linguistica en sistema de comunicacion para personas sordas LSC como minimo 3 años para Acompañamiento en estructuración de material adaptado en LSC | H12: 3500000 | I12: =H12*E12 -> 28000000
A13: 2.4.4 | B13: Tutoriales de aprendizaje en tiflologia y tiflotecnologia | C13: Visual: ceguera total y baja visión irreversible | D13: Videos | E13: 15 | F13: Tiflología y tiflotecnología | G13: Videos con orientaciones en tiflologia y tiflotecnologia | H13: 700000 | I13: =H13*E13 -> 10500000
A14: 2.4.5 | B14: Material en formato de lectura facil y estructura pictografica que incorpore los Derechos Básicos de Aprendizaje (DBA) | C14: Intelectual, autismo y trastornos del aprendizaje. | D14: Formatos de accesibilidad cognitiva a la información y al aprendizaje | E14: 80 | F14: Lengua castellana y matemáticas grado desde 1 a 11 | G14: Formato en lectura fácil y estructura pictográfica | H14: 700000 | I14: =H14*E14 -> 56000000
A15: TOTAL | I15: =SUM(I4:I14) -> 363700000
B17: Taller de elaboración de material adaptado en alto relieve para estudiantes con discapacidad visual | I17: NOTAS AL PRESUPUESTO
B18: No | C18: CONCEPTO | D18: UNIDAD DE MEDIDA | E18: CANTIDAD | G18: VR. UNITARIO | H18: VR. TOTAL
B19: 2.4.3
B20: 2.4.3.1 | C20: Tallerista por 4 horas | D20: horas | E20: 4 | G20: =AVERAGE(#REF!,#REF!) -> #REF! | H20: 720000
B22: TOTAL | H22: 720000

Sheet 2.5
A1: ='[2]Cadena de Valor'!C16 -> Asesoría para el seguimiento, evaluación y ajuste de los PIAR existentes en los EE
A2: No | B2: Subactividad | C2: Unidad | D2: Cantidad | E2: Tiempo | F2: Valor Unitario | G2: Valor total
A3: 2.5.1 | B3: Asistencia técnica y acompañamiento para el seguimiento y la evaluación de los PIAR existentes | C3: Asesoría | D3: 1534 | E3: 1 | F3: 140000 | G3: =F3*E3*D3 -> 214760000
A4: 2.5.2 | B4: Asistencia técnica y acompañamiento para el ajuste de los PIAR existentes | C4: Asesoría | D4: 1534 | E4: 1 | F4: 160000 | G4: =D4*F4 -> 245440000
A5: 2.5.3 | B5: Soporte tecnológico con enfoque pedagógico para el acompañamiento a docentes | C5: Unidad | D5: 67 | E5: 1 | F5: 125000 | G5: =D5*F5 -> 8375000
A6: Total | G6: =SUM(G3:G4) -> 460200000

Sheet 2.6
A1: ='Cadena de Valor'!D17 -> Acompañamiento para el fortalecimiento de las experiencias significativas de los docentes en el marco del II Congreso de Socialización de experiencias significativas “Listos para transformar”
A2: 2.6. | B2: Actividad | C2: Unidad | D2: Cantidad | E2: Tiempo | F2: Valor unitario | G2: Valor total
A3: 2.6.1 | B3: Asesoría y acompañamiento al docente para el fortalecimiento de experiencias significativas | C3: Docentes | D3: 32 | E3: 8 | F3: 160000 | G3: =PRODUCT(D3:F3) -> 40960000
A4: 2.6.2 | B4: Asistencia técnica para la sistematización de experiencias significativas de docentes del departamento del Cauca | C4: Docentes | D4: 32 | E4: 8 | F4: 180000 | G4: =PRODUCT(D4:F4) -> 46080000
A5: 2.6.3 | B5: II Congreso de de experiencias significativas "Listos para transformar" | C5: Municipios | D5: 1 | E5: 1 | F5: 25000000 | G5: =PRODUCT(D5:F5) -> 25000000
A6: 2.6.4 | B6: Soporte tecnológico con enfoque pedagógico para el acompañamiento a docentes | C6: Docentes | D6: 32 | E6: 8 | F6: 125000 | G6: =PRODUCT(D6:F6) -> 32000000
A7: Total | G7: =SUM(G3:G6) -> 144040000
B11: =B5 -> II Congreso de de experiencias significativas "Listos para transformar"
B12: No | C12: CONCEPTO | D12: UNIDAD DE MEDIDA | E12: CANTIDAD | F12: VR. UNITARIO | G12: VR. TOTAL
B13: 4.1 | C13: Ponentes | D13: Conferencia | E13: 3 | F13: 3000000 | G13: =E13*F13 -> 9000000
C14: Presentador | D14: unidad | E14: 1 | F14: 3000000 | G14: =E14*F14 -> 3000000
C15: Producción técnica del evento | D15: Evento | E15: 1 | F15: 13000000 | G15: =E15*F15 -> 13000000
B16: TOTAL | G16: =SUM(G13:G15) -> 25000000

Sheet 2.7
A1: Desarrollar prácticas basadas en DUA para la apropiación de estrategias flexibles
A2: 2.7 | B2: SUBACTIVIDADES | C2: UNIDAD DE MEDIDA | D2: CANTIDAD | E2: VR. UNITARIO | F2: VR. TOTAL | G2: TOTAL ACTIVIDADES
A3: 2.7.1 | B3: Realizar 101 encuentros (1 por institución) en apropiación de estrategias con herramientas didácticas en educación inclusiva, en 101 EE priorizadas en el departamento del Cauca | C3: Encuentros | D3: 101 | E3: 3040000 | F3: =+D3*E3 -> 307040000 | G3: =D3*E3 -> 307040000
A4: 2.7.2 | B4: Garantizar soporte tecnológico con enfoque pedagógico para la realización de los encuentros | C4: Encuentros | D4: 101 | E4: 125000 | F4: =G4 -> 12625000 | G4: =D4*E4 -> 12625000
A5: 2.7.3 | B5: Diseño y alistamiento del taller | C5: Documento de diseño | D5: 1 | E5: 2000000 | F5: =D5*E5 -> 2000000 | G5: =D5*E5 -> 2000000
F6: VR. TOTAL | G6: =SUM(G3:G5) -> 321665000
A7: =+B3 -> Realizar 101 encuentros (1 por institución) en apropiación de estrategias con herramientas didácticas en educación inclusiva, en 101 EE priorizadas en el departamento del Cauca | G7: NOTAS AL PRESUPUESTO
A8: No | B8: CONCEPTO | C8: UNIDAD DE MEDIDA | D8: CANTIDAD | E8: VR. UNITARIO | F8: VR. TOTAL
A9: 2.7.1.1 | B9: Tallerista por 4 horas | C9: horas | D9: 4 | E9: 280000 | F9: =D9*E9 -> 1120000
A10: 2.7.1.3 | B10: Apoyos pedadógicos en herramientas didácticas (2 por encuentro) | C10: horas | D10: 16 | E10: 120000 | F10: =D10*E10 -> 1920000
A11: TOTAL | F11: =SUM(F9:F10) -> 3040000
A14: =+B10 -> Apoyos pedadógicos en herramientas didácticas (2 por encuentro) | G14: NOTAS AL PRESUPUESTO
A15: No | B15: CONCEPTO | C15: UNIDAD DE MEDIDA | D15: CANTIDAD | E15: VR. UNITARIO | F15: VR. TOTAL
A16: 2.7.1.1 | B16: Tallerista por 4 horas | C16: horas | D16: 4 | E16: 280000 | F16: =D16*E16 -> 1120000
A17: 2.7.1.3 | B17: Apoyos pedadógicos en herramientas didácticas (2 por encuentro) | C17: horas | D17: 16 | E17: 120000 | F17: =D17*E17 -> 1920000
A18: TOTAL | F18: =SUM(F16:F17) -> 3040000

Sheet 2.8
B1: No | C1: SUBACTIVIDADES | E1: UNIDAD DE MEDIDA | F1: CANTIDAD | G1: VR. UNITARIO | H1: VR. TOTAL
B2: 2.8 | C2: Dotación de material pedagógico a 101 Establecimientos Educativos, en el marco de la educación inclusiva | E2: Numero | F2: 101 | G2: =G52 -> 4929437.5 | H2: =+F2*G2 -> 4.9787319e+08
A4: =+C2 -> Dotación de material pedagógico a 101 Establecimientos Educativos, en el marco de la educación inclusiva
A5: No. | B5: TIPO DE MATERIAL POR DESARROLLO DE HABILIDADES | C5: MATERIAL | D5: UNIDAD DE MEDIDA | E5: CANTIDAD | F5: VR. UNITARIO | G5: SUB. TOTAL | H5: TOTAL
A6: 2.8.1 | B6: Material didáctico educativo para desarrollar habilidades de cálculo y numéricas para el desarrollo de operaciones básicas. | C6: CAJA DE REGLETAS COUSSINEAIRE, juego de lógica matemática en estuche x 120 fichas en material inyectado | D6: CAJA | E6: 1 | F6: 30854.5 | G6: =E6*F6 -> 30854.5 | H6: =SUM(G6:G10) -> 451389
C7: ABACO ABIERTO EN MATERIAL INYECTADO X 50 DISCOS EN VIVOS COLORES | D7: UNIDAD | E7: 6 | F7: 20569.5 | G7: =E7*F7 -> 123417
C8: EUREKA EN MADERA, rompecabezas tetris con 36 niveles, juego de mesa de complejidad alta | D8: UNIDAD | E8: 1 | F8: 17141 | G8: =E8*F8 -> 17141
C9: CAJA MATEMÁTICA, juego de mesa para aplicar las 4 operaciones básicas | D9: CAJA | E9: 6 | F9: 28569 | G9: =E9*F9 -> 171414
C10: Parques en madera para 4 jugadores | D10: UNIDAD | E10: 5 | F10: 21712.5 | G10: =E10*F10 -> 108562.5
A11: 2.8.2 | B11: Material didáctico educativo para desarrollar habilidades para la orientación espacial, lateralidad para el desarrollo de ubicación espacial. | C11: COLECCIÓN X 3 REGLETAS EN MADERA DE SECUENCIAS LOGICAS CON DIBUJOS IMPRESOS , tamaño de la regleta 50x10 cms y 6 fichas de 7x7 c/u | D11: UNIDAD | E11: 1 | F11: 45710.5 | G11: =E11*F11 -> 45710.5 | H11: =SUM(G11:G15) -> 279975.5
C12: TABLA MATEMÁTICA GEOPLANO | D12: UNIDAD | E12: 1 | F12: 34282.5 | G12: =E12*F12 -> 34282.5
C13: ESQUEMA CORPORAL EN MADERA CON DIBUJO IMPRESO DE LA NIÑA, 70X30 cms | D13: UNIDAD | E13: 1 | F13: 39996.5 | G13: =E13*F13 -> 39996.5
C14: ESQUEMA CORPORAL EN MADERA CON DIBUJO IMPRESO DE EL NIÑO, 70X30 cms | D14: UNIDAD | E14: 1 | F14: 39996.5 | G14: =E14*F14 -> 39996.5
C15: - BATERÍA DE PERCEPCIÓN Batería elaborada en MDF con impresión serigrafica en policromía a base de tintas UV no tóxicas. Compuesta por 5 loterías (Percepción de forma, tamaño, colores, fondo figura y realciones espaciales). Cada lotería contiene 3 tableros de (21x10 cm) y 24 fichas de (5x5 cm) para un total de 135 piezas. | D15: UNIDAD | E15: 1 | F15: 119989.5 | G15: =E15*F15 -> 119989.5
A16: 2.8.3 | B16: Material didáctico educativo para desarrollar habilidades en atención y memoria para el mejoramiento de los dispositivos básicos. | C16: CONCENTRESE EN CAUCHO ADHERIBLE DE LOS OPUESTOS | D16: UNIDAD | E16: 1 | F16: 171413.5 | G16: =E16*F16 -> 171413.5 | H16: =SUM(G16:G18) -> 231979.5
C17: CONCENTRESE EN MADERA CON PUNTOS DE COLORES, juego de mesa de 15x15 cms con 48 niveles | D17: UNIDAD | E17: 1 | F17: 18284 | G17: =E17*F17 -> 18284
C18: CONCENTRESE EN MADERA CON PUNTOS DE COLORES, juego de mesa de 15x15 cms con 48 niveles | D18: UNIDAD | E18: 2 | F18: 21141 | G18: =E18*F18 -> 42282
A19: 2.8.4 | B19: Material didáctico educativo para desarrollar habilidades en discriminación visual y auditiva, para el proceso de lecto-escritura. | C19: CAJA DE LETRAS ILUSTRADA X 136 PIEZAS EN MADERA, fichas de 4x4 cms con figuras impresas | D19: CAJA | E19: 3 | F19: 51424 | G19: =E19*F19 -> 154272 | H19: =SUM(G19:G23) -> 742791.5
C20: JUEGO ASOCIACION ABC X 88 PIEZAS, en y caja de madera con fichas impresas con imágenes de distintas categorías con letra inicial y palabra | D20: CAJA | E20: 3 | F20: 45710.5 | G20: =E20*F20 -> 137131.5
C21: PAQUETE X 10 REGLETAS PARA TRAZOS DE PREESCRITURA, EN MADERA IMPRESA | D21: UNIDAD | E21: 3 | F21: 25140.5 | G21: =E21*F21 -> 75421.5
C22: REGLETAS LEXICO EN MADERA CON PALABRAS IMPRESAS | D22: UNIDAD | E22: 4 | F22: 39996.5 | G22: =E22*F22 -> 159986
C23: JUEGO DE CUBOS CREAFRASES, impresión digital para combinación léxica | D23: UNIDAD | E23: 3 | F23: 71993.5 | G23: =E23*F23 -> 215980.5
A24: 2.8.5 | B24: Material didáctico educativo para desarrollar habilidades en motricidad fina y gruesa, para el mejoramiento de los procesos de aprendizaje y desarrollo físico. | C24: ROMPECABEZAS CUADRADO PARA ENSARTAR fabricado en madera tamaño de la base de 15x15 cms. Tamaño aproximado de las 23 piezas de 13x6 cms | D24: UNIDAD | E24: 1 | F24: 43424.5 | G24: =E24*F24 -> 43424.5 | H24: =SUM(G24:G29) -> 685654
C25: ROMPECABEZAS CIRCULO PARA ENSARTAR fabricado en madera tamaño de la base de 15x15 cms. Tamaño aproximado de las 23 piezas de 13x6 cms | D25: UNIDAD | E25: 1 | F25: 43424.5 | G25: =E25*F25 -> 43424.5
C26: ROMPECABEZAS TETRIS PARA ENSARTAR fabricado en madera tamaño de la base de 13x5 cms. Tamaño aproximado de las 15 piezas de 15X15 cms | D26: UNIDAD | E26: 1 | F26: 51424 | G26: =E26*F26 -> 51424
C27: ROMPECABEZAS DEL RELOJ ANALOGO DIGITAL EN MADERA, estuche compuesto por 36 fichas | D27: UNIDAD | E27: 1 | F27: 38853.5 | G27: =E27*F27 -> 38853.5
C28: LAZO ALGODÓN TRENZADO CABO PLÁSTICO Lazo algodón trenzado cabo Plástico | D28: UNIDAD | E28: 7 | F28: 68565.5 | G28: =E28*F28 -> 479958.5
C29: MANITAS PARA ENLAZAR-CONTAR PEQUE. Manitas elaboradas en plástico inyectado de diferentes formas y colores. Compuesto por 110 manitas (Aprox.) que forman los números del 0 hasta el 5 y de la misma forma traen la misma cantidad de huecos en cada una de ellas, 3 mimbres de plástico de 25 cm de largo y 4 tarjetas con secuencias para armar. Dimensiones Pieza + Pequeña: 4x4x0.2 cm Dimesiones: 11x17x10 cm Empaque: Tarro Plástico | D29: UNIDAD | E29: 1 | F29: 28569 | G29: =E29*F29 -> 28569
A30: 2.8.6 | B30: Material didáctico educativo para desarrollar habilidades sensoriales para el mejoramiento de la percepción visual, auditiva y táctil. | C30: ENCAJABLE EN CAUCHO DE DESTREZA MENTAL | D30: CAJA | E30: 2 | F30: 30854.5 | G30: =E30*F30 -> 61709 | H30: =SUM(G30:G36) -> 620062
C31: LOTERIA EL DETALLE QUE FALTA | D31: UNIDAD | E31: 2 | F31: 34282.5 | G31: =E31*F31 -> 68565
C32: JUEGO ASOCIACION ASOCIACION PALABRA E IMAGEN | D32: UNIDAD | E32: 2 | F32: 45710.5 | G32: =E32*F32 -> 91421
C33: DOMINO DE TEXTURAS | D33: UNIDAD | E33: 4 | F33: 34282.5 | G33: =E33*F33 -> 137130
C34: BALÓN DE FUTBOL SONORO PARA INVIDENTES | D34: UNIDAD | E34: 1 | F34: 86572.5 | G34: =E34*F34 -> 86572.5
C35: BALÓN DE BASQUET SONORO PARA INVIDENTES | D35: UNIDAD | E35: 1 | F35: 76387.5 | G35: =E35*F35 -> 76387.5
C36: BATERIA DE ESTIMULACION AUDITIVA EN MADERA | D36: UNIDAD | E36: 2 | F36: 49138.5 | G36: =E36*F36 -> 98277
A37: 2.8.7 | B37: Material didáctico educativo para desarrollar habilidades en nociones básicas para el reconocimiento de colores, letras, formas y números. | C37: PATRON DE SECUENCIA FORMA Y COLOR POR 42 PIEZAS PLASTICAS, base de 20x6 cms y 10 tarjetas con doble cara de 18.8 x 4.5 cms en caja de madera | D37: UNIDAD | E37: 1 | F37: 47995.5 | G37: =E37*F37 -> 47995.5 | H37: =SUM(G37:G43) -> 788501.5
C38: PLANTILLAS PARA FIGURAS GEOMETRICAS BASICAS EN MADERA | D38: UNIDAD | E38: 5 | F38: 68565.5 | G38: =E38*F38 -> 342827.5
C39: PATRON DE SECUENCIAS DE TAMAÑO Y COLOR, elaborado en madera con una base de 20x7 cms, 10 tarjetas guía, con 20 ejercicios y 28 cilindros de madera | D39: UNIDAD | E39: 2 | F39: 50281.5 | G39: =E39*F39 -> 100563
C40: PATRONES GEOMETRICOS CON PLANTILLA EN Y CAJA DE MADERA CON GUIAS EN HULE de 30x22 cms y 48 fichas de 7.4x6.6 cms pieza grande y 3.6x3.2 cms en pieza pequeña | D40: UNIDAD | E40: 2 | F40: 51424 | G40: =E40*F40 -> 102848
C41: BLOQUES LOGICOS | D41: UNIDAD | E41: 1 | F41: 22855 | G41: =E41*F41 -> 22855
...

Sheet 3.1
A1: Implementar ruta de apropiación de la herramienta tecnopedagógica digital para familias y/o cuidadores.
A2: No | B2: Subactividad | C2: Unidad | D2: Cantidad | E2: Tiempo | F2: Valor Unitario | G2: Valor total
A3: 3.1.1 | B3: Realizar convocatoria a familiares y/o cuidadores con estudiantes con discapacidad o talentos de las instituciones educativas para potencializar el impacto de su uso en el proceso de aprendizaje de los estudiantes. | C3: Convocatoria | D3: 1 | E3: 2 | F3: 10000000 | G3: =F3*D3*E3 -> 20000000
A4: 3.1.2 | B4: Estructurar el plan estrategico de apropiación de la herramienta tecnopedagógica digital orientado a familiares y/o cuidadores con estudiantes con discapacidad o talentos de las instituciones educativas | C4: Plan Estrategico | D4: 1 | E4: 2 | F4: 15000000 | G4: =F4*D4*E4 -> 30000000
A5: 3.1.3 | B5: Implementar el plan estrategico de apropiación de la herramienta tecnopedagógica digital orientado a familiares y/o cuidadores con estudiantes con discapacidad o talentos de las instituciones educativas | C5: Informes de apropiación | D5: 117 | E5: 8 | F5: 187500 | G5: =F5*D5*E5 -> 175500000
A6: 3.1.4 | B6: Brindar soporte técnico y funcional durante el proceso de implementación del plan estrategico de apropiación de la herramienta tecnopedagógica digital orientado a familiares y/o cuidadores con estudiantes con discapacidad o talentos de las instituciones educativas | C6: Asistencia técnica soporte | D6: 117 | E6: 8 | F6: 62500 | G6: =F6*D6*E6 -> 58500000
F7: TOTAL | G7: =SUM(G3:G6) -> 284000000

Sheet 3.2
A1: Implementar una estrategia de Educomunicación inclusiva, a partir de fuentes oficiales de la SED que permita legitimar la pertinencia del uso y apropiación del recurso digital.
A2: No | B2: Subactividad | C2: Unidad | D2: Cantidad | E2: Tiempo | F2: Valor Unitario | G2: Valor total
A3: 3.2.1 | B3: Estructurar el plan estratégico de educomunicación inclusiva de la herramienta tecnopedagógica digital en articulación con la SED | C3: Plan estratégico de Educomunicación | D3: 1 | E3: 2 | F3: 7500000 | G3: =D3*F3*E3 -> 15000000
A4: 3.2.2. | B4: Realizar la producción del plan estratégico de educomunicación inclusiva (piezas gráficas, multimedia) de la herramienta tecnopedagógica digital en articulación con la SED | C4: Plan estratégico de Educomunicación | D4: 1 | E4: 8 | F4: 14375000 | G4: =D4*F4*E4 -> 115000000
A5: 3.2.3 | B5: Implementar el plan estratégico de educomunicación inclusiva de la herramienta tecnopedagógica digital en articulación con la SED. | C5: Plan estratégico de Educomunicación | D5: 1 | E5: 8 | F5: 7500000 | G5: =D5*F5*E5 -> 60000000
A6: 3.2.4 | B6: Realizar monitoreo y seguimiento a la implementación del plan estratégico de educomunicación inclusiva de la herramienta tecnopedagógica digital en articulación con la SED. | C6: Plan estratégico de Educomunicación | D6: 1 | E6: 8 | F6: 625000 | G6: =D6*F6*E6 -> 5000000
A7: 3.2.5 | B7: Evaluar el impacto de la implementación del plan estratégico de educomunicación inclusiva de la herramienta tecnopedagógica digital en articulación con la SED. | C7: Plan estratégico de Educomunicación | D7: 1 | E7: 1 | F7: 5000000 | G7: =D7*F7*E7 -> 5000000
A8: TOTAL | G8: =SUM(G3:G7) -> 200000000

Sheet 3.3
A1: Dotar de material pedagógico DUA (análogo- digital) articulado con la herramienta tecnopedagógica
A2: No | B2: Subactividad | C2: Unidad | D2: Cantidad | E2: Tiempo | F2: Valor Unitario | G2: Valor total
A3: 3.3.1 | B3: Producción del Material pedagógico DUA (análogo- digital) articulado con la herramienta tecnopedagógica | C3: Kit | D3: 117 | E3: 6 | F3: 108333 | G3: =D3*F3*E3 -> 76049766
A4: 3.3.2 | B4: Entrega a las Instituciones educativas del Material pedagógico DUA (análogo- digital) articulado con la herramienta tecnopedagógica | C4: Kit | D4: 117 | E4: 3 | F4: 150000 | G4: =D4*F4*E4 -> 52650000
A5: 3.3.3 | B5: Estrategia de Apropiación del Material pedagógico DUA (análogo- digital) articulado con la herramienta tecnopedagógica | C5: Jornadas de Apropiación | D5: 34 | E5: 3 | F5: 1000000 | G5: =D5*F5*E5 -> 102000000
A6: TOTAL | G6: =SUM(G3:G5) -> 230699766

Sheet 3.4
A1: Realizar una ruta de apropiación a los funcionarios de la SEC en el sistema de información de la herramienta tecnopedagógica para la toma de decisiones asociadas a la gestión pedagógica.
A2: No | B2: Subactividad | C2: Unidad | D2: Cantidad | E2: Tiempo | F2: Valor Unitario | G2: Valor total
A3: 3.4.1 | B3: Estructurar el plan estrategico de apropiación de la herramienta tecnopedagógica digital y su sistema de información dirigido a funcionarios de la SEC para la toma de decisiones asociadas a la gestión pedagógica en el marco de la educación inclusiva | C3: Plan Estrategico | D3: 1 | E3: 2 | F3: 2500000 | G3: =F3*D3*E3 -> 5000000
A4: 3.4.2 | B4: Implementar el plan estrategico de apropiación de la herramienta tecnopedagógica digital y su sistema de información dirigido a funcionarios de la SEC para la toma de decisiones asociadas a la gestión pedagógica en el marco de la educación inclusiva | C4: SEC | D4: 1 | E4: 8 | F4: 8125000 | G4: =F4*D4*E4 -> 65000000
A5: 3.4.3 | B5: Brindar soporte técnico y funcional durante el proceso de implementación del plan estrategico de apropiación de la herramienta tecnopedagógica digital y su sistema de información dirigido a funcionarios de la SEC para la toma de decisiones asociadas a la gestión pedagógica en el marco de la educación inclusiva | C5: SEC | D5: 1 | E5: 8 | F5: 625000 | G5: =F5*D5*E5 -> 5000000
A6: TOTAL | G6: =SUM(G3:G5) -> 75000000

Sheet Administración
A1: ADMINISTRACIÓN DEL PROYECTO
B2: DESCRIPCIÓN DEL INSUMO | C2: UNIDAD DE MEDIDA | D2: CANTIDAD | E2: VALOR UNITARIO | F2: VALOR TOTAL
A4: 4. Administración | B4: Gerente del Proyecto | C4: Mes | D4: 12 | E4: 6000000 | F4: =+D4*E4 -> 72000000
B5: Coordinador Administrativo | C5: Mes | D5: 12 | E5: 4500000 | F5: =+D5*E5 -> 54000000
B6: 2 Coordinadores Pedagógicos | C6: Mes | D6: 12 | E6: 9000000 | F6: =+D6*E6 -> 108000000
B7: 3 Asistentes administrativo y contable y GD | C7: Mes | D7: 12 | E7: 7500000 | F7: =+D7*E7 -> 90000000
B8: 2 Técnico de soporte | C8: Mes | D8: 12 | E8: 5000000 | F8: =+D8*E8 -> 60000000
B9: Asesor Legal | C9: Mes | D9: 12 | E9: 4000000 | F9: =+D9*E9 -> 48000000
B10: Papelería | C10: Mes | D10: 12 | E10: 2000000 | F10: =+D10*E10 -> 24000000
B11: Profesional en Comunicaciones o Diseño | C11: Mes | D11: 12 | E11: 3800000 | F11: =+D11*E11 -> 45600000
B12: Comunicaciones y conectividad | C12: Mes | D12: 12 | E12: 1600000 | F12: =+D12*E12 -> 19200000
B13: Equipos de computo - arrendamiento | C13: mes | D13: 12 | E13: 7500000 | F13: =+D13*E13 -> 90000000
B14: Oficina con mobiliario | C14: mes | D14: 12 | E14: 4500000 | F14: =+D14*E14 -> 54000000
B15: Serviciós públicos | C15: mes | D15: 12 | E15: 4138000 | F15: =+D15*E15 -> 49656000
A16: TOTAL ADMINISTRACIÓN | F16: =SUM(F4:F15) -> 714456000

Sheet Interventoría
A1: INTERVENTORÍA DEL PROYECTO | G1: Fundación Univalle | I1: Fundación Ave Fenix
A3: ACTIVIDADES | B3: DESCRIPCION DEL INSUMO | C3: UNIDAD DE MEDIDA | D3: CANTIDAD | E3: VALOR UNITARIO | F3: VALOR TOTAL | G3: Valor unitario | H3: Valor total | I3: Valor unitario | J3: Valor total
A5: 5..Interventoría del Proyecto | B5: Director de Interventoría | C5: Mes | D5: 12 | E5: 4000000 | F5: =+D5*E5 -> 48000000 | G5: 4280000 | H5: =G5*D5 -> 51360000 | I5: 3720000 | J5: =I5*D5 -> 44640000
B6: 1 Profesional con especialización en áreas económicas, administrativas o afines | C6: Mes | D6: 12 | E6: 3000000 | F6: =+D6*E6 -> 36000000 | G6: 3210000 | H6: =G6*D6 -> 38520000 | I6: 2790000 | J6: =I6*D6 -> 33480000
B7: 2 Profesionales de áreas sociales y de la educación | C7: Mes | D7: 12 | E7: 3300000 | F7: =+D7*E7*2 -> 79200000 | G7: 3531000 | H7: =G7*D7 -> 42372000 | I7: 3069000 | J7: =I7*D7 -> 36828000
B8: 2 Profesionales de áreas de la salud, psicopedagogía y afines. | C8: Mes | D8: 12 | E8: 3300000 | F8: =+D8*E8*2 -> 79200000 | G8: 3531000 | H8: =G8*D8 -> 42372000 | I8: 3069000 | J8: =I8*D8 -> 36828000
B9: 1 Profesional de áreas jurídicas | C9: Mes | D9: 12 | E9: 3500000 | F9: =+D9*E9*1 -> 42000000 | G9: 3745000 | H9: =G9*D9 -> 44940000 | I9: 3255000 | J9: =I9*D9 -> 39060000
B10: 2 Asistentes administrativos | C10: Mes | D10: 12 | E10: 2300000 | F10: =+D10*E10*2 -> 55200000 | G10: 2461000 | H10: =G10*D10 -> 29532000 | I10: 2139000 | J10: =I10*D10 -> 25668000
B11: Equipos de computo arrendamiento | C11: mes | D11: 10 | E11: 5000000 | F11: =+D11*E11 -> 50000000 | G11: 5350000 | H11: =G11*D11 -> 53500000 | I11: 4650000 | J11: =I11*D11 -> 46500000
B12: Oficina con mobiliario y servicios | C12: mes | D12: 10 | E12: 3555000 | F12: =+D12*E12 -> 35550000 | G12: 3803850 | H12: =G12*D12 -> 38038500 | I12: 3306150 | J12: =I12*D12 -> 33061500
B13: Comunicaciones y conectividad | C13: Mes | D13: 10 | E13: 1296000 | F13: =+D13*E13 -> 12960000 | G13: 1386720 | H13: =G13*D13 -> 13867200 | I13: 1205280 | J13: =I13*D13 -> 12052800
B14: TOTAL | F14: =SUM(F5:F13) -> 438110000 | H14: =SUM(H5:H13) -> 354501700 | J14: =SUM(J5:J13) -> 308118300
B15: IVA | F15: =F14*0.19 -> 83240900 | H15: =H14*0.19 -> 67355323 | J15: =J14*0.19 -> 58542477
B16: Gastos Legales | F16: 14383100 | H16: =H15*0.19 -> 12797511 | J16: =J15*0.19 -> 11123071
B17: TOTAL | F17: =F14+F15+F16 -> 535734000 | H17: =SUM(H14:H16) -> 4.3465453e+08 | J17: =SUM(J14:J16) -> 3.7778385e+08

Sheet Apoyo a la supervisión
A1: APOYO A LA SUPERVISIÓN DEL PROYECTO
A2: 5. Apoyo a la supervisión | B2: DESCRIPCIÓN DEL INSUMO | C2: UNIDAD DE MEDIDA | D2: CANTIDAD | E2: MES | F2: VALOR UNITARIO | G2: VALOR TOTAL
B4: Profesionales de Apoyo | C4: Mes | D4: 2 | E4: 12 | F4: 3000000 | G4: =D4*E4*F4 -> 72000000
B5: Actividades de seguimiento y evaluación | C5: Unidad | D5: 1 | E5: 10 | F5: 2000000 | G5: =D5*E5*F5 -> 20000000
A6: TOTAL | G6: =SUM(G4:G5) -> 92000000

Sheet Cronograma
A1: FORTALECIMIENTO DE LOS PROCESOS DE CALIDAD DE LA EDUCACIÓN INCLUSIVA EN LOS ESTABLECIMIENTOS EDUCATIVOS DE LOS MUNICIPIOS NO CERTIFICADOS DEL DEPARTAMENTO DEL CAUCA
A2: Cadena de Valor | G2: Tiempo de ejecución (meses)
A3: Objetivos | B3: Producto | C3: Número | D3: Actividades | E3: Unidad | F3: Cantidad | G3: 1 | H3: 2 | I3: 3 | J3: 4 | K3: 5 | L3: 6 | M3: 7 | N3: 8 | O3: 9 | P3: 10 | Q3: 11 | R3: 12
A4: 1. Establecer una ruta metodológica para la apropiación de orientaciones técnicas, administrativas y pedagógicas desde los lineamientos del MEN | B4: 1.1 Producto 1: Servicio de asistencia técnica en educación con enfoque incluyente y de calidad Medido a través de : Número de entidades, organizaciones y núcleos familiares Cantidad : 101,0000 Costo $ 3.628.401.272,00 | C4: 1.1 | D4: Asistencia tecnica para el desarrollo de la Guia 34 | E4: Establecimientos educativos | F4: 101
F5: 101
F6: 101
C7: 1.2 | D7: Asistencia técnica y acompañamiento para el fortalecimiento del Sistema de Evaluación (SIEE), Promoción y prácticas pedagógicas inclusivas para los EE. | E7: Establecimientos educativos | F7: 83
E8: Establecimientos educativos | F8: 83
C9: 1.3 | D9: Diplomado en educación inclusiva para personal de Secretaría de Educación del Cauca, docentes de aula, docentes orientadores, docentes directivos y directores de núcleo de los establecimientos educativos a focalizar. | E9: Personas | F9: 210
C10: 1.4 | D10: Creación de un módulo en el sistema de información del recurso tecnopedagógico con los instrumentos de la guía 34 del MEN, que permita a la SEC realizar seguimiento a su implementación. | E10: Modulo de Información | F10: 1
A11: 2. Incrementar estrategias y herramientas didácticas con capacitación docente, en prácticas pedagógicas incluyentes basadas en el Diseño Universal para el Aprendizaje DUA. | B11: 2.1 Producto 2: Servicio de apoyo para el acceso a la educación Medido a través de : Número de personas Cantidad : 2.137,0000 Costo $ 4.201.802.355,00 | C11: 2.1 | D11: ='[1]5'!A2 -> No | E11: Profesionales | F11: 15
E12: Establecimientos educativos | F12: 34
E13: Establecimientos educativos | F13: 68
C14: 2.2 | D14: Asistencia técnica y acompañamiento profesional para EE en educación inclusiva. | E14: Establecimientos educativos | F14: 101
C15: 2.3 | D15: Implementación de prácticas educativas diferenciales para población con discapacidad sensorial de acuerdo al decreto 1421 de 2017 | E15: Establecimientos educativos | F15: 101
C16: 2.4 | D16: Diseño de material didáctico adaptado para discapacidad sensorial, Intelectual, autismo y trastornos del aprendizaje. | E16: Establecimientos educativos | F16: 101
C17: 2.5 | D17: Asesoría para el seguimiento, evaluación y ajuste de los PIAR existentes en los EE | E17: Establecimientos educativos | F17: 67
C18: 2.6 | D18: Acompañamiento para el fortalecimiento de las experiencias significativas de los docentes en el marco del II Congreso de Socialización de experiencias significativas “Listos para transformar” | E18: Establecimientos educativos | F18: 101
C19: 2.7 | D19: Implementar prácticas pedagogicas basadas en DUA para la apropiación de estrategias flexibles | E19: Establecimientos educativos | F19: 101
C20: 2.8 | D20: Dotación de material pedagógico a 101 Establecimientos Educativos, en el marco de la educación inclusiva | E20: Establecimientos educativos | F20: 101
A21: 3. Implementar y apropiar la herramienta tecnopedagógica digital articulada a las prácticas pedagógicas, que permita alcanzar el potencial e impacto que dicho recurso tiene. | B21: 3.1 Producto 3: Servicio de desarrollo de contenidos educativos para la educación inicial, preescolar, básica y media de personas con discapacidad Medido a través de : Número de contenidos Cantidad : 1,0000 Costo $ 1.177.558.432,00 | C21: 3.1 | D21: Implementación de una ruta de apropiación a los padres de familia para el uso y apropiación de la herramienta tecnopedagógica digital para familias y/o cuidadores. | E21: Establecimientos Educativos | F21: 101
C22: 3.2 | D22: Implementar una estrategia de Educomunicación inclusiva, a partir de fuentes oficiales de la SED que permita legitimar la pertinencia del uso y apropiación del recurso digital. | E22: Establecimientos Educativos | F22: 1
C23: 3.3 | D23: Dotar de material pedagógico DUA análogo digital articulado con la herramienta tecnopedagógica | E23: Establecimientos Educativos | F23: 179
C24: 3.4 | D24: Realizar una ruta de apropiación a los funcionarios de la SEC en el sistema de información de la herramienta tecnopedagógica para la toma de decisiones asociadas a la gestión pedagógica. | E24: Establecimientos Educativos | F24: 1
