Workbook
Name \z: #REF!
Name \z: #REF!
Name \z: #REF!
Name A_impresión_IM: #REF!
Name A_impresión_IM: #REF!
Name A_impresión_IM: #REF!
Name CompanyAddress: #REF!
Name CompanyAddress: #REF!
Name CompanyAddress: #REF!
Name CompanyAddress: #REF!
Name CompanyCity: #REF!
Name CompanyCity: #REF!
Name CompanyCity: #REF!
Name CompanyCity: #REF!
Name CompanyCountry: #REF!
Name CompanyCountry: #REF!
Name CompanyCountry: #REF!
Name CompanyCountry: #REF!
Name CompanyName: #REF!
Name CompanyName: #REF!
Name CompanyName: #REF!
Name CompanyState: #REF!
Name CompanyState: #REF!
Name CompanyState: #REF!
Name CompanyZip: #REF!
Name CompanyZip: #REF!
Name CompanyZip: #REF!
Name DataDisplayed: "Ejemplo"
Name ENCABEZA: #REF!
Name ENCABEZA: #REF!
Name ENCABEZA: #REF!
Name Slicer_Contact_Type: #N/A
Name tablonx: '[1]BASE DE DATOS'!#REF!
Name tablonx: '[1]BASE DE DATOS'!#REF!
Name tablonx: '[1]BASE DE DATOS'!#REF!
Name tablonx: '[1]BASE DE DATOS'!#REF!

Sheet PPTO OFICIAL
B2: CONSTRUCCIÓN DE LA NUEVA ESTACIÓN DEL CUERPO DE BOMBEROS LOCALIZADA EN EL SECTOR DE LAS BRISAS DE LA CIUDAD DE PEREIRA
A9: Cod. | B9: Item | C9: Un | D9: Cant. | E9: Costo Directo | F9: Valor total
A11: 1,00 PRELIMINARES
A12: 1.01 | B12: Valla de identificación de obra área mayor a 4 m2, colocada en cerchas metálica, incluye mantenimiento durante la construcción | C12: m² | D12: 6 | E12: ='APUS 7 -10'!#REF! -> #REF! | F12: =ROUND(D12*E12,0) -> #REF!
A13: 1.02 | B13: Localización y replanteo de obra | C13: m² | D13: 364 | E13: ='APUS 7 -10'!#REF! -> #REF! | F13: =ROUND(D13*E13,0) -> #REF!
A14: 1.03 | B14: Cerramiento provisional en tela de Polipropileno + guadua H=2 m (incluye mantenimiento y desmonte) | C14: m | D14: 160 | E14: ='APUS 7 -10'!#REF! -> #REF! | F14: =ROUND(D14*E14,0) -> #REF!
A15: 1.04 | B15: Campamento en teja AC + Tabla + Placa piso (Incluye red eléctrica interna y baños 2) | C15: m² | D15: 60 | E15: ='APUS 7 -10'!#REF! -> #REF! | F15: =ROUND(D15*E15,0) -> #REF!
A16: 1.05 | B16: Instalación de red provisional de agua en Suministro en instalacíon de tubería pvc presión 1/2" + manguera PF (incluye accesorios y puntos con llave terminal) | C16: m | D16: 25 | E16: ='APUS 7 -10'!#REF! -> #REF! | F16: =ROUND(D16*E16,0) -> #REF!
A17: 1.06 | B17: Instalación de red provisional de energía (incluye 3 cables No. 8, conectores, puesta a tierra, tablero de 4 circuitos, 4 interruptores y medidor) | C17: m | D17: 67 | E17: ='APUS 7 -10'!#REF! -> #REF! | F17: =ROUND(D17*E17,0) -> #REF!
A19: 2,00 EXCAVACIONES Y LLENOS
A20: 2.01 | B20: Nivelación terreno Manual e <=20cm | C20: m² | D20: 440 | E20: ='APUS 7 -10'!#REF! -> #REF! | F20: =ROUND(D20*E20,0) -> #REF!
A21: 2.02 | B21: Excavación en material común seco de 0 - 2 m manual | C21: m³ | D21: 181.24 | E21: ='APUS 7 -10'!#REF! -> #REF! | F21: =ROUND(D21*E21,0) -> #REF!
A22: 2.03 | B22: LLENO COMP MATER SITIO MAN | C22: m³ | D22: 75.5 | E22: ='APUS 7 -10'!#REF! -> #REF! | F22: =ROUND(D22*E22,0) -> #REF!
A23: 2.04 | B23: Cargue, retiro de escombros y material sobrante en escombrera autorizada dentro del área metropolitana | C23: m³ | D23: 3057.74 | E23: ='APUS 7 -10'!#REF! -> #REF! | F23: =ROUND(D23*E23,0) -> #REF!
A24: 2.05 | B24: Restitución con afirmado y cemento 5 % del peso | C24: m³ | D24: 35 | E24: ='APUS 7 -10'!#REF! -> #REF! | F24: =ROUND(D24*E24,0) -> #REF!
A25: 2.06 | B25: Excavación MEC de material común abierto | C25: m³ | D25: 2850 | E25: ='APUS 7 -10'!#REF! -> #REF! | F25: =ROUND(D25*E25,0) -> #REF!
A26: 2.07 | B26: Concreto ciclópeo | C26: m³ | D26: 22.5 | E26: ='APUS 7 -10'!#REF! -> #REF! | F26: =ROUND(D26*E26,0) -> #REF!
A28: 3,00 BASES Y LOSAS CONTRA PISO
A29: 3.01 | B29: AFIRMADO Su+Tr+Ri+Co MAN (incluye ensayos de compactación según requerimientos de la interventoría) | C29: m³ | D29: 110.25 | E29: ='APUS 7 -10'!#REF! -> #REF! | F29: =ROUND(D29*E29,0) -> #REF!
A30: 3.02 | B30: Sub Base Su+Tr+Ri+Co MAN TIPO INVÍAS (incluye ensayos de compactación según requerimientos de la interventoría) | C30: m³ | D30: 90.27 | E30: ='APUS 7 -10'!#REF! -> #REF! | F30: =ROUND(D30*E30,0) -> #REF!
A31: 3.03 | B31: PLACA PISO C20.7 MPa E=.10 m | C31: m² | D31: 303 | E31: ='APUS 7 -10'!#REF! -> #REF! | F31: =ROUND(D31*E31,0) -> #REF!
A32: 3.04 | B32: Pav Mr=4.1 MPa H=.175m PREM | C32: m² | D32: 250.2 | E32: ='APUS 7 -10'!#REF! -> #REF! | F32: =ROUND(D32*E32,0) -> #REF!
A33: 3.05 | B33: Sardinel T1 C20.7 Mpa S/placa | C33: m | D33: 67 | E33: ='APUS 7 -10'!#REF! -> #REF! | F33: =ROUND(D33*E33,0) -> #REF!
A34: 3.06 | B34: Andén en concreto e = 0.07m (acabado escobeado) | C34: m2 | D34: 54 | E34: =+'APUS 7 -10'!#REF! -> #REF! | F34: =ROUND(D34*E34,0) -> #REF!
A35: 3.07 | B35: Rampa en concreto sobre suelo e=10cm + acbado en granito lavado gualanday | C35: m2 | D35: 6 | F35: =ROUND(D35*E35,0) -> 0
A37: 4,00 ESTRUCTURAS DE CONCRETO
A38: 4.01 | B38: Acero refuerzo Fy 420 | C38: kg | D38: 28791 | E38: ='APUS primarios'!E72 -> 6671 | F38: =ROUND(D38*E38,0) -> 192064761
A39: 4.02 | B39: SOLADO Conc f'c=10.3 Mpa | C39: m³ | D39: 3.54 | E39: ='APUS 7 -10'!#REF! -> #REF! | F39: =ROUND(D39*E39,0) -> #REF!
A40: 4.03 | B40: Zapata en concreto de C20.7 Mpa | C40: m³ | D40: 19.17 | E40: ='APUS 7 -10'!#REF! -> #REF! | F40: =ROUND(D40*E40,0) -> #REF!
A41: 4.04 | B41: Viga CIM C20.7 MPa Secc C | C41: m³ | D41: 6.13 | E41: ='APUS 7 -10'!#REF! -> #REF! | F41: =ROUND(D41*E41,0) -> #REF!
A42: 4.05 | B42: Columna en concreto C20.7MPa (a la vista) | C42: m³ | D42: 7.45 | E42: ='APUS 7 -10'!#REF! -> #REF! | F42: =ROUND(D42*E42,0) -> #REF!
A43: 4.06 | B43: Pedestal Tipo 1 | C43: m³ | D43: 0.88 | E43: =+'APUS 7 -10'!#REF! -> #REF! | F43: =ROUND(D43*E43,0) -> #REF!
A44: 4.07 | B44: Viga AER C20.7MPa Sec C.0601-.900 (a la vista) | C44: m³ | D44: 13.44 | E44: ='APUS 7 -10'!#REF! -> #REF! | F44: =ROUND(D44*E44,0) -> #REF!
A45: 4.08 | B45: Viga AER C20.7MPa Sec D.0901-.1600 (a la vista) | C45: m³ | D45: 13.53 | E45: =+'APUS 7 -10'!#REF! -> #REF! | F45: =ROUND(D45*E45,0) -> #REF!
A46: 4.09 | B46: Placa tipo steel deck según diseño e=10cm (incluye lámina colaborante, elementos de fijación y concreto de 20.7 Mpa | C46: m² | D46: 229 | E46: ='APUS 7 -10'!#REF! -> #REF! | F46: =ROUND(D46*E46,0) -> #REF!
A47: 4.10 | B47: Pantalla concreto a la vista de 20.7 Mpa | C47: m3 | D47: 12.96 | E47: ='APUS 7 -10'!#REF! -> #REF! | F47: =ROUND(D47*E47,0) -> #REF! | I47: 4.17 | J47: Muro No estructural curvo en concreto a la vista espesor <10cm (2 caras a la vista con bisagrante de 8cm debidamente cepilladas en orientación vertical). Según diseño
A48: 4.11 | B48: Corte y sello para losas de contrapiso y pavimentos (incluye cordón en polietileno y sello con poliuretano) | C48: m | D48: 95 | E48: =+'APUS 7 -10'!#REF! -> #REF! | F48: =ROUND(D48*E48,0) -> #REF! | I48: 4.18 | J48: Suministro e instalación de malla electrosoldada
A49: 4.12 | B49: Anclaje acero 3/8" | C49: un | D49: 245 | E49: ='APUS 7 -10'!#REF! -> #REF! | F49: =ROUND(D49*E49,0) -> #REF! | I49: 4.19 | J49: Muro antepecho en concreto de 21 Mpa (a la vista) h = < 0,90m a = 0,15m
A50: 4.13 | B50: Anclaje acero 1/2" | C50: un | D50: 85 | E50: ='APUS 7 -10'!#REF! -> #REF! | F50: =ROUND(D50*E50,0) -> #REF!
A51: 4.14 | B51: Concreto de baja permeabilidad de 27,6 Mpa para losa de fondo, muros y losa superior en tanque de agua y cuarto de equipos (acabado interno liso) | C51: m³ | D51: 27.8 | E51: ='APUS 7 -10'!#REF! -> #REF! | F51: =ROUND(D51*E51,0) -> #REF!
...

Sheet APUS 7 -10
A5: ='PPTO OFICIAL'!A70 -> 7.01 | B5: ='PPTO OFICIAL'!B70 -> MURO LADRILLO FAROL PAND W=0.10m | C5: ='PPTO OFICIAL'!C70 -> m² | E5: =ROUND(SUM(G5:G11),0) -> 47002 | H5: 47037
B6: Ladrillo farol rayado de 0,10 x 0,20 x 0,30 m | C6: Un | D6: 17.5 | E6: 906 | F6: 1.03 | G6: =ROUND((D6*E6*F6),0) -> 16331
B7: Mortero 1:3 (producción) | C7: M3 | D7: 0.021 | E7: 408916 | F7: 1.05 | G7: =ROUND((D7*E7*F7),0) -> 9017
B8: Cuadrilla A 1 Of + 1 Ay (jornal + prestaciones) | C8: Día | D8: 1 | E8: 145503 | F8: 0.13245443 | G8: =ROUND((D8*E8*F8),0) -> 19273
B9: Herramienta menor (% mano obra) | C9: %MO | D9: 0.05 | E9: =G8 -> 19273 | F9: 0 | G9: =ROUND((D9*E9),0) -> 964
B10: Acarreo horizontal | C10: %MO | D10: 1.05 | E10: =G9 -> 964 | G10: =D10*E10 -> 1012.2
B11: Andamio (% mano obra) | C11: %MO | D11: 0.021 | E11: =G8 -> 19273 | F11: 0 | G11: =ROUND((D11*E11),0) -> 405
A14: ='PPTO OFICIAL'!A71 -> 7.02 | B14: ='PPTO OFICIAL'!B71 -> Viga amarre muros Conf C20.7MPa +Rf | C14: ='PPTO OFICIAL'!C71 -> m | E14: =ROUND(SUM(G14:G25),0) -> 36576 | H14: 36105
B15: Tabla para formaleta de 1" x 10" x 2,9 m | C15: M | D15: 2 | E15: 3650 | F15: =1/3 -> 0.33333333 | G15: =ROUND((D15*E15*F15),0) -> 2433
B16: Puntilla (promedio) | C16: Lb | D16: 0.1 | E16: 2670 | F16: 0 | G16: =ROUND((D16*E16),0) -> 267
B17: ACPM | C17: Gl | D17: 0.05 | E17: 7500 | F17: 0 | G17: =ROUND((D17*E17),0) -> 375
B18: Antisol blanco | C18: Kg | D18: 0.1 | E18: 6545 | F18: 1.03 | G18: =ROUND((D18*E18*F18),0) -> 674
B19: Varillón de sajo 3x3 | C19: M | D19: 2 | E19: 2100 | F19: =1/3 -> 0.33333333 | G19: =ROUND((D19*E19*F19),0) -> 1400
B20: Concreto de 20,7 Mpa (producción) | C20: M3 | D20: =0.1*0.25 -> 0.025 | E20: 382058 | F20: 0.85593271 | G20: =ROUND((D20*E20*F20),0) -> 8175
B21: Acero Fy = 60.000 psi d>1/4" | C21: Kg | D21: 1.4 | E21: ='APUS primarios'!$E$72 -> 6671 | F21: 0 | G21: =ROUND((D21*E21),0) -> 9339
B22: Cuadrilla B 1 Of + 2 Ay (jornal + prestaciones) | C22: Día | D22: 1 | E22: 197468 | F22: 0.06 | G22: =ROUND((D22*E22*F22),0) -> 11848
B23: Herramienta menor (% mano obra) | C23: %MO | D23: 0.05 | E23: =G22 -> 11848 | F23: 0 | G23: =ROUND((D23*E23),0) -> 592
B24: Andamio (% mano obra) | C24: %MO | D24: 0.05 | E24: =G22 -> 11848 | F24: 0 | G24: =ROUND((D24*E24),0) -> 592
B25: Ensayo resistencia concretos | C25: Un | D25: =5/50 -> 0.1 | E25: 8806 | F25: 0 | G25: =ROUND((D25*E25),0) -> 881
A28: ='PPTO OFICIAL'!A72 -> 7.03 | B28: ='PPTO OFICIAL'!B72 -> Col RECT Conf C20.7MPa +Rf | C28: ='PPTO OFICIAL'!C72 -> m | E28: =ROUND(SUM(G28:G39),0) -> 39880 | H28: 39355
B29: Tabla para formaleta de 1" x 10" x 2,9 m | C29: M | D29: 2 | E29: 3650 | F29: =1/3 -> 0.33333333 | G29: =ROUND((D29*E29*F29),0) -> 2433
B30: Puntilla (promedio) | C30: Lb | D30: 0.1 | E30: 2670 | F30: 0 | G30: =ROUND((D30*E30),0) -> 267
B31: ACPM | C31: Gl | D31: 0.05 | E31: 7500 | F31: 0 | G31: =ROUND((D31*E31),0) -> 375
B32: Antisol blanco | C32: Kg | D32: 0.1 | E32: 6545 | F32: 1.03 | G32: =ROUND((D32*E32*F32),0) -> 674
B33: Varillón de sajo 3x3 | C33: M | D33: 2 | E33: 2100 | F33: 0.116 | G33: =ROUND((D33*E33*F33),0) -> 487
B34: Concreto de 20,7 Mpa (producción) | C34: M3 | D34: 0.025 | E34: 382058 | F34: 1 | G34: =ROUND((D34*E34*F34),0) -> 9551
B35: Acero Fy = 60.000 psi d>1/4" | C35: Kg | D35: 1.5 | E35: ='APUS primarios'!$E$72 -> 6671 | F35: 0 | G35: =ROUND((D35*E35),0) -> 10007
B36: Cuadrilla B 1 Of + 2 Ay (jornal + prestaciones) | C36: Día | D36: 1 | E36: 197468 | F36: 0.07 | G36: =ROUND((D36*E36*F36),0) -> 13823
B37: Herramienta menor (% mano obra) | C37: %MO | D37: 0.05 | E37: =G36 -> 13823 | F37: 0 | G37: =ROUND((D37*E37),0) -> 691
B38: Andamio (% mano obra) | C38: %MO | D38: 0.05 | E38: =G36 -> 13823 | F38: 0 | G38: =ROUND((D38*E38),0) -> 691
B39: Ensayo resistencia concretos | C39: Un | D39: =5/50 -> 0.1 | E39: 8806 | F39: 0 | G39: =ROUND((D39*E39),0) -> 881
A42: ='PPTO OFICIAL'!A73 -> 7.04 | B42: ='PPTO OFICIAL'!B73 -> Instalación de muro seco en lámina de fibrocemento FC 10mm (1 cara) Fachada (Incluye montaje en altura + sum e inst perfilería de soporte, tratamiento de juntas + estuco plástico) | C42: ='PPTO OFICIAL'!C73 -> m² | E42: =ROUND(SUM(G42:G51),0) -> 84055 | H42: 90772
B43: Canal 90 en 2,4 calibre 24 | C43: Un | D43: 0.42 | E43: 4500 | F43: 1.1 | G43: =ROUND((D43*E43*F43),0) -> 2079
B44: Paral 89 en 2,4 m calibre 24 | C44: Un | D44: 0.42 | E44: 4800 | F44: 1.1 | G44: =ROUND((D44*E44*F44),0) -> 2218
B45: Lámina de fibrocemento de 10 mm | C45: M2 | D45: 1 | E45: 27301 | F45: 1.1 | G45: =ROUND((D45*E45*F45),0) -> 30031
B46: Tornillo drywall 6 x 1" | C46: Un | D46: 35 | E46: 25 | F46: 0 | G46: =ROUND((D46*E46),0) -> 875
B47: Tornillo estructura drywall 8 x 12" | C47: Un | D47: 25 | E47: 39 | F47: 0 | G47: =ROUND((D47*E47),0) -> 975
B48: Cinta de papel | C48: M | D48: 2.5 | E48: 171 | F48: 0 | G48: =ROUND((D48*E48),0) -> 428
B49: Estuco listo | C49: Kg | D49: 0.45 | E49: 2450 | F49: 1.05 | G49: =ROUND((D49*E49*F49),0) -> 1158
B50: Cuadrilla A 1 Of + 1 Ay (jornal + prestaciones) | C50: Día | D50: 1 | E50: 145503 | F50: 0.303 | G50: =ROUND((D50*E50*F50),0) -> 44087
...

Sheet APU´S ELECTRICOS
B4: CONSTRUCCIÓN DE LA NUEVA ESTACIÓN DEL CUERPO DE BOMBEROS LOCALIZADA EN EL SECTOR DE LAS BRISAS DE LA CIUDAD DE PEREIRA
A9: ANÁLISIS DE PRECIOS UNITARIOS
A11: 12.01 | B11: Suministro e instalación de salidas de iluminación en tubería emt 3/4" y cable No 12 awg LS HF, longitud aproximada 4m (incluye tubería, cable especificado, conectores de resorte y accesorios para su correcta instalación) | C11: Unidad: | D11: UN
B12: MATERIALES | C12: UNIDAD | D12: CANT. | E12: VR. PARCIAL | F12: VR. TOTAL
B13: Cable de CU 12 AWG, (LS) Baja emisión de humos, (HF) Libre de Alogenos, (FR) Retardante a la llama, (CT) Apto para bandeja tipo CT, (PE) Aislado con Poliolefina | C13: m | D13: 12 | E13: 2677 | F13: =ROUND(E13*D13,0) -> 32124
B14: Cable encauchetado Cu AWG 3X14 | C14: m | D14: 1.5 | E14: =6457*0.7*1.19 -> 5378.681 | F14: =ROUND(E14*D14,0) -> 8068
B15: Clavija 15A | C15: un | D15: 1 | E15: 2500 | F15: =ROUND(E15*D15,0) -> 2500
B16: Caja galvanizada + suplemento | C16: un | D16: 1 | E16: =3250*1.19 -> 3867.5 | F16: =ROUND(E16*D16,0) -> 3868
B17: Tubo conduit emt 3/4" X 3m | C17: un | D17: =1*1.33333333333333 -> 1.3333333 | E17: 16000 | F17: =ROUND(E17*D17,0) -> 21333
B18: Terminal emt de 3/4" | C18: un | D18: 2 | E18: =700*1.19 -> 833 | F18: =ROUND(E18*D18,0) -> 1666
B19: Toma leviton Crema + tapa | C19: un | D19: 1 | E19: =9800*1.19 -> 11662 | F19: =ROUND(E19*D19,0) -> 11662
B20: Conector 3M | C20: un | D20: 3 | E20: =500*1.19 -> 595 | F20: =ROUND(E20*D20,0) -> 1785
B21: MANO DE OBRA | F21: =ROUND(E21*D21,0) -> 0
B22: Cuadrilla J (1 Of eléctrico+1Ay eléctrico) (jornal + prestaciones) | C22: JN | D22: 0.25 | E22: 167525 | F22: =ROUND(E22*D22,0) -> 41881
B23: HERRAMIENTA Y EQUIPO | F23: =ROUND(E23*D23,0) -> 0
B24: HERRAMIENTA MENOR | C24: GLB | D24: 0.05 | E24: =+F22 -> 41881 | F24: =ROUND(E24*D24,0) -> 2094
B25: TOTAL/REDONDEADO | F25: =ROUND(SUM(F13:F24),0) -> 126981
A28: 12.02 | B28: Suministro e instalación de salidas de tomacorrientes red normal en tubería pvc 3/4" y cable No 12 awg LS HF, longitud aproximada 5m (incluye tubería, cable especificado,conectores de resorte, tomacorriente doble 15A color blanco y accesorios para su correcta instalación) | C28: Unidad: | D28: UN
B29: MATERIALES | C29: UNIDAD | D29: CANT. | E29: VR. PARCIAL | F29: VR. TOTAL
B30: Cable de CU 12 AWG, (LS) Baja emisión de humos, (HF) Libre de Alogenos, (FR) Retardante a la llama, (CT) Apto para bandeja tipo CT, (PE) Aislado con Poliolefina | C30: m | D30: 15 | E30: 2677 | F30: =ROUND(E30*D30,0) -> 40155
B31: Caja 4X4 PVC + suplemento | C31: un | D31: 1 | E31: =1250*1.19 -> 1487.5 | F31: =ROUND(E31*D31,0) -> 1488
B32: Tubo Conduit PVC tipo pesado de 3/4" x 3mt | C32: un | D32: 1.67 | E32: 6021 | F32: =ROUND(E32*D32,0) -> 10055
B33: Terminal pvc de 3/4" | C33: un | D33: 2 | E33: 463 | F33: =ROUND(E33*D33,0) -> 926
B34: Tomacorriente doble con polo a tierra | C34: un | D34: 1 | E34: =9800*1.19 -> 11662 | F34: =ROUND(E34*D34,0) -> 11662
B35: Conector 3M | C35: un | D35: 3 | E35: =500*1.19 -> 595 | F35: =ROUND(E35*D35,0) -> 1785
B36: MANO DE OBRA | F36: =ROUND(E36*D36,0) -> 0
B37: Cuadrilla J (1 Of eléctrico+1Ay eléctrico) (jornal + prestaciones) | C37: JN | D37: 0.25 | E37: 167525 | F37: =ROUND(E37*D37,0) -> 41881
B38: HERRAMIENTA Y EQUIPO | F38: =ROUND(E38*D38,0) -> 0
B39: HERRAMIENTA MENOR | C39: GLB | D39: 0.05 | E39: =+F37 -> 41881 | F39: =ROUND(E39*D39,0) -> 2094
B40: TOTAL/REDONDEADO | F40: =ROUND(SUM(F29:F39),0) -> 110046
A43: 12.03 | B43: Suministro e instalación de salidas de tomacorrientes GFCI en tubería emt 3/4" y cable No 12 awg LS HF, longitud aproximada 5m (incluye tubería, cable especificado, conectores de resorte, tomacorriente doble 15A gfci y accesorios para su correcta instalación) | C43: Unidad: | D43: UN
B44: MATERIALES | C44: UNIDAD | D44: CANT. | E44: VR. PARCIAL | F44: VR. TOTAL
B45: Cable de CU 12 AWG, (LS) Baja emisión de humos, (HF) Libre de Alogenos, (FR) Retardante a la llama, (CT) Apto para bandeja tipo CT, (PE) Aislado con Poliolefina | C45: m | D45: 15 | E45: 2677 | F45: =ROUND(E45*D45,0) -> 40155
B46: Caja 4X4 PVC + suplemento | C46: un | D46: 1 | E46: =1250*1.19 -> 1487.5 | F46: =ROUND(E46*D46,0) -> 1488
B47: Tubo Conduit PVC tipo pesado de 3/4" x 3mt | C47: un | D47: 1.67 | E47: 6021 | F47: =ROUND(E47*D47,0) -> 10055
B48: Terminal pvc de 3/4" | C48: un | D48: 2 | E48: 463 | F48: =ROUND(E48*D48,0) -> 926
B49: Tomacorriente doble con polo a tierra con prteccion gfci | C49: un | D49: 1 | E49: =39800*1.19 -> 47362 | F49: =ROUND(E49*D49,0) -> 47362
B50: Conector 3M | C50: un | D50: 3 | E50: =500*1.19 -> 595 | F50: =ROUND(E50*D50,0) -> 1785
B51: MANO DE OBRA | F51: =ROUND(E51*D51,0) -> 0
B52: Cuadrilla J (1 Of eléctrico+1Ay eléctrico) (jornal + prestaciones) | C52: JN | D52: 0.25 | E52: 167525 | F52: =ROUND(E52*D52,0) -> 41881
...

Sheet APUS primarios
B2: CONSTRUCCIÓN DE LA NUEVA ESTACIÓN DEL CUERPO DE BOMBEROS LOCALIZADA EN EL SECTOR DE LAS BRISAS DE LA CIUDAD DE PEREIRA
A7: ANÁLISIS DE PRECIOS UNITARIOS
A9: ITE103 | B9: Concreto de 10,3 Mpa (producción) | C9: M3 | E9: =ROUND(SUM(G9:G16),0) -> 240391
A10: MAT | B10: Cemento gris saco por 50 kilos, incluye cargue, descargue y transporte | C10: Sc | D10: 3.5 | E10: 28500 | F10: 1.03 | G10: =ROUND((D10*E10*F10),0) -> 102743
B11: Arena | C11: M3 | D11: 0.56 | E11: 41000 | F11: 1.03 | G11: =ROUND((D11*E11*F11),0) -> 23649
B12: Triturado | C12: M3 | D12: 0.97 | E12: 45000 | F12: 1.03 | G12: =ROUND((D12*E12*F12),0) -> 44960
B13: Agua | C13: Lt | D13: 100 | E13: 10 | F13: 1.03 | G13: =ROUND((D13*E13*F13),0) -> 1030
A14: M . O | B14: Cuadrilla C 1 Of + 7 Ay (jornal + prestaciones) | C14: Día | D14: 1 | E14: =' MANO DE OBRA'!F51 -> 465519 | F14: =1/8 -> 0.125 | G14: =ROUND((D14*E14*F14),0) -> 58190
A15: EQUIPO | B15: Herramienta menor (% mano obra) | C15: %MO | D15: 0.1 | E15: =G14 -> 58190 | F15: 0 | G15: =ROUND((D15*E15),0) -> 5819
B16: Concretadora gasolina de 1 o 1 1/2 sacos | C16: Día | D16: 1 | E16: 40000 | F16: =1/10 -> 0.1 | G16: =ROUND((D16*E16*F16),0) -> 4000
A19: ITE102 | B19: Concreto de 17,2 Mpa (2500 psi) (producción) | C19: M3 | E19: =ROUND(SUM(G19:G26),0) -> 310296
A20: MAT | B20: Cemento gris saco por 50 kilos, incluye cargue, descargue y transporte | C20: Sc | D20: 6 | E20: 28500 | F20: 1.03 | G20: =ROUND((D20*E20*F20),0) -> 176130
B21: Arena | C21: M3 | D21: 0.48 | E21: 41000 | F21: 1.03 | G21: =ROUND((D21*E21*F21),0) -> 20270
B22: Triturado | C22: M3 | D22: 0.95 | E22: 45000 | F22: 1.03 | G22: =ROUND((D22*E22*F22),0) -> 44033
B23: Agua | C23: Lt | D23: 180 | E23: 10 | F23: 1.03 | G23: =ROUND((D23*E23*F23),0) -> 1854
A24: M . O | B24: Cuadrilla C 1 Of + 7 Ay (jornal + prestaciones) | C24: Día | D24: 1 | E24: =' MANO DE OBRA'!F51 -> 465519 | F24: =1/8 -> 0.125 | G24: =ROUND((D24*E24*F24),0) -> 58190
A25: EQUIPO | B25: Herramienta menor (% mano obra) | C25: %MO | D25: 0.1 | E25: =G24 -> 58190 | F25: 0 | G25: =ROUND((D25*E25),0) -> 5819
B26: Concretadora gasolina de 1 o 1 1/2 sacos | C26: Día | D26: 1 | E26: 40000 | F26: =1/10 -> 0.1 | G26: =ROUND((D26*E26*F26),0) -> 4000
A29: ITE101 | B29: Concreto de 20,7 Mpa (3000 psi) (producción) | C29: M3 | E29: =ROUND(SUM(G29:G36),0) -> 328407
A30: MAT | B30: Cemento gris saco por 50 kilos, incluye cargue, descargue y transporte | C30: Sc | D30: 7 | E30: 28500 | F30: 1.03 | G30: =ROUND((D30*E30*F30),0) -> 205485
B31: Arena | C31: M3 | D31: 0.55 | E31: 41000 | F31: 1.03 | G31: =ROUND((D31*E31*F31),0) -> 23227
B32: Triturado | C32: M3 | D32: 0.84 | E32: 45000 | F32: 1.03 | G32: =ROUND((D32*E32*F32),0) -> 38934
B33: Agua | C33: Lt | D33: 180 | E33: 10 | F33: 1.03 | G33: =ROUND((D33*E33*F33),0) -> 1854
A34: M . O | B34: Cuadrilla C 1 Of + 7 Ay (jornal + prestaciones) | C34: Día | D34: 1 | E34: 399318 | F34: =1/8 -> 0.125 | G34: =ROUND((D34*E34*F34),0) -> 49915
A35: EQUIPO | B35: Herramienta menor (% mano obra) | C35: %MO | D35: 0.1 | E35: =G34 -> 49915 | F35: 0 | G35: =ROUND((D35*E35),0) -> 4992
B36: Concretadora gasolina de 1 o 1 1/2 sacos | C36: Día | D36: 1 | E36: 40000 | F36: =1/10 -> 0.1 | G36: =ROUND((D36*E36*F36),0) -> 4000
A39: ITE100 | B39: Concreto de 27,6 Mpa (4000) (producción) | C39: M3 | E39: =ROUND(SUM(G39:G46),0) -> 393613
A40: MAT | B40: Cemento gris saco por 50 kilos, incluye cargue, descargue y transporte | C40: Sc | D40: 9 | E40: 28500 | F40: 1.03 | G40: =ROUND((D40*E40*F40),0) -> 264195
B41: Arena | C41: M3 | D41: 0.67 | E41: 41000 | F41: 1.03 | G41: =ROUND((D41*E41*F41),0) -> 28294
B42: Triturado | C42: M3 | D42: 0.67 | E42: 45000 | F42: 1.03 | G42: =ROUND((D42*E42*F42),0) -> 31055
B43: Agua | C43: Lt | D43: 200 | E43: 10 | F43: 1.03 | G43: =ROUND((D43*E43*F43),0) -> 2060
A44: M . O | B44: Cuadrilla C 1 Of + 7 Ay (jornal + prestaciones) | C44: Día | D44: 1 | E44: =' MANO DE OBRA'!F51 -> 465519 | F44: =1/8 -> 0.125 | G44: =ROUND((D44*E44*F44),0) -> 58190
A45: EQUIPO | B45: Herramienta menor (% mano obra) | C45: %MO | D45: 0.1 | E45: =G44 -> 58190 | F45: 0 | G45: =ROUND((D45*E45),0) -> 5819
B46: Concretadora gasolina de 1 o 1 1/2 sacos | C46: Día | D46: 1 | E46: 40000 | F46: =1/10 -> 0.1 | G46: =ROUND((D46*E46*F46),0) -> 4000
A49: ITE105 | B49: Mortero 1:3 (producción) | C49: M3 | E49: =ROUND(SUM(G49:G54),0) -> 346242
A50: MAT | B50: Cemento gris saco por 50 kilos, incluye cargue, descargue y transporte | C50: Sc | D50: 9 | E50: 28500 | F50: 1.03 | G50: =ROUND((D50*E50*F50),0) -> 264195
B51: Arena | C51: M3 | D51: 1.09 | E51: 41000 | F51: 1.03 | G51: =ROUND((D51*E51*F51),0) -> 46031
B52: Agua | C52: Lt | D52: 220 | E52: 10 | F52: 1.03 | G52: =ROUND((D52*E52*F52),0) -> 2266
A53: M . O | B53: Cuadrilla A 1 Of + 4 Ay (jornal + prestaciones) | C53: Día | D53: 1 | E53: =' MANO DE OBRA'!F48 -> 306819 | F53: =1/10 -> 0.1 | G53: =ROUND((D53*E53*F53),0) -> 30682
A54: EQUIPO | B54: Herramienta menor (% mano obra) | C54: %MO | D54: 0.1 | E54: =G53 -> 30682 | F54: 0 | G54: =ROUND((D54*E54),0) -> 3068
...

Sheet  MANO DE OBRA
B1: Análisis Mano de Obra
B3: ANÁLISIS MANO DE OBRA
B4: Salario Mínimo Mensual Legal Vigente año 2021 | C4: 908526
B5: Subsidio de Transporte (salario <= 2 SMMLV) | C5: 106454
B7: DESCRIPCIÓN | C7: SALARIO <= 2 SMMLV | D7: SALARIO > 2 SMMLV
C8: PERSONAL TÉCNICO, OPERATIVO Riesgo Clase V | D8: PERSONAL TÉCNICO, OPERATIVO Riesgo Clase V
B9: PRESTACIONES SOCIALES
B10: Cesantías | C10: 0.0833 | D10: 0.0833
B11: Intereses cesantías | C11: 0.01 | D11: 0.01
B12: Vacaciones | C12: 0.0472 | D12: 0.0472
B13: Prima | C13: 0.0833 | D13: 0.0833
B14: Dotación | C14: 0.06 | D14: 0.04
B15: SEGURIDAD SOCIAL
B16: Aportes régimen general de pensiones (I.V.M) | C16: 0.12 | D16: 0.12
B17: Aporte riesgos profesionales A.R.P. | C17: 0.0696 | D17: 0.0696
B18: Aportes régimen contributivo de salud | C18: 0 | D18: 0
B19: Certificado trabajo seguro en alturas | C19: 0.0212 | D19: 0.0212
B20: OTROS APORTES
B21: Aportes FIC | C21: 0.025 | D21: 0.025
B22: I.C.B.F. | C22: 0 | D22: 0
B23: Comfamiliar | C23: 0.04 | D23: 0.04
B24: Subsidio de transporte | C24: =C5/C4 -> 0.11717221
B25: Dias festivos (18 al año) | C25: 0.05 | D25: 0.05
B26: Examenes medicos de ingreso y egreso | C26: 0.02 | D26: 0.02
C27: =SUM(C9:C26) -> 0.74677221 | D27: =SUM(D9:D26) -> 0.6096
B29: NOMBRE | C29: SALARIO MENSUAL | D29: PRESTACIONES Y APORTES | E29: SALARIO + PRESTACIONES | F29: SALARIO DIA
B30: Ayudante | C30: =C4 -> 908526 | D30: =ROUND((C30*$C$27),0) -> 678462 | E30: =C30+D30 -> 1586988 | F30: =ROUND((E30/30),0) -> 52900
B31: Ayudante práctico | C31: =C30*1.4 -> 1271936.4 | D31: =ROUND((C31*$C$27),0) -> 949847 | E31: =C31+D31 -> 2221783.4 | F31: =ROUND((E31/30),0) -> 74059
B32: Oficial | C32: =C30*1.8 -> 1635346.8 | D32: =ROUND((C32*$C$27),0) -> 1221232 | E32: =C32+D32 -> 2856578.8 | F32: =ROUND((E32/30),0) -> 95219
B33: Cadenero 1 | C33: =C30*1.5 -> 1362789 | D33: =ROUND((C33*$C$27),0) -> 1017693 | E33: =C33+D33 -> 2380482 | F33: =ROUND((E33/30),0) -> 79349
B34: Cadenero 2 | C34: =C30 -> 908526 | D34: =ROUND((C34*$C$27),0) -> 678462 | E34: =C34+D34 -> 1586988 | F34: =ROUND((E34/30),0) -> 52900
B35: Liniero cat 1 | C35: =C30*2.8 -> 2543872.8 | D35: =ROUND((C35*D27),0) -> 1550745 | E35: =C35+D35 -> 4094617.8 | F35: =ROUND((E35/30),0) -> 136487
B36: Liniero cat 2 | C36: =C30*1.8 -> 1635346.8 | D36: =ROUND((C36*$C$27),0) -> 1221232 | E36: =C36+D36 -> 2856578.8 | F36: =ROUND((E36/30),0) -> 95219
B37: Maestro de obra | C37: =C30*2.5 -> 2271315 | D37: =ROUND((C37*$C$27),0) -> 1696155 | E37: =C37+D37 -> 3967470 | F37: =ROUND((E37/30),0) -> 132249
B38: Minero | C38: =C30*2.5 -> 2271315 | D38: =ROUND((C38*$C$27),0) -> 1696155 | E38: =C38+D38 -> 3967470 | F38: =ROUND((E38/30),0) -> 132249
B39: Oficial eléctrico | C39: =C30*2 -> 1817052 | D39: =ROUND((C39*$C$27),0) -> 1356924 | E39: =C39+D39 -> 3173976 | F39: =ROUND((E39/30),0) -> 105799
B40: Oficial pintor | C40: =C30*1.6 -> 1453641.6 | D40: =ROUND((C40*$C$27),0) -> 1085539 | E40: =C40+D40 -> 2539180.6 | F40: =ROUND((E40/30),0) -> 84639
B41: Operador de maquinaria | C41: =C30*1.8 -> 1635346.8 | D41: =ROUND((C41*$C$27),0) -> 1221232 | E41: =C41+D41 -> 2856578.8 | F41: =ROUND((E41/30),0) -> 95219
B42: Soldador | C42: =C30*1.8 -> 1635346.8 | D42: =ROUND((C42*$C$27),0) -> 1221232 | E42: =C42+D42 -> 2856578.8 | F42: =ROUND((E42/30),0) -> 95219
B43: Topógrafo | C43: =C30*3.5 -> 3179841 | D43: =ROUND((C43*$D$27),0) -> 1938431 | E43: =C43+D43 -> 5118272 | F43: =ROUND((E43/30),0) -> 170609
...
