Workbook

Sheet EVA. ECONOMICA
D3: FORMATO DE VERIFICACION
D4: FORMULA ECONÓMICA
B5: SAMC- ARN-654-2021
B6: ADQUISICIÓN E INSTALACION DE EQUIPOS DE AIRES ACONDICIONADOS Y/O VENTILADORES TIPO PEDESTAL Y/O MANTENIMIENTO PREVENTIVO Y/O CORRECTIVO DE EQUIPOS DE AIRES ACONDICIONADOS INCLUYENDO EL SUMINISTRO DE MATERIALES Y REPUESTOS
B7: ASIGNACION MEDIA GEOMETRICA PUNTAJE MAXIMO : 500 PUNTOS
B8: No. | C8: PROPONENTE | F8: VALOR OFERTADO | G8: HABILITADOS | H8: PUNTAJE | I8: HABILITADO/ NOHABILITADO | J8: OBSERVACIONES
B9: 12 | C9: =+'Verif.Ofertas NORTE '!AN2 -> TERMEC LIMITADA | F9: =+'Verif.Ofertas NORTE '!AO93 -> 64153037 | H9: 500
B10: 13 | C10: =+'Verif.Ofertas NORTE '!AQ2 -> COMERCIALIZADORA ELECTROMERO S.A.S. | F10: =+'Verif.Ofertas NORTE '!AR93 -> 66595467 | H10: =500-(500*ABS(F10-$F$27)/$F$27) -> 486.10604
B11: 16 | C11: =+'Verif.Ofertas NORTE '!AZ2 -> GRUPO SKY DE COLOMBIA S.A.S | F11: =+'Verif.Ofertas NORTE '!BA93 -> 62770000 | H11: =500-(500*ABS(F11-$F$27)/$F$27) -> 484.37416
B12: 17 | C12: =+'Verif.Ofertas NORTE '!BC2 -> Nicservicio s.a.s | F12: =+'Verif.Ofertas NORTE '!BD93 -> 66910000 | H12: =500-(500*ABS(F12-$F$27)/$F$27) -> 483.67891
B13: 9 | C13: =+'Verif.Ofertas NORTE '!AE2 -> REFRICESAR INGENIERIA S.A.S. | F13: =+'Verif.Ofertas NORTE '!AF93 -> 66936781 | H13: =500-(500*ABS(F13-$F$27)/$F$27) -> 483.47225
B14: 6 | C14: =+'Verif.Ofertas NORTE '!V2 -> Expertos Ingenieros S.A.S | F14: =+'Verif.Ofertas NORTE '!W93 -> 68854678 | H14: =500-(500*ABS(F14-$F$27)/$F$27) -> 468.67251
B15: 1 | C15: =+'Verif.Ofertas NORTE '!G2 -> FRICON SOLUCIONES SAS | F15: =+'Verif.Ofertas NORTE '!H93 -> 69191400 | H15: =500-(500*ABS(F15-$F$27)/$F$27) -> 466.07414
B16: 14 | C16: =+'Verif.Ofertas NORTE '!AT2 -> PROSERMAN SAS | F16: =+'Verif.Ofertas NORTE '!AU93 -> 70214896 | H16: =500-(500*ABS(F16-$F$27)/$F$27) -> 458.17618
B17: 3 | C17: =+'Verif.Ofertas NORTE '!M2 -> ASESORIAS Y ACABADOS AVILA SAS | F17: =+'Verif.Ofertas NORTE '!N93 -> 70793961 | H17: =500-(500*ABS(F17-$F$27)/$F$27) -> 453.70774
B18: 10 | C18: =+'Verif.Ofertas NORTE '!AH2 -> GOURIYU SISTEMS S.A.S. | F18: =+'Verif.Ofertas NORTE '!AI93 -> 70938775 | H18: =500-(500*ABS(F18-$F$27)/$F$27) -> 452.59026
B19: 15 | C19: =+'Verif.Ofertas NORTE '!AW2 -> CONINCAG SAS | F19: =+'Verif.Ofertas NORTE '!AX93 -> 71032726 | H19: =500-(500*ABS(F19-$F$27)/$F$27) -> 451.86527
B20: 8 | C20: =+'Verif.Ofertas NORTE '!AB2 -> CONSTRUCCIONES J & LG S.A.S | F20: =+'Verif.Ofertas NORTE '!AC93 -> 71300644 | H20: =500-(500*ABS(F20-$F$27)/$F$27) -> 449.79784
B21: 2 | C21: =+'Verif.Ofertas NORTE '!J2 -> TCB IMPRESOS SOLUCIONES Y SUMINISTROS SAS | F21: =+'Verif.Ofertas NORTE '!K93 -> 71662606 | H21: =500-(500*ABS(F21-$F$27)/$F$27) -> 447.00471
B22: 11 | C22: =+'Verif.Ofertas NORTE '!AK2 -> SUBE INGENIERIA | F22: =+'Verif.Ofertas NORTE '!AL93 -> 72386481 | H22: =500-(500*ABS(F22-$F$27)/$F$27) -> 441.41882
B23: 5 | C23: =+'Verif.Ofertas NORTE '!S2 -> INGEMET JYS SAS | F23: =+'Verif.Ofertas NORTE '!T93 -> 48139000 | H23: =500-(500*ABS(F23-$F$27)/$F$27) -> 371.47184
B24: 7 | C24: =+'Verif.Ofertas NORTE '!Y2 -> ACONDICLIMA INGENIERIA Y CONSTRUCCION SAS | F24: =+'Verif.Ofertas NORTE '!Z93 -> 45293715 | H24: =500-(500*ABS(F24-$F$27)/$F$27) -> 349.51577
B25: 4 | C25: =+'Verif.Ofertas NORTE '!P2 -> AIRES COSTA LTDA | F25: =+'Verif.Ofertas NORTE '!Q93 -> 44340000 | H25: =500-(500*ABS(F25-$F$27)/$F$27) -> 342.15629
D27: MEDIA ARITMETICA | F27: =AVERAGE(F9:F25) -> 64794951
B29: 1 | C29: =IF(F9<$F$27,"MENOR VALOR","NO APLICA") -> MENOR VALOR | D29: =IF(C29="MENOR VALOR",F9,0) -> 64153037
B30: 2 | C30: =IF(F10<$F$27,"MENOR VALOR","NO APLICA") -> NO APLICA | D30: =IF(C30="MENOR VALOR",F10,0) -> 0
B31: 3 | C31: =IF(F25<$F$27,"MENOR VALOR","NO APLICA") -> MENOR VALOR | D31: =IF(C31="MENOR VALOR",F25,0) -> 44340000
C33: Vr menor media geometrica | D33: =MAX(D29:D31) -> 64153037
C35: Elaborado por:
C36: ALEX JULIAN MOJICA SIERRA Profesional Especializado - Grupo Gestion Contractual. 29 de Junio de 2021
C38: _____________________________________

Sheet Verif.Ofertas NORTE 
G1: 1 | J1: 2 | M1: 3 | P1: 4 | S1: 5 | V1: 6 | Y1: 7 | AB1: 8 | AE1: 9 | AH1: 10 | AK1: 11 | AN1: 12 | AQ1: 13 | AT1: 14 | AW1: 15 | AZ1: 16 | BC1: 17
A2: VERIFICACION DE PRECIOS UNITARIOS SUBASTA INVERSA No SAMC-ARN-654-2021 ADQUISICIÓN E INSTALACION DE EQUIPOS DE AIRES ACONDICIONADOS Y/O VENTILADORES TIPO PEDESTAL Y/O MANTENIMIENTO PREVENTIVO Y/O CORRECTIVO DE EQUIPOS DE AIRES ACONDICIONADOS INCLUYENDO EL SUMINISTRO DE MATERIALES Y REPUESTOS | G2: FRICON SOLUCIONES SAS | J2: TCB IMPRESOS SOLUCIONES Y SUMINISTROS SAS | M2: ASESORIAS Y ACABADOS AVILA SAS | P2: AIRES COSTA LTDA | S2: INGEMET JYS SAS | V2: Expertos Ingenieros S.A.S | Y2: ACONDICLIMA INGENIERIA Y CONSTRUCCION SAS | AB2: CONSTRUCCIONES J & LG S.A.S | AE2: REFRICESAR INGENIERIA S.A.S. | AH2: GOURIYU SISTEMS S.A.S. | AK2: SUBE INGENIERIA | AN2: TERMEC LIMITADA | AQ2: COMERCIALIZADORA ELECTROMERO S.A.S. | AT2: PROSERMAN SAS | AW2: CONINCAG SAS | AZ2: GRUPO SKY DE COLOMBIA S.A.S | BC2: Nicservicio s.a.s
A3: ITEM | B3: Descripción | C3: Cantidad | D3: Unidad | E3: Precio unitario estimado | F3: SUBTOTAL UNITARIO | G3: VALOR UNITARIO OFERTADO | H3: VALOR TOTAL UNITARIO | I3: VERIFICACION | J3: VALOR UNITARIO OFERTADO | K3: VALOR TOTAL UNITARIO | L3: VERIFICACION | M3: VALOR UNITARIO OFERTADO | N3: VALOR TOTAL UNITARIO | O3: VERIFICACION | P3: VALOR UNITARIO OFERTADO | Q3: VALOR TOTAL UNITARIO | R3: VERIFICACION | S3: VALOR UNITARIO OFERTADO | T3: VALOR TOTAL UNITARIO | U3: VERIFICACION | V3: VALOR UNITARIO OFERTADO | W3: VALOR TOTAL UNITARIO | X3: VERIFICACION | Y3: VALOR UNITARIO OFERTADO | Z3: VALOR TOTAL UNITARIO | AA3: VERIFICACION | AB3: VALOR UNITARIO OFERTADO | AC3: VALOR TOTAL UNITARIO | AD3: VERIFICACION | AE3: VALOR UNITARIO OFERTADO | AF3: VALOR TOTAL UNITARIO | AG3: VERIFICACION | AH3: VALOR UNITARIO OFERTADO | AI3: VALOR TOTAL UNITARIO | AJ3: VERIFICACION | AK3: VALOR UNITARIO OFERTADO | AL3: VALOR TOTAL UNITARIO | AM3: VERIFICACION | AN3: VALOR UNITARIO OFERTADO | AO3: VALOR TOTAL UNITARIO | AP3: VERIFICACION | AQ3: VALOR UNITARIO OFERTADO | AR3: VALOR TOTAL UNITARIO | AS3: VERIFICACION | AT3: VALOR UNITARIO OFERTADO | AU3: VALOR TOTAL UNITARIO | AV3: VERIFICACION | AW3: VALOR UNITARIO OFERTADO | AX3: VALOR TOTAL UNITARIO | AY3: VERIFICACION | AZ3: VALOR UNITARIO OFERTADO | BA3: VALOR TOTAL UNITARIO | BB3: VERIFICACION | BC3: VALOR UNITARIO OFERTADO | BD3: VALOR TOTAL UNITARIO | BE3: VERIFICACION
B4: ADQUISICIÓN, INSTALACION Y PUESTA EN FUNCIONAMIENTO AIRES ACONDICIONADOS INVERTER, DE ACUERDO A LAS ESPECIFICACIONES TECNICAS DESCRITAS EN ANEXO TÉCNICO ( IVA INCLUIDO) | E4: 0 | F4: =+C4*E4 -> 0 | G4: 0 | H4: =+G4*$C4 -> 0 | I4: =IF(G4>$E4,"ERROR","OK") -> OK | K4: =+J4*$C4 -> 0 | L4: =IF(J4>$E4,"ERROR","OK") -> OK | N4: =+M4*$C4 -> 0 | O4: =IF(M4>$E4,"ERROR","OK") -> OK | Q4: =+P4*$C4 -> 0 | R4: =IF(P4>$E4,"ERROR","OK") -> OK | T4: =+S4*$C4 -> 0 | U4: =IF(S4>$E4,"ERROR","OK") -> OK | W4: =+V4*$C4 -> 0 | X4: =IF(V4>$E4,"ERROR","OK") -> OK | Z4: =+Y4*$C4 -> 0 | AA4: =IF(Y4>$E4,"ERROR","OK") -> OK | AC4: =+AB4*$C4 -> 0 | AD4: =IF(AB4>$E4,"ERROR","OK") -> OK | AF4: =+AE4*$C4 -> 0 | AG4: =IF(AE4>$E4,"ERROR","OK") -> OK | AI4: =+AH4*$C4 -> 0 | AJ4: =IF(AH4>$E4,"ERROR","OK") -> OK | AL4: =+AK4*$C4 -> 0 | AM4: =IF(AK4>$E4,"ERROR","OK") -> OK | AO4: =+AN4*$C4 -> 0 | AP4: =IF(AN4>$E4,"ERROR","OK") -> OK | AR4: =+AQ4*$C4 -> 0 | AS4: =IF(AQ4>$E4,"ERROR","OK") -> OK | AU4: =+AT4*$C4 -> 0 | AV4: =IF(AT4>$E4,"ERROR","OK") -> OK | AX4: =+AW4*$C4 -> 0 | AY4: =IF(AW4>$E4,"ERROR","OK") -> OK | BA4: =+AZ4*$C4 -> 0 | BB4: =IF(AZ4>$E4,"ERROR","OK") -> OK | BD4: =+BC4*$C4 -> 0 | BE4: =IF(BC4>$E4,"ERROR","OK") -> OK
A5: 1 | B5: Valledupar_12000 BTU_BTU | C5: 2 | D5: UN | E5: 3810198 | F5: =+C5*E5 -> 7620396 | G5: 3642500 | H5: =+G5*$C5 -> 7285000 | I5: =IF(G5>$E5,"ERROR","OK") -> OK | J5: 3772096 | K5: =+J5*$C5 -> 7544192 | L5: =IF(J5>$E5,"ERROR","OK") -> OK | M5: 3726374 | N5: =+M5*$C5 -> 7452748 | O5: =IF(M5>$E5,"ERROR","OK") -> OK | P5: 3000000 | Q5: =+P5*$C5 -> 6000000 | R5: =IF(P5>$E5,"ERROR","OK") -> OK | S5: 3200000 | T5: =+S5*$C5 -> 6400000 | U5: =IF(S5>$E5,"ERROR","OK") -> OK | V5: 3628760 | W5: =+V5*$C5 -> 7257520 | X5: =IF(V5>$E5,"ERROR","OK") -> OK | Y5: 3808032 | Z5: =+Y5*$C5 -> 7616064 | AA5: =IF(Y5>$E5,"ERROR","OK") -> OK | AB5: 3753045 | AC5: =+AB5*$C5 -> 7506090 | AD5: =IF(AB5>$E5,"ERROR","OK") -> OK | AE5: 3581586 | AF5: =+AE5*$C5 -> 7163172 | AG5: =IF(AE5>$E5,"ERROR","OK") -> OK | AH5: 3733994 | AI5: =+AH5*$C5 -> 7467988 | AJ5: =IF(AH5>$E5,"ERROR","OK") -> OK | AK5: 3810198 | AL5: =+AK5*$C5 -> 7620396 | AM5: =IF(AK5>$E5,"ERROR","OK") -> OK | AN5: 3390000 | AO5: =+AN5*$C5 -> 6780000 | AP5: =IF(AN5>$E5,"ERROR","OK") -> OK | AQ5: 3505382.2 | AR5: =+AQ5*$C5 -> 7010764.3 | AS5: =IF(AQ5>$E5,"ERROR","OK") -> OK | AT5: 3695892 | AU5: =+AT5*$C5 -> 7391784 | AV5: =IF(AT5>$E5,"ERROR","OK") -> OK | AW5: 3738947 | AX5: =+AW5*$C5 -> 7477894 | AY5: =IF(AW5>$E5,"ERROR","OK") -> OK | AZ5: 3600000 | BA5: =+AZ5*$C5 -> 7200000 | BB5: =IF(AZ5>$E5,"ERROR","OK") -> OK | BC5: 3800000 | BD5: =+BC5*$C5 -> 7600000 | BE5: =IF(BC5>$E5,"ERROR","OK") -> OK
A6: 2 | B6: Cucuta_12000 BTU_BTU | C6: 1 | D6: UN | E6: 3905184 | F6: =+C6*E6 -> 3905184 | G6: 3733300 | H6: =+G6*$C6 -> 3733300 | I6: =IF(G6>$E6,"ERROR","OK") -> OK | J6: 3866132 | K6: =+J6*$C6 -> 3866132 | L6: =IF(J6>$E6,"ERROR","OK") -> OK | M6: 3819270 | N6: =+M6*$C6 -> 3819270 | O6: =IF(M6>$E6,"ERROR","OK") -> OK | P6: 3000000 | Q6: =+P6*$C6 -> 3000000 | R6: =IF(P6>$E6,"ERROR","OK") -> OK | S6: 3300000 | T6: =+S6*$C6 -> 3300000 | U6: =IF(S6>$E6,"ERROR","OK") -> OK | V6: 3719223 | W6: =+V6*$C6 -> 3719223 | X6: =IF(V6>$E6,"ERROR","OK") -> OK | Y6: 3808032 | Z6: =+Y6*$C6 -> 3808032 | AA6: =IF(Y6>$E6,"ERROR","OK") -> OK | AB6: 3846606 | AC6: =+AB6*$C6 -> 3846606 | AD6: =IF(AB6>$E6,"ERROR","OK") -> OK | AE6: 3670873 | AF6: =+AE6*$C6 -> 3670873 | AG6: =IF(AE6>$E6,"ERROR","OK") -> OK | AH6: 3827080 | AI6: =+AH6*$C6 -> 3827080 | AJ6: =IF(AH6>$E6,"ERROR","OK") -> OK | AK6: 3905184 | AL6: =+AK6*$C6 -> 3905184 | AM6: =IF(AK6>$E6,"ERROR","OK") -> OK | AN6: 3540000 | AO6: =+AN6*$C6 -> 3540000 | AP6: =IF(AN6>$E6,"ERROR","OK") -> OK | AQ6: 3592769 | AR6: =+AQ6*$C6 -> 3592769 | AS6: =IF(AQ6>$E6,"ERROR","OK") -> OK | AT6: 3788028 | AU6: =+AT6*$C6 -> 3788028 | AV6: =IF(AT6>$E6,"ERROR","OK") -> OK | AW6: 3832157 | AX6: =+AW6*$C6 -> 3832157 | AY6: =IF(AW6>$E6,"ERROR","OK") -> OK | AZ6: 3700000 | BA6: =+AZ6*$C6 -> 3700000 | BB6: =IF(AZ6>$E6,"ERROR","OK") -> OK | BC6: 3900000 | BD6: =+BC6*$C6 -> 3900000 | BE6: =IF(BC6>$E6,"ERROR","OK") -> OK
A7: 3 | B7: Sincelejo_12000 BTU_BTU | C7: 1 | D7: UN | E7: 3809047 | F7: =+C7*E7 -> 3809047 | G7: 3641400 | H7: =+G7*$C7 -> 3641400 | I7: =IF(G7>$E7,"ERROR","OK") -> OK | J7: 3770957 | K7: =+J7*$C7 -> 3770957 | L7: =IF(J7>$E7,"ERROR","OK") -> OK | M7: 3725248 | N7: =+M7*$C7 -> 3725248 | O7: =IF(M7>$E7,"ERROR","OK") -> OK | P7: 3000000 | Q7: =+P7*$C7 -> 3000000 | R7: =IF(P7>$E7,"ERROR","OK") -> OK | S7: 3020000 | T7: =+S7*$C7 -> 3020000 | U7: =IF(S7>$E7,"ERROR","OK") -> OK | V7: 3627664 | W7: =+V7*$C7 -> 3627664 | X7: =IF(V7>$E7,"ERROR","OK") -> OK | Y7: 3808032 | Z7: =+Y7*$C7 -> 3808032 | AA7: =IF(Y7>$E7,"ERROR","OK") -> OK | AB7: 3751911 | AC7: =+AB7*$C7 -> 3751911 | AD7: =IF(AB7>$E7,"ERROR","OK") -> OK | AE7: 3580504 | AF7: =+AE7*$C7 -> 3580504 | AG7: =IF(AE7>$E7,"ERROR","OK") -> OK | AH7: 3732866 | AI7: =+AH7*$C7 -> 3732866 | AJ7: =IF(AH7>$E7,"ERROR","OK") -> OK | AK7: 3809047 | AL7: =+AK7*$C7 -> 3809047 | AM7: =IF(AK7>$E7,"ERROR","OK") -> OK | AN7: 3380000 | AO7: =+AN7*$C7 -> 3380000 | AP7: =IF(AN7>$E7,"ERROR","OK") -> OK | AQ7: 3504323 | AR7: =+AQ7*$C7 -> 3504323 | AS7: =IF(AQ7>$E7,"ERROR","OK") -> OK | AT7: 3694776 | AU7: =+AT7*$C7 -> 3694776 | AV7: =IF(AT7>$E7,"ERROR","OK") -> OK | AW7: 3737817 | AX7: =+AW7*$C7 -> 3737817 | AY7: =IF(AW7>$E7,"ERROR","OK") -> OK | AZ7: 3600000 | BA7: =+AZ7*$C7 -> 3600000 | BB7: =IF(AZ7>$E7,"ERROR","OK") -> OK | BC7: 3800000 | BD7: =+BC7*$C7 -> 3800000 | BE7: =IF(BC7>$E7,"ERROR","OK") -> OK
B8: MANTENIMIENTO PREVENTIVO DE AIRES ACONDICIONADOS EXISTENTES EN LAS OFICINAS DE LA ARN DE ACUERDO A LAS ESPECIFICACIONES TECNICAS DESCRITAS EN ANEXO TÉCNICO (IVA INCLUIDO) | F8: =+C8*E8 -> 0 | H8: =+G8*$C8 -> 0 | I8: =IF(G8>$E8,"ERROR","OK") -> OK | K8: =+J8*$C8 -> 0 | L8: =IF(J8>$E8,"ERROR","OK") -> OK | N8: =+M8*$C8 -> 0 | O8: =IF(M8>$E8,"ERROR","OK") -> OK | Q8: =+P8*$C8 -> 0 | R8: =IF(P8>$E8,"ERROR","OK") -> OK | T8: =+S8*$C8 -> 0 | U8: =IF(S8>$E8,"ERROR","OK") -> OK | W8: =+V8*$C8 -> 0 | X8: =IF(V8>$E8,"ERROR","OK") -> OK | Z8: =+Y8*$C8 -> 0 | AA8: =IF(Y8>$E8,"ERROR","OK") -> OK | AC8: =+AB8*$C8 -> 0 | AD8: =IF(AB8>$E8,"ERROR","OK") -> OK | AF8: =+AE8*$C8 -> 0 | AG8: =IF(AE8>$E8,"ERROR","OK") -> OK | AI8: =+AH8*$C8 -> 0 | AJ8: =IF(AH8>$E8,"ERROR","OK") -> OK | AL8: =+AK8*$C8 -> 0 | AM8: =IF(AK8>$E8,"ERROR","OK") -> OK | AO8: =+AN8*$C8 -> 0 | AP8: =IF(AN8>$E8,"ERROR","OK") -> OK | AR8: =+AQ8*$C8 -> 0 | AS8: =IF(AQ8>$E8,"ERROR","OK") -> OK | AU8: =+AT8*$C8 -> 0 | AV8: =IF(AT8>$E8,"ERROR","OK") -> OK | AX8: =+AW8*$C8 -> 0 | AY8: =IF(AW8>$E8,"ERROR","OK") -> OK | BA8: =+AZ8*$C8 -> 0 | BB8: =IF(AZ8>$E8,"ERROR","OK") -> OK | BD8: =+BC8*$C8 -> 0 | BE8: =IF(BC8>$E8,"ERROR","OK") -> OK
A9: 4 | B9: Puerto Berrio _60000_BTU | C9: 2 | D9: UN | E9: 381939 | F9: =+C9*E9 -> 763878 | G9: 365100 | H9: =+G9*$C9 -> 730200 | I9: =IF(G9>$E9,"ERROR","OK") -> OK | J9: 378120 | K9: =+J9*$C9 -> 756240 | L9: =IF(J9>$E9,"ERROR","OK") -> OK | M9: 373536 | N9: =+M9*$C9 -> 747072 | O9: =IF(M9>$E9,"ERROR","OK") -> OK | P9: 150000 | Q9: =+P9*$C9 -> 300000 | R9: =IF(P9>$E9,"ERROR","OK") -> OK | S9: 250000 | T9: =+S9*$C9 -> 500000 | U9: =IF(S9>$E9,"ERROR","OK") -> OK | V9: 363751 | W9: =+V9*$C9 -> 727502 | X9: =IF(V9>$E9,"ERROR","OK") -> OK | Y9: 227038 | Z9: =+Y9*$C9 -> 454076 | AA9: =IF(Y9>$E9,"ERROR","OK") -> OK | AB9: 376210 | AC9: =+AB9*$C9 -> 752420 | AD9: =IF(AB9>$E9,"ERROR","OK") -> OK | AE9: 351384 | AF9: =+AE9*$C9 -> 702768 | AG9: =IF(AE9>$E9,"ERROR","OK") -> OK | AH9: 374300 | AI9: =+AH9*$C9 -> 748600 | AJ9: =IF(AH9>$E9,"ERROR","OK") -> OK | AK9: 381939 | AL9: =+AK9*$C9 -> 763878 | AM9: =IF(AK9>$E9,"ERROR","OK") -> OK | AN9: 305551 | AO9: =+AN9*$C9 -> 611102 | AP9: =IF(AN9>$E9,"ERROR","OK") -> OK | AQ9: 351383 | AR9: =+AQ9*$C9 -> 702766 | AS9: =IF(AQ9>$E9,"ERROR","OK") -> OK | AT9: 370481 | AU9: =+AT9*$C9 -> 740962 | AV9: =IF(AT9>$E9,"ERROR","OK") -> OK | AW9: 374796 | AX9: =+AW9*$C9 -> 749592 | AY9: =IF(AW9>$E9,"ERROR","OK") -> OK | AZ9: 330000 | BA9: =+AZ9*$C9 -> 660000 | BB9: =IF(AZ9>$E9,"ERROR","OK") -> OK | BC9: 350000 | BD9: =+BC9*$C9 -> 700000 | BE9: =IF(BC9>$E9,"ERROR","OK") -> OK
A10: 5 | B10: Puerto Berrio _24000_BTU | C10: 4 | D10: UN | E10: 279532 | F10: =+C10*E10 -> 1118128 | G10: 267200 | H10: =+G10*$C10 -> 1068800 | I10: =IF(G10>$E10,"ERROR","OK") -> OK | J10: 276737 | K10: =+J10*$C10 -> 1106948 | L10: =IF(J10>$E10,"ERROR","OK") -> OK | M10: 273382 | N10: =+M10*$C10 -> 1093528 | O10: =IF(M10>$E10,"ERROR","OK") -> OK | P10: 150000 | Q10: =+P10*$C10 -> 600000 | R10: =IF(P10>$E10,"ERROR","OK") -> OK | S10: 170000 | T10: =+S10*$C10 -> 680000 | U10: =IF(S10>$E10,"ERROR","OK") -> OK | V10: 266221 | W10: =+V10*$C10 -> 1064884 | X10: =IF(V10>$E10,"ERROR","OK") -> OK | Y10: 170279 | Z10: =+Y10*$C10 -> 681116 | AA10: =IF(Y10>$E10,"ERROR","OK") -> OK | AB10: 275339 | AC10: =+AB10*$C10 -> 1101356 | AD10: =IF(AB10>$E10,"ERROR","OK") -> OK | AE10: 257169 | AF10: =+AE10*$C10 -> 1028676 | AG10: =IF(AE10>$E10,"ERROR","OK") -> OK | AH10: 273941 | AI10: =+AH10*$C10 -> 1095764 | AJ10: =IF(AH10>$E10,"ERROR","OK") -> OK | AK10: 279532 | AL10: =+AK10*$C10 -> 1118128 | AM10: =IF(AK10>$E10,"ERROR","OK") -> OK | AN10: 223626 | AO10: =+AN10*$C10 -> 894504 | AP10: =IF(AN10>$E10,"ERROR","OK") -> OK | AQ10: 257169 | AR10: =+AQ10*$C10 -> 1028676 | AS10: =IF(AQ10>$E10,"ERROR","OK") -> OK | AT10: 271146 | AU10: =+AT10*$C10 -> 1084584 | AV10: =IF(AT10>$E10,"ERROR","OK") -> OK | AW10: 274304 | AX10: =+AW10*$C10 -> 1097216 | AY10: =IF(AW10>$E10,"ERROR","OK") -> OK | AZ10: 230000 | BA10: =+AZ10*$C10 -> 920000 | BB10: =IF(AZ10>$E10,"ERROR","OK") -> OK | BC10: 250000 | BD10: =+BC10*$C10 -> 1000000 | BE10: =IF(BC10>$E10,"ERROR","OK") -> OK
A11: 6 | B11: Puerto Berrio _58000_BTU | C11: 2 | D11: UN | E11: 346402 | F11: =+C11*E11 -> 692804 | G11: 331100 | H11: =+G11*$C11 -> 662200 | I11: =IF(G11>$E11,"ERROR","OK") -> OK | J11: 342938 | K11: =+J11*$C11 -> 685876 | L11: =IF(J11>$E11,"ERROR","OK") -> OK | M11: 338781 | N11: =+M11*$C11 -> 677562 | O11: =IF(M11>$E11,"ERROR","OK") -> OK | P11: 150000 | Q11: =+P11*$C11 -> 300000 | R11: =IF(P11>$E11,"ERROR","OK") -> OK | S11: 250000 | T11: =+S11*$C11 -> 500000 | U11: =IF(S11>$E11,"ERROR","OK") -> OK | V11: 329907 | W11: =+V11*$C11 -> 659814 | X11: =IF(V11>$E11,"ERROR","OK") -> OK | Y11: 170279 | Z11: =+Y11*$C11 -> 340558 | AA11: =IF(Y11>$E11,"ERROR","OK") -> OK | AB11: 341206 | AC11: =+AB11*$C11 -> 682412 | AD11: =IF(AB11>$E11,"ERROR","OK") -> OK | AE11: 318690 | AF11: =+AE11*$C11 -> 637380 | AG11: =IF(AE11>$E11,"ERROR","OK") -> OK | AH11: 339474 | AI11: =+AH11*$C11 -> 678948 | AJ11: =IF(AH11>$E11,"ERROR","OK") -> OK | AK11: 346402 | AL11: =+AK11*$C11 -> 692804 | AM11: =IF(AK11>$E11,"ERROR","OK") -> OK | AN11: 277122 | AO11: =+AN11*$C11 -> 554244 | AP11: =IF(AN11>$E11,"ERROR","OK") -> OK | AQ11: 318689 | AR11: =+AQ11*$C11 -> 637378 | AS11: =IF(AQ11>$E11,"ERROR","OK") -> OK | AT11: 336010 | AU11: =+AT11*$C11 -> 672020 | AV11: =IF(AT11>$E11,"ERROR","OK") -> OK | AW11: 339924 | AX11: =+AW11*$C11 -> 679848 | AY11: =IF(AW11>$E11,"ERROR","OK") -> OK | AZ11: 290000 | BA11: =+AZ11*$C11 -> 580000 | BB11: =IF(AZ11>$E11,"ERROR","OK") -> OK | BC11: 310000 | BD11: =+BC11*$C11 -> 620000 | BE11: =IF(BC11>$E11,"ERROR","OK") -> OK
A12: 7 | B12: Barranquilla_9000_BTU | C12: 2 | D12: UN | E12: 247295 | F12: =+C12*E12 -> 494590 | G12: 236400 | H12: =+G12*$C12 -> 472800 | I12: =IF(G12>$E12,"ERROR","OK") -> OK | J12: 244822 | K12: =+J12*$C12 -> 489644 | L12: =IF(J12>$E12,"ERROR","OK") -> OK | M12: 241855 | N12: =+M12*$C12 -> 483710 | O12: =IF(M12>$E12,"ERROR","OK") -> OK | P12: 150000 | Q12: =+P12*$C12 -> 300000 | R12: =IF(P12>$E12,"ERROR","OK") -> OK | S12: 160000 | T12: =+S12*$C12 -> 320000 | U12: =IF(S12>$E12,"ERROR","OK") -> OK | V12: 235519 | W12: =+V12*$C12 -> 471038 | X12: =IF(V12>$E12,"ERROR","OK") -> OK | Y12: 113519 | Z12: =+Y12*$C12 -> 227038 | AA12: =IF(Y12>$E12,"ERROR","OK") -> OK | AB12: 243586 | AC12: =+AB12*$C12 -> 487172 | AD12: =IF(AB12>$E12,"ERROR","OK") -> OK | AE12: 227511 | AF12: =+AE12*$C12 -> 455022 | AG12: =IF(AE12>$E12,"ERROR","OK") -> OK | AH12: 242349 | AI12: =+AH12*$C12 -> 484698 | AJ12: =IF(AH12>$E12,"ERROR","OK") -> OK | AK12: 247295 | AL12: =+AK12*$C12 -> 494590 | AM12: =IF(AK12>$E12,"ERROR","OK") -> OK | AN12: 185471 | AO12: =+AN12*$C12 -> 370942 | AP12: =IF(AN12>$E12,"ERROR","OK") -> OK | AQ12: 227511 | AR12: =+AQ12*$C12 -> 455022 | AS12: =IF(AQ12>$E12,"ERROR","OK") -> OK | AT12: 239876 | AU12: =+AT12*$C12 -> 479752 | AV12: =IF(AT12>$E12,"ERROR","OK") -> OK | AW12: 242670 | AX12: =+AW12*$C12 -> 485340 | AY12: =IF(AW12>$E12,"ERROR","OK") -> OK | AZ12: 190000 | BA12: =+AZ12*$C12 -> 380000 | BB12: =IF(AZ12>$E12,"ERROR","OK") -> OK | BC12: 210000 | BD12: =+BC12*$C12 -> 420000 | BE12: =IF(BC12>$E12,"ERROR","OK") -> OK
A13: 8 | B13: Barranquilla_12000_BTU | C13: 6 | D13: UN | E13: 248783 | F13: =+C13*E13 -> 1492698 | G13: 237800 | H13: =+G13*$C13 -> 1426800 | I13: =IF(G13>$E13,"ERROR","OK") -> OK | J13: 246295 | K13: =+J13*$C13 -> 1477770 | L13: =IF(J13>$E13,"ERROR","OK") -> OK | M13: 243310 | N13: =+M13*$C13 -> 1459860 | O13: =IF(M13>$E13,"ERROR","OK") -> OK | P13: 150000 | Q13: =+P13*$C13 -> 900000 | R13: =IF(P13>$E13,"ERROR","OK") -> OK | S13: 160000 | T13: =+S13*$C13 -> 960000 | U13: =IF(S13>$E13,"ERROR","OK") -> OK | V13: 236936 | W13: =+V13*$C13 -> 1421616 | X13: =IF(V13>$E13,"ERROR","OK") -> OK | Y13: 113519 | Z13: =+Y13*$C13 -> 681114 | AA13: =IF(Y13>$E13,"ERROR","OK") -> OK | AB13: 245051 | AC13: =+AB13*$C13 -> 1470306 | AD13: =IF(AB13>$E13,"ERROR","OK") -> OK | AE13: 228880 | AF13: =+AE13*$C13 -> 1373280 | AG13: =IF(AE13>$E13,"ERROR","OK") -> OK | AH13: 243807 | AI13: =+AH13*$C13 -> 1462842 | AJ13: =IF(AH13>$E13,"ERROR","OK") -> OK | AK13: 248783 | AL13: =+AK13*$C13 -> 1492698 | AM13: =IF(AK13>$E13,"ERROR","OK") -> OK | AN13: 186587 | AO13: =+AN13*$C13 -> 1119522 | AP13: =IF(AN13>$E13,"ERROR","OK") -> OK | AQ13: 228880 | AR13: =+AQ13*$C13 -> 1373280 | AS13: =IF(AQ13>$E13,"ERROR","OK") -> OK | AT13: 241320 | AU13: =+AT13*$C13 -> 1447920 | AV13: =IF(AT13>$E13,"ERROR","OK") -> OK | AW13: 244130 | AX13: =+AW13*$C13 -> 1464780 | AY13: =IF(AW13>$E13,"ERROR","OK") -> OK | AZ13: 190000 | BA13: =+AZ13*$C13 -> 1140000 | BB13: =IF(AZ13>$E13,"ERROR","OK") -> OK | BC13: 210000 | BD13: =+BC13*$C13 -> 1260000 | BE13: =IF(BC13>$E13,"ERROR","OK") -> OK
A14: 9 | B14: Barranquilla_24000_BTU | C14: 8 | D14: UN | E14: 271168 | F14: =+C14*E14 -> 2169344 | G14: 259200 | H14: =+G14*$C14 -> 2073600 | I14: =IF(G14>$E14,"ERROR","OK") -> OK | J14: 268456 | K14: =+J14*$C14 -> 2147648 | L14: =IF(J14>$E14,"ERROR","OK") -> OK | M14: 265202 | N14: =+M14*$C14 -> 2121616 | O14: =IF(M14>$E14,"ERROR","OK") -> OK | P14: 150000 | Q14: =+P14*$C14 -> 1200000 | R14: =IF(P14>$E14,"ERROR","OK") -> OK | S14: 160000 | T14: =+S14*$C14 -> 1280000 | U14: =IF(S14>$E14,"ERROR","OK") -> OK | V14: 258255 | W14: =+V14*$C14 -> 2066040 | X14: =IF(V14>$E14,"ERROR","OK") -> OK | Y14: 113519 | Z14: =+Y14*$C14 -> 908152 | AA14: =IF(Y14>$E14,"ERROR","OK") -> OK | AB14: 267100 | AC14: =+AB14*$C14 -> 2136800 | AD14: =IF(AB14>$E14,"ERROR","OK") -> OK | AE14: 249475 | AF14: =+AE14*$C14 -> 1995800 | AG14: =IF(AE14>$E14,"ERROR","OK") -> OK | AH14: 265745 | AI14: =+AH14*$C14 -> 2125960 | AJ14: =IF(AH14>$E14,"ERROR","OK") -> OK | AK14: 271168 | AL14: =+AK14*$C14 -> 2169344 | AM14: =IF(AK14>$E14,"ERROR","OK") -> OK | AN14: 203376 | AO14: =+AN14*$C14 -> 1627008 | AP14: =IF(AN14>$E14,"ERROR","OK") -> OK | AQ14: 249474 | AR14: =+AQ14*$C14 -> 1995792 | AS14: =IF(AQ14>$E14,"ERROR","OK") -> OK | AT14: 263033 | AU14: =+AT14*$C14 -> 2104264 | AV14: =IF(AT14>$E14,"ERROR","OK") -> OK | AW14: 266097 | AX14: =+AW14*$C14 -> 2128776 | AY14: =IF(AW14>$E14,"ERROR","OK") -> OK | AZ14: 200000 | BA14: =+AZ14*$C14 -> 1600000 | BB14: =IF(AZ14>$E14,"ERROR","OK") -> OK | BC14: 220000 | BD14: =+BC14*$C14 -> 1760000 | BE14: =IF(BC14>$E14,"ERROR","OK") -> OK
A15: 10 | B15: Santa Marta_12000_BTU | C15: 14 | D15: UN | E15: 230755 | F15: =+C15*E15 -> 3230570 | G15: 220600 | H15: =+G15*$C15 -> 3088400 | I15: =IF(G15>$E15,"ERROR","OK") -> OK | J15: 228447 | K15: =+J15*$C15 -> 3198258 | L15: =IF(J15>$E15,"ERROR","OK") -> OK | M15: 225678 | N15: =+M15*$C15 -> 3159492 | O15: =IF(M15>$E15,"ERROR","OK") -> OK | P15: 150000 | Q15: =+P15*$C15 -> 2100000 | R15: =IF(P15>$E15,"ERROR","OK") -> OK | S15: 160000 | T15: =+S15*$C15 -> 2240000 | U15: =IF(S15>$E15,"ERROR","OK") -> OK | V15: 219767 | W15: =+V15*$C15 -> 3076738 | X15: =IF(V15>$E15,"ERROR","OK") -> OK | Y15: 113519 | Z15: =+Y15*$C15 -> 1589266 | AA15: =IF(Y15>$E15,"ERROR","OK") -> OK | AB15: 227294 | AC15: =+AB15*$C15 -> 3182116 | AD15: =IF(AB15>$E15,"ERROR","OK") -> OK | AE15: 212295 | AF15: =+AE15*$C15 -> 2972130 | AG15: =IF(AE15>$E15,"ERROR","OK") -> OK | AH15: 226140 | AI15: =+AH15*$C15 -> 3165960 | AJ15: =IF(AH15>$E15,"ERROR","OK") -> OK | AK15: 230755 | AL15: =+AK15*$C15 -> 3230570 | AM15: =IF(AK15>$E15,"ERROR","OK") -> OK | AN15: 173066 | AO15: =+AN15*$C15 -> 2422924 | AP15: =IF(AN15>$E15,"ERROR","OK") -> OK | AQ15: 212294 | AR15: =+AQ15*$C15 -> 2972116 | AS15: =IF(AQ15>$E15,"ERROR","OK") -> OK | AT15: 223832 | AU15: =+AT15*$C15 -> 3133648 | AV15: =IF(AT15>$E15,"ERROR","OK") -> OK | AW15: 226439 | AX15: =+AW15*$C15 -> 3170146 | AY15: =IF(AW15>$E15,"ERROR","OK") -> OK | AZ15: 190000 | BA15: =+AZ15*$C15 -> 2660000 | BB15: =IF(AZ15>$E15,"ERROR","OK") -> OK | BC15: 210000 | BD15: =+BC15*$C15 -> 2940000 | BE15: =IF(BC15>$E15,"ERROR","OK") -> OK
A16: 11 | B16: Santa Marta_18000_BTU | C16: 6 | D16: UN | E16: 260520 | F16: =+C16*E16 -> 1563120 | G16: 249000 | H16: =+G16*$C16 -> 1494000 | I16: =IF(G16>$E16,"ERROR","OK") -> OK | J16: 257915 | K16: =+J16*$C16 -> 1547490 | L16: =IF(J16>$E16,"ERROR","OK") -> OK | M16: 254789 | N16: =+M16*$C16 -> 1528734 | O16: =IF(M16>$E16,"ERROR","OK") -> OK | P16: 150000 | Q16: =+P16*$C16 -> 900000 | R16: =IF(P16>$E16,"ERROR","OK") -> OK | S16: 160000 | T16: =+S16*$C16 -> 960000 | U16: =IF(S16>$E16,"ERROR","OK") -> OK | V16: 248114 | W16: =+V16*$C16 -> 1488684 | X16: =IF(V16>$E16,"ERROR","OK") -> OK | Y16: 113519 | Z16: =+Y16*$C16 -> 681114 | AA16: =IF(Y16>$E16,"ERROR","OK") -> OK | AB16: 256612 | AC16: =+AB16*$C16 -> 1539672 | AD16: =IF(AB16>$E16,"ERROR","OK") -> OK | AE16: 239678 | AF16: =+AE16*$C16 -> 1438068 | AG16: =IF(AE16>$E16,"ERROR","OK") -> OK | AH16: 255310 | AI16: =+AH16*$C16 -> 1531860 | AJ16: =IF(AH16>$E16,"ERROR","OK") -> OK | AK16: 260520 | AL16: =+AK16*$C16 -> 1563120 | AM16: =IF(AK16>$E16,"ERROR","OK") -> OK | AN16: 195390 | AO16: =+AN16*$C16 -> 1172340 | AP16: =IF(AN16>$E16,"ERROR","OK") -> OK | AQ16: 239678 | AR16: =+AQ16*$C16 -> 1438068 | AS16: =IF(AQ16>$E16,"ERROR","OK") -> OK | AT16: 252704 | AU16: =+AT16*$C16 -> 1516224 | AV16: =IF(AT16>$E16,"ERROR","OK") -> OK | AW16: 255648 | AX16: =+AW16*$C16 -> 1533888 | AY16: =IF(AW16>$E16,"ERROR","OK") -> OK | AZ16: 210000 | BA16: =+AZ16*$C16 -> 1260000 | BB16: =IF(AZ16>$E16,"ERROR","OK") -> OK | BC16: 230000 | BD16: =+BC16*$C16 -> 1380000 | BE16: =IF(BC16>$E16,"ERROR","OK") -> OK
A17: 12 | B17: Santa Marta_24000_BTU | C17: 2 | D17: UN | E17: 269215 | F17: =+C17*E17 -> 538430 | G17: 257300 | H17: =+G17*$C17 -> 514600 | I17: =IF(G17>$E17,"ERROR","OK") -> OK | J17: 266523 | K17: =+J17*$C17 -> 533046 | L17: =IF(J17>$E17,"ERROR","OK") -> OK | M17: 263292 | N17: =+M17*$C17 -> 526584 | O17: =IF(M17>$E17,"ERROR","OK") -> OK | P17: 150000 | Q17: =+P17*$C17 -> 300000 | R17: =IF(P17>$E17,"ERROR","OK") -> OK | S17: 160000 | T17: =+S17*$C17 -> 320000 | U17: =IF(S17>$E17,"ERROR","OK") -> OK | V17: 235744 | W17: =+V17*$C17 -> 471488 | X17: =IF(V17>$E17,"ERROR","OK") -> OK | Y17: 113519 | Z17: =+Y17*$C17 -> 227038 | AA17: =IF(Y17>$E17,"ERROR","OK") -> OK | AB17: 265177 | AC17: =+AB17*$C17 -> 530354 | AD17: =IF(AB17>$E17,"ERROR","OK") -> OK | AE17: 247678 | AF17: =+AE17*$C17 -> 495356 | AG17: =IF(AE17>$E17,"ERROR","OK") -> OK | AH17: 263831 | AI17: =+AH17*$C17 -> 527662 | AJ17: =IF(AH17>$E17,"ERROR","OK") -> OK | AK17: 269215 | AL17: =+AK17*$C17 -> 538430 | AM17: =IF(AK17>$E17,"ERROR","OK") -> OK | AN17: 201911 | AO17: =+AN17*$C17 -> 403822 | AP17: =IF(AN17>$E17,"ERROR","OK") -> OK | AQ17: 247677 | AR17: =+AQ17*$C17 -> 495354 | AS17: =IF(AQ17>$E17,"ERROR","OK") -> OK | AT17: 261139 | AU17: =+AT17*$C17 -> 522278 | AV17: =IF(AT17>$E17,"ERROR","OK") -> OK | AW17: 264180 | AX17: =+AW17*$C17 -> 528360 | AY17: =IF(AW17>$E17,"ERROR","OK") -> OK | AZ17: 210000 | BA17: =+AZ17*$C17 -> 420000 | BB17: =IF(AZ17>$E17,"ERROR","OK") -> OK | BC17: 230000 | BD17: =+BC17*$C17 -> 460000 | BE17: =IF(BC17>$E17,"ERROR","OK") -> OK
A18: 13 | B18: Santa Marta_36000_BTU | C18: 2 | D18: UN | E18: 287813 | F18: =+C18*E18 -> 575626 | G18: 275100 | H18: =+G18*$C18 -> 550200 | I18: =IF(G18>$E18,"ERROR","OK") -> OK | J18: 284935 | K18: =+J18*$C18 -> 569870 | L18: =IF(J18>$E18,"ERROR","OK") -> OK | M18: 281481 | N18: =+M18*$C18 -> 562962 | O18: =IF(M18>$E18,"ERROR","OK") -> OK | P18: 150000 | Q18: =+P18*$C18 -> 300000 | R18: =IF(P18>$E18,"ERROR","OK") -> OK | S18: 190000 | T18: =+S18*$C18 -> 380000 | U18: =IF(S18>$E18,"ERROR","OK") -> OK | V18: 251593 | W18: =+V18*$C18 -> 503186 | X18: =IF(V18>$E18,"ERROR","OK") -> OK | Y18: 113519 | Z18: =+Y18*$C18 -> 227038 | AA18: =IF(Y18>$E18,"ERROR","OK") -> OK | AB18: 283496 | AC18: =+AB18*$C18 -> 566992 | AD18: =IF(AB18>$E18,"ERROR","OK") -> OK | AE18: 264788 | AF18: =+AE18*$C18 -> 529576 | AG18: =IF(AE18>$E18,"ERROR","OK") -> OK | AH18: 282057 | AI18: =+AH18*$C18 -> 564114 | AJ18: =IF(AH18>$E18,"ERROR","OK") -> OK | AK18: 287813 | AL18: =+AK18*$C18 -> 575626 | AM18: =IF(AK18>$E18,"ERROR","OK") -> OK | AN18: 215860 | AO18: =+AN18*$C18 -> 431720 | AP18: =IF(AN18>$E18,"ERROR","OK") -> OK | AQ18: 264787 | AR18: =+AQ18*$C18 -> 529574 | AS18: =IF(AQ18>$E18,"ERROR","OK") -> OK | AT18: 279179 | AU18: =+AT18*$C18 -> 558358 | AV18: =IF(AT18>$E18,"ERROR","OK") -> OK | AW18: 282430 | AX18: =+AW18*$C18 -> 564860 | AY18: =IF(AW18>$E18,"ERROR","OK") -> OK | AZ18: 210000 | BA18: =+AZ18*$C18 -> 420000 | BB18: =IF(AZ18>$E18,"ERROR","OK") -> OK | BC18: 230000 | BD18: =+BC18*$C18 -> 460000 | BE18: =IF(BC18>$E18,"ERROR","OK") -> OK
A19: 14 | B19: Barrancabermeja_12000_BTU | C19: 18 | D19: UN | E19: 247531 | F19: =+C19*E19 -> 4455558 | G19: 236600 | H19: =+G19*$C19 -> 4258800 | I19: =IF(G19>$E19,"ERROR","OK") -> OK | J19: 245056 | K19: =+J19*$C19 -> 4411008 | L19: =IF(J19>$E19,"ERROR","OK") -> OK | M19: 242085 | N19: =+M19*$C19 -> 4357530 | O19: =IF(M19>$E19,"ERROR","OK") -> OK | P19: 150000 | Q19: =+P19*$C19 -> 2700000 | R19: =IF(P19>$E19,"ERROR","OK") -> OK | S19: 160000 | T19: =+S19*$C19 -> 2880000 | U19: =IF(S19>$E19,"ERROR","OK") -> OK | V19: 235744 | W19: =+V19*$C19 -> 4243392 | X19: =IF(V19>$E19,"ERROR","OK") -> OK | Y19: 170279 | Z19: =+Y19*$C19 -> 3065022 | AA19: =IF(Y19>$E19,"ERROR","OK") -> OK | AB19: 243818 | AC19: =+AB19*$C19 -> 4388724 | AD19: =IF(AB19>$E19,"ERROR","OK") -> OK | AE19: 227729 | AF19: =+AE19*$C19 -> 4099122 | AG19: =IF(AE19>$E19,"ERROR","OK") -> OK | AH19: 242580 | AI19: =+AH19*$C19 -> 4366440 | AJ19: =IF(AH19>$E19,"ERROR","OK") -> OK | AK19: 247531 | AL19: =+AK19*$C19 -> 4455558 | AM19: =IF(AK19>$E19,"ERROR","OK") -> OK | AN19: 242580 | AO19: =+AN19*$C19 -> 4366440 | AP19: =IF(AN19>$E19,"ERROR","OK") -> OK | AQ19: 227728 | AR19: =+AQ19*$C19 -> 4099104 | AS19: =IF(AQ19>$E19,"ERROR","OK") -> OK | AT19: 240105 | AU19: =+AT19*$C19 -> 4321890 | AV19: =IF(AT19>$E19,"ERROR","OK") -> OK | AW19: 242902 | AX19: =+AW19*$C19 -> 4372236 | AY19: =IF(AW19>$E19,"ERROR","OK") -> OK | AZ19: 190000 | BA19: =+AZ19*$C19 -> 3420000 | BB19: =IF(AZ19>$E19,"ERROR","OK") -> OK | BC19: 210000 | BD19: =+BC19*$C19 -> 3780000 | BE19: =IF(BC19>$E19,"ERROR","OK") -> OK
A20: 15 | B20: Barrancabermeja_24000_BTU | C20: 8 | D20: UN | E20: 264173 | F20: =+C20*E20 -> 2113384 | G20: 252500 | H20: =+G20*$C20 -> 2020000 | I20: =IF(G20>$E20,"ERROR","OK") -> OK | J20: 261531 | K20: =+J20*$C20 -> 2092248 | L20: =IF(J20>$E20,"ERROR","OK") -> OK | M20: 258361 | N20: =+M20*$C20 -> 2066888 | O20: =IF(M20>$E20,"ERROR","OK") -> OK | P20: 150000 | Q20: =+P20*$C20 -> 1200000 | R20: =IF(P20>$E20,"ERROR","OK") -> OK | S20: 160000 | T20: =+S20*$C20 -> 1280000 | U20: =IF(S20>$E20,"ERROR","OK") -> OK | V20: 251593 | W20: =+V20*$C20 -> 2012744 | X20: =IF(V20>$E20,"ERROR","OK") -> OK | Y20: 170279 | Z20: =+Y20*$C20 -> 1362232 | AA20: =IF(Y20>$E20,"ERROR","OK") -> OK | AB20: 260210 | AC20: =+AB20*$C20 -> 2081680 | AD20: =IF(AB20>$E20,"ERROR","OK") -> OK | AE20: 243039 | AF20: =+AE20*$C20 -> 1944312 | AG20: =IF(AE20>$E20,"ERROR","OK") -> OK | AH20: 258890 | AI20: =+AH20*$C20 -> 2071120 | AJ20: =IF(AH20>$E20,"ERROR","OK") -> OK | AK20: 264173 | AL20: =+AK20*$C20 -> 2113384 | AM20: =IF(AK20>$E20,"ERROR","OK") -> OK | AN20: 258890 | AO20: =+AN20*$C20 -> 2071120 | AP20: =IF(AN20>$E20,"ERROR","OK") -> OK | AQ20: 243039 | AR20: =+AQ20*$C20 -> 1944312 | AS20: =IF(AQ20>$E20,"ERROR","OK") -> OK | AT20: 256248 | AU20: =+AT20*$C20 -> 2049984 | AV20: =IF(AT20>$E20,"ERROR","OK") -> OK | AW20: 259232 | AX20: =+AW20*$C20 -> 2073856 | AY20: =IF(AW20>$E20,"ERROR","OK") -> OK | AZ20: 210000 | BA20: =+AZ20*$C20 -> 1680000 | BB20: =IF(AZ20>$E20,"ERROR","OK") -> OK | BC20: 230000 | BD20: =+BC20*$C20 -> 1840000 | BE20: =IF(BC20>$E20,"ERROR","OK") -> OK
... A36: 31 | B36: Apartadó_36000_BTU | C36: 2 | D36: UN | E36: 335581 | F36: =+C36*E36 -> 671162 | G36: 320800 | H36: =+G36*$C36 -> 641600 | I36: =IF(G36>$E36,"ERROR","OK") -> OK | J36: 332225 | K36: =+J36*$C36 -> 664450 | L36: =IF(J36>$E36,"ERROR","OK") -> OK | M36: 328198 | N36: =+M36*$C36 -> 656396 | O36: =IF(M36>$E36,"ERROR","OK") -> OK | P36: 150000 | Q36: =+P36*$C36 -> 300000 | R36: =IF(P36>$E36,"ERROR","OK") -> OK | S36: 200000 | T36: =+S36*$C36 -> 400000 | U36: =IF(S36>$E36,"ERROR","OK") -> OK | V36: 319601 | W36: =+V36*$C36 -> 639202 | X36: =IF(V36>$E36,"ERROR","OK") -> OK | Y36: 141898 | Z36: =+Y36*$C36 -> 283796 | AA36: =IF(Y36>$E36,"ERROR","OK") -> OK | AB36: 330547 | AC36: =+AB36*$C36 -> 661094 | AD36: =IF(AB36>$E36,"ERROR","OK") -> OK | AE36: 308735 | AF36: =+AE36*$C36 -> 617470 | AG36: =IF(AE36>$E36,"ERROR","OK") -> OK | AH36: 328869 | AI36: =+AH36*$C36 -> 657738 | AJ36: =IF(AH36>$E36,"ERROR","OK") -> OK | AK36: 335581 | AL36: =+AK36*$C36 -> 671162 | AM36: =IF(AK36>$E36,"ERROR","OK") -> OK | AN36: 318802 | AO36: =+AN36*$C36 -> 637604 | AP36: =IF(AN36>$E36,"ERROR","OK") -> OK | AQ36: 308734 | AR36: =+AQ36*$C36 -> 617468 | AS36: =IF(AQ36>$E36,"ERROR","OK") -> OK | AT36: 325514 | AU36: =+AT36*$C36 -> 651028 | AV36: =IF(AT36>$E36,"ERROR","OK") -> OK | AW36: 329305 | AX36: =+AW36*$C36 -> 658610 | AY36: =IF(AW36>$E36,"ERROR","OK") -> OK | AZ36: 280000 | BA36: =+AZ36*$C36 -> 560000 | BB36: =IF(AZ36>$E36,"ERROR","OK") -> OK | BC36: 300000 | BD36: =+BC36*$C36 -> 600000 | BE36: =IF(BC36>$E36,"ERROR","OK") -> OK
B37: VENTILADORES TIPO PEDESTAL ADQUISICIÓN, INSTALACION Y PUESTA EN FUNCIONAMIENTO DE ACUERDO A LAS ESPECIFICACIONES TECNICAS DESCRITAS EN ANEXO TECNICO (IVA INCLUIDO) | F37: =+C37*E37 -> 0 | H37: =+G37*$C37 -> 0 | I37: =IF(G37>$E37,"ERROR","OK") -> OK | K37: =+J37*$C37 -> 0 | L37: =IF(J37>$E37,"ERROR","OK") -> OK | N37: =+M37*$C37 -> 0 | O37: =IF(M37>$E37,"ERROR","OK") -> OK | Q37: =+P37*$C37 -> 0 | R37: =IF(P37>$E37,"ERROR","OK") -> OK | T37: =+S37*$C37 -> 0 | U37: =IF(S37>$E37,"ERROR","OK") -> OK | W37: =+V37*$C37 -> 0 | X37: =IF(V37>$E37,"ERROR","OK") -> OK | Z37: =+Y37*$C37 -> 0 | AA37: =IF(Y37>$E37,"ERROR","OK") -> OK | AC37: =+AB37*$C37 -> 0 | AD37: =IF(AB37>$E37,"ERROR","OK") -> OK | AF37: =+AE37*$C37 -> 0 | AG37: =IF(AE37>$E37,"ERROR","OK") -> OK | AI37: =+AH37*$C37 -> 0 | AJ37: =IF(AH37>$E37,"ERROR","OK") -> OK | AL37: =+AK37*$C37 -> 0 | AM37: =IF(AK37>$E37,"ERROR","OK") -> OK | AO37: =+AN37*$C37 -> 0 | AP37: =IF(AN37>$E37,"ERROR","OK") -> OK | AR37: =+AQ37*$C37 -> 0 | AS37: =IF(AQ37>$E37,"ERROR","OK") -> OK | AU37: =+AT37*$C37 -> 0 | AV37: =IF(AT37>$E37,"ERROR","OK") -> OK | AX37: =+AW37*$C37 -> 0 | AY37: =IF(AW37>$E37,"ERROR","OK") -> OK | BA37: =+AZ37*$C37 -> 0 | BB37: =IF(AZ37>$E37,"ERROR","OK") -> OK | BD37: =+BC37*$C37 -> 0 | BE37: =IF(BC37>$E37,"ERROR","OK") -> OK
A38: 32 | B38: Apartadó | C38: 1 | D38: UN | E38: 575147 | F38: =+C38*E38 -> 575147 | G38: 549800 | H38: =+G38*$C38 -> 549800 | I38: =IF(G38>$E38,"ERROR","OK") -> OK | J38: 569396 | K38: =+J38*$C38 -> 569396 | L38: =IF(J38>$E38,"ERROR","OK") -> OK | M38: 562494 | N38: =+M38*$C38 -> 562494 | O38: =IF(M38>$E38,"ERROR","OK") -> OK | P38: 480000 | Q38: =+P38*$C38 -> 480000 | R38: =IF(P38>$E38,"ERROR","OK") -> OK | S38: 415000 | T38: =+S38*$C38 -> 415000 | U38: =IF(S38>$E38,"ERROR","OK") -> OK | V38: 547759 | W38: =+V38*$C38 -> 547759 | X38: =IF(V38>$E38,"ERROR","OK") -> OK | Y38: 472311 | Z38: =+Y38*$C38 -> 472311 | AA38: =IF(Y38>$E38,"ERROR","OK") -> OK | AB38: 566520 | AC38: =+AB38*$C38 -> 566520 | AD38: =IF(AB38>$E38,"ERROR","OK") -> OK | AE38: 540638 | AF38: =+AE38*$C38 -> 540638 | AG38: =IF(AE38>$E38,"ERROR","OK") -> OK | AH38: 563644 | AI38: =+AH38*$C38 -> 563644 | AJ38: =IF(AH38>$E38,"ERROR","OK") -> OK | AK38: 575147 | AL38: =+AK38*$C38 -> 575147 | AM38: =IF(AK38>$E38,"ERROR","OK") -> OK | AN38: 546390 | AO38: =+AN38*$C38 -> 546390 | AP38: =IF(AN38>$E38,"ERROR","OK") -> OK | AQ38: 529135 | AR38: =+AQ38*$C38 -> 529135 | AS38: =IF(AQ38>$E38,"ERROR","OK") -> OK | AT38: 557893 | AU38: =+AT38*$C38 -> 557893 | AV38: =IF(AT38>$E38,"ERROR","OK") -> OK | AW38: 564391 | AX38: =+AW38*$C38 -> 564391 | AY38: =IF(AW38>$E38,"ERROR","OK") -> OK | AZ38: 430000 | BA38: =+AZ38*$C38 -> 430000 | BB38: =IF(AZ38>$E38,"ERROR","OK") -> OK | BC38: 450000 | BD38: =+BC38*$C38 -> 450000 | BE38: =IF(BC38>$E38,"ERROR","OK") -> OK
A39: 33 | B39: Barrancabermeja | C39: 1 | D39: UN | E39: 598947 | F39: =+C39*E39 -> 598947 | G39: 572500 | H39: =+G39*$C39 -> 572500 | I39: =IF(G39>$E39,"ERROR","OK") -> OK | J39: 592958 | K39: =+J39*$C39 -> 592958 | L39: =IF(J39>$E39,"ERROR","OK") -> OK | M39: 585770 | N39: =+M39*$C39 -> 585770 | O39: =IF(M39>$E39,"ERROR","OK") -> OK | P39: 480000 | Q39: =+P39*$C39 -> 480000 | R39: =IF(P39>$E39,"ERROR","OK") -> OK | S39: 430000 | T39: =+S39*$C39 -> 430000 | U39: =IF(S39>$E39,"ERROR","OK") -> OK | V39: 570426 | W39: =+V39*$C39 -> 570426 | X39: =IF(V39>$E39,"ERROR","OK") -> OK | Y39: 472311 | Z39: =+Y39*$C39 -> 472311 | AA39: =IF(Y39>$E39,"ERROR","OK") -> OK | AB39: 589963 | AC39: =+AB39*$C39 -> 589963 | AD39: =IF(AB39>$E39,"ERROR","OK") -> OK | AE39: 563010 | AF39: =+AE39*$C39 -> 563010 | AG39: =IF(AE39>$E39,"ERROR","OK") -> OK | AH39: 586968 | AI39: =+AH39*$C39 -> 586968 | AJ39: =IF(AH39>$E39,"ERROR","OK") -> OK | AK39: 598947 | AL39: =+AK39*$C39 -> 598947 | AM39: =IF(AK39>$E39,"ERROR","OK") -> OK | AN39: 569000 | AO39: =+AN39*$C39 -> 569000 | AP39: =IF(AN39>$E39,"ERROR","OK") -> OK | AQ39: 551031 | AR39: =+AQ39*$C39 -> 551031 | AS39: =IF(AQ39>$E39,"ERROR","OK") -> OK | AT39: 580979 | AU39: =+AT39*$C39 -> 580979 | AV39: =IF(AT39>$E39,"ERROR","OK") -> OK | AW39: 587746 | AX39: =+AW39*$C39 -> 587746 | AY39: =IF(AW39>$E39,"ERROR","OK") -> OK | AZ39: 440000 | BA39: =+AZ39*$C39 -> 440000 | BB39: =IF(AZ39>$E39,"ERROR","OK") -> OK | BC39: 450000 | BD39: =+BC39*$C39 -> 450000 | BE39: =IF(BC39>$E39,"ERROR","OK") -> OK
A40: 37 | B40: Cartagena | C40: 1 | D40: UN | E40: 552136 | F40: =+C40*E40 -> 552136 | G40: 527800 | H40: =+G40*$C40 -> 527800 | I40: =IF(G40>$E40,"ERROR","OK") -> OK | J40: 546615 | K40: =+J40*$C40 -> 546615 | L40: =IF(J40>$E40,"ERROR","OK") -> OK | M40: 539989 | N40: =+M40*$C40 -> 539989 | O40: =IF(M40>$E40,"ERROR","OK") -> OK | P40: 480000 | Q40: =+P40*$C40 -> 480000 | R40: =IF(P40>$E40,"ERROR","OK") -> OK | S40: 424000 | T40: =+S40*$C40 -> 424000 | U40: =IF(S40>$E40,"ERROR","OK") -> OK | V40: 525844 | W40: =+V40*$C40 -> 525844 | X40: =IF(V40>$E40,"ERROR","OK") -> OK | Y40: 472311 | Z40: =+Y40*$C40 -> 472311 | AA40: =IF(Y40>$E40,"ERROR","OK") -> OK | AB40: 543854 | AC40: =+AB40*$C40 -> 543854 | AD40: =IF(AB40>$E40,"ERROR","OK") -> OK | AE40: 519008 | AF40: =+AE40*$C40 -> 519008 | AG40: =IF(AE40>$E40,"ERROR","OK") -> OK | AH40: 541093 | AI40: =+AH40*$C40 -> 541093 | AJ40: =IF(AH40>$E40,"ERROR","OK") -> OK | AK40: 552136 | AL40: =+AK40*$C40 -> 552136 | AM40: =IF(AK40>$E40,"ERROR","OK") -> OK | AN40: 524529 | AO40: =+AN40*$C40 -> 524529 | AP40: =IF(AN40>$E40,"ERROR","OK") -> OK | AQ40: 507965 | AR40: =+AQ40*$C40 -> 507965 | AS40: =IF(AQ40>$E40,"ERROR","OK") -> OK | AT40: 535572 | AU40: =+AT40*$C40 -> 535572 | AV40: =IF(AT40>$E40,"ERROR","OK") -> OK | AW40: 541811.13 | AX40: =+AW40*$C40 -> 541811.13 | AY40: =IF(AW40>$E40,"ERROR","OK") -> OK | AZ40: 430000 | BA40: =+AZ40*$C40 -> 430000 | BB40: =IF(AZ40>$E40,"ERROR","OK") -> OK | BC40: 450000 | BD40: =+BC40*$C40 -> 450000 | BE40: =IF(BC40>$E40,"ERROR","OK") -> OK
B41: REPUESTOS PARA MANTENIMIENTO CORRECTIVO DE LOS AIRES ACONDICIONADOS EXISTENTES EN LAS OFICINAS DE LA ARN, INCLUIDA MANO DE OBRA, SEGÚN LAS ESPECIFICACIONES TECNICAS DESCRITAS EN ANEXO TECNICO ( IVA INCLUIDO) | F41: =+C41*E41 -> 0 | H41: =+G41*$C41 -> 0 | I41: =IF(G41>$E41,"ERROR","OK") -> OK | K41: =+J41*$C41 -> 0 | L41: =IF(J41>$E41,"ERROR","OK") -> OK | N41: =+M41*$C41 -> 0 | O41: =IF(M41>$E41,"ERROR","OK") -> OK | Q41: =+P41*$C41 -> 0 | R41: =IF(P41>$E41,"ERROR","OK") -> OK | T41: =+S41*$C41 -> 0 | U41: =IF(S41>$E41,"ERROR","OK") -> OK | W41: =+V41*$C41 -> 0 | X41: =IF(V41>$E41,"ERROR","OK") -> OK | Z41: =+Y41*$C41 -> 0 | AA41: =IF(Y41>$E41,"ERROR","OK") -> OK | AC41: =+AB41*$C41 -> 0 | AD41: =IF(AB41>$E41,"ERROR","OK") -> OK | AF41: =+AE41*$C41 -> 0 | AG41: =IF(AE41>$E41,"ERROR","OK") -> OK | AI41: =+AH41*$C41 -> 0 | AJ41: =IF(AH41>$E41,"ERROR","OK") -> OK | AL41: =+AK41*$C41 -> 0 | AM41: =IF(AK41>$E41,"ERROR","OK") -> OK | AO41: =+AN41*$C41 -> 0 | AP41: =IF(AN41>$E41,"ERROR","OK") -> OK | AR41: =+AQ41*$C41 -> 0 | AS41: =IF(AQ41>$E41,"ERROR","OK") -> OK | AU41: =+AT41*$C41 -> 0 | AV41: =IF(AT41>$E41,"ERROR","OK") -> OK | AX41: =+AW41*$C41 -> 0 | AY41: =IF(AW41>$E41,"ERROR","OK") -> OK | BA41: =+AZ41*$C41 -> 0 | BB41: =IF(AZ41>$E41,"ERROR","OK") -> OK | BD41: =+BC41*$C41 -> 0 | BE41: =IF(BC41>$E41,"ERROR","OK") -> OK
A42: 38 | B42: Serpentín | C42: 1 | D42: UN | E42: 773500 | F42: =+C42*E42 -> 773500 | G42: 773500 | H42: =+G42*$C42 -> 773500 | I42: =IF(G42>$E42,"ERROR","OK") -> OK | J42: 765765 | K42: =+J42*$C42 -> 765765 | L42: =IF(J42>$E42,"ERROR","OK") -> OK | M42: 756483 | N42: =+M42*$C42 -> 756483 | O42: =IF(M42>$E42,"ERROR","OK") -> OK | P42: 650000 | Q42: =+P42*$C42 -> 650000 | R42: =IF(P42>$E42,"ERROR","OK") -> OK | S42: 760000 | T42: =+S42*$C42 -> 760000 | U42: =IF(S42>$E42,"ERROR","OK") -> OK | V42: 716204 | W42: =+V42*$C42 -> 716204 | X42: =IF(V42>$E42,"ERROR","OK") -> OK | Y42: 734888 | Z42: =+Y42*$C42 -> 734888 | AA42: =IF(Y42>$E42,"ERROR","OK") -> OK | AB42: 761898 | AC42: =+AB42*$C42 -> 761898 | AD42: =IF(AB42>$E42,"ERROR","OK") -> OK | AE42: 742560 | AF42: =+AE42*$C42 -> 742560 | AG42: =IF(AE42>$E42,"ERROR","OK") -> OK | AH42: 758030 | AI42: =+AH42*$C42 -> 758030 | AJ42: =IF(AH42>$E42,"ERROR","OK") -> OK | AK42: 773500 | AL42: =+AK42*$C42 -> 773500 | AM42: =IF(AK42>$E42,"ERROR","OK") -> OK | AN42: 758030 | AO42: =+AN42*$C42 -> 758030 | AP42: =IF(AN42>$E42,"ERROR","OK") -> OK | AQ42: 711620 | AR42: =+AQ42*$C42 -> 711620 | AS42: =IF(AQ42>$E42,"ERROR","OK") -> OK | AT42: 750295 | AU42: =+AT42*$C42 -> 750295 | AV42: =IF(AT42>$E42,"ERROR","OK") -> OK | AW42: 759035 | AX42: =+AW42*$C42 -> 759035 | AY42: =IF(AW42>$E42,"ERROR","OK") -> OK | AZ42: 500000 | BA42: =+AZ42*$C42 -> 500000 | BB42: =IF(AZ42>$E42,"ERROR","OK") -> OK | BC42: 600000 | BD42: =+BC42*$C42 -> 600000 | BE42: =IF(BC42>$E42,"ERROR","OK") -> OK
A43: 39 | B43: Controles remoto | C43: 1 | D43: UN | E43: 117274 | F43: =+C43*E43 -> 117274 | G43: 117200 | H43: =+G43*$C43 -> 117200 | I43: =IF(G43>$E43,"ERROR","OK") -> OK | J43: 116101 | K43: =+J43*$C43 -> 116101 | L43: =IF(J43>$E43,"ERROR","OK") -> OK | M43: 114694 | N43: =+M43*$C43 -> 114694 | O43: =IF(M43>$E43,"ERROR","OK") -> OK | P43: 90000 | Q43: =+P43*$C43 -> 90000 | R43: =IF(P43>$E43,"ERROR","OK") -> OK | S43: 110000 | T43: =+S43*$C43 -> 110000 | U43: =IF(S43>$E43,"ERROR","OK") -> OK | V43: 108587 | W43: =+V43*$C43 -> 108587 | X43: =IF(V43>$E43,"ERROR","OK") -> OK | Y43: 111384 | Z43: =+Y43*$C43 -> 111384 | AA43: =IF(Y43>$E43,"ERROR","OK") -> OK | AB43: 115515 | AC43: =+AB43*$C43 -> 115515 | AD43: =IF(AB43>$E43,"ERROR","OK") -> OK | AE43: 112583 | AF43: =+AE43*$C43 -> 112583 | AG43: =IF(AE43>$E43,"ERROR","OK") -> OK | AH43: 114929 | AI43: =+AH43*$C43 -> 114929 | AJ43: =IF(AH43>$E43,"ERROR","OK") -> OK | AK43: 117274 | AL43: =+AK43*$C43 -> 117274 | AM43: =IF(AK43>$E43,"ERROR","OK") -> OK | AN43: 114929 | AO43: =+AN43*$C43 -> 114929 | AP43: =IF(AN43>$E43,"ERROR","OK") -> OK | AQ43: 107892 | AR43: =+AQ43*$C43 -> 107892 | AS43: =IF(AQ43>$E43,"ERROR","OK") -> OK | AT43: 113756 | AU43: =+AT43*$C43 -> 113756 | AV43: =IF(AT43>$E43,"ERROR","OK") -> OK | AW43: 115080 | AX43: =+AW43*$C43 -> 115080 | AY43: =IF(AW43>$E43,"ERROR","OK") -> OK | AZ43: 110000 | BA43: =+AZ43*$C43 -> 110000 | BB43: =IF(AZ43>$E43,"ERROR","OK") -> OK | BC43: 110000 | BD43: =+BC43*$C43 -> 110000 | BE43: =IF(BC43>$E43,"ERROR","OK") -> OK
A44: 40 | B44: Material de aislamiento | C44: 1 | D44: UN | E44: 20404 | F44: =+C44*E44 -> 20404 | G44: 20400 | H44: =+G44*$C44 -> 20400 | I44: =IF(G44>$E44,"ERROR","OK") -> OK | J44: 20200 | K44: =+J44*$C44 -> 20200 | L44: =IF(J44>$E44,"ERROR","OK") -> OK | M44: 19955 | N44: =+M44*$C44 -> 19955 | O44: =IF(M44>$E44,"ERROR","OK") -> OK | P44: 16000 | Q44: =+P44*$C44 -> 16000 | R44: =IF(P44>$E44,"ERROR","OK") -> OK | S44: 20000 | T44: =+S44*$C44 -> 20000 | U44: =IF(S44>$E44,"ERROR","OK") -> OK | V44: 18893 | W44: =+V44*$C44 -> 18893 | X44: =IF(V44>$E44,"ERROR","OK") -> OK | Y44: 19397 | Z44: =+Y44*$C44 -> 19397 | AA44: =IF(Y44>$E44,"ERROR","OK") -> OK | AB44: 20098 | AC44: =+AB44*$C44 -> 20098 | AD44: =IF(AB44>$E44,"ERROR","OK") -> OK | AE44: 19588 | AF44: =+AE44*$C44 -> 19588 | AG44: =IF(AE44>$E44,"ERROR","OK") -> OK | AH44: 19996 | AI44: =+AH44*$C44 -> 19996 | AJ44: =IF(AH44>$E44,"ERROR","OK") -> OK | AK44: 20404 | AL44: =+AK44*$C44 -> 20404 | AM44: =IF(AK44>$E44,"ERROR","OK") -> OK | AN44: 19996 | AO44: =+AN44*$C44 -> 19996 | AP44: =IF(AN44>$E44,"ERROR","OK") -> OK | AQ44: 18771 | AR44: =+AQ44*$C44 -> 18771 | AS44: =IF(AQ44>$E44,"ERROR","OK") -> OK | AT44: 19792 | AU44: =+AT44*$C44 -> 19792 | AV44: =IF(AT44>$E44,"ERROR","OK") -> OK | AW44: 20022 | AX44: =+AW44*$C44 -> 20022 | AY44: =IF(AW44>$E44,"ERROR","OK") -> OK | AZ44: 18000 | BA44: =+AZ44*$C44 -> 18000 | BB44: =IF(AZ44>$E44,"ERROR","OK") -> OK | BC44: 19000 | BD44: =+BC44*$C44 -> 19000 | BE44: =IF(BC44>$E44,"ERROR","OK") -> OK
A45: 41 | B45: Válvula Inversora | C45: 1 | D45: UN | E45: 298398 | F45: =+C45*E45 -> 298398 | G45: 298300 | H45: =+G45*$C45 -> 298300 | I45: =IF(G45>$E45,"ERROR","OK") -> OK | J45: 295414 | K45: =+J45*$C45 -> 295414 | L45: =IF(J45>$E45,"ERROR","OK") -> OK | M45: 291833 | N45: =+M45*$C45 -> 291833 | O45: =IF(M45>$E45,"ERROR","OK") -> OK | P45: 250000 | Q45: =+P45*$C45 -> 250000 | R45: =IF(P45>$E45,"ERROR","OK") -> OK | S45: 290000 | T45: =+S45*$C45 -> 290000 | U45: =IF(S45>$E45,"ERROR","OK") -> OK | V45: 276294 | W45: =+V45*$C45 -> 276294 | X45: =IF(V45>$E45,"ERROR","OK") -> OK | Y45: 283220 | Z45: =+Y45*$C45 -> 283220 | AA45: =IF(Y45>$E45,"ERROR","OK") -> OK | AB45: 293922 | AC45: =+AB45*$C45 -> 293922 | AD45: =IF(AB45>$E45,"ERROR","OK") -> OK | AE45: 286462 | AF45: =+AE45*$C45 -> 286462 | AG45: =IF(AE45>$E45,"ERROR","OK") -> OK | AH45: 292430 | AI45: =+AH45*$C45 -> 292430 | AJ45: =IF(AH45>$E45,"ERROR","OK") -> OK | AK45: 298398 | AL45: =+AK45*$C45 -> 298398 | AM45: =IF(AK45>$E45,"ERROR","OK") -> OK | AN45: 292430 | AO45: =+AN45*$C45 -> 292430 | AP45: =IF(AN45>$E45,"ERROR","OK") -> OK | AQ45: 274526 | AR45: =+AQ45*$C45 -> 274526 | AS45: =IF(AQ45>$E45,"ERROR","OK") -> OK | AT45: 289446 | AU45: =+AT45*$C45 -> 289446 | AV45: =IF(AT45>$E45,"ERROR","OK") -> OK | AW45: 292817 | AX45: =+AW45*$C45 -> 292817 | AY45: =IF(AW45>$E45,"ERROR","OK") -> OK | AZ45: 150000 | BA45: =+AZ45*$C45 -> 150000 | BB45: =IF(AZ45>$E45,"ERROR","OK") -> OK | BC45: 200000 | BD45: =+BC45*$C45 -> 200000 | BE45: =IF(BC45>$E45,"ERROR","OK") -> OK
A46: 42 | B46: Filtros de aire | C46: 1 | D46: UN | E46: 116715 | F46: =+C46*E46 -> 116715 | G46: 116700 | H46: =+G46*$C46 -> 116700 | I46: =IF(G46>$E46,"ERROR","OK") -> OK | J46: 115548 | K46: =+J46*$C46 -> 115548 | L46: =IF(J46>$E46,"ERROR","OK") -> OK | M46: 114147 | N46: =+M46*$C46 -> 114147 | O46: =IF(M46>$E46,"ERROR","OK") -> OK | P46: 92000 | Q46: =+P46*$C46 -> 92000 | R46: =IF(P46>$E46,"ERROR","OK") -> OK | S46: 110000 | T46: =+S46*$C46 -> 110000 | U46: =IF(S46>$E46,"ERROR","OK") -> OK | V46: 108069 | W46: =+V46*$C46 -> 108069 | X46: =IF(V46>$E46,"ERROR","OK") -> OK | Y46: 110670 | Z46: =+Y46*$C46 -> 110670 | AA46: =IF(Y46>$E46,"ERROR","OK") -> OK | AB46: 114964 | AC46: =+AB46*$C46 -> 114964 | AD46: =IF(AB46>$E46,"ERROR","OK") -> OK | AE46: 112046 | AF46: =+AE46*$C46 -> 112046 | AG46: =IF(AE46>$E46,"ERROR","OK") -> OK | AH46: 114381 | AI46: =+AH46*$C46 -> 114381 | AJ46: =IF(AH46>$E46,"ERROR","OK") -> OK | AK46: 116715 | AL46: =+AK46*$C46 -> 116715 | AM46: =IF(AK46>$E46,"ERROR","OK") -> OK | AN46: 114381 | AO46: =+AN46*$C46 -> 114381 | AP46: =IF(AN46>$E46,"ERROR","OK") -> OK | AQ46: 107377 | AR46: =+AQ46*$C46 -> 107377 | AS46: =IF(AQ46>$E46,"ERROR","OK") -> OK | AT46: 113214 | AU46: =+AT46*$C46 -> 113214 | AV46: =IF(AT46>$E46,"ERROR","OK") -> OK | AW46: 114532 | AX46: =+AW46*$C46 -> 114532 | AY46: =IF(AW46>$E46,"ERROR","OK") -> OK | AZ46: 60000 | BA46: =+AZ46*$C46 -> 60000 | BB46: =IF(AZ46>$E46,"ERROR","OK") -> OK | BC46: 80000 | BD46: =+BC46*$C46 -> 80000 | BE46: =IF(BC46>$E46,"ERROR","OK") -> OK
A47: 43 | B47: Terminales | C47: 1 | D47: UN | E47: 3019 | F47: =+C47*E47 -> 3019 | G47: 3000 | H47: =+G47*$C47 -> 3000 | I47: =IF(G47>$E47,"ERROR","OK") -> OK | J47: 2989 | K47: =+J47*$C47 -> 2989 | L47: =IF(J47>$E47,"ERROR","OK") -> OK | M47: 2953 | N47: =+M47*$C47 -> 2953 | O47: =IF(M47>$E47,"ERROR","OK") -> OK | P47: 2500 | Q47: =+P47*$C47 -> 2500 | R47: =IF(P47>$E47,"ERROR","OK") -> OK | S47: 2900 | T47: =+S47*$C47 -> 2900 | U47: =IF(S47>$E47,"ERROR","OK") -> OK | V47: 2795 | W47: =+V47*$C47 -> 2795 | X47: =IF(V47>$E47,"ERROR","OK") -> OK | Y47: 2856 | Z47: =+Y47*$C47 -> 2856 | AA47: =IF(Y47>$E47,"ERROR","OK") -> OK | AB47: 2974 | AC47: =+AB47*$C47 -> 2974 | AD47: =IF(AB47>$E47,"ERROR","OK") -> OK | AE47: 2898 | AF47: =+AE47*$C47 -> 2898 | AG47: =IF(AE47>$E47,"ERROR","OK") -> OK | AH47: 2959 | AI47: =+AH47*$C47 -> 2959 | AJ47: =IF(AH47>$E47,"ERROR","OK") -> OK | AK47: 3019 | AL47: =+AK47*$C47 -> 3019 | AM47: =IF(AK47>$E47,"ERROR","OK") -> OK | AN47: 2959 | AO47: =+AN47*$C47 -> 2959 | AP47: =IF(AN47>$E47,"ERROR","OK") -> OK | AQ47: 2777 | AR47: =+AQ47*$C47 -> 2777 | AS47: =IF(AQ47>$E47,"ERROR","OK") -> OK | AT47: 2928 | AU47: =+AT47*$C47 -> 2928 | AV47: =IF(AT47>$E47,"ERROR","OK") -> OK | AW47: 2962 | AX47: =+AW47*$C47 -> 2962 | AY47: =IF(AW47>$E47,"ERROR","OK") -> OK | AZ47: 3000 | BA47: =+AZ47*$C47 -> 3000 | BB47: =IF(AZ47>$E47,"ERROR","OK") -> OK | BC47: 3000 | BD47: =+BC47*$C47 -> 3000 | BE47: =IF(BC47>$E47,"ERROR","OK") -> OK
A48: 44 | B48: Rodamientos | C48: 1 | D48: UN | E48: 95898 | F48: =+C48*E48 -> 95898 | G48: 95800 | H48: =+G48*$C48 -> 95800 | I48: =IF(G48>$E48,"ERROR","OK") -> OK | J48: 94939 | K48: =+J48*$C48 -> 94939 | L48: =IF(J48>$E48,"ERROR","OK") -> OK | M48: 93788 | N48: =+M48*$C48 -> 93788 | O48: =IF(M48>$E48,"ERROR","OK") -> OK | P48: 88000 | Q48: =+P48*$C48 -> 88000 | R48: =IF(P48>$E48,"ERROR","OK") -> OK | S48: 90000 | T48: =+S48*$C48 -> 90000 | U48: =IF(S48>$E48,"ERROR","OK") -> OK | V48: 88794 | W48: =+V48*$C48 -> 88794 | X48: =IF(V48>$E48,"ERROR","OK") -> OK | Y48: 90440 | Z48: =+Y48*$C48 -> 90440 | AA48: =IF(Y48>$E48,"ERROR","OK") -> OK | AB48: 94460 | AC48: =+AB48*$C48 -> 94460 | AD48: =IF(AB48>$E48,"ERROR","OK") -> OK | AE48: 92062 | AF48: =+AE48*$C48 -> 92062 | AG48: =IF(AE48>$E48,"ERROR","OK") -> OK | AH48: 93980 | AI48: =+AH48*$C48 -> 93980 | AJ48: =IF(AH48>$E48,"ERROR","OK") -> OK | AK48: 95898 | AL48: =+AK48*$C48 -> 95898 | AM48: =IF(AK48>$E48,"ERROR","OK") -> OK | AN48: 93980 | AO48: =+AN48*$C48 -> 93980 | AP48: =IF(AN48>$E48,"ERROR","OK") -> OK | AQ48: 88226 | AR48: =+AQ48*$C48 -> 88226 | AS48: =IF(AQ48>$E48,"ERROR","OK") -> OK | AT48: 93021 | AU48: =+AT48*$C48 -> 93021 | AV48: =IF(AT48>$E48,"ERROR","OK") -> OK | AW48: 94104 | AX48: =+AW48*$C48 -> 94104 | AY48: =IF(AW48>$E48,"ERROR","OK") -> OK | AZ48: 40000 | BA48: =+AZ48*$C48 -> 40000 | BB48: =IF(AZ48>$E48,"ERROR","OK") -> OK | BC48: 50000 | BD48: =+BC48*$C48 -> 50000 | BE48: =IF(BC48>$E48,"ERROR","OK") -> OK
A49: 45 | B49: Sensores de Temperatura | C49: 1 | D49: UN | E49: 119098 | F49: =+C49*E49 -> 119098 | G49: 119000 | H49: =+G49*$C49 -> 119000 | I49: =IF(G49>$E49,"ERROR","OK") -> OK | J49: 117907 | K49: =+J49*$C49 -> 117907 | L49: =IF(J49>$E49,"ERROR","OK") -> OK | M49: 116478 | N49: =+M49*$C49 -> 116478 | O49: =IF(M49>$E49,"ERROR","OK") -> OK | P49: 95000 | Q49: =+P49*$C49 -> 95000 | R49: =IF(P49>$E49,"ERROR","OK") -> OK | S49: 110000 | T49: =+S49*$C49 -> 110000 | U49: =IF(S49>$E49,"ERROR","OK") -> OK | V49: 110276 | W49: =+V49*$C49 -> 110276 | X49: =IF(V49>$E49,"ERROR","OK") -> OK | Y49: 113050 | Z49: =+Y49*$C49 -> 113050 | AA49: =IF(Y49>$E49,"ERROR","OK") -> OK | AB49: 117312 | AC49: =+AB49*$C49 -> 117312 | AD49: =IF(AB49>$E49,"ERROR","OK") -> OK | AE49: 114334 | AF49: =+AE49*$C49 -> 114334 | AG49: =IF(AE49>$E49,"ERROR","OK") -> OK | AH49: 116716 | AI49: =+AH49*$C49 -> 116716 | AJ49: =IF(AH49>$E49,"ERROR","OK") -> OK | AK49: 119098 | AL49: =+AK49*$C49 -> 119098 | AM49: =IF(AK49>$E49,"ERROR","OK") -> OK | AN49: 116716 | AO49: =+AN49*$C49 -> 116716 | AP49: =IF(AN49>$E49,"ERROR","OK") -> OK | AQ49: 109570 | AR49: =+AQ49*$C49 -> 109570 | AS49: =IF(AQ49>$E49,"ERROR","OK") -> OK | AT49: 115525 | AU49: =+AT49*$C49 -> 115525 | AV49: =IF(AT49>$E49,"ERROR","OK") -> OK | AW49: 116870 | AX49: =+AW49*$C49 -> 116870 | AY49: =IF(AW49>$E49,"ERROR","OK") -> OK | AZ49: 40000 | BA49: =+AZ49*$C49 -> 40000 | BB49: =IF(AZ49>$E49,"ERROR","OK") -> OK | BC49: 50000 | BD49: =+BC49*$C49 -> 50000 | BE49: =IF(BC49>$E49,"ERROR","OK") -> OK
A50: 46 | B50: Desagües | C50: 1 | D50: UN | E50: 71301 | F50: =+C50*E50 -> 71301 | G50: 71300 | H50: =+G50*$C50 -> 71300 | I50: =IF(G50>$E50,"ERROR","OK") -> OK | J50: 70588 | K50: =+J50*$C50 -> 70588 | L50: =IF(J50>$E50,"ERROR","OK") -> OK | M50: 69732 | N50: =+M50*$C50 -> 69732 | O50: =IF(M50>$E50,"ERROR","OK") -> OK | P50: 62000 | Q50: =+P50*$C50 -> 62000 | R50: =IF(P50>$E50,"ERROR","OK") -> OK | S50: 69000 | T50: =+S50*$C50 -> 69000 | U50: =IF(S50>$E50,"ERROR","OK") -> OK | V50: 66019 | W50: =+V50*$C50 -> 66019 | X50: =IF(V50>$E50,"ERROR","OK") -> OK | Y50: 66640 | Z50: =+Y50*$C50 -> 66640 | AA50: =IF(Y50>$E50,"ERROR","OK") -> OK | AB50: 70231 | AC50: =+AB50*$C50 -> 70231 | AD50: =IF(AB50>$E50,"ERROR","OK") -> OK | AE50: 68449 | AF50: =+AE50*$C50 -> 68449 | AG50: =IF(AE50>$E50,"ERROR","OK") -> OK | AH50: 69875 | AI50: =+AH50*$C50 -> 69875 | AJ50: =IF(AH50>$E50,"ERROR","OK") -> OK | AK50: 71301 | AL50: =+AK50*$C50 -> 71301 | AM50: =IF(AK50>$E50,"ERROR","OK") -> OK | AN50: 69875 | AO50: =+AN50*$C50 -> 69875 | AP50: =IF(AN50>$E50,"ERROR","OK") -> OK | AQ50: 65596 | AR50: =+AQ50*$C50 -> 65596 | AS50: =IF(AQ50>$E50,"ERROR","OK") -> OK | AT50: 69162 | AU50: =+AT50*$C50 -> 69162 | AV50: =IF(AT50>$E50,"ERROR","OK") -> OK | AW50: 69967 | AX50: =+AW50*$C50 -> 69967 | AY50: =IF(AW50>$E50,"ERROR","OK") -> OK | AZ50: 50000 | BA50: =+AZ50*$C50 -> 50000 | BB50: =IF(AZ50>$E50,"ERROR","OK") -> OK | BC50: 60000 | BD50: =+BC50*$C50 -> 60000 | BE50: =IF(BC50>$E50,"ERROR","OK") -> OK
A51: 47 | B51: Borneras | C51: 1 | D51: UN | E51: 30604 | F51: =+C51*E51 -> 30604 | G51: 30600 | H51: =+G51*$C51 -> 30600 | I51: =IF(G51>$E51,"ERROR","OK") -> OK | J51: 30298 | K51: =+J51*$C51 -> 30298 | L51: =IF(J51>$E51,"ERROR","OK") -> OK | M51: 29931 | N51: =+M51*$C51 -> 29931 | O51: =IF(M51>$E51,"ERROR","OK") -> OK | P51: 25000 | Q51: =+P51*$C51 -> 25000 | R51: =IF(P51>$E51,"ERROR","OK") -> OK | S51: 29000 | T51: =+S51*$C51 -> 29000 | U51: =IF(S51>$E51,"ERROR","OK") -> OK | V51: 28337 | W51: =+V51*$C51 -> 28337 | X51: =IF(V51>$E51,"ERROR","OK") -> OK | Y51: 28560 | Z51: =+Y51*$C51 -> 28560 | AA51: =IF(Y51>$E51,"ERROR","OK") -> OK | AB51: 30145 | AC51: =+AB51*$C51 -> 30145 | AD51: =IF(AB51>$E51,"ERROR","OK") -> OK | AE51: 29380 | AF51: =+AE51*$C51 -> 29380 | AG51: =IF(AE51>$E51,"ERROR","OK") -> OK | AH51: 29992 | AI51: =+AH51*$C51 -> 29992 | AJ51: =IF(AH51>$E51,"ERROR","OK") -> OK | AK51: 30604 | AL51: =+AK51*$C51 -> 30604 | AM51: =IF(AK51>$E51,"ERROR","OK") -> OK | AN51: 29992 | AO51: =+AN51*$C51 -> 29992 | AP51: =IF(AN51>$E51,"ERROR","OK") -> OK | AQ51: 28155 | AR51: =+AQ51*$C51 -> 28155 | AS51: =IF(AQ51>$E51,"ERROR","OK") -> OK | AT51: 29686 | AU51: =+AT51*$C51 -> 29686 | AV51: =IF(AT51>$E51,"ERROR","OK") -> OK | AW51: 30031 | AX51: =+AW51*$C51 -> 30031 | AY51: =IF(AW51>$E51,"ERROR","OK") -> OK | AZ51: 20000 | BA51: =+AZ51*$C51 -> 20000 | BB51: =IF(AZ51>$E51,"ERROR","OK") -> OK | BC51: 25000 | BD51: =+BC51*$C51 -> 25000 | BE51: =IF(BC51>$E51,"ERROR","OK") -> OK
A52: 48 | B52: Chumaceras | C52: 1 | D52: UN | E52: 83522 | F52: =+C52*E52 -> 83522 | G52: 83500 | H52: =+G52*$C52 -> 83500 | I52: =IF(G52>$E52,"ERROR","OK") -> OK | J52: 82687 | K52: =+J52*$C52 -> 82687 | L52: =IF(J52>$E52,"ERROR","OK") -> OK | M52: 81685 | N52: =+M52*$C52 -> 81685 | O52: =IF(M52>$E52,"ERROR","OK") -> OK | P52: 71000 | Q52: =+P52*$C52 -> 71000 | R52: =IF(P52>$E52,"ERROR","OK") -> OK | S52: 80000 | T52: =+S52*$C52 -> 80000 | U52: =IF(S52>$E52,"ERROR","OK") -> OK | V52: 77335 | W52: =+V52*$C52 -> 77335 | X52: =IF(V52>$E52,"ERROR","OK") -> OK | Y52: 78540 | Z52: =+Y52*$C52 -> 78540 | AA52: =IF(Y52>$E52,"ERROR","OK") -> OK | AB52: 82269 | AC52: =+AB52*$C52 -> 82269 | AD52: =IF(AB52>$E52,"ERROR","OK") -> OK | AE52: 80181 | AF52: =+AE52*$C52 -> 80181 | AG52: =IF(AE52>$E52,"ERROR","OK") -> OK | AH52: 81852 | AI52: =+AH52*$C52 -> 81852 | AJ52: =IF(AH52>$E52,"ERROR","OK") -> OK | AK52: 83522 | AL52: =+AK52*$C52 -> 83522 | AM52: =IF(AK52>$E52,"ERROR","OK") -> OK | AN52: 81852 | AO52: =+AN52*$C52 -> 81852 | AP52: =IF(AN52>$E52,"ERROR","OK") -> OK | AQ52: 76840 | AR52: =+AQ52*$C52 -> 76840 | AS52: =IF(AQ52>$E52,"ERROR","OK") -> OK | AT52: 81016 | AU52: =+AT52*$C52 -> 81016 | AV52: =IF(AT52>$E52,"ERROR","OK") -> OK | AW52: 81960 | AX52: =+AW52*$C52 -> 81960 | AY52: =IF(AW52>$E52,"ERROR","OK") -> OK | AZ52: 50000 | BA52: =+AZ52*$C52 -> 50000 | BB52: =IF(AZ52>$E52,"ERROR","OK") -> OK | BC52: 60000 | BD52: =+BC52*$C52 -> 60000 | BE52: =IF(BC52>$E52,"ERROR","OK") -> OK
A53: 49 | B53: Capacitores de arranque o marcha | C53: 1 | D53: UN | E53: 49191 | F53: =+C53*E53 -> 49191 | G53: 49100 | H53: =+G53*$C53 -> 49100 | I53: =IF(G53>$E53,"ERROR","OK") -> OK | J53: 48699 | K53: =+J53*$C53 -> 48699 | L53: =IF(J53>$E53,"ERROR","OK") -> OK | M53: 48109 | N53: =+M53*$C53 -> 48109 | O53: =IF(M53>$E53,"ERROR","OK") -> OK | P53: 35000 | Q53: =+P53*$C53 -> 35000 | R53: =IF(P53>$E53,"ERROR","OK") -> OK | S53: 48000 | T53: =+S53*$C53 -> 48000 | U53: =IF(S53>$E53,"ERROR","OK") -> OK | V53: 45547 | W53: =+V53*$C53 -> 45547 | X53: =IF(V53>$E53,"ERROR","OK") -> OK | Y53: 46410 | Z53: =+Y53*$C53 -> 46410 | AA53: =IF(Y53>$E53,"ERROR","OK") -> OK | AB53: 48453 | AC53: =+AB53*$C53 -> 48453 | AD53: =IF(AB53>$E53,"ERROR","OK") -> OK | AE53: 47223 | AF53: =+AE53*$C53 -> 47223 | AG53: =IF(AE53>$E53,"ERROR","OK") -> OK | AH53: 48207 | AI53: =+AH53*$C53 -> 48207 | AJ53: =IF(AH53>$E53,"ERROR","OK") -> OK | AK53: 49191 | AL53: =+AK53*$C53 -> 49191 | AM53: =IF(AK53>$E53,"ERROR","OK") -> OK | AN53: 48207 | AO53: =+AN53*$C53 -> 48207 | AP53: =IF(AN53>$E53,"ERROR","OK") -> OK | AQ53: 45255 | AR53: =+AQ53*$C53 -> 45255 | AS53: =IF(AQ53>$E53,"ERROR","OK") -> OK | AT53: 47715 | AU53: =+AT53*$C53 -> 47715 | AV53: =IF(AT53>$E53,"ERROR","OK") -> OK | AW53: 48271 | AX53: =+AW53*$C53 -> 48271 | AY53: =IF(AW53>$E53,"ERROR","OK") -> OK | AZ53: 29000 | BA53: =+AZ53*$C53 -> 29000 | BB53: =IF(AZ53>$E53,"ERROR","OK") -> OK | BC53: 30000 | BD53: =+BC53*$C53 -> 30000 | BE53: =IF(BC53>$E53,"ERROR","OK") -> OK
... A89: 85 | B89: VALOR BOLSA PARA MANTENIMIENTO CORRECTIVO IVA INCLUIDO ZONA NORTE | C89: 1 | D89: UN | E89: 31653250 | F89: =+C89*E89 -> 31653250 | G89: 31653250 | H89: =+G89*$C89 -> 31653250 | I89: =IF(G89>$E89,"ERROR","OK") -> OK | J89: 31653250 | K89: =+J89*$C89 -> 31653250 | L89: =IF(J89>$E89,"ERROR","OK") -> OK | M89: 31653250 | N89: =+M89*$C89 -> 31653250 | O89: =IF(M89>$E89,"ERROR","OK") -> OK | P89: 26599369 | Q89: =+P89*$C89 -> 26599369 | R89: =IF(P89>$E89,"ERROR","OK") -> OK | S89: 31653250 | T89: =+S89*$C89 -> 31653250 | U89: =IF(S89>$E89,"ERROR","OK") -> OK | V89: 31653250 | W89: =+V89*$C89 -> 31653250 | X89: =IF(V89>$E89,"ERROR","OK") -> OK | Y89: 31653250 | Z89: =+Y89*$C89 -> 31653250 | AA89: =IF(Y89>$E89,"ERROR","OK") -> OK | AB89: 31653250 | AC89: =+AB89*$C89 -> 31653250 | AD89: =IF(AB89>$E89,"ERROR","OK") -> OK | AE89: 31653250 | AF89: =+AE89*$C89 -> 31653250 | AG89: =IF(AE89>$E89,"ERROR","OK") -> OK | AH89: 31653250 | AI89: =+AH89*$C89 -> 31653250 | AJ89: =IF(AH89>$E89,"ERROR","OK") -> OK | AK89: 31653250 | AL89: =+AK89*$C89 -> 31653250 | AM89: =IF(AK89>$E89,"ERROR","OK") -> OK | AN89: 31653250 | AO89: =+AN89*$C89 -> 31653250 | AP89: =IF(AN89>$E89,"ERROR","OK") -> OK | AQ89: 13324471 | AR89: =+AQ89*$C89 -> 13324471 | AS89: =IF(AQ89>$E89,"ERROR","OK") -> OK | AT89: 31653250 | AU89: =+AT89*$C89 -> 31653250 | AV89: =IF(AT89>$E89,"ERROR","OK") -> OK | AW89: 31061334 | AX89: =+AW89*$C89 -> 31061334 | AY89: =IF(AW89>$E89,"ERROR","OK") -> OK | AZ89: 31653250 | BA89: =+AZ89*$C89 -> 31653250 | BB89: =IF(AZ89>$E89,"ERROR","OK") -> OK | BC89: 31653250 | BD89: =+BC89*$C89 -> 31653250 | BE89: =IF(BC89>$E89,"ERROR","OK") -> OK
A90: 86 | D90: UN | F90: =+C90*E90 -> 0 | H90: =+G90*$C90 -> 0 | I90: =IF(G90>$E90,"ERROR","OK") -> OK | K90: =+J90*$C90 -> 0 | L90: =IF(J90>$E90,"ERROR","OK") -> OK | N90: =+M90*$C90 -> 0 | O90: =IF(M90>$E90,"ERROR","OK") -> OK | Q90: =+P90*$C90 -> 0 | R90: =IF(P90>$E90,"ERROR","OK") -> OK | T90: =+S90*$C90 -> 0 | U90: =IF(S90>$E90,"ERROR","OK") -> OK | W90: =+V90*$C90 -> 0 | X90: =IF(V90>$E90,"ERROR","OK") -> OK | Z90: =+Y90*$C90 -> 0 | AA90: =IF(Y90>$E90,"ERROR","OK") -> OK | AC90: =+AB90*$C90 -> 0 | AD90: =IF(AB90>$E90,"ERROR","OK") -> OK | AF90: =+AE90*$C90 -> 0 | AG90: =IF(AE90>$E90,"ERROR","OK") -> OK | AI90: =+AH90*$C90 -> 0 | AJ90: =IF(AH90>$E90,"ERROR","OK") -> OK | AL90: =+AK90*$C90 -> 0 | AM90: =IF(AK90>$E90,"ERROR","OK") -> OK | AO90: =+AN90*$C90 -> 0 | AP90: =IF(AN90>$E90,"ERROR","OK") -> OK | AR90: =+AQ90*$C90 -> 0 | AS90: =IF(AQ90>$E90,"ERROR","OK") -> OK | AU90: =+AT90*$C90 -> 0 | AV90: =IF(AT90>$E90,"ERROR","OK") -> OK | AX90: =+AW90*$C90 -> 0 | AY90: =IF(AW90>$E90,"ERROR","OK") -> OK | BA90: =+AZ90*$C90 -> 0 | BB90: =IF(AZ90>$E90,"ERROR","OK") -> OK | BD90: =+BC90*$C90 -> 0 | BE90: =IF(BC90>$E90,"ERROR","OK") -> OK
A91: 87 | D91: UN | F91: =+C91*E91 -> 0 | H91: =+G91*$C91 -> 0 | I91: =IF(G91>$E91,"ERROR","OK") -> OK | K91: =+J91*$C91 -> 0 | L91: =IF(J91>$E91,"ERROR","OK") -> OK | N91: =+M91*$C91 -> 0 | O91: =IF(M91>$E91,"ERROR","OK") -> OK | Q91: =+P91*$C91 -> 0 | R91: =IF(P91>$E91,"ERROR","OK") -> OK | T91: =+S91*$C91 -> 0 | U91: =IF(S91>$E91,"ERROR","OK") -> OK | W91: =+V91*$C91 -> 0 | X91: =IF(V91>$E91,"ERROR","OK") -> OK | Z91: =+Y91*$C91 -> 0 | AA91: =IF(Y91>$E91,"ERROR","OK") -> OK | AC91: =+AB91*$C91 -> 0 | AD91: =IF(AB91>$E91,"ERROR","OK") -> OK | AF91: =+AE91*$C91 -> 0 | AG91: =IF(AE91>$E91,"ERROR","OK") -> OK | AI91: =+AH91*$C91 -> 0 | AJ91: =IF(AH91>$E91,"ERROR","OK") -> OK | AL91: =+AK91*$C91 -> 0 | AM91: =IF(AK91>$E91,"ERROR","OK") -> OK | AO91: =+AN91*$C91 -> 0 | AP91: =IF(AN91>$E91,"ERROR","OK") -> OK | AR91: =+AQ91*$C91 -> 0 | AS91: =IF(AQ91>$E91,"ERROR","OK") -> OK | AU91: =+AT91*$C91 -> 0 | AV91: =IF(AT91>$E91,"ERROR","OK") -> OK | AX91: =+AW91*$C91 -> 0 | AY91: =IF(AW91>$E91,"ERROR","OK") -> OK | BA91: =+AZ91*$C91 -> 0 | BB91: =IF(AZ91>$E91,"ERROR","OK") -> OK | BD91: =+BC91*$C91 -> 0 | BE91: =IF(BC91>$E91,"ERROR","OK") -> OK
D93: TOTALES | F93: =SUM(F4:F40) -> 72386481 | H93: =SUM(H4:H40) -> 69191400 | I93: =IF(H93>$F$93,"ERROR","OK") -> OK | K93: =SUM(K4:K40) -> 71662606 | L93: =IF(K93>$F$93,"ERROR","OK") -> OK | N93: =SUM(N4:N40) -> 70793961 | O93: =IF(N93>$F$93,"ERROR","OK") -> OK | Q93: =SUM(Q4:Q40) -> 44340000 | R93: =IF(Q93>$F$93,"ERROR","OK") -> OK | T93: =SUM(T4:T40) -> 48139000 | U93: =IF(T93>$F$93,"ERROR","OK") -> OK | W93: =SUM(W4:W40) -> 68854678 | X93: =IF(W93>$F$93,"ERROR","OK") -> OK | Z93: =SUM(Z4:Z40) -> 45293715 | AA93: =IF(Z93>$F$93,"ERROR","OK") -> OK | AC93: =SUM(AC4:AC40) -> 71300644 | AD93: =IF(AC93>$F$93,"ERROR","OK") -> OK | AF93: =SUM(AF4:AF40) -> 66936781 | AG93: =IF(AF93>$F$93,"ERROR","OK") -> OK | AI93: =SUM(AI4:AI40) -> 70938775 | AJ93: =IF(AI93>$F$93,"ERROR","OK") -> OK | AL93: =SUM(AL4:AL40) -> 72386481 | AM93: =IF(AL93>$F$93,"ERROR","OK") -> OK | AO93: =SUM(AO4:AO40) -> 64153037 | AP93: =IF(AO93>$F$93,"ERROR","OK") -> OK | AR93: =SUM(AR4:AR40) -> 66595467 | AS93: =IF(AR93>$F$93,"ERROR","OK") -> OK | AU93: =SUM(AU4:AU40) -> 70214896 | AV93: =IF(AU93>$F$93,"ERROR","OK") -> OK | AX93: =SUM(AX4:AX40) -> 71032726 | AY93: =IF(AX93>$F$93,"ERROR","OK") -> OK | BA93: =SUM(BA4:BA40) -> 62770000 | BB93: =IF(BA93>$F$93,"ERROR","OK") -> OK | BD93: =SUM(BD4:BD40) -> 66910000 | BE93: =IF(BD93>$F$93,"ERROR","OK") -> OK
H95: =+G2 -> FRICON SOLUCIONES SAS | K95: =+J2 -> TCB IMPRESOS SOLUCIONES Y SUMINISTROS SAS | N95: =+M2 -> ASESORIAS Y ACABADOS AVILA SAS | Q95: =+P2 -> AIRES COSTA LTDA | T95: =+S2 -> INGEMET JYS SAS | W95: =+V2 -> Expertos Ingenieros S.A.S | Z95: =+Y2 -> ACONDICLIMA INGENIERIA Y CONSTRUCCION SAS | AC95: =+AB2 -> CONSTRUCCIONES J & LG S.A.S | AF95: =+AE2 -> REFRICESAR INGENIERIA S.A.S. | AI95: =+AH2 -> GOURIYU SISTEMS S.A.S. | AL95: =+AK2 -> SUBE INGENIERIA | AO95: =+AN2 -> TERMEC LIMITADA | AR95: =+AQ2 -> COMERCIALIZADORA ELECTROMERO S.A.S. | AU95: =+AT2 -> PROSERMAN SAS | AX95: =+AW2 -> CONINCAG SAS | BA95: =+AZ2 -> GRUPO SKY DE COLOMBIA S.A.S | BD95: =+BC2 -> Nicservicio s.a.s
B96: MENOR OFERTA
B97: =MIN(G93:BE93) -> 44340000
B98: =IF(B97>0,HLOOKUP(B97,G93:BE95,3,0),0) -> AIRES COSTA LTDA | H98: =SUM(H4:H91) -> 115337650 | K98: =SUM(K4:K91) -> 117666047 | L98: =SUM(L4:L91) -> 0 | N98: =SUM(N4:N91) -> 116623459 | O98: =SUM(O4:O91) -> 0 | Q98: =SUM(Q4:Q91) -> 84524869 | R98: =SUM(R4:R91) -> 0 | T98: =SUM(T4:T91) -> 93346150 | U98: =SUM(U4:U91) -> 0 | W98: =SUM(W4:W91) -> 113928652 | X98: =SUM(X4:X91) -> 0 | Z98: =SUM(Z4:Z91) -> 90694269 | AA98: =SUM(AA4:AA91) -> 0 | AC98: =SUM(AC4:AC91) -> 117231609 | AD98: =SUM(AD4:AD91) -> 0 | AF98: =SUM(AF4:AF91) -> 112505363 | AG98: =SUM(AG4:AG91) -> 0 | AI98: =SUM(AI4:AI91) -> 116797263 | AJ98: =SUM(AJ4:AJ91) -> 0 | AL98: =SUM(AL4:AL91) -> 118534870 | AM98: =SUM(AM4:AM91) -> 0 | AO98: =SUM(AO4:AO91) -> 110011525 | AP98: =SUM(AP4:AP91) -> 0 | AR98: =SUM(AR4:AR91) -> 93244409 | AS98: =SUM(AS4:AS91) -> 0 | AU98: =SUM(AU4:AU91) -> 115928432 | AV98: =SUM(AV4:AV91) -> 0 | AX98: =SUM(AX4:AX91) -> 1.1631812e+08 | AY98: =SUM(AY4:AY91) -> 0 | BA98: =SUM(BA4:BA91) -> 102698250 | BB98: =SUM(BB4:BB91) -> 0 | BD98: =SUM(BD4:BD91) -> 109418250 | BE98: =SUM(BE4:BE91) -> 0
H99: 115337650 | K99: 117666047 | N99: 116623459 | Q99: 84524869 | T99: 93346150 | W99: 113928652 | Z99: 90694269 | AC99: 117231609 | AF99: 112505363 | AI99: 116797263 | AL99: 118534870 | AO99: 110011525 | AR99: 93244409 | AU99: 115928432 | AX99: 1.1631812e+08 | BA99: 102698250 | BD99: 109418250
C101: LANCES | D101: MENOR VALOR | E101: PROX LANCE MIN | F101: % DE MEJORA GENERAL | G101: % DE MEJORA LANCE | J101: % DE MEJORA LANCE | M101: % DE MEJORA LANCE | P101: % DE MEJORA LANCE | S101: % DE MEJORA LANCE | V101: % DE MEJORA LANCE | Y101: % DE MEJORA LANCE | AB101: % DE MEJORA LANCE | AE101: % DE MEJORA LANCE | AH101: % DE MEJORA LANCE | AK101: % DE MEJORA LANCE | AN101: % DE MEJORA LANCE | AQ101: % DE MEJORA LANCE | AT101: % DE MEJORA LANCE | AW101: % DE MEJORA LANCE | AZ101: % DE MEJORA LANCE | BC101: % DE MEJORA LANCE
C102: 1 | D102: =+B97 -> 44340000 | E102: =D102-(D102*5%) -> 42123000 | F102: =IF(D102>0,1-(D102/$B$97),0) -> 0
C103: 2 | D103: 0 | E103: =D103-(D103*5%) -> 0 | F103: =IF(D103>0,1-(D103/$B$97),0) -> 0 | G103: =1-(D103/D102) -> 1 | J103: =1-(G103/G102) -> #DIV/0! | M103: =1-(J103/J102) -> #DIV/0! | P103: =1-(M103/M102) -> #DIV/0! | S103: =1-(P103/P102) -> #DIV/0! | V103: =1-(S103/S102) -> #DIV/0! | Y103: =1-(V103/V102) -> #DIV/0! | AB103: =1-(Y103/Y102) -> #DIV/0! | AE103: =1-(AB103/AB102) -> #DIV/0! | AH103: =1-(AE103/AE102) -> #DIV/0! | AK103: =1-(AH103/AH102) -> #DIV/0! | AN103: =1-(AK103/AK102) -> #DIV/0! | AQ103: =1-(AN103/AN102) -> #DIV/0! | AT103: =1-(AQ103/AQ102) -> #DIV/0! | AW103: =1-(AT103/AT102) -> #DIV/0! | AZ103: =1-(AW103/AW102) -> #DIV/0! | BC103: =1-(AZ103/AZ102) -> #DIV/0!
C104: 3 | D104: 0 | E104: =D104-(D104*5%) -> 0 | F104: =IF(D104>0,1-(D104/$B$97),0) -> 0 | G104: =1-(D104/D103) -> #DIV/0! | J104: =1-(G104/G103) -> #DIV/0! | M104: =1-(J104/J103) -> #DIV/0! | P104: =1-(M104/M103) -> #DIV/0! | S104: =1-(P104/P103) -> #DIV/0! | V104: =1-(S104/S103) -> #DIV/0! | Y104: =1-(V104/V103) -> #DIV/0! | AB104: =1-(Y104/Y103) -> #DIV/0! | AE104: =1-(AB104/AB103) -> #DIV/0! | AH104: =1-(AE104/AE103) -> #DIV/0! | AK104: =1-(AH104/AH103) -> #DIV/0! | AN104: =1-(AK104/AK103) -> #DIV/0! | AQ104: =1-(AN104/AN103) -> #DIV/0! | AT104: =1-(AQ104/AQ103) -> #DIV/0! | AW104: =1-(AT104/AT103) -> #DIV/0! | AZ104: =1-(AW104/AW103) -> #DIV/0! | BC104: =1-(AZ104/AZ103) -> #DIV/0!
C105: 4 | D105: 0 | E105: =D105-(D105*5%) -> 0 | F105: =IF(D105>0,1-(D105/$B$97),0) -> 0 | G105: =1-(D105/D104) -> #DIV/0! | J105: =1-(G105/G104) -> #DIV/0! | M105: =1-(J105/J104) -> #DIV/0! | P105: =1-(M105/M104) -> #DIV/0! | S105: =1-(P105/P104) -> #DIV/0! | V105: =1-(S105/S104) -> #DIV/0! | Y105: =1-(V105/V104) -> #DIV/0! | AB105: =1-(Y105/Y104) -> #DIV/0! | AE105: =1-(AB105/AB104) -> #DIV/0! | AH105: =1-(AE105/AE104) -> #DIV/0! | AK105: =1-(AH105/AH104) -> #DIV/0! | AN105: =1-(AK105/AK104) -> #DIV/0! | AQ105: =1-(AN105/AN104) -> #DIV/0! | AT105: =1-(AQ105/AQ104) -> #DIV/0! | AW105: =1-(AT105/AT104) -> #DIV/0! | AZ105: =1-(AW105/AW104) -> #DIV/0! | BC105: =1-(AZ105/AZ104) -> #DIV/0!
C106: 5 | D106: 0 | E106: =D106-(D106*5%) -> 0 | F106: =IF(D106>0,1-(D106/$B$97),0) -> 0 | G106: =1-(D106/D105) -> #DIV/0! | J106: =1-(G106/G105) -> #DIV/0! | M106: =1-(J106/J105) -> #DIV/0! | P106: =1-(M106/M105) -> #DIV/0! | S106: =1-(P106/P105) -> #DIV/0! | V106: =1-(S106/S105) -> #DIV/0! | Y106: =1-(V106/V105) -> #DIV/0! | AB106: =1-(Y106/Y105) -> #DIV/0! | AE106: =1-(AB106/AB105) -> #DIV/0! | AH106: =1-(AE106/AE105) -> #DIV/0! | AK106: =1-(AH106/AH105) -> #DIV/0! | AN106: =1-(AK106/AK105) -> #DIV/0! | AQ106: =1-(AN106/AN105) -> #DIV/0! | AT106: =1-(AQ106/AQ105) -> #DIV/0! | AW106: =1-(AT106/AT105) -> #DIV/0! | AZ106: =1-(AW106/AW105) -> #DIV/0! | BC106: =1-(AZ106/AZ105) -> #DIV/0!
C107: 6 | D107: 0 | E107: =D107-(D107*5%) -> 0 | F107: =IF(D107>0,1-(D107/$B$97),0) -> 0 | G107: =1-(D107/D106) -> #DIV/0! | J107: =1-(G107/G106) -> #DIV/0! | M107: =1-(J107/J106) -> #DIV/0! | P107: =1-(M107/M106) -> #DIV/0! | S107: =1-(P107/P106) -> #DIV/0! | V107: =1-(S107/S106) -> #DIV/0! | Y107: =1-(V107/V106) -> #DIV/0! | AB107: =1-(Y107/Y106) -> #DIV/0! | AE107: =1-(AB107/AB106) -> #DIV/0! | AH107: =1-(AE107/AE106) -> #DIV/0! | AK107: =1-(AH107/AH106) -> #DIV/0! | AN107: =1-(AK107/AK106) -> #DIV/0! | AQ107: =1-(AN107/AN106) -> #DIV/0! | AT107: =1-(AQ107/AQ106) -> #DIV/0! | AW107: =1-(AT107/AT106) -> #DIV/0! | AZ107: =1-(AW107/AW106) -> #DIV/0! | BC107: =1-(AZ107/AZ106) -> #DIV/0!
C108: 7 | D108: 0 | E108: =D108-(D108*5%) -> 0 | F108: =IF(D108>0,1-(D108/$F$93),0) -> 0 | G108: =1-(D108/D107) -> #DIV/0! | J108: =1-(G108/G107) -> #DIV/0! | M108: =1-(J108/J107) -> #DIV/0! | P108: =1-(M108/M107) -> #DIV/0! | S108: =1-(P108/P107) -> #DIV/0! | V108: =1-(S108/S107) -> #DIV/0! | Y108: =1-(V108/V107) -> #DIV/0! | AB108: =1-(Y108/Y107) -> #DIV/0! | AE108: =1-(AB108/AB107) -> #DIV/0! | AH108: =1-(AE108/AE107) -> #DIV/0! | AK108: =1-(AH108/AH107) -> #DIV/0! | AN108: =1-(AK108/AK107) -> #DIV/0! | AQ108: =1-(AN108/AN107) -> #DIV/0! | AT108: =1-(AQ108/AQ107) -> #DIV/0! | AW108: =1-(AT108/AT107) -> #DIV/0! | AZ108: =1-(AW108/AW107) -> #DIV/0! | BC108: =1-(AZ108/AZ107) -> #DIV/0!
C109: 8 | D109: 0 | E109: =D109-(D109*5%) -> 0 | F109: =IF(D109>0,1-(D109/$B$97),0) -> 0 | G109: =1-(D109/D108) -> #DIV/0! | J109: =1-(G109/G108) -> #DIV/0! | M109: =1-(J109/J108) -> #DIV/0! | P109: =1-(M109/M108) -> #DIV/0! | S109: =1-(P109/P108) -> #DIV/0! | V109: =1-(S109/S108) -> #DIV/0! | Y109: =1-(V109/V108) -> #DIV/0! | AB109: =1-(Y109/Y108) -> #DIV/0! | AE109: =1-(AB109/AB108) -> #DIV/0! | AH109: =1-(AE109/AE108) -> #DIV/0! | AK109: =1-(AH109/AH108) -> #DIV/0! | AN109: =1-(AK109/AK108) -> #DIV/0! | AQ109: =1-(AN109/AN108) -> #DIV/0! | AT109: =1-(AQ109/AQ108) -> #DIV/0! | AW109: =1-(AT109/AT108) -> #DIV/0! | AZ109: =1-(AW109/AW108) -> #DIV/0! | BC109: =1-(AZ109/AZ108) -> #DIV/0!
C110: 9 | D110: 0 | E110: =D110-(D110*5%) -> 0 | F110: =IF(D110>0,1-(D110/$B$97),0) -> 0 | G110: =1-(D110/D109) -> #DIV/0! | J110: =1-(G110/G109) -> #DIV/0! | M110: =1-(J110/J109) -> #DIV/0! | P110: =1-(M110/M109) -> #DIV/0! | S110: =1-(P110/P109) -> #DIV/0! | V110: =1-(S110/S109) -> #DIV/0! | Y110: =1-(V110/V109) -> #DIV/0! | AB110: =1-(Y110/Y109) -> #DIV/0! | AE110: =1-(AB110/AB109) -> #DIV/0! | AH110: =1-(AE110/AE109) -> #DIV/0! | AK110: =1-(AH110/AH109) -> #DIV/0! | AN110: =1-(AK110/AK109) -> #DIV/0! | AQ110: =1-(AN110/AN109) -> #DIV/0! | AT110: =1-(AQ110/AQ109) -> #DIV/0! | AW110: =1-(AT110/AT109) -> #DIV/0! | AZ110: =1-(AW110/AW109) -> #DIV/0! | BC110: =1-(AZ110/AZ109) -> #DIV/0!
C111: 10 | D111: 0 | E111: =D111-(D111*5%) -> 0 | F111: =IF(D111>0,1-(D111/$B$97),0) -> 0 | G111: =1-(D111/D110) -> #DIV/0! | J111: =1-(G111/G110) -> #DIV/0! | M111: =1-(J111/J110) -> #DIV/0! | P111: =1-(M111/M110) -> #DIV/0! | S111: =1-(P111/P110) -> #DIV/0! | V111: =1-(S111/S110) -> #DIV/0! | Y111: =1-(V111/V110) -> #DIV/0! | AB111: =1-(Y111/Y110) -> #DIV/0! | AE111: =1-(AB111/AB110) -> #DIV/0! | AH111: =1-(AE111/AE110) -> #DIV/0! | AK111: =1-(AH111/AH110) -> #DIV/0! | AN111: =1-(AK111/AK110) -> #DIV/0! | AQ111: =1-(AN111/AN110) -> #DIV/0! | AT111: =1-(AQ111/AQ110) -> #DIV/0! | AW111: =1-(AT111/AT110) -> #DIV/0! | AZ111: =1-(AW111/AW110) -> #DIV/0! | BC111: =1-(AZ111/AZ110) -> #DIV/0!
C112: 11 | D112: 0 | E112: =D112-(D112*5%) -> 0 | F112: =IF(D112>0,1-(D112/$B$97),0) -> 0 | G112: =1-(D112/D111) -> #DIV/0! | J112: =1-(G112/G111) -> #DIV/0! | M112: =1-(J112/J111) -> #DIV/0! | P112: =1-(M112/M111) -> #DIV/0! | S112: =1-(P112/P111) -> #DIV/0! | V112: =1-(S112/S111) -> #DIV/0! | Y112: =1-(V112/V111) -> #DIV/0! | AB112: =1-(Y112/Y111) -> #DIV/0! | AE112: =1-(AB112/AB111) -> #DIV/0! | AH112: =1-(AE112/AE111) -> #DIV/0! | AK112: =1-(AH112/AH111) -> #DIV/0! | AN112: =1-(AK112/AK111) -> #DIV/0! | AQ112: =1-(AN112/AN111) -> #DIV/0! | AT112: =1-(AQ112/AQ111) -> #DIV/0! | AW112: =1-(AT112/AT111) -> #DIV/0! | AZ112: =1-(AW112/AW111) -> #DIV/0! | BC112: =1-(AZ112/AZ111) -> #DIV/0!
C113: 12 | D113: 0 | E113: =D113-(D113*5%) -> 0 | F113: =IF(D113>0,1-(D113/$B$97),0) -> 0 | G113: =1-(D113/D112) -> #DIV/0! | J113: =1-(G113/G112) -> #DIV/0! | M113: =1-(J113/J112) -> #DIV/0! | P113: =1-(M113/M112) -> #DIV/0! | S113: =1-(P113/P112) -> #DIV/0! | V113: =1-(S113/S112) -> #DIV/0! | Y113: =1-(V113/V112) -> #DIV/0! | AB113: =1-(Y113/Y112) -> #DIV/0! | AE113: =1-(AB113/AB112) -> #DIV/0! | AH113: =1-(AE113/AE112) -> #DIV/0! | AK113: =1-(AH113/AH112) -> #DIV/0! | AN113: =1-(AK113/AK112) -> #DIV/0! | AQ113: =1-(AN113/AN112) -> #DIV/0! | AT113: =1-(AQ113/AQ112) -> #DIV/0! | AW113: =1-(AT113/AT112) -> #DIV/0! | AZ113: =1-(AW113/AW112) -> #DIV/0! | BC113: =1-(AZ113/AZ112) -> #DIV/0!
C114: 13 | D114: 0 | E114: =D114-(D114*5%) -> 0 | F114: =IF(D114>0,1-(D114/$B$97),0) -> 0 | G114: =1-(D114/D113) -> #DIV/0! | J114: =1-(G114/G113) -> #DIV/0! | M114: =1-(J114/J113) -> #DIV/0! | P114: =1-(M114/M113) -> #DIV/0! | S114: =1-(P114/P113) -> #DIV/0! | V114: =1-(S114/S113) -> #DIV/0! | Y114: =1-(V114/V113) -> #DIV/0! | AB114: =1-(Y114/Y113) -> #DIV/0! | AE114: =1-(AB114/AB113) -> #DIV/0! | AH114: =1-(AE114/AE113) -> #DIV/0! | AK114: =1-(AH114/AH113) -> #DIV/0! | AN114: =1-(AK114/AK113) -> #DIV/0! | AQ114: =1-(AN114/AN113) -> #DIV/0! | AT114: =1-(AQ114/AQ113) -> #DIV/0! | AW114: =1-(AT114/AT113) -> #DIV/0! | AZ114: =1-(AW114/AW113) -> #DIV/0! | BC114: =1-(AZ114/AZ113) -> #DIV/0!
C115: 14 | D115: 0 | E115: =D115-(D115*5%) -> 0 | F115: =IF(D115>0,1-(D115/$B$97),0) -> 0 | G115: =1-(D115/D114) -> #DIV/0! | J115: =1-(G115/G114) -> #DIV/0! | M115: =1-(J115/J114) -> #DIV/0! | P115: =1-(M115/M114) -> #DIV/0! | S115: =1-(P115/P114) -> #DIV/0! | V115: =1-(S115/S114) -> #DIV/0! | Y115: =1-(V115/V114) -> #DIV/0! | AB115: =1-(Y115/Y114) -> #DIV/0! | AE115: =1-(AB115/AB114) -> #DIV/0! | AH115: =1-(AE115/AE114) -> #DIV/0! | AK115: =1-(AH115/AH114) -> #DIV/0! | AN115: =1-(AK115/AK114) -> #DIV/0! | AQ115: =1-(AN115/AN114) -> #DIV/0! | AT115: =1-(AQ115/AQ114) -> #DIV/0! | AW115: =1-(AT115/AT114) -> #DIV/0! | AZ115: =1-(AW115/AW114) -> #DIV/0! | BC115: =1-(AZ115/AZ114) -> #DIV/0!
C116: 15 | D116: 0 | E116: =D116-(D116*5%) -> 0 | F116: =IF(D116>0,1-(D116/$B$97),0) -> 0 | G116: =1-(D116/D115) -> #DIV/0! | J116: =1-(G116/G115) -> #DIV/0! | M116: =1-(J116/J115) -> #DIV/0! | P116: =1-(M116/M115) -> #DIV/0! | S116: =1-(P116/P115) -> #DIV/0! | V116: =1-(S116/S115) -> #DIV/0! | Y116: =1-(V116/V115) -> #DIV/0! | AB116: =1-(Y116/Y115) -> #DIV/0! | AE116: =1-(AB116/AB115) -> #DIV/0! | AH116: =1-(AE116/AE115) -> #DIV/0! | AK116: =1-(AH116/AH115) -> #DIV/0! | AN116: =1-(AK116/AK115) -> #DIV/0! | AQ116: =1-(AN116/AN115) -> #DIV/0! | AT116: =1-(AQ116/AQ115) -> #DIV/0! | AW116: =1-(AT116/AT115) -> #DIV/0! | AZ116: =1-(AW116/AW115) -> #DIV/0! | BC116: =1-(AZ116/AZ115) -> #DIV/0!
C117: 16 | D117: 0 | E117: =D117-(D117*5%) -> 0 | F117: =IF(D117>0,1-(D117/$B$97),0) -> 0 | G117: =1-(D117/D116) -> #DIV/0! | J117: =1-(G117/G116) -> #DIV/0! | M117: =1-(J117/J116) -> #DIV/0! | P117: =1-(M117/M116) -> #DIV/0! | S117: =1-(P117/P116) -> #DIV/0! | V117: =1-(S117/S116) -> #DIV/0! | Y117: =1-(V117/V116) -> #DIV/0! | AB117: =1-(Y117/Y116) -> #DIV/0! | AE117: =1-(AB117/AB116) -> #DIV/0! | AH117: =1-(AE117/AE116) -> #DIV/0! | AK117: =1-(AH117/AH116) -> #DIV/0! | AN117: =1-(AK117/AK116) -> #DIV/0! | AQ117: =1-(AN117/AN116) -> #DIV/0! | AT117: =1-(AQ117/AQ116) -> #DIV/0! | AW117: =1-(AT117/AT116) -> #DIV/0! | AZ117: =1-(AW117/AW116) -> #DIV/0! | BC117: =1-(AZ117/AZ116) -> #DIV/0!
C118: 17 | D118: 0 | E118: =D118-(D118*5%) -> 0 | F118: =IF(D118>0,1-(D118/$B$97),0) -> 0 | G118: =1-(D118/D117) -> #DIV/0! | J118: =1-(G118/G117) -> #DIV/0! | M118: =1-(J118/J117) -> #DIV/0! | P118: =1-(M118/M117) -> #DIV/0! | S118: =1-(P118/P117) -> #DIV/0! | V118: =1-(S118/S117) -> #DIV/0! | Y118: =1-(V118/V117) -> #DIV/0! | AB118: =1-(Y118/Y117) -> #DIV/0! | AE118: =1-(AB118/AB117) -> #DIV/0! | AH118: =1-(AE118/AE117) -> #DIV/0! | AK118: =1-(AH118/AH117) -> #DIV/0! | AN118: =1-(AK118/AK117) -> #DIV/0! | AQ118: =1-(AN118/AN117) -> #DIV/0! | AT118: =1-(AQ118/AQ117) -> #DIV/0! | AW118: =1-(AT118/AT117) -> #DIV/0! | AZ118: =1-(AW118/AW117) -> #DIV/0! | BC118: =1-(AZ118/AZ117) -> #DIV/0!
C119: 18 | D119: 0 | E119: =D119-(D119*5%) -> 0 | F119: =IF(D119>0,1-(D119/$B$97),0) -> 0 | G119: =1-(D119/D118) -> #DIV/0! | J119: =1-(G119/G118) -> #DIV/0! | M119: =1-(J119/J118) -> #DIV/0! | P119: =1-(M119/M118) -> #DIV/0! | S119: =1-(P119/P118) -> #DIV/0! | V119: =1-(S119/S118) -> #DIV/0! | Y119: =1-(V119/V118) -> #DIV/0! | AB119: =1-(Y119/Y118) -> #DIV/0! | AE119: =1-(AB119/AB118) -> #DIV/0! | AH119: =1-(AE119/AE118) -> #DIV/0! | AK119: =1-(AH119/AH118) -> #DIV/0! | AN119: =1-(AK119/AK118) -> #DIV/0! | AQ119: =1-(AN119/AN118) -> #DIV/0! | AT119: =1-(AQ119/AQ118) -> #DIV/0! | AW119: =1-(AT119/AT118) -> #DIV/0! | AZ119: =1-(AW119/AW118) -> #DIV/0! | BC119: =1-(AZ119/AZ118) -> #DIV/0!
C120: 19 | D120: 0 | E120: =D120-(D120*5%) -> 0 | F120: =IF(D120>0,1-(D120/$B$97),0) -> 0 | G120: =1-(D120/D119) -> #DIV/0! | J120: =1-(G120/G119) -> #DIV/0! | M120: =1-(J120/J119) -> #DIV/0! | P120: =1-(M120/M119) -> #DIV/0! | S120: =1-(P120/P119) -> #DIV/0! | V120: =1-(S120/S119) -> #DIV/0! | Y120: =1-(V120/V119) -> #DIV/0! | AB120: =1-(Y120/Y119) -> #DIV/0! | AE120: =1-(AB120/AB119) -> #DIV/0! | AH120: =1-(AE120/AE119) -> #DIV/0! | AK120: =1-(AH120/AH119) -> #DIV/0! | AN120: =1-(AK120/AK119) -> #DIV/0! | AQ120: =1-(AN120/AN119) -> #DIV/0! | AT120: =1-(AQ120/AQ119) -> #DIV/0! | AW120: =1-(AT120/AT119) -> #DIV/0! | AZ120: =1-(AW120/AW119) -> #DIV/0! | BC120: =1-(AZ120/AZ119) -> #DIV/0!
C121: 20 | D121: 0 | E121: =D121-(D121*5%) -> 0 | F121: =IF(D121>0,1-(D121/$B$97),0) -> 0 | G121: =1-(D121/D120) -> #DIV/0! | J121: =1-(G121/G120) -> #DIV/0! | M121: =1-(J121/J120) -> #DIV/0! | P121: =1-(M121/M120) -> #DIV/0! | S121: =1-(P121/P120) -> #DIV/0! | V121: =1-(S121/S120) -> #DIV/0! | Y121: =1-(V121/V120) -> #DIV/0! | AB121: =1-(Y121/Y120) -> #DIV/0! | AE121: =1-(AB121/AB120) -> #DIV/0! | AH121: =1-(AE121/AE120) -> #DIV/0! | AK121: =1-(AH121/AH120) -> #DIV/0! | AN121: =1-(AK121/AK120) -> #DIV/0! | AQ121: =1-(AN121/AN120) -> #DIV/0! | AT121: =1-(AQ121/AQ120) -> #DIV/0! | AW121: =1-(AT121/AT120) -> #DIV/0! | AZ121: =1-(AW121/AW120) -> #DIV/0! | BC121: =1-(AZ121/AZ120) -> #DIV/0!
H123: =+H98-H99 -> 0 | I123: =+I98-I99 -> 0 | J123: =+J98-J99 -> 0 | K123: =+K98-K99 -> 0 | L123: =+L98-L99 -> 0 | M123: =+M98-M99 -> 0 | N123: =+N98-N99 -> 0 | O123: =+O98-O99 -> 0 | ... BE123: =+BE98-BE99 -> 0
D130: NORTE | E130: CENTRO | F130: SUR
C131: instalacion | D131: 15334627 | E131: 0 | F131: 9650908
C132: preventivo | D132: 55325624 | E132: 33735658 | F132: 30192764
C133: compra | D133: 1726230 | E133: 0 | F133: 0
D134: =SUM(D131:D133) -> 72386481 | E134: =SUM(E131:E133) -> 33735658 | F134: =SUM(F131:F133) -> 39843672 | G134: =SUM(D134:F134) -> 145965811
C135: Correctivo | D135: 31653250 | E135: 10781000 | F135: 11152500
D136: =+D134+D135 -> 104039731 | E136: =+E134+E135 -> 44516658 | F136: =+F134+F135 -> 50996172
D138: TOTAL | E138: =+D136+E136+F136 -> 199552561

Sheet Colcap
B40: FECHA CIERRE | D40: 44371
B41: TOTAL OFERTAS | D41: 17
B42: VALOR COLCAP | D42: 1278.81
B44: FUENTE
B45: http://www.banrep.gov.co/es/igbc
B46: https://www.bvc.com.co/pps/tibco/portalbvc/Home/Mercados/enlinea/indicesbursatiles

Sheet EVA. ECONOMICA (2)
D3: FORMATO DE VERIFICACION
D4: FORMULA ECONÓMICA
B5: SAMC- ARN-654-2021
B6: ADQUISICIÓN E INSTALACION DE EQUIPOS DE AIRES ACONDICIONADOS Y/O VENTILADORES TIPO PEDESTAL Y/O MANTENIMIENTO PREVENTIVO Y/O CORRECTIVO DE EQUIPOS DE AIRES ACONDICIONADOS INCLUYENDO EL SUMINISTRO DE MATERIALES Y REPUESTOS
B7: ASIGNACION MEDIA GEOMETRICA PUNTAJE MAXIMO : 500 PUNTOS
B8: No. | C8: PROPONENTE | F8: VALOR OFERTADO | G8: HABILITADOS | H8: PUNTAJE | I8: HABILITADO/ NOHABILITADO | J8: OBSERVACIONES
B9: 13 | C9: =+'Verif.Ofertas CENTRO'!AQ2 -> GRUPO SKY DE COLOMBIA S.A.S | F9: =+'Verif.Ofertas CENTRO'!AR82 -> 28120000 | H9: 500
B10: 14 | C10: =+'Verif.Ofertas CENTRO'!AT2 -> NIC SERVICIOS SAS | F10: =+'Verif.Ofertas CENTRO'!AU82 -> 30200000 | H10: =500-(500*ABS(F10-$D$42)/$D$42) -> 463.01565
B11: 10 | C11: =+'Verif.Ofertas CENTRO'!AH2 -> TERMEC LIMITADA | F11: =+'Verif.Ofertas CENTRO'!AI82 -> 31190808 | H11: =500-(500*ABS(F11-$D$42)/$D$42) -> 445.39815
B12: 1 | C12: =+'Verif.Ofertas CENTRO'!G2 -> FRICON SOLUCIONES SAS | F12: =+'Verif.Ofertas CENTRO'!H82 -> 32244200 | H12: =500-(500*ABS(F12-$D$42)/$D$42) -> 426.66785 | O12: MEDIA ARMONICA | P12: =HARMEAN(F9:F22) -> 29736723
B13: 11 | C13: =+'Verif.Ofertas CENTRO'!AK2 -> PROSERMAN SAS | F13: =+'Verif.Ofertas CENTRO'!AL82 -> 32723602 | H13: =500-(500*ABS(F13-$D$42)/$D$42) -> 418.14363 | N13: 13 | O13: GRUPO SKY DE COLOMBIA S.A.S | P13: 28120000
B14: 5 | C14: =+'Verif.Ofertas CENTRO'!S2 -> EXPERTOS INGENIEROS S.A.S. | F14: =+'Verif.Ofertas CENTRO'!T82 -> 32753068 | H14: =500-(500*ABS(F14-$D$42)/$D$42) -> 417.6197
B15: 3 | C15: =+'Verif.Ofertas CENTRO'!M2 -> ASESORIAS Y ACABADOS AVILA SAS | F15: =+'Verif.Ofertas CENTRO'!N82 -> 32993466 | H15: =500-(500*ABS(F15-$D$42)/$D$42) -> 413.3452
B16: 8 | C16: =+'Verif.Ofertas CENTRO'!AB2 -> GOURIYU SISTEMS S.A.S. | F16: =+'Verif.Ofertas CENTRO'!AC82 -> 33060950 | H16: =500-(500*ABS(F16-$D$42)/$D$42) -> 412.14527
B17: 12 | C17: =+'Verif.Ofertas CENTRO'!AN2 -> CONINCAG SAS | F17: =+'Verif.Ofertas CENTRO'!AO82 -> 33104728 | H17: =500-(500*ABS(F17-$D$42)/$D$42) -> 411.36686
B18: 7 | C18: =+'Verif.Ofertas CENTRO'!Y2 -> CONSTRUCCIONES J & LG S.A.S | F18: =+'Verif.Ofertas CENTRO'!Z82 -> 33229640 | H18: =500-(500*ABS(F18-$D$42)/$D$42) -> 409.1458
B19: 2 | C19: =+'Verif.Ofertas CENTRO'!J2 -> TCB IMPRESOS SOLUCIONES Y SUMINISTROS SAS | F19: =+'Verif.Ofertas CENTRO'!K82 -> 33398300 | H19: =500-(500*ABS(F19-$D$42)/$D$42) -> 406.14687
B20: 9 | C20: =+'Verif.Ofertas CENTRO'!AE2 -> SUBE INGENIERIA | F20: =+'Verif.Ofertas CENTRO'!AF82 -> 33735658 | H20: =500-(500*ABS(F20-$D$42)/$D$42) -> 400.14833
B21: 4 | C21: =+'Verif.Ofertas CENTRO'!P2 -> INGEMET JYS SAS | F21: =+'Verif.Ofertas CENTRO'!Q82 -> 21260000 | H21: =500-(500*ABS(F21-$D$42)/$D$42) -> 378.02276
B22: 6 | C22: =+'Verif.Ofertas CENTRO'!V2 -> ACONDICLIMA INGENIERIA Y CONSTRUCCION SAS | F22: =+'Verif.Ofertas CENTRO'!W82 -> 19809110 | H22: =500-(500*ABS(F22-$D$42)/$D$42) -> 352.22457
D25: MEDIA ARMONICA | F25: =HARMEAN(F9:F22) -> 29736723
B27: 1 | C27: =IF(F9<$F$25,"MENOR VALOR","NO APLICA") -> MENOR VALOR | D27: =IF(C27="MENOR VALOR",F9,0) -> 28120000
B28: 2 | C28: =IF(F10<$F$25,"MENOR VALOR","NO APLICA") -> NO APLICA | D28: =IF(C28="MENOR VALOR",F10,0) -> 0
B29: 3 | C29: =IF(F11<$F$25,"MENOR VALOR","NO APLICA") -> NO APLICA | D29: =IF(C29="MENOR VALOR",F11,0) -> 0
B30: 4 | C30: =IF(F12<$F$25,"MENOR VALOR","NO APLICA") -> NO APLICA | D30: =IF(C30="MENOR VALOR",F12,0) -> 0
B31: 5 | C31: =IF(F13<$F$25,"MENOR VALOR","NO APLICA") -> NO APLICA | D31: =IF(C31="MENOR VALOR",F13,0) -> 0
B32: 6 | C32: =IF(F14<$F$25,"MENOR VALOR","NO APLICA") -> NO APLICA | D32: =IF(C32="MENOR VALOR",F14,0) -> 0
B33: 7 | C33: =IF(F15<$F$25,"MENOR VALOR","NO APLICA") -> NO APLICA | D33: =IF(C33="MENOR VALOR",F15,0) -> 0
B34: 8 | C34: =IF(F16<$F$25,"MENOR VALOR","NO APLICA") -> NO APLICA | D34: =IF(C34="MENOR VALOR",F16,0) -> 0
B35: 9 | C35: =IF(F17<$F$25,"MENOR VALOR","NO APLICA") -> NO APLICA | D35: =IF(C35="MENOR VALOR",F17,0) -> 0
B36: 10 | C36: =IF(F18<$F$25,"MENOR VALOR","NO APLICA") -> NO APLICA | D36: =IF(C36="MENOR VALOR",F18,0) -> 0
B37: 11 | C37: =IF(F19<$F$25,"MENOR VALOR","NO APLICA") -> NO APLICA | D37: =IF(C37="MENOR VALOR",F19,0) -> 0
B38: 12 | C38: =IF(F20<$F$25,"MENOR VALOR","NO APLICA") -> NO APLICA | D38: =IF(C38="MENOR VALOR",F20,0) -> 0
... B40: 14 | C40: =IF(F22<$F$25,"MENOR VALOR","NO APLICA") -> MENOR VALOR | D40: =IF(C40="MENOR VALOR",F22,0) -> 19809110
C42: Vr menor media geometrica | D42: =MAX(D27:D40) -> 28120000
C44: Elaborado por:
C45: ALEX JULIAN MOJICA SIERRA Profesional Especializado - Grupo Gestion Contractual. 29 de Junio de 2021
C47: _____________________________________

Sheet Verif.Ofertas CENTRO
G1: 1 | J1: 2 | M1: 3 | P1: 4 | S1: 5 | V1: 6 | Y1: 7 | AB1: 8 | AE1: 9 | AH1: 10 | AK1: 11 | AN1: 12 | AQ1: 13 | AT1: 14 | AW1: 15 | AZ1: 16 | BC1: 17
A2: VERIFICACION DE PRECIOS UNITARIOS SUBASTA INVERSA No SAMC-ARN-654-2021 ADQUISICIÓN E INSTALACION DE EQUIPOS DE AIRES ACONDICIONADOS Y/O VENTILADORES TIPO PEDESTAL Y/O MANTENIMIENTO PREVENTIVO Y/O CORRECTIVO DE EQUIPOS DE AIRES ACONDICIONADOS INCLUYENDO EL SUMINISTRO DE MATERIALES Y REPUESTOS | G2: FRICON SOLUCIONES SAS | J2: TCB IMPRESOS SOLUCIONES Y SUMINISTROS SAS | M2: ASESORIAS Y ACABADOS AVILA SAS | P2: INGEMET JYS SAS | S2: EXPERTOS INGENIEROS S.A.S. | V2: ACONDICLIMA INGENIERIA Y CONSTRUCCION SAS | Y2: CONSTRUCCIONES J & LG S.A.S | AB2: GOURIYU SISTEMS S.A.S. | AE2: SUBE INGENIERIA | AH2: TERMEC LIMITADA | AK2: PROSERMAN SAS | AN2: CONINCAG SAS | AQ2: GRUPO SKY DE COLOMBIA S.A.S | AT2: NIC SERVICIOS SAS
A3: ITEM | B3: Descripción | C3: Cantidad | D3: Unidad | E3: Precio unitario estimado | F3: SUBTOTAL UNITARIO | G3: VALOR UNITARIO OFERTADO | H3: VALOR TOTAL UNITARIO | I3: VERIFICACION | J3: VALOR UNITARIO OFERTADO | K3: VALOR TOTAL UNITARIO | L3: VERIFICACION | M3: VALOR UNITARIO OFERTADO | N3: VALOR TOTAL UNITARIO | O3: VERIFICACION | P3: VALOR UNITARIO OFERTADO | Q3: VALOR TOTAL UNITARIO | R3: VERIFICACION | S3: VALOR UNITARIO OFERTADO | T3: VALOR TOTAL UNITARIO | U3: VERIFICACION | V3: VALOR UNITARIO OFERTADO | W3: VALOR TOTAL UNITARIO | X3: VERIFICACION | Y3: VALOR UNITARIO OFERTADO | Z3: VALOR TOTAL UNITARIO | AA3: VERIFICACION | AB3: VALOR UNITARIO OFERTADO | AC3: VALOR TOTAL UNITARIO | AD3: VERIFICACION | AE3: VALOR UNITARIO OFERTADO | AF3: VALOR TOTAL UNITARIO | AG3: VERIFICACION | AH3: VALOR UNITARIO OFERTADO | AI3: VALOR TOTAL UNITARIO | AJ3: VERIFICACION | AK3: VALOR UNITARIO OFERTADO | AL3: VALOR TOTAL UNITARIO | AM3: VERIFICACION | AN3: VALOR UNITARIO OFERTADO | AO3: VALOR TOTAL UNITARIO | AP3: VERIFICACION | AQ3: VALOR UNITARIO OFERTADO | AR3: VALOR TOTAL UNITARIO | AS3: VERIFICACION | AT3: VALOR UNITARIO OFERTADO | AU3: VALOR TOTAL UNITARIO | AV3: VERIFICACION
A4: 2 | B4: MANTENIMIENTO PREVENTIVO DE AIRES ACONDICIONADOS EXISTENTES EN LAS OFICINAS DE LA ARN DE ACUERDO A LAS ESPECIFICACIONES TECNICAS DESCRITAS EN ANEXO TÉCNICO (IVA INCLUIDO) | E4: 0 | F4: =+C4*E4 -> 0 | G4: 0 | H4: =+G4*$C4 -> 0 | I4: =IF(G4>$E4,"ERROR","OK") -> OK | K4: =+J4*$C4 -> 0 | L4: =IF(J4>$E4,"ERROR","OK") -> OK | N4: =+M4*$C4 -> 0 | O4: =IF(M4>$E4,"ERROR","OK") -> OK | Q4: =+P4*$C4 -> 0 | R4: =IF(P4>$E4,"ERROR","OK") -> OK | T4: =+S4*$C4 -> 0 | U4: =IF(S4>$E4,"ERROR","OK") -> OK | W4: =+V4*$C4 -> 0 | X4: =IF(V4>$E4,"ERROR","OK") -> OK | Z4: =+Y4*$C4 -> 0 | AA4: =IF(Y4>$E4,"ERROR","OK") -> OK | AC4: =+AB4*$C4 -> 0 | AD4: =IF(AB4>$E4,"ERROR","OK") -> OK | AF4: =+AE4*$C4 -> 0 | AG4: =IF(AE4>$E4,"ERROR","OK") -> OK | AI4: =+AH4*$C4 -> 0 | AJ4: =IF(AH4>$E4,"ERROR","OK") -> OK | AL4: =+AK4*$C4 -> 0 | AM4: =IF(AK4>$E4,"ERROR","OK") -> OK | AO4: =+AN4*$C4 -> 0 | AP4: =IF(AN4>$E4,"ERROR","OK") -> OK | AR4: =+AQ4*$C4 -> 0 | AS4: =IF(AQ4>$E4,"ERROR","OK") -> OK | AU4: =+AT4*$C4 -> 0 | AV4: =IF(AT4>$E4,"ERROR","OK") -> OK
A5: 2.1 | B5: Quibdó_12000_BTU | C5: 2 | D5: UN | E5: 243077 | F5: =+C5*E5 -> 486154 | G5: 232300 | H5: =+G5*$C5 -> 464600 | I5: =IF(G5>$E5,"ERROR","OK") -> OK | J5: 240646 | K5: =+J5*$C5 -> 481292 | L5: =IF(J5>$E5,"ERROR","OK") -> OK | M5: 237729 | N5: =+M5*$C5 -> 475458 | O5: =IF(M5>$E5,"ERROR","OK") -> OK | P5: 160000 | Q5: =+P5*$C5 -> 320000 | R5: =IF(P5>$E5,"ERROR","OK") -> OK | S5: 235997 | T5: =+S5*$C5 -> 471994 | U5: =IF(S5>$E5,"ERROR","OK") -> OK | V5: 227038 | W5: =+V5*$C5 -> 454076 | X5: =IF(V5>$E5,"ERROR","OK") -> OK | Y5: 239431 | Z5: =+Y5*$C5 -> 478862 | AA5: =IF(Y5>$E5,"ERROR","OK") -> OK | AB5: 238215 | AC5: =+AB5*$C5 -> 476430 | AD5: =IF(AB5>$E5,"ERROR","OK") -> OK | AE5: 243077 | AF5: =+AE5*$C5 -> 486154 | AG5: =IF(AE5>$E5,"ERROR","OK") -> OK | AH5: 238215 | AI5: =+AH5*$C5 -> 476430 | AJ5: =IF(AH5>$E5,"ERROR","OK") -> OK | AK5: 235785 | AL5: =+AK5*$C5 -> 471570 | AM5: =IF(AK5>$E5,"ERROR","OK") -> OK | AN5: 238531 | AO5: =+AN5*$C5 -> 477062 | AP5: =IF(AN5>$E5,"ERROR","OK") -> OK | AQ5: 210000 | AR5: =+AQ5*$C5 -> 420000 | AS5: =IF(AQ5>$E5,"ERROR","OK") -> OK | AT5: 230000 | AU5: =+AT5*$C5 -> 460000 | AV5: =IF(AT5>$E5,"ERROR","OK") -> OK
A6: 2.2 | B6: Quibdó_24000_BTU | C6: 2 | D6: UN | E6: 260549 | F6: =+C6*E6 -> 521098 | G6: 249000 | H6: =+G6*$C6 -> 498000 | I6: =IF(G6>$E6,"ERROR","OK") -> OK | J6: 257944 | K6: =+J6*$C6 -> 515888 | L6: =IF(J6>$E6,"ERROR","OK") -> OK | M6: 254817 | N6: =+M6*$C6 -> 509634 | O6: =IF(M6>$E6,"ERROR","OK") -> OK | P6: 160000 | Q6: =+P6*$C6 -> 320000 | R6: =IF(P6>$E6,"ERROR","OK") -> OK | S6: 252960 | T6: =+S6*$C6 -> 505920 | U6: =IF(S6>$E6,"ERROR","OK") -> OK | V6: 227038 | W6: =+V6*$C6 -> 454076 | X6: =IF(V6>$E6,"ERROR","OK") -> OK | Y6: 256641 | Z6: =+Y6*$C6 -> 513282 | AA6: =IF(Y6>$E6,"ERROR","OK") -> OK | AB6: 255338 | AC6: =+AB6*$C6 -> 510676 | AD6: =IF(AB6>$E6,"ERROR","OK") -> OK | AE6: 260549 | AF6: =+AE6*$C6 -> 521098 | AG6: =IF(AE6>$E6,"ERROR","OK") -> OK | AH6: 255338 | AI6: =+AH6*$C6 -> 510676 | AJ6: =IF(AH6>$E6,"ERROR","OK") -> OK | AK6: 252733 | AL6: =+AK6*$C6 -> 505466 | AM6: =IF(AK6>$E6,"ERROR","OK") -> OK | AN6: 255676 | AO6: =+AN6*$C6 -> 511352 | AP6: =IF(AN6>$E6,"ERROR","OK") -> OK | AQ6: 220000 | AR6: =+AQ6*$C6 -> 440000 | AS6: =IF(AQ6>$E6,"ERROR","OK") -> OK | AT6: 240000 | AU6: =+AT6*$C6 -> 480000 | AV6: =IF(AT6>$E6,"ERROR","OK") -> OK
A7: 2.3 | B7: Yopal_9000_BTU | C7: 6 | D7: UN | E7: 252981 | F7: =+C7*E7 -> 1517886 | G7: 241800 | H7: =+G7*$C7 -> 1450800 | I7: =IF(G7>$E7,"ERROR","OK") -> OK | J7: 250451 | K7: =+J7*$C7 -> 1502706 | L7: =IF(J7>$E7,"ERROR","OK") -> OK | M7: 247415 | N7: =+M7*$C7 -> 1484490 | O7: =IF(M7>$E7,"ERROR","OK") -> OK | P7: 160000 | Q7: =+P7*$C7 -> 960000 | R7: =IF(P7>$E7,"ERROR","OK") -> OK | S7: 245613 | T7: =+S7*$C7 -> 1473678 | U7: =IF(S7>$E7,"ERROR","OK") -> OK | V7: 151358 | W7: =+V7*$C7 -> 908148 | X7: =IF(V7>$E7,"ERROR","OK") -> OK | Y7: 249186 | Z7: =+Y7*$C7 -> 1495116 | AA7: =IF(Y7>$E7,"ERROR","OK") -> OK | AB7: 247921 | AC7: =+AB7*$C7 -> 1487526 | AD7: =IF(AB7>$E7,"ERROR","OK") -> OK | AE7: 252981 | AF7: =+AE7*$C7 -> 1517886 | AG7: =IF(AE7>$E7,"ERROR","OK") -> OK | AH7: 247921 | AI7: =+AH7*$C7 -> 1487526 | AJ7: =IF(AH7>$E7,"ERROR","OK") -> OK | AK7: 245392 | AL7: =+AK7*$C7 -> 1472352 | AM7: =IF(AK7>$E7,"ERROR","OK") -> OK | AN7: 248250 | AO7: =+AN7*$C7 -> 1489500 | AP7: =IF(AN7>$E7,"ERROR","OK") -> OK | AQ7: 220000 | AR7: =+AQ7*$C7 -> 1320000 | AS7: =IF(AQ7>$E7,"ERROR","OK") -> OK | AT7: 240000 | AU7: =+AT7*$C7 -> 1440000 | AV7: =IF(AT7>$E7,"ERROR","OK") -> OK
A8: 2.4 | B8: Yopal_12000_BTU | C8: 4 | E8: 249681 | F8: =+C8*E8 -> 998724 | G8: 238600 | H8: =+G8*$C8 -> 954400 | I8: =IF(G8>$E8,"ERROR","OK") -> OK | J8: 247184 | K8: =+J8*$C8 -> 988736 | L8: =IF(J8>$E8,"ERROR","OK") -> OK | M8: 244188 | N8: =+M8*$C8 -> 976752 | O8: =IF(M8>$E8,"ERROR","OK") -> OK | P8: 160000 | Q8: =+P8*$C8 -> 640000 | R8: =IF(P8>$E8,"ERROR","OK") -> OK | S8: 242409 | T8: =+S8*$C8 -> 969636 | U8: =IF(S8>$E8,"ERROR","OK") -> OK | V8: 151358 | W8: =+V8*$C8 -> 605432 | X8: =IF(V8>$E8,"ERROR","OK") -> OK | Y8: 245936 | Z8: =+Y8*$C8 -> 983744 | AA8: =IF(Y8>$E8,"ERROR","OK") -> OK | AB8: 244687 | AC8: =+AB8*$C8 -> 978748 | AD8: =IF(AB8>$E8,"ERROR","OK") -> OK | AE8: 249681 | AF8: =+AE8*$C8 -> 998724 | AG8: =IF(AE8>$E8,"ERROR","OK") -> OK | AH8: 244687 | AI8: =+AH8*$C8 -> 978748 | AJ8: =IF(AH8>$E8,"ERROR","OK") -> OK | AK8: 242191 | AL8: =+AK8*$C8 -> 968764 | AM8: =IF(AK8>$E8,"ERROR","OK") -> OK | AN8: 245011 | AO8: =+AN8*$C8 -> 980044 | AP8: =IF(AN8>$E8,"ERROR","OK") -> OK | AQ8: 210000 | AR8: =+AQ8*$C8 -> 840000 | AS8: =IF(AQ8>$E8,"ERROR","OK") -> OK | AT8: 230000 | AU8: =+AT8*$C8 -> 920000 | AV8: =IF(AT8>$E8,"ERROR","OK") -> OK
A9: 2.5 | B9: Yopal_18000_BTU | C9: 6 | D9: UN | E9: 259963 | F9: =+C9*E9 -> 1559778 | G9: 248500 | H9: =+G9*$C9 -> 1491000 | I9: =IF(G9>$E9,"ERROR","OK") -> OK | J9: 257363 | K9: =+J9*$C9 -> 1544178 | L9: =IF(J9>$E9,"ERROR","OK") -> OK | M9: 254244 | N9: =+M9*$C9 -> 1525464 | O9: =IF(M9>$E9,"ERROR","OK") -> OK | P9: 160000 | Q9: =+P9*$C9 -> 960000 | R9: =IF(P9>$E9,"ERROR","OK") -> OK | S9: 252391 | T9: =+S9*$C9 -> 1514346 | U9: =IF(S9>$E9,"ERROR","OK") -> OK | V9: 151358 | W9: =+V9*$C9 -> 908148 | X9: =IF(V9>$E9,"ERROR","OK") -> OK | Y9: 256064 | Z9: =+Y9*$C9 -> 1536384 | AA9: =IF(Y9>$E9,"ERROR","OK") -> OK | AB9: 254764 | AC9: =+AB9*$C9 -> 1528584 | AD9: =IF(AB9>$E9,"ERROR","OK") -> OK | AE9: 259963 | AF9: =+AE9*$C9 -> 1559778 | AG9: =IF(AE9>$E9,"ERROR","OK") -> OK | AH9: 254764 | AI9: =+AH9*$C9 -> 1528584 | AJ9: =IF(AH9>$E9,"ERROR","OK") -> OK | AK9: 252164 | AL9: =+AK9*$C9 -> 1512984 | AM9: =IF(AK9>$E9,"ERROR","OK") -> OK | AN9: 255101 | AO9: =+AN9*$C9 -> 1530606 | AP9: =IF(AN9>$E9,"ERROR","OK") -> OK | AQ9: 210000 | AR9: =+AQ9*$C9 -> 1260000 | AS9: =IF(AQ9>$E9,"ERROR","OK") -> OK | AT9: 230000 | AU9: =+AT9*$C9 -> 1380000 | AV9: =IF(AT9>$E9,"ERROR","OK") -> OK
A10: 2.6 | B10: Yopal_24000_BTU | C10: 2 | D10: UN | E10: 272489 | F10: =+C10*E10 -> 544978 | G10: 260400 | H10: =+G10*$C10 -> 520800 | I10: =IF(G10>$E10,"ERROR","OK") -> OK | J10: 269764 | K10: =+J10*$C10 -> 539528 | L10: =IF(J10>$E10,"ERROR","OK") -> OK | M10: 266494 | N10: =+M10*$C10 -> 532988 | O10: =IF(M10>$E10,"ERROR","OK") -> OK | P10: 160000 | Q10: =+P10*$C10 -> 320000 | R10: =IF(P10>$E10,"ERROR","OK") -> OK | S10: 264552 | T10: =+S10*$C10 -> 529104 | U10: =IF(S10>$E10,"ERROR","OK") -> OK | V10: 151358 | W10: =+V10*$C10 -> 302716 | X10: =IF(V10>$E10,"ERROR","OK") -> OK | Y10: 268402 | Z10: =+Y10*$C10 -> 536804 | AA10: =IF(Y10>$E10,"ERROR","OK") -> OK | AB10: 267039 | AC10: =+AB10*$C10 -> 534078 | AD10: =IF(AB10>$E10,"ERROR","OK") -> OK | AE10: 272489 | AF10: =+AE10*$C10 -> 544978 | AG10: =IF(AE10>$E10,"ERROR","OK") -> OK | AH10: 267039 | AI10: =+AH10*$C10 -> 534078 | AJ10: =IF(AH10>$E10,"ERROR","OK") -> OK | AK10: 264314 | AL10: =+AK10*$C10 -> 528628 | AM10: =IF(AK10>$E10,"ERROR","OK") -> OK | AN10: 267393 | AO10: =+AN10*$C10 -> 534786 | AP10: =IF(AN10>$E10,"ERROR","OK") -> OK | AQ10: 220000 | AR10: =+AQ10*$C10 -> 440000 | AS10: =IF(AQ10>$E10,"ERROR","OK") -> OK | AT10: 240000 | AU10: =+AT10*$C10 -> 480000 | AV10: =IF(AT10>$E10,"ERROR","OK") -> OK
A11: 2.7 | B11: Villavicencio_12000_BTU | C11: 24 | D11: UN | E11: 229868 | F11: =+C11*E11 -> 5516832 | G11: 219700 | H11: =+G11*$C11 -> 5272800 | I11: =IF(G11>$E11,"ERROR","OK") -> OK | J11: 227569 | K11: =+J11*$C11 -> 5461656 | L11: =IF(J11>$E11,"ERROR","OK") -> OK | M11: 224811 | N11: =+M11*$C11 -> 5395464 | O11: =IF(M11>$E11,"ERROR","OK") -> OK | P11: 160000 | Q11: =+P11*$C11 -> 3840000 | R11: =IF(P11>$E11,"ERROR","OK") -> OK | S11: 223173 | T11: =+S11*$C11 -> 5356152 | U11: =IF(S11>$E11,"ERROR","OK") -> OK | V11: 132440 | W11: =+V11*$C11 -> 3178560 | X11: =IF(V11>$E11,"ERROR","OK") -> OK | Y11: 226420 | Z11: =+Y11*$C11 -> 5434080 | AA11: =IF(Y11>$E11,"ERROR","OK") -> OK | AB11: 225271 | AC11: =+AB11*$C11 -> 5406504 | AD11: =IF(AB11>$E11,"ERROR","OK") -> OK | AE11: 229868 | AF11: =+AE11*$C11 -> 5516832 | AG11: =IF(AE11>$E11,"ERROR","OK") -> OK | AH11: 206881 | AI11: =+AH11*$C11 -> 4965144 | AJ11: =IF(AH11>$E11,"ERROR","OK") -> OK | AK11: 222972 | AL11: =+AK11*$C11 -> 5351328 | AM11: =IF(AK11>$E11,"ERROR","OK") -> OK | AN11: 225569 | AO11: =+AN11*$C11 -> 5413656 | AP11: =IF(AN11>$E11,"ERROR","OK") -> OK | AQ11: 190000 | AR11: =+AQ11*$C11 -> 4560000 | AS11: =IF(AQ11>$E11,"ERROR","OK") -> OK | AT11: 200000 | AU11: =+AT11*$C11 -> 4800000 | AV11: =IF(AT11>$E11,"ERROR","OK") -> OK
A12: 2.8 | B12: Villavicencio_18000_BTU | C12: 2 | D12: UN | E12: 250961 | F12: =+C12*E12 -> 501922 | G12: 239900 | H12: =+G12*$C12 -> 479800 | I12: =IF(G12>$E12,"ERROR","OK") -> OK | J12: 248451 | K12: =+J12*$C12 -> 496902 | L12: =IF(J12>$E12,"ERROR","OK") -> OK | M12: 245440 | N12: =+M12*$C12 -> 490880 | O12: =IF(M12>$E12,"ERROR","OK") -> OK | P12: 160000 | Q12: =+P12*$C12 -> 320000 | R12: =IF(P12>$E12,"ERROR","OK") -> OK | S12: 243651 | T12: =+S12*$C12 -> 487302 | U12: =IF(S12>$E12,"ERROR","OK") -> OK | V12: 132440 | W12: =+V12*$C12 -> 264880 | X12: =IF(V12>$E12,"ERROR","OK") -> OK | Y12: 247197 | Z12: =+Y12*$C12 -> 494394 | AA12: =IF(Y12>$E12,"ERROR","OK") -> OK | AB12: 245942 | AC12: =+AB12*$C12 -> 491884 | AD12: =IF(AB12>$E12,"ERROR","OK") -> OK | AE12: 250961 | AF12: =+AE12*$C12 -> 501922 | AG12: =IF(AE12>$E12,"ERROR","OK") -> OK | AH12: 225865 | AI12: =+AH12*$C12 -> 451730 | AJ12: =IF(AH12>$E12,"ERROR","OK") -> OK | AK12: 243432 | AL12: =+AK12*$C12 -> 486864 | AM12: =IF(AK12>$E12,"ERROR","OK") -> OK | AN12: 246268 | AO12: =+AN12*$C12 -> 492536 | AP12: =IF(AN12>$E12,"ERROR","OK") -> OK | AQ12: 210000 | AR12: =+AQ12*$C12 -> 420000 | AS12: =IF(AQ12>$E12,"ERROR","OK") -> OK | AT12: 230000 | AU12: =+AT12*$C12 -> 460000 | AV12: =IF(AT12>$E12,"ERROR","OK") -> OK
A13: 2.9 | B13: Villavicencio_36000_BTU | C13: 2 | D13: UN | E13: 321344 | F13: =+C13*E13 -> 642688 | G13: 307200 | H13: =+G13*$C13 -> 614400 | I13: =IF(G13>$E13,"ERROR","OK") -> OK | J13: 318131 | K13: =+J13*$C13 -> 636262 | L13: =IF(J13>$E13,"ERROR","OK") -> OK | M13: 314274 | N13: =+M13*$C13 -> 628548 | O13: =IF(M13>$E13,"ERROR","OK") -> OK | P13: 210000 | Q13: =+P13*$C13 -> 420000 | R13: =IF(P13>$E13,"ERROR","OK") -> OK | S13: 311984 | T13: =+S13*$C13 -> 623968 | U13: =IF(S13>$E13,"ERROR","OK") -> OK | V13: 132440 | W13: =+V13*$C13 -> 264880 | X13: =IF(V13>$E13,"ERROR","OK") -> OK | Y13: 316524 | Z13: =+Y13*$C13 -> 633048 | AA13: =IF(Y13>$E13,"ERROR","OK") -> OK | AB13: 314917 | AC13: =+AB13*$C13 -> 629834 | AD13: =IF(AB13>$E13,"ERROR","OK") -> OK | AE13: 321344 | AF13: =+AE13*$C13 -> 642688 | AG13: =IF(AE13>$E13,"ERROR","OK") -> OK | AH13: 289210 | AI13: =+AH13*$C13 -> 578420 | AJ13: =IF(AH13>$E13,"ERROR","OK") -> OK | AK13: 311704 | AL13: =+AK13*$C13 -> 623408 | AM13: =IF(AK13>$E13,"ERROR","OK") -> OK | AN13: 315334 | AO13: =+AN13*$C13 -> 630668 | AP13: =IF(AN13>$E13,"ERROR","OK") -> OK | AQ13: 270000 | AR13: =+AQ13*$C13 -> 540000 | AS13: =IF(AQ13>$E13,"ERROR","OK") -> OK | AT13: 290000 | AU13: =+AT13*$C13 -> 580000 | AV13: =IF(AT13>$E13,"ERROR","OK") -> OK
A14: 2.10 | B14: Bucaramanga_9000_BTU | C14: 2 | D14: UN | E14: 223001 | F14: =+C14*E14 -> 446002 | G14: 213100 | H14: =+G14*$C14 -> 426200 | I14: =IF(G14>$E14,"ERROR","OK") -> OK | J14: 220771 | K14: =+J14*$C14 -> 441542 | L14: =IF(J14>$E14,"ERROR","OK") -> OK | M14: 218095 | N14: =+M14*$C14 -> 436190 | O14: =IF(M14>$E14,"ERROR","OK") -> OK | P14: 150000 | Q14: =+P14*$C14 -> 300000 | R14: =IF(P14>$E14,"ERROR","OK") -> OK | S14: 216509 | T14: =+S14*$C14 -> 433018 | U14: =IF(S14>$E14,"ERROR","OK") -> OK | V14: 122979 | W14: =+V14*$C14 -> 245958 | X14: =IF(V14>$E14,"ERROR","OK") -> OK | Y14: 219656 | Z14: =+Y14*$C14 -> 439312 | AA14: =IF(Y14>$E14,"ERROR","OK") -> OK | AB14: 218541 | AC14: =+AB14*$C14 -> 437082 | AD14: =IF(AB14>$E14,"ERROR","OK") -> OK | AE14: 223001 | AF14: =+AE14*$C14 -> 446002 | AG14: =IF(AE14>$E14,"ERROR","OK") -> OK | AH14: 218541 | AI14: =+AH14*$C14 -> 437082 | AJ14: =IF(AH14>$E14,"ERROR","OK") -> OK | AK14: 216311 | AL14: =+AK14*$C14 -> 432622 | AM14: =IF(AK14>$E14,"ERROR","OK") -> OK | AN14: 218830 | AO14: =+AN14*$C14 -> 437660 | AP14: =IF(AN14>$E14,"ERROR","OK") -> OK | AQ14: 190000 | AR14: =+AQ14*$C14 -> 380000 | AS14: =IF(AQ14>$E14,"ERROR","OK") -> OK | AT14: 200000 | AU14: =+AT14*$C14 -> 400000 | AV14: =IF(AT14>$E14,"ERROR","OK") -> OK
A15: 2.11 | B15: Bucaramanga_12000_BTU | C15: 14 | D15: UN | E15: 224001 | F15: =+C15*E15 -> 3136014 | G15: 214100 | H15: =+G15*$C15 -> 2997400 | I15: =IF(G15>$E15,"ERROR","OK") -> OK | J15: 221761 | K15: =+J15*$C15 -> 3104654 | L15: =IF(J15>$E15,"ERROR","OK") -> OK | M15: 219073 | N15: =+M15*$C15 -> 3067022 | O15: =IF(M15>$E15,"ERROR","OK") -> OK | P15: 150000 | Q15: =+P15*$C15 -> 2100000 | R15: =IF(P15>$E15,"ERROR","OK") -> OK | S15: 217477 | T15: =+S15*$C15 -> 3044678 | U15: =IF(S15>$E15,"ERROR","OK") -> OK | V15: 122979 | W15: =+V15*$C15 -> 1721706 | X15: =IF(V15>$E15,"ERROR","OK") -> OK | Y15: 220641 | Z15: =+Y15*$C15 -> 3088974 | AA15: =IF(Y15>$E15,"ERROR","OK") -> OK | AB15: 219521 | AC15: =+AB15*$C15 -> 3073294 | AD15: =IF(AB15>$E15,"ERROR","OK") -> OK | AE15: 224001 | AF15: =+AE15*$C15 -> 3136014 | AG15: =IF(AE15>$E15,"ERROR","OK") -> OK | AH15: 219521 | AI15: =+AH15*$C15 -> 3073294 | AJ15: =IF(AH15>$E15,"ERROR","OK") -> OK | AK15: 217281 | AL15: =+AK15*$C15 -> 3041934 | AM15: =IF(AK15>$E15,"ERROR","OK") -> OK | AN15: 219812 | AO15: =+AN15*$C15 -> 3077368 | AP15: =IF(AN15>$E15,"ERROR","OK") -> OK | AQ15: 190000 | AR15: =+AQ15*$C15 -> 2660000 | AS15: =IF(AQ15>$E15,"ERROR","OK") -> OK | AT15: 200000 | AU15: =+AT15*$C15 -> 2800000 | AV15: =IF(AT15>$E15,"ERROR","OK") -> OK
A16: 2.12 | B16: Bucaramanga_36000_BTU | C16: 2 | D16: UN | E16: 282614 | F16: =+C16*E16 -> 565228 | G16: 270100 | H16: =+G16*$C16 -> 540200 | I16: =IF(G16>$E16,"ERROR","OK") -> OK | J16: 279788 | K16: =+J16*$C16 -> 559576 | L16: =IF(J16>$E16,"ERROR","OK") -> OK | M16: 276396 | N16: =+M16*$C16 -> 552792 | O16: =IF(M16>$E16,"ERROR","OK") -> OK | P16: 180000 | Q16: =+P16*$C16 -> 360000 | R16: =IF(P16>$E16,"ERROR","OK") -> OK | S16: 274383 | T16: =+S16*$C16 -> 548766 | U16: =IF(S16>$E16,"ERROR","OK") -> OK | V16: 122979 | W16: =+V16*$C16 -> 245958 | X16: =IF(V16>$E16,"ERROR","OK") -> OK | Y16: 278375 | Z16: =+Y16*$C16 -> 556750 | AA16: =IF(Y16>$E16,"ERROR","OK") -> OK | AB16: 276962 | AC16: =+AB16*$C16 -> 553924 | AD16: =IF(AB16>$E16,"ERROR","OK") -> OK | AE16: 282614 | AF16: =+AE16*$C16 -> 565228 | AG16: =IF(AE16>$E16,"ERROR","OK") -> OK | AH16: 276962 | AI16: =+AH16*$C16 -> 553924 | AJ16: =IF(AH16>$E16,"ERROR","OK") -> OK | AK16: 274136 | AL16: =+AK16*$C16 -> 548272 | AM16: =IF(AK16>$E16,"ERROR","OK") -> OK | AN16: 277329 | AO16: =+AN16*$C16 -> 554658 | AP16: =IF(AN16>$E16,"ERROR","OK") -> OK | AQ16: 230000 | AR16: =+AQ16*$C16 -> 460000 | AS16: =IF(AQ16>$E16,"ERROR","OK") -> OK | AT16: 250000 | AU16: =+AT16*$C16 -> 500000 | AV16: =IF(AT16>$E16,"ERROR","OK") -> OK
A17: 2.13 | B17: San Jose del Guaviare 24000 BTU | C17: 16 | D17: UN | E17: 262633 | F17: =+C17*E17 -> 4202128 | G17: 251000 | H17: =+G17*$C17 -> 4016000 | I17: =IF(G17>$E17,"ERROR","OK") -> OK | J17: 260007 | K17: =+J17*$C17 -> 4160112 | L17: =IF(J17>$E17,"ERROR","OK") -> OK | M17: 256855 | N17: =+M17*$C17 -> 4109680 | O17: =IF(M17>$E17,"ERROR","OK") -> OK | P17: 160000 | Q17: =+P17*$C17 -> 2560000 | R17: =IF(P17>$E17,"ERROR","OK") -> OK | S17: 254983 | T17: =+S17*$C17 -> 4079728 | U17: =IF(S17>$E17,"ERROR","OK") -> OK | V17: 227038 | W17: =+V17*$C17 -> 3632608 | X17: =IF(V17>$E17,"ERROR","OK") -> OK | Y17: 258694 | Z17: =+Y17*$C17 -> 4139104 | AA17: =IF(Y17>$E17,"ERROR","OK") -> OK | AB17: 257380 | AC17: =+AB17*$C17 -> 4118080 | AD17: =IF(AB17>$E17,"ERROR","OK") -> OK | AE17: 262633 | AF17: =+AE17*$C17 -> 4202128 | AG17: =IF(AE17>$E17,"ERROR","OK") -> OK | AH17: 257380 | AI17: =+AH17*$C17 -> 4118080 | AJ17: =IF(AH17>$E17,"ERROR","OK") -> OK | AK17: 254754 | AL17: =+AK17*$C17 -> 4076064 | AM17: =IF(AK17>$E17,"ERROR","OK") -> OK | AN17: 257721 | AO17: =+AN17*$C17 -> 4123536 | AP17: =IF(AN17>$E17,"ERROR","OK") -> OK | AQ17: 210000 | AR17: =+AQ17*$C17 -> 3360000 | AS17: =IF(AQ17>$E17,"ERROR","OK") -> OK | AT17: 230000 | AU17: =+AT17*$C17 -> 3680000 | AV17: =IF(AT17>$E17,"ERROR","OK") -> OK
A18: 2.14 | B18: Cúcuta 12000 BTU | C18: 8 | D18: UN | E18: 202696 | F18: =+C18*E18 -> 1621568 | G18: 193700 | H18: =+G18*$C18 -> 1549600 | I18: =IF(G18>$E18,"ERROR","OK") -> OK | J18: 200669 | K18: =+J18*$C18 -> 1605352 | L18: =IF(J18>$E18,"ERROR","OK") -> OK | M18: 198237 | N18: =+M18*$C18 -> 1585896 | O18: =IF(M18>$E18,"ERROR","OK") -> OK | P18: 120000 | Q18: =+P18*$C18 -> 960000 | R18: =IF(P18>$E18,"ERROR","OK") -> OK | S18: 196792 | T18: =+S18*$C18 -> 1574336 | U18: =IF(S18>$E18,"ERROR","OK") -> OK | V18: 122979 | W18: =+V18*$C18 -> 983832 | X18: =IF(V18>$E18,"ERROR","OK") -> OK | Y18: 199656 | Z18: =+Y18*$C18 -> 1597248 | AA18: =IF(Y18>$E18,"ERROR","OK") -> OK | AB18: 198642 | AC18: =+AB18*$C18 -> 1589136 | AD18: =IF(AB18>$E18,"ERROR","OK") -> OK | AE18: 202696 | AF18: =+AE18*$C18 -> 1621568 | AG18: =IF(AE18>$E18,"ERROR","OK") -> OK | AH18: 198642 | AI18: =+AH18*$C18 -> 1589136 | AJ18: =IF(AH18>$E18,"ERROR","OK") -> OK | AK18: 196615 | AL18: =+AK18*$C18 -> 1572920 | AM18: =IF(AK18>$E18,"ERROR","OK") -> OK | AN18: 198905 | AO18: =+AN18*$C18 -> 1591240 | AP18: =IF(AN18>$E18,"ERROR","OK") -> OK | AQ18: 190000 | AR18: =+AQ18*$C18 -> 1520000 | AS18: =IF(AQ18>$E18,"ERROR","OK") -> OK | AT18: 200000 | AU18: =+AT18*$C18 -> 1600000 | AV18: =IF(AT18>$E18,"ERROR","OK") -> OK
A19: 2.15 | B19: Cúcuta 18000 BTU | C19: 4 | D19: UN | E19: 233192 | F19: =+C19*E19 -> 932768 | G19: 222900 | H19: =+G19*$C19 -> 891600 | I19: =IF(G19>$E19,"ERROR","OK") -> OK | J19: 230860 | K19: =+J19*$C19 -> 923440 | L19: =IF(J19>$E19,"ERROR","OK") -> OK | M19: 228062 | N19: =+M19*$C19 -> 912248 | O19: =IF(M19>$E19,"ERROR","OK") -> OK | P19: 130000 | Q19: =+P19*$C19 -> 520000 | R19: =IF(P19>$E19,"ERROR","OK") -> OK | S19: 226400 | T19: =+S19*$C19 -> 905600 | U19: =IF(S19>$E19,"ERROR","OK") -> OK | V19: 122979 | W19: =+V19*$C19 -> 491916 | X19: =IF(V19>$E19,"ERROR","OK") -> OK | Y19: 229694 | Z19: =+Y19*$C19 -> 918776 | AA19: =IF(Y19>$E19,"ERROR","OK") -> OK | AB19: 228528 | AC19: =+AB19*$C19 -> 914112 | AD19: =IF(AB19>$E19,"ERROR","OK") -> OK | AE19: 233192 | AF19: =+AE19*$C19 -> 932768 | AG19: =IF(AE19>$E19,"ERROR","OK") -> OK | AH19: 228528 | AI19: =+AH19*$C19 -> 914112 | AJ19: =IF(AH19>$E19,"ERROR","OK") -> OK | AK19: 226196 | AL19: =+AK19*$C19 -> 904784 | AM19: =IF(AK19>$E19,"ERROR","OK") -> OK | AN19: 228831 | AO19: =+AN19*$C19 -> 915324 | AP19: =IF(AN19>$E19,"ERROR","OK") -> OK | AQ19: 190000 | AR19: =+AQ19*$C19 -> 760000 | AS19: =IF(AQ19>$E19,"ERROR","OK") -> OK | AT19: 200000 | AU19: =+AT19*$C19 -> 800000 | AV19: =IF(AT19>$E19,"ERROR","OK") -> OK
A20: 2.16 | B20: Cúcuta 24000 BTU | C20: 2 | D20: UN | E20: 248710 | F20: =+C20*E20 -> 497420 | G20: 237700 | H20: =+G20*$C20 -> 475400 | I20: =IF(G20>$E20,"ERROR","OK") -> OK | J20: 246223 | K20: =+J20*$C20 -> 492446 | L20: =IF(J20>$E20,"ERROR","OK") -> OK | M20: 243238 | N20: =+M20*$C20 -> 486476 | O20: =IF(M20>$E20,"ERROR","OK") -> OK | P20: 150000 | Q20: =+P20*$C20 -> 300000 | R20: =IF(P20>$E20,"ERROR","OK") -> OK | S20: 241466 | T20: =+S20*$C20 -> 482932 | U20: =IF(S20>$E20,"ERROR","OK") -> OK | V20: 122979 | W20: =+V20*$C20 -> 245958 | X20: =IF(V20>$E20,"ERROR","OK") -> OK | Y20: 244979 | Z20: =+Y20*$C20 -> 489958 | AA20: =IF(Y20>$E20,"ERROR","OK") -> OK | AB20: 243736 | AC20: =+AB20*$C20 -> 487472 | AD20: =IF(AB20>$E20,"ERROR","OK") -> OK | AE20: 248710 | AF20: =+AE20*$C20 -> 497420 | AG20: =IF(AE20>$E20,"ERROR","OK") -> OK | AH20: 243736 | AI20: =+AH20*$C20 -> 487472 | AJ20: =IF(AH20>$E20,"ERROR","OK") -> OK | AK20: 241249 | AL20: =+AK20*$C20 -> 482498 | AM20: =IF(AK20>$E20,"ERROR","OK") -> OK | AN20: 244059 | AO20: =+AN20*$C20 -> 488118 | AP20: =IF(AN20>$E20,"ERROR","OK") -> OK | AQ20: 190000 | AR20: =+AQ20*$C20 -> 380000 | AS20: =IF(AQ20>$E20,"ERROR","OK") -> OK | AT20: 200000 | AU20: =+AT20*$C20 -> 400000 | AV20: =IF(AT20>$E20,"ERROR","OK") -> OK
... A30: 2.26 | B30: Bogotá Santander_24000_BTU | C30: 2 | D30: UN | E30: 260243 | F30: =+C30*E30 -> 520486 | G30: 248700 | H30: =+G30*$C30 -> 497400 | I30: =IF(G30>$E30,"ERROR","OK") -> OK | J30: 257641 | K30: =+J30*$C30 -> 515282 | L30: =IF(J30>$E30,"ERROR","OK") -> OK | M30: 254518 | N30: =+M30*$C30 -> 509036 | O30: =IF(M30>$E30,"ERROR","OK") -> OK | P30: 160000 | Q30: =+P30*$C30 -> 320000 | R30: =IF(P30>$E30,"ERROR","OK") -> OK | S30: 252663 | T30: =+S30*$C30 -> 505326 | U30: =IF(S30>$E30,"ERROR","OK") -> OK | V30: 113519 | W30: =+V30*$C30 -> 227038 | X30: =IF(V30>$E30,"ERROR","OK") -> OK | Y30: 256339 | Z30: =+Y30*$C30 -> 512678 | AA30: =IF(Y30>$E30,"ERROR","OK") -> OK | AB30: 255038 | AC30: =+AB30*$C30 -> 510076 | AD30: =IF(AB30>$E30,"ERROR","OK") -> OK | AE30: 260243 | AF30: =+AE30*$C30 -> 520486 | AG30: =IF(AE30>$E30,"ERROR","OK") -> OK | AH30: 182170 | AI30: =+AH30*$C30 -> 364340 | AJ30: =IF(AH30>$E30,"ERROR","OK") -> OK | AK30: 252436 | AL30: =+AK30*$C30 -> 504872 | AM30: =IF(AK30>$E30,"ERROR","OK") -> OK | AN30: 255376.8 | AO30: =+AN30*$C30 -> 510753.6 | AP30: =IF(AN30>$E30,"ERROR","OK") -> OK | AQ30: 220000 | AR30: =+AQ30*$C30 -> 440000 | AS30: =IF(AQ30>$E30,"ERROR","OK") -> OK | AT30: 240000 | AU30: =+AT30*$C30 -> 480000 | AV30: =IF(AT30>$E30,"ERROR","OK") -> OK
A31: 1 | B31: REPUESTOS PARA MANTENIMIENTO CORRECTIVO DE LOS AIRES ACONDICIONADOS EXISTENTES EN LAS OFICINAS DE LA ARN, INCLUIDA MANO DE OBRA, SEGÚN LAS ESPECIFICACIONES TECNICAS DESCRITAS EN ANEXO TECNICO ( IVA INCLUIDO) | F31: =+C31*E31 -> 0 | H31: =+G31*$C31 -> 0 | I31: =IF(G31>$E31,"ERROR","OK") -> OK | K31: =+J31*$C31 -> 0 | L31: =IF(J31>$E31,"ERROR","OK") -> OK | N31: =+M31*$C31 -> 0 | O31: =IF(M31>$E31,"ERROR","OK") -> OK | Q31: =+P31*$C31 -> 0 | R31: =IF(P31>$E31,"ERROR","OK") -> OK | T31: =+S31*$C31 -> 0 | U31: =IF(S31>$E31,"ERROR","OK") -> OK | W31: =+V31*$C31 -> 0 | X31: =IF(V31>$E31,"ERROR","OK") -> OK | Z31: =+Y31*$C31 -> 0 | AA31: =IF(Y31>$E31,"ERROR","OK") -> OK | AC31: =+AB31*$C31 -> 0 | AD31: =IF(AB31>$E31,"ERROR","OK") -> OK | AF31: =+AE31*$C31 -> 0 | AG31: =IF(AE31>$E31,"ERROR","OK") -> OK | AI31: =+AH31*$C31 -> 0 | AJ31: =IF(AH31>$E31,"ERROR","OK") -> OK | AL31: =+AK31*$C31 -> 0 | AM31: =IF(AK31>$E31,"ERROR","OK") -> OK | AO31: =+AN31*$C31 -> 0 | AP31: =IF(AN31>$E31,"ERROR","OK") -> OK | AR31: =+AQ31*$C31 -> 0 | AS31: =IF(AQ31>$E31,"ERROR","OK") -> OK | AU31: =+AT31*$C31 -> 0 | AV31: =IF(AT31>$E31,"ERROR","OK") -> OK
A32: 1.1 | B32: Serpentín | C32: 1 | D32: UN | E32: 1245781 | F32: =+C32*E32 -> 1245781 | G32: 1245700 | H32: =+G32*$C32 -> 1245700 | I32: =IF(G32>$E32,"ERROR","OK") -> OK | J32: 1233323 | K32: =+J32*$C32 -> 1233323 | L32: =IF(J32>$E32,"ERROR","OK") -> OK | M32: 1218374 | N32: =+M32*$C32 -> 1218374 | O32: =IF(M32>$E32,"ERROR","OK") -> OK | P32: 1235000 | Q32: =+P32*$C32 -> 1235000 | R32: =IF(P32>$E32,"ERROR","OK") -> OK | S32: 1153501 | T32: =+S32*$C32 -> 1153501 | U32: =IF(S32>$E32,"ERROR","OK") -> OK | V32: 1183518 | W32: =+V32*$C32 -> 1183518 | X32: =IF(V32>$E32,"ERROR","OK") -> OK | Y32: 1227094 | Z32: =+Y32*$C32 -> 1227094 | AA32: =IF(Y32>$E32,"ERROR","OK") -> OK | AB32: 1220865 | AC32: =+AB32*$C32 -> 1220865 | AD32: =IF(AB32>$E32,"ERROR","OK") -> OK | AE32: 1245781 | AF32: =+AE32*$C32 -> 1245781 | AG32: =IF(AE32>$E32,"ERROR","OK") -> OK | AH32: 996625 | AI32: =+AH32*$C32 -> 996625 | AJ32: =IF(AH32>$E32,"ERROR","OK") -> OK | AK32: 1208408 | AL32: =+AK32*$C32 -> 1208408 | AM32: =IF(AK32>$E32,"ERROR","OK") -> OK | AN32: 1222484 | AO32: =+AN32*$C32 -> 1222484 | AP32: =IF(AN32>$E32,"ERROR","OK") -> OK | AQ32: 700000 | AR32: =+AQ32*$C32 -> 700000 | AS32: =IF(AQ32>$E32,"ERROR","OK") -> OK | AT32: 800000 | AU32: =+AT32*$C32 -> 800000 | AV32: =IF(AT32>$E32,"ERROR","OK") -> OK
A33: 1.2 | B33: Controles remoto | C33: 1 | D33: UN | E33: 114297 | F33: =+C33*E33 -> 114297 | G33: 114200 | H33: =+G33*$C33 -> 114200 | I33: =IF(G33>$E33,"ERROR","OK") -> OK | J33: 113154 | K33: =+J33*$C33 -> 113154 | L33: =IF(J33>$E33,"ERROR","OK") -> OK | M33: 111782 | N33: =+M33*$C33 -> 111782 | O33: =IF(M33>$E33,"ERROR","OK") -> OK | P33: 100000 | Q33: =+P33*$C33 -> 100000 | R33: =IF(P33>$E33,"ERROR","OK") -> OK | S33: 105831 | T33: =+S33*$C33 -> 105831 | U33: =IF(S33>$E33,"ERROR","OK") -> OK | V33: 108290 | W33: =+V33*$C33 -> 108290 | X33: =IF(V33>$E33,"ERROR","OK") -> OK | Y33: 112583 | Z33: =+Y33*$C33 -> 112583 | AA33: =IF(Y33>$E33,"ERROR","OK") -> OK | AB33: 112011 | AC33: =+AB33*$C33 -> 112011 | AD33: =IF(AB33>$E33,"ERROR","OK") -> OK | AE33: 114297 | AF33: =+AE33*$C33 -> 114297 | AG33: =IF(AE33>$E33,"ERROR","OK") -> OK | AH33: 91438 | AI33: =+AH33*$C33 -> 91438 | AJ33: =IF(AH33>$E33,"ERROR","OK") -> OK | AK33: 110868 | AL33: =+AK33*$C33 -> 110868 | AM33: =IF(AK33>$E33,"ERROR","OK") -> OK | AN33: 112159 | AO33: =+AN33*$C33 -> 112159 | AP33: =IF(AN33>$E33,"ERROR","OK") -> OK | AQ33: 110000 | AR33: =+AQ33*$C33 -> 110000 | AS33: =IF(AQ33>$E33,"ERROR","OK") -> OK | AT33: 110000 | AU33: =+AT33*$C33 -> 110000 | AV33: =IF(AT33>$E33,"ERROR","OK") -> OK
A34: 1.3 | B34: Material de aislamiento | C34: 1 | D34: UN | E34: 20143 | F34: =+C34*E34 -> 20143 | G34: 20100 | H34: =+G34*$C34 -> 20100 | I34: =IF(G34>$E34,"ERROR","OK") -> OK | J34: 19942 | K34: =+J34*$C34 -> 19942 | L34: =IF(J34>$E34,"ERROR","OK") -> OK | M34: 19700 | N34: =+M34*$C34 -> 19700 | O34: =IF(M34>$E34,"ERROR","OK") -> OK | P34: 19000 | Q34: =+P34*$C34 -> 19000 | R34: =IF(P34>$E34,"ERROR","OK") -> OK | S34: 18651 | T34: =+S34*$C34 -> 18651 | U34: =IF(S34>$E34,"ERROR","OK") -> OK | V34: 19040 | W34: =+V34*$C34 -> 19040 | X34: =IF(V34>$E34,"ERROR","OK") -> OK | Y34: 19841 | Z34: =+Y34*$C34 -> 19841 | AA34: =IF(Y34>$E34,"ERROR","OK") -> OK | AB34: 19740 | AC34: =+AB34*$C34 -> 19740 | AD34: =IF(AB34>$E34,"ERROR","OK") -> OK | AE34: 20143 | AF34: =+AE34*$C34 -> 20143 | AG34: =IF(AE34>$E34,"ERROR","OK") -> OK | AH34: 16114 | AI34: =+AH34*$C34 -> 16114 | AJ34: =IF(AH34>$E34,"ERROR","OK") -> OK | AK34: 19539 | AL34: =+AK34*$C34 -> 19539 | AM34: =IF(AK34>$E34,"ERROR","OK") -> OK | AN34: 19766 | AO34: =+AN34*$C34 -> 19766 | AP34: =IF(AN34>$E34,"ERROR","OK") -> OK | AQ34: 18000 | AR34: =+AQ34*$C34 -> 18000 | AS34: =IF(AQ34>$E34,"ERROR","OK") -> OK | AT34: 19000 | AU34: =+AT34*$C34 -> 19000 | AV34: =IF(AT34>$E34,"ERROR","OK") -> OK
A35: 1.4 | B35: Válvula Inversora | C35: 1 | D35: UN | E35: 280156 | F35: =+C35*E35 -> 280156 | G35: 280100 | H35: =+G35*$C35 -> 280100 | I35: =IF(G35>$E35,"ERROR","OK") -> OK | J35: 277354 | K35: =+J35*$C35 -> 277354 | L35: =IF(J35>$E35,"ERROR","OK") -> OK | M35: 273993 | N35: =+M35*$C35 -> 273993 | O35: =IF(M35>$E35,"ERROR","OK") -> OK | P35: 260000 | Q35: =+P35*$C35 -> 260000 | R35: =IF(P35>$E35,"ERROR","OK") -> OK | S35: 259404 | T35: =+S35*$C35 -> 259404 | U35: =IF(S35>$E35,"ERROR","OK") -> OK | V35: 265370 | W35: =+V35*$C35 -> 265370 | X35: =IF(V35>$E35,"ERROR","OK") -> OK | Y35: 275954 | Z35: =+Y35*$C35 -> 275954 | AA35: =IF(Y35>$E35,"ERROR","OK") -> OK | AB35: 274553 | AC35: =+AB35*$C35 -> 274553 | AD35: =IF(AB35>$E35,"ERROR","OK") -> OK | AE35: 280156 | AF35: =+AE35*$C35 -> 280156 | AG35: =IF(AE35>$E35,"ERROR","OK") -> OK | AH35: 224125 | AI35: =+AH35*$C35 -> 224125 | AJ35: =IF(AH35>$E35,"ERROR","OK") -> OK | AK35: 271751 | AL35: =+AK35*$C35 -> 271751 | AM35: =IF(AK35>$E35,"ERROR","OK") -> OK | AN35: 274917 | AO35: =+AN35*$C35 -> 274917 | AP35: =IF(AN35>$E35,"ERROR","OK") -> OK | AQ35: 150000 | AR35: =+AQ35*$C35 -> 150000 | AS35: =IF(AQ35>$E35,"ERROR","OK") -> OK | AT35: 200000 | AU35: =+AT35*$C35 -> 200000 | AV35: =IF(AT35>$E35,"ERROR","OK") -> OK
A36: 1.5 | B36: Filtros de aire | C36: 1 | D36: UN | E36: 127591 | F36: =+C36*E36 -> 127591 | G36: 127500 | H36: =+G36*$C36 -> 127500 | I36: =IF(G36>$E36,"ERROR","OK") -> OK | J36: 126315 | K36: =+J36*$C36 -> 126315 | L36: =IF(J36>$E36,"ERROR","OK") -> OK | M36: 124784 | N36: =+M36*$C36 -> 124784 | O36: =IF(M36>$E36,"ERROR","OK") -> OK | P36: 117000 | Q36: =+P36*$C36 -> 117000 | R36: =IF(P36>$E36,"ERROR","OK") -> OK | S36: 118140 | T36: =+S36*$C36 -> 118140 | U36: =IF(S36>$E36,"ERROR","OK") -> OK | V36: 120190 | W36: =+V36*$C36 -> 120190 | X36: =IF(V36>$E36,"ERROR","OK") -> OK | Y36: 125677 | Z36: =+Y36*$C36 -> 125677 | AA36: =IF(Y36>$E36,"ERROR","OK") -> OK | AB36: 125039 | AC36: =+AB36*$C36 -> 125039 | AD36: =IF(AB36>$E36,"ERROR","OK") -> OK | AE36: 127591 | AF36: =+AE36*$C36 -> 127591 | AG36: =IF(AE36>$E36,"ERROR","OK") -> OK | AH36: 102073 | AI36: =+AH36*$C36 -> 102073 | AJ36: =IF(AH36>$E36,"ERROR","OK") -> OK | AK36: 123763 | AL36: =+AK36*$C36 -> 123763 | AM36: =IF(AK36>$E36,"ERROR","OK") -> OK | AN36: 125205 | AO36: =+AN36*$C36 -> 125205 | AP36: =IF(AN36>$E36,"ERROR","OK") -> OK | AQ36: 60000 | AR36: =+AQ36*$C36 -> 60000 | AS36: =IF(AQ36>$E36,"ERROR","OK") -> OK | AT36: 80000 | AU36: =+AT36*$C36 -> 80000 | AV36: =IF(AT36>$E36,"ERROR","OK") -> OK
A37: 1.6 | B37: Terminales | C37: 1 | D37: UN | E37: 3054 | F37: =+C37*E37 -> 3054 | G37: 3000 | H37: =+G37*$C37 -> 3000 | I37: =IF(G37>$E37,"ERROR","OK") -> OK | J37: 3023 | K37: =+J37*$C37 -> 3023 | L37: =IF(J37>$E37,"ERROR","OK") -> OK | M37: 2987 | N37: =+M37*$C37 -> 2987 | O37: =IF(M37>$E37,"ERROR","OK") -> OK | P37: 2800 | Q37: =+P37*$C37 -> 2800 | R37: =IF(P37>$E37,"ERROR","OK") -> OK | S37: 2828 | T37: =+S37*$C37 -> 2828 | U37: =IF(S37>$E37,"ERROR","OK") -> OK | V37: 2856 | W37: =+V37*$C37 -> 2856 | X37: =IF(V37>$E37,"ERROR","OK") -> OK | Y37: 3008 | Z37: =+Y37*$C37 -> 3008 | AA37: =IF(Y37>$E37,"ERROR","OK") -> OK | AB37: 2993 | AC37: =+AB37*$C37 -> 2993 | AD37: =IF(AB37>$E37,"ERROR","OK") -> OK | AE37: 3054 | AF37: =+AE37*$C37 -> 3054 | AG37: =IF(AE37>$E37,"ERROR","OK") -> OK | AH37: 2443 | AI37: =+AH37*$C37 -> 2443 | AJ37: =IF(AH37>$E37,"ERROR","OK") -> OK | AK37: 2962 | AL37: =+AK37*$C37 -> 2962 | AM37: =IF(AK37>$E37,"ERROR","OK") -> OK | AN37: 2996 | AO37: =+AN37*$C37 -> 2996 | AP37: =IF(AN37>$E37,"ERROR","OK") -> OK | AQ37: 3000 | AR37: =+AQ37*$C37 -> 3000 | AS37: =IF(AQ37>$E37,"ERROR","OK") -> OK | AT37: 3000 | AU37: =+AT37*$C37 -> 3000 | AV37: =IF(AT37>$E37,"ERROR","OK") -> OK
A38: 1.7 | B38: Rodamientos | C38: 1 | D38: UN | E38: 99115 | F38: =+C38*E38 -> 99115 | G38: 99100 | H38: =+G38*$C38 -> 99100 | I38: =IF(G38>$E38,"ERROR","OK") -> OK | J38: 98124 | K38: =+J38*$C38 -> 98124 | L38: =IF(J38>$E38,"ERROR","OK") -> OK | M38: 96934 | N38: =+M38*$C38 -> 96934 | O38: =IF(M38>$E38,"ERROR","OK") -> OK | P38: 79000 | Q38: =+P38*$C38 -> 79000 | R38: =IF(P38>$E38,"ERROR","OK") -> OK | S38: 91773 | T38: =+S38*$C38 -> 91773 | U38: =IF(S38>$E38,"ERROR","OK") -> OK | V38: 94010 | W38: =+V38*$C38 -> 94010 | X38: =IF(V38>$E38,"ERROR","OK") -> OK | Y38: 97628 | Z38: =+Y38*$C38 -> 97628 | AA38: =IF(Y38>$E38,"ERROR","OK") -> OK | AB38: 97133 | AC38: =+AB38*$C38 -> 97133 | AD38: =IF(AB38>$E38,"ERROR","OK") -> OK | AE38: 99115 | AF38: =+AE38*$C38 -> 99115 | AG38: =IF(AE38>$E38,"ERROR","OK") -> OK | AH38: 79292 | AI38: =+AH38*$C38 -> 79292 | AJ38: =IF(AH38>$E38,"ERROR","OK") -> OK | AK38: 96142 | AL38: =+AK38*$C38 -> 96142 | AM38: =IF(AK38>$E38,"ERROR","OK") -> OK | AN38: 97261 | AO38: =+AN38*$C38 -> 97261 | AP38: =IF(AN38>$E38,"ERROR","OK") -> OK | AQ38: 40000 | AR38: =+AQ38*$C38 -> 40000 | AS38: =IF(AQ38>$E38,"ERROR","OK") -> OK | AT38: 50000 | AU38: =+AT38*$C38 -> 50000 | AV38: =IF(AT38>$E38,"ERROR","OK") -> OK
A39: 1.8 | B39: Sensores de Temperatura | C39: 1 | D39: UN | E39: 118222 | F39: =+C39*E39 -> 118222 | G39: 118200 | H39: =+G39*$C39 -> 118200 | I39: =IF(G39>$E39,"ERROR","OK") -> OK | J39: 117040 | K39: =+J39*$C39 -> 117040 | L39: =IF(J39>$E39,"ERROR","OK") -> OK | M39: 115621 | N39: =+M39*$C39 -> 115621 | O39: =IF(M39>$E39,"ERROR","OK") -> OK | P39: 100000 | Q39: =+P39*$C39 -> 100000 | R39: =IF(P39>$E39,"ERROR","OK") -> OK | S39: 109465 | T39: =+S39*$C39 -> 109465 | U39: =IF(S39>$E39,"ERROR","OK") -> OK | V39: 111860 | W39: =+V39*$C39 -> 111860 | X39: =IF(V39>$E39,"ERROR","OK") -> OK | Y39: 116449 | Z39: =+Y39*$C39 -> 116449 | AA39: =IF(Y39>$E39,"ERROR","OK") -> OK | AB39: 115858 | AC39: =+AB39*$C39 -> 115858 | AD39: =IF(AB39>$E39,"ERROR","OK") -> OK | AE39: 118222 | AF39: =+AE39*$C39 -> 118222 | AG39: =IF(AE39>$E39,"ERROR","OK") -> OK | AH39: 94578 | AI39: =+AH39*$C39 -> 94578 | AJ39: =IF(AH39>$E39,"ERROR","OK") -> OK | AK39: 114675 | AL39: =+AK39*$C39 -> 114675 | AM39: =IF(AK39>$E39,"ERROR","OK") -> OK | AN39: 116011 | AO39: =+AN39*$C39 -> 116011 | AP39: =IF(AN39>$E39,"ERROR","OK") -> OK | AQ39: 40000 | AR39: =+AQ39*$C39 -> 40000 | AS39: =IF(AQ39>$E39,"ERROR","OK") -> OK | AT39: 50000 | AU39: =+AT39*$C39 -> 50000 | AV39: =IF(AT39>$E39,"ERROR","OK") -> OK
A40: 1.9 | B40: Desagües | C40: 1 | D40: UN | E40: 66603 | F40: =+C40*E40 -> 66603 | G40: 66600 | H40: =+G40*$C40 -> 66600 | I40: =IF(G40>$E40,"ERROR","OK") -> OK | J40: 65937 | K40: =+J40*$C40 -> 65937 | L40: =IF(J40>$E40,"ERROR","OK") -> OK | M40: 65138 | N40: =+M40*$C40 -> 65138 | O40: =IF(M40>$E40,"ERROR","OK") -> OK | P40: 56000 | Q40: =+P40*$C40 -> 56000 | R40: =IF(P40>$E40,"ERROR","OK") -> OK | S40: 61669 | T40: =+S40*$C40 -> 61669 | U40: =IF(S40>$E40,"ERROR","OK") -> OK | V40: 63070 | W40: =+V40*$C40 -> 63070 | X40: =IF(V40>$E40,"ERROR","OK") -> OK | Y40: 65604 | Z40: =+Y40*$C40 -> 65604 | AA40: =IF(Y40>$E40,"ERROR","OK") -> OK | AB40: 65271 | AC40: =+AB40*$C40 -> 65271 | AD40: =IF(AB40>$E40,"ERROR","OK") -> OK | AE40: 66603 | AF40: =+AE40*$C40 -> 66603 | AG40: =IF(AE40>$E40,"ERROR","OK") -> OK | AH40: 53282 | AI40: =+AH40*$C40 -> 53282 | AJ40: =IF(AH40>$E40,"ERROR","OK") -> OK | AK40: 64605 | AL40: =+AK40*$C40 -> 64605 | AM40: =IF(AK40>$E40,"ERROR","OK") -> OK | AN40: 65357 | AO40: =+AN40*$C40 -> 65357 | AP40: =IF(AN40>$E40,"ERROR","OK") -> OK | AQ40: 50000 | AR40: =+AQ40*$C40 -> 50000 | AS40: =IF(AQ40>$E40,"ERROR","OK") -> OK | AT40: 60000 | AU40: =+AT40*$C40 -> 60000 | AV40: =IF(AT40>$E40,"ERROR","OK") -> OK
A41: 1.10 | B41: Borneras | C41: 1 | D41: UN | E41: 29625 | F41: =+C41*E41 -> 29625 | G41: 29600 | H41: =+G41*$C41 -> 29600 | I41: =IF(G41>$E41,"ERROR","OK") -> OK | J41: 29329 | K41: =+J41*$C41 -> 29329 | L41: =IF(J41>$E41,"ERROR","OK") -> OK | M41: 28973 | N41: =+M41*$C41 -> 28973 | O41: =IF(M41>$E41,"ERROR","OK") -> OK | P41: 25000 | Q41: =+P41*$C41 -> 25000 | R41: =IF(P41>$E41,"ERROR","OK") -> OK | S41: 27431 | T41: =+S41*$C41 -> 27431 | U41: =IF(S41>$E41,"ERROR","OK") -> OK | V41: 27374 | W41: =+V41*$C41 -> 27374 | X41: =IF(V41>$E41,"ERROR","OK") -> OK | Y41: 29181 | Z41: =+Y41*$C41 -> 29181 | AA41: =IF(Y41>$E41,"ERROR","OK") -> OK | AB41: 29033 | AC41: =+AB41*$C41 -> 29033 | AD41: =IF(AB41>$E41,"ERROR","OK") -> OK | AE41: 29625 | AF41: =+AE41*$C41 -> 29625 | AG41: =IF(AE41>$E41,"ERROR","OK") -> OK | AH41: 23700 | AI41: =+AH41*$C41 -> 23700 | AJ41: =IF(AH41>$E41,"ERROR","OK") -> OK | AK41: 28736 | AL41: =+AK41*$C41 -> 28736 | AM41: =IF(AK41>$E41,"ERROR","OK") -> OK | AN41: 29071 | AO41: =+AN41*$C41 -> 29071 | AP41: =IF(AN41>$E41,"ERROR","OK") -> OK | AQ41: 20000 | AR41: =+AQ41*$C41 -> 20000 | AS41: =IF(AQ41>$E41,"ERROR","OK") -> OK | AT41: 25000 | AU41: =+AT41*$C41 -> 25000 | AV41: =IF(AT41>$E41,"ERROR","OK") -> OK
A42: 1.11 | B42: Chumaceras | C42: 1 | D42: UN | E42: 82916 | F42: =+C42*E42 -> 82916 | G42: 82900 | H42: =+G42*$C42 -> 82900 | I42: =IF(G42>$E42,"ERROR","OK") -> OK | J42: 82087 | K42: =+J42*$C42 -> 82087 | L42: =IF(J42>$E42,"ERROR","OK") -> OK | M42: 81092 | N42: =+M42*$C42 -> 81092 | O42: =IF(M42>$E42,"ERROR","OK") -> OK | P42: 72000 | Q42: =+P42*$C42 -> 72000 | R42: =IF(P42>$E42,"ERROR","OK") -> OK | S42: 76774 | T42: =+S42*$C42 -> 76774 | U42: =IF(S42>$E42,"ERROR","OK") -> OK | V42: 78544 | W42: =+V42*$C42 -> 78544 | X42: =IF(V42>$E42,"ERROR","OK") -> OK | Y42: 81672 | Z42: =+Y42*$C42 -> 81672 | AA42: =IF(Y42>$E42,"ERROR","OK") -> OK | AB42: 81258 | AC42: =+AB42*$C42 -> 81258 | AD42: =IF(AB42>$E42,"ERROR","OK") -> OK | AE42: 82916 | AF42: =+AE42*$C42 -> 82916 | AG42: =IF(AE42>$E42,"ERROR","OK") -> OK | AH42: 66333 | AI42: =+AH42*$C42 -> 66333 | AJ42: =IF(AH42>$E42,"ERROR","OK") -> OK | AK42: 80429 | AL42: =+AK42*$C42 -> 80429 | AM42: =IF(AK42>$E42,"ERROR","OK") -> OK | AN42: 81365 | AO42: =+AN42*$C42 -> 81365 | AP42: =IF(AN42>$E42,"ERROR","OK") -> OK | AQ42: 50000 | AR42: =+AQ42*$C42 -> 50000 | AS42: =IF(AQ42>$E42,"ERROR","OK") -> OK | AT42: 60000 | AU42: =+AT42*$C42 -> 60000 | AV42: =IF(AT42>$E42,"ERROR","OK") -> OK
A43: 1.12 | B43: Capacitores de arranque o marcha | C43: 1 | D43: UN | E43: 44132 | F43: =+C43*E43 -> 44132 | G43: 44100 | H43: =+G43*$C43 -> 44100 | I43: =IF(G43>$E43,"ERROR","OK") -> OK | J43: 43691 | K43: =+J43*$C43 -> 43691 | L43: =IF(J43>$E43,"ERROR","OK") -> OK | M43: 43161 | N43: =+M43*$C43 -> 43161 | O43: =IF(M43>$E43,"ERROR","OK") -> OK | P43: 34000 | Q43: =+P43*$C43 -> 34000 | R43: =IF(P43>$E43,"ERROR","OK") -> OK | S43: 40863 | T43: =+S43*$C43 -> 40863 | U43: =IF(S43>$E43,"ERROR","OK") -> OK | V43: 41650 | W43: =+V43*$C43 -> 41650 | X43: =IF(V43>$E43,"ERROR","OK") -> OK | Y43: 43470 | Z43: =+Y43*$C43 -> 43470 | AA43: =IF(Y43>$E43,"ERROR","OK") -> OK | AB43: 43249 | AC43: =+AB43*$C43 -> 43249 | AD43: =IF(AB43>$E43,"ERROR","OK") -> OK | AE43: 44132 | AF43: =+AE43*$C43 -> 44132 | AG43: =IF(AE43>$E43,"ERROR","OK") -> OK | AH43: 35306 | AI43: =+AH43*$C43 -> 35306 | AJ43: =IF(AH43>$E43,"ERROR","OK") -> OK | AK43: 42808 | AL43: =+AK43*$C43 -> 42808 | AM43: =IF(AK43>$E43,"ERROR","OK") -> OK | AN43: 43306 | AO43: =+AN43*$C43 -> 43306 | AP43: =IF(AN43>$E43,"ERROR","OK") -> OK | AQ43: 29000 | AR43: =+AQ43*$C43 -> 29000 | AS43: =IF(AQ43>$E43,"ERROR","OK") -> OK | AT43: 30000 | AU43: =+AT43*$C43 -> 30000 | AV43: =IF(AT43>$E43,"ERROR","OK") -> OK
... A76: 1.45 | B76: Desmonte de unidad exterior y accesorios | C76: 1 | D76: UN | E76: 334207 | F76: =+C76*E76 -> 334207 | G76: 334200 | H76: =+G76*$C76 -> 334200 | I76: =IF(G76>$E76,"ERROR","OK") -> OK | J76: 330865 | K76: =+J76*$C76 -> 330865 | L76: =IF(J76>$E76,"ERROR","OK") -> OK | M76: 326854 | N76: =+M76*$C76 -> 326854 | O76: =IF(M76>$E76,"ERROR","OK") -> OK | P76: 314000 | Q76: =+P76*$C76 -> 314000 | R76: =IF(P76>$E76,"ERROR","OK") -> OK | S76: 309451 | T76: =+S76*$C76 -> 309451 | U76: =IF(S76>$E76,"ERROR","OK") -> OK | V76: 316540 | W76: =+V76*$C76 -> 316540 | X76: =IF(V76>$E76,"ERROR","OK") -> OK | Y76: 329194 | Z76: =+Y76*$C76 -> 329194 | AA76: =IF(Y76>$E76,"ERROR","OK") -> OK | AB76: 327523 | AC76: =+AB76*$C76 -> 327523 | AD76: =IF(AB76>$E76,"ERROR","OK") -> OK | AE76: 334207 | AF76: =+AE76*$C76 -> 334207 | AG76: =IF(AE76>$E76,"ERROR","OK") -> OK | AH76: 267366 | AI76: =+AH76*$C76 -> 267366 | AJ76: =IF(AH76>$E76,"ERROR","OK") -> OK | AK76: 324181 | AL76: =+AK76*$C76 -> 324181 | AM76: =IF(AK76>$E76,"ERROR","OK") -> OK | AN76: 327957.69 | AO76: =+AN76*$C76 -> 327957.69 | AP76: =IF(AN76>$E76,"ERROR","OK") -> OK | AQ76: 205000 | AR76: =+AQ76*$C76 -> 205000 | AS76: =IF(AQ76>$E76,"ERROR","OK") -> OK | AT76: 250000 | AU76: =+AT76*$C76 -> 250000 | AV76: =IF(AT76>$E76,"ERROR","OK") -> OK
A77: 1.46 | B77: Instalación de Unidad interior | F77: =+C77*E77 -> 0 | H77: =+G77*$C77 -> 0 | I77: =IF(G77>$E77,"ERROR","OK") -> OK | K77: =+J77*$C77 -> 0 | L77: =IF(J77>$E77,"ERROR","OK") -> OK | N77: =+M77*$C77 -> 0 | O77: =IF(M77>$E77,"ERROR","OK") -> OK | Q77: =+P77*$C77 -> 0 | R77: =IF(P77>$E77,"ERROR","OK") -> OK | T77: =+S77*$C77 -> 0 | U77: =IF(S77>$E77,"ERROR","OK") -> OK | W77: =+V77*$C77 -> 0 | X77: =IF(V77>$E77,"ERROR","OK") -> OK | Z77: =+Y77*$C77 -> 0 | AA77: =IF(Y77>$E77,"ERROR","OK") -> OK | AC77: =+AB77*$C77 -> 0 | AD77: =IF(AB77>$E77,"ERROR","OK") -> OK | AF77: =+AE77*$C77 -> 0 | AG77: =IF(AE77>$E77,"ERROR","OK") -> OK | AI77: =+AH77*$C77 -> 0 | AJ77: =IF(AH77>$E77,"ERROR","OK") -> OK | AL77: =+AK77*$C77 -> 0 | AM77: =IF(AK77>$E77,"ERROR","OK") -> OK | AO77: =+AN77*$C77 -> 0 | AP77: =IF(AN77>$E77,"ERROR","OK") -> OK | AR77: =+AQ77*$C77 -> 0 | AS77: =IF(AQ77>$E77,"ERROR","OK") -> OK | AU77: =+AT77*$C77 -> 0 | AV77: =IF(AT77>$E77,"ERROR","OK") -> OK
A78: 1.47 | B78: Instalación de Unidad exterior | F78: =+C78*E78 -> 0 | H78: =+G78*$C78 -> 0 | I78: =IF(G78>$E78,"ERROR","OK") -> OK | K78: =+J78*$C78 -> 0 | L78: =IF(J78>$E78,"ERROR","OK") -> OK | N78: =+M78*$C78 -> 0 | O78: =IF(M78>$E78,"ERROR","OK") -> OK | Q78: =+P78*$C78 -> 0 | R78: =IF(P78>$E78,"ERROR","OK") -> OK | T78: =+S78*$C78 -> 0 | U78: =IF(S78>$E78,"ERROR","OK") -> OK | W78: =+V78*$C78 -> 0 | X78: =IF(V78>$E78,"ERROR","OK") -> OK | Z78: =+Y78*$C78 -> 0 | AA78: =IF(Y78>$E78,"ERROR","OK") -> OK | AC78: =+AB78*$C78 -> 0 | AD78: =IF(AB78>$E78,"ERROR","OK") -> OK | AF78: =+AE78*$C78 -> 0 | AG78: =IF(AE78>$E78,"ERROR","OK") -> OK | AI78: =+AH78*$C78 -> 0 | AJ78: =IF(AH78>$E78,"ERROR","OK") -> OK | AL78: =+AK78*$C78 -> 0 | AM78: =IF(AK78>$E78,"ERROR","OK") -> OK | AO78: =+AN78*$C78 -> 0 | AP78: =IF(AN78>$E78,"ERROR","OK") -> OK | AR78: =+AQ78*$C78 -> 0 | AS78: =IF(AQ78>$E78,"ERROR","OK") -> OK | AU78: =+AT78*$C78 -> 0 | AV78: =IF(AT78>$E78,"ERROR","OK") -> OK
A79: 1 | B79: VALOR BOLSA PARA MANTENIMIENTO CORRECTIVO ZONA CENTRO IVA INCLUIDO | C79: 1 | D79: UN | E79: 10781000 | F79: =+C79*E79 -> 10781000 | G79: 10781000 | H79: =+G79*$C79 -> 10781000 | I79: =IF(G79>$E79,"ERROR","OK") -> OK | J79: 10781000 | K79: =+J79*$C79 -> 10781000 | L79: =IF(J79>$E79,"ERROR","OK") -> OK | M79: 10781000 | N79: =+M79*$C79 -> 10781000 | O79: =IF(M79>$E79,"ERROR","OK") -> OK | P79: 10781000 | Q79: =+P79*$C79 -> 10781000 | R79: =IF(P79>$E79,"ERROR","OK") -> OK | S79: 10781000 | T79: =+S79*$C79 -> 10781000 | U79: =IF(S79>$E79,"ERROR","OK") -> OK | V79: 10781000 | W79: =+V79*$C79 -> 10781000 | X79: =IF(V79>$E79,"ERROR","OK") -> OK | Y79: 10781000 | Z79: =+Y79*$C79 -> 10781000 | AA79: =IF(Y79>$E79,"ERROR","OK") -> OK | AB79: 10781000 | AC79: =+AB79*$C79 -> 10781000 | AD79: =IF(AB79>$E79,"ERROR","OK") -> OK | AE79: 10781000 | AF79: =+AE79*$C79 -> 10781000 | AG79: =IF(AE79>$E79,"ERROR","OK") -> OK | AH79: 10781000 | AI79: =+AH79*$C79 -> 10781000 | AJ79: =IF(AH79>$E79,"ERROR","OK") -> OK | AK79: 10781000 | AL79: =+AK79*$C79 -> 10781000 | AM79: =IF(AK79>$E79,"ERROR","OK") -> OK | AN79: 10579395 | AO79: =+AN79*$C79 -> 10579395 | AP79: =IF(AN79>$E79,"ERROR","OK") -> OK | AQ79: 10781000 | AR79: =+AQ79*$C79 -> 10781000 | AS79: =IF(AQ79>$E79,"ERROR","OK") -> OK | AT79: 10781000 | AU79: =+AT79*$C79 -> 10781000 | AV79: =IF(AT79>$E79,"ERROR","OK") -> OK
D80: UN | F80: =+C80*E80 -> 0 | H80: =+G80*$C80 -> 0 | I80: =IF(G80>$E80,"ERROR","OK") -> OK | K80: =+J80*$C80 -> 0 | L80: =IF(J80>$E80,"ERROR","OK") -> OK | N80: =+M80*$C80 -> 0 | O80: =IF(M80>$E80,"ERROR","OK") -> OK | Q80: =+P80*$C80 -> 0 | R80: =IF(P80>$E80,"ERROR","OK") -> OK | T80: =+S80*$C80 -> 0 | U80: =IF(S80>$E80,"ERROR","OK") -> OK | W80: =+V80*$C80 -> 0 | X80: =IF(V80>$E80,"ERROR","OK") -> OK | Z80: =+Y80*$C80 -> 0 | AA80: =IF(Y80>$E80,"ERROR","OK") -> OK | AC80: =+AB80*$C80 -> 0 | AD80: =IF(AB80>$E80,"ERROR","OK") -> OK | AF80: =+AE80*$C80 -> 0 | AG80: =IF(AE80>$E80,"ERROR","OK") -> OK | AI80: =+AH80*$C80 -> 0 | AJ80: =IF(AH80>$E80,"ERROR","OK") -> OK | AL80: =+AK80*$C80 -> 0 | AM80: =IF(AK80>$E80,"ERROR","OK") -> OK | AO80: =+AN80*$C80 -> 0 | AP80: =IF(AN80>$E80,"ERROR","OK") -> OK | AR80: =+AQ80*$C80 -> 0 | AS80: =IF(AQ80>$E80,"ERROR","OK") -> OK | AU80: =+AT80*$C80 -> 0 | AV80: =IF(AT80>$E80,"ERROR","OK") -> OK
D82: TOTALES | F82: =SUM(F4:F30) -> 33735658 | H82: =SUM(H5:H30) -> 32244200 | I82: =IF(H82>$F$82,"ERROR","OK") -> OK | K82: =SUM(K5:K30) -> 33398300 | L82: =IF(K82>$F$82,"ERROR","OK") -> OK | N82: =SUM(N5:N30) -> 32993466 | O82: =IF(N82>$F$82,"ERROR","OK") -> OK | Q82: =SUM(Q5:Q30) -> 21260000 | R82: =IF(Q82>$F$82,"ERROR","OK") -> OK | T82: =SUM(T5:T30) -> 32753068 | U82: =IF(T82>$F$82,"ERROR","OK") -> OK | W82: =SUM(W5:W30) -> 19809110 | X82: =IF(W82>$F$82,"ERROR","OK") -> OK | Z82: =SUM(Z5:Z30) -> 33229640 | AA82: =IF(Z82>$F$82,"ERROR","OK") -> OK | AC82: =SUM(AC5:AC30) -> 33060950 | AD82: =IF(AC82>$F$82,"ERROR","OK") -> OK | AF82: =SUM(AF5:AF30) -> 33735658 | AG82: =IF(AF82>$F$82,"ERROR","OK") -> OK | AI82: =SUM(AI5:AI30) -> 31190808 | AJ82: =IF(AI82>$F$82,"ERROR","OK") -> OK | AL82: =SUM(AL5:AL30) -> 32723602 | AM82: =IF(AL82>$F$82,"ERROR","OK") -> OK | AO82: =SUM(AO5:AO30) -> 33104728 | AP82: =IF(AO82>$F$82,"ERROR","OK") -> OK | AR82: =SUM(AR5:AR30) -> 28120000 | AS82: =IF(AR82>$F$82,"ERROR","OK") -> OK | AU82: =SUM(AU5:AU30) -> 30200000 | AV82: =IF(AU82>$F$82,"ERROR","OK") -> OK
H84: =+G2 -> FRICON SOLUCIONES SAS | K84: =+J2 -> TCB IMPRESOS SOLUCIONES Y SUMINISTROS SAS | N84: =+M2 -> ASESORIAS Y ACABADOS AVILA SAS | Q84: =+P2 -> INGEMET JYS SAS | T84: =+S2 -> EXPERTOS INGENIEROS S.A.S. | W84: =+V2 -> ACONDICLIMA INGENIERIA Y CONSTRUCCION SAS | Z84: =+Y2 -> CONSTRUCCIONES J & LG S.A.S | AC84: =+AB2 -> GOURIYU SISTEMS S.A.S. | AF84: =+AE2 -> SUBE INGENIERIA | AI84: =+AH2 -> TERMEC LIMITADA | AL84: =+AK2 -> PROSERMAN SAS | AO84: =+AN2 -> CONINCAG SAS | AR84: =+AQ2 -> GRUPO SKY DE COLOMBIA S.A.S | AU84: =+AT2 -> NIC SERVICIOS SAS
B85: MENOR OFERTA
B86: =MIN(G82:AV82) -> 19809110
B87: =IF(B86>0,HLOOKUP(B86,G82:AV84,3,0),0) -> ACONDICLIMA INGENIERIA Y CONSTRUCCION SAS | F87: =+F79+F82 -> 44516658 | H87: =SUM(H4:H80) -> 57873800 | K87: =SUM(K4:K80) -> 58881571 | L87: =SUM(L4:L80) -> 0 | N87: =SUM(N4:N80) -> 58298525 | O87: =SUM(O4:O80) -> 0 | Q87: =SUM(Q4:Q80) -> 45856800 | R87: =SUM(R4:R80) -> 0 | T87: =SUM(T4:T80) -> 57284790 | U87: =SUM(U4:U80) -> 0 | W87: =SUM(W4:W80) -> 44673716 | X87: =SUM(X4:X80) -> 0 | Z87: =SUM(Z4:Z80) -> 58638659 | AA87: =SUM(AA4:AA80) -> 0 | AC87: =SUM(AC4:AC80) -> 58395714 | AD87: =SUM(AD4:AD80) -> 0 | AF87: =SUM(AF4:AF80) -> 59367437 | AG87: =SUM(AG4:AG80) -> 0 | AI87: =SUM(AI4:AI80) -> 53852433 | AJ87: =SUM(AJ4:AJ80) -> 0 | AL87: =SUM(AL4:AL80) -> 57909859 | AM87: =SUM(AM4:AM80) -> 0 | AO87: =SUM(AO4:AO80) -> 58257171 | AP87: =SUM(AP4:AP80) -> 0 | AR87: =SUM(AR4:AR80) -> 48850000 | AS87: =SUM(AS4:AS80) -> 0 | AU87: =SUM(AU4:AU80) -> 52270000 | AV87: =SUM(AV4:AV80) -> 0
H88: 57873800 | K88: 58881571 | N88: 58298525 | Q88: 45856800 | T88: 57284790 | W88: 44673716 | Z88: 58638659 | AC88: 58395714 | AF88: 59367437 | AI88: 53852433 | AL88: 57909859 | AO88: 58257171 | AR88: 48850000 | AU88: 52270000
C90: LANCES | D90: MENOR VALOR | E90: PROX LANCE MIN | F90: % DE MEJORA GENERAL | G90: % DE MEJORA LANCE | J90: % DE MEJORA LANCE | M90: % DE MEJORA LANCE | P90: % DE MEJORA LANCE | S90: % DE MEJORA LANCE | V90: % DE MEJORA LANCE | Y90: % DE MEJORA LANCE | AB90: % DE MEJORA LANCE | AE90: % DE MEJORA LANCE | AH90: % DE MEJORA LANCE | AK90: % DE MEJORA LANCE | AN90: % DE MEJORA LANCE | AQ90: % DE MEJORA LANCE | AT90: % DE MEJORA LANCE
C91: 1 | D91: =+B86 -> 19809110 | E91: =D91-(D91*5%) -> 18818654 | F91: =IF(D91>0,1-(D91/$B$86),0) -> 0
C92: 2 | D92: 0 | E92: =D92-(D92*5%) -> 0 | F92: =IF(D92>0,1-(D92/$B$86),0) -> 0 | G92: =1-(D92/D91) -> 1 | J92: =1-(G92/G91) -> #DIV/0! | M92: =1-(J92/J91) -> #DIV/0! | P92: =1-(#REF!/#REF!) -> #REF! | S92: =1-(P92/P91) -> #REF! | V92: =1-(S92/S91) -> #REF! | Y92: =1-(V92/V91) -> #REF! | AB92: =1-(#REF!/#REF!) -> #REF! | AE92: =1-(AB92/AB91) -> #REF! | AH92: =1-(AE92/AE91) -> #REF! | AK92: =1-(#REF!/#REF!) -> #REF! | AN92: =1-(AK92/AK91) -> #REF! | AQ92: =1-(AN92/AN91) -> #REF! | AT92: =1-(AQ92/AQ91) -> #REF!
C93: 3 | D93: 0 | E93: =D93-(D93*5%) -> 0 | F93: =IF(D93>0,1-(D93/$B$86),0) -> 0 | G93: =1-(D93/D92) -> #DIV/0! | J93: =1-(G93/G92) -> #DIV/0! | M93: =1-(J93/J92) -> #DIV/0! | P93: =1-(#REF!/#REF!) -> #REF! | S93: =1-(P93/P92) -> #REF! | V93: =1-(S93/S92) -> #REF! | Y93: =1-(V93/V92) -> #REF! | AB93: =1-(#REF!/#REF!) -> #REF! | AE93: =1-(AB93/AB92) -> #REF! | AH93: =1-(AE93/AE92) -> #REF! | AK93: =1-(#REF!/#REF!) -> #REF! | AN93: =1-(AK93/AK92) -> #REF! | AQ93: =1-(AN93/AN92) -> #REF! | AT93: =1-(AQ93/AQ92) -> #REF!
C94: 4 | D94: 0 | E94: =D94-(D94*5%) -> 0 | F94: =IF(D94>0,1-(D94/$B$86),0) -> 0 | G94: =1-(D94/D93) -> #DIV/0! | J94: =1-(G94/G93) -> #DIV/0! | M94: =1-(J94/J93) -> #DIV/0! | P94: =1-(#REF!/#REF!) -> #REF! | S94: =1-(P94/P93) -> #REF! | V94: =1-(S94/S93) -> #REF! | Y94: =1-(V94/V93) -> #REF! | AB94: =1-(#REF!/#REF!) -> #REF! | AE94: =1-(AB94/AB93) -> #REF! | AH94: =1-(AE94/AE93) -> #REF! | AK94: =1-(#REF!/#REF!) -> #REF! | AN94: =1-(AK94/AK93) -> #REF! | AQ94: =1-(AN94/AN93) -> #REF! | AT94: =1-(AQ94/AQ93) -> #REF!
C95: 5 | D95: 0 | E95: =D95-(D95*5%) -> 0 | F95: =IF(D95>0,1-(D95/$B$86),0) -> 0 | G95: =1-(D95/D94) -> #DIV/0! | J95: =1-(G95/G94) -> #DIV/0! | M95: =1-(J95/J94) -> #DIV/0! | P95: =1-(#REF!/#REF!) -> #REF! | S95: =1-(P95/P94) -> #REF! | V95: =1-(S95/S94) -> #REF! | Y95: =1-(V95/V94) -> #REF! | AB95: =1-(#REF!/#REF!) -> #REF! | AE95: =1-(AB95/AB94) -> #REF! | AH95: =1-(AE95/AE94) -> #REF! | AK95: =1-(#REF!/#REF!) -> #REF! | AN95: =1-(AK95/AK94) -> #REF! | AQ95: =1-(AN95/AN94) -> #REF! | AT95: =1-(AQ95/AQ94) -> #REF!
C96: 6 | D96: 0 | E96: =D96-(D96*5%) -> 0 | F96: =IF(D96>0,1-(D96/$B$86),0) -> 0 | G96: =1-(D96/D95) -> #DIV/0! | J96: =1-(G96/G95) -> #DIV/0! | M96: =1-(J96/J95) -> #DIV/0! | P96: =1-(#REF!/#REF!) -> #REF! | S96: =1-(P96/P95) -> #REF! | V96: =1-(S96/S95) -> #REF! | Y96: =1-(V96/V95) -> #REF! | AB96: =1-(#REF!/#REF!) -> #REF! | AE96: =1-(AB96/AB95) -> #REF! | AH96: =1-(AE96/AE95) -> #REF! | AK96: =1-(#REF!/#REF!) -> #REF! | AN96: =1-(AK96/AK95) -> #REF! | AQ96: =1-(AN96/AN95) -> #REF! | AT96: =1-(AQ96/AQ95) -> #REF!
C97: 7 | D97: 0 | E97: =D97-(D97*5%) -> 0 | F97: =IF(D97>0,1-(D97/$F$82),0) -> 0 | G97: =1-(D97/D96) -> #DIV/0! | J97: =1-(G97/G96) -> #DIV/0! | M97: =1-(J97/J96) -> #DIV/0! | P97: =1-(#REF!/#REF!) -> #REF! | S97: =1-(P97/P96) -> #REF! | V97: =1-(S97/S96) -> #REF! | Y97: =1-(V97/V96) -> #REF! | AB97: =1-(#REF!/#REF!) -> #REF! | AE97: =1-(AB97/AB96) -> #REF! | AH97: =1-(AE97/AE96) -> #REF! | AK97: =1-(#REF!/#REF!) -> #REF! | AN97: =1-(AK97/AK96) -> #REF! | AQ97: =1-(AN97/AN96) -> #REF! | AT97: =1-(AQ97/AQ96) -> #REF!
C98: 8 | D98: 0 | E98: =D98-(D98*5%) -> 0 | F98: =IF(D98>0,1-(D98/$B$86),0) -> 0 | G98: =1-(D98/D97) -> #DIV/0! | J98: =1-(G98/G97) -> #DIV/0! | M98: =1-(J98/J97) -> #DIV/0! | P98: =1-(#REF!/#REF!) -> #REF! | S98: =1-(P98/P97) -> #REF! | V98: =1-(S98/S97) -> #REF! | Y98: =1-(V98/V97) -> #REF! | AB98: =1-(#REF!/#REF!) -> #REF! | AE98: =1-(AB98/AB97) -> #REF! | AH98: =1-(AE98/AE97) -> #REF! | AK98: =1-(#REF!/#REF!) -> #REF! | AN98: =1-(AK98/AK97) -> #REF! | AQ98: =1-(AN98/AN97) -> #REF! | AT98: =1-(AQ98/AQ97) -> #REF!
C99: 9 | D99: 0 | E99: =D99-(D99*5%) -> 0 | F99: =IF(D99>0,1-(D99/$B$86),0) -> 0 | G99: =1-(D99/D98) -> #DIV/0! | J99: =1-(G99/G98) -> #DIV/0! | M99: =1-(J99/J98) -> #DIV/0! | P99: =1-(#REF!/#REF!) -> #REF! | S99: =1-(P99/P98) -> #REF! | V99: =1-(S99/S98) -> #REF! | Y99: =1-(V99/V98) -> #REF! | AB99: =1-(#REF!/#REF!) -> #REF! | AE99: =1-(AB99/AB98) -> #REF! | AH99: =1-(AE99/AE98) -> #REF! | AK99: =1-(#REF!/#REF!) -> #REF! | AN99: =1-(AK99/AK98) -> #REF! | AQ99: =1-(AN99/AN98) -> #REF! | AT99: =1-(AQ99/AQ98) -> #REF!
C100: 10 | D100: 0 | E100: =D100-(D100*5%) -> 0 | F100: =IF(D100>0,1-(D100/$B$86),0) -> 0 | G100: =1-(D100/D99) -> #DIV/0! | J100: =1-(G100/G99) -> #DIV/0! | M100: =1-(J100/J99) -> #DIV/0! | P100: =1-(#REF!/#REF!) -> #REF! | S100: =1-(P100/P99) -> #REF! | V100: =1-(S100/S99) -> #REF! | Y100: =1-(V100/V99) -> #REF! | AB100: =1-(#REF!/#REF!) -> #REF! | AE100: =1-(AB100/AB99) -> #REF! | AH100: =1-(AE100/AE99) -> #REF! | AK100: =1-(#REF!/#REF!) -> #REF! | AN100: =1-(AK100/AK99) -> #REF! | AQ100: =1-(AN100/AN99) -> #REF! | AT100: =1-(AQ100/AQ99) -> #REF!
C101: 11 | D101: 0 | E101: =D101-(D101*5%) -> 0 | F101: =IF(D101>0,1-(D101/$B$86),0) -> 0 | G101: =1-(D101/D100) -> #DIV/0! | J101: =1-(G101/G100) -> #DIV/0! | M101: =1-(J101/J100) -> #DIV/0! | P101: =1-(#REF!/#REF!) -> #REF! | S101: =1-(P101/P100) -> #REF! | V101: =1-(S101/S100) -> #REF! | Y101: =1-(V101/V100) -> #REF! | AB101: =1-(#REF!/#REF!) -> #REF! | AE101: =1-(AB101/AB100) -> #REF! | AH101: =1-(AE101/AE100) -> #REF! | AK101: =1-(#REF!/#REF!) -> #REF! | AN101: =1-(AK101/AK100) -> #REF! | AQ101: =1-(AN101/AN100) -> #REF! | AT101: =1-(AQ101/AQ100) -> #REF!
C102: 12 | D102: 0 | E102: =D102-(D102*5%) -> 0 | F102: =IF(D102>0,1-(D102/$B$86),0) -> 0 | G102: =1-(D102/D101) -> #DIV/0! | J102: =1-(G102/G101) -> #DIV/0! | M102: =1-(J102/J101) -> #DIV/0! | P102: =1-(#REF!/#REF!) -> #REF! | S102: =1-(P102/P101) -> #REF! | V102: =1-(S102/S101) -> #REF! | Y102: =1-(V102/V101) -> #REF! | AB102: =1-(#REF!/#REF!) -> #REF! | AE102: =1-(AB102/AB101) -> #REF! | AH102: =1-(AE102/AE101) -> #REF! | AK102: =1-(#REF!/#REF!) -> #REF! | AN102: =1-(AK102/AK101) -> #REF! | AQ102: =1-(AN102/AN101) -> #REF! | AT102: =1-(AQ102/AQ101) -> #REF!
C103: 13 | D103: 0 | E103: =D103-(D103*5%) -> 0 | F103: =IF(D103>0,1-(D103/$B$86),0) -> 0 | G103: =1-(D103/D102) -> #DIV/0! | J103: =1-(G103/G102) -> #DIV/0! | M103: =1-(J103/J102) -> #DIV/0! | P103: =1-(#REF!/#REF!) -> #REF! | S103: =1-(P103/P102) -> #REF! | V103: =1-(S103/S102) -> #REF! | Y103: =1-(V103/V102) -> #REF! | AB103: =1-(#REF!/#REF!) -> #REF! | AE103: =1-(AB103/AB102) -> #REF! | AH103: =1-(AE103/AE102) -> #REF! | AK103: =1-(#REF!/#REF!) -> #REF! | AN103: =1-(AK103/AK102) -> #REF! | AQ103: =1-(AN103/AN102) -> #REF! | AT103: =1-(AQ103/AQ102) -> #REF!
C104: 14 | D104: 0 | E104: =D104-(D104*5%) -> 0 | F104: =IF(D104>0,1-(D104/$B$86),0) -> 0 | G104: =1-(D104/D103) -> #DIV/0! | J104: =1-(G104/G103) -> #DIV/0! | M104: =1-(J104/J103) -> #DIV/0! | P104: =1-(#REF!/#REF!) -> #REF! | S104: =1-(P104/P103) -> #REF! | V104: =1-(S104/S103) -> #REF! | Y104: =1-(V104/V103) -> #REF! | AB104: =1-(#REF!/#REF!) -> #REF! | AE104: =1-(AB104/AB103) -> #REF! | AH104: =1-(AE104/AE103) -> #REF! | AK104: =1-(#REF!/#REF!) -> #REF! | AN104: =1-(AK104/AK103) -> #REF! | AQ104: =1-(AN104/AN103) -> #REF! | AT104: =1-(AQ104/AQ103) -> #REF!
C105: 15 | D105: 0 | E105: =D105-(D105*5%) -> 0 | F105: =IF(D105>0,1-(D105/$B$86),0) -> 0 | G105: =1-(D105/D104) -> #DIV/0! | J105: =1-(G105/G104) -> #DIV/0! | M105: =1-(J105/J104) -> #DIV/0! | P105: =1-(#REF!/#REF!) -> #REF! | S105: =1-(P105/P104) -> #REF! | V105: =1-(S105/S104) -> #REF! | Y105: =1-(V105/V104) -> #REF! | AB105: =1-(#REF!/#REF!) -> #REF! | AE105: =1-(AB105/AB104) -> #REF! | AH105: =1-(AE105/AE104) -> #REF! | AK105: =1-(#REF!/#REF!) -> #REF! | AN105: =1-(AK105/AK104) -> #REF! | AQ105: =1-(AN105/AN104) -> #REF! | AT105: =1-(AQ105/AQ104) -> #REF!
C106: 16 | D106: 0 | E106: =D106-(D106*5%) -> 0 | F106: =IF(D106>0,1-(D106/$B$86),0) -> 0 | G106: =1-(D106/D105) -> #DIV/0! | J106: =1-(G106/G105) -> #DIV/0! | M106: =1-(J106/J105) -> #DIV/0! | P106: =1-(#REF!/#REF!) -> #REF! | S106: =1-(P106/P105) -> #REF! | V106: =1-(S106/S105) -> #REF! | Y106: =1-(V106/V105) -> #REF! | AB106: =1-(#REF!/#REF!) -> #REF! | AE106: =1-(AB106/AB105) -> #REF! | AH106: =1-(AE106/AE105) -> #REF! | AK106: =1-(#REF!/#REF!) -> #REF! | AN106: =1-(AK106/AK105) -> #REF! | AQ106: =1-(AN106/AN105) -> #REF! | AT106: =1-(AQ106/AQ105) -> #REF!
C107: 17 | D107: 0 | E107: =D107-(D107*5%) -> 0 | F107: =IF(D107>0,1-(D107/$B$86),0) -> 0 | G107: =1-(D107/D106) -> #DIV/0! | J107: =1-(G107/G106) -> #DIV/0! | M107: =1-(J107/J106) -> #DIV/0! | P107: =1-(#REF!/#REF!) -> #REF! | S107: =1-(P107/P106) -> #REF! | V107: =1-(S107/S106) -> #REF! | Y107: =1-(V107/V106) -> #REF! | AB107: =1-(#REF!/#REF!) -> #REF! | AE107: =1-(AB107/AB106) -> #REF! | AH107: =1-(AE107/AE106) -> #REF! | AK107: =1-(#REF!/#REF!) -> #REF! | AN107: =1-(AK107/AK106) -> #REF! | AQ107: =1-(AN107/AN106) -> #REF! | AT107: =1-(AQ107/AQ106) -> #REF!
C108: 18 | D108: 0 | E108: =D108-(D108*5%) -> 0 | F108: =IF(D108>0,1-(D108/$B$86),0) -> 0 | G108: =1-(D108/D107) -> #DIV/0! | J108: =1-(G108/G107) -> #DIV/0! | M108: =1-(J108/J107) -> #DIV/0! | P108: =1-(#REF!/#REF!) -> #REF! | S108: =1-(P108/P107) -> #REF! | V108: =1-(S108/S107) -> #REF! | Y108: =1-(V108/V107) -> #REF! | AB108: =1-(#REF!/#REF!) -> #REF! | AE108: =1-(AB108/AB107) -> #REF! | AH108: =1-(AE108/AE107) -> #REF! | AK108: =1-(#REF!/#REF!) -> #REF! | AN108: =1-(AK108/AK107) -> #REF! | AQ108: =1-(AN108/AN107) -> #REF! | AT108: =1-(AQ108/AQ107) -> #REF!
C109: 19 | D109: 0 | E109: =D109-(D109*5%) -> 0 | F109: =IF(D109>0,1-(D109/$B$86),0) -> 0 | G109: =1-(D109/D108) -> #DIV/0! | J109: =1-(G109/G108) -> #DIV/0! | M109: =1-(J109/J108) -> #DIV/0! | P109: =1-(#REF!/#REF!) -> #REF! | S109: =1-(P109/P108) -> #REF! | V109: =1-(S109/S108) -> #REF! | Y109: =1-(V109/V108) -> #REF! | AB109: =1-(#REF!/#REF!) -> #REF! | AE109: =1-(AB109/AB108) -> #REF! | AH109: =1-(AE109/AE108) -> #REF! | AK109: =1-(#REF!/#REF!) -> #REF! | AN109: =1-(AK109/AK108) -> #REF! | AQ109: =1-(AN109/AN108) -> #REF! | AT109: =1-(AQ109/AQ108) -> #REF!
C110: 20 | D110: 0 | E110: =D110-(D110*5%) -> 0 | F110: =IF(D110>0,1-(D110/$B$86),0) -> 0 | G110: =1-(D110/D109) -> #DIV/0! | J110: =1-(G110/G109) -> #DIV/0! | M110: =1-(J110/J109) -> #DIV/0! | P110: =1-(#REF!/#REF!) -> #REF! | S110: =1-(P110/P109) -> #REF! | V110: =1-(S110/S109) -> #REF! | Y110: =1-(V110/V109) -> #REF! | AB110: =1-(#REF!/#REF!) -> #REF! | AE110: =1-(AB110/AB109) -> #REF! | AH110: =1-(AE110/AE109) -> #REF! | AK110: =1-(#REF!/#REF!) -> #REF! | AN110: =1-(AK110/AK109) -> #REF! | AQ110: =1-(AN110/AN109) -> #REF! | AT110: =1-(AQ110/AQ109) -> #REF!
D111: VALOR INICIAL | E111: 199552561
D112: PORCENTAJE LANCE | H112: =+H87-H88 -> 0 | I112: =+I87-I88 -> 0 | J112: =+J87-J88 -> 0 | K112: =+K87-K88 -> 0 | L112: =+L87-L88 -> 0 | M112: =+M87-M88 -> 0 | N112: =+N87-N88 -> 0 | O112: =+O87-O88 -> 0 | ... AV112: =+AV87-AV88 -> 0
D113: TIEMPO | E113: 138 DIAS
D118: NORTE | E118: CENTRO | F118: SUR
C119: adquisiicon, instalacion | D119: 15334627 | E119: 0 | F119: 9650908
C120: preventivo | D120: 55325624 | E120: 33735658 | F120: 30192764
C121: compra | D121: 1726230 | E121: 0 | F121: 0
D122: =SUM(D119:D121) -> 72386481 | E122: =SUM(E119:E121) -> 33735658 | F122: =SUM(F119:F121) -> 39843672 | G122: =SUM(D122:F122) -> 145965811
C123: Correctivo | D123: 31653250 | E123: 10781000 | F123: 11152500 | M123: NO PARTICIPARON DE ESTA BOLSA
D124: =+D122+D123 -> 104039731 | E124: =+E122+E123 -> 44516658 | F124: =+F122+F123 -> 50996172
D126: TOTAL | E126: =+D124+E124+F124 -> 199552561
M128: AIRES COSTA LTDA
M130: REFRICESAR INGENIERIA S.A.S.
M133: COMERCIALIZADORA ELECTROMERO S.A.S.

Sheet Colcap (2)
B40: FECHA CIERRE | D40: 44371
B41: TOTAL OFERTAS | D41: 14
B42: VALOR COLCAP | D42: 1278.81
B44: FUENTE
B45: http://www.banrep.gov.co/es/igbc
B46: https://www.bvc.com.co/pps/tibco/portalbvc/Home/Mercados/enlinea/indicesbursatiles

Sheet EVA. ECONOMICA (3)
D3: FORMATO DE VERIFICACION
D4: FORMULA ECONÓMICA
B5: SAMC- ARN-654-2021
B6: ADQUISICIÓN E INSTALACION DE EQUIPOS DE AIRES ACONDICIONADOS Y/O VENTILADORES TIPO PEDESTAL Y/O MANTENIMIENTO PREVENTIVO Y/O CORRECTIVO DE EQUIPOS DE AIRES ACONDICIONADOS INCLUYENDO EL SUMINISTRO DE MATERIALES Y REPUESTOS
B7: ASIGNACION MEDIA GEOMETRICA PUNTAJE MAXIMO : 500 PUNTOS
B8: No. | C8: PROPONENTE | F8: VALOR OFERTADO | G8: HABILITADOS | H8: PUNTAJE | I8: HABILITADO/ NOHABILITADO | J8: OBSERVACIONES
B9: 13 | C9: =+'Verif.Ofertas CENTRO'!AQ2 -> GRUPO SKY DE COLOMBIA S.A.S | F9: =+'Verif.Ofertas SUR'!AR73 -> 33820000 | H9: 500
B10: 1 | C10: =+'Verif.Ofertas CENTRO'!G2 -> FRICON SOLUCIONES SAS | F10: =+'Verif.Ofertas SUR'!H73 -> 38086000 | H10: =500-(500*ABS(F10-$D$42)/$D$42) -> 436.93081
B11: 6 | C11: =+'Verif.Ofertas CENTRO'!V2 -> ACONDICLIMA INGENIERIA Y CONSTRUCCION SAS | F11: =+'Verif.Ofertas SUR'!W73 -> 29142988 | H11: =500-(500*ABS(F11-$D$42)/$D$42) -> 430.85435
B12: 11 | C12: =+'Verif.Ofertas CENTRO'!AK2 -> PROSERMAN SAS | F12: =+'Verif.Ofertas SUR'!AL73 -> 38648388 | H12: =500-(500*ABS(F12-$D$42)/$D$42) -> 428.61638 | N12: MEDIA ARMONICA | O12: =HARMEAN(F9:F21) -> 36346682
B13: 5 | C13: =+'Verif.Ofertas CENTRO'!S2 -> EXPERTOS INGENIEROS S.A.S. | F13: =+'Verif.Ofertas SUR'!T73 -> 38964276 | H13: =500-(500*ABS(F13-$D$42)/$D$42) -> 423.94624 | M13: 13 | N13: GRUPO SKY DE COLOMBIA S.A.S | O13: 33820000
B14: 3 | C14: =+'Verif.Ofertas CENTRO'!M2 -> ASESORIAS Y ACABADOS AVILA SAS | F14: =+'Verif.Ofertas SUR'!N73 -> 38967110 | H14: =500-(500*ABS(F14-$D$42)/$D$42) -> 423.90435
B15: 10 | C15: =+'Verif.Ofertas CENTRO'!AH2 -> TERMEC LIMITADA | F15: =+'Verif.Ofertas SUR'!AI73 -> 39037564 | H15: =500-(500*ABS(F15-$D$42)/$D$42) -> 422.86274
B16: 8 | C16: =+'Verif.Ofertas CENTRO'!AB2 -> GOURIYU SISTEMS S.A.S. | F16: =+'Verif.Ofertas SUR'!AC73 -> 39046792 | H16: =500-(500*ABS(F16-$D$42)/$D$42) -> 422.72632
B17: 12 | C17: =+'Verif.Ofertas CENTRO'!AN2 -> CONINCAG SAS | F17: =+'Verif.Ofertas SUR'!AO73 -> 39098551 | H17: =500-(500*ABS(F17-$D$42)/$D$42) -> 421.96111
B18: 7 | C18: =+'Verif.Ofertas CENTRO'!Y2 -> CONSTRUCCIONES J & LG S.A.S | F18: =+'Verif.Ofertas SUR'!Z73 -> 39246020 | H18: =500-(500*ABS(F18-$D$42)/$D$42) -> 419.7809
B19: 2 | C19: =+'Verif.Ofertas CENTRO'!J2 -> TCB IMPRESOS SOLUCIONES Y SUMINISTROS SAS | F19: =+'Verif.Ofertas SUR'!K73 -> 39445228 | H19: =500-(500*ABS(F19-$D$42)/$D$42) -> 416.83578
B20: 9 | C20: =+'Verif.Ofertas CENTRO'!AE2 -> SUBE INGENIERIA | F20: =+'Verif.Ofertas SUR'!AF73 -> 39843672 | H20: =500-(500*ABS(F20-$D$42)/$D$42) -> 410.94512
B21: 4 | C21: =+'Verif.Ofertas CENTRO'!P2 -> INGEMET JYS SAS | F21: =+'Verif.Ofertas SUR'!Q73 -> 26600000 | H21: =500-(500*ABS(F21-$D$42)/$D$42) -> 393.25843
B22: 14 | C22: =+'Verif.Ofertas CENTRO'!AT2 -> NIC SERVICIOS SAS | F22: =+'Verif.Ofertas SUR'!AU73 -> 37540000 | I22: RECHAZADO | J22: El proponente supero el precio techo del ITEM 2.2 Florencia_12000_BTU, teniendo en cuenta el Anexo complementario punto 3.3.4 Item F.
D25: MEDIA ARMONICA | F25: =HARMEAN(F9:F21) -> 36346682
B27: 1 | C27: =IF(F9<$F$25,"MENOR VALOR","NO APLICA") -> MENOR VALOR | D27: =IF(C27="MENOR VALOR",F9,0) -> 33820000
B28: 2 | C28: =IF(F10<$F$25,"MENOR VALOR","NO APLICA") -> NO APLICA | D28: =IF(C28="MENOR VALOR",F10,0) -> 0
B29: 3 | C29: =IF(F11<$F$25,"MENOR VALOR","NO APLICA") -> MENOR VALOR | D29: =IF(C29="MENOR VALOR",F11,0) -> 29142988
B30: 4 | C30: =IF(F12<$F$25,"MENOR VALOR","NO APLICA") -> NO APLICA | D30: =IF(C30="MENOR VALOR",F12,0) -> 0
B31: 5 | C31: =IF(F13<$F$25,"MENOR VALOR","NO APLICA") -> NO APLICA | D31: =IF(C31="MENOR VALOR",F13,0) -> 0
B32: 6 | C32: =IF(F14<$F$25,"MENOR VALOR","NO APLICA") -> NO APLICA | D32: =IF(C32="MENOR VALOR",F14,0) -> 0
B33: 7 | C33: =IF(F15<$F$25,"MENOR VALOR","NO APLICA") -> NO APLICA | D33: =IF(C33="MENOR VALOR",F15,0) -> 0
B34: 8 | C34: =IF(F16<$F$25,"MENOR VALOR","NO APLICA") -> NO APLICA | D34: =IF(C34="MENOR VALOR",F16,0) -> 0
B35: 9 | C35: =IF(F17<$F$25,"MENOR VALOR","NO APLICA") -> NO APLICA | D35: =IF(C35="MENOR VALOR",F17,0) -> 0
B36: 10 | C36: =IF(F18<$F$25,"MENOR VALOR","NO APLICA") -> NO APLICA | D36: =IF(C36="MENOR VALOR",F18,0) -> 0
B37: 11 | C37: =IF(F19<$F$25,"MENOR VALOR","NO APLICA") -> NO APLICA | D37: =IF(C37="MENOR VALOR",F19,0) -> 0
B38: 12 | C38: =IF(F20<$F$25,"MENOR VALOR","NO APLICA") -> NO APLICA | D38: =IF(C38="MENOR VALOR",F20,0) -> 0
... B40: 14 | C40: =IF(F22<$F$25,"MENOR VALOR","NO APLICA") -> NO APLICA | D40: =IF(C40="MENOR VALOR",F22,0) -> 0
C42: Vr menor media Armonica | D42: =MAX(D27:D40) -> 33820000
C44: Elaborado por:
C45: ALEX JULIAN MOJICA SIERRA Profesional Especializado - Grupo Gestion Contractual. 29 de Junio de 2021
C47: _____________________________________

Sheet Verif.Ofertas SUR
G1: 1 | J1: 2 | M1: 3 | P1: 4 | S1: 5 | V1: 6 | Y1: 7 | AB1: 8 | AE1: 9 | AH1: 10 | AK1: 11 | AN1: 12 | AQ1: 13 | AT1: 14 | AW1: 15 | AZ1: 16 | BC1: 17
A2: VERIFICACION DE PRECIOS UNITARIOS SUBASTA INVERSA No SAMC-ARN-654-2021 ADQUISICIÓN E INSTALACION DE EQUIPOS DE AIRES ACONDICIONADOS Y/O VENTILADORES TIPO PEDESTAL Y/O MANTENIMIENTO PREVENTIVO Y/O CORRECTIVO DE EQUIPOS DE AIRES ACONDICIONADOS INCLUYENDO EL SUMINISTRO DE MATERIALES Y REPUESTOS | G2: FRICON SOLUCIONES SAS | J2: TCB IMPRESOS SOLUCIONES Y SUMINISTROS SAS | M2: ASESORIAS Y ACABADOS AVILA SAS | P2: INGEMET JYS SAS | S2: Expertos Ingenieros S.A.S | V2: ACONDICLIMA INGENIERIA Y CONSTRUCCION SAS | Y2: CONSTRUCCIONES J & LG S.A.S | AB2: GOURIYU SISTEMS S.A.S. | AE2: SUBE INGENIERIA | AH2: TERMEC LIMITADA | AK2: PROSERMAN SAS | AN2: CONINCAG SAS | AQ2: GRUPO SKY DE COLOMBIA S.A.S | AT2: Nicservicio s.a.s
A3: ITEM | B3: Descripción | C3: Cantidad | D3: Unidad | E3: Precio unitario estimado | F3: SUBTOTAL UNITARIO | G3: VALOR UNITARIO OFERTADO | H3: VALOR TOTAL UNITARIO | I3: VERIFICACION | J3: VALOR UNITARIO OFERTADO | K3: VALOR TOTAL UNITARIO | L3: VERIFICACION | M3: VALOR UNITARIO OFERTADO | N3: VALOR TOTAL UNITARIO | O3: VERIFICACION | P3: VALOR UNITARIO OFERTADO | Q3: VALOR TOTAL UNITARIO | R3: VERIFICACION | S3: VALOR UNITARIO OFERTADO | T3: VALOR TOTAL UNITARIO | U3: VERIFICACION | V3: VALOR UNITARIO OFERTADO | W3: VALOR TOTAL UNITARIO | X3: VERIFICACION | Y3: VALOR UNITARIO OFERTADO | Z3: VALOR TOTAL UNITARIO | AA3: VERIFICACION | AB3: VALOR UNITARIO OFERTADO | AC3: VALOR TOTAL UNITARIO | AD3: VERIFICACION | AE3: VALOR UNITARIO OFERTADO | AF3: VALOR TOTAL UNITARIO | AG3: VERIFICACION | AH3: VALOR UNITARIO OFERTADO | AI3: VALOR TOTAL UNITARIO | AJ3: VERIFICACION | AK3: VALOR UNITARIO OFERTADO | AL3: VALOR TOTAL UNITARIO | AM3: VERIFICACION | AN3: VALOR UNITARIO OFERTADO | AO3: VALOR TOTAL UNITARIO | AP3: VERIFICACION | AQ3: VALOR UNITARIO OFERTADO | AR3: VALOR TOTAL UNITARIO | AS3: VERIFICACION | AT3: VALOR UNITARIO OFERTADO | AU3: VALOR TOTAL UNITARIO | AV3: VERIFICACION
A4: 1 | B4: ADQUISICIÓN. INSTALACION Y PUESTA EN FUNCIONAMIENTO AIRES ACONDICIONADOS INVERTER. DE ACUERDO A LAS ESPECIFICACIONES TECNICAS DESCRITAS EN ANEXO TÉCNICO ( IVA INCLUIDO) | E4: 0 | F4: =+C4*E4 -> 0 | G4: 0 | H4: =+G4*$C4 -> 0 | I4: =IF(G4>$E4,"ERROR","OK") -> OK | K4: =+J4*$C4 -> 0 | L4: =IF(J4>$E4,"ERROR","OK") -> OK | N4: =+M4*$C4 -> 0 | O4: =IF(M4>$E4,"ERROR","OK") -> OK | Q4: =+P4*$C4 -> 0 | R4: =IF(P4>$E4,"ERROR","OK") -> OK | T4: =+S4*$C4 -> 0 | U4: =IF(S4>$E4,"ERROR","OK") -> OK | W4: =+V4*$C4 -> 0 | X4: =IF(V4>$E4,"ERROR","OK") -> OK | Z4: =+Y4*$C4 -> 0 | AA4: =IF(Y4>$E4,"ERROR","OK") -> OK | AC4: =+AB4*$C4 -> 0 | AD4: =IF(AB4>$E4,"ERROR","OK") -> OK | AF4: =+AE4*$C4 -> 0 | AG4: =IF(AE4>$E4,"ERROR","OK") -> OK | AI4: =+AH4*$C4 -> 0 | AJ4: =IF(AH4>$E4,"ERROR","OK") -> OK | AL4: =+AK4*$C4 -> 0 | AM4: =IF(AK4>$E4,"ERROR","OK") -> OK | AO4: =+AN4*$C4 -> 0 | AP4: =IF(AN4>$E4,"ERROR","OK") -> OK | AR4: =+AQ4*$C4 -> 0 | AS4: =IF(AQ4>$E4,"ERROR","OK") -> OK | AU4: =+AT4*$C4 -> 0 | AV4: =IF(AT4>$E4,"ERROR","OK") -> OK
A5: 11 | B5: Santader de Quilichao_12000 BTU_BTU | C5: 2 | D5: UN | E5: 4825454 | F5: =+C5*E5 -> 9650908 | G5: 4613100 | H5: =+G5*$C5 -> 9226200 | I5: =IF(G5>$E5,"ERROR","OK") -> OK | J5: 4777199 | K5: =+J5*$C5 -> 9554398 | L5: =IF(J5>$E5,"ERROR","OK") -> OK | M5: 4719294 | N5: =+M5*$C5 -> 9438588 | O5: =IF(M5>$E5,"ERROR","OK") -> OK | P5: 4200000 | Q5: =+P5*$C5 -> 8400000 | R5: =IF(P5>$E5,"ERROR","OK") -> OK | S5: 4825454 | T5: =+S5*$C5 -> 9650908 | U5: =IF(S5>$E5,"ERROR","OK") -> OK | V5: 4033162 | W5: =+V5*$C5 -> 8066324 | X5: =IF(V5>$E5,"ERROR","OK") -> OK | Y5: 4753072 | Z5: =+Y5*$C5 -> 9506144 | AA5: =IF(Y5>$E5,"ERROR","OK") -> OK | AB5: 4728945 | AC5: =+AB5*$C5 -> 9457890 | AD5: =IF(AB5>$E5,"ERROR","OK") -> OK | AE5: 4825454 | AF5: =+AE5*$C5 -> 9650908 | AG5: =IF(AE5>$E5,"ERROR","OK") -> OK | AH5: 4584181 | AI5: =+AH5*$C5 -> 9168362 | AJ5: =IF(AH5>$E5,"ERROR","OK") -> OK | AK5: 4680690 | AL5: =+AK5*$C5 -> 9361380 | AM5: =IF(AK5>$E5,"ERROR","OK") -> OK | AN5: 4735218 | AO5: =+AN5*$C5 -> 9470436 | AP5: =IF(AN5>$E5,"ERROR","OK") -> OK | AQ5: 4600000 | AR5: =+AQ5*$C5 -> 9200000 | AS5: =IF(AQ5>$E5,"ERROR","OK") -> OK | AT5: 4800000 | AU5: =+AT5*$C5 -> 9600000 | AV5: =IF(AT5>$E5,"ERROR","OK") -> OK
A6: 2 | B6: MANTENIMIENTO PREVENTIVO DE AIRES ACONDICIONADOS EXISTENTES EN LAS OFICINAS DE LA ARN DE ACUERDO A LAS ESPECIFICACIONES TECNICAS DESCRITAS EN ANEXO TÉCNICO (IVA INCLUIDO) | F6: =+C6*E6 -> 0 | H6: =+G6*$C6 -> 0 | I6: =IF(G6>$E6,"ERROR","OK") -> OK | K6: =+J6*$C6 -> 0 | L6: =IF(J6>$E6,"ERROR","OK") -> OK | N6: =+M6*$C6 -> 0 | O6: =IF(M6>$E6,"ERROR","OK") -> OK | Q6: =+P6*$C6 -> 0 | R6: =IF(P6>$E6,"ERROR","OK") -> OK | T6: =+S6*$C6 -> 0 | U6: =IF(S6>$E6,"ERROR","OK") -> OK | W6: =+V6*$C6 -> 0 | X6: =IF(V6>$E6,"ERROR","OK") -> OK | Z6: =+Y6*$C6 -> 0 | AA6: =IF(Y6>$E6,"ERROR","OK") -> OK | AC6: =+AB6*$C6 -> 0 | AD6: =IF(AB6>$E6,"ERROR","OK") -> OK | AF6: =+AE6*$C6 -> 0 | AG6: =IF(AE6>$E6,"ERROR","OK") -> OK | AI6: =+AH6*$C6 -> 0 | AJ6: =IF(AH6>$E6,"ERROR","OK") -> OK | AL6: =+AK6*$C6 -> 0 | AM6: =IF(AK6>$E6,"ERROR","OK") -> OK | AO6: =+AN6*$C6 -> 0 | AP6: =IF(AN6>$E6,"ERROR","OK") -> OK | AR6: =+AQ6*$C6 -> 0 | AS6: =IF(AQ6>$E6,"ERROR","OK") -> OK | AU6: =+AT6*$C6 -> 0 | AV6: =IF(AT6>$E6,"ERROR","OK") -> OK
A7: 2.1 | B7: Florencia_60000_BTU | C7: 16 | D7: UN | E7: 322816 | F7: =+C7*E7 -> 5165056 | G7: 308600 | H7: =+G7*$C7 -> 4937600 | I7: =IF(G7>$E7,"ERROR","OK") -> OK | J7: 319588 | K7: =+J7*$C7 -> 5113408 | L7: =IF(J7>$E7,"ERROR","OK") -> OK | M7: 315714 | N7: =+M7*$C7 -> 5051424 | O7: =IF(M7>$E7,"ERROR","OK") -> OK | P7: 220000 | Q7: =+P7*$C7 -> 3520000 | R7: =IF(P7>$E7,"ERROR","OK") -> OK | S7: 313414 | T7: =+S7*$C7 -> 5014624 | U7: =IF(S7>$E7,"ERROR","OK") -> OK | V7: 227038 | W7: =+V7*$C7 -> 3632608 | X7: =IF(V7>$E7,"ERROR","OK") -> OK | Y7: 317974 | Z7: =+Y7*$C7 -> 5087584 | AA7: =IF(Y7>$E7,"ERROR","OK") -> OK | AB7: 316360 | AC7: =+AB7*$C7 -> 5061760 | AD7: =IF(AB7>$E7,"ERROR","OK") -> OK | AE7: 322816 | AF7: =+AE7*$C7 -> 5165056 | AG7: =IF(AE7>$E7,"ERROR","OK") -> OK | AH7: 319588 | AI7: =+AH7*$C7 -> 5113408 | AJ7: =IF(AH7>$E7,"ERROR","OK") -> OK | AK7: 313132 | AL7: =+AK7*$C7 -> 5010112 | AM7: =IF(AK7>$E7,"ERROR","OK") -> OK | AN7: 316779 | AO7: =+AN7*$C7 -> 5068464 | AP7: =IF(AN7>$E7,"ERROR","OK") -> OK | AQ7: 210000 | AR7: =+AQ7*$C7 -> 3360000 | AS7: =IF(AQ7>$E7,"ERROR","OK") -> OK | AT7: 320000 | AU7: =+AT7*$C7 -> 5120000 | AV7: =IF(AT7>$E7,"ERROR","OK") -> OK
A8: 2.2 | B8: Florencia_12000_BTU | C8: 2 | D8: UN | E8: 238396 | F8: =+C8*E8 -> 476792 | G8: 227900 | H8: =+G8*$C8 -> 455800 | I8: =IF(G8>$E8,"ERROR","OK") -> OK | J8: 236012 | K8: =+J8*$C8 -> 472024 | L8: =IF(J8>$E8,"ERROR","OK") -> OK | M8: 233151 | N8: =+M8*$C8 -> 466302 | O8: =IF(M8>$E8,"ERROR","OK") -> OK | P8: 150000 | Q8: =+P8*$C8 -> 300000 | R8: =IF(P8>$E8,"ERROR","OK") -> OK | S8: 231452 | T8: =+S8*$C8 -> 462904 | U8: =IF(S8>$E8,"ERROR","OK") -> OK | V8: 227038 | W8: =+V8*$C8 -> 454076 | X8: =IF(V8>$E8,"ERROR","OK") -> OK | Y8: 234820 | Z8: =+Y8*$C8 -> 469640 | AA8: =IF(Y8>$E8,"ERROR","OK") -> OK | AB8: 233628 | AC8: =+AB8*$C8 -> 467256 | AD8: =IF(AB8>$E8,"ERROR","OK") -> OK | AE8: 238396 | AF8: =+AE8*$C8 -> 476792 | AG8: =IF(AE8>$E8,"ERROR","OK") -> OK | AH8: 236011 | AI8: =+AH8*$C8 -> 472022 | AJ8: =IF(AH8>$E8,"ERROR","OK") -> OK | AK8: 231244 | AL8: =+AK8*$C8 -> 462488 | AM8: =IF(AK8>$E8,"ERROR","OK") -> OK | AN8: 233937 | AO8: =+AN8*$C8 -> 467874 | AP8: =IF(AN8>$E8,"ERROR","OK") -> OK | AQ8: 290000 | AR8: =+AQ8*$C8 -> 580000 | AS8: =IF(AQ8>$E8,"ERROR","OK") -> ERROR | AT8: 210000 | AU8: =+AT8*$C8 -> 420000 | AV8: =IF(AT8>$E8,"ERROR","OK") -> OK
A9: 2.3 | B9: Santander de Quilichao_24000_BTU | C9: 4 | D9: UN | E9: 266079 | F9: =+C9*E9 -> 1064316 | G9: 254300 | H9: =+G9*$C9 -> 1017200 | I9: =IF(G9>$E9,"ERROR","OK") -> OK | J9: 263418 | K9: =+J9*$C9 -> 1053672 | L9: =IF(J9>$E9,"ERROR","OK") -> OK | M9: 260225 | N9: =+M9*$C9 -> 1040900 | O9: =IF(M9>$E9,"ERROR","OK") -> OK | P9: 150000 | Q9: =+P9*$C9 -> 600000 | R9: =IF(P9>$E9,"ERROR","OK") -> OK | S9: 258329 | T9: =+S9*$C9 -> 1033316 | U9: =IF(S9>$E9,"ERROR","OK") -> OK | V9: 151358 | W9: =+V9*$C9 -> 605432 | X9: =IF(V9>$E9,"ERROR","OK") -> OK | Y9: 262088 | Z9: =+Y9*$C9 -> 1048352 | AA9: =IF(Y9>$E9,"ERROR","OK") -> OK | AB9: 260757 | AC9: =+AB9*$C9 -> 1043028 | AD9: =IF(AB9>$E9,"ERROR","OK") -> OK | AE9: 266079 | AF9: =+AE9*$C9 -> 1064316 | AG9: =IF(AE9>$E9,"ERROR","OK") -> OK | AH9: 263418 | AI9: =+AH9*$C9 -> 1053672 | AJ9: =IF(AH9>$E9,"ERROR","OK") -> OK | AK9: 258097 | AL9: =+AK9*$C9 -> 1032388 | AM9: =IF(AK9>$E9,"ERROR","OK") -> OK | AN9: 261103 | AO9: =+AN9*$C9 -> 1044412 | AP9: =IF(AN9>$E9,"ERROR","OK") -> OK | AQ9: 220000 | AR9: =+AQ9*$C9 -> 880000 | AS9: =IF(AQ9>$E9,"ERROR","OK") -> OK | AT9: 240000 | AU9: =+AT9*$C9 -> 960000 | AV9: =IF(AT9>$E9,"ERROR","OK") -> OK
A10: 2.4 | B10: Pereira_58000_BTU | C10: 10 | D10: UN | E10: 303615 | F10: =+C10*E10 -> 3036150 | G10: 290200 | H10: =+G10*$C10 -> 2902000 | I10: =IF(G10>$E10,"ERROR","OK") -> OK | J10: 300579 | K10: =+J10*$C10 -> 3005790 | L10: =IF(J10>$E10,"ERROR","OK") -> OK | M10: 296935 | N10: =+M10*$C10 -> 2969350 | O10: =IF(M10>$E10,"ERROR","OK") -> OK | P10: 190000 | Q10: =+P10*$C10 -> 1900000 | R10: =IF(P10>$E10,"ERROR","OK") -> OK | S10: 294772 | T10: =+S10*$C10 -> 2947720 | U10: =IF(S10>$E10,"ERROR","OK") -> OK | V10: 211901 | W10: =+V10*$C10 -> 2119010 | X10: =IF(V10>$E10,"ERROR","OK") -> OK | Y10: 299061 | Z10: =+Y10*$C10 -> 2990610 | AA10: =IF(Y10>$E10,"ERROR","OK") -> OK | AB10: 297543 | AC10: =+AB10*$C10 -> 2975430 | AD10: =IF(AB10>$E10,"ERROR","OK") -> OK | AE10: 303615 | AF10: =+AE10*$C10 -> 3036150 | AG10: =IF(AE10>$E10,"ERROR","OK") -> OK | AH10: 300579 | AI10: =+AH10*$C10 -> 3005790 | AJ10: =IF(AH10>$E10,"ERROR","OK") -> OK | AK10: 294507 | AL10: =+AK10*$C10 -> 2945070 | AM10: =IF(AK10>$E10,"ERROR","OK") -> OK | AN10: 297937 | AO10: =+AN10*$C10 -> 2979370 | AP10: =IF(AN10>$E10,"ERROR","OK") -> OK | AQ10: 260000 | AR10: =+AQ10*$C10 -> 2600000 | AS10: =IF(AQ10>$E10,"ERROR","OK") -> OK | AT10: 280000 | AU10: =+AT10*$C10 -> 2800000 | AV10: =IF(AT10>$E10,"ERROR","OK") -> OK
A11: 2.5 | B11: Neiva_9000_BTU | C11: 16 | D11: UN | E11: 235378 | F11: =+C11*E11 -> 3766048 | G11: 225000 | H11: =+G11*$C11 -> 3600000 | I11: =IF(G11>$E11,"ERROR","OK") -> OK | J11: 233024 | K11: =+J11*$C11 -> 3728384 | L11: =IF(J11>$E11,"ERROR","OK") -> OK | M11: 230200 | N11: =+M11*$C11 -> 3683200 | O11: =IF(M11>$E11,"ERROR","OK") -> OK | P11: 140000 | Q11: =+P11*$C11 -> 2240000 | R11: =IF(P11>$E11,"ERROR","OK") -> OK | S11: 228522 | T11: =+S11*$C11 -> 3656352 | U11: =IF(S11>$E11,"ERROR","OK") -> OK | V11: 170277 | W11: =+V11*$C11 -> 2724432 | X11: =IF(V11>$E11,"ERROR","OK") -> OK | Y11: 231847 | Z11: =+Y11*$C11 -> 3709552 | AA11: =IF(Y11>$E11,"ERROR","OK") -> OK | AB11: 230670 | AC11: =+AB11*$C11 -> 3690720 | AD11: =IF(AB11>$E11,"ERROR","OK") -> OK | AE11: 235378 | AF11: =+AE11*$C11 -> 3766048 | AG11: =IF(AE11>$E11,"ERROR","OK") -> OK | AH11: 233024 | AI11: =+AH11*$C11 -> 3728384 | AJ11: =IF(AH11>$E11,"ERROR","OK") -> OK | AK11: 228317 | AL11: =+AK11*$C11 -> 3653072 | AM11: =IF(AK11>$E11,"ERROR","OK") -> OK | AN11: 230976 | AO11: =+AN11*$C11 -> 3695616 | AP11: =IF(AN11>$E11,"ERROR","OK") -> OK | AQ11: 220000 | AR11: =+AQ11*$C11 -> 3520000 | AS11: =IF(AQ11>$E11,"ERROR","OK") -> OK | AT11: 230000 | AU11: =+AT11*$C11 -> 3680000 | AV11: =IF(AT11>$E11,"ERROR","OK") -> OK
A12: 2.6 | B12: Neiva_12000_BTU | C12: 6 | D12: UN | E12: 235070 | F12: =+C12*E12 -> 1410420 | G12: 224700 | H12: =+G12*$C12 -> 1348200 | I12: =IF(G12>$E12,"ERROR","OK") -> OK | J12: 232719 | K12: =+J12*$C12 -> 1396314 | L12: =IF(J12>$E12,"ERROR","OK") -> OK | M12: 229898 | N12: =+M12*$C12 -> 1379388 | O12: =IF(M12>$E12,"ERROR","OK") -> OK | P12: 150000 | Q12: =+P12*$C12 -> 900000 | R12: =IF(P12>$E12,"ERROR","OK") -> OK | S12: 228223 | T12: =+S12*$C12 -> 1369338 | U12: =IF(S12>$E12,"ERROR","OK") -> OK | V12: 170277 | W12: =+V12*$C12 -> 1021662 | X12: =IF(V12>$E12,"ERROR","OK") -> OK | Y12: 231544 | Z12: =+Y12*$C12 -> 1389264 | AA12: =IF(Y12>$E12,"ERROR","OK") -> OK | AB12: 230369 | AC12: =+AB12*$C12 -> 1382214 | AD12: =IF(AB12>$E12,"ERROR","OK") -> OK | AE12: 235070 | AF12: =+AE12*$C12 -> 1410420 | AG12: =IF(AE12>$E12,"ERROR","OK") -> OK | AH12: 232719 | AI12: =+AH12*$C12 -> 1396314 | AJ12: =IF(AH12>$E12,"ERROR","OK") -> OK | AK12: 228018 | AL12: =+AK12*$C12 -> 1368108 | AM12: =IF(AK12>$E12,"ERROR","OK") -> OK | AN12: 230674 | AO12: =+AN12*$C12 -> 1384044 | AP12: =IF(AN12>$E12,"ERROR","OK") -> OK | AQ12: 190000 | AR12: =+AQ12*$C12 -> 1140000 | AS12: =IF(AQ12>$E12,"ERROR","OK") -> OK | AT12: 210000 | AU12: =+AT12*$C12 -> 1260000 | AV12: =IF(AT12>$E12,"ERROR","OK") -> OK
A13: 2.7 | B13: Tumaco_12000_BTU | C13: 10 | D13: UN | E13: 267563 | F13: =+C13*E13 -> 2675630 | G13: 255700 | H13: =+G13*$C13 -> 2557000 | I13: =IF(G13>$E13,"ERROR","OK") -> OK | J13: 264887 | K13: =+J13*$C13 -> 2648870 | L13: =IF(J13>$E13,"ERROR","OK") -> OK | M13: 261677 | N13: =+M13*$C13 -> 2616770 | O13: =IF(M13>$E13,"ERROR","OK") -> OK | P13: 150000 | Q13: =+P13*$C13 -> 1500000 | R13: =IF(P13>$E13,"ERROR","OK") -> OK | S13: 259770 | T13: =+S13*$C13 -> 2597700 | U13: =IF(S13>$E13,"ERROR","OK") -> OK | V13: 227038 | W13: =+V13*$C13 -> 2270380 | X13: =IF(V13>$E13,"ERROR","OK") -> OK | Y13: 263550 | Z13: =+Y13*$C13 -> 2635500 | AA13: =IF(Y13>$E13,"ERROR","OK") -> OK | AB13: 262212 | AC13: =+AB13*$C13 -> 2622120 | AD13: =IF(AB13>$E13,"ERROR","OK") -> OK | AE13: 267563 | AF13: =+AE13*$C13 -> 2675630 | AG13: =IF(AE13>$E13,"ERROR","OK") -> OK | AH13: 267563 | AI13: =+AH13*$C13 -> 2675630 | AJ13: =IF(AH13>$E13,"ERROR","OK") -> OK | AK13: 259536 | AL13: =+AK13*$C13 -> 2595360 | AM13: =IF(AK13>$E13,"ERROR","OK") -> OK | AN13: 262559 | AO13: =+AN13*$C13 -> 2625590 | AP13: =IF(AN13>$E13,"ERROR","OK") -> OK | AQ13: 220000 | AR13: =+AQ13*$C13 -> 2200000 | AS13: =IF(AQ13>$E13,"ERROR","OK") -> OK | AT13: 240000 | AU13: =+AT13*$C13 -> 2400000 | AV13: =IF(AT13>$E13,"ERROR","OK") -> OK
A14: 2.8 | B14: Tumaco_18000_BTU | C14: 2 | D14: UN | E14: 281566 | F14: =+C14*E14 -> 563132 | G14: 269100 | H14: =+G14*$C14 -> 538200 | I14: =IF(G14>$E14,"ERROR","OK") -> OK | J14: 278750 | K14: =+J14*$C14 -> 557500 | L14: =IF(J14>$E14,"ERROR","OK") -> OK | M14: 275372 | N14: =+M14*$C14 -> 550744 | O14: =IF(M14>$E14,"ERROR","OK") -> OK | P14: 150000 | Q14: =+P14*$C14 -> 300000 | R14: =IF(P14>$E14,"ERROR","OK") -> OK | S14: 273365 | T14: =+S14*$C14 -> 546730 | U14: =IF(S14>$E14,"ERROR","OK") -> OK | V14: 227038 | W14: =+V14*$C14 -> 454076 | X14: =IF(V14>$E14,"ERROR","OK") -> OK | Y14: 277343 | Z14: =+Y14*$C14 -> 554686 | AA14: =IF(Y14>$E14,"ERROR","OK") -> OK | AB14: 275935 | AC14: =+AB14*$C14 -> 551870 | AD14: =IF(AB14>$E14,"ERROR","OK") -> OK | AE14: 281566 | AF14: =+AE14*$C14 -> 563132 | AG14: =IF(AE14>$E14,"ERROR","OK") -> OK | AH14: 281566 | AI14: =+AH14*$C14 -> 563132 | AJ14: =IF(AH14>$E14,"ERROR","OK") -> OK | AK14: 273119 | AL14: =+AK14*$C14 -> 546238 | AM14: =IF(AK14>$E14,"ERROR","OK") -> OK | AN14: 276300 | AO14: =+AN14*$C14 -> 552600 | AP14: =IF(AN14>$E14,"ERROR","OK") -> OK | AQ14: 240000 | AR14: =+AQ14*$C14 -> 480000 | AS14: =IF(AQ14>$E14,"ERROR","OK") -> OK | AT14: 260000 | AU14: =+AT14*$C14 -> 520000 | AV14: =IF(AT14>$E14,"ERROR","OK") -> OK
A15: 2.9 | B15: Tumaco_24000_BTU | C15: 2 | D15: UN | E15: 278266 | F15: =+C15*E15 -> 556532 | G15: 266000 | H15: =+G15*$C15 -> 532000 | I15: =IF(G15>$E15,"ERROR","OK") -> OK | J15: 275483 | K15: =+J15*$C15 -> 550966 | L15: =IF(J15>$E15,"ERROR","OK") -> OK | M15: 272144 | N15: =+M15*$C15 -> 544288 | O15: =IF(M15>$E15,"ERROR","OK") -> OK | P15: 150000 | Q15: =+P15*$C15 -> 300000 | R15: =IF(P15>$E15,"ERROR","OK") -> OK | S15: 270161 | T15: =+S15*$C15 -> 540322 | U15: =IF(S15>$E15,"ERROR","OK") -> OK | V15: 227038 | W15: =+V15*$C15 -> 454076 | X15: =IF(V15>$E15,"ERROR","OK") -> OK | Y15: 274092 | Z15: =+Y15*$C15 -> 548184 | AA15: =IF(Y15>$E15,"ERROR","OK") -> OK | AB15: 272701 | AC15: =+AB15*$C15 -> 545402 | AD15: =IF(AB15>$E15,"ERROR","OK") -> OK | AE15: 278266 | AF15: =+AE15*$C15 -> 556532 | AG15: =IF(AE15>$E15,"ERROR","OK") -> OK | AH15: 278266 | AI15: =+AH15*$C15 -> 556532 | AJ15: =IF(AH15>$E15,"ERROR","OK") -> OK | AK15: 269918 | AL15: =+AK15*$C15 -> 539836 | AM15: =IF(AK15>$E15,"ERROR","OK") -> OK | AN15: 273062 | AO15: =+AN15*$C15 -> 546124 | AP15: =IF(AN15>$E15,"ERROR","OK") -> OK | AQ15: 230000 | AR15: =+AQ15*$C15 -> 460000 | AS15: =IF(AQ15>$E15,"ERROR","OK") -> OK | AT15: 250000 | AU15: =+AT15*$C15 -> 500000 | AV15: =IF(AT15>$E15,"ERROR","OK") -> OK
A16: 2.1 | B16: Mocoa_36000_BTU | C16: 12 | D16: UN | E16: 314036 | F16: =+C16*E16 -> 3768432 | G16: 300200 | H16: =+G16*$C16 -> 3602400 | I16: =IF(G16>$E16,"ERROR","OK") -> OK | J16: 310896 | K16: =+J16*$C16 -> 3730752 | L16: =IF(J16>$E16,"ERROR","OK") -> OK | M16: 307127 | N16: =+M16*$C16 -> 3685524 | O16: =IF(M16>$E16,"ERROR","OK") -> OK | P16: 180000 | Q16: =+P16*$C16 -> 2160000 | R16: =IF(P16>$E16,"ERROR","OK") -> OK | S16: 304889 | T16: =+S16*$C16 -> 3658668 | U16: =IF(S16>$E16,"ERROR","OK") -> OK | V16: 227038 | W16: =+V16*$C16 -> 2724456 | X16: =IF(V16>$E16,"ERROR","OK") -> OK | Y16: 309325 | Z16: =+Y16*$C16 -> 3711900 | AA16: =IF(Y16>$E16,"ERROR","OK") -> OK | AB16: 307755 | AC16: =+AB16*$C16 -> 3693060 | AD16: =IF(AB16>$E16,"ERROR","OK") -> OK | AE16: 314036 | AF16: =+AE16*$C16 -> 3768432 | AG16: =IF(AE16>$E16,"ERROR","OK") -> OK | AH16: 314036 | AI16: =+AH16*$C16 -> 3768432 | AJ16: =IF(AH16>$E16,"ERROR","OK") -> OK | AK16: 304615 | AL16: =+AK16*$C16 -> 3655380 | AM16: =IF(AK16>$E16,"ERROR","OK") -> OK | AN16: 308163 | AO16: =+AN16*$C16 -> 3697956 | AP16: =IF(AN16>$E16,"ERROR","OK") -> OK | AQ16: 270000 | AR16: =+AQ16*$C16 -> 3240000 | AS16: =IF(AQ16>$E16,"ERROR","OK") -> OK | AT16: 290000 | AU16: =+AT16*$C16 -> 3480000 | AV16: =IF(AT16>$E16,"ERROR","OK") -> OK
A17: 2.11 | B17: Mocoa_12000_BTU | C17: 2 | D17: UN | E17: 281158 | F17: =+C17*E17 -> 562316 | G17: 268700 | H17: =+G17*$C17 -> 537400 | I17: =IF(G17>$E17,"ERROR","OK") -> OK | J17: 278346 | K17: =+J17*$C17 -> 556692 | L17: =IF(J17>$E17,"ERROR","OK") -> OK | M17: 274973 | N17: =+M17*$C17 -> 549946 | O17: =IF(M17>$E17,"ERROR","OK") -> OK | P17: 140000 | Q17: =+P17*$C17 -> 280000 | R17: =IF(P17>$E17,"ERROR","OK") -> OK | S17: 272969 | T17: =+S17*$C17 -> 545938 | U17: =IF(S17>$E17,"ERROR","OK") -> OK | V17: 227038 | W17: =+V17*$C17 -> 454076 | X17: =IF(V17>$E17,"ERROR","OK") -> OK | Y17: 276941 | Z17: =+Y17*$C17 -> 553882 | AA17: =IF(Y17>$E17,"ERROR","OK") -> OK | AB17: 275535 | AC17: =+AB17*$C17 -> 551070 | AD17: =IF(AB17>$E17,"ERROR","OK") -> OK | AE17: 281158 | AF17: =+AE17*$C17 -> 562316 | AG17: =IF(AE17>$E17,"ERROR","OK") -> OK | AH17: 281158 | AI17: =+AH17*$C17 -> 562316 | AJ17: =IF(AH17>$E17,"ERROR","OK") -> OK | AK17: 272723 | AL17: =+AK17*$C17 -> 545446 | AM17: =IF(AK17>$E17,"ERROR","OK") -> OK | AN17: 275900 | AO17: =+AN17*$C17 -> 551800 | AP17: =IF(AN17>$E17,"ERROR","OK") -> OK | AQ17: 240000 | AR17: =+AQ17*$C17 -> 480000 | AS17: =IF(AQ17>$E17,"ERROR","OK") -> OK | AT17: 260000 | AU17: =+AT17*$C17 -> 520000 | AV17: =IF(AT17>$E17,"ERROR","OK") -> OK
A18: 2.12 | B18: Ibagué_12000_BTU | C18: 2 | D18: UN | E18: 236993 | F18: =+C18*E18 -> 473986 | G18: 226500 | H18: =+G18*$C18 -> 453000 | I18: =IF(G18>$E18,"ERROR","OK") -> OK | J18: 234623 | K18: =+J18*$C18 -> 469246 | L18: =IF(J18>$E18,"ERROR","OK") -> OK | M18: 231779 | N18: =+M18*$C18 -> 463558 | O18: =IF(M18>$E18,"ERROR","OK") -> OK | P18: 140000 | Q18: =+P18*$C18 -> 280000 | R18: =IF(P18>$E18,"ERROR","OK") -> OK | S18: 230090 | T18: =+S18*$C18 -> 460180 | U18: =IF(S18>$E18,"ERROR","OK") -> OK | V18: 151358 | W18: =+V18*$C18 -> 302716 | X18: =IF(V18>$E18,"ERROR","OK") -> OK | Y18: 233438 | Z18: =+Y18*$C18 -> 466876 | AA18: =IF(Y18>$E18,"ERROR","OK") -> OK | AB18: 232253 | AC18: =+AB18*$C18 -> 464506 | AD18: =IF(AB18>$E18,"ERROR","OK") -> OK | AE18: 236993 | AF18: =+AE18*$C18 -> 473986 | AG18: =IF(AE18>$E18,"ERROR","OK") -> OK | AH18: 225143 | AI18: =+AH18*$C18 -> 450286 | AJ18: =IF(AH18>$E18,"ERROR","OK") -> OK | AK18: 229883 | AL18: =+AK18*$C18 -> 459766 | AM18: =IF(AK18>$E18,"ERROR","OK") -> OK | AN18: 232561 | AO18: =+AN18*$C18 -> 465122 | AP18: =IF(AN18>$E18,"ERROR","OK") -> OK | AQ18: 190000 | AR18: =+AQ18*$C18 -> 380000 | AS18: =IF(AQ18>$E18,"ERROR","OK") -> OK | AT18: 210000 | AU18: =+AT18*$C18 -> 420000 | AV18: =IF(AT18>$E18,"ERROR","OK") -> OK
... A22: 2.16 | B22: Cali - Aguablanca_18000_BTU | C22: 2 | D22: UN | E22: 238862 | F22: =+C22*E22 -> 477724 | G22: 228300 | H22: =+G22*$C22 -> 456600 | I22: =IF(G22>$E22,"ERROR","OK") -> OK | J22: 236473 | K22: =+J22*$C22 -> 472946 | L22: =IF(J22>$E22,"ERROR","OK") -> OK | M22: 233607 | N22: =+M22*$C22 -> 467214 | O22: =IF(M22>$E22,"ERROR","OK") -> OK | P22: 140000 | Q22: =+P22*$C22 -> 280000 | R22: =IF(P22>$E22,"ERROR","OK") -> OK | S22: 231905 | T22: =+S22*$C22 -> 463810 | U22: =IF(S22>$E22,"ERROR","OK") -> OK | V22: 132440 | W22: =+V22*$C22 -> 264880 | X22: =IF(V22>$E22,"ERROR","OK") -> OK | Y22: 235279 | Z22: =+Y22*$C22 -> 470558 | AA22: =IF(Y22>$E22,"ERROR","OK") -> OK | AB22: 234085 | AC22: =+AB22*$C22 -> 468170 | AD22: =IF(AB22>$E22,"ERROR","OK") -> OK | AE22: 238862 | AF22: =+AE22*$C22 -> 477724 | AG22: =IF(AE22>$E22,"ERROR","OK") -> OK | AH22: 236473 | AI22: =+AH22*$C22 -> 472946 | AJ22: =IF(AH22>$E22,"ERROR","OK") -> OK | AK22: 231696 | AL22: =+AK22*$C22 -> 463392 | AM22: =IF(AK22>$E22,"ERROR","OK") -> OK | AN22: 234395.3 | AO22: =+AN22*$C22 -> 468790.6 | AP22: =IF(AN22>$E22,"ERROR","OK") -> OK | AQ22: 190000 | AR22: =+AQ22*$C22 -> 380000 | AS22: =IF(AQ22>$E22,"ERROR","OK") -> OK | AT22: 210000 | AU22: =+AT22*$C22 -> 420000 | AV22: =IF(AT22>$E22,"ERROR","OK") -> OK
A23: 3 | B23: REPUESTOS PARA MANTENIMIENTO CORRECTIVO DE LOS AIRES ACONDICIONADOS EXISTENTES EN LAS OFICINAS DE LA ARN, INCLUIDA MANO DE OBRA, SEGÚN LAS ESPECIFICACIONES TECNICAS DESCRITAS EN ANEXO TECNICO ( IVA INCLUIDO) | D23: UN | F23: =+C23*E23 -> 0 | H23: =+G23*$C23 -> 0 | I23: =IF(G23>$E23,"ERROR","OK") -> OK | K23: =+J23*$C23 -> 0 | L23: =IF(J23>$E23,"ERROR","OK") -> OK | N23: =+M23*$C23 -> 0 | O23: =IF(M23>$E23,"ERROR","OK") -> OK | Q23: =+P23*$C23 -> 0 | R23: =IF(P23>$E23,"ERROR","OK") -> OK | T23: =+S23*$C23 -> 0 | U23: =IF(S23>$E23,"ERROR","OK") -> OK | W23: =+V23*$C23 -> 0 | X23: =IF(V23>$E23,"ERROR","OK") -> OK | Z23: =+Y23*$C23 -> 0 | AA23: =IF(Y23>$E23,"ERROR","OK") -> OK | AC23: =+AB23*$C23 -> 0 | AD23: =IF(AB23>$E23,"ERROR","OK") -> OK | AF23: =+AE23*$C23 -> 0 | AG23: =IF(AE23>$E23,"ERROR","OK") -> OK | AI23: =+AH23*$C23 -> 0 | AJ23: =IF(AH23>$E23,"ERROR","OK") -> OK | AL23: =+AK23*$C23 -> 0 | AM23: =IF(AK23>$E23,"ERROR","OK") -> OK | AO23: =+AN23*$C23 -> 0 | AP23: =IF(AN23>$E23,"ERROR","OK") -> OK | AR23: =+AQ23*$C23 -> 0 | AS23: =IF(AQ23>$E23,"ERROR","OK") -> OK | AU23: =+AT23*$C23 -> 0 | AV23: =IF(AT23>$E23,"ERROR","OK") -> OK
A24: 3.1 | B24: Serpentín | C24: 1 | D24: UN | E24: 1204875 | F24: =+C24*E24 -> 1204875 | G24: 1204800 | H24: =+G24*$C24 -> 1204800 | I24: =IF(G24>$E24,"ERROR","OK") -> OK | J24: 1192826 | K24: =+J24*$C24 -> 1192826 | L24: =IF(J24>$E24,"ERROR","OK") -> OK | M24: 1178368 | N24: =+M24*$C24 -> 1178368 | O24: =IF(M24>$E24,"ERROR","OK") -> OK | P24: 1170000 | Q24: =+P24*$C24 -> 1170000 | R24: =IF(P24>$E24,"ERROR","OK") -> OK | S24: 1136675 | T24: =+S24*$C24 -> 1136675 | U24: =IF(S24>$E24,"ERROR","OK") -> OK | V24: 1144187 | W24: =+V24*$C24 -> 1144187 | X24: =IF(V24>$E24,"ERROR","OK") -> OK | Y24: 1186802 | Z24: =+Y24*$C24 -> 1186802 | AA24: =IF(Y24>$E24,"ERROR","OK") -> OK | AB24: 1180778 | AC24: =+AB24*$C24 -> 1180778 | AD24: =IF(AB24>$E24,"ERROR","OK") -> OK | AE24: 1204875 | AF24: =+AE24*$C24 -> 1204875 | AG24: =IF(AE24>$E24,"ERROR","OK") -> OK | AH24: 1180778 | AI24: =+AH24*$C24 -> 1180778 | AJ24: =IF(AH24>$E24,"ERROR","OK") -> OK | AK24: 1168729 | AL24: =+AK24*$C24 -> 1168729 | AM24: =IF(AK24>$E24,"ERROR","OK") -> OK | AN24: 1182343 | AO24: =+AN24*$C24 -> 1182343 | AP24: =IF(AN24>$E24,"ERROR","OK") -> OK | AQ24: 700000 | AR24: =+AQ24*$C24 -> 700000 | AS24: =IF(AQ24>$E24,"ERROR","OK") -> OK | AT24: 800000 | AU24: =+AT24*$C24 -> 800000 | AV24: =IF(AT24>$E24,"ERROR","OK") -> OK
A25: =+A24+0.1 -> 3.2 | B25: Controles remoto | C25: 1 | D25: UN | E25: 116441 | F25: =+C25*E25 -> 116441 | G25: 116400 | H25: =+G25*$C25 -> 116400 | I25: =IF(G25>$E25,"ERROR","OK") -> OK | J25: 115277 | K25: =+J25*$C25 -> 115277 | L25: =IF(J25>$E25,"ERROR","OK") -> OK | M25: 113879 | N25: =+M25*$C25 -> 113879 | O25: =IF(M25>$E25,"ERROR","OK") -> OK | P25: 96000 | Q25: =+P25*$C25 -> 96000 | R25: =IF(P25>$E25,"ERROR","OK") -> OK | S25: 109850 | T25: =+S25*$C25 -> 109850 | U25: =IF(S25>$E25,"ERROR","OK") -> OK | V25: 109480 | W25: =+V25*$C25 -> 109480 | X25: =IF(V25>$E25,"ERROR","OK") -> OK | Y25: 114694 | Z25: =+Y25*$C25 -> 114694 | AA25: =IF(Y25>$E25,"ERROR","OK") -> OK | AB25: 114112 | AC25: =+AB25*$C25 -> 114112 | AD25: =IF(AB25>$E25,"ERROR","OK") -> OK | AE25: 116441 | AF25: =+AE25*$C25 -> 116441 | AG25: =IF(AE25>$E25,"ERROR","OK") -> OK | AH25: 114112 | AI25: =+AH25*$C25 -> 114112 | AJ25: =IF(AH25>$E25,"ERROR","OK") -> OK | AK25: 112948 | AL25: =+AK25*$C25 -> 112948 | AM25: =IF(AK25>$E25,"ERROR","OK") -> OK | AN25: 114263 | AO25: =+AN25*$C25 -> 114263 | AP25: =IF(AN25>$E25,"ERROR","OK") -> OK | AQ25: 110000 | AR25: =+AQ25*$C25 -> 110000 | AS25: =IF(AQ25>$E25,"ERROR","OK") -> OK | AT25: 110000 | AU25: =+AT25*$C25 -> 110000 | AV25: =IF(AT25>$E25,"ERROR","OK") -> OK
A26: =+A25+0.1 -> 3.3 | B26: Material de aislamiento | C26: 1 | D26: UN | E26: 19161 | F26: =+C26*E26 -> 19161 | G26: 19100 | H26: =+G26*$C26 -> 19100 | I26: =IF(G26>$E26,"ERROR","OK") -> OK | J26: 18969 | K26: =+J26*$C26 -> 18969 | L26: =IF(J26>$E26,"ERROR","OK") -> OK | M26: 18739 | N26: =+M26*$C26 -> 18739 | O26: =IF(M26>$E26,"ERROR","OK") -> OK | P26: 16000 | Q26: =+P26*$C26 -> 16000 | R26: =IF(P26>$E26,"ERROR","OK") -> OK | S26: 18076 | T26: =+S26*$C26 -> 18076 | U26: =IF(S26>$E26,"ERROR","OK") -> OK | V26: 17850 | W26: =+V26*$C26 -> 17850 | X26: =IF(V26>$E26,"ERROR","OK") -> OK | Y26: 18874 | Z26: =+Y26*$C26 -> 18874 | AA26: =IF(Y26>$E26,"ERROR","OK") -> OK | AB26: 18778 | AC26: =+AB26*$C26 -> 18778 | AD26: =IF(AB26>$E26,"ERROR","OK") -> OK | AE26: 19161 | AF26: =+AE26*$C26 -> 19161 | AG26: =IF(AE26>$E26,"ERROR","OK") -> OK | AH26: 18778 | AI26: =+AH26*$C26 -> 18778 | AJ26: =IF(AH26>$E26,"ERROR","OK") -> OK | AK26: 18586 | AL26: =+AK26*$C26 -> 18586 | AM26: =IF(AK26>$E26,"ERROR","OK") -> OK | AN26: 18802 | AO26: =+AN26*$C26 -> 18802 | AP26: =IF(AN26>$E26,"ERROR","OK") -> OK | AQ26: 18000 | AR26: =+AQ26*$C26 -> 18000 | AS26: =IF(AQ26>$E26,"ERROR","OK") -> OK | AT26: 19000 | AU26: =+AT26*$C26 -> 19000 | AV26: =IF(AT26>$E26,"ERROR","OK") -> OK
A27: =+A26+0.1 -> 3.4 | B27: Válvula Inversora | C27: 1 | D27: UN | E27: 378420 | F27: =+C27*E27 -> 378420 | G27: 378400 | H27: =+G27*$C27 -> 378400 | I27: =IF(G27>$E27,"ERROR","OK") -> OK | J27: 374636 | K27: =+J27*$C27 -> 374636 | L27: =IF(J27>$E27,"ERROR","OK") -> OK | M27: 370095 | N27: =+M27*$C27 -> 370095 | O27: =IF(M27>$E27,"ERROR","OK") -> OK | P27: 348000 | Q27: =+P27*$C27 -> 348000 | R27: =IF(P27>$E27,"ERROR","OK") -> OK | S27: 357000 | T27: =+S27*$C27 -> 357000 | U27: =IF(S27>$E27,"ERROR","OK") -> OK | V27: 359350 | W27: =+V27*$C27 -> 359350 | X27: =IF(V27>$E27,"ERROR","OK") -> OK | Y27: 372744 | Z27: =+Y27*$C27 -> 372744 | AA27: =IF(Y27>$E27,"ERROR","OK") -> OK | AB27: 370852 | AC27: =+AB27*$C27 -> 370852 | AD27: =IF(AB27>$E27,"ERROR","OK") -> OK | AE27: 378420 | AF27: =+AE27*$C27 -> 378420 | AG27: =IF(AE27>$E27,"ERROR","OK") -> OK | AH27: 370852 | AI27: =+AH27*$C27 -> 370852 | AJ27: =IF(AH27>$E27,"ERROR","OK") -> OK | AK27: 367067 | AL27: =+AK27*$C27 -> 367067 | AM27: =IF(AK27>$E27,"ERROR","OK") -> OK | AN27: 371343 | AO27: =+AN27*$C27 -> 371343 | AP27: =IF(AN27>$E27,"ERROR","OK") -> OK | AQ27: 150000 | AR27: =+AQ27*$C27 -> 150000 | AS27: =IF(AQ27>$E27,"ERROR","OK") -> OK | AT27: 200000 | AU27: =+AT27*$C27 -> 200000 | AV27: =IF(AT27>$E27,"ERROR","OK") -> OK
A28: =+A27+0.1 -> 3.5 | B28: Filtros de aire | C28: 1 | D28: UN | E28: 127591 | F28: =+C28*E28 -> 127591 | G28: 127500 | H28: =+G28*$C28 -> 127500 | I28: =IF(G28>$E28,"ERROR","OK") -> OK | J28: 126315 | K28: =+J28*$C28 -> 126315 | L28: =IF(J28>$E28,"ERROR","OK") -> OK | M28: 124784 | N28: =+M28*$C28 -> 124784 | O28: =IF(M28>$E28,"ERROR","OK") -> OK | P28: 107000 | Q28: =+P28*$C28 -> 107000 | R28: =IF(P28>$E28,"ERROR","OK") -> OK | S28: 120369 | T28: =+S28*$C28 -> 120369 | U28: =IF(S28>$E28,"ERROR","OK") -> OK | V28: 120190 | W28: =+V28*$C28 -> 120190 | X28: =IF(V28>$E28,"ERROR","OK") -> OK | Y28: 125677 | Z28: =+Y28*$C28 -> 125677 | AA28: =IF(Y28>$E28,"ERROR","OK") -> OK | AB28: 125039 | AC28: =+AB28*$C28 -> 125039 | AD28: =IF(AB28>$E28,"ERROR","OK") -> OK | AE28: 127591 | AF28: =+AE28*$C28 -> 127591 | AG28: =IF(AE28>$E28,"ERROR","OK") -> OK | AH28: 125039 | AI28: =+AH28*$C28 -> 125039 | AJ28: =IF(AH28>$E28,"ERROR","OK") -> OK | AK28: 123763 | AL28: =+AK28*$C28 -> 123763 | AM28: =IF(AK28>$E28,"ERROR","OK") -> OK | AN28: 125205 | AO28: =+AN28*$C28 -> 125205 | AP28: =IF(AN28>$E28,"ERROR","OK") -> OK | AQ28: 60000 | AR28: =+AQ28*$C28 -> 60000 | AS28: =IF(AQ28>$E28,"ERROR","OK") -> OK | AT28: 80000 | AU28: =+AT28*$C28 -> 80000 | AV28: =IF(AT28>$E28,"ERROR","OK") -> OK
A29: =+A28+0.1 -> 3.6 | B29: Terminales | C29: 1 | D29: UN | E29: 3235 | F29: =+C29*E29 -> 3235 | G29: 3200 | H29: =+G29*$C29 -> 3200 | I29: =IF(G29>$E29,"ERROR","OK") -> OK | J29: 3203 | K29: =+J29*$C29 -> 3203 | L29: =IF(J29>$E29,"ERROR","OK") -> OK | M29: 3164 | N29: =+M29*$C29 -> 3164 | O29: =IF(M29>$E29,"ERROR","OK") -> OK | P29: 2900 | Q29: =+P29*$C29 -> 2900 | R29: =IF(P29>$E29,"ERROR","OK") -> OK | S29: 3052 | T29: =+S29*$C29 -> 3052 | U29: =IF(S29>$E29,"ERROR","OK") -> OK | V29: 2975 | W29: =+V29*$C29 -> 2975 | X29: =IF(V29>$E29,"ERROR","OK") -> OK | Y29: 3186 | Z29: =+Y29*$C29 -> 3186 | AA29: =IF(Y29>$E29,"ERROR","OK") -> OK | AB29: 3170 | AC29: =+AB29*$C29 -> 3170 | AD29: =IF(AB29>$E29,"ERROR","OK") -> OK | AE29: 3235 | AF29: =+AE29*$C29 -> 3235 | AG29: =IF(AE29>$E29,"ERROR","OK") -> OK | AH29: 3170 | AI29: =+AH29*$C29 -> 3170 | AJ29: =IF(AH29>$E29,"ERROR","OK") -> OK | AK29: 3138 | AL29: =+AK29*$C29 -> 3138 | AM29: =IF(AK29>$E29,"ERROR","OK") -> OK | AN29: 3174 | AO29: =+AN29*$C29 -> 3174 | AP29: =IF(AN29>$E29,"ERROR","OK") -> OK | AQ29: 3000 | AR29: =+AQ29*$C29 -> 3000 | AS29: =IF(AQ29>$E29,"ERROR","OK") -> OK | AT29: 3000 | AU29: =+AT29*$C29 -> 3000 | AV29: =IF(AT29>$E29,"ERROR","OK") -> OK
A30: =+A29+0.1 -> 3.7 | B30: Rodamientos | C30: 1 | D30: UN | E30: 103487 | F30: =+C30*E30 -> 103487 | G30: 103400 | H30: =+G30*$C30 -> 103400 | I30: =IF(G30>$E30,"ERROR","OK") -> OK | J30: 102452 | K30: =+J30*$C30 -> 102452 | L30: =IF(J30>$E30,"ERROR","OK") -> OK | M30: 101210 | N30: =+M30*$C30 -> 101210 | O30: =IF(M30>$E30,"ERROR","OK") -> OK | P30: 83000 | Q30: =+P30*$C30 -> 83000 | R30: =IF(P30>$E30,"ERROR","OK") -> OK | S30: 97629 | T30: =+S30*$C30 -> 97629 | U30: =IF(S30>$E30,"ERROR","OK") -> OK | V30: 98294 | W30: =+V30*$C30 -> 98294 | X30: =IF(V30>$E30,"ERROR","OK") -> OK | Y30: 101935 | Z30: =+Y30*$C30 -> 101935 | AA30: =IF(Y30>$E30,"ERROR","OK") -> OK | AB30: 101417 | AC30: =+AB30*$C30 -> 101417 | AD30: =IF(AB30>$E30,"ERROR","OK") -> OK | AE30: 103487 | AF30: =+AE30*$C30 -> 103487 | AG30: =IF(AE30>$E30,"ERROR","OK") -> OK | AH30: 101417 | AI30: =+AH30*$C30 -> 101417 | AJ30: =IF(AH30>$E30,"ERROR","OK") -> OK | AK30: 100382 | AL30: =+AK30*$C30 -> 100382 | AM30: =IF(AK30>$E30,"ERROR","OK") -> OK | AN30: 101551 | AO30: =+AN30*$C30 -> 101551 | AP30: =IF(AN30>$E30,"ERROR","OK") -> OK | AQ30: 40000 | AR30: =+AQ30*$C30 -> 40000 | AS30: =IF(AQ30>$E30,"ERROR","OK") -> OK | AT30: 50000 | AU30: =+AT30*$C30 -> 50000 | AV30: =IF(AT30>$E30,"ERROR","OK") -> OK
A31: =+A30+0.1 -> 3.8 | B31: Sensores de Temperatura | C31: 1 | D31: UN | E31: 126464 | F31: =+C31*E31 -> 126464 | G31: 126400 | H31: =+G31*$C31 -> 126400 | I31: =IF(G31>$E31,"ERROR","OK") -> OK | J31: 125199 | K31: =+J31*$C31 -> 125199 | L31: =IF(J31>$E31,"ERROR","OK") -> OK | M31: 123682 | N31: =+M31*$C31 -> 123682 | O31: =IF(M31>$E31,"ERROR","OK") -> OK | P31: 106000 | Q31: =+P31*$C31 -> 106000 | R31: =IF(P31>$E31,"ERROR","OK") -> OK | S31: 119306 | T31: =+S31*$C31 -> 119306 | U31: =IF(S31>$E31,"ERROR","OK") -> OK | V31: 120071 | W31: =+V31*$C31 -> 120071 | X31: =IF(V31>$E31,"ERROR","OK") -> OK | Y31: 124567 | Z31: =+Y31*$C31 -> 124567 | AA31: =IF(Y31>$E31,"ERROR","OK") -> OK | AB31: 123935 | AC31: =+AB31*$C31 -> 123935 | AD31: =IF(AB31>$E31,"ERROR","OK") -> OK | AE31: 126464 | AF31: =+AE31*$C31 -> 126464 | AG31: =IF(AE31>$E31,"ERROR","OK") -> OK | AH31: 123935 | AI31: =+AH31*$C31 -> 123935 | AJ31: =IF(AH31>$E31,"ERROR","OK") -> OK | AK31: 122670 | AL31: =+AK31*$C31 -> 122670 | AM31: =IF(AK31>$E31,"ERROR","OK") -> OK | AN31: 124099 | AO31: =+AN31*$C31 -> 124099 | AP31: =IF(AN31>$E31,"ERROR","OK") -> OK | AQ31: 40000 | AR31: =+AQ31*$C31 -> 40000 | AS31: =IF(AQ31>$E31,"ERROR","OK") -> OK | AT31: 50000 | AU31: =+AT31*$C31 -> 50000 | AV31: =IF(AT31>$E31,"ERROR","OK") -> OK
A32: =+A31+0.1 -> 3.9 | B32: Desagües | C32: 1 | D32: UN | E32: 64706 | F32: =+C32*E32 -> 64706 | G32: 64700 | H32: =+G32*$C32 -> 64700 | I32: =IF(G32>$E32,"ERROR","OK") -> OK | J32: 64059 | K32: =+J32*$C32 -> 64059 | L32: =IF(J32>$E32,"ERROR","OK") -> OK | M32: 63282 | N32: =+M32*$C32 -> 63282 | O32: =IF(M32>$E32,"ERROR","OK") -> OK | P32: 44000 | Q32: =+P32*$C32 -> 44000 | R32: =IF(P32>$E32,"ERROR","OK") -> OK | S32: 61043 | T32: =+S32*$C32 -> 61043 | U32: =IF(S32>$E32,"ERROR","OK") -> OK | V32: 61404 | W32: =+V32*$C32 -> 61404 | X32: =IF(V32>$E32,"ERROR","OK") -> OK | Y32: 63735 | Z32: =+Y32*$C32 -> 63735 | AA32: =IF(Y32>$E32,"ERROR","OK") -> OK | AB32: 63412 | AC32: =+AB32*$C32 -> 63412 | AD32: =IF(AB32>$E32,"ERROR","OK") -> OK | AE32: 64706 | AF32: =+AE32*$C32 -> 64706 | AG32: =IF(AE32>$E32,"ERROR","OK") -> OK | AH32: 63412 | AI32: =+AH32*$C32 -> 63412 | AJ32: =IF(AH32>$E32,"ERROR","OK") -> OK | AK32: 62765 | AL32: =+AK32*$C32 -> 62765 | AM32: =IF(AK32>$E32,"ERROR","OK") -> OK | AN32: 63495 | AO32: =+AN32*$C32 -> 63495 | AP32: =IF(AN32>$E32,"ERROR","OK") -> OK | AQ32: 50000 | AR32: =+AQ32*$C32 -> 50000 | AS32: =IF(AQ32>$E32,"ERROR","OK") -> OK | AT32: 60000 | AU32: =+AT32*$C32 -> 60000 | AV32: =IF(AT32>$E32,"ERROR","OK") -> OK
A33: =+A32+0.1 -> 4 | B33: Borneras | C33: 1 | D33: UN | E33: 33979 | F33: =+C33*E33 -> 33979 | G33: 33900 | H33: =+G33*$C33 -> 33900 | I33: =IF(G33>$E33,"ERROR","OK") -> OK | J33: 33639 | K33: =+J33*$C33 -> 33639 | L33: =IF(J33>$E33,"ERROR","OK") -> OK | M33: 33231 | N33: =+M33*$C33 -> 33231 | O33: =IF(M33>$E33,"ERROR","OK") -> OK | P33: 29000 | Q33: =+P33*$C33 -> 29000 | R33: =IF(P33>$E33,"ERROR","OK") -> OK | S33: 32056 | T33: =+S33*$C33 -> 32056 | U33: =IF(S33>$E33,"ERROR","OK") -> OK | V33: 32130 | W33: =+V33*$C33 -> 32130 | X33: =IF(V33>$E33,"ERROR","OK") -> OK | Y33: 33469 | Z33: =+Y33*$C33 -> 33469 | AA33: =IF(Y33>$E33,"ERROR","OK") -> OK | AB33: 33299 | AC33: =+AB33*$C33 -> 33299 | AD33: =IF(AB33>$E33,"ERROR","OK") -> OK | AE33: 33979 | AF33: =+AE33*$C33 -> 33979 | AG33: =IF(AE33>$E33,"ERROR","OK") -> OK | AH33: 33299 | AI33: =+AH33*$C33 -> 33299 | AJ33: =IF(AH33>$E33,"ERROR","OK") -> OK | AK33: 32960 | AL33: =+AK33*$C33 -> 32960 | AM33: =IF(AK33>$E33,"ERROR","OK") -> OK | AN33: 33343 | AO33: =+AN33*$C33 -> 33343 | AP33: =IF(AN33>$E33,"ERROR","OK") -> OK | AQ33: 20000 | AR33: =+AQ33*$C33 -> 20000 | AS33: =IF(AQ33>$E33,"ERROR","OK") -> OK | AT33: 30000 | AU33: =+AT33*$C33 -> 30000 | AV33: =IF(AT33>$E33,"ERROR","OK") -> OK
A34: =+A33+0.1 -> 4.1 | B34: Chumaceras | C34: 1 | D34: UN | E34: 80789 | F34: =+C34*E34 -> 80789 | G34: 80700 | H34: =+G34*$C34 -> 80700 | I34: =IF(G34>$E34,"ERROR","OK") -> OK | J34: 79981 | K34: =+J34*$C34 -> 79981 | L34: =IF(J34>$E34,"ERROR","OK") -> OK | M34: 79012 | N34: =+M34*$C34 -> 79012 | O34: =IF(M34>$E34,"ERROR","OK") -> OK | P34: 70000 | Q34: =+P34*$C34 -> 70000 | R34: =IF(P34>$E34,"ERROR","OK") -> OK | S34: 76216 | T34: =+S34*$C34 -> 76216 | U34: =IF(S34>$E34,"ERROR","OK") -> OK | V34: 76160 | W34: =+V34*$C34 -> 76160 | X34: =IF(V34>$E34,"ERROR","OK") -> OK | Y34: 79577 | Z34: =+Y34*$C34 -> 79577 | AA34: =IF(Y34>$E34,"ERROR","OK") -> OK | AB34: 79173 | AC34: =+AB34*$C34 -> 79173 | AD34: =IF(AB34>$E34,"ERROR","OK") -> OK | AE34: 80789 | AF34: =+AE34*$C34 -> 80789 | AG34: =IF(AE34>$E34,"ERROR","OK") -> OK | AH34: 79173 | AI34: =+AH34*$C34 -> 79173 | AJ34: =IF(AH34>$E34,"ERROR","OK") -> OK | AK34: 78365 | AL34: =+AK34*$C34 -> 78365 | AM34: =IF(AK34>$E34,"ERROR","OK") -> OK | AN34: 79278 | AO34: =+AN34*$C34 -> 79278 | AP34: =IF(AN34>$E34,"ERROR","OK") -> OK | AQ34: 50000 | AR34: =+AQ34*$C34 -> 50000 | AS34: =IF(AQ34>$E34,"ERROR","OK") -> OK | AT34: 60000 | AU34: =+AT34*$C34 -> 60000 | AV34: =IF(AT34>$E34,"ERROR","OK") -> OK
A35: =+A34+0.1 -> 4.2 | B35: Capacitores de arranque o marcha | C35: 1 | D35: UN | E35: 46317 | F35: =+C35*E35 -> 46317 | G35: 46300 | H35: =+G35*$C35 -> 46300 | I35: =IF(G35>$E35,"ERROR","OK") -> OK | J35: 45854 | K35: =+J35*$C35 -> 45854 | L35: =IF(J35>$E35,"ERROR","OK") -> OK | M35: 45298 | N35: =+M35*$C35 -> 45298 | O35: =IF(M35>$E35,"ERROR","OK") -> OK | P35: 39000 | Q35: =+P35*$C35 -> 39000 | R35: =IF(P35>$E35,"ERROR","OK") -> OK | S35: 43695 | T35: =+S35*$C35 -> 43695 | U35: =IF(S35>$E35,"ERROR","OK") -> OK | V35: 42840 | W35: =+V35*$C35 -> 42840 | X35: =IF(V35>$E35,"ERROR","OK") -> OK | Y35: 45622 | Z35: =+Y35*$C35 -> 45622 | AA35: =IF(Y35>$E35,"ERROR","OK") -> OK | AB35: 45391 | AC35: =+AB35*$C35 -> 45391 | AD35: =IF(AB35>$E35,"ERROR","OK") -> OK | AE35: 46317 | AF35: =+AE35*$C35 -> 46317 | AG35: =IF(AE35>$E35,"ERROR","OK") -> OK | AH35: 45391 | AI35: =+AH35*$C35 -> 45391 | AJ35: =IF(AH35>$E35,"ERROR","OK") -> OK | AK35: 44927 | AL35: =+AK35*$C35 -> 44927 | AM35: =IF(AK35>$E35,"ERROR","OK") -> OK | AN35: 45450 | AO35: =+AN35*$C35 -> 45450 | AP35: =IF(AN35>$E35,"ERROR","OK") -> OK | AQ35: 29000 | AR35: =+AQ35*$C35 -> 29000 | AS35: =IF(AQ35>$E35,"ERROR","OK") -> OK | AT35: 30000 | AU35: =+AT35*$C35 -> 30000 | AV35: =IF(AT35>$E35,"ERROR","OK") -> OK
A36: =+A35+0.1 -> 4.3 | B36: Correas | C36: 1 | D36: UN | E36: 103545 | F36: =+C36*E36 -> 103545 | G36: 103500 | H36: =+G36*$C36 -> 103500 | I36: =IF(G36>$E36,"ERROR","OK") -> OK | J36: 102510 | K36: =+J36*$C36 -> 102510 | L36: =IF(J36>$E36,"ERROR","OK") -> OK | M36: 101267 | N36: =+M36*$C36 -> 101267 | O36: =IF(M36>$E36,"ERROR","OK") -> OK | P36: 92000 | Q36: =+P36*$C36 -> 92000 | R36: =IF(P36>$E36,"ERROR","OK") -> OK | S36: 97684 | T36: =+S36*$C36 -> 97684 | U36: =IF(S36>$E36,"ERROR","OK") -> OK | V36: 97580 | W36: =+V36*$C36 -> 97580 | X36: =IF(V36>$E36,"ERROR","OK") -> OK | Y36: 101992 | Z36: =+Y36*$C36 -> 101992 | AA36: =IF(Y36>$E36,"ERROR","OK") -> OK | AB36: 101474 | AC36: =+AB36*$C36 -> 101474 | AD36: =IF(AB36>$E36,"ERROR","OK") -> OK | AE36: 103545 | AF36: =+AE36*$C36 -> 103545 | AG36: =IF(AE36>$E36,"ERROR","OK") -> OK | AH36: 101474 | AI36: =+AH36*$C36 -> 101474 | AJ36: =IF(AH36>$E36,"ERROR","OK") -> OK | AK36: 100439 | AL36: =+AK36*$C36 -> 100439 | AM36: =IF(AK36>$E36,"ERROR","OK") -> OK | AN36: 101608 | AO36: =+AN36*$C36 -> 101608 | AP36: =IF(AN36>$E36,"ERROR","OK") -> OK | AQ36: 90000 | AR36: =+AQ36*$C36 -> 90000 | AS36: =IF(AQ36>$E36,"ERROR","OK") -> OK | AT36: 100000 | AU36: =+AT36*$C36 -> 100000 | AV36: =IF(AT36>$E36,"ERROR","OK") -> OK
... A70: =+A69+0.1 -> 7.7 | B70: Instalación de unidad exterior | C70: 1 | D70: UN | E70: 433755 | F70: =+C70*E70 -> 433755 | G70: 433700 | H70: =+G70*$C70 -> 433700 | I70: =IF(G70>$E70,"ERROR","OK") -> OK | J70: 429417 | K70: =+J70*$C70 -> 429417 | L70: =IF(J70>$E70,"ERROR","OK") -> OK | M70: 424212 | N70: =+M70*$C70 -> 424212 | O70: =IF(M70>$E70,"ERROR","OK") -> OK | P70: 401000 | Q70: =+P70*$C70 -> 401000 | R70: =IF(P70>$E70,"ERROR","OK") -> OK | S70: 409203 | T70: =+S70*$C70 -> 409203 | U70: =IF(S70>$E70,"ERROR","OK") -> OK | V70: 411740 | W70: =+V70*$C70 -> 411740 | X70: =IF(V70>$E70,"ERROR","OK") -> OK | Y70: 427249 | Z70: =+Y70*$C70 -> 427249 | AA70: =IF(Y70>$E70,"ERROR","OK") -> OK | AB70: 425080 | AC70: =+AB70*$C70 -> 425080 | AD70: =IF(AB70>$E70,"ERROR","OK") -> OK | AE70: 433755 | AF70: =+AE70*$C70 -> 433755 | AG70: =IF(AE70>$E70,"ERROR","OK") -> OK | AH70: 425080 | AI70: =+AH70*$C70 -> 425080 | AJ70: =IF(AH70>$E70,"ERROR","OK") -> OK | AK70: 420742 | AL70: =+AK70*$C70 -> 420742 | AM70: =IF(AK70>$E70,"ERROR","OK") -> OK | AN70: 425643.17 | AO70: =+AN70*$C70 -> 425643.17 | AP70: =IF(AN70>$E70,"ERROR","OK") -> OK | AQ70: 205000 | AR70: =+AQ70*$C70 -> 205000 | AS70: =IF(AQ70>$E70,"ERROR","OK") -> OK | AT70: 250000 | AU70: =+AT70*$C70 -> 250000 | AV70: =IF(AT70>$E70,"ERROR","OK") -> OK
B71: VALOR BOLSA PARA MANTENIMIENTO CORRECTIVO ZONA SUR IVA INCLUIDO | C71: 1 | D71: UN | E71: 11152500 | F71: =+C71*E71 -> 11152500 | G71: 11152500 | H71: =+G71*$C71 -> 11152500 | I71: =IF(G71>$E71,"ERROR","OK") -> OK | J71: 11152500 | K71: =+J71*$C71 -> 11152500 | L71: =IF(J71>$E71,"ERROR","OK") -> OK | M71: 11152500 | N71: =+M71*$C71 -> 11152500 | O71: =IF(M71>$E71,"ERROR","OK") -> OK | P71: 11152500 | Q71: =+P71*$C71 -> 11152500 | R71: =IF(P71>$E71,"ERROR","OK") -> OK | S71: 11152500 | T71: =+S71*$C71 -> 11152500 | U71: =IF(S71>$E71,"ERROR","OK") -> OK | V71: 11152500 | W71: =+V71*$C71 -> 11152500 | X71: =IF(V71>$E71,"ERROR","OK") -> OK | Y71: 11152500 | Z71: =+Y71*$C71 -> 11152500 | AA71: =IF(Y71>$E71,"ERROR","OK") -> OK | AB71: 11152500 | AC71: =+AB71*$C71 -> 11152500 | AD71: =IF(AB71>$E71,"ERROR","OK") -> OK | AE71: 11152500 | AF71: =+AE71*$C71 -> 11152500 | AG71: =IF(AE71>$E71,"ERROR","OK") -> OK | AH71: 11152500 | AI71: =+AH71*$C71 -> 11152500 | AJ71: =IF(AH71>$E71,"ERROR","OK") -> OK | AK71: 11152500 | AL71: =+AK71*$C71 -> 11152500 | AM71: =IF(AK71>$E71,"ERROR","OK") -> OK | AN71: 10943948 | AO71: =+AN71*$C71 -> 10943948 | AP71: =IF(AN71>$E71,"ERROR","OK") -> OK | AQ71: 11152500 | AR71: =+AQ71*$C71 -> 11152500 | AS71: =IF(AQ71>$E71,"ERROR","OK") -> OK | AT71: 11152500 | AU71: =+AT71*$C71 -> 11152500 | AV71: =IF(AT71>$E71,"ERROR","OK") -> OK
D73: TOTALES | F73: =SUM(F4:F22) -> 39843672 | H73: =SUM(H4:H22) -> 38086000 | I73: =IF(H73>$F$73,"ERROR","OK") -> OK | K73: =SUM(K4:K22) -> 39445228 | L73: =IF(K73>$F$73,"ERROR","OK") -> OK | N73: =SUM(N4:N22) -> 38967110 | O73: =IF(N73>$F$73,"ERROR","OK") -> OK | Q73: =SUM(Q4:Q22) -> 26600000 | R73: =IF(Q73>$F$73,"ERROR","OK") -> OK | T73: =SUM(T4:T22) -> 38964276 | U73: =IF(T73>$F$73,"ERROR","OK") -> OK | W73: =SUM(W4:W22) -> 29142988 | X73: =IF(W73>$F$73,"ERROR","OK") -> OK | Z73: =SUM(Z4:Z22) -> 39246020 | AA73: =IF(Z73>$F$73,"ERROR","OK") -> OK | AC73: =SUM(AC4:AC22) -> 39046792 | AD73: =IF(AC73>$F$73,"ERROR","OK") -> OK | AF73: =SUM(AF4:AF22) -> 39843672 | AG73: =IF(AF73>$F$73,"ERROR","OK") -> OK | AI73: =SUM(AI4:AI22) -> 39037564 | AJ73: =IF(AI73>$F$73,"ERROR","OK") -> OK | AL73: =SUM(AL4:AL22) -> 38648388 | AM73: =IF(AL73>$F$73,"ERROR","OK") -> OK | AO73: =SUM(AO4:AO22) -> 39098551 | AP73: =IF(AO73>$F$73,"ERROR","OK") -> OK | AR73: =SUM(AR4:AR22) -> 33820000 | AS73: =IF(AR73>$F$73,"ERROR","OK") -> OK | AU73: =SUM(AU4:AU22) -> 37540000 | AV73: =IF(AU73>$F$73,"ERROR","OK") -> OK
H75: =+G2 -> FRICON SOLUCIONES SAS | K75: =+J2 -> TCB IMPRESOS SOLUCIONES Y SUMINISTROS SAS | N75: =+M2 -> ASESORIAS Y ACABADOS AVILA SAS | Q75: =+P2 -> INGEMET JYS SAS | T75: =+S2 -> Expertos Ingenieros S.A.S | W75: =+V2 -> ACONDICLIMA INGENIERIA Y CONSTRUCCION SAS | Z75: =+Y2 -> CONSTRUCCIONES J & LG S.A.S | AC75: =+AB2 -> GOURIYU SISTEMS S.A.S. | AF75: =+AE2 -> SUBE INGENIERIA | AI75: =+AH2 -> TERMEC LIMITADA | AL75: =+AK2 -> PROSERMAN SAS | AO75: =+AN2 -> CONINCAG SAS | AR75: =+AQ2 -> GRUPO SKY DE COLOMBIA S.A.S | AU75: =+AT2 -> Nicservicio s.a.s
B76: MENOR OFERTA
B77: =MIN(G73:AV73) -> 26600000
B78: =IF(B77>0,HLOOKUP(B77,G73:AV75,3,0),0) -> INGEMET JYS SAS | H78: =SUM(H4:H71) -> 65512800 | K78: =SUM(K4:K71) -> 66711428 | L78: =SUM(L4:L71) -> 0 | N78: =SUM(N4:N71) -> 66037989 | O78: =SUM(O4:O71) -> 0 | Q78: =SUM(Q4:Q71) -> 52629400 | R78: =SUM(R4:R71) -> 0 | T78: =SUM(T4:T71) -> 65471932 | U78: =SUM(U4:U71) -> 0 | W78: =SUM(W4:W71) -> 55733489 | X78: =SUM(X4:X71) -> 0 | Z78: =SUM(Z4:Z71) -> 66430838 | AA78: =SUM(AA4:AA71) -> 0 | AC78: =SUM(AC4:AC71) -> 66150230 | AD78: =SUM(AD4:AD71) -> 0 | AF78: =SUM(AF4:AF71) -> 67272635 | AG78: =SUM(AG4:AG71) -> 0 | AI78: =SUM(AI4:AI71) -> 66141002 | AJ78: =SUM(AJ4:AJ71) -> 0 | AL78: =SUM(AL4:AL71) -> 65589058 | AM78: =SUM(AM4:AM71) -> 0 | AO78: =SUM(AO4:AO71) -> 66014565 | AP78: =SUM(AP4:AP71) -> 0 | AR78: =SUM(AR4:AR71) -> 55620259 | AS78: =SUM(AS4:AS71) -> 0 | AU78: =SUM(AU4:AU71) -> 60859500 | AV78: =SUM(AV4:AV71) -> 0
H79: 65512800 | K79: 66711428 | N79: 66037989 | Q79: 52629400 | T79: 65471932 | W79: 55733489 | Z79: 66430838 | AC79: 66150230 | AF79: 67272635 | AI79: 66141002 | AL79: 65589058 | AO79: 66014565 | AR79: 55620259 | AU79: 60859500
C81: LANCES | D81: MENOR VALOR | E81: PROX LANCE MIN | F81: % DE MEJORA GENERAL | G81: % DE MEJORA LANCE | J81: % DE MEJORA LANCE | M81: % DE MEJORA LANCE | P81: % DE MEJORA LANCE | S81: % DE MEJORA LANCE | V81: % DE MEJORA LANCE | Y81: % DE MEJORA LANCE | AB81: % DE MEJORA LANCE | AE81: % DE MEJORA LANCE | AH81: % DE MEJORA LANCE | AK81: % DE MEJORA LANCE | AN81: % DE MEJORA LANCE | AQ81: % DE MEJORA LANCE | AT81: % DE MEJORA LANCE
C82: 1 | D82: =+B77 -> 26600000 | E82: =D82-(D82*5%) -> 25270000 | F82: =IF(D82>0,1-(D82/$B$77),0) -> 0
C83: 2 | D83: 0 | E83: =D83-(D83*5%) -> 0 | F83: =IF(D83>0,1-(D83/$B$77),0) -> 0 | G83: =1-(D83/D82) -> 1 | J83: =1-(G83/G82) -> #DIV/0! | M83: =1-(J83/J82) -> #DIV/0! | P83: =1-(#REF!/#REF!) -> #REF! | S83: =1-(P83/P82) -> #REF! | V83: =1-(S83/S82) -> #REF! | Y83: =1-(V83/V82) -> #REF! | AB83: =1-(#REF!/#REF!) -> #REF! | AE83: =1-(AB83/AB82) -> #REF! | AH83: =1-(AE83/AE82) -> #REF! | AK83: =1-(#REF!/#REF!) -> #REF! | AN83: =1-(AK83/AK82) -> #REF! | AQ83: =1-(AN83/AN82) -> #REF! | AT83: =1-(AQ83/AQ82) -> #REF!
C84: 3 | D84: 0 | E84: =D84-(D84*5%) -> 0 | F84: =IF(D84>0,1-(D84/$B$77),0) -> 0 | G84: =1-(D84/D83) -> #DIV/0! | J84: =1-(G84/G83) -> #DIV/0! | M84: =1-(J84/J83) -> #DIV/0! | P84: =1-(#REF!/#REF!) -> #REF! | S84: =1-(P84/P83) -> #REF! | V84: =1-(S84/S83) -> #REF! | Y84: =1-(V84/V83) -> #REF! | AB84: =1-(#REF!/#REF!) -> #REF! | AE84: =1-(AB84/AB83) -> #REF! | AH84: =1-(AE84/AE83) -> #REF! | AK84: =1-(#REF!/#REF!) -> #REF! | AN84: =1-(AK84/AK83) -> #REF! | AQ84: =1-(AN84/AN83) -> #REF! | AT84: =1-(AQ84/AQ83) -> #REF!
C85: 4 | D85: 0 | E85: =D85-(D85*5%) -> 0 | F85: =IF(D85>0,1-(D85/$B$77),0) -> 0 | G85: =1-(D85/D84) -> #DIV/0! | J85: =1-(G85/G84) -> #DIV/0! | M85: =1-(J85/J84) -> #DIV/0! | P85: =1-(#REF!/#REF!) -> #REF! | S85: =1-(P85/P84) -> #REF! | V85: =1-(S85/S84) -> #REF! | Y85: =1-(V85/V84) -> #REF! | AB85: =1-(#REF!/#REF!) -> #REF! | AE85: =1-(AB85/AB84) -> #REF! | AH85: =1-(AE85/AE84) -> #REF! | AK85: =1-(#REF!/#REF!) -> #REF! | AN85: =1-(AK85/AK84) -> #REF! | AQ85: =1-(AN85/AN84) -> #REF! | AT85: =1-(AQ85/AQ84) -> #REF!
C86: 5 | D86: 0 | E86: =D86-(D86*5%) -> 0 | F86: =IF(D86>0,1-(D86/$B$77),0) -> 0 | G86: =1-(D86/D85) -> #DIV/0! | J86: =1-(G86/G85) -> #DIV/0! | M86: =1-(J86/J85) -> #DIV/0! | P86: =1-(#REF!/#REF!) -> #REF! | S86: =1-(P86/P85) -> #REF! | V86: =1-(S86/S85) -> #REF! | Y86: =1-(V86/V85) -> #REF! | AB86: =1-(#REF!/#REF!) -> #REF! | AE86: =1-(AB86/AB85) -> #REF! | AH86: =1-(AE86/AE85) -> #REF! | AK86: =1-(#REF!/#REF!) -> #REF! | AN86: =1-(AK86/AK85) -> #REF! | AQ86: =1-(AN86/AN85) -> #REF! | AT86: =1-(AQ86/AQ85) -> #REF!
