Workbook

Sheet EVA. ECONOMICA
D3: FORMATO DE VERIFICACION
D4: FORMULA ECONÓMICA
B5: SAMC- ARN-654-2021
B6: ADQUISICIÓN E INSTALACION DE EQUIPOS DE AIRES ACONDICIONADOS Y/O VENTILADORES TIPO PEDESTAL Y/O MANTENIMIENTO PREVENTIVO Y/O CORRECTIVO DE EQUIPOS DE AIRES ACONDICIONADOS INCLUYENDO EL SUMINISTRO DE MATERIALES Y REPUESTOS
B7: ASIGNACION MEDIA GEOMETRICA PUNTAJE MAXIMO : 500 PUNTOS
B8: No. | C8: PROPONENTE | F8: VALOR OFERTADO | G8: HABILITADOS | H8: PUNTAJE | I8: HABILITADO/ NOHABILITADO | J8: OBSERVACIONES
B9: 12 | C9: =+'Verif.Ofertas NORTE '!AN2 -> TERMEC LIMITADA | F9: =+'Verif.Ofertas NORTE '!AO93 -> 64153037 | H9: 500
B10: 13 | C10: =+'Verif.Ofertas NORTE '!AQ2 -> COMERCIALIZADORA ELECTROMERO S.A.S. | F10: =+'Verif.Ofertas NORTE '!AR93 -> 66595467 | H10: =500-(500*ABS(F10-$F$27)/$F$27) -> 486.10604
B11: 16 | C11: =+'Verif.Ofertas NORTE '!AZ2 -> GRUPO SKY DE COLOMBIA S.A.S | F11: =+'Verif.Ofertas NORTE '!BA93 -> 62770000 | H11: =500-(500*ABS(F11-$F$27)/$F$27) -> 484.37416
B12: 17 | C12: =+'Verif.Ofertas NORTE '!BC2 -> Nicservicio s.a.s | F12: =+'Verif.Ofertas NORTE '!BD93 -> 66910000 | H12: =500-(500*ABS(F12-$F$27)/$F$27) -> 483.67891
B13: 9 | C13: =+'Verif.Ofertas NORTE '!AE2 -> REFRICESAR INGENIERIA S.A.S. | F13: =+'Verif.Ofertas NORTE '!AF93 -> 66936781 | H13: =500-(500*ABS(F13-$F$27)/$F$27) -> 483.47225
B14: 6 | C14: =+'Verif.Ofertas NORTE '!V2 -> Expertos Ingenieros S.A.S | F14: =+'Verif.Ofertas NORTE '!W93 -> 68854678 | H14: =500-(500*ABS(F14-$F$27)/$F$27) -> 468.67251
B15: 1 | C15: =+'Verif.Ofertas NORTE '!G2 -> FRICON SOLUCIONES SAS | F15: =+'Verif.Ofertas NORTE '!H93 -> 69191400 | H15: =500-(500*ABS(F15-$F$27)/$F$27) -> 466.07414
B16: 14 | C16: =+'Verif.Ofertas NORTE '!AT2 -> PROSERMAN SAS | F16: =+'Verif.Ofertas NORTE '!AU93 -> 70214896 | H16: =500-(500*ABS(F16-$F$27)/$F$27) -> 458.17618
B17: 3 | C17: =+'Verif.Ofertas NORTE '!M2 -> ASESORIAS Y ACABADOS AVILA SAS | F17: =+'Verif.Ofertas NORTE '!N93 -> 70793961 | H17: =500-(500*ABS(F17-$F$27)/$F$27) -> 453.70774
B18: 10 | C18: =+'Verif.Ofertas NORTE '!AH2 -> GOURIYU SISTEMS S.A.S. | F18: =+'Verif.Ofertas NORTE '!AI93 -> 70938775 | H18: =500-(500*ABS(F18-$F$27)/$F$27) -> 452.59026
B19: 15 | C19: =+'Verif.Ofertas NORTE '!AW2 -> CONINCAG SAS | F19: =+'Verif.Ofertas NORTE '!AX93 -> 71032726 | H19: =500-(500*ABS(F19-$F$27)/$F$27) -> 451.86527
B20: 8 | C20: =+'Verif.Ofertas NORTE '!AB2 -> CONSTRUCCIONES J & LG S.A.S | F20: =+'Verif.Ofertas NORTE '!AC93 -> 71300644 | H20: =500-(500*ABS(F20-$F$27)/$F$27) -> 449.79784
B21: 2 | C21: =+'Verif.Ofertas NORTE '!J2 -> TCB IMPRESOS SOLUCIONES Y SUMINISTROS SAS | F21: =+'Verif.Ofertas NORTE '!K93 -> 71662606 | H21: =500-(500*ABS(F21-$F$27)/$F$27) -> 447.00471
B22: 11 | C22: =+'Verif.Ofertas NORTE '!AK2 -> SUBE INGENIERIA | F22: =+'Verif.Ofertas NORTE '!AL93 -> 72386481 | H22: =500-(500*ABS(F22-$F$27)/$F$27) -> 441.41882
B23: 5 | C23: =+'Verif.Ofertas NORTE '!S2 -> INGEMET JYS SAS | F23: =+'Verif.Ofertas NORTE '!T93 -> 48139000 | H23: =500-(500*ABS(F23-$F$27)/$F$27) -> 371.47184
B24: 7 | C24: =+'Verif.Ofertas NORTE '!Y2 -> ACONDICLIMA INGENIERIA Y CONSTRUCCION SAS | F24: =+'Verif.Ofertas NORTE '!Z93 -> 45293715 | H24: =500-(500*ABS(F24-$F$27)/$F$27) -> 349.51577
B25: 4 | C25: =+'Verif.Ofertas NORTE '!P2 -> AIRES COSTA LTDA | F25: =+'Verif.Ofertas NORTE '!Q93 -> 44340000 | H25: =500-(500*ABS(F25-$F$27)/$F$27) -> 342.15629
D27: MEDIA ARITMETICA | F27: =AVERAGE(F9:F25) -> 64794951
B29: 1 | C29: =IF(F9<$F$27,"MENOR VALOR","NO APLICA") -> MENOR VALOR | D29: =IF(C29="MENOR VALOR",F9,0) -> 64153037
B30: 2 | C30: =IF(F10<$F$27,"MENOR VALOR","NO APLICA") -> NO APLICA | D30: =IF(C30="MENOR VALOR",F10,0) -> 0
B31: 3 | C31: =IF(F25<$F$27,"MENOR VALOR","NO APLICA") -> MENOR VALOR | D31: =IF(C31="MENOR VALOR",F25,0) -> 44340000
C33: Vr menor media geometrica | D33: =MAX(D29:D31) -> 64153037
C35: Elaborado por:
C36: ALEX JULIAN MOJICA SIERRA Profesional Especializado - Grupo Gestion Contractual. 29 de Junio de 2021
C38: _____________________________________

Sheet Verif.Ofertas NORTE 
G1: 1 | J1: 2 | M1: 3 | P1: 4 | S1: 5 | V1: 6 | Y1: 7 | AB1: 8 | AE1: 9 | AH1: 10 | AK1: 11 | AN1: 12 | AQ1: 13 | AT1: 14 | AW1: 15 | AZ1: 16 | BC1: 17
A2: VERIFICACION DE PRECIOS UNITARIOS SUBASTA INVERSA No SAMC-ARN-654-2021 ADQUISICIÓN E INSTALACION DE EQUIPOS DE AIRES ACONDICIONADOS Y/O VENTILADORES TIPO PEDESTAL Y/O MANTENIMIENTO PREVENTIVO Y/O CORRECTIVO DE EQUIPOS DE AIRES ACONDICIONADOS INCLUYENDO EL SUMINISTRO DE MATERIALES Y REPUESTOS | G2: FRICON SOLUCIONES SAS | J2: TCB IMPRESOS SOLUCIONES Y SUMINISTROS SAS | M2: ASESORIAS Y ACABADOS AVILA SAS | P2: AIRES COSTA LTDA | S2: INGEMET JYS SAS | V2: Expertos Ingenieros S.A.S | Y2: ACONDICLIMA INGENIERIA Y CONSTRUCCION SAS | AB2: CONSTRUCCIONES J & LG S.A.S | AE2: REFRICESAR INGENIERIA S.A.S. | AH2: GOURIYU SISTEMS S.A.S. | AK2: SUBE INGENIERIA | AN2: TERMEC LIMITADA | AQ2: COMERCIALIZADORA ELECTROMERO S.A.S. | AT2: PROSERMAN SAS | AW2: CONINCAG SAS | AZ2: GRUPO SKY DE COLOMBIA S.A.S | BC2: Nicservicio s.a.s
A3: ITEM | B3: Descripción | C3: Cantidad | D3: Unidad | E3: Precio unitario estimado | F3: SUBTOTAL UNITARIO | G3: VALOR UNITARIO OFERTADO | H3: VALOR TOTAL UNITARIO | I3: VERIFICACION | J3: VALOR UNITARIO OFERTADO | K3: VALOR TOTAL UNITARIO | L3: VERIFICACION | M3: VALOR UNITARIO OFERTADO | N3: VALOR TOTAL UNITARIO | O3: VERIFICACION | P3: VALOR UNITARIO OFERTADO | Q3: VALOR TOTAL UNITARIO | R3: VERIFICACION | S3: VALOR UNITARIO OFERTADO | T3: VALOR TOTAL UNITARIO | U3: VERIFICACION | V3: VALOR UNITARIO OFERTADO | W3: VALOR TOTAL UNITARIO | X3: VERIFICACION | Y3: VALOR UNITARIO OFERTADO | Z3: VALOR TOTAL UNITARIO | AA3: VERIFICACION | AB3: VALOR UNITARIO OFERTADO | AC3: VALOR TOTAL UNITARIO | AD3: VERIFICACION | AE3: VALOR UNITARIO OFERTADO | AF3: VALOR TOTAL UNITARIO | AG3: VERIFICACION | AH3: VALOR UNITARIO OFERTADO | AI3: VALOR TOTAL UNITARIO | AJ3: VERIFICACION | AK3: VALOR UNITARIO OFERTADO | AL3: VALOR TOTAL UNITARIO | AM3: VERIFICACION | AN3: VALOR UNITARIO OFERTADO | AO3: VALOR TOTAL UNITARIO | AP3: VERIFICACION | AQ3: VALOR UNITARIO OFERTADO | AR3: VALOR TOTAL UNITARIO | AS3: VERIFICACION | AT3: VALOR UNITARIO OFERTADO | AU3: VALOR TOTAL UNITARIO | AV3: VERIFICACION | AW3: VALOR UNITARIO OFERTADO | AX3: VALOR TOTAL UNITARIO | AY3: VERIFICACION | AZ3: VALOR UNITARIO OFERTADO | BA3: VALOR TOTAL UNITARIO | BB3: VERIFICACION | BC3: VALOR UNITARIO OFERTADO | BD3: VALOR TOTAL UNITARIO | BE3: VERIFICACION
B4: ADQUISICIÓN, INSTALACION Y PUESTA EN FUNCIONAMIENTO AIRES ACONDICIONADOS INVERTER, DE ACUERDO A LAS ESPECIFICACIONES TECNICAS DESCRITAS EN ANEXO TÉCNICO ( IVA INCLUIDO) | E4: 0 | F4: =+C4*E4 -> 0 | G4: 0 | H4: =+G4*$C4 -> 0 | I4: =IF(G4>$E4,"ERROR","OK") -> OK | K4: =+J4*$C4 -> 0 | L4: =IF(J4>$E4,"ERROR","OK") -> OK | N4: =+M4*$C4 -> 0 | O4: =IF(M4>$E4,"ERROR","OK") -> OK | Q4: =+P4*$C4 -> 0 | R4: =IF(P4>$E4,"ERROR","OK") -> OK | T4: =+S4*$C4 -> 0 | U4: =IF(S4>$E4,"ERROR","OK") -> OK | W4: =+V4*$C4 -> 0 | X4: =IF(V4>$E4,"ERROR","OK") -> OK | Z4: =+Y4*$C4 -> 0 | AA4: =IF(Y4>$E4,"ERROR","OK") -> OK | AC4: =+AB4*$C4 -> 0 | AD4: =IF(AB4>$E4,"ERROR","OK") -> OK | AF4: =+AE4*$C4 -> 0 | AG4: =IF(AE4>$E4,"ERROR","OK") -> OK | AI4: =+AH4*$C4 -> 0 | AJ4: =IF(AH4>$E4,"ERROR","OK") -> OK | AL4: =+AK4*$C4 -> 0 | AM4: =IF(AK4>$E4,"ERROR","OK") -> OK | AO4: =+AN4*$C4 -> 0 | AP4: =IF(AN4>$E4,"ERROR","OK") -> OK | AR4: =+AQ4*$C4 -> 0 | AS4: =IF(AQ4>$E4,"ERROR","OK") -> OK | AU4: =+AT4*$C4 -> 0 | AV4: =IF(AT4>$E4,"ERROR","OK") -> OK | AX4: =+AW4*$C4 -> 0 | AY4: =IF(AW4>$E4,"ERROR","OK") -> OK | BA4: =+AZ4*$C4 -> 0 | BB4: =IF(AZ4>$E4,"ERROR","OK") -> OK | BD4: =+BC4*$C4 -> 0 | BE4: =IF(BC4>$E4,"ERROR","OK") -> OK
A5: 1 | B5: Valledupar_12000 BTU_BTU | C5: 2 | D5: UN | E5: 3810198 | F5: =+C5*E5 -> 7620396 | G5: 3642500 | H5: =+G5*$C5 -> 7285000 | I5: =IF(G5>$E5,"ERROR","OK") -> OK | J5: 3772096 | K5: =+J5*$C5 -> 7544192 | L5: =IF(J5>$E5,"ERROR","OK") -> OK | M5: 3726374 | N5: =+M5*$C5 -> 7452748 | O5: =IF(M5>$E5,"ERROR","OK") -> OK | P5: 3000000 | Q5: =+P5*$C5 -> 6000000 | R5: =IF(P5>$E5,"ERROR","OK") -> OK | S5: 3200000 | T5: =+S5*$C5 -> 6400000 | U5: =IF(S5>$E5,"ERROR","OK") -> OK | V5: 3628760 | W5: =+V5*$C5 -> 7257520 | X5: =IF(V5>$E5,"ERROR","OK") -> OK | Y5: 3808032 | Z5: =+Y5*$C5 -> 7616064 | AA5: =IF(Y5>$E5,"ERROR","OK") -> OK | AB5: 3753045 | AC5: =+AB5*$C5 -> 7506090 | AD5: =IF(AB5>$E5,"ERROR","OK") -> OK | AE5: 3581586 | AF5: =+AE5*$C5 -> 7163172 | AG5: =IF(AE5>$E5,"ERROR","OK") -> OK | AH5: 3733994 | AI5: =+AH5*$C5 -> 7467988 | AJ5: =IF(AH5>$E5,"ERROR","OK") -> OK | AK5: 3810198 | AL5: =+AK5*$C5 -> 7620396 | AM5: =IF(AK5>$E5,"ERROR","OK") -> OK | AN5: 3390000 | AO5: =+AN5*$C5 -> 6780000 | AP5: =IF(AN5>$E5,"ERROR","OK") -> OK | AQ5: 3505382.2 | AR5: =+AQ5*$C5 -> 7010764.3 | AS5: =IF(AQ5>$E5,"ERROR","OK") -> OK | AT5: 3695892 | AU5: =+AT5*$C5 -> 7391784 | AV5: =IF(AT5>$E5,"ERROR","OK") -> OK | AW5: 3738947 | AX5: =+AW5*$C5 -> 7477894 | AY5: =IF(AW5>$E5,"ERROR","OK") -> OK | AZ5: 3600000 | BA5: =+AZ5*$C5 -> 7200000 | BB5: =IF(AZ5>$E5,"ERROR","OK") -> OK | BC5: 3800000 | BD5: =+BC5*$C5 -> 7600000 | BE5: =IF(BC5>$E5,"ERROR","OK") -> OK
A6: 2 | B6: Cucuta_12000 BTU_BTU | C6: 1 | D6: UN | E6: 3905184 | F6: =+C6*E6 -> 3905184 | G6: 3733300 | H6: =+G6*$C6 -> 3733300 | I6: =IF(G6>$E6,"ERROR","OK") -> OK | J6: 3866132 | K6: =+J6*$C6 -> 3866132 | L6: =IF(J6>$E6,"ERROR","OK") -> OK | M6: 3819270 | N6: =+M6*$C6 -> 3819270 | O6: =IF(M6>$E6,"ERROR","OK") -> OK | P6: 3000000 | Q6: =+P6*$C6 -> 3000000 | R6: =IF(P6>$E6,"ERROR","OK") -> OK | S6: 3300000 | T6: =+S6*$C6 -> 3300000 | U6: =IF(S6>$E6,"ERROR","OK") -> OK | V6: 3719223 | W6: =+V6*$C6 -> 3719223 | X6: =IF(V6>$E6,"ERROR","OK") -> OK | Y6: 3808032 | Z6: =+Y6*$C6 -> 3808032 | AA6: =IF(Y6>$E6,"ERROR","OK") -> OK | AB6: 3846606 | AC6: =+AB6*$C6 -> 3846606 | AD6: =IF(AB6>$E6,"ERROR","OK") -> OK | AE6: 3670873 | AF6: =+AE6*$C6 -> 3670873 | AG6: =IF(AE6>$E6,"ERROR","OK") -> OK | AH6: 3827080 | AI6: =+AH6*$C6 -> 3827080 | AJ6: =IF(AH6>$E6,"ERROR","OK") -> OK | AK6: 3905184 | AL6: =+AK6*$C6 -> 3905184 | AM6: =IF(AK6>$E6,"ERROR","OK") -> OK | AN6: 3540000 | AO6: =+AN6*$C6 -> 3540000 | AP6: =IF(AN6>$E6,"ERROR","OK") -> OK | AQ6: 3592769 | AR6: =+AQ6*$C6 -> 3592769 | AS6: =IF(AQ6>$E6,"ERROR","OK") -> OK | AT6: 3788028 | AU6: =+AT6*$C6 -> 3788028 | AV6: =IF(AT6>$E6,"ERROR","OK") -> OK | AW6: 3832157 | AX6: =+AW6*$C6 -> 3832157 | AY6: =IF(AW6>$E6,"ERROR","OK") -> OK | AZ6: 3700000 | BA6: =+AZ6*$C6 -> 3700000 | BB6: =IF(AZ6>$E6,"ERROR","OK") -> OK | BC6: 3900000 | BD6: =+BC6*$C6 -> 3900000 | BE6: =IF(BC6>$E6,"ERROR","OK") -> OK
A7: 3 | B7: Sincelejo_12000 BTU_BTU | C7: 1 | D7: UN | E7: 3809047 | F7: =+C7*E7 -> 3809047 | G7: 3641400 | H7: =+G7*$C7 -> 3641400 | I7: =IF(G7>$E7,"ERROR","OK") -> OK | J7: 3770957 | K7: =+J7*$C7 -> 3770957 | L7: =IF(J7>$E7,"ERROR","OK") -> OK | M7: 3725248 | N7: =+M7*$C7 -> 3725248 | O7: =IF(M7>$E7,"ERROR","OK") -> OK | P7: 3000000 | Q7: =+P7*$C7 -> 3000000 | R7: =IF(P7>$E7,"ERROR","OK") -> OK | S7: 3020000 | T7: =+S7*$C7 -> 3020000 | U7: =IF(S7>$E7,"ERROR","OK") -> OK | V7: 3627664 | W7: =+V7*$C7 -> 3627664 | X7: =IF(V7>$E7,"ERROR","OK") -> OK | Y7: 3808032 | Z7: =+Y7*$C7 -> 3808032 | AA7: =IF(Y7>$E7,"ERROR","OK") -> OK | AB7: 3751911 | AC7: =+AB7*$C7 -> 3751911 | AD7: =IF(AB7>$E7,"ERROR","OK") -> OK | AE7: 3580504 | AF7: =+AE7*$C7 -> 3580504 | AG7: =IF(AE7>$E7,"ERROR","OK") -> OK | AH7: 3732866 | AI7: =+AH7*$C7 -> 3732866 | AJ7: =IF(AH7>$E7,"ERROR","OK") -> OK | AK7: 3809047 | AL7: =+AK7*$C7 -> 3809047 | AM7: =IF(AK7>$E7,"ERROR","OK") -> OK | AN7: 3380000 | AO7: =+AN7*$C7 -> 3380000 | AP7: =IF(AN7>$E7,"ERROR","OK") -> OK | AQ7: 3504323 | AR7: =+AQ7*$C7 -> 3504323 | AS7: =IF(AQ7>$E7,"ERROR","OK") -> OK | AT7: 3694776 | AU7: =+AT7*$C7 -> 3694776 | AV7: =IF(AT7>$E7,"ERROR","OK") -> OK | AW7: 3737817 | AX7: =+AW7*$C7 -> 3737817 | AY7: =IF(AW7>$E7,"ERROR","OK") -> OK | AZ7: 3600000 | BA7: =+AZ7*$C7 -> 3600000 | BB7: =IF(AZ7>$E7,"ERROR","OK") -> OK | BC7: 3800000 | BD7: =+BC7*$C7 -> 3800000 | BE7: =IF(BC7>$E7,"ERROR","OK") -> OK
B8: MANTENIMIENTO PREVENTIVO DE AIRES ACONDICIONADOS EXISTENTES EN LAS OFICINAS DE LA ARN DE ACUERDO A LAS ESPECIFICACIONES TECNICAS DESCRITAS EN ANEXO TÉCNICO (IVA INCLUIDO) | F8: =+C8*E8 -> 0 | H8: =+G8*$C8 -> 0 | I8: =IF(G8>$E8,"ERROR","OK") -> OK | K8: =+J8*$C8 -> 0 | L8: =IF(J8>$E8,"ERROR","OK") -> OK | N8: =+M8*$C8 -> 0 | O8: =IF(M8>$E8,"ERROR","OK") -> OK | Q8: =+P8*$C8 -> 0 | R8: =IF(P8>$E8,"ERROR","OK") -> OK | T8: =+S8*$C8 -> 0 | U8: =IF(S8>$E8,"ERROR","OK") -> OK | W8: =+V8*$C8 -> 0 | X8: =IF(V8>$E8,"ERROR","OK") -> OK | Z8: =+Y8*$C8 -> 0 | AA8: =IF(Y8>$E8,"ERROR","OK") -> OK | AC8: =+AB8*$C8 -> 0 | AD8: =IF(AB8>$E8,"ERROR","OK") -> OK | AF8: =+AE8*$C8 -> 0 | AG8: =IF(AE8>$E8,"ERROR","OK") -> OK | AI8: =+AH8*$C8 -> 0 | AJ8: =IF(AH8>$E8,"ERROR","OK") -> OK | AL8: =+AK8*$C8 -> 0 | AM8: =IF(AK8>$E8,"ERROR","OK") -> OK | AO8: =+AN8*$C8 -> 0 | AP8: =IF(AN8>$E8,"ERROR","OK") -> OK | AR8: =+AQ8*$C8 -> 0 | AS8: =IF(AQ8>$E8,"ERROR","OK") -> OK | AU8: =+AT8*$C8 -> 0 | AV8: =IF(AT8>$E8,"ERROR","OK") -> OK | AX8: =+AW8*$C8 -> 0 | AY8: =IF(AW8>$E8,"ERROR","OK") -> OK | BA8: =+AZ8*$C8 -> 0 | BB8: =IF(AZ8>$E8,"ERROR","OK") -> OK | BD8: =+BC8*$C8 -> 0 | BE8: =IF(BC8>$E8,"ERROR","OK") -> OK
A9: 4 | B9: Puerto Berrio _60000_BTU | C9: 2 | D9: UN | E9: 381939 | F9: =+C9*E9 -> 763878 | G9: 365100 | H9: =+G9*$C9 -> 730200 | I9: =IF(G9>$E9,"ERROR","OK") -> OK | J9: 378120 | K9: =+J9*$C9 -> 756240 | L9: =IF(J9>$E9,"ERROR","OK") -> OK | M9: 373536 | N9: =+M9*$C9 -> 747072 | O9: =IF(M9>$E9,"ERROR","OK") -> OK | P9: 150000 | Q9: =+P9*$C9 -> 300000 | R9: =IF(P9>$E9,"ERROR","OK") -> OK | S9: 250000 | T9: =+S9*$C9 -> 500000 | U9: =IF(S9>$E9,"ERROR","OK") -> OK | V9: 363751 | W9: =+V9*$C9 -> 727502 | X9: =IF(V9>$E9,"ERROR","OK") -> OK | Y9: 227038 | Z9: =+Y9*$C9 -> 454076 | AA9: =IF(Y9>$E9,"ERROR","OK") -> OK | AB9: 376210 | AC9: =+AB9*$C9 -> 752420 | AD9: =IF(AB9>$E9,"ERROR","OK") -> OK | AE9: 351384 | AF9: =+AE9*$C9 -> 702768 | AG9: =IF(AE9>$E9,"ERROR","OK") -> OK | AH9: 374300 | AI9: =+AH9*$C9 -> 748600 | AJ9: =IF(AH9>$E9,"ERROR","OK") -> OK | AK9: 381939 | AL9: =+AK9*$C9 -> 763878 | AM9: =IF(AK9>$E9,"ERROR","OK") -> OK | AN9: 305551 | AO9: =+AN9*$C9 -> 611102 | AP9: =IF(AN9>$E9,"ERROR","OK") -> OK | AQ9: 351383 | AR9: =+AQ9*$C9 -> 702766 | AS9: =IF(AQ9>$E9,"ERROR","OK") -> OK | AT9: 370481 | AU9: =+AT9*$C9 -> 740962 | AV9: =IF(AT9>$E9,"ERROR","OK") -> OK | AW9: 374796 | AX9: =+AW9*$C9 -> 749592 | AY9: =IF(AW9>$E9,"ERROR","OK") -> OK | AZ9: 330000 | BA9: =+AZ9*$C9 -> 660000 | BB9: =IF(AZ9>$E9,"ERROR","OK") -> OK | BC9: 350000 | BD9: =+BC9*$C9 -> 700000 | BE9: =IF(BC9>$E9,"ERROR","OK") -> OK
A10: 5 | B10: Puerto Berrio _24000_BTU | C10: 4 | D10: UN | E10: 279532 | F10: =+C10*E10 -> 1118128 | G10: 267200 | H10: =+G10*$C10 -> 1068800 | I10: =IF(G10>$E10,"ERROR","OK") -> OK | J10: 276737 | K10: =+J10*$C10 -> 1106948 | L10: =IF(J10>$E10,"ERROR","OK") -> OK | M10: 273382 | N10: =+M10*$C10 -> 1093528 | O10: =IF(M10>$E10,"ERROR","OK") -> OK | P10: 150000 | Q10: =+P10*$C10 -> 600000 | R10: =IF(P10>$E10,"ERROR","OK") -> OK | S10: 170000 | T10: =+S10*$C10 -> 680000 | U10: =IF(S10>$E10,"ERROR","OK") -> OK | V10: 266221 | W10: =+V10*$C10 -> 1064884 | X10: =IF(V10>$E10,"ERROR","OK") -> OK | Y10: 170279 | Z10: =+Y10*$C10 -> 681116 | AA10: =IF(Y10>$E10,"ERROR","OK") -> OK | AB10: 275339 | AC10: =+AB10*$C10 -> 1101356 | AD10: =IF(AB10>$E10,"ERROR","OK") -> OK | AE10: 257169 | AF10: =+AE10*$C10 -> 1028676 | AG10: =IF(AE10>$E10,"ERROR","OK") -> OK | AH10: 273941 | AI10: =+AH10*$C10 -> 1095764 | AJ10: =IF(AH10>$E10,"ERROR","OK") -> OK | AK10: 279532 | AL10: =+AK10*$C10 -> 1118128 | AM10: =IF(AK10>$E10,"ERROR","OK") -> OK | AN10: 223626 | AO10: =+AN10*$C10 -> 894504 | AP10: =IF(AN10>$E10,"ERROR","OK") -> OK | AQ10: 257169 | AR10: =+AQ10*$C10 -> 1028676 | AS10: =IF(AQ10>$E10,"ERROR","OK") -> OK | AT10: 271146 | AU10: =+AT10*$C10 -> 1084584 | AV10: =IF(AT10>$E10,"ERROR","OK") -> OK | AW10: 274304 | AX10: =+AW10*$C10 -> 1097216 | AY10: =IF(AW10>$E10,"ERROR","OK") -> OK | AZ10: 230000 | BA10: =+AZ10*$C10 -> 920000 | BB10: =IF(AZ10>$E10,"ERROR","OK") -> OK | BC10: 250000 | BD10: =+BC10*$C10 -> 1000000 | BE10: =IF(BC10>$E10,"ERROR","OK") -> OK
A11: 6 | B11: Puerto Berrio _58000_BTU | C11: 2 | D11: UN | E11: 346402 | F11: =+C11*E11 -> 692804 | G11: 331100 | H11: =+G11*$C11 -> 662200 | I11: =IF(G11>$E11,"ERROR","OK") -> OK | J11: 342938 | K11: =+J11*$C11 -> 685876 | L11: =IF(J11>$E11,"ERROR","OK") -> OK | M11: 338781 | N11: =+M11*$C11 -> 677562 | O11: =IF(M11>$E11,"ERROR","OK") -> OK | P11: 150000 | Q11: =+P11*$C11 -> 300000 | R11: =IF(P11>$E11,"ERROR","OK") -> OK | S11: 250000 | T11: =+S11*$C11 -> 500000 | U11: =IF(S11>$E11,"ERROR","OK") -> OK | V11: 329907 | W11: =+V11*$C11 -> 659814 | X11: =IF(V11>$E11,"ERROR","OK") -> OK | Y11: 170279 | Z11: =+Y11*$C11 -> 340558 | AA11: =IF(Y11>$E11,"ERROR","OK") -> OK | AB11: 341206 | AC11: =+AB11*$C11 -> 682412 | AD11: =IF(AB11>$E11,"ERROR","OK") -> OK | AE11: 318690 | AF11: =+AE11*$C11 -> 637380 | AG11: =IF(AE11>$E11,"ERROR","OK") -> OK | AH11: 339474 | AI11: =+AH11*$C11 -> 678948 | AJ11: =IF(AH11>$E11,"ERROR","OK") -> OK | AK11: 346402 | AL11: =+AK11*$C11 -> 692804 | AM11: =IF(AK11>$E11,"ERROR","OK") -> OK | AN11: 277122 | AO11: =+AN11*$C11 -> 554244 | AP11: =IF(AN11>$E11,"ERROR","OK") -> OK | AQ11: 318689 | AR11: =+AQ11*$C11 -> 637378 | AS11: =IF(AQ11>$E11,"ERROR","OK") -> OK | AT11: 336010 | AU11: =+AT11*$C11 -> 672020 | AV11: =IF(AT11>$E11,"ERROR","OK") -> OK | AW11: 339924 | AX11: =+AW11*$C11 -> 679848 | AY11: =IF(AW11>$E11,"ERROR","OK") -> OK | AZ11: 290000 | BA11: =+AZ11*$C11 -> 580000 | BB11: =IF(AZ11>$E11,"ERROR","OK") -> OK | BC11: 310000 | BD11: =+BC11*$C11 -> 620000 | BE11: =IF(BC11>$E11,"ERROR","OK") -> OK
A12: 7 | B12: Barranquilla_9000_BTU | C12: 2 | D12: UN | E12: 247295 | F12: =+C12*E12 -> 494590 | G12: 236400 | H12: =+G12*$C12 -> 472800 | I12: =IF(G12>$E12,"ERROR","OK") -> OK | J12: 244822 | K12: =+J12*$C12 -> 489644 | L12: =IF(J12>$E12,"ERROR","OK") -> OK | M12: 241855 | N12: =+M12*$C12 -> 483710 | O12: =IF(M12>$E12,"ERROR","OK") -> OK | P12: 150000 | Q12: =+P12*$C12 -> 300000 | R12: =IF(P12>$E12,"ERROR","OK") -> OK | S12: 160000 | T12: =+S12*$C12 -> 320000 | U12: =IF(S12>$E12,"ERROR","OK") -> OK | V12: 235519 | W12: =+V12*$C12 -> 471038 | X12: =IF(V12>$E12,"ERROR","OK") -> OK | Y12: 113519 | Z12: =+Y12*$C12 -> 227038 | AA12: =IF(Y12>$E12,"ERROR","OK") -> OK | AB12: 243586 | AC12: =+AB12*$C12 -> 487172 | AD12: =IF(AB12>$E12,"ERROR","OK") -> OK | AE12: 227511 | AF12: =+AE12*$C12 -> 455022 | AG12: =IF(AE12>$E12,"ERROR","OK") -> OK | AH12: 242349 | AI12: =+AH12*$C12 -> 484698 | AJ12: =IF(AH12>$E12,"ERROR","OK") -> OK | AK12: 247295 | AL12: =+AK12*$C12 -> 494590 | AM12: =IF(AK12>$E12,"ERROR","OK") -> OK | AN12: 185471 | AO12: =+AN12*$C12 -> 370942 | AP12: =IF(AN12>$E12,"ERROR","OK") -> OK | AQ12: 227511 | AR12: =+AQ12*$C12 -> 455022 | AS12: =IF(AQ12>$E12,"ERROR","OK") -> OK | AT12: 239876 | AU12: =+AT12*$C12 -> 479752 | AV12: =IF(AT12>$E12,"ERROR","OK") -> OK | AW12: 242670 | AX12: =+AW12*$C12 -> 485340 | AY12: =IF(AW12>$E12,"ERROR","OK") -> OK | AZ12: 190000 | BA12: =+AZ12*$C12 -> 380000 | BB12: =IF(AZ12>$E12,"ERROR","OK") -> OK | BC12: 210000 | BD12: =+BC12*$C12 -> 420000 | BE12: =IF(BC12>$E12,"ERROR","OK") -> OK
A13: 8 | B13: Barranquilla_12000_BTU | C13: 6 | D13: UN | E13: 248783 | F13: =+C13*E13 -> 1492698 | G13: 237800 | H13: =+G13*$C13 -> 1426800 | I13: =IF(G13>$E13,"ERROR","OK") -> OK | J13: 246295 | K13: =+J13*$C13 -> 1477770 | L13: =IF(J13>$E13,"ERROR","OK") -> OK | M13: 243310 | N13: =+M13*$C13 -> 1459860 | O13: =IF(M13>$E13,"ERROR","OK") -> OK | P13: 150000 | Q13: =+P13*$C13 -> 900000 | R13: =IF(P13>$E13,"ERROR","OK") -> OK | S13: 160000 | T13: =+S13*$C13 -> 960000 | U13: =IF(S13>$E13,"ERROR","OK") -> OK | V13: 236936 | W13: =+V13*$C13 -> 1421616 | X13: =IF(V13>$E13,"ERROR","OK") -> OK | Y13: 113519 | Z13: =+Y13*$C13 -> 681114 | AA13: =IF(Y13>$E13,"ERROR","OK") -> OK | AB13: 245051 | AC13: =+AB13*$C13 -> 1470306 | AD13: =IF(AB13>$E13,"ERROR","OK") -> OK | AE13: 228880 | AF13: =+AE13*$C13 -> 1373280 | AG13: =IF(AE13>$E13,"ERROR","OK") -> OK | AH13: 243807 | AI13: =+AH13*$C13 -> 1462842 | AJ13: =IF(AH13>$E13,"ERROR","OK") -> OK | AK13: 248783 | AL13: =+AK13*$C13 -> 1492698 | AM13: =IF(AK13>$E13,"ERROR","OK") -> OK | AN13: 186587 | AO13: =+AN13*$C13 -> 1119522 | AP13: =IF(AN13>$E13,"ERROR","OK") -> OK | AQ13: 228880 | AR13: =+AQ13*$C13 -> 1373280 | AS13: =IF(AQ13>$E13,"ERROR","OK") -> OK | AT13: 241320 | AU13: =+AT13*$C13 -> 1447920 | AV13: =IF(AT13>$E13,"ERROR","OK") -> OK | AW13: 244130 | AX13: =+AW13*$C13 -> 1464780 | AY13: =IF(AW13>$E13,"ERROR","OK") -> OK | AZ13: 190000 | BA13: =+AZ13*$C13 -> 1140000 | BB13: =IF(AZ13>$E13,"ERROR","OK") -> OK | BC13: 210000 | BD13: =+BC13*$C13 -> 1260000 | BE13: =IF(BC13>$E13,"ERROR","OK") -> OK
A14: 9 | B14: Barranquilla_24000_BTU | C14: 8 | D14: UN | E14: 271168 | F14: =+C14*E14 -> 2169344 | G14: 259200 | H14: =+G14*$C14 -> 2073600 | I14: =IF(G14>$E14,"ERROR","OK") -> OK | J14: 268456 | K14: =+J14*$C14 -> 2147648 | L14: =IF(J14>$E14,"ERROR","OK") -> OK | M14: 265202 | N14: =+M14*$C14 -> 2121616 | O14: =IF(M14>$E14,"ERROR","OK") -> OK | P14: 150000 | Q14: =+P14*$C14 -> 1200000 | R14: =IF(P14>$E14,"ERROR","OK") -> OK | S14: 160000 | T14: =+S14*$C14 -> 1280000 | U14: =IF(S14>$E14,"ERROR","OK") -> OK | V14: 258255 | W14: =+V14*$C14 -> 2066040 | X14: =IF(V14>$E14,"ERROR","OK") -> OK | Y14: 113519 | Z14: =+Y14*$C14 -> 908152 | AA14: =IF(Y14>$E14,"ERROR","OK") -> OK | AB14: 267100 | AC14: =+AB14*$C14 -> 2136800 | AD14: =IF(AB14>$E14,"ERROR","OK") -> OK | AE14: 249475 | AF14: =+AE14*$C14 -> 1995800 | AG14: =IF(AE14>$E14,"ERROR","OK") -> OK | AH14: 265745 | AI14: =+AH14*$C14 -> 2125960 | AJ14: =IF(AH14>$E14,"ERROR","OK") -> OK | AK14: 271168 | AL14: =+AK14*$C14 -> 2169344 | AM14: =IF(AK14>$E14,"ERROR","OK") -> OK | AN14: 203376 | AO14: =+AN14*$C14 -> 1627008 | AP14: =IF(AN14>$E14,"ERROR","OK") -> OK | AQ14: 249474 | AR14: =+AQ14*$C14 -> 1995792 | AS14: =IF(AQ14>$E14,"ERROR","OK") -> OK | AT14: 263033 | AU14: =+AT14*$C14 -> 2104264 | AV14: =IF(AT14>$E14,"ERROR","OK") -> OK | AW14: 266097 | AX14: =+AW14*$C14 -> 2128776 | AY14: =IF(AW14>$E14,"ERROR","OK") -> OK | AZ14: 200000 | BA14: =+AZ14*$C14 -> 1600000 | BB14: =IF(AZ14>$E14,"ERROR","OK") -> OK | BC14: 220000 | BD14: =+BC14*$C14 -> 1760000 | BE14: =IF(BC14>$E14,"ERROR","OK") -> OK
A15: 10 | B15: Santa Marta_12000_BTU | C15: 14 | D15: UN | E15: 230755 | F15: =+C15*E15 -> 3230570 | G15: 220600 | H15: =+G15*$C15 -> 3088400 | I15: =IF(G15>$E15,"ERROR","OK") -> OK | J15: 228447 | K15: =+J15*$C15 -> 3198258 | L15: =IF(J15>$E15,"ERROR","OK") -> OK | M15: 225678 | N15: =+M15*$C15 -> 3159492 | O15: =IF(M15>$E15,"ERROR","OK") -> OK | P15: 150000 | Q15: =+P15*$C15 -> 2100000 | R15: =IF(P15>$E15,"ERROR","OK") -> OK | S15: 160000 | T15: =+S15*$C15 -> 2240000 | U15: =IF(S15>$E15,"ERROR","OK") -> OK | V15: 219767 | W15: =+V15*$C15 -> 3076738 | X15: =IF(V15>$E15,"ERROR","OK") -> OK | Y15: 113519 | Z15: =+Y15*$C15 -> 1589266 | AA15: =IF(Y15>$E15,"ERROR","OK") -> OK | AB15: 227294 | AC15: =+AB15*$C15 -> 3182116 | AD15: =IF(AB15>$E15,"ERROR","OK") -> OK | AE15: 212295 | AF15: =+AE15*$C15 -> 2972130 | AG15: =IF(AE15>$E15,"ERROR","OK") -> OK | AH15: 226140 | AI15: =+AH15*$C15 -> 3165960 | AJ15: =IF(AH15>$E15,"ERROR","OK") -> OK | AK15: 230755 | AL15: =+AK15*$C15 -> 3230570 | AM15: =IF(AK15>$E15,"ERROR","OK") -> OK | AN15: 173066 | AO15: =+AN15*$C15 -> 2422924 | AP15: =IF(AN15>$E15,"ERROR","OK") -> OK | AQ15: 212294 | AR15: =+AQ15*$C15 -> 2972116 | AS15: =IF(AQ15>$E15,"ERROR","OK") -> OK | AT15: 223832 | AU15: =+AT15*$C15 -> 3133648 | AV15: =IF(AT15>$E15,"ERROR","OK") -> OK | AW15: 226439 | AX15: =+AW15*$C15 -> 3170146 | AY15: =IF(AW15>$E15,"ERROR","OK") -> OK | AZ15: 190000 | BA15: =+AZ15*$C15 -> 2660000 | BB15: =IF(AZ15>$E15,"ERROR","OK") -> OK | BC15: 210000 | BD15: =+BC15*$C15 -> 2940000 | BE15: =IF(BC15>$E15,"ERROR","OK") -> OK
A16: 11 | B16: Santa Marta_18000_BTU | C16: 6 | D16: UN | E16: 260520 | F16: =+C16*E16 -> 1563120 | G16: 249000 | H16: =+G16*$C16 -> 1494000 | I16: =IF(G16>$E16,"ERROR","OK") -> OK | J16: 257915 | K16: =+J16*$C16 -> 1547490 | L16: =IF(J16>$E16,"ERROR","OK") -> OK | M16: 254789 | N16: =+M16*$C16 -> 1528734 | O16: =IF(M16>$E16,"ERROR","OK") -> OK | P16: 150000 | Q16: =+P16*$C16 -> 900000 | R16: =IF(P16>$E16,"ERROR","OK") -> OK | S16: 160000 | T16: =+S16*$C16 -> 960000 | U16: =IF(S16>$E16,"ERROR","OK") -> OK | V16: 248114 | W16: =+V16*$C16 -> 1488684 | X16: =IF(V16>$E16,"ERROR","OK") -> OK | Y16: 113519 | Z16: =+Y16*$C16 -> 681114 | AA16: =IF(Y16>$E16,"ERROR","OK") -> OK | AB16: 256612 | AC16: =+AB16*$C16 -> 1539672 | AD16: =IF(AB16>$E16,"ERROR","OK") -> OK | AE16: 239678 | AF16: =+AE16*$C16 -> 1438068 | AG16: =IF(AE16>$E16,"ERROR","OK") -> OK | AH16: 255310 | AI16: =+AH16*$C16 -> 1531860 | AJ16: =IF(AH16>$E16,"ERROR","OK") -> OK | AK16: 260520 | AL16: =+AK16*$C16 -> 1563120 | AM16: =IF(AK16>$E16,"ERROR","OK") -> OK | AN16: 195390 | AO16: =+AN16*$C16 -> 1172340 | AP16: =IF(AN16>$E16,"ERROR","OK") -> OK | AQ16: 239678 | AR16: =+AQ16*$C16 -> 1438068 | AS16: =IF(AQ16>$E16,"ERROR","OK") -> OK | AT16: 252704 | AU16: =+AT16*$C16 -> 1516224 | AV16: =IF(AT16>$E16,"ERROR","OK") -> OK | AW16: 255648 | AX16: =+AW16*$C16 -> 1533888 | AY16: =IF(AW16>$E16,"ERROR","OK") -> OK | AZ16: 210000 | BA16: =+AZ16*$C16 -> 1260000 | BB16: =IF(AZ16>$E16,"ERROR","OK") -> OK | BC16: 230000 | BD16: =+BC16*$C16 -> 1380000 | BE16: =IF(BC16>$E16,"ERROR","OK") -> OK
A17: 12 | B17: Santa Marta_24000_BTU | C17: 2 | D17: UN | E17: 269215 | F17: =+C17*E17 -> 538430 | G17: 257300 | H17: =+G17*$C17 -> 514600 | I17: =IF(G17>$E17,"ERROR","OK") -> OK | J17: 266523 | K17: =+J17*$C17 -> 533046 | L17: =IF(J17>$E17,"ERROR","OK") -> OK | M17: 263292 | N17: =+M17*$C17 -> 526584 | O17: =IF(M17>$E17,"ERROR","OK") -> OK | P17: 150000 | Q17: =+P17*$C17 -> 300000 | R17: =IF(P17>$E17,"ERROR","OK") -> OK | S17: 160000 | T17: =+S17*$C17 -> 320000 | U17: =IF(S17>$E17,"ERROR","OK") -> OK | V17: 235744 | W17: =+V17*$C17 -> 471488 | X17: =IF(V17>$E17,"ERROR","OK") -> OK | Y17: 113519 | Z17: =+Y17*$C17 -> 227038 | AA17: =IF(Y17>$E17,"ERROR","OK") -> OK | AB17: 265177 | AC17: =+AB17*$C17 -> 530354 | AD17: =IF(AB17>$E17,"ERROR","OK") -> OK | AE17: 247678 | AF17: =+AE17*$C17 -> 495356 | AG17: =IF(AE17>$E17,"ERROR","OK") -> OK | AH17: 263831 | AI17: =+AH17*$C17 -> 527662 | AJ17: =IF(AH17>$E17,"ERROR","OK") -> OK | AK17: 269215 | AL17: =+AK17*$C17 -> 538430 | AM17: =IF(AK17>$E17,"ERROR","OK") -> OK | AN17: 201911 | AO17: =+AN17*$C17 -> 403822 | AP17: =IF(AN17>$E17,"ERROR","OK") -> OK | AQ17: 247677 | AR17: =+AQ17*$C17 -> 495354 | AS17: =IF(AQ17>$E17,"ERROR","OK") -> OK | AT17: 261139 | AU17: =+AT17*$C17 -> 522278 | AV17: =IF(AT17>$E17,"ERROR","OK") -> OK | AW17: 264180 | AX17: =+AW17*$C17 -> 528360 | AY17: =IF(AW17>$E17,"ERROR","OK") -> OK | AZ17: 210000 | BA17: =+AZ17*$C17 -> 420000 | BB17: =IF(AZ17>$E17,"ERROR","OK") -> OK | BC17: 230000 | BD17: =+BC17*$C17 -> 460000 | BE17: =IF(BC17>$E17,"ERROR","OK") -> OK
A18: 13 | B18: Santa Marta_36000_BTU | C18: 2 | D18: UN | E18: 287813 | F18: =+C18*E18 -> 575626 | G18: 275100 | H18: =+G18*$C18 -> 550200 | I18: =IF(G18>$E18,"ERROR","OK") -> OK | J18: 284935 | K18: =+J18*$C18 -> 569870 | L18: =IF(J18>$E18,"ERROR","OK") -> OK | M18: 281481 | N18: =+M18*$C18 -> 562962 | O18: =IF(M18>$E18,"ERROR","OK") -> OK | P18: 150000 | Q18: =+P18*$C18 -> 300000 | R18: =IF(P18>$E18,"ERROR","OK") -> OK | S18: 190000 | T18: =+S18*$C18 -> 380000 | U18: =IF(S18>$E18,"ERROR","OK") -> OK | V18: 251593 | W18: =+V18*$C18 -> 503186 | X18: =IF(V18>$E18,"ERROR","OK") -> OK | Y18: 113519 | Z18: =+Y18*$C18 -> 227038 | AA18: =IF(Y18>$E18,"ERROR","OK") -> OK | AB18: 283496 | AC18: =+AB18*$C18 -> 566992 | AD18: =IF(AB18>$E18,"ERROR","OK") -> OK | AE18: 264788 | AF18: =+AE18*$C18 -> 529576 | AG18: =IF(AE18>$E18,"ERROR","OK") -> OK | AH18: 282057 | AI18: =+AH18*$C18 -> 564114 | AJ18: =IF(AH18>$E18,"ERROR","OK") -> OK | AK18: 287813 | AL18: =+AK18*$C18 -> 575626 | AM18: =IF(AK18>$E18,"ERROR","OK") -> OK | AN18: 215860 | AO18: =+AN18*$C18 -> 431720 | AP18: =IF(AN18>$E18,"ERROR","OK") -> OK | AQ18: 264787 | AR18: =+AQ18*$C18 -> 529574 | AS18: =IF(AQ18>$E18,"ERROR","OK") -> OK | AT18: 279179 | AU18: =+AT18*$C18 -> 558358 | AV18: =IF(AT18>$E18,"ERROR","OK") -> OK | AW18: 282430 | AX18: =+AW18*$C18 -> 564860 | AY18: =IF(AW18>$E18,"ERROR","OK") -> OK | AZ18: 210000 | BA18: =+AZ18*$C18 -> 420000 | BB18: =IF(AZ18>$E18,"ERROR","OK") -> OK | BC18: 230000 | BD18: =+BC18*$C18 -> 460000 | BE18: =IF(BC18>$E18,"ERROR","OK") -> OK
A19: 14 | B19: Barrancabermeja_12000_BTU | C19: 18 | D19: UN | E19: 247531 | F19: =+C19*E19 -> 4455558 | G19: 236600 | H19: =+G19*$C19 -> 4258800 | I19: =IF(G19>$E19,"ERROR","OK") -> OK | J19: 245056 | K19: =+J19*$C19 -> 4411008 | L19: =IF(J19>$E19,"ERROR","OK") -> OK | M19: 242085 | N19: =+M19*$C19 -> 4357530 | O19: =IF(M19>$E19,"ERROR","OK") -> OK | P19: 150000 | Q19: =+P19*$C19 -> 2700000 | R19: =IF(P19>$E19,"ERROR","OK") -> OK | S19: 160000 | T19: =+S19*$C19 -> 2880000 | U19: =IF(S19>$E19,"ERROR","OK") -> OK | V19: 235744 | W19: =+V19*$C19 -> 4243392 | X19: =IF(V19>$E19,"ERROR","OK") -> OK | Y19: 170279 | Z19: =+Y19*$C19 -> 3065022 | AA19: =IF(Y19>$E19,"ERROR","OK") -> OK | AB19: 243818 | AC19: =+AB19*$C19 -> 4388724 | AD19: =IF(AB19>$E19,"ERROR","OK") -> OK | AE19: 227729 | AF19: =+AE19*$C19 -> 4099122 | AG19: =IF(AE19>$E19,"ERROR","OK") -> OK | AH19: 242580 | AI19: =+AH19*$C19 -> 4366440 | AJ19: =IF(AH19>$E19,"ERROR","OK") -> OK | AK19: 247531 | AL19: =+AK19*$C19 -> 4455558 | AM19: =IF(AK19>$E19,"ERROR","OK") -> OK | AN19: 242580 | AO19: =+AN19*$C19 -> 4366440 | AP19: =IF(AN19>$E19,"ERROR","OK") -> OK | AQ19: 227728 | AR19: =+AQ19*$C19 -> 4099104 | AS19: =IF(AQ19>$E19,"ERROR","OK") -> OK | AT19: 240105 | AU19: =+AT19*$C19 -> 4321890 | AV19: =IF(AT19>$E19,"ERROR","OK") -> OK | AW19: 242902 | AX19: =+AW19*$C19 -> 4372236 | AY19: =IF(AW19>$E19,"ERROR","OK") -> OK | AZ19: 190000 | BA19: =+AZ19*$C19 -> 3420000 | BB19: =IF(AZ19>$E19,"ERROR","OK") -> OK | BC19: 210000 | BD19: =+BC19*$C19 -> 3780000 | BE19: =IF(BC19>$E19,"ERROR","OK") -> OK
A20: 15 | B20: Barrancabermeja_24000_BTU | C20: 8 | D20: UN | E20: 264173 | F20: =+C20*E20 -> 2113384 | G20: 252500 | H20: =+G20*$C20 -> 2020000 | I20: =IF(G20>$E20,"ERROR","OK") -> OK | J20: 261531 | K20: =+J20*$C20 -> 2092248 | L20: =IF(J20>$E20,"ERROR","OK") -> OK | M20: 258361 | N20: =+M20*$C20 -> 2066888 | O20: =IF(M20>$E20,"ERROR","OK") -> OK | P20: 150000 | Q20: =+P20*$C20 -> 1200000 | R20: =IF(P20>$E20,"ERROR","OK") -> OK | S20: 160000 | T20: =+S20*$C20 -> 1280000 | U20: =IF(S20>$E20,"ERROR","OK") -> OK | V20: 251593 | W20: =+V20*$C20 -> 2012744 | X20: =IF(V20>$E20,"ERROR","OK") -> OK | Y20: 170279 | Z20: =+Y20*$C20 -> 1362232 | AA20: =IF(Y20>$E20,"ERROR","OK") -> OK | AB20: 260210 | AC20: =+AB20*$C20 -> 2081680 | AD20: =IF(AB20>$E20,"ERROR","OK") -> OK | AE20: 243039 | AF20: =+AE20*$C20 -> 1944312 | AG20: =IF(AE20>$E20,"ERROR","OK") -> OK | AH20: 258890 | AI20: =+AH20*$C20 -> 2071120 | AJ20: =IF(AH20>$E20,"ERROR","OK") -> OK | AK20: 264173 | AL20: =+AK20*$C20 -> 2113384 | AM20: =IF(AK20>$E20,"ERROR","OK") -> OK | AN20: 258890 | AO20: =+AN20*$C20 -> 2071120 | AP20: =IF(AN20>$E20,"ERROR","OK") -> OK | AQ20: 243039 | AR20: =+AQ20*$C20 -> 1944312 | AS20: =IF(AQ20>$E20,"ERROR","OK") -> OK | AT20: 256248 | AU20: =+AT20*$C20 -> 2049984 | AV20: =IF(AT20>$E20,"ERROR","OK") -> OK | AW20: 259232 | AX20: =+AW20*$C20 -> 2073856 | AY20: =IF(AW20>$E20,"ERROR","OK") -> OK | AZ20: 210000 | BA20: =+AZ20*$C20 -> 1680000 | BB20: =IF(AZ20>$E20,"ERROR","OK") -> OK | BC20: 230000 | BD20: =+BC20*$C20 -> 1840000 | BE20: =IF(BC20>$E20,"ERROR","OK") -> OK
... A36: 31 | B36: Apartadó_36000_BTU | C36: 2 | D36: UN | E36: 335581 | F36: =+C36*E36 -> 671162 | G36: 320800 | H36: =+G36*$C36 -> 641600 | I36: =IF(G36>$E36,"ERROR","OK") -> OK | J36: 332225 | K36: =+J36*$C36 -> 664450 | L36: =IF(J36>$E36,"ERROR","OK") -> OK | M36: 328198 | N36: =+M36*$C36 -> 656396 | O36: =IF(M36>$E36,"ERROR","OK") -> OK | P36: 150000 | Q36: =+P36*$C36 -> 300000 | R36: =IF(P36>$E36,"ERROR","OK") -> OK | S36: 200000 | T36: =+S36*$C36 -> 400000 | U36: =IF(S36>$E36,"ERROR","OK") -> OK | V36: 319601 | W36: =+V36*$C36 -> 639202 | X36: =IF(V36>$E36,"ERROR","OK") -> OK | Y36: 141898 | Z36: =+Y36*$C36 -> 283796 | AA36: =IF(Y36>$E36,"ERROR","OK") -> OK | AB36: 330547 | AC36: =+AB36*$C36 -> 661094 | AD36: =IF(AB36>$E36,"ERROR","OK") -> OK | AE36: 308735 | AF36: =+AE36*$C36 -> 617470 | AG36: =IF(AE36>$E36,"ERROR","OK") -> OK | AH36: 328869 | AI36: =+AH36*$C36 -> 657738 | AJ36: =IF(AH36>$E36,"ERROR","OK") -> OK | AK36: 335581 | AL36: =+AK36*$C36 -> 671162 | AM36: =IF(AK36>$E36,"ERROR","OK") -> OK | AN36: 318802 | AO36: =+AN36*$C36 -> 637604 | AP36: =IF(AN36>$E36,"ERROR","OK") -> OK | AQ36: 308734 | AR36: =+AQ36*$C36 -> 617468 | AS36: =IF(AQ36>$E36,"ERROR","OK") -> OK | AT36: 325514 | AU36: =+AT36*$C36 -> 651028 | AV36: =IF(AT36>$E36,"ERROR","OK") -> OK | AW36: 329305 | AX36: =+AW36*$C36 -> 658610 | AY36: =IF(AW36>$E36,"ERROR","OK") -> OK | AZ36: 280000 | BA36: =+AZ36*$C36 -> 560000 | BB36: =IF(AZ36>$E36,"ERROR","OK") -> OK | BC36: 300000 | BD36: =+BC36*$C36 -> 600000 | BE36: =IF(BC36>$E36,"ERROR","OK") -> OK
B37: VENTILADORES TIPO PEDESTAL ADQUISICIÓN, INSTALACION Y PUESTA EN FUNCIONAMIENTO DE ACUERDO A LAS ESPECIFICACIONES TECNICAS DESCRITAS EN ANEXO TECNICO (IVA INCLUIDO) | F37: =+C37*E37 -> 0 | H37: =+G37*$C37 -> 0 | I37: =IF(G37>$E37,"ERROR","OK") -> OK | K37: =+J37*$C37 -> 0 | L37: =IF(J37>$E37,"ERROR","OK") -> OK | N37: =+M37*$C37 -> 0 | O37: =IF(M37>$E37,"ERROR","OK") -> OK | Q37: =+P37*$C37 -> 0 | R37: =IF(P37>$E37,"ERROR","OK") -> OK | T37: =+S37*$C37 -> 0 | U37: =IF(S37>$E37,"ERROR","OK") -> OK | W37: =+V37*$C37 -> 0 | X37: =IF(V37>$E37,"ERROR","OK") -> OK | Z37: =+Y37*$C37 -> 0 | AA37: =IF(Y37>$E37,"ERROR","OK") -> OK | AC37: =+AB37*$C37 -> 0 | AD37: =IF(AB37>$E37,"ERROR","OK") -> OK | AF37: =+AE37*$C37 -> 0 | AG37: =IF(AE37>$E37,"ERROR","OK") -> OK | AI37: =+AH37*$C37 -> 0 | AJ37: =IF(AH37>$E37,"ERROR","OK") -> OK | AL37: =+AK37*$C37 -> 0 | AM37: =IF(AK37>$E37,"ERROR","OK") -> OK | AO37: =+AN37*$C37 -> 0 | AP37: =IF(AN37>$E37,"ERROR","OK") -> OK | AR37: =+AQ37*$C37 -> 0 | AS37: =IF(AQ37>$E37,"ERROR","OK") -> OK | AU37: =+AT37*$C37 -> 0 | AV37: =IF(AT37>$E37,"ERROR","OK") -> OK | AX37: =+AW37*$C37 -> 0 | AY37: =IF(AW37>$E37,"ERROR","OK") -> OK | BA37: =+AZ37*$C37 -> 0 | BB37: =IF(AZ37>$E37,"ERROR","OK") -> OK | BD37: =+BC37*$C37 -> 0 | BE37: =IF(BC37>$E37,"ERROR","OK") -> OK
A38: 32 | B38: Apartadó | C38: 1 | D38: UN | E38: 575147 | F38: =+C38*E38 -> 575147 | G38: 549800 | H38: =+G38*$C38 -> 549800 | I38: =IF(G38>$E38,"ERROR","OK") -> OK | J38: 569396 | K38: =+J38*$C38 -> 569396 | L38: =IF(J38>$E38,"ERROR","OK") -> OK | M38: 562494 | N38: =+M38*$C38 -> 562494 | O38: =IF(M38>$E38,"ERROR","OK") -> OK | P38: 480000 | Q38: =+P38*$C38 -> 480000 | R38: =IF(P38>$E38,"ERROR","OK") -> OK | S38: 415000 | T38: =+S38*$C38 -> 415000 | U38: =IF(S38>$E38,"ERROR","OK") -> OK | V38: 547759 | W38: =+V38*$C38 -> 547759 | X38: =IF(V38>$E38,"ERROR","OK") -> OK | Y38: 472311 | Z38: =+Y38*$C38 -> 472311 | AA38: =IF(Y38>$E38,"ERROR","OK") -> OK | AB38: 566520 | AC38: =+AB38*$C38 -> 566520 | AD38: =IF(AB38>$E38,"ERROR","OK") -> OK | AE38: 540638 | AF38: =+AE38*$C38 -> 540638 | AG38: =IF(AE38>$E38,"ERROR","OK") -> OK | AH38: 563644 | AI38: =+AH38*$C38 -> 563644 | AJ38: =IF(AH38>$E38,"ERROR","OK") -> OK | AK38: 575147 | AL38: =+AK38*$C38 -> 575147 | AM38: =IF(AK38>$E38,"ERROR","OK") -> OK | AN38: 546390 | AO38: =+AN38*$C38 -> 546390 | AP38: =IF(AN38>$E38,"ERROR","OK") -> OK | AQ38: 529135 | AR38: =+AQ38*$C38 -> 529135 | AS38: =IF(AQ38>$E38,"ERROR","OK") -> OK | AT38: 557893 | AU38: =+AT38*$C38 -> 557893 | AV38: =IF(AT38>$E38,"ERROR","OK") -> OK | AW38: 564391 | AX38: =+AW38*$C38 -> 564391 | AY38: =IF(AW38>$E38,"ERROR","OK") -> OK | AZ38: 430000 | BA38: =+AZ38*$C38 -> 430000 | BB38: =IF(AZ38>$E38,"ERROR","OK") -> OK | BC38: 450000 | BD38: =+BC38*$C38 -> 450000 | BE38: =IF(BC38>$E38,"ERROR","OK") -> OK
A39: 33 | B39: Barrancabermeja | C39: 1 | D39: UN | E39: 598947 | F39: =+C39*E39 -> 598947 | G39: 572500 | H39: =+G39*$C39 -> 572500 | I39: =IF(G39>$E39,"ERROR","OK") -> OK | J39: 592958 | K39: =+J39*$C39 -> 592958 | L39: =IF(J39>$E39,"ERROR","OK") -> OK | M39: 585770 | N39: =+M39*$C39 -> 585770 | O39: =IF(M39>$E39,"ERROR","OK") -> OK | P39: 480000 | Q39: =+P39*$C39 -> 480000 | R39: =IF(P39>$E39,"ERROR","OK") -> OK | S39: 430000 | T39: =+S39*$C39 -> 430000 | U39: =IF(S39>$E39,"ERROR","OK") -> OK | V39: 570426 | W39: =+V39*$C39 -> 570426 | X39: =IF(V39>$E39,"ERROR","OK") -> OK | Y39: 472311 | Z39: =+Y39*$C39 -> 472311 | AA39: =IF(Y39>$E39,"ERROR","OK") -> OK | AB39: 589963 | AC39: =+AB39*$C39 -> 589963 | AD39: =IF(AB39>$E39,"ERROR","OK") -> OK | AE39: 563010 | AF39: =+AE39*$C39 -> 563010 | AG39: =IF(AE39>$E39,"ERROR","OK") -> OK | AH39: 586968 | AI39: =+AH39*$C39 -> 586968 | AJ39: =IF(AH39>$E39,"ERROR","OK") -> OK | AK39: 598947 | AL39: =+AK39*$C39 -> 598947 | AM39: =IF(AK39>$E39,"ERROR","OK") -> OK | AN39: 569000 | AO39: =+AN39*$C39 -> 569000 | AP39: =IF(AN39>$E39,"ERROR","OK") -> OK | AQ39: 551031 | AR39: =+AQ39*$C39 -> 551031 | AS39: =IF(AQ39>$E39,"ERROR","OK") -> OK | AT39: 580979 | AU39: =+AT39*$C39 -> 580979 | AV39: =IF(AT39>$E39,"ERROR","OK") -> OK | AW39: 587746 | AX39: =+AW39*$C39 -> 587746 | AY39: =IF(AW39>$E39,"ERROR","OK") -> OK | AZ39: 440000 | BA39: =+AZ39*$C39 -> 440000 | BB39: =IF(AZ39>$E39,"ERROR","OK") -> OK | BC39: 450000 | BD39: =+BC39*$C39 -> 450000 | BE39: =IF(BC39>$E39,"ERROR","OK") -> OK
A40: 37 | B40: Cartagena | C40: 1 | D40: UN | E40: 552136 | F40: =+C40*E40 -> 552136 | G40: 527800 | H40: =+G40*$C40 -> 527800 | I40: =IF(G40>$E40,"ERROR","OK") -> OK | J40: 546615 | K40: =+J40*$C40 -> 546615 | L40: =IF(J40>$E40,"ERROR","OK") -> OK | M40: 539989 | N40: =+M40*$C40 -> 539989 | O40: =IF(M40>$E40,"ERROR","OK") -> OK | P40: 480000 | Q40: =+P40*$C40 -> 480000 | R40: =IF(P40>$E40,"ERROR","OK") -> OK | S40: 424000 | T40: =+S40*$C40 -> 424000 | U40: =IF(S40>$E40,"ERROR","OK") -> OK | V40: 525844 | W40: =+V40*$C40 -> 525844 | X40: =IF(V40>$E40,"ERROR","OK") -> OK | Y40: 472311 | Z40: =+Y40*$C40 -> 472311 | AA40: =IF(Y40>$E40,"ERROR","OK") -> OK | AB40: 543854 | AC40: =+AB40*$C40 -> 543854 | AD40: =IF(AB40>$E40,"ERROR","OK") -> OK | AE40: 519008 | AF40: =+AE40*$C40 -> 519008 | AG40: =IF(AE40>$E40,"ERROR","OK") -> OK | AH40: 541093 | AI40: =+AH40*$C40 -> 541093 | AJ40: =IF(AH40>$E40,"ERROR","OK") -> OK | AK40: 552136 | AL40: =+AK40*$C40 -> 552136 | AM40: =IF(AK40>$E40,"ERROR","OK") -> OK | AN40: 524529 | AO40: =+AN40*$C40 -> 524529 | AP40: =IF(AN40>$E40,"ERROR","OK") -> OK | AQ40: 507965 | AR40: =+AQ40*$C40 -> 507965 | AS40: =IF(AQ40>$E40,"ERROR","OK") -> OK | AT40: 535572 | AU40: =+AT40*$C40 -> 535572 | AV40: =IF(AT40>$E40,"ERROR","OK") -> OK | AW40: 541811.13 | AX40: =+AW40*$C40 -> 541811.13 | AY40: =IF(AW40>$E40,"ERROR","OK") -> OK | AZ40: 430000 | BA40: =+AZ40*$C40 -> 430000 | BB40: =IF(AZ40>$E40,"ERROR","OK") -> OK | BC40: 450000 | BD40: =+BC40*$C40 -> 450000 | BE40: =IF(BC40>$E40,"ERROR","OK") -> OK
B41: REPUESTOS PARA MANTENIMIENTO CORRECTIVO DE LOS AIRES ACONDICIONADOS EXISTENTES EN LAS OFICINAS DE LA ARN, INCLUIDA MANO DE OBRA, SEGÚN LAS ESPECIFICACIONES TECNICAS DESCRITAS EN ANEXO TECNICO ( IVA INCLUIDO) | F41: =+C41*E41 -> 0 | H41: =+G41*$C41 -> 0 | I41: =IF(G41>$E41,"ERROR","OK") -> OK | K41: =+J41*$C41 -> 0 | L41: =IF(J41>$E41,"ERROR","OK") -> OK | N41: =+M41*$C41 -> 0 | O41: =IF(M41>$E41,"ERROR","OK") -> OK | Q41: =+P41*$C41 -> 0 | R41: =IF(P41>$E41,"ERROR","OK") -> OK | T41: =+S41*$C41 -> 0 | U41: =IF(S41>$E41,"ERROR","OK") -> OK | W41: =+V41*$C41 -> 0 | X41: =IF(V41>$E41,"ERROR","OK") -> OK | Z41: =+Y41*$C41 -> 0 | AA41: =IF(Y41>$E41,"ERROR","OK") -> OK | AC41: =+AB41*$C41 -> 0 | AD41: =IF(AB41>$E41,"ERROR","OK") -> OK | AF41: =+AE41*$C41 -> 0 | AG41: =IF(AE41>$E41,"ERROR","OK") -> OK | AI41: =+AH41*$C41 -> 0 | AJ41: =IF(AH41>$E41,"ERROR","OK") -> OK | AL41: =+AK41*$C41 -> 0 | AM41: =IF(AK41>$E41,"ERROR","OK") -> OK | AO41: =+AN41*$C41 -> 0 | AP41: =IF(AN41>$E41,"ERROR","OK") -> OK | AR41: =+AQ41*$C41 -> 0 | AS41: =IF(AQ41>$E41,"ERROR","OK") -> OK | AU41: =+AT41*$C41 -> 0 | AV41: =IF(AT41>$E41,"ERROR","OK") -> OK | AX41: =+AW41*$C41 -> 0 | AY41: =IF(AW41>$E41,"ERROR","OK") -> OK | BA41: =+AZ41*$C41 -> 0 | BB41: =IF(AZ41>$E41,"ERROR","OK") -> OK | BD41: =+BC41*$C41 -> 0 | BE41: =IF(BC41>$E41,"ERROR","OK") -> OK
A42: 38 | B42: Serpentín | C42: 1 | D42: UN | E42: 773500 | F42: =+C42*E42 -> 773500 | G42: 773500 | H42: =+G42*$C42 -> 773500 | I42: =IF(G42>$E42,"ERROR","OK") -> OK | J42: 765765 | K42: =+J42*$C42 -> 765765 | L42: =IF(J42>$E42,"ERROR","OK") -> OK | M42: 756483 | N42: =+M42*$C42 -> 756483 | O42: =IF(M42>$E42,"ERROR","OK") -> OK | P42: 650000 | Q42: =+P42*$C42 -> 650000 | R42: =IF(P42>$E42,"ERROR","OK") -> OK | S42: 760000 | T42: =+S42*$C42 -> 760000 | U42: =IF(S42>$E42,"ERROR","OK") -> OK | V42: 716204 | W42: =+V42*$C42 -> 716204 | X42: =IF(V42>$E42,"ERROR","OK") -> OK | Y42: 734888 | Z42: =+Y42*$C42 -> 734888 | AA42: =IF(Y42>$E42,"ERROR","OK") -> OK | AB42: 761898 | AC42: =+AB42*$C42 -> 761898 | AD42: =IF(AB42>$E42,"ERROR","OK") -> OK | AE42: 742560 | AF42: =+AE42*$C42 -> 742560 | AG42: =IF(AE42>$E42,"ERROR","OK") -> OK | AH42: 758030 | AI42: =+AH42*$C42 -> 758030 | AJ42: =IF(AH42>$E42,"ERROR","OK") -> OK | AK42: 773500 | AL42: =+AK42*$C42 -> 773500 | AM42: =IF(AK42>$E42,"ERROR","OK") -> OK | AN42: 758030 | AO42: =+AN42*$C42 -> 758030 | AP42: =IF(AN42>$E42,"ERROR","OK") -> OK | AQ42: 711620 | AR42: =+AQ42*$C42 -> 711620 | AS42: =IF(AQ42>$E42,"ERROR","OK") -> OK | AT42: 750295 | AU42: =+AT42*$C42 -> 750295 | AV42: =IF(AT42>$E42,"ERROR","OK") -> OK | AW42: 759035 | AX42: =+AW42*$C42 -> 759035 | AY42: =IF(AW42>$E42,"ERROR","OK") -> OK | AZ42: 500000 | BA42: =+AZ42*$C42 -> 500000 | BB42: =IF(AZ42>$E42,"ERROR","OK") -> OK | BC42: 600000 | BD42: =+BC42*$C42 -> 600000 | BE42: =IF(BC42>$E42,"ERROR","OK") -> OK
A43: 39 | B43: Controles remoto | C43: 1 | D43: UN | E43: 117274 | F43: =+C43*E43 -> 117274 | G43: 117200 | H43: =+G43*$C43 -> 117200 | I43: =IF(G43>$E43,"ERROR","OK") -> OK | J43: 116101 | K43: =+J43*$C43 -> 116101 | L43: =IF(J43>$E43,"ERROR","OK") -> OK | M43: 114694 | N43: =+M43*$C43 -> 114694 | O43: =IF(M43>$E43,"ERROR","OK") -> OK | P43: 90000 | Q43: =+P43*$C43 -> 90000 | R43: =IF(P43>$E43,"ERROR","OK") -> OK | S43: 110000 | T43: =+S43*$C43 -> 110000 | U43: =IF(S43>$E43,"ERROR","OK") -> OK | V43: 108587 | W43: =+V43*$C43 -> 108587 | X43: =IF(V43>$E43,"ERROR","OK") -> OK | Y43: 111384 | Z43: =+Y43*$C43 -> 111384 | AA43: =IF(Y43>$E43,"ERROR","OK") -> OK | AB43: 115515 | AC43: =+AB43*$C43 -> 115515 | AD43: =IF(AB43>$E43,"ERROR","OK") -> OK | AE43: 112583 | AF43: =+AE43*$C43 -> 112583 | AG43: =IF(AE43>$E43,"ERROR","OK") -> OK | AH43: 114929 | AI43: =+AH43*$C43 -> 114929 | AJ43: =IF(AH43>$E43,"ERROR","OK") -> OK | AK43: 117274 | AL43: =+AK43*$C43 -> 117274 | AM43: =IF(AK43>$E43,"ERROR","OK") -> OK | AN43: 114929 | AO43: =+AN43*$C43 -> 114929 | AP43: =IF(AN43>$E43,"ERROR","OK") -> OK | AQ43: 107892 | AR43: =+AQ43*$C43 -> 107892 | AS43: =IF(AQ43>$E43,"ERROR","OK") -> OK | AT43: 113756 | AU43: =+AT43*$C43 -> 113756 | AV43: =IF(AT43>$E43,"ERROR","OK") -> OK | AW43: 115080 | AX43: =+AW43*$C43 -> 115080 | AY43: =IF(AW43>$E43,"ERROR","OK") -> OK | AZ43: 110000 | BA43: =+AZ43*$C43 -> 110000 | BB43: =IF(AZ43>$E43,"ERROR","OK") -> OK | BC43: 110000 | BD43: =+BC43*$C43 -> 110000 | BE43: =IF(BC43>$E43,"ERROR","OK") -> OK
A44: 40 | B44: Material de aislamiento | C44: 1 | D44: UN | E44: 20404 | F44: =+C44*E44 -> 20404 | G44: 20400 | H44: =+G44*$C44 -> 20400 | I44: =IF(G44>$E44,"ERROR","OK") -> OK | J44: 20200 | K44: =+J44*$C44 -> 20200 | L44: =IF(J44>$E44,"ERROR","OK") -> OK | M44: 19955 | N44: =+M44*$C44 -> 19955 | O44: =IF(M44>$E44,"ERROR","OK") -> OK | P44: 16000 | Q44: =+P44*$C44 -> 16000 | R44: =IF(P44>$E44,"ERROR","OK") -> OK | S44: 20000 | T44: =+S44*$C44 -> 20000 | U44: =IF(S44>$E44,"ERROR","OK") -> OK | V44: 18893 | W44: =+V44*$C44 -> 18893 | X44: =IF(V44>$E44,"ERROR","OK") -> OK | Y44: 19397 | Z44: =+Y44*$C44 -> 19397 | AA44: =IF(Y44>$E44,"ERROR","OK") -> OK | AB44: 20098 | AC44: =+AB44*$C44 -> 20098 | AD44: =IF(AB44>$E44,"ERROR","OK") -> OK | AE44: 19588 | AF44: =+AE44*$C44 -> 19588 | AG44: =IF(AE44>$E44,"ERROR","OK") -> OK | AH44: 19996 | AI44: =+AH44*$C44 -> 19996 | AJ44: =IF(AH44>$E44,"ERROR","OK") -> OK | AK44: 20404 | AL44: =+AK44*$C44 -> 20404 | AM44: =IF(AK44>$E44,"ERROR","OK") -> OK | AN44: 19996 | AO44: =+AN44*$C44 -> 19996 | AP44: =IF(AN44>$E44,"ERROR","OK") -> OK | AQ44: 18771 | AR44: =+AQ44*$C44 -> 18771 | AS44: =IF(AQ44>$E44,"ERROR","OK") -> OK | AT44: 19792 | AU44: =+AT44*$C44 -> 19792 | AV44: =IF(AT44>$E44,"ERROR","OK") -> OK | AW44: 20022 | AX44: =+AW44*$C44 -> 20022 | AY44: =IF(AW44>$E44,"ERROR","OK") -> OK | AZ44: 18000 | BA44: =+AZ44*$C44 -> 18000 | BB44: =IF(AZ44>$E44,"ERROR","OK") -> OK | BC44: 19000 | BD44: =+BC44*$C44 -> 19000 | BE44: =IF(BC44>$E44,"ERROR","OK") -> OK
A45: 41 | B45: Válvula Inversora | C45: 1 | D45: UN | E45: 298398 | F45: =+C45*E45 -> 298398 | G45: 298300 | H45: =+G45*$C45 -> 298300 | I45: =IF(G45>$E45,"ERROR","OK") -> OK | J45: 295414 | K45: =+J45*$C45 -> 295414 | L45: =IF(J45>$E45,"ERROR","OK") -> OK | M45: 291833 | N45: =+M45*$C45 -> 291833 | O45: =IF(M45>$E45,"ERROR","OK") -> OK | P45: 250000 | Q45: =+P45*$C45 -> 250000 | R45: =IF(P45>$E45,"ERROR","OK") -> OK | S45: 290000 | T45: =+S45*$C45 -> 290000 | U45: =IF(S45>$E45,"ERROR","OK") -> OK | V45: 276294 | W45: =+V45*$C45 -> 276294 | X45: =IF(V45>$E45,"ERROR","OK") -> OK | Y45: 283220 | Z45: =+Y45*$C45 -> 283220 | AA45: =IF(Y45>$E45,"ERROR","OK") -> OK | AB45: 293922 | AC45: =+AB45*$C45 -> 293922 | AD45: =IF(AB45>$E45,"ERROR","OK") -> OK | AE45: 286462 | AF45: =+AE45*$C45 -> 286462 | AG45: =IF(AE45>$E45,"ERROR","OK") -> OK | AH45: 292430 | AI45: =+AH45*$C45 -> 292430 | AJ45: =IF(AH45>$E45,"ERROR","OK") -> OK | AK45: 298398 | AL45: =+AK45*$C45 -> 298398 | AM45: =IF(AK45>$E45,"ERROR","OK") -> OK | AN45: 292430 | AO45: =+AN45*$C45 -> 292430 | AP45: =IF(AN45>$E45,"ERROR","OK") -> OK | AQ45: 274526 | AR45: =+AQ45*$C45 -> 274526 | AS45: =IF(AQ45>$E45,"ERROR","OK") -> OK | AT45: 289446 | AU45: =+AT45*$C45 -> 289446 | AV45: =IF(AT45>$E45,"ERROR","OK") -> OK | AW45: 292817 | AX45: =+AW45*$C45 -> 292817 | AY45: =IF(AW45>$E45,"ERROR","OK") -> OK | AZ45: 150000 | BA45: =+AZ45*$C45 -> 150000 | BB45: =IF(AZ45>$E45,"ERROR","OK") -> OK | BC45: 200000 | BD45: =+BC45*$C45 -> 200000 | BE45: =IF(BC45>$E45,"ERROR","OK") -> OK
A46: 42 | B46: Filtros de aire | C46: 1 | D46: UN | E46: 116715 | F46: =+C46*E46 -> 116715 | G46: 116700 | H46: =+G46*$C46 -> 116700 | I46: =IF(G46>$E46,"ERROR","OK") -> OK | J46: 115548 | K46: =+J46*$C46 -> 115548 | L46: =IF(J46>$E46,"ERROR","OK") -> OK | M46: 114147 | N46: =+M46*$C46 -> 114147 | O46: =IF(M46>$E46,"ERROR","OK") -> OK | P46: 92000 | Q46: =+P46*$C46 -> 92000 | R46: =IF(P46>$E46,"ERROR","OK") -> OK | S46: 110000 | T46: =+S46*$C46 -> 110000 | U46: =IF(S46>$E46,"ERROR","OK") -> OK | V46: 108069 | W46: =+V46*$C46 -> 108069 | X46: =IF(V46>$E46,"ERROR","OK") -> OK | Y46: 110670 | Z46: =+Y46*$C46 -> 110670 | AA46: =IF(Y46>$E46,"ERROR","OK") -> OK | AB46: 114964 | AC46: =+AB46*$C46 -> 114964 | AD46: =IF(AB46>$E46,"ERROR","OK") -> OK | AE46: 112046 | AF46: =+AE46*$C46 -> 112046 | AG46: =IF(AE46>$E46,"ERROR","OK") -> OK | AH46: 114381 | AI46: =+AH46*$C46 -> 114381 | AJ46: =IF(AH46>$E46,"ERROR","OK") -> OK | AK46: 116715 | AL46: =+AK46*$C46 -> 116715 | AM46: =IF(AK46>$E46,"ERROR","OK") -> OK | AN46: 114381 | AO46: =+AN46*$C46 -> 114381 | AP46: =IF(AN46>$E46,"ERROR","OK") -> OK | AQ46: 107377 | AR46: =+AQ46*$C46 -> 107377 | AS46: =IF(AQ46>$E46,"ERROR","OK") -> OK | AT46: 113214 | AU46: =+AT46*$C46 -> 113214 | AV46: =IF(AT46>$E46,"ERROR","OK") -> OK | AW46: 114532 | AX46: =+AW46*$C46 -> 114532 | AY46: =IF(AW46>$E46,"ERROR","OK") -> OK | AZ46: 60000 | BA46: =+AZ46*$C46 -> 60000 | BB46: =IF(AZ46>$E46,"ERROR","OK") -> OK | BC46: 80000 | BD46: =+BC46*$C46 -> 80000 | BE46: =IF(BC46>$E46,"ERROR","OK") -> OK
A47: 43 | B47: Terminales | C47: 1 | D47: UN | E47: 3019 | F47: =+C47*E47 -> 3019 | G47: 3000 | H47: =+G47*$C47 -> 3000 | I47: =IF(G47>$E47,"ERROR","OK") -> OK | J47: 2989 | K47: =+J47*$C47 -> 2989 | L47: =IF(J47>$E47,"ERROR","OK") -> OK | M47: 2953 | N47: =+M47*$C47 -> 2953 | O47: =IF(M47>$E47,"ERROR","OK") -> OK | P47: 2500 | Q47: =+P47*$C47 -> 2500 | R47: =IF(P47>$E47,"ERROR","OK") -> OK | S47: 2900 | T47: =+S47*$C47 -> 2900 | U47: =IF(S47>$E47,"ERROR","OK") -> OK | V47: 2795 | W47: =+V47*$C47 -> 2795 | X47: =IF(V47>$E47,"ERROR","OK") -> OK | Y47: 2856 | Z47: =+Y47*$C47 -> 2856 | AA47: =IF(Y47>$E47,"ERROR","OK") -> OK | AB47: 2974 | AC47: =+AB47*$C47 -> 2974 | AD47: =IF(AB47>$E47,"ERROR","OK") -> OK | AE47: 2898 | AF47: =+AE47*$C47 -> 2898 | AG47: =IF(AE47>$E47,"ERROR","OK") -> OK | AH47: 2959 | AI47: =+AH47*$C47 -> 2959 | AJ47: =IF(AH47>$E47,"ERROR","OK") -> OK | AK47: 3019 | AL47: =+AK47*$C47 -> 3019 | AM47: =IF(AK47>$E47,"ERROR","OK") -> OK | AN47: 2959 | AO47: =+AN47*$C47 -> 2959 | AP47: =IF(AN47>$E47,"ERROR","OK") -> OK | AQ47: 2777 | AR47: =+AQ47*$C47 -> 2777 | AS47: =IF(AQ47>$E47,"ERROR","OK") -> OK | AT47: 2928 | AU47: =+AT47*$C47 -> 2928 | AV47: =IF(AT47>$E47,"ERROR","OK") -> OK | AW47: 2962 | AX47: =+AW47*$C47 -> 2962 | AY47: =IF(AW47>$E47,"ERROR","OK") -> OK | AZ47: 3000 | BA47: =+AZ47*$C47 -> 3000 | BB47: =IF(AZ47>$E47,"ERROR","OK") -> OK | BC47: 3000 | BD47: =+BC47*$C47 -> 3000 | BE47: =IF(BC47>$E47,"ERROR","OK") -> OK
A48: 44 | B48: Rodamientos | C48: 1 | D48: UN | E48: 95898 | F48: =+C48*E48 -> 95898 | G48: 95800 | H48: =+G48*$C48 -> 95800 | I48: =IF(G48>$E48,"ERROR","OK") -> OK | J48: 94939 | K48: =+J48*$C48 -> 94939 | L48: =IF(J48>$E48,"ERROR","OK") -> OK | M48: 93788 | N48: =+M48*$C48 -> 93788 | O48: =IF(M48>$E48,"ERROR","OK") -> OK | P48: 88000 | Q48: =+P48*$C48 -> 88000 | R48: =IF(P48>$E48,"ERROR","OK") -> OK | S48: 90000 | T48: =+S48*$C48 -> 90000 | U48: =IF(S48>$E48,"ERROR","OK") -> OK | V48: 88794 | W48: =+V48*$C48 -> 88794 | X48: =IF(V48>$E48,"ERROR","OK") -> OK | Y48: 90440 | Z48: =+Y48*$C48 -> 90440 | AA48: =IF(Y48>$E48,"ERROR","OK") -> OK | AB48: 94460 | AC48: =+AB48*$C48 -> 94460 | AD48: =IF(AB48>$E48,"ERROR","OK") -> OK | AE48: 92062 | AF48: =+AE48*$C48 -> 92062 | AG48: =IF(AE48>$E48,"ERROR","OK") -> OK | AH48: 93980 | AI48: =+AH48*$C48 -> 93980 | AJ48: =IF(AH48>$E48,"ERROR","OK") -> OK | AK48: 95898 | AL48: =+AK48*$C48 -> 95898 | AM48: =IF(AK48>$E48,"ERROR","OK") -> OK | AN48: 93980 | AO48: =+AN48*$C48 -> 93980 | AP48: =IF(AN48>$E48,"ERROR","OK") -> OK | AQ48: 88226 | AR48: =+AQ48*$C48 -> 88226 | AS48: =IF(AQ48>$E48,"ERROR","OK") -> OK | AT48: 93021 | AU48: =+AT48*$C48 -> 93021 | AV48: =IF(AT48>$E48,"ERROR","OK") -> OK | AW48: 94104 | AX48: =+AW48*$C48 -> 94104 | AY48: =IF(AW48>$E48,"ERROR","OK") -> OK | AZ48: 40000 | BA48: =+AZ48*$C48 -> 40000 | BB48: =IF(AZ48>$E48,"ERROR","OK") -> OK | BC48: 50000 | BD48: =+BC48*$C48 -> 50000 | BE48: =IF(BC48>$E48,"ERROR","OK") -> OK
A49: 45 | B49: Sensores de Temperatura | C49: 1 | D49: UN | E49: 119098 | F49: =+C49*E49 -> 119098 | G49: 119000 | H49: =+G49*$C49 -> 119000 | I49: =IF(G49>$E49,"ERROR","OK") -> OK | J49: 117907 | K49: =+J49*$C49 -> 117907 | L49: =IF(J49>$E49,"ERROR","OK") -> OK | M49: 116478 | N49: =+M49*$C49 -> 116478 | O49: =IF(M49>$E49,"ERROR","OK") -> OK | P49: 95000 | Q49: =+P49*$C49 -> 95000 | R49: =IF(P49>$E49,"ERROR","OK") -> OK | S49: 110000 | T49: =+S49*$C49 -> 110000 | U49: =IF(S49>$E49,"ERROR","OK") -> OK | V49: 110276 | W49: =+V49*$C49 -> 110276 | X49: =IF(V49>$E49,"ERROR","OK") -> OK | Y49: 113050 | Z49: =+Y49*$C49 -> 113050 | AA49: =IF(Y49>$E49,"ERROR","OK") -> OK | AB49: 117312 | AC49: =+AB49*$C49 -> 117312 | AD49: =IF(AB49>$E49,"ERROR","OK") -> OK | AE49: 114334 | AF49: =+AE49*$C49 -> 114334 | AG49: =IF(AE49>$E49,"ERROR","OK") -> OK | AH49: 116716 | AI49: =+AH49*$C49 -> 116716 | AJ49: =IF(AH49>$E49,"ERROR","OK") -> OK | AK49: 119098 | AL49: =+AK49*$C49 -> 119098 | AM49: =IF(AK49>$E49,"ERROR","OK") -> OK | AN49: 116716 | AO49: =+AN49*$C49 -> 116716 | AP49: =IF(AN49>$E49,"ERROR","OK") -> OK | AQ49: 109570 | AR49: =+AQ49*$C49 -> 109570 | AS49: =IF(AQ49>$E49,"ERROR","OK") -> OK | AT49: 115525 | AU49: =+AT49*$C49 -> 115525 | AV49: =IF(AT49>$E49,"ERROR","OK") -> OK | AW49: 116870 | AX49: =+AW49*$C49 -> 116870 | AY49: =IF(AW49>$E49,"ERROR","OK") -> OK | AZ49: 40000 | BA49: =+AZ49*$C49 -> 40000 | BB49: =IF(AZ49>$E49,"ERROR","OK") -> OK | BC49: 50000 | BD49: =+BC49*$C49 -> 50000 | BE49: =IF(BC49>$E49,"ERROR","OK") -> OK
A50: 46 | B50: Desagües | C50: 1 | D50: UN | E50: 71301 | F50: =+C50*E50 -> 71301 | G50: 71300 | H50: =+G50*$C50 -> 71300 | I50: =IF(G50>$E50,"ERROR","OK") -> OK | J50: 70588 | K50: =+J50*$C50 -> 70588 | L50: =IF(J50>$E50,"ERROR","OK") -> OK | M50: 69732 | N50: =+M50*$C50 -> 69732 | O50: =IF(M50>$E50,"ERROR","OK") -> OK | P50: 62000 | Q50: =+P50*$C50 -> 62000 | R50: =IF(P50>$E50,"ERROR","OK") -> OK | S50: 69000 | T50: =+S50*$C50 -> 69000 | U50: =IF(S50>$E50,"ERROR","OK") -> OK | V50: 66019 | W50: =+V50*$C50 -> 66019 | X50: =IF(V50>$E50,"ERROR","OK") -> OK | Y50: 66640 | Z50: =+Y50*$C50 -> 66640 | AA50: =IF(Y50>$E50,"ERROR","OK") -> OK | AB50: 70231 | AC50: =+AB50*$C50 -> 70231 | AD50: =IF(AB50>$E50,"ERROR","OK") -> OK | AE50: 68449 | AF50: =+AE50*$C50 -> 68449 | AG50: =IF(AE50>$E50,"ERROR","OK") -> OK | AH50: 69875 | AI50: =+AH50*$C50 -> 69875 | AJ50: =IF(AH50>$E50,"ERROR","OK") -> OK | AK50: 71301 | AL50: =+AK50*$C50 -> 71301 | AM50: =IF(AK50>$E50,"ERROR","OK") -> OK | AN50: 69875 | AO50: =+AN50*$C50 -> 69875 | AP50: =IF(AN50>$E50,"ERROR","OK") -> OK | AQ50: 65596 | AR50: =+AQ50*$C50 -> 65596 | AS50: =IF(AQ50>$E50,"ERROR","OK") -> OK | AT50: 69162 | AU50: =+AT50*$C50 -> 69162 | AV50: =IF(AT50>$E50,"ERROR","OK") -> OK | AW50: 69967 | AX50: =+AW50*$C50 -> 69967 | AY50: =IF(AW50>$E50,"ERROR","OK") -> OK | AZ50: 50000 | BA50: =+AZ50*$C50 -> 50000 | BB50: =IF(AZ50>$E50,"ERROR","OK") -> OK | BC50: 60000 | BD50: =+BC50*$C50 -> 60000 | BE50: =IF(BC50>$E50,"ERROR","OK") -> OK
A51: 47 | B51: Borneras | C51: 1 | D51: UN | E51: 30604 | F51: =+C51*E51 -> 30604 | G51: 30600 | H51: =+G51*$C51 -> 30600 | I51: =IF(G51>$E51,"ERROR","OK") -> OK | J51: 30298 | K51: =+J51*$C51 -> 30298 | L51: =IF(J51>$E51,"ERROR","OK") -> OK | M51: 29931 | N51: =+M51*$C51 -> 29931 | O51: =IF(M51>$E51,"ERROR","OK") -> OK | P51: 25000 | Q51: =+P51*$C51 -> 25000 | R51: =IF(P51>$E51,"ERROR","OK") -> OK | S51: 29000 | T51: =+S51*$C51 -> 29000 | U51: =IF(S51>$E51,"ERROR","OK") -> OK | V51: 28337 | W51: =+V51*$C51 -> 28337 | X51: =IF(V51>$E51,"ERROR","OK") -> OK | Y51: 28560 | Z51: =+Y51*$C51 -> 28560 | AA51: =IF(Y51>$E51,"ERROR","OK") -> OK | AB51: 30145 | AC51: =+AB51*$C51 -> 30145 | AD51: =IF(AB51>$E51,"ERROR","OK") -> OK | AE51: 29380 | AF51: =+AE51*$C51 -> 29380 | AG51: =IF(AE51>$E51,"ERROR","OK") -> OK | AH51: 29992 | AI51: =+AH51*$C51 -> 29992 | AJ51: =IF(AH51>$E51,"ERROR","OK") -> OK | AK51: 30604 | AL51: =+AK51*$C51 -> 30604 | AM51: =IF(AK51>$E51,"ERROR","OK") -> OK | AN51: 29992 | AO51: =+AN51*$C51 -> 29992 | AP51: =IF(AN51>$E51,"ERROR","OK") -> OK | AQ51: 28155 | AR51: =+AQ51*$C51 -> 28155 | AS51: =IF(AQ51>$E51,"ERROR","OK") -> OK | AT51: 29686 | AU51: =+AT51*$C51 -> 29686 | AV51: =IF(AT51>$E51,"ERROR","OK") -> OK | AW51: 30031 | AX51: =+AW51*$C51 -> 30031 | AY51: =IF(AW51>$E51,"ERROR","OK") -> OK | AZ51: 20000 | BA51: =+AZ51*$C51 -> 20000 | BB51: =IF(AZ51>$E51,"ERROR","OK") -> OK | BC51: 25000 | BD51: =+BC51*$C51 -> 25000 | BE51: =IF(BC51>$E51,"ERROR","OK") -> OK
A52: 48 | B52: Chumaceras | C52: 1 | D52: UN | E52: 83522 | F52: =+C52*E52 -> 83522 | G52: 83500 | H52: =+G52*$C52 -> 83500 | I52: =IF(G52>$E52,"ERROR","OK") -> OK | J52: 82687 | K52: =+J52*$C52 -> 82687 | L52: =IF(J52>$E52,"ERROR","OK") -> OK | M52: 81685 | N52: =+M52*$C52 -> 81685 | O52: =IF(M52>$E52,"ERROR","OK") -> OK | P52: 71000 | Q52: =+P52*$C52 -> 71000 | R52: =IF(P52>$E52,"ERROR","OK") -> OK | S52: 80000 | T52: =+S52*$C52 -> 80000 | U52: =IF(S52>$E52,"ERROR","OK") -> OK | V52: 77335 | W52: =+V52*$C52 -> 77335 | X52: =IF(V52>$E52,"ERROR","OK") -> OK | Y52: 78540 | Z52: =+Y52*$C52 -> 78540 | AA52: =IF(Y52>$E52,"ERROR","OK") -> OK | AB52: 82269 | AC52: =+AB52*$C52 -> 82269 | AD52: =IF(AB52>$E52,"ERROR","OK") -> OK | AE52: 80181 | AF52: =+AE52*$C52 -> 80181 | AG52: =IF(AE52>$E52,"ERROR","OK") -> OK | AH52: 81852 | AI52: =+AH52*$C52 -> 81852 | AJ52: =IF(AH52>$E52,"ERROR","OK") -> OK | AK52: 83522 | AL52: =+AK52*$C52 -> 83522 | AM52: =IF(AK52>$E52,"ERROR","OK") -> OK | AN52: 81852 | AO52: =+AN52*$C52 -> 81852 | AP52: =IF(AN52>$E52,"ERROR","OK") -> OK | AQ52: 76840 | AR52: =+AQ52*$C52 -> 76840 | AS52: =IF(AQ52>$E52,"ERROR","OK") -> OK | AT52: 81016 | AU52: =+AT52*$C52 -> 81016 | AV52: =IF(AT52>$E52,"ERROR","OK") -> OK | AW52: 81960 | AX52: =+AW52*$C52 -> 81960 | AY52: =IF(AW52>$E52,"ERROR","OK") -> OK | AZ52: 50000 | BA52: =+AZ52*$C52 -> 50000 | BB52: =IF(AZ52>$E52,"ERROR","OK") -> OK | BC52: 60000 | BD52: =+BC52*$C52 -> 60000 | BE52: =IF(BC52>$E52,"ERROR","OK") -> OK
A53: 49 | B53: Capacitores de arranque o marcha | C53: 1 | D53: UN | E53: 49191 | F53: =+C53*E53 -> 49191 | G53: 49100 | H53: =+G53*$C53 -> 49100 | I53: =IF(G53>$E53,"ERROR","OK") -> OK | J53: 48699 | K53: =+J53*$C53 -> 48699 | L53: =IF(J53>$E53,"ERROR","OK") -> OK | M53: 48109 | N53: =+M53*$C53 -> 48109 | O53: =IF(M53>$E53,"ERROR","OK") -> OK | P53: 35000 | Q53: =+P53*$C53 -> 35000 | R53: =IF(P53>$E53,"ERROR","OK") -> OK | S53: 48000 | T53: =+S53*$C53 -> 48000 | U53: =IF(S53>$E53,"ERROR","OK") -> OK | V53: 45547 | W53: =+V53*$C53 -> 45547 | X53: =IF(V53>$E53,"ERROR","OK") -> OK | Y53: 46410 | Z53: =+Y53*$C53 -> 46410 | AA53: =IF(Y53>$E53,"ERROR","OK") -> OK | AB53: 48453 | AC53: =+AB53*$C53 -> 48453 | AD53: =IF(AB53>$E53,"ERROR","OK") -> OK | AE53: 47223 | AF53: =+AE53*$C53 -> 47223 | AG53: =IF(AE53>$E53,"ERROR","OK") -> OK | AH53: 48207 | AI53: =+AH53*$C53 -> 48207 | AJ53: =IF(AH53>$E53,"ERROR","OK") -> OK | AK53: 49191 | AL53: =+AK53*$C53 -> 49191 | AM53: =IF(AK53>$E53,"ERROR","OK") -> OK | AN53: 48207 | AO53: =+AN53*$C53 -> 48207 | AP53: =IF(AN53>$E53,"ERROR","OK") -> OK | AQ53: 45255 | AR53: =+AQ53*$C53 -> 45255 | AS53: =IF(AQ53>$E53,"ERROR","OK") -> OK | AT53: 47715 | AU53: =+AT53*$C53 -> 47715 | AV53: =IF(AT53>$E53,"ERROR","OK") -> OK | AW53: 48271 | AX53: =+AW53*$C53 -> 48271 | AY53: =IF(AW53>$E53,"ERROR","OK") -> OK | AZ53: 29000 | BA53: =+AZ53*$C53 -> 29000 | BB53: =IF(AZ53>$E53,"ERROR","OK") -> OK | BC53: 30000 | BD53: =+BC53*$C53 -> 30000 | BE53: =IF(BC53>$E53,"ERROR","OK") -> OK
