Workbook

Sheet EMPRESAS
A1: Nombre cliente
A2: FORTOX SA
A3: FUNDACIÓN MEDICA MIRA TU SALUD
A4: ACCION DEL CAUCA SA
A5: ACCIONES y SERVICIOS S.A.S
A6: CORPORACION CENTRO HOLISTICO CCH
A7: CONVERSIONES INDUSTRIALES RAYSAN LTDA
A8: DIEGO ALBERTO LOAIZA
A9: FUNDACION GLORIA RESTREPO DE MEJIA
A10: DAR AYUDA TEMPORAL SA
A11: SERVICIOS ESPECIALIZADOS SERVICOL S.A.S
A12: EJE PALIATIVOS SAS
... A258: INDICONS ASOCIADOS S.A.S

Sheet MES A MES 
A1: Nombre cliente | B1: Identificación | C1: Teléfono | D1: Detalle vencimiento | E1: FACTURA | F1: Vencido mas de 121 | G1: Fecha vencimiento | H1: Deuda por cobrar | I1: Vencid | J1: Vencido de 91-120 | K1: Vencido de 61-90 | L1: Vencido de 31-60 | M1: Vencido de 16-30 | N1: Vencido de 1-15 | O1: 0 días (Hoy) | P1: Por vencer 1-7 | Q1: Por vencer 8-15 | R1: Por vencer 16-30 | S1: Por vencer 31-60 | T1: Por vencer mas de 61
A2: FORTOX SA | B2: 860046201 | C2: 032-4874747-2366 | D2: FV-5-10938 | E2: =RIGHT(D2,5) -> 10938 | F2: Julio | G2: 08/08/2021 | H2: 46000 | I2: =SUM(H2:H129) -> 79448990 | R2: 46000
A3: ACCION DEL CAUCA SA | B3: 805022756 | C3: -3174374522- | D3: FV-5-10914 | E3: =RIGHT(D3,5) -> 10914 | F3: Julio | G3: 07/08/2021 | H3: 1664241 | R3: 1664241
A4: CORPORACION CENTRO HOLISTICO CCH | B4: 900309408 | C4: -3185781064- | D4: FV-5-10904 | E4: =RIGHT(D4,5) -> 10904 | F4: Julio | G4: 07/08/2021 | H4: 2169230 | R4: 2169230
A5: CONVERSIONES INDUSTRIALES RAYSAN LTDA | B5: 816007686 | C5: 57-1-1 | D5: FV-5-10878 | E5: =RIGHT(D5,5) -> 10878 | F5: Julio | G5: 06/08/2021 | H5: 637980 | R5: 637980
A6: DAR AYUDA TEMPORAL SA | B6: 890922487 | C6: 57-3113845399- | D6: FV-5-10869 | E6: =RIGHT(D6,5) -> 10869 | F6: Julio | G6: 06/08/2021 | H6: 761562 | R6: 761562
A7: DAR AYUDA TEMPORAL SA | B7: 890922487 | C7: 57-3113845399- | D7: FV-5-10868 | E7: =RIGHT(D7,5) -> 10868 | F7: Julio | G7: 06/08/2021 | H7: 130845 | R7: 130845
A8: SERVICIOS ESPECIALIZADOS SERVICOL S.A.S | B8: 900568326 | C8: 57-3113548415-1@-3257222- | D8: FV-5-10864 | E8: =RIGHT(D8,5) -> 10864 | F8: Julio | G8: 06/08/2021 | H8: 98387 | R8: 98387
A9: SERVICIOS ESPECIALIZADOS SERVICOL S.A.S | B9: 900568326 | C9: 57-3113548415-1@-3257222- | D9: FV-5-10863 | E9: =RIGHT(D9,5) -> 10863 | F9: Julio | G9: 06/08/2021 | H9: 417911 | R9: 417911
A10: SERVICIOS ESPECIALIZADOS SERVICOL S.A.S | B10: 900568326 | C10: 57-3113548415-1@-3257222- | D10: FV-5-10862 | E10: =RIGHT(D10,5) -> 10862 | F10: Julio | G10: 06/08/2021 | H10: 830712 | R10: 830712
A11: EJE PALIATIVOS SAS | B11: 901051551 | C11: 036-3422756- | D11: FV-5-10852 | E11: =RIGHT(D11,5) -> 10852 | F11: Julio | G11: 22/07/2021 | H11: 23000 | Q11: 23000
A12: LA S.A. SOCIEDAD DE APOYO AERONAUTICO SA | B12: 800139545 | C12: 57-6051563-1@-3183745555- | D12: FV-5-10850 | E12: =RIGHT(D12,5) -> 10850 | F12: Julio | G12: 06/08/2021 | H12: 614460 | R12: 614460
A13: SICTE SAS | B13: 830113252 | C13: 57-7450900-1 | D13: FV-5-10849 | E13: =RIGHT(D13,5) -> 10849 | F13: Julio | G13: 06/08/2021 | H13: 1195600 | R13: 1195600
A14: Transportes Sanchez Polo S.A | B14: 890103161 | C14: 57-1-1 | D14: FV-5-10845 | E14: =RIGHT(D14,5) -> 10845 | F14: Julio | G14: 22/07/2021 | H14: 85000 | Q14: 85000
A15: WORK CONSTRUCCIONES S.A.S | B15: 900618371 | C15: 57-1-1 | D15: FV-5-10837 | E15: =RIGHT(D15,5) -> 10837 | F15: Julio | G15: 06/08/2021 | H15: 8517000 | R15: 8517000
A16: EMPRESA DE ACUEDUCTO Y ALCANTARILLADO DE PEREIRA SA ESP | B16: 816002020 | C16: 57-1-1 | D16: FV-5-10835 | E16: =RIGHT(D16,5) -> 10835 | F16: Julio | G16: 06/08/2021 | H16: 540000 | R16: 540000
A17: Grupo Gemas SAS | B17: 900505594 | C17: 57-1-1 | D17: FV-5-10834 | E17: =RIGHT(D17,5) -> 10834 | F17: Julio | G17: 22/07/2021 | H17: 46000 | Q17: 46000
A18: INDUSTRIA COLOMBIANA DE LOGISTICA Y TRANSPORTE SAS | B18: 860070995 | C18: 036-3164027639- | D18: FV-5-10833 | E18: =RIGHT(D18,5) -> 10833 | F18: Julio | G18: 06/08/2021 | H18: 810000 | R18: 810000
A19: JAIME ALBERTO RUIZ SANZ | B19: 10235757 | C19: 036-3205218- | D19: FV-5-10830 | E19: =RIGHT(D19,5) -> 10830 | F19: Julio | G19: 06/08/2021 | H19: 114170 | R19: 114170
A20: CONSTRU-ETIKA S.A.S. | B20: 901214791 | C20: 57-3137142300-1 | D20: FV-5-10829 | E20: =RIGHT(D20,5) -> 10829 | F20: Julio | G20: 06/08/2021 | H20: 338100 | R20: 338100
A21: COFFEWORLD SAS | B21: 901383798 | C21: 036-3013040682- | D21: FV-5-10827 | E21: =RIGHT(D21,5) -> 10827 | F21: Julio | G21: 06/08/2021 | H21: 960400 | R21: 960400
A22: FONDO DE EMPLEADOS CRECER | B22: 900731590 | C22: 036-3104408634-1 | D22: FV-5-10824 | E22: =RIGHT(D22,5) -> 10824 | F22: Julio | G22: 22/07/2021 | H22: 23000 | Q22: 23000
A23: REYVELT MEDICINA ESPECIALIZADA SAS | B23: 900868701 | C23: 57-3118741368-1 | D23: FV-5-10820 | E23: =RIGHT(D23,5) -> 10820 | F23: Julio | G23: 05/08/2021 | H23: 545860 | R23: 545860
A24: SOLO FACHADAZ SAS | B24: 900630888 | C24: 036-3267560- | D24: FV-5-10819 | E24: =RIGHT(D24,5) -> 10819 | F24: Julio | G24: 05/08/2021 | H24: 958000 | R24: 958000
A25: JUVENAL PARRA VEGA | B25: 12107192 | C25: 036-3175050568- | D25: FV-5-10818 | E25: =RIGHT(D25,5) -> 10818 | F25: Julio | G25: 21/07/2021 | H25: 69000 | Q25: 69000
A26: NOVA SEGURIDAD PRIVADA LIMITADA | B26: 900983925 | C26: 57-3124149443-1 | D26: FV-5-10816 | E26: =RIGHT(D26,5) -> 10816 | F26: Julio | G26: 21/07/2021 | H26: 45000 | Q26: 45000
A27: TRANDECOL SAS | B27: 900724450 | C27: 57-3157317838-1 | D27: FV-5-10815 | E27: =RIGHT(D27,5) -> 10815 | F27: Julio | G27: 21/07/2021 | H27: 22540 | Q27: 22540
A28: Cocinando Sonrisas Sas | B28: 900838525 | C28: 036-3386992-1 | D28: FV-5-10814 | E28: =RIGHT(D28,5) -> 10814 | F28: Julio | G28: 05/08/2021 | H28: 973140 | R28: 973140
A29: MANPOWER DE COLOMBIA LTDA | B29: 890916883 | C29: 036-3155861281- | D29: FV-5-10813 | E29: =RIGHT(D29,5) -> 10813 | F29: Julio | G29: 05/08/2021 | H29: 1451380 | R29: 1451380
A30: MORRINSON LAM S.A.S | B30: 900407903 | C30: 57-3420514-1@-3207750766- | D30: FV-5-10811 | E30: =RIGHT(D30,5) -> 10811 | F30: Julio | G30: 05/08/2021 | H30: 202860 | R30: 202860
A31: REACCIONAR LTDA | B31: 816007117 | C31: 57-3136490503- | D31: FV-5-10809 | E31: =RIGHT(D31,5) -> 10809 | F31: Julio | G31: 21/07/2021 | H31: 23000 | Q31: 23000
A32: COOPERATIVA URBANOS DE PEREIRA | B32: 891401267 | C32: 036-3214070- | D32: FV-5-10808 | E32: =RIGHT(D32,5) -> 10808 | F32: Julio | G32: 05/08/2021 | H32: 1080940 | R32: 1080940
A33: EL ARQUITECTO MATERIALES PARA CONSTRUCCION S.A | B33: 800123057 | C33: 57-1-1 | D33: FV-5-10806 | E33: =RIGHT(D33,5) -> 10806 | F33: Julio | G33: 21/07/2021 | H33: 92000 | Q33: 92000
A34: CONSTRUCCIONES ROC | B34: 900641236 | C34: 036-3104214875- | D34: FV-5-10805 | E34: =RIGHT(D34,5) -> 10805 | F34: Julio | G34: 05/08/2021 | H34: 974000 | R34: 974000
A35: GC INTEGRAL GROUP SAS | B35: 900512545 | C35: 57-3300001-1@-3504222689- | D35: FV-5-10804 | E35: =RIGHT(D35,5) -> 10804 | F35: Julio | G35: 21/07/2021 | H35: 23000 | Q35: 23000
A36: ACABADOS ARQUITECTONICOS DUQUE SAS | B36: 900409335 | C36: 57-3167893305-1 | D36: FV-5-10801 | E36: =RIGHT(D36,5) -> 10801 | F36: Julio | G36: 21/07/2021 | H36: 90000 | Q36: 90000
A37: PASO REAL S.A.S | B37: 816006830 | C37: 57-1-1 | D37: FV-5-10800 | E37: =RIGHT(D37,5) -> 10800 | F37: Julio | G37: 20/07/2021 | H37: 55000 | Q37: 55000
A38: Hospi Clean Sas | B38: 900771508 | C38: 036-3117069-1 | D38: FV-5-10798 | E38: =RIGHT(D38,5) -> 10798 | F38: Julio | G38: 05/08/2021 | H38: 338100 | R38: 338100
A39: C&G LOGISTICA Y TRANSPORTE SAS | B39: 901394117 | C39: 57-315537286- | D39: FV-5-10797 | E39: =RIGHT(D39,5) -> 10797 | F39: Julio | G39: 05/08/2021 | H39: 170000 | R39: 170000
A40: COOPERATIVA MULTIACTIVA DE CHOFERES DE PEREIRA | B40: 891400089 | C40: 57-3174017523-1 | D40: FV-5-10795 | E40: =RIGHT(D40,5) -> 10795 | F40: Julio | G40: 21/07/2021 | H40: 46000 | Q40: 46000
...

Sheet LENTES 
A1: Nombre cliente | B1: Identificación | C1: Teléfono | D1: Detalle vencimiento | E1: FACTURA | F1: Vencido mas de 121 | G1: Fecha vencimiento | H1: Deuda por cobrar
A2: LINA URIBE RODRIGUEZ | B2: 1060588800 | C2: 036-3043752167- | D2: FV-5-10930 | E2: 10930 | F2: Julio | G2: 08/08/2021 | H2: 600000
A3: ALEJANDRA TABARES NARANJO | B3: 24695073 | C3: 036-3137033303- | D3: FV-5-10927 | E3: 10927 | F3: Julio | G3: 08/08/2021 | H3: 230000
A4: PAULA ANDREA ALVAREZ ARGOTY | B4: 1004528360 | C4: 036-3135495361- | D4: FV-5-10488 | E4: 10488 | F4: Junio | G4: 29/07/2021 | H4: 150000
A5: LEGON TELECOMUNICACIONES | B5: 800179562 | C5: 57-1-1 | D5: FV-5-10487 | E5: 10487 | F5: Junio | G5: 29/07/2021 | H5: 210000
A6: ESTATAL DE SEGURIDAD LTDA | B6: 816004965 | C6: 57-3122388156- | D6: FV-5-10486 | E6: 10486 | F6: Junio | G6: 29/07/2021 | H6: 180000
A7: COATS CADENA ANDINA SA | B7: 890900265 | C7: 036-3398200- | D7: FV-5-10485 | E7: 10485 | F7: Junio | G7: 29/07/2021 | H7: 400000 | I7: no enviada
A8: MANUEL ALEJANDRO JARAMILLO GARZON | B8: 1088316551 | C8: -3126516360- | D8: FV-5-10484 | E8: 10484 | F8: Junio | G8: 29/07/2021 | H8: 175000
A9: ASOCIACION LATINA DE TELECOMUNICACIONES SOCIEDAD POR ACCIONES SIMPLIFICADA | B9: 900356346 | C9: 036-3127099834- | D9: FV-5-10483 | E9: 10483 | F9: Junio | G9: 29/07/2021 | H9: 250000
A10: CORPORACION CLUB CAMPESTRE PEREIRA | B10: 891400467 | C10: 57-3119285-1 | D10: FV-5-10482 | E10: 10482 | F10: Junio | G10: 29/07/2021 | H10: 730000
A11: FRANCISCO JAVIER RAVE CORREA | B11: 10139643 | C11: 036-3117654355- | D11: FV-5-10481 | E11: 10481 | F11: Junio | G11: 29/07/2021 | H11: 100000
A12: FONDO DE EMPLEADOS CRECER | B12: 900731590 | C12: 036-3104408634-1 | D12: FV-5-10387 | E12: 10387 | F12: Junio | G12: 24/07/2021 | H12: 180000
A13: MARTHA LUCIA IZQUIERDO LOPEZ | B13: 30393577 | C13: 036-3178932023- | D13: FV-5-10386 | E13: 10386 | F13: Junio | G13: 24/07/2021 | H13: 250000
A14: CONSTRUCCIONES MURAL SAS | B14: 900675765 | C14: 57-3413054-1@-314586233- | D14: FV-5-10385 | E14: 10385 | F14: Junio | G14: 24/07/2021 | H14: 300000
A15: COATS CADENA ANDINA SA | B15: 890900265 | C15: 036-3398200- | D15: FV-5-10384 | E15: 10384 | F15: Junio | G15: 24/07/2021 | H15: 400000 | I15: no enviada
A16: IVAN RENE GIRALDO GARCIA | B16: 1111799934 | C16: 036-3163831353- | D16: FV-5-10381 | E16: 10381 | F16: Junio | G16: 24/07/2021 | H16: 190000
A17: EDWIN JULIAN MELCHOR CARMONA | B17: 1088008897 | C17: 036-3234152403- | D17: FV-5-10361 | E17: 10361 | F17: Junio | G17: 09/07/2021 | H17: 100000
A18: ETELVINA CUBIDES SALAMANCA | B18: 40387521 | C18: -3126516360- | D18: FV-5-10233 | E18: 10233 | F18: Junio | G18: 25/06/2021 | H18: 170000
A19: ESTATAL DE SEGURIDAD LTDA | B19: 816004965 | C19: 57-3122388156- | D19: FV-5-10216 | E19: 10216 | F19: Junio | G19: 17/07/2021 | H19: 360000
A20: FONDO DE EMPLEADOS DE FORTOX | B20: 800172362 | C20: 036-3226850697- | D20: FV-5-10161 | E20: 10161 | F20: Junio | G20: 15/07/2021 | H20: 400000
A21: MANUEL ALVEIRO TARAZONA RAMIREZ | B21: 1127924514 | C21: 036-3126099316- | D21: FV-5-10002 | E21: 10002 | F21: Junio | G21: 23/06/2021 | H21: 180000
A22: DORA MUÑOS GRAJALES | B22: 24999064 | C22: 036-3164397654- | D22: FV-5-9734 | E22: 9734 | F22: mayo | G22: 30/06/2021 | H22: 500000
A23: YOBANY RODRIGUEZ CAMPUZANO | B23: 10051355 | C23: 036-3116113639- | D23: FV-5-9729 | E23: 9729 | F23: mayo | G23: 30/07/2021 | H23: 120000
A25: JUAN MANUEL MORALES ZAMBRANO | B25: 79509958 | C25: 036-3115453653- | D25: FV-5-9520 | E25: 9520 | F25: mayo | G25: 29/05/2021 | H25: 225000
A27: ESTATAL DE SEGURIDAD LTDA | B27: 816004965 | C27: 57-3122388156- | D27: FV-5-8797 | E27: 8797 | F27: abril | G27: 13/06/2021 | H27: 360000
A28: COATS CADENA ANDINA SA | B28: 890900265 | C28: 036-3398200- | D28: FV-5-8407 | E28: 8407 | F28: marzo | G28: 31/03/2021 | H28: 200000 | I28: no enviada
A29: ESTATAL DE SEGURIDAD LTDA | B29: 816004965 | C29: 57-3122388156- | D29: FV-5-8403 | E29: 8403 | F29: marzo | G29: 30/03/2021 | H29: 440000 | I29: no enviada
A30: LAURA MARCELA DEL RIO | B30: 1087554932 | C30: 036-3138678905- | D30: FV-5-8402 | E30: 8402 | F30: marzo | G30: 30/03/2021 | H30: 335500
A31: ESTATAL DE SEGURIDAD LTDA | B31: 816004965 | C31: 57-3122388156- | D31: FV-5-8387 | E31: 8387 | F31: marzo | G31: 30/03/2021 | H31: 360000 | I31: no enviada
A32: CONSUELO PEREZ ZULUAGA | B32: 24955249 | C32: 036-3143882654- | D32: FV-5-8386 | E32: 8386 | F32: marzo | G32: 30/03/2021 | H32: 100000
A33: CAROLINA GIRALDO MORENO | B33: 42152534 | C33: 036-3105056296- | D33: FV-5-8384 | E33: 8384 | F33: marzo | G33: 30/03/2021 | H33: 90000
A34: COATS CADENA ANDINA SA | B34: 890900265 | C34: 036-3398200- | D34: FV-5-8383 | E34: 8383 | F34: marzo | G34: 30/03/2021 | H34: 200000 | I34: no enviada
A35: ESTATAL DE SEGURIDAD LTDA | B35: 816004965 | C35: 57-3122388156- | D35: FV-5-8354 | E35: 8354 | F35: marzo | G35: 29/03/2021 | H35: 300000 | I35: no enviada
A36: ESTATAL DE SEGURIDAD LTDA | B36: 816004965 | C36: 57-3122388156- | D36: FV-5-8273 | E36: 8273 | F36: marzo | G36: 25/03/2021 | H36: 820000 | I36: no enviada
A37: JUAN MANUEL FLOREZ | B37: 1004302802 | C37: 036-3138000059- | D37: FV-5-8241 | E37: 8241 | F37: marzo | G37: 24/03/2021 | H37: 230000
A38: JAIME SMITH GRAJALES RAMIREZ | B38: 1088025479 | C38: -3215479452- | D38: FV-5-8240 | E38: 8240 | F38: marzo | G38: 24/03/2021 | H38: 300000
A39: COATS CADENA ANDINA SA | B39: 890900265 | C39: 036-3398200- | D39: FV-5-8239 | E39: 8239 | F39: marzo | G39: 23/04/2021 | H39: 800000 | I39: no enviada
A40: JULLY VANESSA ORJUELA MARTINEZ | B40: 1088285123 | C40: 57-3145361949- | D40: FV-5-7550 | E40: 7550 | F40: febrero | G40: 26/02/2021 | H40: 180000
A41: RODRIGO CUERVO PARRA | B41: 10114275 | C41: -3128406397- | D41: FV-5-7548 | E41: 7548 | F41: febrero | G41: 26/02/2021 | H41: 290000
A42: COATS CADENA ANDINA SA | B42: 890900265 | C42: 036-3398200- | D42: FV-5-7415 | E42: 7415 | F42: febrero | G42: 22/03/2021 | H42: 200000 | I42: no enviada
...

Sheet RECAUDO
A2: JOSE JESUS MORALES VALDERRAMA | B2: 18599920 | C2: 036-3154959460- | D2: FV-5-10501 | E2: 10501 | F2: Junio | G2: 29/07/2021 | H2: 350000 | I2: LENTES | K2: TOTAL RECAUDO
A3: BIBIANA ANDREA MONCADA MARIN | B3: 42016954 | C3: 036-3177271687- | D3: FV-5-10428 | E3: 10428 | F3: Junio | G3: 10/07/2021 | H3: 400000 | I3: LENTES | K3: =SUM(H:H) -> 109006527
A4: RODRIGO MOLINA BERMUDEZ | B4: 10024831 | C4: 036-3105399846- | D4: FV-5-10348 | E4: 10348 | F4: Junio | G4: 08/07/2021 | H4: 400000 | I4: LENTES
A5: ETELVINA CUBIDES SALAMANCA | B5: 40387521 | C5: -3126516360- | D5: FV-5-10233 | E5: 10233 | F5: Junio | G5: 25/06/2021 | H5: 150000 | I5: LENTES
A6: JULIANA MONTOYA TALERO | B6: 1045049531 | C6: 036-3202123687- | D6: FV-5-9047 | E6: 9047 | F6: abril | G6: 30/05/2021 | H6: 125000 | I6: LENTES
A7: LUZ STEFANY GUEVARA SALAZAR | B7: 1088319194 | C7: -3178530052- | D7: FV-5-935 | E7: 935 | F7: Junio | G7: 03/06/2020 | H7: 145000 | I7: LENTES
A8: VICTOR MANUEL PALACIO | B8: 1088352006 | C8: 036-3003015922- | D8: FV-5-4151 | E8: 4151 | F8: Octubre | G8: 30/10/2020 | H8: 64000 | I8: LENTES
A9: LA RECETA DE LA FELICIDAD SAS | H9: 143080
A10: ARENAS DE OCCIDENTE SAS | H10: 543900
A11: SOCIEDAD DE MEJORAS DE PEREIRA | H11: 23000
A12: SERVICIOS ESPECIALIZADOS SERVICOL S.A.S | H12: 162274
A13: SOLO FACHADAZ SAS | H13: 2237000
A14: VICTOR MANUEL PALACIO | H14: 64000
A15: COMERCIALIZADORA LA BONANZA | H15: 20470
A16: LIFE CLEAN SAS | H16: 612010
A17: Dicar Construcciones SAS | H17: 88200
A18: EVALUA SALUD IPS SAS | H18: 3335430
A19: COATS CADENA ANDINA SA | H19: 5101880
A20: GRUPO BDB S.A.S | H20: 217560
... A42: NICOLE SAS | H42: 1300460
A43: SERCOFUN LTDA FUNERALES LOS OLIVOS | B43: 890310455 | C43: 57-3400165-1 | D43: FV-5-9940 | E43: =RIGHT(D43,4) -> 9940 | F43: Junio | G43: 04/07/2021 | H43: 1024590
A44: PAPELES REGIONALES S.A | B44: 900114108 | C44: -3007388824- | D44: FV-5-10607 | E44: 10607 | F44: Julio | G44: 31/07/2021 | H44: 180320
A45: PAPELES REGIONALES S.A | B45: 900114108 | C45: -3007388824- | D45: FV-5-9782 | E45: 9782 | F45: Junio | G45: 16/06/2021 | H45: 22540
A46: GEOTECNIA INGENIERIA SAS | B46: 816003584 | C46: 57-3363439-1@-3136303098- | D46: FV-5-8547 | E46: 8547 | F46: abril | G46: 06/05/2021 | H46: 124000
A47: GEOTECNIA INGENIERIA SAS | B47: 816003584 | C47: 57-3363439-1@-3136303098- | D47: FV-5-7779 | E47: 7779 | F47: febrero | G47: 05/04/2021 | H47: 136000
A48: CONSTRUCARRILLO S.A.S | B48: 901054224 | C48: 036-3175155528- | D48: FV-5-9857 | E48: =RIGHT(D48,4) -> 9857 | F48: Junio | G48: 02/07/2021 | H48: 247940
A49: WORLD TRAVEL ASSIST LATAM S.A.S | B49: 900600019 | C49: 57-3401569-1 | D49: FV-5-10686 | E49: =RIGHT(D49,5) -> 10686 | F49: Julio | G49: 01/08/2021 | H49: 412000
A50: MEDICID | B50: 900364267 | C50: 57-3166422072-1@-3183929013- | D50: FV-5-9409 | E50: =RIGHT(D50,4) -> 9409 | F50: mayo | G50: 22/06/2021 | H50: 3205580
A51: DISTRACOM S.A | B51: 811009788 | C51: 57-3104394044-1 | D51: FV-5-9890 | E51: =RIGHT(D51,4) -> 9890 | F51: Junio | G51: 03/07/2021 | H51: 136220
A52: SERVICIOS ESPECIALIZADOS SERVICOL S.A.S | B52: 900568326 | C52: 57-3113548415-1@-3257222- | D52: FV-5-9987 | E52: 9987 | F52: Junio | G52: 05/07/2021 | H52: 298204
A53: SERVICIOS ESPECIALIZADOS SERVICOL S.A.S | B53: 900568326 | C53: 57-3113548415-1@-3257222- | D53: FV-5-9260 | E53: 9260 | F53: mayo | G53: 04/06/2021 | H53: 681610
A54: CARLOS ALBERTO PALACIO HERRERA | B54: 1088315381 | C54: -3206041907- | D54: FV-5-8866 | E54: 8866 | F54: abril | G54: 30/05/2021 | H54: 100000 | I54: LENTES
A55: AINCA SEGURIDAD LTDA | B55: 830085880 | C55: 57-3168588-1 | D55: FV-5-9875 | E55: =RIGHT(D55,4) -> 9875 | F55: Junio | G55: 03/07/2021 | H55: 201000
A56: JOSE NELSON ORREGO AGUDELO | B56: 10104081 | C56: 57-3122427451- | D56: FV-5-10780 | E56: =RIGHT(D56,5) -> 10780 | F56: Julio | G56: 21/07/2021 | H56: 60760
A57: LAURA MARCELA DEL RIO | B57: 1087554932 | C57: 036-3138678905- | D57: FV-5-8402 | E57: 8402 | F57: marzo | G57: 30/03/2021 | H57: 24500
A58: BODEGAS ILUSION SAS | B58: 900397331 | C58: 57-3182391459-1 | D58: FV-5-10569 | E58: =RIGHT(D58,5) -> 10569 | F58: Julio | G58: 31/07/2021 | H58: 135240
A59: LIFE CLEAN SAS | B59: 900940142 | C59: 036-3423380- | D59: FV-5-10673 | E59: =RIGHT(D59,5) -> 10673 | F59: Julio | G59: 01/08/2021 | H59: 1615530
A60: ACEROS Y GALVANIZADOS D&M SAS | B60: 900653549 | C60: 57-1-1 | D60: FV-5-10610 | E60: =RIGHT(D60,5) -> 10610 | F60: Julio | G60: 31/07/2021 | H60: 162000
A61: NESTLE DE COLOMBIA SA | B61: 860002130 | C61: 031-5219000- | D61: FV-5-9962 | E61: =RIGHT(D61,4) -> 9962 | F61: Junio | G61: 04/07/2021 | H61: 2646000
A62: FUNDACION GLORIA RESTREPO DE MEJIA | B62: 800013727 | C62: 57-3137591158-1 | D62: FV-5-10876 | E62: =RIGHT(D62,5) -> 10876 | F62: Julio | G62: 06/08/2021 | H62: 1685600
...

Sheet PENDIENTES
A1: BANCOLOMBIA | E1: OCCIDENTE
A2: 44386 | B2: 147000 | E2: 44389 | F2: 1646500 | G2: ESTATAL SEGURIDAD
A3: 44386 | B3: 681590 | C3: QUALITY LOGISTICA | E3: 44393 | F3: 315560 | G3: NABIL - 10077527
A4: 44387 | B4: 161000 | E4: 44396 | F4: 98980 | G4: ormos
A5: 44389 | B5: 66000 | C5: 2m maderas
A6: 44389 | B6: 100000
A7: 44389 | B7: 45000 | C7: MONICA PATRICIA
A8: 44389 | B8: 46000 | C8: <
A9: 44389 | B9: 46000 | C9: EQUIPOS CORTES
A10: 44389 | B10: 355828 | C10: REYVELT
A11: 44390 | B11: 97580 | C11: CM ESTRUCTURA
A12: 44390 | B12: 757454 | C12: DISTRICARNES
A13: 44396 | B13: 973140
A14: 44396 | B14: 69000
A15: 44396 | B15: 614180 | C15: jc&l construcciones
A16: 44396 | B16: 64000 | C16: EQUIPOS CORTES
A17: 44398 | B17: 102900 | C17: albura
A18: 44398 | B18: 44100 | C18: cristal aloe
A19: 44399 | B19: 46000 | C19: EQUIPOS CORTES
A20: 44401 | B20: 150000 | C20: studios 4
A21: 44400 | B21: 60000
A22: 44400 | B22: 99200 | C22: PAULA GRISALES
A23: 44400 | B23: 350000 | C23: LENTES TATIANA
A24: 44400 | B24: 23000 | C24: IESCON
A25: 44405 | B25: 50000
A26: 44405 | B26: 49000
A27: 44405 | B27: 23000
A28: 44406 | B28: 72000
A29: 44406 | B29: 92120
A30: 44406 | B30: 207000 | C30: WEB KAPITAL SAS

Sheet DISCRIMINADO
A1: Cartera 2020 | D1: Cartera 2021
A2: Diciembre | B2: =+'MES A MES '!I249 -> 972000 | D2: Julio | E2: =+'MES A MES '!I2 -> 79448990 | G2: Lentes
A3: Noviembre | B3: =+'MES A MES '!I254 -> 1074000 | D3: Junio | E3: =+'MES A MES '!I130 -> 38748631 | G3: =+'LENTES '!H58 -> 14167205
A4: Octubre | B4: =+'MES A MES '!I256 -> 2363000 | D4: mayo | E4: =+'MES A MES '!I190 -> 19240057
A5: Septiembre | B5: =+'MES A MES '!I260 -> 60000 | D5: abril | E5: =+'MES A MES '!I221 -> 5035000 | G5: TOTAL CARTERA
A6: Agosto | B6: =+'MES A MES '!I261 -> 22000 | D6: marzo | E6: =+'MES A MES '!I234 -> 1877244 | G6: =+G3+E9+B8 -> 164427127
A7: Junio | B7: =+'MES A MES '!I262 -> 1083000 | D7: febrero | E7: =+'MES A MES '!I241 -> 269000
B8: =SUM(B2:B7) -> 5574000 | D8: enero | E8: =+'MES A MES '!I247 -> 67000
E9: =SUM(E2:E8) -> 144685922
