Workbook
Name ___AFC1: [1]INV!$A$25:$D$28
Name ___AFC3: [1]INV!$F$25:$I$28
Name ___AFC5: [1]INV!$K$25:$N$28
Name ___BGC1: [1]INV!$A$5:$D$8
Name ___BGC3: [1]INV!$F$5:$I$8
Name ___BGC5: [1]INV!$K$5:$N$8
Name ___CAC1: [1]INV!$A$19:$D$22
Name ___CAC3: [1]INV!$F$19:$I$22
Name ___CAC5: [1]INV!$K$19:$N$22
Name ___SBC1: [1]INV!$A$12:$D$15
Name ___SBC3: [1]INV!$F$12:$I$15
Name ___SBC5: [1]INV!$K$12:$N$15
Name __AFC1: [1]INV!$A$25:$D$28
Name __AFC3: [1]INV!$F$25:$I$28
Name __AFC5: [1]INV!$K$25:$N$28
Name __BGC1: [1]INV!$A$5:$D$8
Name __BGC3: [1]INV!$F$5:$I$8
Name __BGC5: [1]INV!$K$5:$N$8
Name __CAC1: [1]INV!$A$19:$D$22
Name __CAC3: [1]INV!$F$19:$I$22
Name __CAC5: [1]INV!$K$19:$N$22
Name __SBC1: [1]INV!$A$12:$D$15
Name __SBC3: [1]INV!$F$12:$I$15
Name __SBC5: [1]INV!$K$12:$N$15
Name _AFC1: [1]INV!$A$25:$D$28
Name _AFC3: [1]INV!$F$25:$I$28
Name _AFC5: [1]INV!$K$25:$N$28
Name _BGC1: [1]INV!$A$5:$D$8
Name _BGC3: [1]INV!$F$5:$I$8
Name _BGC5: [1]INV!$K$5:$N$8
Name _CAC1: [1]INV!$A$19:$D$22
Name _CAC3: [1]INV!$F$19:$I$22
Name _CAC5: [1]INV!$K$19:$N$22
Name _SBC1: [1]INV!$A$12:$D$15
Name _SBC3: [1]INV!$F$12:$I$15
Name _SBC5: [1]INV!$K$12:$N$15
Name a: '[2]DUB-823'!#REF!
Name A_impresión_IM: #REF!
Name aaa: #REF!
Name aaas: #REF!
Name AAC: [1]AASHTO!$A$14:$F$17
Name ABG: [1]AASHTO!$A$2:$F$5
Name ANTICIPOS: #REF!
Name ASB: [1]AASHTO!$A$8:$F$11
Name BuiltIn_Print_Area: '[3]CUADRO 1 Y 7 PERS.'!$A$1:$S$43
Name BuiltIn_Print_Area___0: #REF!
Name BuiltIn_Print_Titles: #REF!
Name BuiltIn_Print_Titles___0: #REF!
Name CCTO123: [4]BASICOS!#REF!
Name CONSTRUCTOR: #REF!
Name cv: #REF!
Name dario: '[2]GPI 526'!#REF!
Name demanto: #REF!
Name e: #REF!
Name emanto: #REF!
Name EXC: #REF!
Name exCEL: #REF!
Name Excel_BuiltIn_Print_Area_3: #REF!
Name Excel_BuiltIn_Print_Area_3_X: #REF!
Name Excel_BuiltIn_Print_Titles_10: [2]SKJ452!#REF!

Sheet CANTIDADES
A1: MEMORIA DE CANTIDADES DE OBRA
A2: EJECUCIÓN DE ACCIÓN DE MEJORAMIENTO AMBIENTAL Y PAISAJÍSTICO DE LA ZONA VERDE COMPLEMENTARIA AL ESPACIO PÚBLICO DEL ESCENARIO DEPORTIVO EXISTENTE EN LA VEREDA SAN RAFAEL, MUNICIPIO DE MORALES, DEPARTAMENTO DEL CAUCA
A4: FECHA: 09-JUNIO-2021 | C4: ELABORÓ: | D4: =[7]PRESUPUESTO!D4 -> ARQ. MILAGROS HERNÁNDEZ T.
A6: ITEM No. | B6: ACTIVIDAD | C6: UNIDAD | D6: LARGO | E6: ANCHO | F6: ALTO Ò ESP. | G6: DIAMETRO | H6: AREA | I6: FACTOR | J6: FACTOR DE EXPANSIÓN | K6: SUB TOTAL | L6: TOTAL
A7: 1 | B7: PRELIMINARES
A8: 1.1 | B8: Localización y Replanteo | C8: m2 | H8: 560 | L8: =H8 -> 560 | M8: ok
A9: 2 | B9: EXCAVACIONES, RELLENOS Y RETIRO
A10: 2.1 | B10: Excavacion a mano en material común prof hasta 0,60m | C10: m3 | F10: 0.15 | H10: =H8 -> 560 | K10: =ROUND(H10*F10,0) -> 84 | L10: =ROUND(SUM(K10),0) -> 84
A11: 2.1.1 | B11: Excavacion para bordillo a nivel de piso) H=15CM, B= 12CM | C11: m3 | E11: =#REF! -> #REF! | F11: 0.15 | K11: =ROUND(#REF!*E11*F11,0) -> #REF!
A12: 2.1.2 | B12: Excavacion para sardinel trapezoidal de materas 3.4 | C12: m3 | E12: 0.18 | F12: 0.15 | K12: =ROUND(#REF!*E12*F12,0) -> #REF!
A13: 2.1.3 | B13: Excavacion para huellas en concreto ciclopeo 3.3 | C13: m3 | D13: 0 | E13: 1.2 | F13: =F27 -> 0.15 | H13: 1.14 | I13: 21 | K13: =ROUND((H13*F13)*I13,0) -> 4
A14: 2.1.4 | B14: Excavacion para losa en concreto, juegos infantiles-textura de piso 3.5 | C14: m3 | D14: 0 | E14: 1.2 | F14: 0.15 | K14: =ROUND(D14*E14*F14,2) -> 0
A15: 2.1.5 | B15: Excavacion para bases en concreto - juegos infantiles y burritos 3.6 | C15: m3 | D15: 0 | E15: =E30 -> 0.45 | F15: =F30 -> 0.4 | I15: 30 | K15: =ROUND(D15*E15*F15*I15,2) -> 0
A16: 2.1.6 | B16: Excavacion para bases en concreto - bancas 3.7 | C16: m3 | D16: 0 | E16: 1 | F16: =F32 -> 0.15 | I16: 14 | K16: =ROUND(D16*E16*F16*I16,2) -> 0
A17: 2.1.7 | B17: Excavacion para bases en concreto - puntos ecologicos 3.7 | C17: m3 | D17: 0 | E17: 0.7 | F17: 0.15 | I17: 4 | K17: =ROUND(D17*E17*F17*I17,2) -> 0
A18: 2.1.8 | B18: Excavacion para contenedor de raices en ladrillo circulares 3.8 | C18: m3 | D18: 0 | F18: 1 | G18: 1.74 | I18: 3 | K18: =ROUND(F18*I18*G18,2) -> 5.22
A19: 2.1.9 | B19: Excavacion para siembra de duranta 5.3, 5.4 | C19: m3 | D19: 0 | E19: 0.45 | F19: 0.45 | I19: =#REF! -> #REF! | K19: =ROUND((D19*E19*F19)*I19,2) -> #REF!
A20: 2.1.10 | B20: Excavacion para siembra de arboles (guayacan: lila y amarillo; tulipan) 5.5, 5.6 | C20: m3 | D20: 0 | E20: 0.6 | F20: 0.8 | I20: 3 | K20: =ROUND((D20*E20*F20)*I20,2) -> 0
A21: 2.1.11 | B21: Excavacion para andenes con relleno en triturado 3/4" 5.8 | C21: m3 | D21: 0 | F21: 0.15 | H21: 43.42 | K21: =ROUND(F21*H21,2) -> 6.51
A22: 2.1.12 | B22: Excavacion para instalacion de llantas reutilizadas | C22: m3 | D22: 0 | E22: 0.6 | F22: 0.2 | K22: =ROUND(D22*E22*F22,2) -> 0
A23: 2.1.13 | B23: Excavacion para instalacion de piedra de colores | C23: m3 | D23: 0 | E23: 0.2 | F23: 0.15 | K23: =ROUND(D23*E23*F23,2) -> 0
A24: 2.2 | B24: Suministro, instalación, compactación y nivelación de material de prestamo (tierra amarilla) para conformación de Relleno | C24: m3 | F24: 0.1 | H24: =H10/2 -> 280 | K24: =ROUND(F24*H24,2) -> 28 | L24: =ROUND(K24,0) -> 28
A25: 2.3 | B25: Retiro de material sobrante hasta sitio autorizado | C25: m3 | L25: =L10 -> 84
A26: 3 | B26: ESTRUCTURAS EN CONCRETOS
A27: 3.1 | B27: Huellas en concreto ciclopeo 3000 PSI-21Mpa, ANCHO= 35 cm x L= 1,2 E= 15 cm a nivel del piso sobre zona verde para protección de la misma | C27: und | D27: 1.2 | E27: 0.35 | F27: 0.15 | I27: 22 | L27: =I27 -> 22
A28: 3.2 | B28: Cuneta, canuela Conc.3000PSI.A=40CM E=5CM | C28: m | D28: 9 | E28: 1 | F28: 0.15 | L28: =D28 -> 9
A29: 3.3 | B29: Bases en concreto para instalaciòn de juegos en llanta, Diametro=1,5m, E= 15 cm; 3000PSI -21MP | C29: und | F29: 0.15 | G29: 1.5 | I29: 4 | L29: =I29 -> 4
A30: 3.4 | B30: Bases en concreto para instalaciòn de juegos infantiles 45 cm x 45 cm x 45 cm, 3000PSI -21MP | C30: und | D30: 0.45 | E30: 0.45 | F30: 0.4 | I30: 35 | L30: =I30 -> 35
A31: 3.5 | B31: Bases en concreto para instalaciòn de bancas E= 15cm, .3000PSI -21MP | C31: m2 | D31: 1 | E31: =E16 -> 1 | F31: =F16 -> 0.15 | I31: 3 | L31: =I31 -> 3
A32: 3.6 | B32: Bases en concreto simple para instalaciòn de puntos ecologicos L= 1.60 m X Ancho= 70 cm, E= 15 cm, .3000PSI -21MP | C32: und | D32: 1.6 | E32: =E17 -> 0.7 | F32: 0.15 | I32: 1 | L32: =I32 -> 1
A33: 3.7 | B33: Losa en concreto de 21 MPA para kiosko E= .15CM | C33: m3 | D33: 0.15 | G33: =ROUND(3.1416*9,2) -> 28.27 | I33: 0 | L33: =ROUND(G33*D33,0) -> 4
A34: 3.8 | B34: Pedestales en concreto 0,80m, 0,2m bajo el nivel de losa, y 0,40 sobre nivel de losa, 0,4m de diametro | C34: und | I34: 6 | L34: =I34 -> 6
A35: 3.9 | B35: Bancos en concreto pintados de colores 0.50mx 0.50mx 0.5m | C35: und | I35: 4 | L35: =I35 -> 4
A36: 4 | B36: MOBILIARIO URBANO
A37: 4.1 | B37: Suministro e instalacion de juegos infantiles en madera plastica según especificaciones técnicas. | C37: und | I37: 1 | L37: =I37 -> 1
A38: 4.2 | B38: Suministro e instalacion de juegos infantiles en madera plastica burrito balancin. | C38: und | I38: 2 | L38: =I38 -> 2
A39: 4.3 | B39: Suministro e instalacion de bancas con espaldar en madera plastica según especificaciones técnicas. | C39: und | I39: =I31 -> 3 | L39: =I39 -> 3
A40: 4.4 | B40: Suministro e instalacion de puntos ecologicos en madera plastica según especificaciones técnicas. | C40: und | I40: =I32 -> 1 | L40: =I40 -> 1
A41: 4.5 | B41: Suministro e instalacion de juegoss individuales en llantas decoradas según diseños y especificaciones tecnicas | C41: und | I41: =I29 -> 4 | L41: =I41 -> 4
A42: 4.6 | B42: Kiosco en guadua hexagonal L=6M, (Incluye cubierta) | C42: und | I42: 1 | L42: =I42 -> 1
...

Sheet PRESUPUESTO
A1: PRESUPUESTO OFICIAL DE OBRA VEREDA SAN RAFAEL- MUNICIPIO DE MORALES
A2: =CANTIDADES!A2 -> EJECUCIÓN DE ACCIÓN DE MEJORAMIENTO AMBIENTAL Y PAISAJÍSTICO DE LA ZONA VERDE COMPLEMENTARIA AL ESPACIO PÚBLICO DEL ESCENARIO DEPORTIVO EXISTENTE EN LA VEREDA SAN RAFAEL, MUNICIPIO DE MORALES, DEPARTAMENTO DEL CAUCA
A4: =CANTIDADES!A4 -> FECHA: 09-JUNIO-2021 | C4: ELABORÓ: | D4: ARQ. MILAGROS HERNÁNDEZ T.
A6: ITEM | B6: DESCRIPCIÓN | C6: UNIDAD | D6: CANTIDAD | E6: VALOR UNITÁRIO | F6: VALOR TOTAL
A7: =CANTIDADES!A7 -> 1 | B7: =CANTIDADES!B7 -> PRELIMINARES
A8: 1.1 | B8: =CANTIDADES!B8 -> Localización y Replanteo | C8: =CANTIDADES!C8 -> m2 | D8: =CANTIDADES!L8 -> 560 | E8: =APUS!H43 -> 1430 | F8: =ROUND(D8*E8,0) -> 800800
A9: =CANTIDADES!A9 -> 2 | B9: =CANTIDADES!B9 -> EXCAVACIONES, RELLENOS Y RETIRO
A10: =CANTIDADES!A10 -> 2.1 | B10: =CANTIDADES!B10 -> Excavacion a mano en material común prof hasta 0,60m | C10: =CANTIDADES!C10 -> m3 | D10: =CANTIDADES!L10 -> 84 | E10: =APUS!H79 -> 13183 | F10: =ROUND(D10*E10,0) -> 1107372
A11: =CANTIDADES!A24 -> 2.2 | B11: =CANTIDADES!B24 -> Suministro, instalación, compactación y nivelación de material de prestamo (tierra amarilla) para conformación de Relleno | C11: =CANTIDADES!C24 -> m3 | D11: =CANTIDADES!L24 -> 28 | E11: =APUS!H116 -> 34783 | F11: =ROUND(D11*E11,0) -> 973924
A12: =CANTIDADES!A25 -> 2.3 | B12: =CANTIDADES!B25 -> Retiro de material sobrante hasta sitio autorizado | C12: =CANTIDADES!C25 -> m3 | D12: =CANTIDADES!L25 -> 84 | E12: =APUS!H155 -> 21950 | F12: =ROUND(D12*E12,0) -> 1843800 | H12: =SUM(F8:F12) -> 4725896
A13: =CANTIDADES!A26 -> 3 | B13: =CANTIDADES!B26 -> ESTRUCTURAS EN CONCRETOS
A14: 3.1 | B14: =CANTIDADES!B27 -> Huellas en concreto ciclopeo 3000 PSI-21Mpa, ANCHO= 35 cm x L= 1,2 E= 15 cm a nivel del piso sobre zona verde para protección de la misma | C14: =CANTIDADES!C27 -> und | D14: =CANTIDADES!L27 -> 22 | E14: =APUS!H272 -> 73852 | F14: =ROUND(D14*E14,0) -> 1624744
A15: 3.2 | B15: =CANTIDADES!B28 -> Cuneta, canuela Conc.3000PSI.A=40CM E=5CM | C15: =CANTIDADES!C28 -> m | D15: =CANTIDADES!L28 -> 9 | E15: =APUS!H312 -> 53835 | F15: =ROUND(D15*E15,0) -> 484515
A16: 3.3 | B16: =CANTIDADES!B29 -> Bases en concreto para instalaciòn de juegos en llanta, Diametro=1,5m, E= 15 cm; 3000PSI -21MP | C16: =CANTIDADES!C29 -> und | D16: =CANTIDADES!L29 -> 4 | E16: =APUS!H350 -> 165289 | F16: =ROUND(D16*E16,0) -> 661156
A17: 3.4 | B17: =CANTIDADES!B30 -> Bases en concreto para instalaciòn de juegos infantiles 45 cm x 45 cm x 45 cm, 3000PSI -21MP | C17: =CANTIDADES!C30 -> und | D17: =CANTIDADES!L30 -> 35 | E17: =APUS!H391 -> 62016 | F17: =ROUND(D17*E17,0) -> 2170560
A18: 3.5 | B18: =CANTIDADES!B31 -> Bases en concreto para instalaciòn de bancas E= 15cm, .3000PSI -21MP | C18: =CANTIDADES!C31 -> m2 | D18: =CANTIDADES!L31 -> 3 | E18: =APUS!H433 -> 88631 | F18: =ROUND(D18*E18,0) -> 265893
A19: 3.6 | B19: =CANTIDADES!B32 -> Bases en concreto simple para instalaciòn de puntos ecologicos L= 1.60 m X Ancho= 70 cm, E= 15 cm, .3000PSI -21MP | C19: =CANTIDADES!C32 -> und | D19: =CANTIDADES!L32 -> 1 | E19: =APUS!H475 -> 92229 | F19: =ROUND(D19*E19,0) -> 92229
A20: 3.7 | B20: =CANTIDADES!B33 -> Losa en concreto de 21 MPA para kiosko E= .15CM | C20: =CANTIDADES!C33 -> m3 | D20: =CANTIDADES!L33 -> 4 | E20: =APUS!H1040 -> 329680 | F20: =ROUND(D20*E20,0) -> 1318720
A21: 3.8 | B21: =CANTIDADES!B34 -> Pedestales en concreto 0,80m, 0,2m bajo el nivel de losa, y 0,40 sobre nivel de losa, 0,4m de diametro | C21: =CANTIDADES!C34 -> und | D21: =CANTIDADES!L34 -> 6 | E21: =APUS!H1076 -> 116641 | F21: =ROUND(D21*E21,0) -> 699846
A22: 3.9 | B22: =CANTIDADES!B35 -> Bancos en concreto pintados de colores 0.50mx 0.50mx 0.5m | C22: =CANTIDADES!C35 -> und | D22: =CANTIDADES!L35 -> 4 | E22: =APUS!H191 -> 118511 | F22: =ROUND(D22*E22,0) -> 474044 | H22: =SUM(F14:F22) -> 7791707
A23: =CANTIDADES!A36 -> 4 | B23: =CANTIDADES!B36 -> MOBILIARIO URBANO
A24: =CANTIDADES!A37 -> 4.1 | B24: =CANTIDADES!B37 -> Suministro e instalacion de juegos infantiles en madera plastica según especificaciones técnicas. | C24: =CANTIDADES!C37 -> und | D24: =CANTIDADES!L37 -> 1 | E24: =APUS!H520 -> 6669617 | F24: =ROUND(D24*E24,0) -> 6669617
A25: =CANTIDADES!A38 -> 4.2 | B25: =CANTIDADES!B38 -> Suministro e instalacion de juegos infantiles en madera plastica burrito balancin. | C25: =CANTIDADES!C38 -> und | D25: =CANTIDADES!L38 -> 2 | E25: =APUS!H563 -> 878806 | F25: =ROUND(D25*E25,0) -> 1757612
A26: =CANTIDADES!A39 -> 4.3 | B26: =CANTIDADES!B39 -> Suministro e instalacion de bancas con espaldar en madera plastica según especificaciones técnicas. | C26: =CANTIDADES!C39 -> und | D26: =CANTIDADES!L39 -> 3 | E26: =APUS!H606 -> 377110 | F26: =ROUND(D26*E26,0) -> 1131330
A27: =CANTIDADES!A40 -> 4.4 | B27: =CANTIDADES!B40 -> Suministro e instalacion de puntos ecologicos en madera plastica según especificaciones técnicas. | C27: =CANTIDADES!C40 -> und | D27: =CANTIDADES!L40 -> 1 | E27: =APUS!H646 -> 647620 | F27: =ROUND(D27*E27,0) -> 647620
A28: =CANTIDADES!A41 -> 4.5 | B28: =CANTIDADES!B41 -> Suministro e instalacion de juegoss individuales en llantas decoradas según diseños y especificaciones tecnicas | C28: =CANTIDADES!C41 -> und | D28: =CANTIDADES!L41 -> 4 | E28: =APUS!H685 -> 203833 | F28: =ROUND(D28*E28,0) -> 815332
A29: =CANTIDADES!A42 -> 4.6 | B29: =CANTIDADES!B42 -> Kiosco en guadua hexagonal L=6M, (Incluye cubierta) | C29: =CANTIDADES!C42 -> und | D29: =CANTIDADES!L42 -> 1 | E29: =APUS!H232 -> 9492661.9 | F29: =ROUND(D29*E29,0) -> 9492662 | H29: =SUM(F24:F29) -> 20514173
A30: =CANTIDADES!A43 -> 5 | B30: =CANTIDADES!B43 -> VEGETACION Y ELEMENTOS NATURALES
A31: =CANTIDADES!A44 -> 5.1 | B31: =CANTIDADES!B44 -> Suministro e instalacion de tierra negra mejorada y esterilizada para siembra de prado, materas, arboles, arbustos . | C31: =CANTIDADES!C44 -> m3 | D31: =CANTIDADES!L44 -> 5 | E31: =APUS!H765 -> 51650 | F31: =ROUND(D31*E31,0) -> 258250
A32: =CANTIDADES!A45 -> 5.2 | B32: =CANTIDADES!B45 -> Suministro e instalacion de prado gateadora o trenza | C32: =CANTIDADES!C45 -> m2 | D32: =CANTIDADES!L45 -> 100 | E32: =APUS!H804 -> 22546 | F32: =ROUND(D32*E32,0) -> 2254600 | H32: =SUM(F31:F32) -> 2512850
A33: =CANTIDADES!A46 -> 5.3 | B33: =CANTIDADES!B46 -> Suministro y siembra de especies ornamentales (jazmines azules, jazmines blancos, hortensias) Altura: (40 -50) cm | C33: =CANTIDADES!C46 -> und | D33: =CANTIDADES!L46 -> 186 | E33: =APUS!H843 -> 13745.565 | F33: =ROUND(D33*E33,0) -> 2556675
A34: =CANTIDADES!A50 -> 5.4 | B34: =CANTIDADES!B50 -> Suministro y siembra de especies arboreas Altura: 80 - 90 cm (CARBONEROS Y FLOR DE MAYO) | C34: =CANTIDADES!C50 -> und | D34: =CANTIDADES!L50 -> 14 | E34: =APUS!H881 -> 16825 | F34: =ROUND(D34*E34,0) -> 235550 | H34: =SUM(F33:F34) -> 2792225
A35: =CANTIDADES!A52 -> 5.5 | B35: =CANTIDADES!B52 -> Suministro e instalacion de piedra dolomita para adecuacion de jardinera. | C35: =CANTIDADES!C52 -> m2 | D35: =CANTIDADES!L52 -> 16 | E35: =APUS!H922 -> 42708 | F35: =ROUND(D35*E35,0) -> 683328
A36: =CANTIDADES!A53 -> 5.6 | B36: =CANTIDADES!B53 -> Suministro e instalacion de Triturado tamaño 3/4", para relleno de sendero peatonal, Ancho 1m, Alto= 20 cm | C36: =CANTIDADES!C53 -> m3 | D36: =CANTIDADES!L53 -> 4 | E36: =APUS!H963 -> 126533 | F36: =ROUND(D36*E36,0) -> 506132
A37: =CANTIDADES!A54 -> 5.7 | B37: =CANTIDADES!B54 -> Piedra promedio 6" pintada de color blanco para confirmacion de sendero | C37: =CANTIDADES!C54 -> m3 | D37: =CANTIDADES!L54 -> 5 | E37: =APUS!H1003 -> 286618 | F37: =ROUND(D37*E37,0) -> 1433090 | H37: =SUM(F35:F37) -> 2622550
B39: Total costos directos | F39: =ROUND(SUM(F7:F37),0) -> 40959401
B40: Total costos Indirectos | E40: =SUM(E41:E43) -> 0.3 | F40: =ROUND(F39*0.3,0) -> 12287820
B41: Administración | E41: 0.23 | F41: =ROUND(F39*0.23,0) -> 9420662
B42: Imprevistos | E42: 0.02 | F42: =ROUND(F39*0.02,0) -> 819188
B43: Utilidad | E43: 0.05 | F43: =ROUND(F39*0.05,0) -> 2047970
...

Sheet APUS
A1: =PRESUPUESTO!A1 -> PRESUPUESTO OFICIAL DE OBRA VEREDA SAN RAFAEL- MUNICIPIO DE MORALES
A2: =PRESUPUESTO!A2 -> EJECUCIÓN DE ACCIÓN DE MEJORAMIENTO AMBIENTAL Y PAISAJÍSTICO DE LA ZONA VERDE COMPLEMENTARIA AL ESPACIO PÚBLICO DEL ESCENARIO DEPORTIVO EXISTENTE EN LA VEREDA SAN RAFAEL, MUNICIPIO DE MORALES, DEPARTAMENTO DEL CAUCA
A4: =PRESUPUESTO!A4 -> FECHA: 09-JUNIO-2021 | C4: ELABORÓ: | D4: ARQ. MILAGROS HERNÁNDEZ T.
A7: ACTIVIDAD: | B7: =PRESUPUESTO!B8 -> Localización y Replanteo | G7: Unidad | H7: =PRESUPUESTO!C8 -> m2
A8: =PRESUPUESTO!A8 -> 1.1 | G8: Fecha
A10: I. EQUIPO
A11: Descripción | C11: Unidad | D11: Rendimiento | E11: Tarifa | F11: Cantidad | G11: Valor/Unit
A12: Herramienta menor | G12: =H35*(0.05) -> 44.85
G16: Sub-Total | H16: =ROUND(SUM(G12:G15),0) -> 45
A17: II. MATERIALES EN OBRA
A18: Descripción | C18: % Desperd | D18: Unidad | E18: Precio-Unit. | F18: Cantidad | G18: Valor/Unit
A19: Clavos | D19: kg | E19: 4500 | F19: 0.01 | G19: =(E19*F19)*((C19/100)+1) -> 45
A20: Madera | D20: Und | E20: 2590 | F20: 0.06 | G20: =(E20*F20)*((C20/100)+1) -> 155.4
A21: Piola gruesa rollo x 50 m | D21: Und | E21: 5400 | F21: 0.04 | G21: =(E21*F21)*((C21/100)+1) -> 216
A22: liston | D22: rollo | E22: 7200 | F22: 0.01 | G22: =(E22*F22)*((C22/100)+1) -> 72
G24: Sub-Total | H24: =ROUND(SUM(G19:G23),0) -> 488
A25: III. TRANSPORTES
A26: Material | C26: Vol-peso | D26: Tipo | E26: Tarifa | F26: Cantidad | G26: Valor/Unit
G30: Sub-Total | H30: =SUM(G27:G29) -> 0
A31: IV. MANO DE OBRA
A32: DESCRIPCIÓN DE LA CUADRILLA | C32: Val / Hora | D32: Pnes | E32: Val/H/Pnes | F32: Rendimi | G32: Valor/Unit
A33: ='CUADRILLAS DE OBRA'!B22 -> CUADRILLA 1 | C33: ='CUADRILLAS DE OBRA'!E23 -> 9464 | D33: =PRESTACIONES!E28 -> 0.8952 | E33: ='CUADRILLAS DE OBRA'!G23 -> 17936 | F33: 0.05 | G33: =F33*E33 -> 896.8
G35: Sub-Total | H35: =ROUND(SUM(G33:G34),0) -> 897
A36: V. COSTOS INDIRECTOS
A37: Descripción | F37: % Máximo | G37: Valor Total
A38: Administración | F38: 0 | G38: =ROUND((H35+H30+H24+H16)*F38,0) -> 0
A39: Imprevistos | F39: 0 | G39: =ROUND((H16+H24+H30+H35)*F39,0) -> 0
A40: Utilidades | F40: 0 | G40: =ROUND((H16+H24+H30+H35)*F40,0) -> 0
A41: Sub-Total | H41: =SUM(G38:G40) -> 0
E43: Valor del Unitario | H43: =ROUND(SUM(H10:H41),0) -> 1430 | I43: ok
A44: Proyectó: Arq. Milagros Hernández.
A45: Revisó: Ing. Alberto Molano Piamba.
A47: ACTIVIDAD: | B47: =PRESUPUESTO!B10 -> Excavacion a mano en material común prof hasta 0,60m | G47: Unidad | H47: m3
A48: 1.01 | G48: Fecha
A50: I. EQUIPO
A51: Descripción | C51: Unidad | D51: Rendimiento | E51: Tarifa | F51: Cantidad | G51: Valor/Unit
A52: Herramienta menor | G52: =H71*(0.05) -> 627.75
G56: Sub-Total | H56: =ROUND(SUM(G52:G55),0) -> 628
A57: II. MATERIALES EN OBRA
A58: Descripción | C58: % Desperd | D58: Unidad | E58: Precio-Unit. | F58: Cantidad | G58: Valor/Unit
...

Sheet BASICO CONCRETO
A2: ITEM : Concreto clase D (21 MPA)
A3: UNIDAD : m3 | E3: FECHA: | F3: 43798
A5: I.- EQUIPO
A6: DESCRIPCION | C6: TIPO | D6: TARIFA/H | E6: RENDIMIENTO | F6: VUNITARIO
A7: Herramienta menor | C7: menor | F7: =0.05*G33 -> 2192.1111
A8: Mezcladora de concreto de 1 saco | C8: 1 saco | D8: =60000/8 -> 7500 | E8: 0.85 | F8: =D8/E8 -> 8823.5294
E10: SUBTOTAL | F10: $ | G10: =SUM(F7:F9) -> 11015.641
A12: II.- MATERIALES
A13: DESCRIPCION | C13: UNIDAD | D13: VALOR | E13: CANTIDAD | F13: VUNITARIO
A14: Triturado Tamaño Maximo 3/4" (cargado en planta) | C14: m3 | D14: 130000 | E14: 0.84 | F14: =D14*E14 -> 109200 | I14: CONSULTE PRECIO DE TRITURADO
A15: Arena gruesa | C15: m3 | D15: 110000 | E15: 0.56 | F15: =D15*E15 -> 61600 | I15: CONSULTE PRECIO DE ARENA
A16: Agua | C16: L | D16: 20 | E16: 180 | F16: =D16*E16 -> 3600
A17: Cemento gris | C17: Kg | D17: 580 | E17: 350 | F17: =D17*E17 -> 203000 | I17: CONSULTE PRECIO DE CEMENTO
A18: Desperdicio 3% | F18: =(SUM(F14:F17))*0.03 -> 11322
E20: SUBTOTAL | F20: $ | G20: =SUM(F14:F19) -> 388722
A22: III.- TRANSPORTE
A23: DESCRIPCION | B23: VOL. O PESO | C23: DISTANCIA | D23: M3/KM | E23: TARIFA | F23: VUNITARIO
F24: =+E24*D24 -> 0
F25: =+E25*D25 -> 0
F26: =+E26*D26 -> 0
E27: SUBTOTAL | F27: $ | G27: =SUM(F24:F26) -> 0
A29: IV.- MANO DE OBRA
A30: DESCRIPCION | B30: JORNAL | C30: PRESTACIONES | D30: TARIFA/H | E30: RENDIMIENTO | F30: VUNITARIO
A31: =[8]personal!B33 -> CUADRILLA 3 | B31: =+'CUADRILLAS DE OBRA'!D29 -> 166563.1 | C31: =+PRESTACIONES!E28 -> 0.8952 | D31: =+'CUADRILLAS DE OBRA'!G29 -> 39458 | E31: 0.9 | F31: =D31/E31 -> 43842.222
E33: SUBTOTAL | F33: $ | G33: =SUM(F31:F32) -> 43842.222
D35: TOTAL COSTO DIRECTO | F35: $ | G35: =ROUND(G33+G27+G20+G10,0) -> 443580
A37: Revisó y aprobó: Ing. Jaime Alberto Martinez B.

Sheet CRONOGRAMA
A1: =APUS!A1 -> PRESUPUESTO OFICIAL DE OBRA VEREDA SAN RAFAEL- MUNICIPIO DE MORALES
A2: =PRESUPUESTO!A2 -> EJECUCIÓN DE ACCIÓN DE MEJORAMIENTO AMBIENTAL Y PAISAJÍSTICO DE LA ZONA VERDE COMPLEMENTARIA AL ESPACIO PÚBLICO DEL ESCENARIO DEPORTIVO EXISTENTE EN LA VEREDA SAN RAFAEL, MUNICIPIO DE MORALES, DEPARTAMENTO DEL CAUCA
A4: =APUS!A4 -> FECHA: 09-JUNIO-2021 | C4: ELABORÓ: | D4: =[7]PRESUPUESTO!D4 -> ARQ. MILAGROS HERNÁNDEZ T.
A6: ITEM No. | B6: ACTIVIDAD | C6: VR. TOTAL $ | D6: % sobre el V/r T. | E6: SEM 1 | F6: SEM 2 | G6: SEM 3 | H6: SEM 4 | I6: SEM 5 | J6: SEM 6
A7: =CANTIDADES!A7 -> 1 | B7: =CANTIDADES!B7 -> PRELIMINARES
A8: 1.1 | B8: =CANTIDADES!B8 -> Localización y Replanteo | C8: =PRESUPUESTO!F8 -> 800800 | D8: =C8/C41 -> #REF! | E8: =D8 -> #REF!
A9: =CANTIDADES!A9 -> 2 | B9: =CANTIDADES!B9 -> EXCAVACIONES, RELLENOS Y RETIRO
A10: =CANTIDADES!A10 -> 2.1 | B10: =CANTIDADES!B10 -> Excavacion a mano en material común prof hasta 0,60m | C10: =PRESUPUESTO!F10 -> 1107372 | D10: =C10/C41 -> #REF! | E10: =D10 -> #REF!
A11: =CANTIDADES!A24 -> 2.2 | B11: =CANTIDADES!B24 -> Suministro, instalación, compactación y nivelación de material de prestamo (tierra amarilla) para conformación de Relleno | C11: =PRESUPUESTO!F11 -> 973924 | D11: =C11/C41 -> #REF! | E11: =D11/2 -> #REF! | F11: =D11/2 -> #REF!
A12: =CANTIDADES!A25 -> 2.3 | B12: =CANTIDADES!B25 -> Retiro de material sobrante hasta sitio autorizado | C12: =PRESUPUESTO!F12 -> 1843800 | D12: =C12/C41 -> #REF! | J12: =D12 -> #REF!
A13: =CANTIDADES!A26 -> 3 | B13: =CANTIDADES!B26 -> ESTRUCTURAS EN CONCRETOS
A14: 3.1 | B14: =PRESUPUESTO!#REF! -> #REF! | C14: =PRESUPUESTO!#REF! -> #REF! | D14: =C14/C41 -> #REF! | F14: =D14/2 -> #REF! | G14: =D14/2 -> #REF!
A15: 3.2 | B15: =PRESUPUESTO!#REF! -> #REF! | C15: =PRESUPUESTO!#REF! -> #REF! | D15: =C15/C41 -> #REF! | G15: =D15 -> #REF!
A16: =CANTIDADES!A27 -> 3.1 | B16: =PRESUPUESTO!B14 -> Huellas en concreto ciclopeo 3000 PSI-21Mpa, ANCHO= 35 cm x L= 1,2 E= 15 cm a nivel del piso sobre zona verde para protección de la misma | C16: =PRESUPUESTO!F14 -> 1624744 | D16: =C16/C41 -> #REF! | H16: =D16 -> #REF!
A17: =CANTIDADES!#REF! -> #REF! | B17: =PRESUPUESTO!#REF! -> #REF! | C17: =PRESUPUESTO!#REF! -> #REF! | D17: =C17/C41 -> #REF! | H17: =D17 -> #REF!
A18: =CANTIDADES!A29 -> 3.3 | B18: =PRESUPUESTO!B16 -> Bases en concreto para instalaciòn de juegos en llanta, Diametro=1,5m, E= 15 cm; 3000PSI -21MP | C18: =PRESUPUESTO!F16 -> 661156 | D18: =C18/C41 -> #REF! | H18: =D18 -> #REF!
A19: =CANTIDADES!A30 -> 3.4 | B19: =CANTIDADES!B30 -> Bases en concreto para instalaciòn de juegos infantiles 45 cm x 45 cm x 45 cm, 3000PSI -21MP | C19: =PRESUPUESTO!F17 -> 2170560 | D19: =C19/C41 -> #REF! | H19: =D19 -> #REF!
A20: =CANTIDADES!A31 -> 3.5 | B20: =PRESUPUESTO!B18 -> Bases en concreto para instalaciòn de bancas E= 15cm, .3000PSI -21MP | C20: =PRESUPUESTO!F18 -> 265893 | D20: =C20/C41 -> #REF! | H20: =D20 -> #REF!
A21: =CANTIDADES!A32 -> 3.6 | B21: =PRESUPUESTO!B19 -> Bases en concreto simple para instalaciòn de puntos ecologicos L= 1.60 m X Ancho= 70 cm, E= 15 cm, .3000PSI -21MP | C21: =PRESUPUESTO!F19 -> 92229 | D21: =C21/C41 -> #REF! | H21: =D21 -> #REF!
A22: =CANTIDADES!#REF! -> #REF! | B22: =PRESUPUESTO!#REF! -> #REF! | C22: =PRESUPUESTO!#REF! -> #REF! | D22: =C22/C41 -> #REF! | I22: =D22 -> #REF!
A23: =CANTIDADES!A36 -> 4 | B23: =CANTIDADES!B36 -> MOBILIARIO URBANO
A24: =CANTIDADES!A37 -> 4.1 | B24: =CANTIDADES!B37 -> Suministro e instalacion de juegos infantiles en madera plastica según especificaciones técnicas. | C24: =PRESUPUESTO!F24 -> 6669617 | D24: =C24/C41 -> #REF! | I24: =D24 -> #REF!
A25: =CANTIDADES!A38 -> 4.2 | B25: =PRESUPUESTO!B25 -> Suministro e instalacion de juegos infantiles en madera plastica burrito balancin. | C25: =PRESUPUESTO!F25 -> 1757612 | D25: =C25/C41 -> #REF! | J25: =D25 -> #REF!
A26: =CANTIDADES!A39 -> 4.3 | B26: =PRESUPUESTO!B26 -> Suministro e instalacion de bancas con espaldar en madera plastica según especificaciones técnicas. | C26: =PRESUPUESTO!F26 -> 1131330 | D26: =C26/C41 -> #REF! | J26: =D26 -> #REF!
A27: =CANTIDADES!A40 -> 4.4 | B27: =PRESUPUESTO!B27 -> Suministro e instalacion de puntos ecologicos en madera plastica según especificaciones técnicas. | C27: =PRESUPUESTO!F27 -> 647620 | D27: =C27/C41 -> #REF! | J27: =D27 -> #REF!
A28: =CANTIDADES!A41 -> 4.5 | B28: =PRESUPUESTO!B28 -> Suministro e instalacion de juegoss individuales en llantas decoradas según diseños y especificaciones tecnicas | C28: =PRESUPUESTO!F28 -> 815332 | D28: =C28/C41 -> #REF! | J28: =D28 -> #REF!
A29: =CANTIDADES!#REF! -> #REF! | B29: =PRESUPUESTO!#REF! -> #REF! | C29: =PRESUPUESTO!#REF! -> #REF! | D29: =C29/C41 -> #REF! | J29: =D29 -> #REF!
A30: =CANTIDADES!A43 -> 5 | B30: =CANTIDADES!B43 -> VEGETACION Y ELEMENTOS NATURALES
A31: =CANTIDADES!A44 -> 5.1 | B31: =PRESUPUESTO!B31 -> Suministro e instalacion de tierra negra mejorada y esterilizada para siembra de prado, materas, arboles, arbustos . | C31: =PRESUPUESTO!F31 -> 258250 | D31: =C31/C41 -> #REF! | H31: =D31 -> #REF!
A32: =CANTIDADES!A45 -> 5.2 | B32: =PRESUPUESTO!B32 -> Suministro e instalacion de prado gateadora o trenza | C32: =PRESUPUESTO!F32 -> 2254600 | D32: =C32/C41 -> #REF! | H32: =D32/2 -> #REF! | I32: =D32/2 -> #REF!
A33: =CANTIDADES!#REF! -> #REF! | B33: =PRESUPUESTO!#REF! -> #REF! | C33: =PRESUPUESTO!#REF! -> #REF! | D33: =C33/C41 -> #REF! | I33: =D33 -> #REF!
A34: =CANTIDADES!A46 -> 5.3 | B34: =PRESUPUESTO!B33 -> Suministro y siembra de especies ornamentales (jazmines azules, jazmines blancos, hortensias) Altura: (40 -50) cm | C34: =PRESUPUESTO!F33 -> 2556675 | D34: =C34/C41 -> #REF! | J34: =D34 -> #REF!
A35: =CANTIDADES!#REF! -> #REF! | B35: =PRESUPUESTO!#REF! -> #REF! | C35: =PRESUPUESTO!#REF! -> #REF! | D35: =C35/C41 -> #REF! | I35: =D35 -> #REF!
A36: =CANTIDADES!A50 -> 5.4 | B36: =PRESUPUESTO!B34 -> Suministro y siembra de especies arboreas Altura: 80 - 90 cm (CARBONEROS Y FLOR DE MAYO) | C36: =PRESUPUESTO!F34 -> 235550 | D36: =C36/C41 -> #REF! | J36: =D36 -> #REF!
A37: =CANTIDADES!A52 -> 5.5 | B37: =PRESUPUESTO!B35 -> Suministro e instalacion de piedra dolomita para adecuacion de jardinera. | C37: =PRESUPUESTO!F35 -> 683328 | D37: =C37/C41 -> #REF! | J37: =D37 -> #REF!
A38: =CANTIDADES!A53 -> 5.6 | B38: =PRESUPUESTO!B36 -> Suministro e instalacion de Triturado tamaño 3/4", para relleno de sendero peatonal, Ancho 1m, Alto= 20 cm | C38: =PRESUPUESTO!F36 -> 506132 | D38: =C38/C41 -> #REF! | H38: =D38 -> #REF!
A39: =CANTIDADES!#REF! -> #REF! | B39: =PRESUPUESTO!#REF! -> #REF! | C39: =PRESUPUESTO!#REF! -> #REF! | D39: =C39/C41 -> #REF! | J39: =D39 -> #REF!
B41: Costo Directo Accion obra | C41: =SUM(C8:C40) -> #REF! | D41: =SUM(D8:D40) -> #REF! | E41: SEM 1 | F41: SEM 2 | G41: SEM 3 | H41: SEM 4 | I41: SEM 5 | J41: SEM 6
B42: Porcentaje (%) de ejecución programado | D42: SEMANAL | E42: =SUM(E8:E39) -> #REF! | F42: =SUM(F8:F39) -> #REF! | G42: =SUM(G8:G39) -> #REF! | H42: =SUM(H8:H39) -> #REF! | I42: =SUM(I8:I39) -> #REF! | J42: =SUM(J8:J39) -> #REF!
B43: Porcentaje (%) de ejecución programado acumul. | D43: Acumul. | E43: =E42 -> #REF! | F43: =E43+F42 -> #REF! | G43: =F43+G42 -> #REF! | H43: =G43+H42 -> #REF! | I43: =H43+I42 -> #REF! | J43: =I43+J42 -> #REF!
...

Sheet PRESTACIONES
A2: CÁLCULO DEL FACTOR PRESTACIONAL
A3: 1.- | B3: DIAS PAGADOS POR DURACIÓN DEL CONTRATO
A5: PRESTACIONES SOCIALES | E5: UNIDAD | F5: CANTIDAD
A6: Jornales | E6: DIAS | F6: 360
A7: Cesantías | E7: DIAS | F7: 30
A8: Intereses por cesantías (12% sobre las cesantías) | E8: DIAS | F8: 3.6
A9: Prima de servicios | E9: DIAS | F9: 30
A10: Salud 12% | E10: DIAS | F10: 43
A11: Pensión 15,5% | E11: DIAS | F11: 56
A12: Aporte caja de compensación 4% | E12: DIAS | F12: 14.6
A13: SENA 2% | E13: DIAS | F13: 7.2
A14: I.C.B.F. 3% | E14: DIAS | F14: 10.9
A15: TOTAL DIAS PAGADOS | F15: =SUM(F6:F14) -> 555.3
A16: 2.- | B16: DIAS TRABAJADOS
A18: DIAS TRABAJADOS DURANTE EL AÑO | E18: UNIDAD | F18: CANTIDAD
A19: Calendario | E19: DIAS | F19: 365
A20: Domingos | E20: DIAS | F20: -18
A21: Festivos | E21: DIAS | F21: -54
A22: TOTAL DIAS TRABAJADOS | E22: DIAS | F22: =SUM(F19:F21) -> 293
A26: Por lo tanto:
B28: % de Recargo Real = | C28: =F15/F22 -> 1.8952218 | D28: =F15/F22 -> 1.8952218 | E28: =ROUND(+D28-100%,4) -> 0.8952

Sheet CUADRILLAS DE OBRA
A2: VALOR DEL PERSONAL POR FUNCIONES
A4: 1.- | B4: DISCRIMINACION DE PERSONAL
A7: DESCRIPCIÓN | C7: VALOR MENSUAL | D7: JORNAL | E7: H-h | F7: Prestaciones 89,52% | G7: Total con prestaciones
A8: Ayudante | C8: 908526 | D8: =+C8/30 -> 30284.2 | E8: =+D8/8 -> 3785.525 | F8: =+C8*0.8952 -> 813312.48 | G8: =+C8+F8 -> 1721838.5
A9: Oficial mampostero | C9: =C8*1.5 -> 1362789 | D9: =+C9/30 -> 45426.3 | E9: =+D9/8 -> 5678.2875 | F9: =+C9*0.8952 -> 1219968.7 | G9: =+C9+F9 -> 2582757.7
A10: Oficial pavimentos | C10: =C8*1.7 -> 1544494.2 | D10: =+C10/30 -> 51483.14 | E10: =+D10/8 -> 6435.3925 | F10: =+C10*0.8952 -> 1382631.2 | G10: =+C10+F10 -> 2927125.4
A11: Maestro de obra | C11: =C8*2 -> 1817052 | D11: =+C11/30 -> 60568.4 | E11: =+D11/8 -> 7571.05 | F11: =+C11*0.8952 -> 1626625 | G11: =+C11+F11 -> 3443677
A12: Carpintero | C12: =C8*1.6 -> 1453641.6 | D12: =+C12/30 -> 48454.72 | E12: =+D12/8 -> 6056.84 | F12: =+C12*0.8952 -> 1301300 | G12: =+C12+F12 -> 2754941.6
A13: Operario de soldadura | C13: =C8*1.7 -> 1544494.2 | D13: =+C13/30 -> 51483.14 | E13: =+D13/8 -> 6435.3925 | F13: =+C13*0.8952 -> 1382631.2 | G13: =+C13+F13 -> 2927125.4
A14: Operario de maquinaria | C14: =C8*2 -> 1817052 | D14: =+C14/30 -> 60568.4 | E14: =+D14/8 -> 7571.05 | F14: =+C14*0.8952 -> 1626625 | G14: =+C14+F14 -> 3443677
A15: Conductor | C15: =C8*1.5 -> 1362789 | D15: =+C15/30 -> 45426.3 | E15: =+D15/8 -> 5678.2875 | F15: =+C15*0.8952 -> 1219968.7 | G15: =+C15+F15 -> 2582757.7
A16: Oficial especializado | C16: =C8*1.6 -> 1453641.6 | D16: =+C16/30 -> 48454.72 | E16: =+D16/8 -> 6056.84 | F16: =+C16*0.8952 -> 1301300 | G16: =+C16+F16 -> 2754941.6
A17: Ayudante especializado | C17: =C8*1.1 -> 999378.6 | D17: =+C17/30 -> 33312.62 | E17: =+D17/8 -> 4164.0775 | F17: =+C17*0.8952 -> 894643.72 | G17: =+C17+F17 -> 1894022.3
A19: 1.- | B19: DISCRIMINACIÓN POR CUADRILLAS
A21: DESCRIPCIÓN | C21: VALOR MENSUAL | D21: JORNAL | E21: H-h | F21: Prestaciones 89,52% | G21: Total H-h con prestaciones
B22: CUADRILLA 1
A23: 1 Oficial + 1 Ayudante | C23: =C8+C9 -> 2271315 | D23: =+C23/30 -> 75710.5 | E23: =ROUND(D23/8,0) -> 9464 | F23: =+E23*0.8952 -> 8472.1728 | G23: =ROUND(+E23+F23,0) -> 17936
B25: CUADRILLA 2
A26: 2 Ayudantes + 1 Oficial | C26: =C8*2+C9 -> 3179841 | D26: =+C26/30 -> 105994.7 | E26: =ROUND(+D26/8,0) -> 13249 | F26: =+E26*0.8952 -> 11860.505 | G26: =ROUND(+E26+F26,0) -> 25110
B28: CUADRILLA 3
A29: 4 Ayudantes + 1 Oficial | C29: =C8*4+C9 -> 4996893 | D29: =+C29/30 -> 166563.1 | E29: =ROUND(+D29/8,0) -> 20820 | F29: =+E29*0.8952 -> 18638.064 | G29: =ROUND(+E29+F29,0) -> 39458
B31: CUADRILLA ESPECIAL
A32: 1 oficial especial + a 1 ayudante especial | C32: =C16+C17 -> 2453020.2 | D32: =C32/30 -> 81767.34 | E32: =ROUND(D32/8,0) -> 10221 | F32: =+E32*0.8952 -> 9149.8392 | G32: =ROUND(+E32+F32,0) -> 19371

Sheet AIU 
A1: =+PRESUPUESTO!A2 -> EJECUCIÓN DE ACCIÓN DE MEJORAMIENTO AMBIENTAL Y PAISAJÍSTICO DE LA ZONA VERDE COMPLEMENTARIA AL ESPACIO PÚBLICO DEL ESCENARIO DEPORTIVO EXISTENTE EN LA VEREDA SAN RAFAEL, MUNICIPIO DE MORALES, DEPARTAMENTO DEL CAUCA
A2: CÁLCULO DE ADMINISTRACION - UTILIDAD E IMPREVISTOS: AUI
C4: COSTO DIRECTO DEL PROYECTO | H4: =+PRESUPUESTO!F39 -> 40959401
A6: 1. GASTOS TECNICOS Y AMINISTRATIVOS | D6: VALOR/MES | E6: PERMANENCIA EN OBRA | F6: # DE MESES | G6: VALOR TOTAL | H6: PORCENTAJE RESPECTO A LOS COSTOS DIRECTOS
B7: Ingeniero Residente | D7: 2800000 | E7: Permanente | F7: 1.5 | G7: =+F7*D7 -> 4200000 | H7: =+G7/H$4 -> 0.10254056
B8: Servicios de oficina | D8: 130000 | F8: 1.5 | G8: =+F8*D8 -> 195000 | H8: =+G8/H$4 -> 0.0047608118
B9: Papelería | D9: 125000 | F9: 1.5 | G9: =+F9*D9 -> 187500 | H9: =+G9/H$4 -> 0.0045777037
B10: Servicios de comunicación | D10: 150000 | F10: 1.5 | G10: =+F10*D10 -> 225000 | H10: =+G10/H$4 -> 0.0054932444
B11: Equipos de oficina | D11: 120000 | F11: 1.5 | G11: =+F11*D11 -> 180000 | H11: =+G11/H$4 -> 0.0043945955
B12: Transporte | D12: 625000 | F12: 1.5 | G12: =+F12*D12 -> 937500 | H12: =+G12/H$4 -> 0.022888518
A14: 2. GASTOS DE IMPUESTOS ASOCIADOS A LA ATIVIDAD DELA CONSTRUCCION
B15: Perfeccionamiento y legalización del contrato | G15: =ROUND(+H4*H15,0) -> 204797 | H15: 0.005
B16: Deducciones y retenciones CRC (2% Retefuente, 5% Mininterior) | G16: =ROUND(+H4*H16,0) -> 2867158 | H16: 0.07
B17: Estampilla Unicauca | G17: =ROUND(+H4*H17,0) -> 204797 | H17: 0.005
B18: Papeleria ($ 15.000,oo) | G18: 30000 | H18: =+G18/H4 -> 0.00073243259
A20: COSTOS TOTALES DE ADMINISTRACION: | I20: =ROUND(SUM(H7:H18),4) -> 0.2254
A22: GASTOS POR IMPREVISTOS:
A23: Costos adicionales para cubrir procesos constructivos alternativos por periodo de lluvia | H23: 0.01
A24: Dificultad en el suministro oportuno de materiales | H24: 0.005
A25: Incremento en el costo de materiales | H25: 0.005
A26: COSTOS TOTALES POR IMPREVISTOS | I26: =SUM(H21:H25) -> 0.02
A28: COSTOS POR UTILIDAD
A29: Por cumplimiento pleno de plazo | H29: 0.02
A30: Por balanceo de organización y control de obra periodico | H30: 0.02
A31: Por descuentos por pagos oportunos | H31: 0.01
A32: COSTOS TOTALES POR UTILIDAD | I32: =SUM(H29:H31) -> 0.05
A34: COSTOS TOTALES POR ADMINISTARACION, UTILIDAD E IMPREVISTOS | I34: =ROUND(+I20+I26+I32,4) -> 0.2954
