Workbook
Name _Key1: #REF!
Name _Sort: #REF!
Name CONCRETO: #REF!
Name Listado: [1]Cierre!#REF!

Sheet Información
A1: INFORMACIÓN GENERAL
A2: Proceso Licitatorio | B2: CM-SI-010-2021
A3: Objeto | B3: INTERVENTORÍA TÉCNICA, ADMINISTRATIVA, FINANCIERA, Y AMBIENTAL A LOS CONTRATOS DE OBRA RESULTANTES DEL PROCESO DE LICITACIÓN LP-SI-004-2021 | G3: LOTE O MÓDULO | H3: EXPERIENCIA GENERAL | I3: EXPERIENCIA ESPECÍFICA
A4: Presupuesto oficial M1 | B4: 284000885 | G4: 1 | H4: INTERVENTORÍA A PROYECTOS DE: CONSTRUCCIÓN O MEJORAMIENTO EN PAVIMENTO ASFALTICO O CONCRETO HIDRÁULICO O PLACA HUELLA DE VÍAS PRIMARIAS O SECUNDARIAS O VÍAS TERCIARIAS O VIAS URBANAS O PISTAS DE AEROPUERTOS | I4: N/A
A5: Presupuesto oficial M2 | B5: 286887217 | H5: Nota: Será válida la experiencia que haya sido ejecutada a través de interventoría a proyectos de: Construcción o Mejoramiento o Mantenimiento o Repavimentación o Pavimentación o Conservación de Vías en Asfalto Natural o Asfaltita
A6: Presupuesto oficial M3 | B6: 87497955 | G6: 2 | H6: INTERVENTORÍA A PROYECTOS DE: CONSTRUCCIÓN O MEJORAMIENTO EN PAVIMENTO ASFALTICO O CONCRETO HIDRÁULICO O PLACA HUELLA DE VÍAS PRIMARIAS O SECUNDARIAS O VÍAS TERCIARIAS O VIAS URBANAS O PISTAS DE AEROPUERTOS | I6: N/A
A7: Presupuesto oficial M4 | B7: 303173378 | H7: Nota: Será válida la experiencia que haya sido ejecutada a través de interventoría a proyectos de: Construcción o Mejoramiento o Mantenimiento o Repavimentación o Pavimentación o Conservación de Vías en Asfalto Natural o Asfaltita
A8: Plazo (meses) M1 | B8: 5 | G8: 3 | H8: INTERVENTORÍA A PROYECTOS DE: CONSTRUCCIÓN O REHABILITACIÓN O MEJORAMIENTO O REPAVIMENTACIÓN O PAVIMENTACIÓN DE INFRAESTRUCTURA VIAL PARA TRÁFICO VEHICULAR DE VÍAS URBANAS O DE VÍAS PRIMARIAS O SECUNDARIAS | I8: Por lo menos uno (1) de los contratos válidos aportados como experiencia general debe acreditar la interventoría a la intervención de la estructura de pavimento (asfáltico o hidráulico).
A9: Plazo (meses) M2 | B9: 5 | H9: Nota: No se aceptará experiencia en contratos cuyo objeto o alcance sea exclusivamente en cualquiera de las siguientes actividades de obra a las cuales se realizó la interventoría: componentes de seguridad vial o semaforización o puentes.
A10: Plazo (meses) M3 | B10: 4 | G10: 4 | H10: INTERVENTORÍA A PROYECTOS DE: CONSTRUCCION O MEJORAMIENTO O MANTENIMIENTO O REHABILITACIÓN DE OBRAS DE ESTABILIZACION DE TALUDES O RECUPERACION DE BANCA y ATENCION OBRAS DE EMERGENCIAS MEDIANTE LA CONSTRUCCION DE OBRAS DE ESTABILIZACION DE TALUDES O RECUPERACION DE BANCA | I10: Por lo menos un (1) contrato de los contratos válidos aportados como experiencia general que corresponda a la realización de la interventoría a un proyecto de: CONSTRUCCION DE OBRAS DE ESTABILIZACION DE TALUDES O RECUPERACION DE BANCA y el valor corresponda como mínimo al 70% del Presupuesto Oficial.
A11: Plazo (meses) M4 | B11: 6
A12: Apertura del proceso | B12: 44386
A13: Cierre del Proceso | B13: 44393
A15: REQUISITOS FINANCIEROS HABILITANTES
A16: Liquidez Activo corriente/Pasivo Corriente ≥ 1.0 | B16: 1
A17: Nivel de endeudamiento Pasivo Total/Activo Total ≤ 0.7 | B17: 0.7
A18: Razón covertura de intereses Utilidad operacional/gastos de intereses ≥ 1.0 | B18: 1
A19: Capital de trabajo | B19: =ROUNDUP((B7/B11)*3,0) -> 151586689
A21: REQUISITOS ORGANIZACIONALES HABILITANTES
A22: Rentabilidad del patrimonio (ROE) Utilidad operacional/Patrimonio ≥ 0% | B22: 0
A23: Rentabilidad del activo (ROA) Utilidad operacional/Activo total ≥ 0% | B23: 0
A25: CRITERIOS DE CALIFICACIÓN DE LA EXPERIENCIA
A26: Presupuesto Oficial SMMLV M1 | B26: =ROUND(B4/908526,2) -> 312.6 | C26: 2.38
A27: Presupuesto Oficial SMMLV M2 | B27: =ROUND(B5/908526,2) -> 315.77 | C27: 2.69
A28: Presupuesto Oficial SMMLV M3 | B28: =ROUND(B6/908526,2) -> 96.31 | C28: 0.412
A29: Presupuesto Oficial SMMLV M4 | B29: =ROUND(B7/908526,2) -> 333.7 | C29: N/A

Sheet Cierre
A1: No. | B1: PROPONENTE | C1: REPRESENTANTE LEGAL | D1: CONFORMACIÓN CONSORCIO | E1: % | G1: % EXPERIENCIA | I1: MÓDULO 1 | J1: MÓDULO 2 | K1: MÓDULO 3 | L1: MÓDULO 4 | N1: Abogados | O1: Financieros | P1: Técnicos
A2: 1 | B2: CONSORCIO ORIÓN 136 | C2: LUIS ALEJANDRO MURCIA SALAMANCA | D2: HIDROS DE COLOMBIA S.A.S. | E2: 0.05 | F2: =SUMIF(Experiencia!D:D,D2,Experiencia!O:O) -> 0 | G2: =IF(COUNTIF(Experiencia!$O:$O,A2)<2,F2/(Información!$B$29*0.75),IF(OR(COUNTIF(Experiencia!$O:$O,A2)=3,COUNTIF(Experiencia!$O:$O,A2)=4)=TRUE,F2/(Información!$B$29*1.2),F2/(Información!$B$29*1.5))) -> 0 | I2: X | J2: X | K2: X | N2: JEOS | O2: JMVV | P2: CDT
D3: GERENCIA EN OBRAS CIVILES S.A.S. | E3: 0.95 | F3: =SUMIF(Experiencia!D:D,D3,Experiencia!O:O) -> 0 | G3: =IF(COUNTIF(Experiencia!$O:$O,A2)<2,F3/(Información!$B$29*0.75),IF(OR(COUNTIF(Experiencia!$O:$O,A2)=3,COUNTIF(Experiencia!$O:$O,A2)=4)=TRUE,F3/(Información!$B$29*1.2),F3/(Información!$B$29*1.5))) -> 0
A4: 2 | B4: ARM CONSULTING LTDA. | C4: ÁNGEL ARTURO RINCÓN SUÁREZ | D4: =B4 -> ARM CONSULTING LTDA. | E4: 1 | F4: =SUMIF(Experiencia!D:D,D4,Experiencia!O:O) -> 819.42 | G4: =IF(COUNTIF(Experiencia!$O:$O,A4)<2,F4/(Información!$B$29*0.75),IF(OR(COUNTIF(Experiencia!$O:$O,A4)=3,COUNTIF(Experiencia!$O:$O,A4)=4)=TRUE,F4/(Información!$B$29*1.2),F4/(Información!$B$29*1.5))) -> 3.2740785 | I4: X | J4: X | K4: X | L4: X | N4: JEOS | O4: JMVV | P4: CDT
A5: 3 | B5: INGECO INGENIERÍA DE CONSTRUCCIONES S.A.S. | C5: CARLOS MARIO ROLON AMAYA | D5: =B5 -> INGECO INGENIERÍA DE CONSTRUCCIONES S.A.S. | E5: 1 | F5: =SUMIF(Experiencia!D:D,D5,Experiencia!O:O) -> 602.15 | G5: =IF(COUNTIF(Experiencia!$O:$O,A5)<2,F5/(Información!$B$29*0.75),IF(OR(COUNTIF(Experiencia!$O:$O,A5)=3,COUNTIF(Experiencia!$O:$O,A5)=4)=TRUE,F5/(Información!$B$29*1.2),F5/(Información!$B$29*1.5))) -> 2.4059535 | I5: X | J5: X | K5: X | L5: X | N5: JEOS | O5: JMVV | P5: CDT
A6: 4 | B6: INGENIERÍA DEL FUTURO S.A.S. | C6: ÁLVARO HERNANDO VERA AYALA | D6: =B6 -> INGENIERÍA DEL FUTURO S.A.S. | E6: 1 | F6: =SUMIF(Experiencia!D:D,D6,Experiencia!O:O) -> 732.87 | G6: =IF(COUNTIF(Experiencia!$O:$O,A6)<2,F6/(Información!$B$29*0.75),IF(OR(COUNTIF(Experiencia!$O:$O,A6)=3,COUNTIF(Experiencia!$O:$O,A6)=4)=TRUE,F6/(Información!$B$29*1.2),F6/(Información!$B$29*1.5))) -> 2.9282589 | I6: X | J6: X | K6: X | L6: X | N6: JEOS | O6: JMVV | P6: CDT
A7: 5 | B7: R&M CONSTRUCCIONES E INTERVENTORÍAS S.A.S. | C7: CESAR EDUARDO GÓMEZ GÓMEZ | D7: =B7 -> R&M CONSTRUCCIONES E INTERVENTORÍAS S.A.S. | E7: 1 | F7: =SUMIF(Experiencia!D:D,D7,Experiencia!O:O) -> 834.03 | G7: =IF(COUNTIF(Experiencia!$O:$O,A7)<2,F7/(Información!$B$29*0.75),IF(OR(COUNTIF(Experiencia!$O:$O,A7)=3,COUNTIF(Experiencia!$O:$O,A7)=4)=TRUE,F7/(Información!$B$29*1.2),F7/(Información!$B$29*1.5))) -> 3.3324543 | I7: X | J7: X | K7: X | L7: X | N7: JEOS | O7: JMVV | P7: CDT
A8: 6 | B8: CONSORCIO INTERVIAL CALDAS 010 | C8: NAIRA DEL CARMEN HERNÁNDEZ LUGO | D8: MAAF S.A.S. | E8: 0.75 | F8: =SUMIF(Experiencia!D:D,D8,Experiencia!O:O) -> 0 | G8: =IF(COUNTIF(Experiencia!$O:$O,A8)<2,F8/(Información!$B$29*0.75),IF(OR(COUNTIF(Experiencia!$O:$O,A8)=3,COUNTIF(Experiencia!$O:$O,A8)=4)=TRUE,F8/(Información!$B$29*1.2),F8/(Información!$B$29*1.5))) -> 0 | I8: X | J8: X | N8: JEOS | O8: JMVV | P8: CDT
D9: CONSTRUOBRAS C&M S.A.S. | E9: 0.25 | F9: =SUMIF(Experiencia!D:D,D9,Experiencia!O:O) -> 0 | G9: =IF(COUNTIF(Experiencia!$O:$O,A8)<2,F9/(Información!$B$29*0.75),IF(OR(COUNTIF(Experiencia!$O:$O,A8)=3,COUNTIF(Experiencia!$O:$O,A8)=4)=TRUE,F9/(Información!$B$29*1.2),F9/(Información!$B$29*1.5))) -> 0
A10: 7 | B10: CARMONA CARVAJAL INGENIEROS S.A.S. | C10: JHON FABER CARMONA MEJÍA | D10: =B10 -> CARMONA CARVAJAL INGENIEROS S.A.S. | E10: 1 | F10: =SUMIF(Experiencia!D:D,D10,Experiencia!O:O) -> 802.99 | G10: =IF(COUNTIF(Experiencia!$O:$O,A10)<2,F10/(Información!$B$29*0.75),IF(OR(COUNTIF(Experiencia!$O:$O,A10)=3,COUNTIF(Experiencia!$O:$O,A10)=4)=TRUE,F10/(Información!$B$29*1.2),F10/(Información!$B$29*1.5))) -> 3.2084307 | I10: X | J10: X | K10: X | L10: X | N10: JEOS | O10: JMVV | P10: CDT
A11: 8 | B11: CONSORCIO INTERVIAS CALDAS | C11: PEDRO JOSÉ CORREDOR BECERRA | D11: PEDRO JOSÉ CORREDOR BECERRA | E11: 0.5 | F11: =SUMIF(Experiencia!D:D,D11,Experiencia!O:O) -> 314.39 | G11: =IF(COUNTIF(Experiencia!$O:$O,A11)<2,F11/(Información!$B$29*0.75),IF(OR(COUNTIF(Experiencia!$O:$O,A11)=3,COUNTIF(Experiencia!$O:$O,A11)=4)=TRUE,F11/(Información!$B$29*1.2),F11/(Información!$B$29*1.5))) -> 1.2561782 | I11: X | J11: X | K11: X | L11: X | N11: JEOS | O11: JMVV | P11: CDT
D12: JORGE WILLAN CORZO GARCÍA | E12: 0.25 | F12: =SUMIF(Experiencia!D:D,D12,Experiencia!O:O) -> 0 | G12: =IF(COUNTIF(Experiencia!$O:$O,A11)<2,F12/(Información!$B$29*0.75),IF(OR(COUNTIF(Experiencia!$O:$O,A11)=3,COUNTIF(Experiencia!$O:$O,A11)=4)=TRUE,F12/(Información!$B$29*1.2),F12/(Información!$B$29*1.5))) -> 0
D13: GERMAN ALONSO PUENTES GORDO | E13: 0.25 | F13: =SUMIF(Experiencia!D:D,D13,Experiencia!O:O) -> 0 | G13: =IF(COUNTIF(Experiencia!$O:$O,A11)<2,F13/(Información!$B$29*0.75),IF(OR(COUNTIF(Experiencia!$O:$O,A11)=3,COUNTIF(Experiencia!$O:$O,A11)=4)=TRUE,F13/(Información!$B$29*1.2),F13/(Información!$B$29*1.5))) -> 0
A14: 9 | B14: ARA INGENIERÍA S.A.S. | C14: KERLY GIOVANNA CUELLAR OBREGÓN | D14: =+B14 -> ARA INGENIERÍA S.A.S. | E14: 1 | F14: =SUMIF(Experiencia!D:D,D14,Experiencia!O:O) -> 729.66 | G14: =IF(COUNTIF(Experiencia!$O:$O,A14)<2,F14/(Información!$B$29*0.75),IF(OR(COUNTIF(Experiencia!$O:$O,A14)=3,COUNTIF(Experiencia!$O:$O,A14)=4)=TRUE,F14/(Información!$B$29*1.2),F14/(Información!$B$29*1.5))) -> 2.915433 | I14: X | J14: X | K14: X | L14: X | N14: JEOS | O14: JMVV | P14: CDT
A15: 10 | B15: HR INGENIERÍA S.A.S. | C15: YELMAN YOHANI HERNÁNDEZ ROJAS | D15: =B15 -> HR INGENIERÍA S.A.S. | E15: 1 | F15: =SUMIF(Experiencia!D:D,D15,Experiencia!O:O) -> 982.4 | G15: =IF(COUNTIF(Experiencia!$O:$O,A15)<2,F15/(Información!$B$29*0.75),IF(OR(COUNTIF(Experiencia!$O:$O,A15)=3,COUNTIF(Experiencia!$O:$O,A15)=4)=TRUE,F15/(Información!$B$29*1.2),F15/(Información!$B$29*1.5))) -> 3.9252822 | I15: X | J15: X | K15: X | L15: X | N15: JEOS | O15: JMVV | P15: CDT
A16: 11 | B16: UNIÓN TEMPORAL INNOVA | C16: ALEJANDRO HERRERA DUQUE | D16: INNOVA PROYECTOS S.A.S. | E16: 0.7 | F16: =SUMIF(Experiencia!D:D,D16,Experiencia!O:O) -> 0 | G16: =IF(COUNTIF(Experiencia!$O:$O,A16)<2,F16/(Información!$B$29*0.75),IF(OR(COUNTIF(Experiencia!$O:$O,A16)=3,COUNTIF(Experiencia!$O:$O,A16)=4)=TRUE,F16/(Información!$B$29*1.2),F16/(Información!$B$29*1.5))) -> 0 | I16: X | J16: X | K16: X | N16: JEOS | O16: JMVV | P16: CDT
D17: DQ INGENIERÍA S.A.S. | E17: 0.3 | F17: =SUMIF(Experiencia!D:D,D17,Experiencia!O:O) -> 0 | G17: =IF(COUNTIF(Experiencia!$O:$O,A16)<2,F17/(Información!$B$29*0.75),IF(OR(COUNTIF(Experiencia!$O:$O,A16)=3,COUNTIF(Experiencia!$O:$O,A16)=4)=TRUE,F17/(Información!$B$29*1.2),F17/(Información!$B$29*1.5))) -> 0
A18: 12 | B18: PAULO EMILIO BRAVO CONSULTORES S.A.S. | C18: MANUEL JOSÉ BRAVO FERNÁNDEZ | D18: =B18 -> PAULO EMILIO BRAVO CONSULTORES S.A.S. | E18: 1 | F18: =SUMIF(Experiencia!D:D,D18,Experiencia!O:O) -> 0 | G18: =IF(COUNTIF(Experiencia!$O:$O,A18)<2,F18/(Información!$B$29*0.75),IF(OR(COUNTIF(Experiencia!$O:$O,A18)=3,COUNTIF(Experiencia!$O:$O,A18)=4)=TRUE,F18/(Información!$B$29*1.2),F18/(Información!$B$29*1.5))) -> 0 | I18: X | J18: X | N18: JEOS | O18: JMVV | P18: CDT
A19: 13 | B19: CONSORCIO NP MANIZALES | C19: MARÍA CLARA POTES MAZUERA | D19: ÁLVARO HERNANDO NARANJO OLAYA | E19: 0.6 | F19: =SUMIF(Experiencia!D:D,D19,Experiencia!O:O) -> 422.69 | G19: =IF(COUNTIF(Experiencia!$O:$O,A19)<2,F19/(Información!$B$29*0.75),IF(OR(COUNTIF(Experiencia!$O:$O,A19)=3,COUNTIF(Experiencia!$O:$O,A19)=4)=TRUE,F19/(Información!$B$29*1.2),F19/(Información!$B$29*1.5))) -> 1.6889022 | I19: X | J19: X | K19: X | L19: X | N19: JEOS | O19: JMVV | P19: CDT
D20: MARÍA CLARA POTES MAZUERA | E20: 0.4 | F20: =SUMIF(Experiencia!D:D,D20,Experiencia!O:O) -> 286.53 | G20: =IF(COUNTIF(Experiencia!$O:$O,A19)<2,F20/(Información!$B$29*0.75),IF(OR(COUNTIF(Experiencia!$O:$O,A19)=3,COUNTIF(Experiencia!$O:$O,A19)=4)=TRUE,F20/(Información!$B$29*1.2),F20/(Información!$B$29*1.5))) -> 1.1448607
A21: 14 | B21: CONSORCIO DS7 | C21: EDGAR HERNÁN GUEVARA MARTÍNEZ | D21: DIN S.A.S. | E21: 0.6 | F21: =SUMIF(Experiencia!D:D,D21,Experiencia!O:O) -> 0 | G21: =IF(COUNTIF(Experiencia!$O:$O,A21)<2,F21/(Información!$B$29*0.75),IF(OR(COUNTIF(Experiencia!$O:$O,A21)=3,COUNTIF(Experiencia!$O:$O,A21)=4)=TRUE,F21/(Información!$B$29*1.2),F21/(Información!$B$29*1.5))) -> 0 | I21: X | J21: X | K21: X | N21: JEOS | O21: JMVV | P21: CDT
D22: SEING S.A.S. BIC | E22: 0.4 | F22: =SUMIF(Experiencia!D:D,D22,Experiencia!O:O) -> 0 | G22: =IF(COUNTIF(Experiencia!$O:$O,A21)<2,F22/(Información!$B$29*0.75),IF(OR(COUNTIF(Experiencia!$O:$O,A21)=3,COUNTIF(Experiencia!$O:$O,A21)=4)=TRUE,F22/(Información!$B$29*1.2),F22/(Información!$B$29*1.5))) -> 0
A23: 15 | B23: CIMAG S.A.S. | C23: HÉCTOR MAURICIO GUTIÉRREZ TRUJILLO | D23: =B23 -> CIMAG S.A.S. | E23: 1 | F23: =SUMIF(Experiencia!D:D,D23,Experiencia!O:O) -> 388.25 | G23: =IF(COUNTIF(Experiencia!$O:$O,A23)<2,F23/(Información!$B$29*0.75),IF(OR(COUNTIF(Experiencia!$O:$O,A23)=3,COUNTIF(Experiencia!$O:$O,A23)=4)=TRUE,F23/(Información!$B$29*1.2),F23/(Información!$B$29*1.5))) -> 1.5512936 | I23: X | J23: X | K23: X | L23: X | N23: JEOS | O23: JMVV | P23: CDT
A24: 16 | B24: CONSORCIO VÍAS CALDAS | C24: ANA MIREYA ARAGÓN PINZÓN | D24: CONSULTORES DESARROLLO Y AMBIENTE S.A.S. | E24: 0.3 | F24: =SUMIF(Experiencia!D:D,D24,Experiencia!O:O) -> 0 | G24: =IF(COUNTIF(Experiencia!$O:$O,A24)<2,F24/(Información!$B$29*0.75),IF(OR(COUNTIF(Experiencia!$O:$O,A24)=3,COUNTIF(Experiencia!$O:$O,A24)=4)=TRUE,F24/(Información!$B$29*1.2),F24/(Información!$B$29*1.5))) -> 0 | J24: X | N24: JEOS | O24: JMVV | P24: CDT
D25: CONSTRUCTORA INGETEC S.A.S. | E25: 0.7 | F25: =SUMIF(Experiencia!D:D,D25,Experiencia!O:O) -> 0 | G25: =IF(COUNTIF(Experiencia!$O:$O,A24)<2,F25/(Información!$B$29*0.75),IF(OR(COUNTIF(Experiencia!$O:$O,A24)=3,COUNTIF(Experiencia!$O:$O,A24)=4)=TRUE,F25/(Información!$B$29*1.2),F25/(Información!$B$29*1.5))) -> 0
A26: 17 | B26: ORGANIZACIÓN VICAN S.A.S. | C26: ANDRÉS ARBOLEDA SALAZAR | D26: =B26 -> ORGANIZACIÓN VICAN S.A.S. | E26: 1 | F26: =SUMIF(Experiencia!D:D,D26,Experiencia!O:O) -> 1403.37 | G26: =IF(COUNTIF(Experiencia!$O:$O,A26)<2,F26/(Información!$B$29*0.75),IF(OR(COUNTIF(Experiencia!$O:$O,A26)=3,COUNTIF(Experiencia!$O:$O,A26)=4)=TRUE,F26/(Información!$B$29*1.2),F26/(Información!$B$29*1.5))) -> 5.607312 | I26: X | J26: X | L26: X | N26: JEOS | O26: JMVV | P26: CDT
A27: 18 | B27: ICONSULTING S.A.S. | C27: SILVANA VERGARA HERNÁNDEZ | D27: =B27 -> ICONSULTING S.A.S. | E27: 1 | F27: =SUMIF(Experiencia!D:D,D27,Experiencia!O:O) -> 619.16 | G27: =IF(COUNTIF(Experiencia!$O:$O,A27)<2,F27/(Información!$B$29*0.75),IF(OR(COUNTIF(Experiencia!$O:$O,A27)=3,COUNTIF(Experiencia!$O:$O,A27)=4)=TRUE,F27/(Información!$B$29*1.2),F27/(Información!$B$29*1.5))) -> 2.4739187 | I27: X | J27: X | K27: X | L27: X | N27: JEOS | O27: JMVV | P27: CDT
A28: 19 | B28: TOTALL S.A.S. | C28: JUAN CARLOS MORALES RIVERA | D28: =B28 -> TOTALL S.A.S. | E28: 1 | F28: =SUMIF(Experiencia!D:D,D28,Experiencia!O:O) -> 0 | G28: =IF(COUNTIF(Experiencia!$O:$O,A28)<2,F28/(Información!$B$29*0.75),IF(OR(COUNTIF(Experiencia!$O:$O,A28)=3,COUNTIF(Experiencia!$O:$O,A28)=4)=TRUE,F28/(Información!$B$29*1.2),F28/(Información!$B$29*1.5))) -> 0 | I28: X | J28: X | K28: X | N28: JEOS | O28: JMVV | P28: CDT
A29: 20 | B29: INGENIERÍA Y CONSULTORÍA - INGECON S.A.S. | C29: ÁNGELA MARÍA DÁVILA MORALES | D29: =B29 -> INGENIERÍA Y CONSULTORÍA - INGECON S.A.S. | E29: 1 | F29: =SUMIF(Experiencia!D:D,D29,Experiencia!O:O) -> 0 | G29: =IF(COUNTIF(Experiencia!$O:$O,A29)<2,F29/(Información!$B$29*0.75),IF(OR(COUNTIF(Experiencia!$O:$O,A29)=3,COUNTIF(Experiencia!$O:$O,A29)=4)=TRUE,F29/(Información!$B$29*1.2),F29/(Información!$B$29*1.5))) -> 0 | I29: X | J29: X | L29: X | N29: JEOS | O29: JMVV | P29: CDT
A30: 21 | B30: INGEOCILCON S.A.S. | C30: LUZ DARY ARIAS SILVA | D30: =B30 -> INGEOCILCON S.A.S. | E30: 1 | F30: =SUMIF(Experiencia!D:D,D30,Experiencia!O:O) -> 0 | G30: =IF(COUNTIF(Experiencia!$O:$O,A30)<2,F30/(Información!$B$29*0.75),IF(OR(COUNTIF(Experiencia!$O:$O,A30)=3,COUNTIF(Experiencia!$O:$O,A30)=4)=TRUE,F30/(Información!$B$29*1.2),F30/(Información!$B$29*1.5))) -> 0 | I30: X | J30: X | K30: X | L30: X | N30: JEOS | O30: JMVV | P30: CDT
A31: 22 | B31: PROYECTISTAS ASOCIADOS S.A.S. | C31: OSCAR ANDRÉS PLAZAS ROLDAN | D31: =B31 -> PROYECTISTAS ASOCIADOS S.A.S. | E31: 1 | F31: =SUMIF(Experiencia!D:D,D31,Experiencia!O:O) -> 0 | G31: =IF(COUNTIF(Experiencia!$O:$O,A31)<2,F31/(Información!$B$29*0.75),IF(OR(COUNTIF(Experiencia!$O:$O,A31)=3,COUNTIF(Experiencia!$O:$O,A31)=4)=TRUE,F31/(Información!$B$29*1.2),F31/(Información!$B$29*1.5))) -> 0 | I31: X | J31: X | K31: X | N31: JEOS | O31: JMVV | P31: CDT
A32: 23 | B32: CONSORCIO EPSILON CAFETERO | C32: WILSON GIOVANNI URREA URREA | D32: PROYECTOS E INTERVENTORÍA S.A.S. - PI S.A.S. | E32: 0.7 | F32: =SUMIF(Experiencia!D:D,D32,Experiencia!O:O) -> 0 | G32: =IF(COUNTIF(Experiencia!$O:$O,A32)<2,F32/(Información!$B$29*0.75),IF(OR(COUNTIF(Experiencia!$O:$O,A32)=3,COUNTIF(Experiencia!$O:$O,A32)=4)=TRUE,F32/(Información!$B$29*1.2),F32/(Información!$B$29*1.5))) -> 0 | I32: X | J32: X | N32: JEOS | O32: JMVV | P32: CDT
D33: INGENIERÍA DE ESTUDIOS Y ASESORÍAS S.A.S. - INESAS S.A.S. | E33: 0.3 | F33: =SUMIF(Experiencia!D:D,D33,Experiencia!O:O) -> 0 | G33: =IF(COUNTIF(Experiencia!$O:$O,A32)<2,F33/(Información!$B$29*0.75),IF(OR(COUNTIF(Experiencia!$O:$O,A32)=3,COUNTIF(Experiencia!$O:$O,A32)=4)=TRUE,F33/(Información!$B$29*1.2),F33/(Información!$B$29*1.5))) -> 0
A34: 24 | B34: GPM PROYECTOS DE INGENIERÍA S.A.S. | C34: GONZALO EDUARDO PAZ MATALLANA | D34: =B34 -> GPM PROYECTOS DE INGENIERÍA S.A.S. | E34: 1 | F34: =SUMIF(Experiencia!D:D,D34,Experiencia!O:O) -> 0 | G34: =IF(COUNTIF(Experiencia!$O:$O,A34)<2,F34/(Información!$B$29*0.75),IF(OR(COUNTIF(Experiencia!$O:$O,A34)=3,COUNTIF(Experiencia!$O:$O,A34)=4)=TRUE,F34/(Información!$B$29*1.2),F34/(Información!$B$29*1.5))) -> 0 | I34: X | J34: X | N34: JEOS | O34: JMVV | P34: CDT
A35: 25 | B35: G Y G CONSTRUCCIONES S.A.S. | C35: CARLOS EDUARDO ESQUIVIA ESCOBAR | D35: =B35 -> G Y G CONSTRUCCIONES S.A.S. | E35: 1 | F35: =SUMIF(Experiencia!D:D,D35,Experiencia!O:O) -> 0 | G35: =IF(COUNTIF(Experiencia!$O:$O,A35)<2,F35/(Información!$B$29*0.75),IF(OR(COUNTIF(Experiencia!$O:$O,A35)=3,COUNTIF(Experiencia!$O:$O,A35)=4)=TRUE,F35/(Información!$B$29*1.2),F35/(Información!$B$29*1.5))) -> 0 | I35: X | J35: X | K35: X | N35: JEOS | O35: JMVV | P35: CDT
A36: 26 | B36: CONSORCIO CAPITAL | C36: FABIAN ANDRÉS VALLEJO PACHÓN | D36: VALLEJO H INGENIEROS CONSULTORES CONSTRUCTORES S.A.S. | E36: 0.5 | F36: =SUMIF(Experiencia!D:D,D36,Experiencia!O:O) -> 535.92 | G36: =IF(COUNTIF(Experiencia!$O:$O,A36)<2,F36/(Información!$B$29*0.75),IF(OR(COUNTIF(Experiencia!$O:$O,A36)=3,COUNTIF(Experiencia!$O:$O,A36)=4)=TRUE,F36/(Información!$B$29*1.2),F36/(Información!$B$29*1.5))) -> 2.1413245 | I36: X | J36: X | K36: X | L36: X | N36: JEOS | O36: JMVV | P36: CDT
D37: COMPAÑÍA CONSULTORA COLOMBIANA TRIPLE C S.A.S. | E37: 0.5 | F37: =SUMIF(Experiencia!D:D,D37,Experiencia!O:O) -> 773.78 | G37: =IF(COUNTIF(Experiencia!$O:$O,A36)<2,F37/(Información!$B$29*0.75),IF(OR(COUNTIF(Experiencia!$O:$O,A36)=3,COUNTIF(Experiencia!$O:$O,A36)=4)=TRUE,F37/(Información!$B$29*1.2),F37/(Información!$B$29*1.5))) -> 3.0917191
A38: 27 | B38: CONSORCIO INTERCOLOMBIA | C38: JOSÉ ANDRÉS MURILLO MAYORGA | D38: MIRS LATINOAMÉRICA S.A.S. | E38: 0.5 | F38: =SUMIF(Experiencia!D:D,D38,Experiencia!O:O) -> 0 | G38: =IF(COUNTIF(Experiencia!$O:$O,A38)<2,F38/(Información!$B$29*0.75),IF(OR(COUNTIF(Experiencia!$O:$O,A38)=3,COUNTIF(Experiencia!$O:$O,A38)=4)=TRUE,F38/(Información!$B$29*1.2),F38/(Información!$B$29*1.5))) -> 0 | I38: X | J38: X | K38: X | N38: JEOS | O38: JMVV | P38: CDT
D39: A2M PROYECTOS DE INGENIERÍA S.A.S. | E39: 0.5 | F39: =SUMIF(Experiencia!D:D,D39,Experiencia!O:O) -> 0 | G39: =IF(COUNTIF(Experiencia!$O:$O,A38)<2,F39/(Información!$B$29*0.75),IF(OR(COUNTIF(Experiencia!$O:$O,A38)=3,COUNTIF(Experiencia!$O:$O,A38)=4)=TRUE,F39/(Información!$B$29*1.2),F39/(Información!$B$29*1.5))) -> 0
A40: 28 | B40: R&J INGENIERÍA S.A.S. | C40: JUAN DIEGO JIMÉNEZ SERNA | D40: =B40 -> R&J INGENIERÍA S.A.S. | E40: 1 | F40: =SUMIF(Experiencia!D:D,D40,Experiencia!O:O) -> 0 | G40: =IF(COUNTIF(Experiencia!$O:$O,A40)<2,F40/(Información!$B$29*0.75),IF(OR(COUNTIF(Experiencia!$O:$O,A40)=3,COUNTIF(Experiencia!$O:$O,A40)=4)=TRUE,F40/(Información!$B$29*1.2),F40/(Información!$B$29*1.5))) -> 0 | I40: X | J40: X | N40: JEOS | O40: JMVV | P40: CDT
...

Sheet Capacidad Juridica
A1: No. | B1: PROPONENTE | C1: CARTA PRESENTACIÓN | I1: CONFORMACIÓN CONSORCIAL | N1: CERTIFICADO DE EXISTENCIA Y REPRESENTACIÓN LEGAL | X1: CERTIFICADO DE INSCRIPCIÓN EN EL REGISTRO UNICO DE PROPONENTES (RUP) | AC1: GARANTIA DE SERIEDAD DE LA OFERTA | AH1: OTROS DOCUMENTOS | AO1: HABIL / NO HABIL / SUBSANAR | AP1: OBSERVACIONES
C2: PRESENTA | D2: REPRESENTANTE LEGAL | E2: INGENIERO QUE AVALA LA PROPUESTA (Nombre) Si es el mismo representante legal, repetir nombre | F2: MATRICULA PROFESIONAL (No. de la Tarjeta) | G2: CERTIFICADO COPNIA (Presenta/no presenta) | H2: VIGENCIA CERTIFICADO (Fecha Expedición) | I2: PRESENTA (SI/NO) | J2: TIPO (C/UT/I) | K2: DURACION (CUMPLE / NO CUMPLE) | L2: NOMBRE | M2: % PARTICIPACIÓN | N2: PRESENTA (SI/NO) | O2: FECHA DE EXPEDICIÓN | P2: DOMICILIO (Ciudad) | Q2: OBJETO SOCIAL | R2: DURACIÓN DE LA SOCIEDAD | S2: REPRESENTANTE LEGAL | T2: LIMITACIONES AL REPRESENTANTE LEGAL | U2: AUTORIZACIÓN DEL ORGANO SOCIAL | V2: NOMBRAMIENTO DEL REVISOR FISCAL | W2: FOTOCOPIA CÉDULA DEL REPRESENTANTE LEGAL | X2: PRESENTA (SI/NO) | Y2: FECHA DE EXPEDICIÓN (dd/mm/aaaa) | Z2: SANCIONES CONSIGNADAS EN EL RUP | AA2: RENOVADO | AB2: FIRMEZA RUP | AC2: FORMATO A FAVOR DE ENTIDADES ESTATALES | AD2: TOMADOR | AE2: VIGENCIA (HASTA) (DD/MM/AAAA) | AF2: VALOR ($) | AG2: BENEFICIARIO GOBERNACIÓN | AH2: CERTIFICADO DE ANTECEDENTES FISCALES DE LA CONTRALORIA GENERAL DE LA REPUBLICA | AI2: CERTIFICADO DE ANTECEDENTES DISCIPLINARIOS DE LA PROCURADURIA GENERAL DE LA NACION | AJ2: CERTIFICADO DE ANTECEDENTES JUDICIALES | AK2: CERTIFICACIÓN DE PAGOS DE SEGURIDAD SOCIAL Y APORTES PARAFISCALES | AL2: PACTO DE TRASPARENCIA | AM2: COPIA TARJETA PROFESIONAL CONTADOR O REVISOR FISCAL | AN2: ANTECEDENTES DISCIPLINARIOS JCC
A3: 1 | B3: =VLOOKUP($A3,Cierre!$A:$E,2,FALSE) -> CONSORCIO ORIÓN 136 | C3: PRESENTA | D3: =VLOOKUP($A3,Cierre!$A:$E,3,FALSE) -> LUIS ALEJANDRO MURCIA SALAMANCA | E3: LUIS ALEJANDRO MURCIA SALAMANCA | F3: 25202-81260CND | G3: PRESENTA | H3: 44338 | I3: PRESENTA | J3: C | K3: CUMPLE | L3: HIDROS DE COLOMBIA S.A.S. | M3: 0.05 | N3: PRESENTA | O3: 44386 | P3: BOGOTÁ D.C | Q3: CUMPLE | R3: CUMPLE | S3: LUIS ALEJANDRO MURCIA SALAMANCA | T3: N/A | U3: N/A | V3: N/A | W3: PRESENTA | X3: PRESENTA | Y3: 44386 | Z3: N/A | AA3: CUMPLE | AB3: CUMPLE | AC3: CUMPLE | AD3: CONSORCIO ORION 136 | AE3: 44543 | AF3: 65838606 | AG3: CUMPLE | AH3: CONSULTADOS ENTIDAD | AI3: CONSULTADOS ENTIDAD | AJ3: CONSULTADOS ENTIDAD | AK3: CUMPLE | AL3: CUMPLE | AM3: N/A | AN3: N/A | AO3: HÁBIL
L4: GERENCIA EN OBRAS CIVILES S.A.S. | M4: 0.95 | N4: PRESENTA | O4: 44383 | P4: BOGOTÁ D.C | Q4: CUMPLE | R4: CUMPLE | S4: JAIME ANDRÉS VILLABONA VALENCIA | T4: N/A | U4: N/A | V4: PRESENTA | W4: PRESENTA | X4: PRESENTA | Y4: 44383 | Z4: N/A | AA4: CUMPLE | AB4: CUMPLE | AH4: CONSULTADOS ENTIDAD | AI4: CONSULTADOS ENTIDAD | AJ4: CONSULTADOS ENTIDAD | AK4: CUMPLE | AL4: CUMPLE | AM4: CUMPLE | AN4: CUMPLE
A5: 2 | B5: =VLOOKUP($A5,Cierre!$A:$E,2,FALSE) -> ARM CONSULTING LTDA. | C5: PRESENTA | D5: =VLOOKUP($A5,Cierre!$A:$E,3,FALSE) -> ÁNGEL ARTURO RINCÓN SUÁREZ | E5: ÁNGEL ARTURO RINCÓN SUÁREZ | F5: 25202-81669 | G5: PRESENTA | H5: 44398 | I5: N/A | J5: I | K5: N/A | L5: ARM CONSULTING LTDA. | M5: 1 | N5: PRESENTA | O5: 25*-06-21 | P5: VILLAVIVENCIO | Q5: CUMPLE | R5: CUMPLE | S5: ÁNGEL ARTURO RINCÓN SUÁREZ | T5: N/A | U5: N/A | V5: PRESENTA | W5: PRESENTA | X5: PRESENTA | Y5: 44372 | Z5: N/A | AA5: CUMPLE | AB5: CUMPLE | AC5: CUMPLE | AD5: ARM CONSULTING LTDA | AE5: 44531 | AF5: 96155944 | AG5: CUMPLE | AH5: CUMPLE | AI5: CUMPLE | AJ5: CUMPLE | AK5: CUMPLE | AL5: CUMPLE | AM5: CUMPLE | AN5: CUMPLE | AO5: HÁBIL
A6: 3 | B6: =VLOOKUP($A6,Cierre!$A:$E,2,FALSE) -> INGECO INGENIERÍA DE CONSTRUCCIONES S.A.S. | C6: PRESENTA | D6: =VLOOKUP($A6,Cierre!$A:$E,3,FALSE) -> CARLOS MARIO ROLON AMAYA | E6: PEDRO ANTONIO GUTIÉRREZ BUSTILLO | F6: 08202-72599ATL | G6: PRESENTA | H6: 44335 | I6: N/A | J6: I | K6: N/A | L6: INGECO INGENIERÍA DE CONSTRUCCIONES S.A.S. | M6: 1 | N6: PRESENTA | O6: 44391 | P6: BOGOTÁ D.C | Q6: CUMPLE | R6: CUMPLE | S6: CARLOS MARIO ROLON AMAYA | T6: N/A | U6: N/A | V6: PRESENTA | W6: PRESENTA | X6: PRESENTA | Y6: 44364 | Z6: N/A | AA6: CUMPLE | AB6: CUMPLE | AC6: CUMPLE | AD6: INGENIERÍA DE CONSTRUCCIONES SAS | AE6: 44516 | AF6: 96155944 | AG6: CUMPLE | AH6: CUMPLE | AI6: CUMPLE | AJ6: CUMPLE | AK6: CUMPLE | AL6: CUMPLE | AM6: CUMPLE | AN6: CUMPLE | AO6: HÁBIL
A7: 4 | B7: =VLOOKUP($A7,Cierre!$A:$E,2,FALSE) -> INGENIERÍA DEL FUTURO S.A.S. | C7: PRESENTA | D7: =VLOOKUP($A7,Cierre!$A:$E,3,FALSE) -> ÁLVARO HERNANDO VERA AYALA | E7: ÁLVARO HERNANDO VERA AYALA | F7: 25202-315979 | G7: PRESENTA | H7: 44323 | I7: N/A | J7: I | K7: N/A | L7: INGENIERÍA DEL FUTURO S.A.S. | M7: 1 | N7: PRESENTA | O7: 44364 | P7: BOGOTÁ D.C | Q7: CUMPLE | R7: CUMPLE | S7: ÁLVARO HERNANDO VERA AYALA | T7: N/A | U7: N/A | V7: N/A | W7: PRESENTA | X7: PRESENTA | Y7: 44375 | Z7: N/A | AA7: CUMPLE | AB7: CUMPLE | AC7: CUMPLE | AD7: INGENIERÍA DEL FUTURO SAS | AE7: 44546 | AF7: 96155944 | AG7: CUMPLE | AH7: CUMPLE | AI7: CONSULTADOS ENTIDAD | AJ7: CONSULTADOS ENTIDAD | AK7: CUMPLE | AL7: CUMPLE | AM7: N/A | AN7: N/A | AO7: HÁBIL
A8: 5 | B8: =VLOOKUP($A8,Cierre!$A:$E,2,FALSE) -> R&M CONSTRUCCIONES E INTERVENTORÍAS S.A.S. | C8: PRESENTA | D8: =VLOOKUP($A8,Cierre!$A:$E,3,FALSE) -> CESAR EDUARDO GÓMEZ GÓMEZ | E8: CÉSAR EDUARDO GÓMEZ GÓMEZ | F8: 25202-18992CND | G8: PRESENTA | H8: 44312 | I8: N/A | J8: I | K8: CUMPLE | L8: R&M CONSTRUCCIONES E INTERVENTORÍAS S.A.S. | M8: 1 | N8: PRESENTA | O8: 44375 | P8: BOGOTÁ D.C | Q8: CUMPLE | R8: CUMPLE | S8: CÉSAR EDUARDO GÓMEZ GÓMEZ | T8: N/A | U8: N/A | V8: PRESENTA | W8: PRESENTA | X8: PRESENTA | Y8: 44375 | Z8: N/A | AA8: CUMPLE | AB8: CUMPLE | AC8: CUMPLE | AD8: R & M CONSTRUCCIONES E INTERVENTORÍA SAS | AE8: 44528 | AF8: 96155944 | AG8: CUMPLE | AH8: CUMPLE | AI8: CUMPLE | AJ8: CUMPLE | AK8: CUMPLE | AL8: CUMPLE | AM8: CUMPLE | AN8: CUMPLE | AO8: HÁBIL
A9: 6 | B9: =VLOOKUP($A9,Cierre!$A:$E,2,FALSE) -> CONSORCIO INTERVIAL CALDAS 010 | C9: PRESENTA | D9: =VLOOKUP($A9,Cierre!$A:$E,3,FALSE) -> NAIRA DEL CARMEN HERNÁNDEZ LUGO | E9: CLÍMACO MIGUEL RODRÍGUEZ JULIO | F9: 082020-101215 | G9: PRESENTA | H9: 44312 | I9: PRESENTA | J9: C | K9: CUMPLE | L9: MAAF S.A.S. | M9: 0.75 | N9: PRESENTA | O9: 44385 | P9: MONTERÍA | Q9: CUMPLE | R9: CUMPLE | S9: NAIRA DEL CARMEN HERNÁNDEZ LUGO | T9: N/A | U9: N/A | V9: PRESENTA | W9: PRESENTA | X9: PRESENTA | Y9: 44385 | Z9: N/A | AA9: CUMPLE | AB9: CUMPLE | AC9: CUMPLE | AD9: CONSORCIO INTERVIAL CALDAS 010 | AE9: 44499 | AF9: 96155944 | AG9: CUMPLE | AH9: CUMPLE | AI9: CUMPLE | AJ9: CUMPLE | AK9: CUMPLE | AL9: CUMPLE | AM9: CUMPLE | AN9: CUMPLE | AO9: HÁBIL
L10: CONSTRUOBRAS C&M S.A.S. | M10: 0.25 | N10: PRESENTA | O10: 44385 | P10: LORICA | Q10: CUMPLE | R10: CUMPLE | S10: CLIMACO MIGUEL RODRÍGUEZ JULIO | T10: N/A | U10: N/A | V10: PRESENTA | W10: PRESENTA | X10: PRESENTA | Y10: 44371 | Z10: N/A | AA10: CUMPLE | AB10: CUMPLE | AH10: CUMPLE | AI10: CUMPLE | AJ10: CUMPLE | AK10: CUMPLE | AL10: CUMPLE | AM10: CUMPLE | AN10: CUMPLE
A11: 7 | B11: =VLOOKUP($A11,Cierre!$A:$E,2,FALSE) -> CARMONA CARVAJAL INGENIEROS S.A.S. | C11: PRESENTA | D11: =VLOOKUP($A11,Cierre!$A:$E,3,FALSE) -> JHON FABER CARMONA MEJÍA | E11: JHON FABER CARMONA MEJÍA | F11: 63202-42081QND | G11: PRESENTA | H11: 44370 | I11: N/A | J11: I | K11: N/A | L11: CARMONA CARVAJAL INGENIEROS S.A.S. | M11: 1 | N11: PRESENTA | O11: 44375 | P11: ARMENIA | Q11: CUUMPLE | R11: CUMPLE | S11: JHON FABER CARMONA MEJÍA | T11: N/A | U11: N/A | V11: N/A | W11: PRESENTA | X11: PRESENTA | Y11: 44375 | Z11: N/A | AA11: CUMPLE | AB11: CUMPLE | AC11: CUMPLE | AD11: CARMONA CARVAJAL INGENIEROS SAS | AE11: 44499 | AF11: 96155944 | AG11: CUMPLE | AH11: CUMPLE | AI11: CUMPLE | AJ11: CUMPLE | AK11: CUMPLE | AL11: CUMPLE | AM11: CUMPLE | AN11: CUMPLE | AO11: HÁBIL
A12: 8 | B12: =VLOOKUP($A12,Cierre!$A:$E,2,FALSE) -> CONSORCIO INTERVIAS CALDAS | C12: PRESENTA | D12: =VLOOKUP($A12,Cierre!$A:$E,3,FALSE) -> PEDRO JOSÉ CORREDOR BECERRA | E12: PEDRO JOSÉ CORREDOR BECERRA | F12: 01196-0427 | G12: PRESENTA | H12: 44336 | I12: PRESENTA | J12: C | K12: CUMPLE | L12: PEDRO JOSÉ CORREDOR BECERRA | M12: 0.5 | N12: N/A | O12: N/A | P12: N/A | Q12: N/A | R12: N/A | S12: N/A | T12: N/A | U12: N/A | V12: N/A | W12: PRESENTA | X12: PRESENTA | Y12: 44384 | Z12: N/A | AA12: CUMPLE | AB12: CUMPLE | AC12: CUMPLE | AD12: CONSORCIO INTERVÍAS CALDAS | AE12: 44492 | AF12: 30317338 | AG12: CUMPLE | AH12: CUMPLE | AI12: CUMPLE | AJ12: CUMPLE | AK12: CUMPLE | AL12: CUMPLE | AM12: N/A | AN12: N/A | AO12: HÁBIL
L13: JORGE WILLAN CORZO GARCÍA | M13: 0.25 | N13: N/A | O13: N/A | P13: N/A | Q13: N/A | R13: N/A | S13: N/A | T13: N/A | U13: N/A | V13: N/A | W13: PRESENTA | X13: PRESENTA | Y13: 44392 | Z13: N/A | AA13: CUMPLE | AB13: CUMPLE | AH13: CUMPLE | AI13: CUMPLE | AJ13: CUMPLE | AK13: CUMPLE | AL13: CUMPLE | AM13: N/A | AN13: N/A
L14: GERMAN ALONSO PUENTES GORDO | M14: 0.25 | N14: N/A | O14: N/A | P14: N/A | Q14: N/A | R14: N/A | S14: N/A | T14: N/A | U14: N/A | V14: N/A | W14: PRESENTA | X14: PRESENTA | Y14: 44375 | Z14: N/A | AA14: CUMPLE | AB14: CUMPLE | AH14: CUMPLE | AI14: CUMPLE | AJ14: CUMPLE | AK14: CUMPLE | AL14: CUMPLE | AM14: N/A | AN14: N/A
A15: 9 | B15: =VLOOKUP($A15,Cierre!$A:$E,2,FALSE) -> ARA INGENIERÍA S.A.S. | C15: PRESENTA | D15: =VLOOKUP($A15,Cierre!$A:$E,3,FALSE) -> KERLY GIOVANNA CUELLAR OBREGÓN | E15: GABRIEL ALFONSO LOZANO | F15: 25202-44828CND | G15: PRESENTA | H15: 44377 | I15: N/A | J15: I | K15: N/A | L15: ARA INGENIERÍA S.A.S. | M15: 1 | N15: PRESENTA | O15: 44364 | P15: BOGOTÁ D.C | Q15: CUMPLE | R15: CUMPLE | S15: KERLY GIOVANNA CUÉLLAR OBREGÓN | T15: N/A | U15: N/A | V15: PRESENTA | W15: PRESENTA | X15: PRESENTA | Y15: 44370 | Z15: N/A | AA15: CUMPLE | AB15: CUMPLE | AC15: CUMPLE | AD15: ARA INGENIERÍA SAS | AE15: 44546 | AF15: 96155944 | AG15: CUMPLE | AH15: CUMPLE | AI15: CUMPLE | AJ15: CONSULTADOS ENTIDAD | AK15: CUMPLE | AL15: CUMPLE | AM15: N/A | AN15: N/A | AO15: HÁBIL
A16: 10 | B16: =VLOOKUP($A16,Cierre!$A:$E,2,FALSE) -> HR INGENIERÍA S.A.S. | C16: PRESENTA | D16: =VLOOKUP($A16,Cierre!$A:$E,3,FALSE) -> YELMAN YOHANI HERNÁNDEZ ROJAS | E16: YELMAN YOHANI HERNÁNDEZ ROJAS | F16: 25202-092706CN | G16: PRESENTA | H16: 44400 | I16: N/A | J16: I | K16: N/A | L16: HR INGENIERÍA S.A.S. | M16: 1 | N16: PRESENTA | O16: 44386 | P16: BOGOTÁ D.C | Q16: CUMPLE | R16: CUMPLE | S16: YELMAN YOHANI HERNÁNDEZ ROJAS | T16: N/A | U16: N/A | V16: N/A | W16: PRESENTA | X16: PRESENTA | Y16: 44376 | Z16: N/A | AA16: CUMPLE | AB16: CUMPLE | AC16: CUMPLE | AD16: HR INGENIERÍA SAS | AE16: 44531 | AF16: 30317337 | AG16: CUMPLE | AH16: CUMPLE | AI16: CUMPLE | AJ16: CUMPLE | AK16: CUMPLE | AL16: CUMPLE | AM16: N/A | AN16: N/A | AO16: HÁBIL
A17: 11 | B17: =VLOOKUP($A17,Cierre!$A:$E,2,FALSE) -> UNIÓN TEMPORAL INNOVA | C17: PRESENTA | D17: =VLOOKUP($A17,Cierre!$A:$E,3,FALSE) -> ALEJANDRO HERRERA DUQUE | E17: ALEJANDRO HERRERA DUQUE | F17: 17202-154624CLD | G17: PRESENTA | H17: 44400 | I17: PRESENTA | J17: UT | K17: CUMPLE | L17: INNOVA PROYECTOS S.A.S. | M17: 0.7 | N17: PRESENTA | O17: 44391 | P17: MANIZALES | Q17: CUMPLE | R17: CUMPLE | S17: ALEJANDRO HERRERA DUQUE | T17: N/A | U17: N/A | V17: N/A | W17: PRESENTA | X17: PRESENTA | Y17: 44363 | Z17: N/A | AA17: CUMPLE | AB17: CUMPLE | AC17: CUMPLE | AD17: U.T INNOVA | AE17: 44495 | AF17: 28688722 | AG17: CUMPLE | AH17: CUMPLE | AI17: CUMPLE | AJ17: CONSULTADOS ENTIDAD | AK17: CUMPLE | AL17: CUMPLE | AM17: N/A | AN17: N/A | AO17: HÁBIL
L18: DQ INGENIERÍA S.A.S. | M18: 0.3 | N18: PRESENTA | O18: 44378 | P18: MANIZALES | Q18: CUMPLE | R18: CUMPLE | S18: DARÍO DE JESÚS QUINTERO PALACIO | T18: N/A | U18: N/A | V18: PRESENTA | W18: PRESENTA | X18: PRESENTA | Y18: 44390 | Z18: N/A | AA18: CUMPLE | AB18: CUMPLE | AH18: CUMPLE | AI18: CUMPLE | AJ18: CONSULTADOS ENTIDAD | AK18: CUMPLE | AL18: CUMPLE | AM18: CUMPLE | AN18: CUMPLE
A19: 12 | B19: =VLOOKUP($A19,Cierre!$A:$E,2,FALSE) -> PAULO EMILIO BRAVO CONSULTORES S.A.S. | C19: PRESENTA | D19: =VLOOKUP($A19,Cierre!$A:$E,3,FALSE) -> MANUEL JOSÉ BRAVO FERNÁNDEZ | E19: MANUEL JOSÉ BRAVO FERNÁNDEZ | F19: 19000-00891CAU | G19: PRESENTA | H19: 44351 | I19: N/A | J19: I | K19: N/A | L19: PAULO EMILIO BRAVO CONSULTORES S.A.S. | M19: 1 | N19: PRESENTA | O19: 44375 | P19: CALI | Q19: CUMPLE | R19: CUMPLE | S19: MANUEL JOSÉ BRAVO FERNÁNDEZ | T19: N/A | U19: N/A | V19: PRESENTA | W19: PRESENTA | X19: PRESENTA | Y19: 44375 | Z19: N/A | AA19: CUMPLE | AB19: CUMPLE | AC19: CUMPLE | AD19: PAULO EMILIO BRAVO CONSULTORES SAS | AE19: 44516 | AF19: 96155944 | AG19: CUMPLE | AH19: CUMPLE | AI19: CUMPLE | AJ19: CUMPLE | AK19: CUMPLE | AL19: CUMPLE | AM19: CUMPLE | AN19: CUMPLE | AO19: HÁBIL
A20: 13 | B20: =VLOOKUP($A20,Cierre!$A:$E,2,FALSE) -> CONSORCIO NP MANIZALES | C20: PRESENTA | D20: =VLOOKUP($A20,Cierre!$A:$E,3,FALSE) -> MARÍA CLARA POTES MAZUERA | E20: MARÍA CLARA POTES MAZUERA | F20: 17202-130146CLD | G20: PRESENTA | H20: 44400 | I20: PRESENTA | J20: C | K20: CUMPLE | L20: ALVARO HERNANDO NARANJO OLAYA | M20: 0.6 | N20: N/A | O20: N/A | P20: N/A | Q20: N/A | R20: N/A | S20: N/A | T20: N/A | U20: N/A | V20: N/A | W20: PRESENTA | X20: PRESENTA | Y20: 44358 | Z20: N/A | AA20: CUMPLE | AB20: CUMPLE | AC20: CUMPLE | AD20: CONSORCIO NP MANIZALES | AE20: 44494 | AF20: 96156000 | AG20: CUMPLE | AH20: CUMPLE | AI20: CUMPLE | AJ20: CUMPLE | AK20: CUMPLE | AL20: CUMPLE | AM20: N/A | AN20: N/A | AO20: HÁBIL | AP20: subsanado
L21: MARIA CLARA POTES MAZUERA | M21: 0.4 | N21: N/A | O21: N/A | P21: N/A | Q21: N/A | R21: N/A | S21: N/A | T21: N/A | U21: N/A | V21: N/A | W21: PRESENTA | X21: PRESENTA | Y21: 44358 | Z21: N/A | AA21: CUMPLE | AB21: CUMPLE | AH21: CUMPLE | AI21: CUMPLE | AJ21: CUMPLE | AK21: CUMPLE | AL21: CUMPLE | AM21: N/A | AN21: N/A
A22: 14 | B22: =VLOOKUP($A22,Cierre!$A:$E,2,FALSE) -> CONSORCIO DS7 | C22: PRESENTA | D22: =VLOOKUP($A22,Cierre!$A:$E,3,FALSE) -> EDGAR HERNÁN GUEVARA MARTÍNEZ | E22: ÉDGAR HERNÁN GUEVARA MARTÍNEZ | F22: 19202-21640CAU | G22: PRESENTA | H22: 44400 | I22: PRESENTA | J22: C | K22: CUMPLE | L22: DIN S.A.S. | M22: 0.6 | N22: PRESENTA | O22: 44384 | P22: BOGOTÁ D.C | Q22: CUMPLE | R22: CUMPLE | S22: ÉDGAR HERNÁN GUEVARA MARTÍNEZ | T22: PRESENTA | U22: PRESENTA | V22: N/A | W22: PRESENTA | X22: PRESENTA | Y22: 44372 | Z22: PRESENTA | AA22: CUMPLE | AB22: CUMPLE | AC22: CUMPLE | AD22: CONSORCIO DS7 | AE22: 44516 | AF22: 65838606 | AG22: CUMPLE | AH22: CUMPLE | AI22: CUMPLE | AJ22: CUMPLE | AK22: CUMPLE | AL22: CUMPLE | AM22: N/A | AN22: N/A | AO22: HÁBIL
L23: SEING S.A.S. BIC | M23: 0.4 | N23: PRESENTA | O23: 44389 | P23: BOGOTÁ D.C | Q23: CUMPLE | R23: CUMPLE | S23: LUIS ALEJANDRO GONZÁLEZ CAMARGO (CUPLENTE) | T23: N/A | U23: N/A | V23: PRESENTA | W23: PRESENTA | X23: PRESENTA | Y23: 44365 | Z23: N/A | AA23: CUMPLE | AB23: CUMPLE | AH23: CUMPLE | AI23: CUMPLE | AJ23: CUMPLE | AK23: CUMPLE | AL23: CUMPLE | AM23: CUMPLE | AN23: CUMPLE
A24: 15 | B24: =VLOOKUP($A24,Cierre!$A:$E,2,FALSE) -> CIMAG S.A.S. | C24: PRESENTA | D24: =VLOOKUP($A24,Cierre!$A:$E,3,FALSE) -> HÉCTOR MAURICIO GUTIÉRREZ TRUJILLO | E24: HÉCTOR MAURICIO GUTIÉRREZ TRUJILLO | F24: 172202-46456CLD | G24: PRESENTA | I24: N/A | J24: I | K24: N/A | L24: CIMAG S.A.S. | M24: 1 | N24: PRESENTA | O24: 44350 | P24: MEDELLÍN | Q24: CUMPLE | R24: CUMPLE | S24: HÉCTOR MAURICIO GUTIÉRREZ TRUJILLO | T24: N/A | U24: N/A | V24: N/A | W24: PRESENTA | X24: PRESENTA | Y24: 44358 | Z24: N/A | AA24: CUMPLE | AB24: CUMPLE | AC24: CUMPLE | AD24: CIMAG SAS | AE24: 44485 | AF24: 96155944 | AG24: CUMPLE | AH24: CUMPLE | AI24: CUMPLE | AJ24: CUMPLE | AK24: CUMPLE | AL24: CUMPLE | AM24: N/A | AN24: N/A | AO24: HÁBIL | AP24: subsanado
A25: 16 | B25: =VLOOKUP($A25,Cierre!$A:$E,2,FALSE) -> CONSORCIO VÍAS CALDAS | C25: PRESENTA | D25: =VLOOKUP($A25,Cierre!$A:$E,3,FALSE) -> ANA MIREYA ARAGÓN PINZÓN | E25: ANA MIREYA ARAGÓN PINZÓN | F25: 25202-100457CND | G25: PRESENTA | H25: 44341 | I25: PRESENTA | J25: C | K25: CUMPLE | L25: CONSULTORES DESARROLLO Y AMBIENTE S.A.S. | M25: 0.3 | N25: PRESENTA | O25: 44363 | P25: BOGOTÁ D.C | Q25: CUMPLE | R25: CUMPLE | S25: RICARDO MORENO GARCÍA | T25: N/A | U25: N/A | V25: N/A | W25: PRESENTA | X25: PRESENTA | Y25: 44363 | Z25: N/A | AA25: CUMPLE | AB25: CUMPLE | AC25: CUMPLE | AD25: CONSORCIO VÍAS CALDAS | AE25: 44516 | AF25: 96155944 | AG25: CUMPLE | AH25: CUMPLE | AI25: CUMPLE | AJ25: CUMPLE | AK25: CUMPLE | AL25: CUMPLE | AM25: N/A | AN25: N/A | AO25: HÁBIL
L26: CONSTRUCTORA INGETEC S.A.S. | M26: 0.7 | N26: PRESENTA | O26: 44363 | P26: BOGOTÁ D.C | Q26: CUMPLE | R26: CUMPLE | S26: DIEGO FERNEY ARAGÓN PINZÓN | T26: N/A | U26: N/A | V26: N/A | W26: PRESENTA | X26: PRESENTA | Y26: 44363 | Z26: N/A | AA26: CUMPLE | AB26: CUMPLE | AH26: CUMPLE | AI26: CUMPLE | AJ26: CUMPLE | AK26: CUMPLE | AL26: CUMPLE | AM26: N/A | AN26: N/A
A27: 17 | B27: =VLOOKUP($A27,Cierre!$A:$E,2,FALSE) -> ORGANIZACIÓN VICAN S.A.S. | C27: PRESENTA | D27: =VLOOKUP($A27,Cierre!$A:$E,3,FALSE) -> ANDRÉS ARBOLEDA SALAZAR | E27: ANDRÉS ARBOLEDA SALAZAR | F27: 25202-156916CND | G27: PRESENTA | H27: 44365 | I27: N/A | J27: I | K27: N/A | L27: ORGANIZACIÓN VICAN S.A.S. | M27: 1 | N27: PRESENTA | O27: 44375 | P27: BOGOTÁ D.C | Q27: CUMPLE | R27: CUMPLE | S27: ANDRÉS ARBOLEDA SALAZAR | T27: N/A | U27: N/A | V27: N/A | W27: PRESENTA | X27: PRESENTA | Y27: 44368 | Z27: N/A | AA27: CUMPLE | AB27: CUMPLE | AC27: CUMPLE | AD27: ORGANIZACIÓN VICAN SAS | AE27: 44546 | AF27: 30317438 | AG27: CUMPLE | AH27: CUMPLE | AI27: CUMPLE | AJ27: CUMPLE | AK27: CUMPLE | AL27: CUMPLE | AM27: N/A | AN27: N/A | AO27: HÁBIL
A28: 18 | B28: =VLOOKUP($A28,Cierre!$A:$E,2,FALSE) -> ICONSULTING S.A.S. | C28: PRESENTA | D28: =VLOOKUP($A28,Cierre!$A:$E,3,FALSE) -> SILVANA VERGARA HERNÁNDEZ | E28: SILVANA VERGARA HERNÁNDEZ | F28: 05202-106381ANT | G28: PRESENTA | H28: 44403 | I28: N/A | J28: I | K28: N/A | L28: ICONSULTING S.A.S. | M28: 1 | N28: PRESENTA | O28: 44377 | P28: MEDELLÍN | Q28: CUMPLE | R28: CUMPLE | S28: SILVANA VERGARA HERNÁNDEZ | T28: N/A | U28: N/A | V28: PRESENTA | W28: PRESENTA | X28: PRESENTA | Y28: 44377 | Z28: N/A | AA28: CUMPLE | AB28: CUMPLE | AC28: CUMPLE | AD28: INCONSULTING SAS | AE28: 44516 | AF28: 96155944 | AG28: CUMPLE | AH28: CUMPLE | AI28: CUMPLE | AJ28: CONSULTADOS ENTIDAD | AK28: CUMPLE | AL28: CUMPLE | AM28: CUMPLE | AN28: CUMPLE | AO28: HÁBIL
A29: 19 | B29: =VLOOKUP($A29,Cierre!$A:$E,2,FALSE) -> TOTALL S.A.S. | C29: PRESENTA | D29: =VLOOKUP($A29,Cierre!$A:$E,3,FALSE) -> JUAN CARLOS MORALES RIVERA | E29: JUAN CARLOS MORALES RIVERA | F29: 25202-190294CND | G29: PRESENTA | H29: 44388 | I29: N/A | J29: I | K29: N/A | L29: TOTALL S.A.S. | M29: 1 | N29: PRESENTA | O29: 44383 | P29: BOGOTÁ D.C | Q29: CUMPLE | R29: CUMPLE | S29: JUAN CARLOS MORALES RIVERA (SUPLENTE) | T29: N/A | U29: N/A | V29: N/A | W29: PRESENTA | X29: PRESENTA | Y29: 44383 | Z29: N/A | AA29: CUMPLE | AB29: CUMPLE | AC29: CUMPLE | AD29: TOTALL SAS | AE29: 44495 | AF29: 28688722 | AG29: CUMPLE | AH29: CUMPLE | AI29: CUMPLE | AJ29: CUMPLE | AK29: CUMPLE | AL29: CUMPLE | AM29: N/A | AN29: N/A | AO29: HÁBIL
A30: 20 | B30: =VLOOKUP($A30,Cierre!$A:$E,2,FALSE) -> INGENIERÍA Y CONSULTORÍA - INGECON S.A.S. | C30: PRESENTA | D30: =VLOOKUP($A30,Cierre!$A:$E,3,FALSE) -> ÁNGELA MARÍA DÁVILA MORALES | E30: ÁNGELA MARÍA DÁVILA MORALES | F30: 17202-153798CLD | G30: PRESENTA | H30: 44350 | I30: N/A | J30: I | K30: N/A | L30: INGENIERÍA Y CONSULTORÍA - INGECON S.A.S. | M30: 1 | N30: PRESENTA | O30: 44378 | P30: BOGOTÁ D.C | Q30: CUMPLE | R30: CUMPLE | S30: ÁNGELA MARÍA DÁVILA MORALES | T30: N/A | U30: N/A | V30: PRESENTA | W30: PRESENTA | X30: PRESENTA | Y30: 44370 | Z30: N/A | AA30: CUMPLE | AB30: CUMPLE | AC30: CUMPLE | AD30: INGECON SAS | AE30: 16-102-21 | AF30: 30317437 | AG30: CUMPLE | AH30: CUMPLE | AI30: CUMPLE | AJ30: CUMPLE | AK30: CUMPLE | AL30: CUMPLE | AM30: CUMPLE | AN30: CUMPLE | AO30: HÁBIL
A31: 21 | B31: =VLOOKUP($A31,Cierre!$A:$E,2,FALSE) -> INGEOCILCON S.A.S. | C31: PRESENTA | D31: =VLOOKUP($A31,Cierre!$A:$E,3,FALSE) -> LUZ DARY ARIAS SILVA | E31: EDWIN HERNAN OSPINA MOLINA | F31: 05202-75393 ANT | G31: PRESENTA | H31: 44368 | I31: N/A | J31: I | K31: N/A | L31: INGEOCILCON S.A.S. | M31: 1 | N31: PRESENTA | O31: 44387 | P31: MEDELLIN | Q31: CUMPLE | R31: CUMPLE | S31: LUZ DARY ARIAS SILVA | T31: NO PRESENTA | U31: N/A | V31: N/A | W31: PRESENTA | X31: PRESENTA | Y31: 44387 | Z31: NO PRESENTA | AA31: CUMPLE | AB31: CUMPLE | AC31: CUMPLE | AD31: INGEOCILCON S.A.S | AE31: 44516 | AF31: 30.317.337.80 | AG31: CUMPLE | AH31: CUMPLE | AI31: CUMPLE | AJ31: CUMPLE | AK31: CUMPLE | AL31: CUMPLE | AM31: N/A | AN31: N/A | AO31: HÁBIL
A32: 22 | B32: =VLOOKUP($A32,Cierre!$A:$E,2,FALSE) -> PROYECTISTAS ASOCIADOS S.A.S. | C32: PRESENTA | D32: =VLOOKUP($A32,Cierre!$A:$E,3,FALSE) -> OSCAR ANDRÉS PLAZAS ROLDAN | E32: OSCAR ANDRES PLAZAS ROLDAN | F32: 25202-140254 CND | G32: PRESENTA | H32: 44384 | I32: N/A | J32: I | K32: N/A | L32: PROYECTISTAS ASOCIADOS S.A.S. | M32: 1 | N32: PRESENTA | O32: 44398 | P32: BOGOTA D.C | Q32: CUMPLE | R32: CUMPLE | S32: OSCAR ANDRES PLAZAS ROLDAN | T32: NO PRESENTA | U32: N/A | V32: N/A | W32: PRESENTA | X32: PRESENTA | Y32: 44398 | Z32: NO PRESENTA | AA32: CUMPLE | AB32: CUMPLE | AC32: CUMPLE | AD32: PROYECTISTAS ASOCIADOS S.A.S. | AE32: 44492 | AF32: 28.688.721.70 | AG32: CUMPLE | AH32: CUMPLE | AI32: CUMPLE | AJ32: CUMPLE | AK32: CUMPLE | AL32: CUMPLE | AM32: N/A | AN32: N/A | AO32: HÁBIL
A33: 23 | B33: =VLOOKUP($A33,Cierre!$A:$E,2,FALSE) -> CONSORCIO EPSILON CAFETERO | C33: PRESENTA | D33: =VLOOKUP($A33,Cierre!$A:$E,3,FALSE) -> WILSON GIOVANNI URREA URREA | E33: WILSON GIOVANNI URREA URREA | F33: 25202-47653 CND | G33: PRESENTA | H33: 44398 | I33: PRESENTA | J33: C | K33: CUMPLE | L33: PROYECTOS E INTERVENTORÍA S.A.S. - PI S.A.S. | M33: 0.7 | N33: PRESENTA | O33: 44403 | P33: BOGOTA D.C | Q33: CUMPLE | R33: CUMPLE | S33: WILSON GIOVANNI URREA URREA | T33: NO PRESENTA | U33: N/A | V33: N/A | W33: PRESENTA | X33: PRESENTA | Y33: 44373 | Z33: NO PRESENTA | AA33: CUMPLE | AB33: CUMPLE | AC33: CUMPLE | AD33: CONSORCIO EPSILON CAFETERO | AE33: 44526 | AF33: 96.155.943.50 | AG33: CUMPLE | AH33: CUMPLE | AI33: CUMPLE | AJ33: CUMPLE | AK33: CUMPLE | AL33: CUMPLE | AM33: CUMPLE | AN33: CUMPLE | AO33: HÁBIL
L34: INGENIERÍA DE ESTUDIOS Y ASESORÍAS S.A.S. - INESAS S.A.S. | M34: 0.3 | N34: PRESENTA | O34: 44403 | P34: BOGOTA D.C | Q34: CUMPLE | R34: CUMPLE | S34: HENRY ALEXANDER URREA URREA | T34: NO PRESENTA | U34: N/A | V34: N/A | W34: PRESENTA | X34: PRESENTA | Y34: 44373 | Z34: NO PRESENTA | AA34: CUMPLE | AB34: CUMPLE | AH34: CUMPLE | AI34: CUMPLE | AJ34: CUMPLE | AK34: CUMPLE | AL34: CUMPLE | AM34: CUMPLE | AN34: CUMPLE
A35: 24 | B35: =VLOOKUP($A35,Cierre!$A:$E,2,FALSE) -> GPM PROYECTOS DE INGENIERÍA S.A.S. | C35: PRESENTA | D35: =VLOOKUP($A35,Cierre!$A:$E,3,FALSE) -> GONZALO EDUARDO PAZ MATALLANA | E35: GONZALO EDUARDO PAZ MATALLANA | F35: 76202-81101-VLL | G35: PRESENTA | H35: 44392 | I35: N/A | J35: I | K35: N/A | L35: GPM PROYECTOS DE INGENIERÍA S.A.S. | M35: 1 | N35: PRESENTA | O35: 44366 | P35: CALI | Q35: CUMPLE | R35: CUMPLE | S35: GONZALO EDUARDO PAZ MATALLANA | T35: NO PRESENTA | U35: N/A | V35: N/A | W35: PRESENTA | X35: PRESENTA | Y35: 44366 | Z35: NO PRESENTA | AA35: CUMPLE | AB35: CUMPLE | AC35: CUMPLE | AD35: GPM PROYECTOS DE INGENIERIA S.A.S. | AE35: 44495 | AF35: 57.088.810.20 | AG35: CUMPLE | AH35: CUMPLE | AI35: CUMPLE | AJ35: CONSULTADOS ENTIDAD | AK35: CUMPLE | AL35: CUMPLE | AM35: N/A | AN35: N/A | AO35: HÁBIL
A36: 25 | B36: =VLOOKUP($A36,Cierre!$A:$E,2,FALSE) -> G Y G CONSTRUCCIONES S.A.S. | C36: PRESENTA | D36: =VLOOKUP($A36,Cierre!$A:$E,3,FALSE) -> CARLOS EDUARDO ESQUIVIA ESCOBAR | E36: AIXA MILENA BLANCO PATERNINA | F36: 08202-102569 ATL | G36: PRESENTA | H36: 44349 | I36: N/A | J36: I | K36: N/A | L36: G Y G CONSTRUCCIONES S.A.S. | M36: 1 | N36: PRESENTA | O36: 44370 | P36: FOSCA | Q36: CUMPLE | R36: CUMPLE | S36: ARLOS EDUARDO ESQUIVIA ESCOBAR | T36: NO PRESENTA | U36: N/A | V36: N/A | W36: PRESENTA | X36: PRESENTA | Y36: 44392 | Z36: PRESENTA | AA36: CUMPLE | AB36: CUMPLE | AC36: CUMPLE | AD36: G Y G CONSTRUCCIONES S.A.S | AE36: 44516 | AF36: 96.155.943.50 | AG36: CUMPLE | AH36: CUMPLE | AI36: CUMPLE | AJ36: CONSULTADOS ENTIDAD | AK36: CUMPLE | AL36: CUMPLE | AM36: N/A | AN36: N/A | AO36: HÁBIL
A37: 26 | B37: =VLOOKUP($A37,Cierre!$A:$E,2,FALSE) -> CONSORCIO CAPITAL | C37: PRESENTA | D37: =VLOOKUP($A37,Cierre!$A:$E,3,FALSE) -> FABIAN ANDRÉS VALLEJO PACHÓN | E37: FABIO ANDRES VALLEJO PACHON | F37: 25202-146627 CND | G37: PRESENTA | H37: 44362 | I37: PRESENTA | J37: C | K37: CUMPLE | L37: VALLEJO H INGENIEROS CONSULTORES CONSTRUCTORES S.A.S. | M37: 0.5 | N37: PRESENTA | O37: 44390 | P37: MEDELLIN | Q37: CUMPLE | R37: CUMPLE | S37: FABIAN ANDRES VALLEJO PACHON | T37: NO PRESENTA | U37: N/A | V37: N/A | W37: PRESENTA | X37: PRESENTA | Y37: 44390 | Z37: NO PRESENTA | AA37: CUMPLE | AB37: CUMPLE | AC37: CUMPLE | AD37: CONSORCIO CAPITAL | AE37: 44528 | AF37: 96.155.944.00 | AG37: CUMPLE | AH37: CONSULTADOS ENTIDAD | AI37: CONSULTADOS ENTIDAD | AJ37: CONSULTADOS ENTIDAD | AK37: CUMPLE | AL37: CUMPLE | AM37: CUMPLE | AN37: CUMPLE | AO37: HÁBIL
L38: COMPAÑÍA CONSULTORA COLOMBIANA TRIPLE C S.A.S. | M38: 0.5 | N38: PRESENTA | O38: 44389 | P38: BOGOTA D.C | Q38: CUMPLE | R38: CUMPLE | S38: FABIAN OMAR VALLEJO OBANDO | T38: NO PRESENTA | U38: N/A | V38: N/A | W38: PRESENTA | X38: PRESENTA | Y38: 44389 | Z38: NO PRESENTA | AA38: CUMPLE | AB38: CUMPLE | AH38: CONSULTADOS ENTIDAD | AI38: CONSULTADOS ENTIDAD | AJ38: CONSULTADOS ENTIDAD | AK38: CUMPLE | AL38: CUMPLE | AM38: CUMPLE | AN38: CUMPLE
A39: 27 | B39: =VLOOKUP($A39,Cierre!$A:$E,2,FALSE) -> CONSORCIO INTERCOLOMBIA | C39: PRESENTA | D39: =VLOOKUP($A39,Cierre!$A:$E,3,FALSE) -> JOSÉ ANDRÉS MURILLO MAYORGA | E39: JOSE ANDRES MURILLO MAYORGA | F39: 25202-65766 CND | G39: PRESENTA | H39: 44295 | I39: PRESENTA | J39: C | K39: CUMPLE | L39: MIRS LATINOAMERICA S.A.S. | M39: 0.5 | N39: PRESENTA | O39: 44389 | P39: BOGOTA D.C | Q39: CUMPLE | R39: CUMPLE | S39: NICK RANDY ALMEIDA GAMARRA | T39: NO PRESENTA | U39: N/A | V39: N/A | W39: PRESENTA | X39: PRESENTA | Y39: 44389 | Z39: NO PRESENTA | AA39: CUMPLE | AB39: CUMPLE | AC39: CUMPLE | AD39: CONSORCIO INTERCOLOMBIA | AE39: 44500 | AF39: 65.838.605.70 | AG39: CUMPLE | AH39: CUMPLE | AI39: CUMPLE | AJ39: CUMPLE | AK39: CUMPLE | AL39: CUMPLE | AM39: CUMPLE | AN39: CUMPLE | AO39: HÁBIL | AP39: COPNIA CONSULTADO POR LA ENTIDAD
L40: A2M PROYECTOS DE INGENIERÍA S.A.S. | M40: 0.5 | N40: PRESENTA | O40: 44378 | P40: BOGOTA D.C | Q40: CUMPLE | R40: CUMPLE | S40: JOSE ANDRES MURILLO MAYORGA | T40: NO PRESENTA | U40: N/A | V40: N/A | W40: PRESENTA | X40: PRESENTA | Y40: 44378 | Z40: NO PRESENTA | AA40: CUMPLE | AB40: CUMPLE | AH40: CUMPLE | AI40: CUMPLE | AJ40: CUMPLE | AK40: CUMPLE | AL40: CUMPLE | AM40: CUMPLE | AN40: CUMPLE
...

Sheet Capacidad Financiera
A1: No. | B1: Proponente | C1: Conformación consorcial | D1: % participación | E1: Informacion Financiera | K1: CAPACIDAD FINANCIERA | N1: MÓDULO 4 | O1: =+Información!B19 -> 151586689 | P1: CAPACIDAD ORGANIZACIONAL | R1: CAPACIDAD FINANCIERA | S1: CAPACIDAD ORGANIZACIONAL | T1: CAPACIDAD RESIDUAL DE CONTRATACIÓN | U1: Observaciones
E2: Activo Corriente | F2: Activo Total | G2: Pasivo Corriente | H2: Pasivo Total | I2: Utilidad operacional | J2: Gastos de intereses | K2: CAPITAL DE TRABAJO | L2: LIQUIDEZ | M2: NIVEL DE ENDEUDAMIENTO | N2: RAZON DE COBERTURA DE INTERESES | O2: PATRIMONIO | P2: RENTABILIDAD SOBRE PATRIMONIO | Q2: RENTABILIDAD SOBRE ACTIVOS
A3: 1 | B3: =IFERROR(VLOOKUP(A3,Cierre!$A:$B,2,FALSE),"") -> CONSORCIO ORIÓN 136 | C3: HIDROS DE COLOMBIA S.A.S. | D3: 0.05 | E3: 374951499 | F3: 467274099 | G3: 23230850 | H3: 91874546 | I3: 199816856 | J3: 10589504 | K3: =($E3-$G3)+($E4-$G4) -> 4469162747 | L3: =IFERROR(((E3)+(E4))/((G3)+(G4)),0) -> 5.867494 | M3: =IFERROR(((H3)+(H4))/((F3)+(F4)),0) -> 0.49817619 | N3: =IFERROR(((I3)+(I4))/((J3)+(J4)),0) -> 1.6328169 | O3: =F3-H3 -> 375399553 | P3: =IFERROR(((I3)+(I4))/((O3)+(O4)),0) -> 0.131561 | Q3: =IFERROR(((I3)+(I4))/((F3)+(F4)),0) -> 0.066020445 | R3: HÁBIL | S3: HÁBIL
C4: GERENCIA EN OBRAS CIVILES S.A.S. | D4: 0.95 | E4: 5012376274 | F4: 6638989025 | G4: 894934176 | H4: 3448296550 | I4: 269341795 | J4: 276741334 | O4: =F4-H4 -> 3190692475
A5: 2 | B5: =IFERROR(VLOOKUP(A5,Cierre!$A:$B,2,FALSE),"") -> ARM CONSULTING LTDA. | C5: ARM CONSULTING LTDA. | D5: 1 | E5: 4739255000 | F5: 5491269000 | G5: 581702000 | H5: 3124085000 | I5: 466952000 | J5: 54885000 | K5: =E5-G5 -> 4157553000 | L5: =IFERROR((E5)/(G5),0) -> 8.1472214 | M5: =IFERROR((H5)/(F5),0) -> 0.56891859 | N5: =IFERROR((I5)/(J5),0) -> 8.5078255 | O5: =F5-H5 -> 2367184000 | P5: =IFERROR((I5)/(O5),0) -> 0.19726054 | Q5: =IFERROR((I5)/(F5),0) -> 0.085035353 | R5: HÁBIL | S5: HÁBIL
A6: 3 | B6: =IFERROR(VLOOKUP(A6,Cierre!$A:$B,2,FALSE),"") -> INGECO INGENIERÍA DE CONSTRUCCIONES S.A.S. | C6: INGECO INGENIERÍA DE CONSTRUCCIONES S.A.S. | D6: 1 | E6: 2844085854 | F6: 3238037406 | G6: 259835923 | H6: 653098497 | I6: 1063982618 | J6: 163114621 | K6: =E6-G6 -> 2584249931 | L6: =IFERROR((E6)/(G6),0) -> 10.945699 | M6: =IFERROR((H6)/(F6),0) -> 0.20169579 | N6: =IFERROR((I6)/(J6),0) -> 6.5229138 | O6: =F6-H6 -> 2584938909 | P6: =IFERROR((I6)/(O6),0) -> 0.41160842 | Q6: =IFERROR((I6)/(F6),0) -> 0.32858874 | R6: HÁBIL | S6: HÁBIL
A7: 4 | B7: =IFERROR(VLOOKUP(A7,Cierre!$A:$B,2,FALSE),"") -> INGENIERÍA DEL FUTURO S.A.S. | C7: INGENIERÍA DEL FUTURO S.A.S. | D7: 1 | E7: 1301479908 | F7: 1340583176 | G7: 540286393 | H7: 540286393 | I7: 429146188 | J7: 6969028 | K7: =E7-G7 -> 761193515 | L7: =IFERROR((E7)/(G7),0) -> 2.4088704 | M7: =IFERROR((H7)/(F7),0) -> 0.4030234 | N7: =IFERROR((I7)/(J7),0) -> 61.579059 | O7: =F7-H7 -> 800296783 | P7: =IFERROR((I7)/(O7),0) -> 0.5362338 | Q7: =IFERROR((I7)/(F7),0) -> 0.32011903 | R7: HÁBIL | S7: HÁBIL
A8: 5 | B8: =IFERROR(VLOOKUP(A8,Cierre!$A:$B,2,FALSE),"") -> R&M CONSTRUCCIONES E INTERVENTORÍAS S.A.S. | C8: R&M CONSTRUCCIONES E INTERVENTORÍAS S.A.S. | D8: 1 | E8: 5725462134 | F8: 6646999413 | G8: 749796926 | H8: 749796926 | I8: 906823045 | J8: 3620892 | K8: =E8-G8 -> 4975665208 | L8: =IFERROR((E8)/(G8),0) -> 7.6360171 | M8: =IFERROR((H8)/(F8),0) -> 0.11280232 | N8: =IFERROR((I8)/(J8),0) -> 250.44189 | O8: =F8-H8 -> 5897202487 | P8: =IFERROR((I8)/(O8),0) -> 0.15377173 | Q8: =IFERROR((I8)/(F8),0) -> 0.13642593 | R8: HÁBIL | S8: HÁBIL
A9: 6 | B9: =IFERROR(VLOOKUP(A9,Cierre!$A:$B,2,FALSE),"") -> CONSORCIO INTERVIAL CALDAS 010 | C9: MAAF S.A.S. | D9: 0.75 | E9: 808442019 | F9: 872226619 | G9: 181989704 | H9: 264466372 | I9: 71619110 | J9: 4152000 | K9: =($E9-$G9)+($E10-$G10) -> 2068067248 | L9: =IFERROR(((E9)+(E10))/((G9)+(G10)),0) -> 9.2188562 | M9: =IFERROR(((H9)+(H10))/((F9)+(F10)),0) -> 0.20037056 | N9: =IFERROR(((I9)+(I10))/((J9)+(J10)),0) -> 38.234769 | O9: =F9-H9 -> 607760247 | P9: =IFERROR(((I9)+(I10))/((O9)+(O10)),0) -> 0.13565742 | Q9: =IFERROR(((I9)+(I10))/((F9)+(F10)),0) -> 0.10847567 | R9: HÁBIL | S9: HÁBIL
C10: CONSTRUOBRAS C&M S.A.S. | D10: 0.25 | E10: 1511249933 | F10: 1611652205 | G10: 69635000 | H10: 233229807 | I10: 197821310 | J10: 2895000 | O10: =F10-H10 -> 1378422398
A11: 7 | B11: =IFERROR(VLOOKUP(A11,Cierre!$A:$B,2,FALSE),"") -> CARMONA CARVAJAL INGENIEROS S.A.S. | C11: CARMONA CARVAJAL INGENIEROS S.A.S. | D11: 1 | E11: 475830931 | F11: 481231331 | G11: 32545519 | H11: 32545519 | I11: 213527204 | J11: 0 | K11: =E11-G11 -> 443285412 | L11: =IFERROR((E11)/(G11),0) -> 14.620475 | M11: =IFERROR((H11)/(F11),0) -> 0.067629676 | N11: =IFERROR((I11)/(J11),0) -> 0 | O11: =F11-H11 -> 448685812 | P11: =IFERROR((I11)/(O11),0) -> 0.47589471 | Q11: =IFERROR((I11)/(F11),0) -> 0.4437101 | R11: HÁBIL | S11: HÁBIL
A12: 8 | B12: =IFERROR(VLOOKUP(A12,Cierre!$A:$B,2,FALSE),"") -> CONSORCIO INTERVIAS CALDAS | C12: PEDRO JOSÉ CORREDOR BECERRA | D12: 0.5 | E12: 1929728650 | F12: 2727312083 | G12: 55488250 | H12: 161608842 | I12: 383243815 | J12: 0 | K12: =($E12-$G12)+($E13-$G13)+($E14-$G14) -> 3943512894 | L12: =IFERROR(((E12)+(E13)+(E14))/((G12)+(G13)+(G14)),0) -> 7.4510696 | M12: =IFERROR(((H12)+(H13)+(H14))/((F12)+(F13)+(F14)),0) -> 0.17633327 | N12: =IFERROR(((I12)+(I13)+(I14))/((J12)+(J13)+(J14)),0) -> 32.281258 | O12: =F12-H12 -> 2565703241 | P12: =IFERROR(((I12)+(I13)+(I14))/((O12)+(O13)+(O14)),0) -> 0.1401409 | Q12: =IFERROR(((I12)+(I13)+(I14))/((F12)+(F13)+(F14)),0) -> 0.11542939 | R12: HÁBIL | S12: HÁBIL
C13: JORGE WILLAN CORZO GARCÍA | D13: 0.25 | E13: 318728733 | F13: 733209645 | G13: 23500000 | H13: 26400000 | I13: 91038673 | J13: 250000 | O13: =F13-H13 -> 706809645
C14: GERMAN ALONSO PUENTES GORDO | D14: 0.25 | E14: 2306351490 | F14: 2723315186 | G14: 532307729 | H14: 902407325 | I14: 239514065 | J14: 21861795 | O14: =F14-H14 -> 1820907861
A15: 9 | B15: =IFERROR(VLOOKUP(A15,Cierre!$A:$B,2,FALSE),"") -> ARA INGENIERÍA S.A.S. | C15: ARA INGENIERÍA S.A.S. | D15: 1 | E15: 4283726076 | F15: 4906396569 | G15: 473681841 | H15: 1901257304 | I15: 680131783 | J15: 49836281 | K15: =E15-G15 -> 3810044235 | L15: =IFERROR((E15)/(G15),0) -> 9.043467 | M15: =IFERROR((H15)/(F15),0) -> 0.38750584 | N15: =IFERROR((I15)/(J15),0) -> 13.647322 | O15: =F15-H15 -> 3005139265 | P15: =IFERROR((I15)/(O15),0) -> 0.22632288 | Q15: =IFERROR((I15)/(F15),0) -> 0.13862145 | R15: HÁBIL | S15: HÁBIL
A16: 10 | B16: =IFERROR(VLOOKUP(A16,Cierre!$A:$B,2,FALSE),"") -> HR INGENIERÍA S.A.S. | C16: HR INGENIERÍA S.A.S. | D16: 1 | E16: 1040133779 | F16: 1100805433 | G16: 93652608 | H16: 117471904 | I16: 276203726 | J16: 2175329 | K16: =E16-G16 -> 946481171 | L16: =IFERROR((E16)/(G16),0) -> 11.106298 | M16: =IFERROR((H16)/(F16),0) -> 0.1067145 | N16: =IFERROR((I16)/(J16),0) -> 126.97101 | O16: =F16-H16 -> 983333529 | P16: =IFERROR((I16)/(O16),0) -> 0.28088509 | Q16: =IFERROR((I16)/(F16),0) -> 0.25091058 | R16: HÁBIL | S16: HÁBIL
A17: 11 | B17: =IFERROR(VLOOKUP(A17,Cierre!$A:$B,2,FALSE),"") -> UNIÓN TEMPORAL INNOVA | C17: INNOVA PROYECTOS S.A.S. | D17: 0.7 | E17: 499438930 | F17: 548487649 | G17: 6856000 | H17: 72715250 | I17: 191719821 | J17: 8972056 | K17: =($E17-$G17)+($E18-$G18) -> 4929892281 | L17: =IFERROR(((E17)+(E18))/((G17)+(G18)),0) -> 2.4653555 | M17: =IFERROR(((H17)+(H18))/((F17)+(F18)),0) -> 0.56791541 | N17: =IFERROR(((I17)+(I18))/((J17)+(J18)),0) -> 7.6447713 | O17: =F17-H17 -> 475772399 | P17: =IFERROR(((I17)+(I18))/((O17)+(O18)),0) -> 0.13990652 | Q17: =IFERROR(((I17)+(I18))/((F17)+(F18)),0) -> 0.060451449 | R17: HÁBIL | S17: HÁBIL
C18: DQ INGENIERÍA S.A.S. | D18: 0.3 | E18: 7794751089 | F18: 8397124913 | G18: 3357441738 | H18: 5007636016 | I18: 349055420 | J18: 61765867 | O18: =F18-H18 -> 3389488897
A19: 12 | B19: =IFERROR(VLOOKUP(A19,Cierre!$A:$B,2,FALSE),"") -> PAULO EMILIO BRAVO CONSULTORES S.A.S. | C19: PAULO EMILIO BRAVO CONSULTORES S.A.S. | D19: 1 | E19: 5464600834 | F19: 6590955381 | G19: 974785432 | H19: 1093071658 | I19: 1319127391 | J19: 17164928 | K19: =E19-G19 -> 4489815402 | L19: =IFERROR((E19)/(G19),0) -> 5.6059525 | M19: =IFERROR((H19)/(F19),0) -> 0.16584419 | N19: =IFERROR((I19)/(J19),0) -> 76.850156 | O19: =F19-H19 -> 5497883723 | P19: =IFERROR((I19)/(O19),0) -> 0.23993366 | Q19: =IFERROR((I19)/(F19),0) -> 0.20014206 | R19: HÁBIL | S19: HÁBIL
A20: 13 | B20: =IFERROR(VLOOKUP(A20,Cierre!$A:$B,2,FALSE),"") -> CONSORCIO NP MANIZALES | C20: ÁLVARO HERNANDO NARANJO OLAYA | D20: 0.6 | E20: 988682000 | F20: 1764137000 | G20: 54315000 | H20: 249882000 | I20: 204835000 | J20: 8216000 | K20: =($E20-$G20)+($E21-$G21) -> 1165243175 | L20: =IFERROR(((E20)+(E21))/((G20)+(G21)),0) -> 13.015043 | M20: =IFERROR(((H20)+(H21))/((F20)+(F21)),0) -> 0.12779697 | N20: =IFERROR(((I20)+(I21))/((J20)+(J21)),0) -> 21.538564 | O20: =F20-H20 -> 1514255000 | P20: =IFERROR(((I20)+(I21))/((O20)+(O21)),0) -> 0.12543191 | Q20: =IFERROR(((I20)+(I21))/((F20)+(F21)),0) -> 0.10940209 | R20: HÁBIL | S20: HÁBIL | U20: subsanado
C21: MARÍA CLARA POTES MAZUERA | D21: 0.4 | E21: 273543196 | F21: 525033196 | G21: 42667021 | H21: 42667021 | I21: 45605000 | J21: 3411516 | O21: =F21-H21 -> 482366175
A22: 14 | B22: =IFERROR(VLOOKUP(A22,Cierre!$A:$B,2,FALSE),"") -> CONSORCIO DS7 | C22: DIN S.A.S. | D22: 0.6 | E22: 2345414873 | F22: 2408920358 | G22: 518762490 | H22: 1225929633 | I22: 193630072 | J22: 0 | K22: =($E22-$G22)+($E23-$G23) -> 3652407138 | L22: =IFERROR(((E22)+(E23))/((G22)+(G23)),0) -> 5.3135163 | M22: =IFERROR(((H22)+(H23))/((F22)+(F23)),0) -> 0.40631092 | N22: =IFERROR(((I22)+(I23))/((J22)+(J23)),0) -> 9.1636014 | O22: =F22-H22 -> 1182990725 | P22: =IFERROR(((I22)+(I23))/((O22)+(O23)),0) -> 0.27629531 | Q22: =IFERROR(((I22)+(I23))/((F22)+(F23)),0) -> 0.16403351 | R22: HÁBIL | S22: HÁBIL
C23: SEING S.A.S. BIC | D23: 0.4 | E23: 2153727709 | F23: 2426850707 | G23: 327972954 | H23: 738896979 | I23: 599598424 | J23: 86562964 | O23: =F23-H23 -> 1687953728
A24: 15 | B24: =IFERROR(VLOOKUP(A24,Cierre!$A:$B,2,FALSE),"") -> CIMAG S.A.S. | C24: CIMAG S.A.S. | D24: 1 | E24: 660337643 | F24: 714382097 | G24: 37689757 | H24: 37689757 | I24: 121165794 | J24: 0 | K24: =E24-G24 -> 622647886 | L24: =IFERROR((E24)/(G24),0) -> 17.520348 | M24: =IFERROR((H24)/(F24),0) -> 0.052758541 | N24: =IFERROR((I24)/(J24),0) -> 0 | O24: =F24-H24 -> 676692340 | P24: =IFERROR((I24)/(O24),0) -> 0.17905596 | Q24: =IFERROR((I24)/(F24),0) -> 0.16960923 | R24: HÁBIL | S24: HÁBIL | U24: subsanado
A25: 16 | B25: =IFERROR(VLOOKUP(A25,Cierre!$A:$B,2,FALSE),"") -> CONSORCIO VÍAS CALDAS | C25: CONSULTORES DESARROLLO Y AMBIENTE S.A.S. | D25: 0.3 | E25: 156709535 | F25: 384209535 | G25: 3659444 | H25: 29123663 | I25: 77717297 | J25: 552996 | K25: =($E25-$G25)+($E26-$G26) -> 264149056 | L25: =IFERROR(((E25)+(E26))/((G25)+(G26)),0) -> 46.967042 | M25: =IFERROR(((H25)+(H26))/((F25)+(F26)),0) -> 0.068679158 | N25: =IFERROR(((I25)+(I26))/((J25)+(J26)),0) -> 138.92124 | O25: =F25-H25 -> 355085872 | P25: =IFERROR(((I25)+(I26))/((O25)+(O26)),0) -> 0.22375974 | Q25: =IFERROR(((I25)+(I26))/((F25)+(F26)),0) -> 0.20839211 | R25: HÁBIL | S25: HÁBIL
C26: CONSTRUCTORA INGETEC S.A.S. | D26: 0.7 | E26: 113186009 | F26: 113186009 | G26: 2087044 | H26: 5037044 | I26: 25936010 | J26: 193134 | O26: =F26-H26 -> 108148965
A27: 17 | B27: =IFERROR(VLOOKUP(A27,Cierre!$A:$B,2,FALSE),"") -> ORGANIZACIÓN VICAN S.A.S. | C27: ORGANIZACIÓN VICAN S.A.S. | D27: 1 | E27: 535061058 | F27: 549362567 | G27: 245641514 | H27: 276768039 | I27: 176185320 | J27: 0 | K27: =E27-G27 -> 289419544 | L27: =IFERROR((E27)/(G27),0) -> 2.1782192 | M27: =IFERROR((H27)/(F27),0) -> 0.5037985 | N27: =IFERROR((I27)/(J27),0) -> 0 | O27: =F27-H27 -> 272594528 | P27: =IFERROR((I27)/(O27),0) -> 0.64632743 | Q27: =IFERROR((I27)/(F27),0) -> 0.32070864 | R27: HÁBIL | S27: HÁBIL
A28: 18 | B28: =IFERROR(VLOOKUP(A28,Cierre!$A:$B,2,FALSE),"") -> ICONSULTING S.A.S. | C28: ICONSULTING S.A.S. | D28: 1 | E28: 1467465424 | F28: 4305570503 | G28: 515166764 | H28: 1420177169 | I28: 404172116 | J28: 123277919 | K28: =E28-G28 -> 952298660 | L28: =IFERROR((E28)/(G28),0) -> 2.848525 | M28: =IFERROR((H28)/(F28),0) -> 0.32984646 | N28: =IFERROR((I28)/(J28),0) -> 3.2785443 | O28: =F28-H28 -> 2885393334 | P28: =IFERROR((I28)/(O28),0) -> 0.14007522 | Q28: =IFERROR((I28)/(F28),0) -> 0.093871908 | R28: HÁBIL | S28: HÁBIL
