Workbook

Sheet HISTORICOS EN CONTRATACIÓN SGC
A1: Numero de Proceso | B1: Objeto | C1: Valor | D1: Empresa - Contratista
A2: LIC 002 DE 2010 | B2: SELECCIONAR EN IGUALDAD DE OPORTUNIDADES AL PROPONENTE QUE OFREZCA LAS MEJORES CONDICIONES TÉCNICAS Y COMERCIALES PARA REALIZAR LAS LABORES DE MANTENIMIENTO Y ADECUACION DE INFRAESTRUCTURA EN LA SEDE DEL INSTITUTO COLOMBIANO DE GEOLOGIA Y MINERIA - INGEOMINAS PARA EL OBSERVATORIO VULCANOLOGICO Y SISMOLOGICO DE LA CIUDAD DE MANIZALES. | C2: $ 241,000,000 | D2: CONSORCIO ANDES 2010
A3: SMC 054 DE 2013 | B3: SELECCIONAR EN IGUALDAD DE OPORTUNIDADES AL PROPONENTE QUE OFREZCA LAS MEJORES DE CONDICIONES TECNICAS Y COMERCIALES PARA REALIZAR LAS LABORES DE MANTENIMIENTO DE LA SEDE DEL OBSERVATORIO VULCANOLOGICO Y SISMOLOGICO DE MANIZALES DEL SERVICIO GEOLOGICO COLOMBIANO | C3: $ 22,525,000 | D3: DANIEL HORACIO LESMES OSORIO
A4: SMC 076 DE 2014 | B4: CONTRATAR EN IGUALDAD DE OPORTUNIDADES AL PROPONENTE QUE OFREZCA LAS MEJORES CONDICIONES PARA EFECTUAR EL MANTENIMIENTO DE LA SEDE DEL OBSERVATORIO VULCANOLÓGICO Y SISMOLÓGICO DE MANIZALES | C4: $ 23,935,858 | D4: SIPCO LTDA.
A5: SMC 075 DE 2015 | B5: EFECTUAR LAS OBRAS DE MANTENIMIENTO DEL OBSERVATORIO VULCANOLOGICO Y SISMOLOGICO DE MANIZALES DEL SERVICIO GEOLOGICO COLOMBIANO | C5: $ 17,292,409 | D5: INGENIERIA & DISEÑOS INTEGRALES S.A.S.

Sheet DEMANDA
A1: Concepto | B1: Detalle
A2: Objeto a Contratar | B2: ADECUACIÓN Y MANTENIMIENTO DE LA UNIDAD DE ATENCIÓN Y ORIENTACIÓN A LA POBLACIÓN DESPLAZADA (UAO) EN EL MUNICIPIO DE MONTERÍA DEPARTAMENTO DE CÓRDOBA.
A3: Modalidad de selección | B3: Contratación Mínima Cuantía
A4: Detalle del proceso No de invitación | B4: C.M.C. 043-2016
A5: Cuantía a contratar | B5: $ 44,033,411
A6: Entidad contratante | B6: CÓRDOBA - ALCALDÍA MUNICIPIO DE MONTERÍA
A7: Nombre del contratista | B7: ALBERTO RAFAEL TOLEDO VERGARA
A8: Fecha de Inicio de ejecución del contrato | B8: 14 de diciembre de 2016
A9: Plazo de ejecución del contrato | B9: 15 DIAS
A11: Concepto | B11: Detalle
A12: Objeto a Contratar | B12: ADECUACION Y MANTENIMIENTO INFRAESTRUCTURA FISICA PLAZA DE FERIAS MUNICIPIO DE MALAGA SANTANDER
A13: Modalidad de selección | B13: Contratación Mínima Cuantía
... A39: Plazo de ejecución del contrato | B39: 1 MES

Sheet PRESUPUESTO
A1: PRESUPUESTO OBRAS DE MANTENIMIENTO OVS POPAYAN
A3: ITEMS | B3: DESCRIPCIÓN | C3: UND | D3: CANTIDAD | E3: VR. UNITARIO | F3: VR. TOTAL
A4: 1 | B4: Suministro e instalación de cerámica de piso tipo pomei y/o similar, incluye demolición y retiro de piso existente, construcción de afinado de piso de espesor promedio de 4cm en mortero 1:3, boquilla y demás actividades necesarias para la terminación y recibo a satisfacción | C4: m2 | D4: 26 | E4: 73128 | F4: =+D4*E4 -> 1901328
A5: 2 | B5: Suministro e instalación de teja en fibrocemento tipo eternit y/o similar | C5: m2 | D5: 89 | E5: 77255 | F5: =+D5*E5 -> 6875695
A6: 3 | B6: Reparación de Canales y Bajantes | C6: Global | D6: 1 | E6: 1609341 | F6: =+D6*E6 -> 1609341
A7: 4 | B7: Suministro e instalación de cielo raso en Dry Wall para oficinas, incluye el retiro del cielo raso existente | C7: m2 | D7: 74 | E7: 74354.8 | F7: =+D7*E7 -> 5502255.2
A8: 5 | B8: Pintura vinilo tipo 1 sobre muros | C8: m2 | D8: 105.27 | E8: 9700 | F8: =+D8*E8 -> 1021119
E10: COSTO DIRECTO TOTAL | F10: =SUM(F4:F9) -> 16909738
D11: Administración | E11: 0.17 | F11: =+E11*$F$10 -> 2874655.5
D12: Imprevistos | E12: 0.03 | F12: =+E12*$F$10 -> 507292.15
D13: Utilidad | E13: 0.05 | F13: =+E13*$F$10 -> 845486.91
D14: IVA/Utilidad | E14: 0.19 | F14: =+E14*F13 -> 160642.51
E15: Ajuste al Peso | F15: -0.26
E16: COSTO TOTAL | F16: =SUM(F10:F15) -> 21297815 | H16: 21297885
H17: =+H16-F16 -> 70.002
A18: NOTA | B18: No se tendrán en cuenta propuesta que se presenten superando los Precios Unitarios previstos por la entidad en el presente
B19: proceso de contratación; así mismo, el proponente no podrá modificar los porcentajes de AIU establecidos, los cuales son:
B20: Administración 17%, Imprevistos 3%, Utilidad 5% e IVA sobre la utilidad 19%, so pena de rechazo de la propuesta.

Sheet COMPARATIVO
A1: PRESUPUESTO OBRAS DE MANTENIMIENTO OVS POPAYAN
G2: Arq. Andres Arevalo | I2: Jose Olano | K2: Carlos Villegas
A3: ITEMS | B3: DESCRIPCIÓN | C3: UND | D3: CANTIDAD | E3: VR. UNITARIO | F3: VR. TOTAL | G3: VR. UNITARIO | H3: VR. TOTAL | I3: VR. UNITARIO | J3: VR. TOTAL | K3: VR. UNITARIO | L3: VR. TOTAL
A4: 1 | B4: Suministro e instalación de cerámica de piso tipo pomei y/o similar, incluye demolición y retiro de piso existente, construcción de afinado de piso de espesor promedio de 4cm en mortero 1:3, boquilla y demás actividades necesarias para la terminación y recibo a satisfacción | C4: m2 | D4: 26 | E4: =+MIN(G4,I4,K4) -> 73128 | F4: =+D4*E4 -> 1901328 | G4: =43128+30000 -> 73128 | H4: =+G4*D4 -> 1901328 | I4: 83128 | J4: =+I4*D4 -> 2161328 | K4: 81128 | L4: =+K4*D4 -> 2109328
A5: 2 | B5: Suministro e instalación de teja en fibrocemento tipo eternit y/o similar | C5: m2 | D5: 89 | E5: =+MIN(G5,I5,K5) -> 77255 | F5: =+D5*E5 -> 6875695 | G5: =61255+16000 -> 77255 | H5: =+G5*D5 -> 6875695 | I5: 85255 | J5: =+I5*D5 -> 7587695 | K5: 79255 | L5: =+K5*D5 -> 7053695
A6: 3 | B6: Reparación de Canales y Bajantes | C6: Global | D6: 1 | E6: =+MIN(G6,I6,K6) -> 1609341 | F6: =+D6*E6 -> 1609341 | G6: =1169341+440000 -> 1609341 | H6: =+G6*D6 -> 1609341 | I6: 1669341 | J6: =+I6*D6 -> 1669341 | K6: 1614341 | L6: =+K6*D6 -> 1614341
A7: 4 | B7: Suministro e instalación de cielo raso en Dry Wall para oficinas, incluye el retiro del cielo raso existente | C7: m2 | D7: 74 | E7: =+MIN(G7,I7,K7) -> 74354.8 | F7: =+D7*E7 -> 5502255.2 | G7: =58354.8+16000 -> 74354.8 | H7: =+G7*D7 -> 5502255.2 | I7: 80354.8 | J7: =+I7*D7 -> 5946255.2 | K7: 76354.8 | L7: =+K7*D7 -> 5650255.2
A8: 6 | B8: Pintura vinilo tipo 1 sobre muros | C8: m2 | D8: 105.27 | E8: =+MIN(G8,I8,K8) -> 9700 | F8: =+D8*E8 -> 1021119 | G8: 9700 | H8: =+G8*D8 -> 1021119 | I8: 10100 | J8: =+I8*D8 -> 1063227 | K8: 10200 | L8: =+K8*D8 -> 1073754
E9: COSTO DIRECTO TOTAL | F9: =SUM(F4:F8) -> 16909738
D10: Administración | E10: 0.17 | F10: =+E10*$F$9 -> 2874655.5
D11: Imprevistos | E11: 0.03 | F11: =+E11*$F$9 -> 507292.15
D12: Utilidad | E12: 0.05 | F12: =+E12*$F$9 -> 845486.91
D13: IVA/Utilidad | E13: 0.19 | F13: =+E13*F12 -> 160642.51
E14: Ajuste al Peso | F14: -0.26
E15: COSTO TOTAL | F15: =SUM(F9:F14) -> 21297815
A17: NOTA | B17: No se tendrán en cuenta propuesta que se presenten superando los Precios Unitarios previstos por la entidad en el presente proceso de contratación; así mismo, el proponente no podrá modificar los porcentajes de AIU establecidos, los cuales son:
B18: Administración 17%, Imprevisots 3%, Utilidad 5% e IVA sobre la utilidad 19%, so pena de rechazo de la propuesta.

Sheet APUS
A2: SERVICIO GEOLOGICO COLOMBIANO
A3: ANALISIS DE PRECIOS UNITARIOS
A6: SELECCIÓN ABREVIADA DE MÍNIMA CUANTIA
A8: MANTENIMIENTO Y ADECUACIÓN DEL O.V.S. DE POPAYÁN
A13: SUB ANALISIS
A14: =+COMPARATIVO!B4 -> Suministro e instalación de cerámica de piso tipo pomei y/o similar, incluye demolición y retiro de piso existente, construcción de afinado de piso de espesor promedio de 4cm en mortero 1:3, boquilla y demás actividades necesarias para la terminación y recibo a satisfacción
C17: UND: | D17: M2
A18: PROYECTO: | B18: MANTENIMIENTO Y ADECUACIÓN DEL OBSERVATORIO VULCANOLÓGICO Y SISMOLÓGICO DE POPAYÁN DEL SERVICIO GEOLÓGICO COLOMBIANO
C22: ITEM | F22: 1
A23: I. EQUIPO
A24: Descripción | C24: Tipo | D24: Tarifa / Hora ($/H) | E24: Rendimiento (Cantidad/H) | F24: Valor Unitario ($)
A25: Herramienta menor (5% M. de obra) | F25: =(G49*0.05)+918 -> 1648
A29: Subtotal | G29: =SUM(F25:F28) -> 1648
A30: II. MATERIALES EN OBRA
A31: Descripción | C31: Unidad | D31: Precio de Unidad ($) | E31: Cantidad | F31: Valor Unitario ($)
A32: Piso tipo pizarra de primera calidad Kholer | C32: M2 | D32: 47100 | E32: 1 | F32: =D32*E32 -> 47100
A33: Pegacor | C33: kg | D33: =35000/25 -> 1400 | E33: 6 | F33: =D33*E33 -> 8400
A34: Boquilla | C34: kg | D34: 4600 | E34: 0.3 | F34: =D34*E34 -> 1380
A42: Subtotal | G42: =SUM(F32:F41) -> 56880
A43: III. MANO DE OBRA
A44: Trabajador | B44: Jornal ($) | C44: Cantidad | D44: Jornal con Prestaciones | E44: Rendimiento (Cant./día) | F44: Valor Unitario ($)
A45: Ayudante | B45: 17220 | C45: 1 | D45: 32000 | E45: 5 | F45: =D45/E45 -> 6400
A46: Maestro | B46: 23000 | C46: 1 | D46: 41000 | E46: 5 | F46: =D46/E46 -> 8200
A49: Subtotal | G49: =SUM(F45:F48) -> 14600
A50: TOTAL COSTO DIRECTO | G50: =G29+G42+G49 -> 73128
A53: SERVICIO GEOLOGICO COLOMBIANO
A54: ANALISIS DE PRECIOS UNITARIOS
A57: SELECCIÓN ABREVIADA DE MÍNIMA CUANTIA
A59: MANTENIMIENTO Y ADECUACIÓN DEL O.V.S. DE POPAYÁN
A64: SUB ANALISIS
A65: =+COMPARATIVO!B5 -> Suministro e instalación de teja en fibrocemento tipo eternit y/o similar
C68: UND: | D68: M2
A69: PROYECTO: | B69: MANTENIMIENTO Y ADECUACIÓN DEL OBSERVATORIO VULCANOLÓGICO Y SISMOLÓGICO DE POPAYÁN DEL SERVICIO GEOLÓGICO COLOMBIANO
C73: ITEM | F73: 2
A74: I. EQUIPO
A75: Descripción | C75: Tipo | D75: Tarifa / Hora ($/H) | E75: Rendimiento (Cantidad/H) | F75: Valor Unitario ($)
A76: Herramienta menor (5% M. de obra) | F76: =(G100*0.05)+305 -> 1521.6667
A77: Andamios y/o escaleras | C77: Gl | F77: 6800
A80: Subtotal | G80: =SUM(F76:F79) -> 8321.6667
A81: II. MATERIALES EN OBRA
...

Sheet AIU
I2: Valor Obra Directa | K2: 15939794
I3: Valor Obra | K3: =+K2 -> 15939794
I4: Plazo de ejecución | K4: 2
B6: Descripcion | C6: Cantidad | D6: % Participación en el Proyecto | E6: EXP GENERAL | F6: EXP ESPECIF | G6: Profesional | H6: Sueldo | I6: % Prestacional | J6: Plazo (meses) | K6: Vr. Total
B7: Personal
A8: 2 | B8: Ingeniero Residente de Obra Civil | C8: 1 | D8: 0.1 | E8: 10 | F8: 3 | G8: 2 | H8: 1500000 | I8: 1.65 | J8: =$K$4 -> 2 | K8: =+C8*H8*I8*J8*D8 -> 495000 | N8: Personal
B9: Papeleria y Equipos de Oficina | M9: 5 | N9: Ingeniero eléctro mecánico | O9: 0.007 | P9: =+O9*$K$2 -> 111578.56
A10: 7 | B10: Oficina Central | C10: 1 | H10: 45000 | I10: 1 | J10: =$K$4 -> 2 | K10: =+C10*H10*J10 -> 90000 | M10: 6 | N10: Laboratorios | O10: 0.004 | P10: =+O10*$K$2 -> 63759.177
A11: 8 | B11: Papeleria, fotocopias y otros | C11: 1 | H11: 30000 | I11: 1 | J11: =$K$4 -> 2 | K11: =+C11*H11*J11 -> 60000 | N11: Papeleria y Equipos de Oficina
A12: 9 | B12: Computadores e Impresora | C12: 1 | H12: 120000 | I12: 1 | J12: =$K$4 -> 2 | K12: =+C12*H12*J12 -> 240000 | M12: 7 | N12: Oficina Central | O12: 0.0014 | P12: =+O12*$K$2 -> 22315.712
A13: 10 | B13: Equipos de comunicación | C13: 1 | H13: 70000 | I13: 1 | J13: =$K$4 -> 2 | K13: =+C13*H13*J13 -> 140000 | M13: 8 | N13: Papeleria, fotocopias y otros | O13: 0.0014 | P13: =+O13*$K$2 -> 22315.712
A14: 11 | B14: Transportes varios | C14: 1 | H14: 10000 | I14: 1 | J14: 4 | K14: =+C14*H14*J14 -> 40000 | M14: 9 | N14: Computadores e Impresora | O14: 0.0021 | P14: =+O14*$K$2 -> 33473.568
A15: 12 | B15: Laboratorios | C15: 1 | I15: 1 | J15: 4 | K15: =+C15*H15*J15 -> 0 | M15: 10 | N15: Equipos de comunicación | O15: 0.0025 | P15: =+O15*$K$2 -> 39849.486
B16: Bancarios | M16: 11 | N16: Transporte | O16: 0.002 | P16: =+O16*$K$2 -> 31879.588
A17: 13 | B17: Transferencias | C17: 1 | H17: 40000 | I17: 1 | J17: =$K$4 -> 2 | K17: =+C17*H17*I17*J17 -> 80000 | N17: Gastos Financieros
B18: Legalizacion del contrato | M18: 12 | N18: Transferencias | O18: 0.0014 | P18: =+O18*$K$2 -> 22315.712
A19: 14 | B19: Polizas | K19: =+K3*0.01 -> 159397.94 | M19: 13 | N19: Manejo del Anticipo | O19: 0.0002 | P19: =+O19*$K$2 -> 3187.9588
L20: 1% valor contrato | N20: Legalizacion del contrato
B21: Subtotal Costos Administracion | K21: =SUM(K8:K19) -> 1304397.9 | M21: 14 | N21: Garantías | O21: 0.01 | P21: =+O21*$K$2 -> 159397.94
B22: Costo Directo de obra | K22: =+K2 -> 15939794 | M22: 15 | N22: Campamento y otros | O22: 0.004 | P22: =+O22*$K$2 -> 63759.177
B23: Porcentaje Administracion | J23: =K21/K22 -> 0.081832797 | K23: =+K22*J23 -> 1304397.9 | M23: 16 | N23: Vigilancia de obra | O23: 0.0132 | P23: =+O23*$K$2 -> 210405.28
B24: Utilidad | J24: 0.05 | K24: =+K22*J24 -> 796989.71 | N24: Impuestos
B25: Imprevistos | J25: 0.01 | K25: =+K22*J25 -> 159397.94 | M25: 17 | N25: Impuesto (IVA/Utilidad ) | O25: 0.0067165465 | P25: =+O25*$K$2 -> 107060.37
B26: SUBTOTAL A.I.U. | J26: =SUM(J23:J25) -> 0.1418328 | K26: =+K25+K24+K23 -> 2260785.6 | M26: 18 | N26: Impuesto (4/1000) | O26: 0.005 | P26: =+O26*$K$2 -> 79698.971
B27: SUBTOTAL COSTO DE OBRA | K27: =+K25+K24+K23+K22 -> 18200580 | M27: 19 | N27: Imp. Industria y Comercio (6/1000) | O27: 0.006 | P27: =+O27*$K$2 -> 95638.765
B28: Impuestos | M28: 20 | N28: Retefuente | O28: 0.02 | P28: =+O28*$K$2 -> 318795.88
A29: 15 | B29: Impuesto (IVA/Utilidad ) | J29: =+K29/K27 -> 0.0070062797 | K29: =+K24*0.16 -> 127518.35 | M29: 21 | N29: Reteica (6*1000) | O29: 0.006 | P29: =+O29*$K$2 -> 95638.765
A30: 16 | B30: Impuesto (4/1000) | J30: 0.005 | K30: =+J30*K$27 -> 91002.899 | M30: 22 | N30: Estampilla Pro Universidad de Nariño | O30: 0.005 | P30: =+O30*$K$2 -> 79698.971
A31: 17 | B31: Imp. Industria y Comercio (6/1000) | J31: 0.007 | K31: =+J31*K$27 -> 127404.06 | M31: 23 | N31: SENA y FIC | O31: 0.0025 | P31: =+O31*$K$2 -> 39849.486
A32: 18 | B32: Contribucion Especial (5%) | J32: 0.059 | K32: =+J32*K$27 -> 1073834.2 | M32: 24 | N32: Salud y Pensión del contratista | O32: 0.0059 | P32: =+O32*$K$2 -> 94044.786
A33: 19 | B33: Contribucion Especial UNAL | J33: =+H51 -> 0.005 | K33: =+J33*K$27 -> 91002.899 | M33: UTILIDAD
N34: Utilidad | O34: 0.05
B35: SUBTOTAL IMPUESTOS | J35: =SUM(J29:J33) -> 0.08300628 | K35: =SUM(K29:K34) -> 1510762.4 | M35: IMPREVISTOS
N36: Imprevistos | O36: 0.02
B37: TOTAL AIU | J37: =+J26+J35 -> 0.22483908 | K37: =+J37 -> 0.22483908 | N37: TOTAL AIU | O37: =SUM(O9:O36) -> 0.17631655
K38: =+K27+K35 -> 19711342
I39: Administracion | J39: =+J23 -> 0.081832797 | K39: =+J39+J42 -> 0.16483908
I40: Imprevistos | J40: 0.03 | K40: 0.03
I41: Utilidad | J41: =+J24 -> 0.05 | K41: =+J41 -> 0.05
J42: =SUM(J29:J33) -> 0.08300628 | K42: =SUM(K39:K41) -> 0.24483908
...
