Workbook
Name PRINT_AREA: #N/A
Name PRINT_AREA_MI: #N/A
Name PRINT_TITLES: #N/A
Name PRINT_TITLES_MI: #N/A

Sheet LISTA DE OFERENTES
A1: LISTA DE OFERENTES SASI-001-2021
A3: No. | B3: NOMBRE | C3: TIPO DE OFERENTE
B4: LOTE 1
A5: 1 | B5: UNION TEMPORAL C2 FERNANDO | C5: EMPRESA
A6: 2 | B6: STRATEGY SAS | C6: EMPRESA
A7: 3 | B7: FENIX MEDIA GROUP SAS | C7: EMPRESA
A8: 4 | B8: UNLOFT PRODUCCION DE MARCA S.A.S | C8: EMPRESA
A9: 5 | B9: FUNXI | C9: EMPRESA
A10: 6 | B10: INVERSIONES AYL SAS | C10: EMPRESA
A11: 7 | B11: MARKETGROUP S.A.S | C11: EMPRESA
B12: LOTE2
A13: 8 | B13: SAS UNION TEMPORAL BIENSERVICIOS C2 | C13: EMPRESA
A14: 9 | B14: COMPETITIVIDAD SAS | C14: EMPRESA
A15: 10 | B15: UNLOFT PRODUCCION DE MARCA S.A.S | C15: EMPRESA
A16: 11 | B16: AMERICANA CORP SAS | C16: EMPRESA
A17: 12 | B17: FUNDACION G3 | C17: EMPRESA
A18: 13 | B18: FUNXI | C18: EMPRESA
A19: 14 | B19: INVERSIONES AYL SAS | C19: EMPRESA
B20: LOTE 3
A21: 16 | B21: AMERICANA CORP SAS | C21: EMPRESA
A22: 17 | B22: FUNXI | C22: EMPRESA
A23: 18 | B23: MARKETGROUP S.A.S | C23: EMPRESA
B24: LOTE 4
A25: 19 | B25: AMERICANA CORP SAS | C25: EMPRESA
A26: 20 | B26: FUNXI | C26: EMPRESA
A27: 21
A28: 22
A29: 23
A30: 24
A31: 25
A32: 26
A33: 27
A34: 28
A35: 29
A36: 30
A37: 31
A38: 32
... A59: 53

Sheet LOTE 1
A1: FONDO DE DESARROLLO LOCAL DE SAN CRISTÓBAL
A2: FDLSC-SASI-001-2021
A3: REQUISITOS HABILITANTES TÉCNICOS | Q3: CUMPLE
Q4: NO CUMPLE
A6: 1 | E6: =VLOOKUP(A6,'LISTA DE OFERENTES'!$A$5:$B$56,2,FALSE) -> UNION TEMPORAL C2 FERNANDO
A7: NÚMERO DE CONTRATOS PRESENTADOS | C7: PRESUPUESTO OFICIAL EN SMMLV | D7: =+$E$107 -> 91.136632
A8: VALOR MÍNIMO A CERTIFICAR | C8: 1 | D8: =+D7*C8 -> 91.136632
A9: TERMINO DE EJECUCION EXIGIDO
A10: TOTAL SALARIOS MINIMOS ACREDITADOS | C10: NO CUMPLE
A11: CONDICIONES DE EXPERIENCIA | I11: CONDICION N°. 1 | J11: CONDICION N°. 2 | K11: CONDICION Nº. 3 | L11: CONDICION Nº 4 | M11: CONCLUSIÓN EXPERIENCIA GENERAL | N11: CONCLUSIÓN EXPERIENCIA ESPECIFICA | O11: Observación y respuesta a observaciones
A12: Objeto del Contrato | B12: Entidad Contratante | D12: Valor Contrato | E12: Año de ejecución aportado | F12: Valor del Contrato en SMMLV | G12: Participación UT/CONSORCIO | H12: Participación en SMMLV | I12: Término de ejecución aportado | J12: Requisito RUP | K12: FICHA TÉCNICA | L12: COMPROMISO BUENAS PRÁCTICAS
A14: SUMINISTR O DE MATERIAL PUBLICITAR IO TEXTIL E IMPORTADO | B14: BELCORP | D14: 480000000 | E14: 2013 | F14: 814.25 | G14: 1 | H14: 40.71 | I14: NO CUMPLE | J14: CUMPLE: No fue aportado documento, sin embargo en virtud del articulo 15 del Decreto Ley 019 de 2012 fue consultado en Secop y descargado con fecha 09-08-2021. | K14: NO CUMPLE | L14: CUMPLE | M14: NO CUMPLE | N14: NO CUMPLE | O14: EL PROPONENTE UNIÓN TEMPORAL C2 FERNANDO, ACREDITA UNA EXPERIENCIA CON UN CONTRATO CELEBRADO EN EL AÑO 2013 CON LA EMPRESA BELCORP, POR UN VALOR CELEBRADO EN SMMLV DE 814,25. NO OBSTANTE, DE ACUERDO CON LA NOTA 1 DEL APARTADO TITULADO: "PROPONENTES OBLIGADOS A ESTAR INSCRITOS EN EL RUP", SE SEÑALA QUE: "La experiencia de los proponentes que participen en la modalidad de consorcio o unión temporal, se calculará sumando la experiencia de cada integrante de acuerdo con su porcentaje de participación" YA QUE, EL PROPONENTE FERNANDO SIENDO EL ÚNICO QUE PRESENTA LA CERTIFICACIÒN Y EXPERIENCIA, Y QUIEN CUENTA CON TAN SOLO UN 5% DE PARITICIPACIÓN EN LA UNIÓN TEMPORAL, NO ALCANZA AL VALOR REQUERIDO EN SMMMLV DE 91,14 CORRESPONDIENTE AL 100 DEL VALOR DEL DEL PRESUPUESTO OFICIAL ESTIMADO. DEBE SUBSANAR. ADICIONALMENTE, EL PROPONENTE NO ADJUNTÓ LA FICHA TÉCNICA. DEBE SUBSANAR.
A16: TOTALES | H16: =+SUM(H14:H14)+SUM(H15:H15) -> 40.71 | I16: RESULTADO | O16: NO CUMPLE
A19: 2 | E19: =VLOOKUP(A19,'LISTA DE OFERENTES'!$A$5:$B$56,2,FALSE) -> STRATEGY SAS
A20: NÚMERO DE CONTRATOS PRESENTADOS | B20: 2 | C20: PRESUPUESTO OFICIAL EN SMMLV | D20: =+$E$107 -> 91.136632
A21: VALOR MÍNIMO A CERTIFICAR | C21: 1 | D21: =+D20*C21 -> 91.136632
A22: TERMINO DE EJECUCION EXIGIDO | C22: 44291
A23: TOTAL SALARIOS MINIMOS ACREDITADOS | C23: =+IF(H29>D21,"CUMPLE","NO CUMPLE") -> CUMPLE
A24: CONDICIONES DE EXPERIENCIA | I24: CONDICION N°. 1 | J24: CONDICION N°. 2 | K24: CONDICION Nº. 3 | L24: CONDICION Nº 4 | M24: CONCLUSIÓN EXPERIENCIA GENERAL | N24: CONCLUSIÓN EXPERIENCIA ESPECIFICA | O24: Observación y respuesta a observaciones
A25: Objeto del Contrato | B25: Entidad Contratante | D25: Valor Contrato | E25: Año de ejecución aportado | F25: Valor del Contrato en SMMLV | G25: Participación UT/CONSORCIO | H25: Participación en SMMLV | I25: Término de ejecución aportado | J25: Requisito RUP | K25: FICHA TÉCNICA | L25: COMPROMISO BUENAS PRÁCTICAS
A27: PRESTACIÓN DE SERVICIOS PARA LA IMPLEMENTACION CREATIVA Y PUBLICITARIA Y PRODUCCIÓN E IMPRESIÓN DE PIEZAS GRAFICAS Y DIGITALES PARA PROMOCIONAR LAS CAMPAÑAS Y ESTRATEGIAS RELACIONADAS CON LA DEFENSA Y SEGURIDAD NACIONAL CON DEL DESTINO AL EJÉRCITO NACIONAL- JEFATURA DE ACCIÓN INTEGRAL. | B27: FUERZAS MILITARES DE COLOMBIA - EJERCITO NACIONAL | D27: 2396167947 | E27: 2013 | F27: 3889.88 | G27: 1 | H27: 3889.88 | I27: CUMPLE | J27: CUMPLE: No fue aportado documento, sin embargo en virtud del articulo 15 del Decreto Ley 019 de 2012 fue consultado en Secop y descargado con fecha 09-08-2021. | K27: CUMPLE | L27: CUMPLE | M27: CUMPLE | N27: CUMPLE | O27: EL PROPONENTE CUMPLE CON LOS REQUISITOS TÉCNICOS
A29: TOTALES | H29: =+SUM(H27:H27)+SUM(H28:H28) -> 3889.88 | I29: RESULTADO | O29: CUMPLE
A32: 3 | E32: =VLOOKUP(A32,'LISTA DE OFERENTES'!$A$5:$B$56,2,FALSE) -> FENIX MEDIA GROUP SAS
A33: NÚMERO DE CONTRATOS PRESENTADOS | B33: 2 | C33: PRESUPUESTO OFICIAL EN SMMLV | D33: =+$E$107 -> 91.136632
A34: VALOR MÍNIMO A CERTIFICAR | C34: 1 | D34: =+D33*C34 -> 91.136632
A35: TERMINO DE EJECUCION EXIGIDO | C35: 44291
A36: TOTAL SALARIOS MINIMOS ACREDITADOS | C36: NO CUMPLE
A37: CONDICIONES DE EXPERIENCIA | I37: CONDICION N°. 1 | J37: CONDICION N°. 2 | K37: CONDICION Nº. 3 | L37: CONDICION Nº 4 | M37: CONCLUSIÓN EXPERIENCIA GENERAL | N37: CONCLUSIÓN EXPERIENCIA ESPECIFICA | O37: Observación y respuesta a observaciones
A38: Objeto del Contrato | B38: Entidad Contratante | D38: Valor Contrato | E38: Año de ejecución aportado | F38: Valor del Contrato en SMMLV | G38: Participación UT/CONSORCIO | H38: Participación en SMMLV | I38: Término de ejecución aportado | J38: Requisito RUP | K38: FICHA TÉCNICA | L38: COMPROMISO BUENAS PRÁCTICAS
A40: Adquirir el material gráfico y publicitario para la promoción de las Rutas Turísticas del Departamento de Cundinamarca. | B40: Instituto Departamental de Cultura y Turismo de Cundinamarca - IDECUT | D40: 152914512 | E40: 2017 | F40: 195.73 | G40: 1 | H40: 195.73 | I40: CUMPLE | J40: CUMPLE | K40: CUMPLE | L40: CUMPLE | M40: CUMPLE | N40: CUMPLE | O40: EL PROPONENTE CUMPLE CON LOS REQUISITOS TÉCNICOS
A42: TOTALES | H42: =+SUM(H40:H40)+SUM(H41:H41) -> 195.73 | I42: RESULTADO | O42: CUMPLE
A45: 4 | E45: =VLOOKUP(A45,'LISTA DE OFERENTES'!$A$5:$B$56,2,FALSE) -> UNLOFT PRODUCCION DE MARCA S.A.S
A46: NÚMERO DE CONTRATOS PRESENTADOS | C46: PRESUPUESTO OFICIAL EN SMMLV | D46: =+$E$107 -> 91.136632
A47: VALOR MÍNIMO A CERTIFICAR | C47: 1 | D47: =+D46*C47 -> 91.136632
A48: TERMINO DE EJECUCION EXIGIDO | C48: 44291
A49: TOTAL SALARIOS MINIMOS ACREDITADOS | C49: =+IF(#REF!>D47,"CUMPLE","NO CUMPLE") -> #REF!
A50: CONDICIONES DE EXPERIENCIA | I50: CONDICION N°. 1 | J50: CONDICION N°. 2 | K50: CONDICION Nº. 3 | L50: CONDICION Nº 4 | M50: CONCLUSIÓN EXPERIENCIA GENERAL | N50: CONCLUSIÓN EXPERIENCIA ESPECIFICA | O50: Observación y respuesta a observaciones
A51: Objeto del Contrato | B51: Entidad Contratante | D51: Valor Contrato | E51: Año de ejecución aportado | F51: Valor del Contrato en SMMLV | G51: Participación UT/CONSORCIO | H51: Participación en SMMLV | I51: Término de ejecución aportado | J51: Requisito RUP | K51: FICHA TÉCNICA | L51: COMPROMISO BUENAS PRÁCTICAS
A53: P restar los servicios de di seño , impresión digital , litografía e instalación con los requerimientos de FARMAT ODO a nivel nacional | B53: FARMATODO DE COLOMBIA SA | D53: 1207234749 | E53: 2018 | F53: 1545.27 | G53: 1 | H53: 1545.27 | I53: CUMPLE | J53: CUMPLE: No fue aportado documento, sin embargo en virtud del articulo 15 del Decreto Ley 019 de 2012 fue consultado en Secop y descargado con fecha 09-08-2021. | K53: CUMPLE | L53: CUMPLE | M53: CUMPLE | N53: CUMPLE | O53: EL PROPONENTE CUMPLE CON LOS REQUISITOS TÉCNICOS
A55: TOTALES | H55: =+SUM(H53:H53)+SUM(H54:H54) -> 1545.27 | I55: RESULTADO | O55: CUMPLE
...

Sheet LOTE 2
A1: FONDO DE DESARROLLO LOCAL DE SAN CRISTÓBAL
A2: FDLSC-SASI-001-2021
A3: REQUISITOS HABILITANTES TÉCNICOS | Q3: CUMPLE
Q4: NO CUMPLE
A8: 8 | E8: =VLOOKUP(A8,'LISTA DE OFERENTES'!$A$5:$B$56,2,FALSE) -> SAS UNION TEMPORAL BIENSERVICIOS C2
A9: NÚMERO DE CONTRATOS PRESENTADOS | B9: 2 | C9: PRESUPUESTO OFICIAL EN SMMLV | D9: =+$E$109 -> 115.68188
A10: VALOR MÍNIMO A CERTIFICAR | C10: 1 | D10: =+D9*C10 -> 115.68188
A11: TERMINO DE EJECUCION EXIGIDO | C11: 44291
A12: TOTAL SALARIOS MINIMOS ACREDITADOS | C12: NO CUMPLE
A13: CONDICIONES DE EXPERIENCIA | I13: CONDICION N°. 1 | J13: CONDICION N°. 2 | K13: CONDICION Nº. 3 | L13: CONDICION Nº 4 | M13: CONCLUSIÓN EXPERIENCIA GENERAL | N13: CONCLUSIÓN EXPERIENCIA ESPECIFICA | O13: Observación y respuesta a observaciones
A14: Objeto del Contrato | B14: Entidad Contratante | D14: Valor Contrato | E14: Año de ejecución aportado | F14: Valor del Contrato en SMMLV | G14: Participación UT/CONSORCIO | H14: Participación en SMMLV | I14: Término de ejecución aportado | J14: Requisito RUP | K14: FICHA TÉCNICA | L14: COMPROMISO BUENAS PRÁCTICAS
A16: CONTRATAR LA ORGANIZACION LOGISTICA PARA LLEVAR A CABO LA VIGESIMA CUARTA (XXIV) VERSION DE LAS FERIAS Y FIESTAS DE LA HORTALIZA EN EL MUNICIPIO DE COTA (CUNDINAMARCA) | B16: MUNICIPIO DE COTA | D16: 1470000000 | E16: 2019 | F16: 1755.11 | G16: 0.95 | H16: 87.7 | I16: NO CUMPLE | J16: CUMPLE | K16: NO CUMPLE | L16: CUMPLE | M16: NO CUMPLE | N16: NO CUMPLE | O16: EL PROPONENTE SAS UNIÓN TEMPORAL BIENSERVICIOS C2, ACREDITA UNA EXPERIENCIA CON UN CONTRATO CELEBRADO EN EL AÑO 2019 CON EL MUNICIPIO DE COTA, POR UN VALOR CELEBRADO EN SMMLV DE 1.755,11. NO OBSTANTE, DE ACUERDO CON LA NOTA 1 DEL APARTADO TITULADO: "PROPONENTES OBLIGADOS A ESTAR INSCRITOS EN EL RUP", SE SEÑALA QUE: "La experiencia de los proponentes que participen en la modalidad de consorcio o unión temporal, se calculará sumando la experiencia de cada integrante de acuerdo con su porcentaje de participación" YA QUE, EL PROPONENTE BIENSERVICIOS SAS SIENDO EL ÚNICO QUE PRESENTA LA CERTIFICACIÒN Y EXPERIENCIA, Y QUIEN CUENTA CON TAN SOLO UN 5% DE PARTICIPACIÓN EN LA UNIÓN TEMPORAL, NO ALCANZA AL VALOR REQUERIDO EN SMMMLV DE 115,68 CORRESPONDIENTE AL 100 DEL VALOR DEL DEL PRESUPUESTO OFICIAL ESTIMADO, YA QUE, EL 5% DE SU PARTICIPACIÓN, CORRESPONDE A 87,7 SMMLV DEL CONTRATO QUE CERTIFICA LA EXPERIENCIA. DEBE SUBSANAR. ADICIONALMENTE, EL PROPONENTE NO ADJUNTÓ LA FICHA TÉCNICA. DEBE SUBSANAR. POR OTRO LADO, EL PROPONENTE DEBE ALLEGAR LA FICHA TÉCNICA DE CUMPLIMIENTO TAL Y COMO SE DESCRIBE EN EL PLIEGO DE CONDICIONES. DEBE SUBSANAR
A18: TOTALES | H18: =+SUM(H16:H16)+SUM(H17:H17) -> 87.7 | I18: RESULTADO | O18: NO CUMPLE
A21: 9 | E21: =VLOOKUP(A21,'LISTA DE OFERENTES'!$A$5:$B$56,2,FALSE) -> COMPETITIVIDAD SAS
A22: NÚMERO DE CONTRATOS PRESENTADOS | B22: 2 | C22: PRESUPUESTO OFICIAL EN SMMLV | D22: =+$E$109 -> 115.68188
A23: VALOR MÍNIMO A CERTIFICAR | C23: 1 | D23: =+D22*C23 -> 115.68188
A24: TERMINO DE EJECUCION EXIGIDO | C24: 44291
A25: TOTAL SALARIOS MINIMOS ACREDITADOS | C25: =+IF(H31>D23,"CUMPLE","NO CUMPLE") -> CUMPLE
A26: CONDICIONES DE EXPERIENCIA | I26: CONDICION N°. 1 | J26: CONDICION N°. 2 | K26: CONDICION Nº. 3 | L26: CONDICION Nº 4 | M26: CONCLUSIÓN EXPERIENCIA GENERAL | N26: CONCLUSIÓN EXPERIENCIA ESPECIFICA | O26: Observación y respuesta a observaciones
A27: Objeto del Contrato | B27: Entidad Contratante | D27: Valor Contrato | E27: Año de ejecución aportado | F27: Valor del Contrato en SMMLV | G27: Participación UT/CONSORCIO | H27: Participación en SMMLV | I27: Término de ejecución aportado | J27: Requisito RUP | K27: FICHA TÉCNICA | L27: COMPROMISO BUENAS PRÁCTICAS
A29: PRESTACION DE SERVICIOS PARA ACTIVIDADES DE BIENESTAR SOCIAL INCLUYEN DEPORTE, CULTURA , ENTRETENIMIENTO, PARQUES TEMATICOS, ALIMENTOS, TURISMO Y LOGISTICA PARA EVENTOS | B29: SINERGIA E INNOVACION SAS | D29: 412000000 | E29: 2016 | F29: 597.57 | G29: 1 | H29: 597.57 | I29: CUMPLE | J29: CUMPLE: No fue aportado documento, sin embargo en virtud del articulo 15 del Decreto Ley 019 de 2012 fue consultado en Secop y descargado con fecha 09-08-2021. | K29: CUMPLE | L29: CUMPLE | M29: CUMPLE | N29: CUMPLE | O29: EL PROPONENTE CUMPLE CON LOS REQUISITOS TÉCNICOS
A31: TOTALES | H31: =+SUM(H29:H29)+SUM(H30:H30) -> 597.57 | I31: RESULTADO | O31: CUMPLE
A34: 10 | E34: =VLOOKUP(A34,'LISTA DE OFERENTES'!$A$5:$B$56,2,FALSE) -> UNLOFT PRODUCCION DE MARCA S.A.S
A35: NÚMERO DE CONTRATOS PRESENTADOS | B35: 2 | C35: PRESUPUESTO OFICIAL EN SMMLV | D35: =+$E$109 -> 115.68188
A36: VALOR MÍNIMO A CERTIFICAR | C36: 1 | D36: =+D35*C36 -> 115.68188
A37: TERMINO DE EJECUCION EXIGIDO | C37: 44291
A38: TOTAL SALARIOS MINIMOS ACREDITADOS | C38: =+IF(H44>D36,"CUMPLE","NO CUMPLE") -> CUMPLE
A39: CONDICIONES DE EXPERIENCIA | I39: CONDICION N°. 1 | J39: CONDICION N°. 2 | K39: CONDICION Nº. 3 | L39: CONDICION Nº 4 | M39: CONCLUSIÓN EXPERIENCIA GENERAL | N39: CONCLUSIÓN EXPERIENCIA ESPECIFICA | O39: Observación y respuesta a observaciones
A40: Objeto del Contrato | B40: Entidad Contratante | D40: Valor Contrato | E40: Año de ejecución aportado | F40: Valor del Contrato en SMMLV | G40: Participación UT/CONSORCIO | H40: Participación en SMMLV | I40: Término de ejecución aportado | J40: Requisito RUP | K40: FICHA TÉCNICA | L40: COMPROMISO BUENAS PRÁCTICAS
A42: Prestar los servicios como operador logistico para la organizacion, administracion y ejecucion de eventos academicos, protocolarios, institucionales y corporativos, requeridos por la Sociedad Hoteleraa Tequendama | B42: SOCIEDAD HOTELERA TEQUENDAMA S.A | D42: 287159855 | E42: 2019 | F42: 346.76 | G42: 1 | H42: 346.76 | I42: CUMPLE | J42: CUMPLE: No fue aportado documento, sin embargo en virtud del articulo 15 del Decreto Ley 019 de 2012 fue consultado en Secop y descargado con fecha 09-08-2021. | K42: CUMPLE | L42: CUMPLE | M42: CUMPLE | N42: CUMPLE | O42: EL PROPONENTE CUMPLE CON LOS REQUISITOS TÉCNICOS
A44: TOTALES | H44: =+SUM(H42:H42)+SUM(H43:H43) -> 346.76 | I44: RESULTADO | O44: CUMPLE
A47: 11 | E47: =VLOOKUP(A47,'LISTA DE OFERENTES'!$A$5:$B$56,2,FALSE) -> AMERICANA CORP SAS
A48: NÚMERO DE CONTRATOS PRESENTADOS | B48: 2 | C48: PRESUPUESTO OFICIAL EN SMMLV | D48: =+$E$109 -> 115.68188
A49: VALOR MÍNIMO A CERTIFICAR | C49: 1 | D49: =+D48*C49 -> 115.68188
A50: TERMINO DE EJECUCION EXIGIDO | C50: 44291
A51: TOTAL SALARIOS MINIMOS ACREDITADOS | C51: =+IF(#REF!>D49,"CUMPLE","NO CUMPLE") -> #REF!
A52: CONDICIONES DE EXPERIENCIA | I52: CONDICION N°. 1 | J52: CONDICION N°. 2 | K52: CONDICION Nº. 3 | L52: CONDICION Nº 4 | M52: CONCLUSIÓN EXPERIENCIA GENERAL | N52: CONCLUSIÓN EXPERIENCIA ESPECIFICA | O52: Observación y respuesta a observaciones
A53: Objeto del Contrato | B53: Entidad Contratante | D53: Valor Contrato | E53: Año de ejecución aportado | F53: Valor del Contrato en SMMLV | G53: Participación UT/CONSORCIO | H53: Participación en SMMLV | I53: Término de ejecución aportado | J53: Requisito RUP | K53: FICHA TÉCNICA | L53: COMPROMISO BUENAS PRÁCTICAS
A55: XXXX | B55: XXXX | D55: XXXX | E55: XXX | F55: XXX | G55: XXX | H55: XXX | I55: NO CUMPLE | J55: NO CUMPLE | K55: CUMPLE | L55: CUMPLE | M55: NO CUMPLE | N55: NO CUMPLE | O55: EL OFERENTE NO ALLEGÓ EL DOCUMENTO "CUESTIONARIO DE EXPERIENCIA ESPECÍFICA DEL PROPONENTE". ADEMÁS SIN ESTE, NO SE PUEDE VERIFICAR LOS CÓDIGOS UNSPSC EN EL RUP, NI EL CONTRATO EN EL MISMO. DEBE SUBSANAR.
A57: TOTALES | H57: =+SUM(H55:H55)+SUM(H56:H56) -> 0 | I57: RESULTADO | O57: NO CUMPLE
...

Sheet LOTE 3
A1: FONDO DE DESARROLLO LOCAL DE SAN CRISTÓBAL
A2: FDLSC-SASI-001-2021
A3: REQUISITOS HABILITANTES TÉCNICOS | Q3: CUMPLE
Q4: NO CUMPLE
A6: 1 | E6: AMERICANA CORP SAS
A7: NÚMERO DE CONTRATOS PRESENTADOS | B7: 2 | C7: PRESUPUESTO OFICIAL EN SMMLV | D7: =+$E$55 -> 23.664705
A8: VALOR MÍNIMO A CERTIFICAR | C8: 1 | D8: =+D7*C8 -> 23.664705
A9: TERMINO DE EJECUCION EXIGIDO
A10: TOTAL SALARIOS MINIMOS ACREDITADOS | C10: =+IF(H16>D8,"CUMPLE","NO CUMPLE") -> NO CUMPLE
A11: CONDICIONES DE EXPERIENCIA | I11: CONDICION N°. 1 | J11: CONDICION N°. 2 | K11: CONDICION Nº. 3 | L11: CONDICION Nº 4 | M11: CONCLUSIÓN EXPERIENCIA GENERAL | N11: CONCLUSIÓN EXPERIENCIA ESPECIFICA | O11: Observación y respuesta a observaciones
A12: Objeto del Contrato | B12: Entidad Contratante | D12: Valor Contrato | E12: Año de ejecución aportado | F12: Valor del Contrato en SMMLV | G12: Participación UT/CONSORCIO | H12: Participación en SMMLV | I12: Término de ejecución aportado | J12: Requisito RUP | K12: FICHA TÉCNICA | L12: COMPROMISO BUENAS PRÁCTICAS
A14: XXXX | B14: XXXX | D14: XXXX | E14: XXX | F14: XXX | G14: XXX | H14: XXX | I14: NO CUMPLE | J14: NO CUMPLE | K14: CUMPLE | L14: CUMPLE | M14: NO CUMPLE | N14: NO CUMPLE | O14: EL OFERENTE NO ALLEGÓ EL DOCUMENTO "CUESTIONARIO DE EXPERIENCIA ESPECÍFICA DEL PROPONENTE". ADEMÁS SIN ESTE, NO SE PUEDE VERIFICAR LOS CÓDIGOS UNSPSC EN EL RUP, NI EL CONTRATO EN EL MISMO. DEBE SUBSANAR.
A16: TOTALES | H16: =+SUM(H14:H14)+SUM(H15:H15) -> 0 | I16: RESULTADO | O16: NO CUMPLE
A19: 2 | E19: FUNXI
A20: NÚMERO DE CONTRATOS PRESENTADOS | B20: 2 | C20: PRESUPUESTO OFICIAL EN SMMLV | D20: =+$E$55 -> 23.664705
A21: VALOR MÍNIMO A CERTIFICAR | C21: 1 | D21: =+D20*C21 -> 23.664705
A22: TERMINO DE EJECUCION EXIGIDO | C22: 44291
A23: TOTAL SALARIOS MINIMOS ACREDITADOS | C23: =+IF(H29>D21,"CUMPLE","NO CUMPLE") -> NO CUMPLE
A24: CONDICIONES DE EXPERIENCIA | I24: CONDICION N°. 1 | J24: CONDICION N°. 2 | K24: CONDICION Nº. 3 | L24: CONDICION Nº 4 | M24: CONCLUSIÓN EXPERIENCIA GENERAL | N24: CONCLUSIÓN EXPERIENCIA ESPECIFICA | O24: Observación y respuesta a observaciones
A25: Objeto del Contrato | B25: Entidad Contratante | D25: Valor Contrato | E25: Año de ejecución aportado | F25: Valor del Contrato en SMMLV | G25: Participación UT/CONSORCIO | H25: Participación en SMMLV | I25: Término de ejecución aportado | J25: Requisito RUP | K25: FICHA TÉCNICA | L25: COMPROMISO BUENAS PRÁCTICAS
A27: XXX | B27: XXX | D27: XXX | E27: XXX | F27: XXX | G27: XXX | H27: XXX | I27: NO CUMPLE | J27: NO CUMPLE | K27: CUMPLE | L27: CUMPLE | M27: NO CUMPLE | N27: NO CUMPLE | O27: EL PROPONENTE FUNXI NO APORTA EL CUESTIONARIO DE EXPERIENCIA EXPECÍFICA REQUERIDO EN EL PLIEGO DE CONDICIONES, EN ESE ORDEN DE IDEAS, NO SE PUEDE VERIFICAR LA EXPERIENCIA, LOS CÓDIGOS UNSPSC EN EL RUP, NI SE PUEDE CONTRASTAR CON EL CERTIFICADO DE LA EXPERIENCIA. POR TANTO, EL PROPONENTE DEBE SUBSANAR LOS SIGUIENTES DOCUMENTOS: 1. CUESTIONARIO DE EXPERIENCIA DEL PROPONENTE 2. CERTIFICACIONES DE LOS CONTRATOS POR EL VALOR TOTAL DEL VALOR DEL PRESUPUESTO OFICIAL ESTIMADO (MÁXIMO 3) 3. RUP DE ACUERDO CON LAS ESPECIFICACIONES DEL PLIEGO DE CONDICIONES
A29: TOTALES | H29: =+SUM(H27:H27)+SUM(H28:H28) -> 0 | I29: RESULTADO | O29: NO CUMPLE
A32: 3 | E32: MARKETGROUP S.A.S
A33: NÚMERO DE CONTRATOS PRESENTADOS | B33: 2 | C33: PRESUPUESTO OFICIAL EN SMMLV | D33: =+$E$55 -> 23.664705
A34: VALOR MÍNIMO A CERTIFICAR | C34: 1 | D34: =+D33*C34 -> 23.664705
A35: TERMINO DE EJECUCION EXIGIDO | C35: 44291
A36: TOTAL SALARIOS MINIMOS ACREDITADOS | C36: NO CUMPLE
A37: CONDICIONES DE EXPERIENCIA | I37: CONDICION N°. 1 | J37: CONDICION N°. 2 | K37: CONDICION Nº. 3 | L37: CONDICION Nº 4 | M37: CONCLUSIÓN EXPERIENCIA GENERAL | N37: CONCLUSIÓN EXPERIENCIA ESPECIFICA | O37: Observación y respuesta a observaciones
A38: Objeto del Contrato | B38: Entidad Contratante | D38: Valor Contrato | E38: Año de ejecución aportado | F38: Valor del Contrato en SMMLV | G38: Participación UT/CONSORCIO | H38: Participación en SMMLV | I38: Término de ejecución aportado | J38: Requisito RUP | K38: FICHA TÉCNICA | L38: COMPROMISO BUENAS PRÁCTICAS
A40: XXX | B40: XXX | D40: XXX | E40: XXX | F40: XXX | G40: XXX | H40: XXX | I40: NO CUMPLE | J40: NO CUMPLE | K40: CUMPLE | L40: CUMPLE | M40: NO CUMPLE | N40: NO CUMPLE | O40: EL PROPNENTE NO CUMPLE CON LOS SIGUIENTES ASPECTOS, POR LO QUE DEBE SUBSANAR: 1, NO SE EVIDENCIA EL FORMATO DE EXPERIENCIA ESPECÍFICA DEL PROPONENTE. 2, NO SE EVIDENCIA EL CERTIFICADO DEL O LOS CONTRATOS QUE ACREDITAN LA EXPERIENCIA
A42: TOTALES | H42: =+SUM(H40:H40)+SUM(H41:H41) -> 0 | I42: RESULTADO | O42: NO CUMPLE
C46: ORIGINAL FIRMADO
C48: BRANDON RENÉ BARRIENTOS MARTÍNEZ
C49: PROFESIONAL DE APOYO ADMINISTRATIVO Y FINANCIERO
A54: VALOR TOTAL PROYECTO | C54: 1 | D54: SMMLV | E54: PRESUPUESTO OFICIAL | F54: 75% SMMLV | G54: 120% SMMLV | H54: 150% SMMLV
A55: VALOR: | B55: 21500000 | C55: =+B55*100% -> 21500000 | D55: =+$C$55/$E$90 -> 23.664705 | E55: =$B$55/$E$90 -> 23.664705 | F55: =E55*0.75 -> 17.748529 | G55: =E55*1.2 -> 28.397646 | H55: =E55*1.5 -> 35.497058
D59: Año | E59: Salario mínimo mensual | F59: Incremento %
D60: 1991 | E60: 51720 | F60: 0.26
D61: 1992 | E61: 65190 | F61: 26.07%
D62: 1993 | E62: 81510 | F62: 26.04%
...

Sheet LOTE 4
A1: FONDO DE DESARROLLO LOCAL DE SAN CRISTÓBAL
A2: FDLSC-SASI-001-2021
A3: REQUISITOS HABILITANTES TÉCNICOS | Q3: CUMPLE
Q4: NO CUMPLE
A6: 1 | E6: AMERICANA CORP SAS
A7: NÚMERO DE CONTRATOS PRESENTADOS | B7: 2 | C7: PRESUPUESTO OFICIAL EN SMMLV | D7: =+$E$43 -> 23.664705
A8: VALOR MÍNIMO A CERTIFICAR | C8: 1 | D8: =+D7*C8 -> 23.664705
A9: TERMINO DE EJECUCION EXIGIDO
A10: TOTAL SALARIOS MINIMOS ACREDITADOS | C10: =+IF(H16>D8,"CUMPLE","NO CUMPLE") -> NO CUMPLE
A11: CONDICIONES DE EXPERIENCIA | I11: CONDICION N°. 1 | J11: CONDICION N°. 2 | K11: CONDICION Nº. 3 | L11: CONDICION Nº 4 | M11: CONCLUSIÓN EXPERIENCIA GENERAL | N11: CONCLUSIÓN EXPERIENCIA ESPECIFICA | O11: Observación y respuesta a observaciones
A12: Objeto del Contrato | B12: Entidad Contratante | D12: Valor Contrato | E12: Año de ejecución aportado | F12: Valor del Contrato en SMMLV | G12: Participación UT/CONSORCIO | H12: Participación en SMMLV | I12: Término de ejecución aportado | J12: Requisito RUP | K12: FICHA TÉCNICA | L12: COMPROMISO BUENAS PRÁCTICAS
A14: XXXX | B14: XXXX | D14: XXXX | E14: XXX | F14: XXX | G14: XXX | H14: XXX | I14: NO CUMPLE | J14: NO CUMPLE | K14: CUMPLE | L14: CUMPLE | M14: NO CUMPLE | N14: NO CUMPLE | O14: EL OFERENTE NO ALLEGÓ EL DOCUMENTO "CUESTIONARIO DE EXPERIENCIA ESPECÍFICA DEL PROPONENTE". ADEMÁS SIN ESTE, NO SE PUEDE VERIFICAR LOS CÓDIGOS UNSPSC EN EL RUP, NI EL CONTRATO EN EL MISMO. DEBE SUBSANAR.
A16: TOTALES | H16: =+SUM(H14:H14)+SUM(H15:H15) -> 0 | I16: RESULTADO | O16: NO CUMPLE
A19: 2 | E19: FUNXI
A20: NÚMERO DE CONTRATOS PRESENTADOS | B20: 2 | C20: PRESUPUESTO OFICIAL EN SMMLV | D20: =+$E$43 -> 23.664705
A21: VALOR MÍNIMO A CERTIFICAR | C21: 1 | D21: =+D20*C21 -> 23.664705
A22: TERMINO DE EJECUCION EXIGIDO | C22: 44291
A23: TOTAL SALARIOS MINIMOS ACREDITADOS | C23: =+IF(H29>D21,"CUMPLE","NO CUMPLE") -> NO CUMPLE
A24: CONDICIONES DE EXPERIENCIA | I24: CONDICION N°. 1 | J24: CONDICION N°. 2 | K24: CONDICION Nº. 3 | L24: CONDICION Nº 4 | M24: CONCLUSIÓN EXPERIENCIA GENERAL | N24: CONCLUSIÓN EXPERIENCIA ESPECIFICA | O24: Observación y respuesta a observaciones
A25: Objeto del Contrato | B25: Entidad Contratante | D25: Valor Contrato | E25: Año de ejecución aportado | F25: Valor del Contrato en SMMLV | G25: Participación UT/CONSORCIO | H25: Participación en SMMLV | I25: Término de ejecución aportado | J25: Requisito RUP | K25: FICHA TÉCNICA | L25: COMPROMISO BUENAS PRÁCTICAS
A27: XXX | C27: XXX | D27: XXX | E27: XXX | F27: XXX | G27: XXX | H27: NO CUMPLE | I27: NO CUMPLE | J27: CUMPLE | K27: CUMPLE | L27: NO CUMPLE | M27: NO CUMPLE | N27: NO CUMPLE | O27: EL PROPONENTE FUNXI NO APORTA EL CUESTIONARIO DE EXPERIENCIA EXPECÍFICA REQUERIDO EN EL PLIEGO DE CONDICIONES, EN ESE ORDEN DE IDEAS, NO SE PUEDE VERIFICAR LA EXPERIENCIA, LOS CÓDIGOS UNSPSC EN EL RUP, NI SE PUEDE CONTRASTAR CON EL CERTIFICADO DE LA EXPERIENCIA. POR TANTO, EL PROPONENTE DEBE SUBSANAR LOS SIGUIENTES DOCUMENTOS: 1. CUESTIONARIO DE EXPERIENCIA DEL PROPONENTE 2. CERTIFICACIONES DE LOS CONTRATOS POR EL VALOR TOTAL DEL VALOR DEL PRESUPUESTO OFICIAL ESTIMADO (MÁXIMO 3) 3. RUP DE ACUERDO CON LAS ESPECIFICACIONES DEL PLIEGO DE CONDICIONES
A29: TOTALES | H29: =+SUM(H27:H27)+SUM(H28:H28) -> 0 | I29: RESULTADO | O29: NO CUMPLE
C34: ORIGINAL FIRMADO
C36: BRANDON RENÉ BARRIENTOS MARTÍNEZ
C37: PROFESIONAL DE APOYO ADMINISTRATIVO Y FINANCIERO
A42: VALOR TOTAL PROYECTO | C42: 1 | D42: SMMLV | E42: PRESUPUESTO OFICIAL | F42: 75% SMMLV | G42: 120% SMMLV | H42: 150% SMMLV
A43: VALOR: | B43: 21500000 | C43: =+B43*100% -> 21500000 | D43: =+$C$43/$E$78 -> 23.664705 | E43: =$B$43/$E$78 -> 23.664705 | F43: =E43*0.75 -> 17.748529 | G43: =E43*1.2 -> 28.397646 | H43: =E43*1.5 -> 35.497058
D47: Año | E47: Salario mínimo mensual | F47: Incremento %
D48: 1991 | E48: 51720 | F48: 0.26
D49: 1992 | E49: 65190 | F49: 26.07%
D50: 1993 | E50: 81510 | F50: 26.04%
D51: 1994 | E51: 98700 | F51: 21.08%
D52: 1995 | E52: 118933 | F52: 20.50%
D53: 1996 | E53: 142125 | F53: 19.50%
D54: 1997 | E54: 172005 | F54: 0.21
D55: 1998 | E55: 203826 | F55: 0.185
D56: 1999 | E56: 236460 | F56: 0.16
D57: 2000 | E57: 260100 | F57: 0.1
D58: 2001 | E58: 286000 | F58: 0.1
D59: 2002 | E59: 309000 | F59: 0.08
...

Sheet RESUMEN EVALUACIÓN
A1: FONDO DE DESARROLLO LOCAL DE SAN CRISTOBAL
A2: FDLSC-SASI-001-2021
B5: Nombre de Oferente : | C5: CONDICIONES TÉCNICAS | D5: OBSERVACIONES
A6: 1 | B6: LOTE 1
A7: 2 | B7: UNION TEMPORAL C2 FERNANDO | C7: NO HABIL | D7: EL PROPONENTE UNIÓN TEMPORAL C2 FERNANDO, ACREDITA UNA EXPERIENCIA CON UN CONTRATO CELEBRADO EN EL AÑO 2013 CON LA EMPRESA BELCORP, POR UN VALOR CELEBRADO EN SMMLV DE 814,25. NO OBSTANTE, DE ACUERDO CON LA NOTA 1 DEL APARTADO TITULADO: "PROPONENTES OBLIGADOS A ESTAR INSCRITOS EN EL RUP", SE SEÑALA QUE: "La experiencia de los proponentes que participen en la modalidad de consorcio o unión temporal, se calculará sumando la experiencia de cada integrante de acuerdo con su porcentaje de participación" YA QUE, EL PROPONENTE FERNANDO SIENDO EL ÚNICO QUE PRESENTA LA CERTIFICACIÒN Y EXPERIENCIA, Y QUIEN CUENTA CON TAN SOLO UN 5% DE PARITICIPACIÓN EN LA UNIÓN TEMPORAL, NO ALCANZA AL VALOR REQUERIDO EN SMMMLV DE 91,14 CORRESPONDIENTE AL 100 DEL VALOR DEL DEL PRESUPUESTO OFICIAL ESTIMADO. DEBE SUBSANAR. ADICIONALMENTE, EL PROPONENTE NO ADJUNTÓ LA FICHA TÉCNICA. DEBE SUBSANAR. Lo anterior en el término de traslado del informe de evaluación preliminar en cumplimiento del Parágrafo 1 del Art 5 de la Ley 1150 de 2007
A8: 3 | B8: STRATEGY SAS | C8: HABIL | D8: EL PROPONENTE CUMPLE CON LOS REQUISITOS TÉCNICOS
A9: 4 | B9: FENIX MEDIA GROUP SAS | C9: HABIL | D9: EL PROPONENTE CUMPLE CON LOS REQUISITOS TÉCNICOS
A10: 5 | B10: UNLOFT PRODUCCION DE MARCA S.A.S | C10: HABIL | D10: EL PROPONENTE CUMPLE CON LOS REQUISITOS TÉCNICOS
A11: 6 | B11: FUNXI | C11: NO HABIL | D11: EL PROPONENTE FUNXI NO APORTA EL CUESTIONARIO DE EXPERIENCIA EXPECÍFICA REQUERIDO EN EL PLIEGO DE CONDICIONES, EN ESE ORDEN DE IDEAS, NO SE PUEDE VERIFICAR LA EXPERIENCIA, LOS CÓDIGOS UNSPSC EN EL RUP, NI SE PUEDE CONTRASTAR CON EL CERTIFICADO DE LA EXPERIENCIA. POR TANTO, EL PROPONENTE DEBE SUBSANAR LOS SIGUIENTES DOCUMENTOS: 1. CUESTIONARIO DE EXPERIENCIA DEL PROPONENTE CUESTIONARIO (FORMATO 08 -EXPERIENCIA DEL PROPONENTE) 2. CERTIFICACIONES DE LOS CONTRATOS POR EL VALOR TOTAL DEL VALOR DEL PRESUPUESTO OFICIAL ESTIMADO (MÁXIMO 3) 3. RUP DE ACUERDO CON LAS ESPECIFICACIONES DEL PLIEGO DE CONDICIONES Lo anterior en el término de traslado del informe de evaluación preliminar en cumplimiento del Parágrafo 1 del Art 5 de la Ley 1150 de 2007
A12: 7 | B12: INVERSIONES AYL SAS | C12: HABIL | D12: EL PROPONENTE CUMPLE CON LOS REQUISITOS TÉCNICOS
A13: 8 | B13: MARKETGROUP S.A.S | C13: NO HABIL | D13: EL PROPNENTE NO CUMPLE CON LOS SIGUIENTES ASPECTOS, POR LO QUE DEBE SUBSANAR: 1, LA FICHA TÉCNICA NO CORRESPONDE AL LOTE 1 2, NO SE EVIDENCIA EL FORMATO DE EXPERIENCIA ESPECÍFICA DEL PROPONENTE. 3, NO SE EVIDENCIA EL CERTIFICADO DEL O LOS CONTRATOS QUE ACREDITAN LA EXPERIENCIA Lo anterior en el término de traslado del informe de evaluación preliminar en cumplimiento del Parágrafo 1 del Art 5 de la Ley 1150 de 2007
A14: 9 | B14: LOTE2
A15: 10 | B15: SAS UNION TEMPORAL BIENSERVICIOS C2 | C15: NO HABIL | D15: EL PROPONENTE SAS UNIÓN TEMPORAL BIENSERVICIOS C2, ACREDITA UNA EXPERIENCIA CON UN CONTRATO CELEBRADO EN EL AÑO 2019 CON EL MUNICIPIO DE COTA, POR UN VALOR CELEBRADO EN SMMLV DE 1.755,11. NO OBSTANTE, DE ACUERDO CON LA NOTA 1 DEL APARTADO TITULADO: "PROPONENTES OBLIGADOS A ESTAR INSCRITOS EN EL RUP", SE SEÑALA QUE: "La experiencia de los proponentes que participen en la modalidad de consorcio o unión temporal, se calculará sumando la experiencia de cada integrante de acuerdo con su porcentaje de participación" YA QUE, EL PROPONENTE BIENSERVICIOS SAS SIENDO EL ÚNICO QUE PRESENTA LA CERTIFICACIÒN Y EXPERIENCIA, Y QUIEN CUENTA CON TAN SOLO UN 5% DE PARTICIPACIÓN EN LA UNIÓN TEMPORAL, NO ALCANZA AL VALOR REQUERIDO EN SMMMLV DE 115,68 CORRESPONDIENTE AL 100 DEL VALOR DEL DEL PRESUPUESTO OFICIAL ESTIMADO, YA QUE, EL 5% DE SU PARTICIPACIÓN, CORRESPONDE A 87,7 SMMLV DEL CONTRATO QUE CERTIFICA LA EXPERIENCIA. DEBE SUBSANAR. ADICIONALMENTE, EL PROPONENTE NO ADJUNTÓ LA FICHA TÉCNICA. DEBE SUBSANAR. POR OTRO LADO, EL PROPONENTE DEBE ALLEGAR LA FICHA TÉCNICA DE CUMPLIMIENTO TAL Y COMO SE DESCRIBE EN EL PLIEGO DE CONDICIONES. DEBE SUBSANAR Lo anterior en el término de traslado del informe de evaluación preliminar en cumplimiento del Parágrafo 1 del Art 5 de la Ley 1150 de 2007
A16: 11 | B16: COMPETITIVIDAD SAS | C16: HABIL | D16: EL PROPONENTE CUMPLE CON LOS REQUISITOS TÉCNICOS
A17: 12 | B17: UNLOFT PRODUCCION DE MARCA S.A.S | C17: HABIL | D17: EL PROPONENTE CUMPLE CON LOS REQUISITOS TÉCNICOS
A18: 13 | B18: AMERICANA CORP SAS | C18: NO HABIL | D18: EL OFERENTE NO ALLEGÓ EL DOCUMENTO "CUESTIONARIO DE EXPERIENCIA ESPECÍFICA DEL PROPONENTE". ADEMÁS SIN ESTE, NO SE PUEDE VERIFICAR LOS CÓDIGOS UNSPSC EN EL RUP, NI EL CONTRATO EN EL MISMO. DEBE SUBSANAR.
A19: 14 | B19: FUNDACION G3 | C19: HABIL | D19: EL PROPONENTE CUMPLE CON LOS REQUISITOS TÉCNICOS
A20: 15 | B20: FUNXI | C20: NO HABIL | D20: EL PROPONENTE FUNXI NO APORTA EL CUESTIONARIO DE EXPERIENCIA EXPECÍFICA REQUERIDO EN EL PLIEGO DE CONDICIONES, EN ESE ORDEN DE IDEAS, NO SE PUEDE VERIFICAR LA EXPERIENCIA, LOS CÓDIGOS UNSPSC EN EL RUP, NI SE PUEDE CONTRASTAR CON EL CERTIFICADO DE LA EXPERIENCIA. POR TANTO, EL PROPONENTE DEBE SUBSANAR LOS SIGUIENTES DOCUMENTOS: 1. CUESTIONARIO DE EXPERIENCIA DEL PROPONENTE (FORMATO 08 -EXPERIENCIA DEL PROPONENTE) 2. CERTIFICACIONES DE LOS CONTRATOS POR EL VALOR TOTAL DEL VALOR DEL PRESUPUESTO OFICIAL ESTIMADO (MÁXIMO 3) 3. RUP DE ACUERDO CON LAS ESPECIFICACIONES DEL PLIEGO DE CONDICIONES
B21: INVERSIONES AYL SAS | C21: HABIL | D21: EL PROPONENTE CUMPLE CON LOS REQUISITOS TÉCNICOS
B22: LOTE 3
B23: AMERICANA CORP SAS | C23: NO HABIL | D23: EL OFERENTE NO ALLEGÓ EL DOCUMENTO "CUESTIONARIO DE EXPERIENCIA ESPECÍFICA DEL PROPONENTE". ADEMÁS SIN ESTE, NO SE PUEDE VERIFICAR LOS CÓDIGOS UNSPSC EN EL RUP, NI EL CONTRATO EN EL MISMO. DEBE SUBSANAR. Lo anterior en el término de traslado del informe de evaluación preliminar en cumplimiento del Parágrafo 1 del Art 5 de la Ley 1150 de 2007
B24: FUNXI | C24: NO HABIL | D24: EL PROPONENTE FUNXI NO APORTA EL CUESTIONARIO DE EXPERIENCIA EXPECÍFICA REQUERIDO EN EL PLIEGO DE CONDICIONES, EN ESE ORDEN DE IDEAS, NO SE PUEDE VERIFICAR LA EXPERIENCIA, LOS CÓDIGOS UNSPSC EN EL RUP, NI SE PUEDE CONTRASTAR CON EL CERTIFICADO DE LA EXPERIENCIA. POR TANTO, EL PROPONENTE DEBE SUBSANAR LOS SIGUIENTES DOCUMENTOS: 1. CUESTIONARIO DE EXPERIENCIA DEL PROPONENTE CUESTIONARIO (FORMATO 08 -EXPERIENCIA DEL PROPONENTE) 2. CERTIFICACIONES DE LOS CONTRATOS POR EL VALOR TOTAL DEL VALOR DEL PRESUPUESTO OFICIAL ESTIMADO (MÁXIMO 3) 3. RUP DE ACUERDO CON LAS ESPECIFICACIONES DEL PLIEGO DE CONDICIONES. Lo anterior en el término de traslado del informe de evaluación preliminar en cumplimiento del Parágrafo 1 del Art 5 de la Ley 1150 de 2007
B25: MARKETGROUP S.A.S | C25: NO HABIL | D25: EL PROPNENTE NO CUMPLE CON LOS SIGUIENTES ASPECTOS, POR LO QUE DEBE SUBSANAR: 1, NO SE EVIDENCIA EL FORMATO DE EXPERIENCIA ESPECÍFICA DEL PROPONENTE (FORMATO 08 -EXPERIENCIA DEL PROPONENTE) 2, NO SE EVIDENCIA EL CERTIFICADO DEL O LOS CONTRATOS QUE ACREDITAN LA EXPERIENCIA Lo anterior en el término de traslado del informe de evaluación preliminar en cumplimiento del Parágrafo 1 del Art 5 de la Ley 1150 de 2007
B26: LOTE 4
B27: AMERICANA CORP SAS | C27: NO HABIL | D27: EL OFERENTE NO ALLEGÓ EL DOCUMENTO "CUESTIONARIO DE EXPERIENCIA ESPECÍFICA DEL PROPONENTE". ADEMÁS SIN ESTE, NO SE PUEDE VERIFICAR LOS CÓDIGOS UNSPSC EN EL RUP, NI EL CONTRATO EN EL MISMO. DEBE SUBSANAR.
B28: FUNXI | C28: NO HABIL | D28: EL PROPONENTE FUNXI NO APORTA EL CUESTIONARIO DE EXPERIENCIA EXPECÍFICA REQUERIDO EN EL PLIEGO DE CONDICIONES, EN ESE ORDEN DE IDEAS, NO SE PUEDE VERIFICAR LA EXPERIENCIA, LOS CÓDIGOS UNSPSC EN EL RUP, NI SE PUEDE CONTRASTAR CON EL CERTIFICADO DE LA EXPERIENCIA. POR TANTO, EL PROPONENTE DEBE SUBSANAR LOS SIGUIENTES DOCUMENTOS: 1. CUESTIONARIO DE EXPERIENCIA DEL PROPONENTE. (FORMATO 08 -EXPERIENCIA DEL PROPONENTE) 2. CERTIFICACIONES DE LOS CONTRATOS POR EL VALOR TOTAL DEL VALOR DEL PRESUPUESTO OFICIAL ESTIMADO (MÁXIMO 3) 3. RUP DE ACUERDO CON LAS ESPECIFICACIONES DEL PLIEGO DE CONDICIONES Lo anterior en el término de traslado del informe de evaluación preliminar en cumplimiento del Parágrafo 1 del Art 5 de la Ley 1150 de 2007
