Workbook
Name consi1: '1,CORIGAM'!#REF!
Name consi1: '2.AIC SAS'!#REF!
Name consi1: '3.INSTRUMENTO GRUPO SAS'!#REF!
Name consi1: '4.ESTUDIO URBANO ARQUITECTOSAS'!#REF!
Name consi1: '5.H&V'!#REF!
Name consi1: #REF!
Name consi2: #REF!
Name consi2: #REF!
Name consi2: #REF!
Name consi2: #REF!
Name consi2: #REF!
Name consi2: #REF!
Name consi3: #REF!
Name consi3: #REF!
Name consi3: #REF!
Name consi3: #REF!
Name consi3: #REF!
Name consi3: #REF!
Name CONT: #REF!
Name CONT: #REF!
Name CONT1: #REF!
Name CONT1: #REF!
Name contratista_1: '1,CORIGAM'!#REF!
Name contratista_1: '2.AIC SAS'!#REF!
Name contratista_1: '3.INSTRUMENTO GRUPO SAS'!#REF!
Name contratista_1: '4.ESTUDIO URBANO ARQUITECTOSAS'!#REF!
Name contratista_1: '5.H&V'!#REF!
Name contratista_1: #REF!
Name contratista_2: #REF!
Name contratista_2: #REF!
Name contratista_2: #REF!
Name contratista_2: #REF!
Name contratista_2: #REF!
Name contratista_2: #REF!
Name contratista_3: #REF!
Name contratista_3: #REF!
Name contratista_3: #REF!
Name contratista_3: #REF!
Name contratista_3: #REF!
Name contratista_3: #REF!
Name Contrato: '1,CORIGAM'!$D$10
Name Contrato: '2.AIC SAS'!$D$10
Name Contrato: '3.INSTRUMENTO GRUPO SAS'!$D$10
Name Contrato: '4.ESTUDIO URBANO ARQUITECTOSAS'!$D$10
Name Contrato: '5.H&V'!$D$10
Name Contrato: #REF!
Name FECHA.SAM: Evaluación!$B$13
Name IN: #REF!
Name IN: #REF!
Name ind: #REF!
Name ind: #REF!
Name ind: #REF!
Name ind: #REF!
Name ind: #REF!
Name ind: #REF!
Name ind_1: '1,CORIGAM'!#REF!
Name ind_1: '2.AIC SAS'!#REF!
Name ind_1: '3.INSTRUMENTO GRUPO SAS'!#REF!
Name ind_1: '4.ESTUDIO URBANO ARQUITECTOSAS'!#REF!
Name ind_1: '5.H&V'!#REF!

Sheet Consolidado
B3: UNIDAD DE SERVICIOS PENITENCIARIOS Y CARCELARIOS
I4: USPEC
A5: DIRECCION DE INFRAESTRUCTURA
B6: Subdirección de Construcción y Conservación
B7: PROCESO DE MÍNIMA CUANTÍA | L7: N° | M7: USPEC-IP-MC-048-2018
B8: OBJETO | D8: REALIZAR EL LEVANTAMIENTO TOPOGRAFICO Y ARQUITECTONICO, LOS ESTUDIOS GEOTECNICOS, LA VALORACION, DISEÑO ESTRUCTURAL Y EL PRESUPUESTO DETALLADO NECESARIOS PARA EJECUTAR LAS OBRAS CIVILES DE RECONSTRUCCIÓN DEL MURO DE CERRAMIENTO PERIMETRAL EXISTENTE DIAGNOSTICADO COMO INESTABLE EN EL ESTABLECIMIENTO PENITENCIARIO DE MEDIANA SEGURIDAD – EPMSC VILLAVICENCIO – META.
B10: CONSOLIDADO EVALUACION TECNICA Y ECONÓMICA PRELIMINAR
B11: N° | C11: OFERENTE | F11: EXPERIENCIA MÍNIMA DEL PROPONENTE CUMPLE /NO CUMPLE | H11: ACEPTACIÓN ANEXO TÉCNICO CUMPLE/NO CUMPLE | J11: SOPORTES DE ANEXO TÉCNICO Grupo básico Estudio de suelos | L11: PROPUESTA ECONÓMICA CUMPLE/NO CUMPLE | N11: OBSERVACIONES
J12: Director de obra
B13: 1 | C13: CORIGAM | F13: =+'1,CORIGAM'!O40 -> CUMPLE | H13: ='1,CORIGAM'!L21 -> CUMPLE | J13: =+'1,CORIGAM'!B82 -> NO CUMPLE | L13: RECHAZADA | N13: No aporta ceriticaciones de experiencia que cumplan el tiempo solicitado Presenta oferta económica parcial omitiendo tres de los estudios solicitados en la consultoría (programación detallada de obra; gestión de trámites y servicios públicos; diseño plan de manejo y gestiones ambientales, sociales y de seguridad industrial). Causal de rechazo literal "f".
B14: 2 | C14: AIC SAS | F14: CUMPLE | H14: CUMPLE | J14: CUMPLE | L14: RECHAZADA | N14: =Evaluación!E9 -> La oferta económica presentada no integra las especificaciones técnicas de obligatorio cumplimiento solicitadas por la Entidad. Causal de rechazo "o".
B15: 3 | C15: INSTRUMENTO GRUPO SAS | F15: CUMPLE | H15: CUMPLE | J15: NO CUMPLE | L15: CUMPLE | N15: El proponente solo presenta un miembro de los dos requeridos como personal mínimo. Presenta un profesional que se postula en dos ofertas, se solicita que aclare a cual apoya. Se requiere que subsane lo anterior.
B16: 4 | C16: ESTUDIO URBANO ARQUITECTOS SAS | F16: CUMPLE | H16: CUMPLE | J16: NO CUMPLE | L16: CUMPLE | N16: El proponente solo presenta un miembro de los dos requeridos como personal mínimo. Presenta un profesional que se postula en dos ofertas, se solicita que aclare a cual apoya. Se requiere que subsane lo anterior.
B17: 5 | C17: H&V | F17: NO CUMPLE | H17: CUMPLE | J17: NO CUMPLE | L17: RECHAZADA | N17: No especifica fecha de inicio y terminación del contrato AUTONORTE ANTIOQUEÑO No aporta ceriticaciones de experiencia que cumplan el tiempo solicitado. Se realizo corrección aritmética y el resultado total supera el presupuesto estimado por la Entidad. Causal de rechazo literal "h".
A19: CONSOLIDACION EVALUACION TECNICA CORIGAM: | N19: NO CUMPLE
A20: CONSOLIDACION EVALUACION ECONOMICA CORIGAM: | N20: =+L13 -> RECHAZADA
N21: NO HABIL
A23: CONSOLIDACION EVALUACION TECNICA AIC SAS: | N23: CUMPLE
A24: CONSOLIDACION EVALUACION ECONOMICA AIC SAS: | N24: RECHAZADA
N25: NO HABIL
A27: CONSOLIDACION EVALUACION TECNICA INSTRUMENTO GRUPO SAS: | N27: NO CUMPLE
A28: CONSOLIDACION EVALUACION ECONOMICA INSTRUMENTO GRUPO SAS: | N28: CUMPLE
N29: NO HABIL
A31: CONSOLIDACION EVALUACION TECNICA ESTUDIO URBANO ARQUITECTOS SAS: | N31: NO CUMPLE
A32: CONSOLIDACION EVALUACION ECONOMICA STUDIO URBANO ARQUITECTOS SAS: | N32: CUMPLE
N33: NO HABIL
A35: CONSOLIDACION EVALUACION TECNICA H&V: | N35: NO CUMPLE
A36: CONSOLIDACION EVALUACION ECONOMICA H&V | N36: RECHAZADA
N37: NO HABIL
C40: GRUPO EVALUADOR
C41: MANUEL FERNANDO HERRERA TEUZABA | G41: JOHN SIERRA CRUZ
C42: URBANISTA | G42: APOYO A LA SUPERVISION DINFRA
B47: N° | C47: OFERENTE | J47: CONSOLIDACION EVALUACIÓN
J48: TÉCNICA | L48: ECONÓMICA | N48: HABILITACIÓN
B49: 1 | C49: CORIGAM | J49: NO CUMPLE | L49: NO CUMPLE | N49: RECHAZADA
B50: 2 | C50: AIC SAS | J50: CUMPLE | L50: NO CUMPLE | N50: RECHAZADA
B51: 3 | C51: INSTRUMENTO GRUPO SAS | J51: NO CUMPLE | L51: CUMPLE | N51: SUBSANABLE
B52: 4 | C52: ESTUDIO URBANO ARQUITECTOS SAS | J52: NO CUMPLE | L52: CUMPLE | N52: SUBSANABLE
B53: 5 | C53: H&V | J53: NO CUMPLE | L53: RECHAZADA | N53: RECHAZADA

Sheet Hoja1

Sheet Hoja2

Sheet 1,CORIGAM
B2: UNIDAD DE SERVICIOS PENITENCIARIOS Y CARCELARIOS
B4: DIRECCION DE INFRAESTRUCTURA
B7: SUBDIRECCIÓN DE CONSTRUCCIÓN Y CONSERVACIÓN
B9: PROCESO MININA CUANTIA | L9: =[2]Consolidado!L7 -> N° | M9: INVITACIÓN PÚBLICA USPEC-IP-MC-048-2018
B10: OBJETO | D10: REALIZAR EL LEVANTAMIENTO TOPOGRAFICO Y ARQUITECTONICO, LOS ESTUDIOS GEOTECNICOS, LA VALORACION, DISEÑO ESTRUCTURAL Y EL PRESUPUESTO DETALLADO NECESARIOS PARA EJECUTAR LAS OBRAS CIVILES DE RECONSTRUCCIÓN DEL MURO DE CERRAMIENTO PERIMETRAL EXISTENTE DIAGNOSTICADO COMO INESTABLE EN EL ESTABLECIMIENTO PENITEN CIARIO DE MEDIANA SEGURIDAD – EPMSC VILLAVICENCIO – META. | R10: CUMPLE | S10: NO CUMPLE | T10: HÁBIL | U10: INHÁBIL
B12: PRESUPUESTO OFICIAL
B13: VALOR: | E13: 64270764 | H13: VALOR SMMLV 2018 | N13: EN SMMLV: | P13: =+E13/781242 -> 82.26742
B15: PROPONENTE
B16: NOMBRE | E16: CORIGAM | L16: NIT | N16: 90031007
B18: VERIFICACIÓN TÉCNICA
B20: VERIFICACIÓN DE DOCUMENTOS TÉCNICOS OBLIGATORIOS | L20: CUMPLE / NO CUMPLE | N20: OBSERVACIONES
B21: PRESENTACIÓN DEL ANEXO TÉCNICO DEBIDAMENTE DILIGENCIADO Y FIRMADO | L21: CUMPLE
B25: EXPERIENCIA DEL CONTRANTE
B26: Requisitos según pliego de condiciones Numeral 28.2.1. EXPERIENCIA MÍNIMA DEL PROPONENTE:
B27: Experiencia relacionada en ELABORACIÓN DE ESTUDIOS DE SUELOS Y/O ELABORACIÓN DE ESTUDIOS GEOTÉCNICOS, ELABORACIÓN DE ESTUDIOS, mediante certificaciones de tres (3) contratos liquidados, ejecutados con entidades públicas o privadas dentro de los últimos diez (10) años anteriores a la fecha de cierre de este proceso de selección, cuya sumatoria se sea igual o superior al ciento por ciento (100%) al cierre de la presente contratación. No serán tenidos en cuenta contratos que se encuentren en ejecución.
B28: N° CONTRATO | C28: ENTIDAD CONTRATANTE | F28: OBJETO DEL CONTRATO | I28: CÓDIGOS RUP | J28: AÑO DE EJECUCIÓN | K28: EXPERIENCIA (SMMLV) | L28: PORCENTAJE DE PARTICIPCIÓN | M28: EXPERIENCIA TOTAL (SMMLV) | N28: CUMPLE/NO CUMPLE | O28: OBSERVACIONES
B29: 1 | C29: MUNICIPIO DE OTANCHE BOYACA | F29: ESTUDIOS Y DISEÑOS PARA LA CONSTRUCCIÓN DEL CENTRO DE INTEGRACION CIUDADANA (CIC) EN EL MUNICIPIO DE OTANCHE BOYACA | J29: 24/10/2017 A 31/12/2017 | K29: 37000000 | L29: 0 | M29: 37000000 | N29: CUMPLE
B30: 2 | C30: DEPARTAMENTO ADMINISTRATIVO DE GESTIÓN DEL MEDIO AMBIENTE -DAGMA | F30: PRESTACIÓN DE SERVICIOS PARA LA ELABORACIÓN DEL LEVANTAMIENTO TOPOGRÁFICO EN LOS SEGMENTOS DE ALINDERAMIENTO O REPLANTEO DEL LOTE, MOJONEO Y ESTUDIO DE SUELOS DEL PREDIO UBICADO EN EL SECTOR OCCIDENTAL DEL CERRO DE CRISTO REY, IDENTIFICADO CON EL NÚMERO DE MATRÍCULA INMOBILIARIA 115844 Y EL NUMERO PREDIAL Y000503480001 EN LA VEREDA PILAS DEL CABUYAL EN EL MARCO DEL PROYECTO BP 21043784 DENOMINADO RESTAURACION DE ECOSISTEMAS DE BOSQUES DE CUENCAS HIDROGRAFICAS DEL MUNICIPIO SANTIAGO DE CALI. | J30: 07/07/2014 A 25/07/2014 | K30: 20590000 | L30: 0 | M30: 20590000 | N30: CUMPLE
B31: 3 | C31: ALCALDIA MUNICIPAL DE SOPO | F31: CONSULTORIA PARA REALIZAR LOS ESTUDIOS Y DISEÑOS PARA LA CONSTRUCCION DEL CENTRO DE INTEGRACION CIUDADANA EN EL MUNICIPIO DE SOPO CONUDINAMARCA | J31: 27/9/2017 A 27/10/2017 | K31: 37950000 | L31: 0 | M31: 37950000 | N31: CUMPLE
B32: 4
B33: 5
B34: 6
B35: 7
B36: 8
B37: 9
B38: 10
B40: SUMATORIA TOTAL VALOR CONTRATOS | K40: =SUM(K29:K31) -> 95540000 | M40: =SUM(M29:M38) -> 95540000 | O40: =IF(K40>=$E$13,"CUMPLE","NO CUMPLE") -> CUMPLE
B42: EVALUACIÓN DE LA EXPERIENCIA GENERAL DEL PROPONENTE (CUMPLE /NO CUMPLE) | O42: CUMPLE
B46: EXPERIENCIA ESPECÍFICA
B47: Requisitos según pliego de condiciones
B48: Un (1) Director de estudios INGENIERO CIVIL O ARQUITECTO ESPECIALISTA EN GEOTECNIA y/o ESPECIALISTA EN ESTRUCTURAS y/o GERENCIA DE PROYECTOS /y/o MASTER EN INGENIERIA Igual o mayor a diez (10) años (contados a partir del Acta de grado o la expedición de la tarjeta profesional o lo que determine para este aspecto la normatividad vigente) y experiencia mínimo de 5 años contados a partir de la obtención del título de posgrado. 100%
B50: DIRECTOR DE ESTUDIOS | G50: NO PRESENTA PERSONAL | N50: CÉDULA | O50: 86052365
B51: FRANKLEN SUTA PICO | I51: MIN | J51: 10
I52: 2005 | S52: 37421
B53: DIRECTOR | F53: ING. CIVIL | I53: =(TODAY()-DATE(I55,J55,K55))/365 -> 14.589041 | S53: 43357
B54: Fecha de TARJETA PROFESIONAL como especialista en geotecnia) | I54: AÑO | J54: MES | K54: DIA | S54: =+S53-S52 -> 5936
I55: 2004 | J55: 2 | K55: 19 | S55: =+S54/360 -> 16.488889
B57: Experiencia Específica | L57: Verificación de experiencia posterior a la expedición de la tarjeta profesional
B58: Solicitada: | F58: 5 | H58: años | I58: =IF(F59>F58,$R$10,$S$10) -> NO CUMPLE | J58: =IF(F59<=O52,Q52,IF(AND(F59>M53,F59<=O53),Q53,IF(AND(F59>M54,F59<=O54),Q54,IF(F59>M55,Q55,"REVISAR")))) -> 0
B59: Presentada: | F59: =SUM(Q63:Q68) -> 0.64794521 | H59: años | L59: =IF(I53>J51,"CUMPLE","NO CUMPLE") -> CUMPLE
...

Sheet 2.AIC SAS
B2: UNIDAD DE SERVICIOS PENITENCIARIOS Y CARCELARIOS
B4: DIRECCION DE INFRAESTRUCTURA
B7: SUBDIRECCIÓN DE CONSTRUCCIÓN Y CONSERVACIÓN
B9: PROCESO MININA CUANTIA | L9: =[2]Consolidado!L7 -> N° | M9: USPEC-IP-MC-48-2018
B10: OBJETO | D10: REALIZAR EL LEVANTAMIENTO TOPOGRAFICO Y ARQUITECTONICO, LOS ESTUDIOS GEOTECNICOS, LA VALORACION, DISEÑO ESTRUCTURAL Y EL PRESUPUESTO DETALLADO NECESARIOS PARA EJECUTAR LAS OBRAS CIVILES DE RECONSTRUCCIÓN DEL MURO DE CERRAMIENTO PERIMETRAL EXISTENTE DIAGNOSTICADO COMO INESTABLE EN EL ESTABLECIMIENTO PENITEN CIARIO DE MEDIANA SEGURIDAD – EPMSC VILLAVICENCIO – META. | R10: CUMPLE | S10: NO CUMPLE | T10: HÁBIL | U10: INHÁBIL
B12: PRESUPUESTO OFICIAL
B13: VALOR: | E13: 64270764 | H13: VALOR SMMLV 2018 | N13: EN SMMLV: | P13: =+E13/781242 -> 82.26742
B15: PROPONENTE
B16: NOMBRE | E16: ASESORES Y CONSULTORES CIVILES ASOCIADOS | L16: NIT | N16: 900427248-8
B18: VERIFICACIÓN TÉCNICA
B20: VERIFICACIÓN DE DOCUMENTOS TÉCNICOS OBLIGATORIOS | L20: CUMPLE / NO CUMPLE | N20: OBSERVACIONES
B21: PRESENTACIÓN DEL ANEXO TÉCNICO DEBIDAMENTE DILIGENCIADO Y FIRMADO | L21: CUMPLE
B25: EXPERIENCIA DEL CONTRANTE
B26: Requisitos según pliego de condiciones Numeral 28.2.1. EXPERIENCIA MÍNIMA DEL PROPONENTE:
B27: Experiencia relacionada en ELABORACIÓN DE ESTUDIOS DE SUELOS Y/O ELABORACIÓN DE ESTUDIOS GEOTÉCNICOS, ELABORACIÓN DE ESTUDIOS, mediante certificaciones de tres (3) contratos liquidados, ejecutados con entidades públicas o privadas dentro de los últimos diez (10) años anteriores a la fecha de cierre de este proceso de selección, cuya sumatoria se sea igual o superior al ciento por ciento (100%) al cierre de la presente contratación. No serán tenidos en cuenta contratos que se encuentren en ejecución.
B28: N° CONTRATO | C28: ENTIDAD CONTRATANTE | F28: OBJETO DEL CONTRATO | I28: CÓDIGOS RUP | J28: AÑO DE EJECUCIÓN | K28: EXPERIENCIA (SMMLV) | L28: PORCENTAJE DE PARTICIPCIÓN | M28: EXPERIENCIA TOTAL (SMMLV) | N28: CUMPLE/NO CUMPLE | O28: OBSERVACIONES
B29: 1 | C29: INVERSIONES Y PROYECTOS CARANDAY SAS | F29: REALIZAR LOS ESTUDIOS TOPOGRAFICOS, GEOTECNICOS Y ESTRUCTURALES DEL PROYECTO MIRADOR DE CARANDAY.. | J29: 30/11/2016 A 28 02 17 | K29: 82600000 | L29: 0 | M29: 18630500 | N29: CUMPLE | O29: Presenta como única certificación
B32: 4
B33: 5
B34: 6
B35: 7
B36: 8
B37: 9
B38: 10
B40: SUMATORIA TOTAL VALOR CONTRATOS | K40: =SUM(K29:K31) -> 82600000 | M40: =SUM(M29:M38) -> 18630500 | O40: =IF(K40>=$E$13,"CUMPLE","NO CUMPLE") -> CUMPLE
B42: EVALUACIÓN DE LA EXPERIENCIA GENERAL DEL PROPONENTE (CUMPLE /NO CUMPLE) | O42: CUMPLE
B46: EXPERIENCIA ESPECÍFICA
B47: Requisitos según pliego de condiciones N° USPEC-IP-MC-48-2018
B50: DIRECTOR DE ESTUDIOS | G50: NO PRESENTA PERSONAL | N50: CÉDULA
B51: BRITTON BARROS GUILLERMO JESUS | I51: MIN | J51: 10
I52: 2005
B53: DIRECTOR | F53: ING. CIVIL | I53: =(TODAY()-DATE(I55,J55,K55))/365 -> 13.016438
B54: Fecha de TARJETA PROFESIONAL como especialista en geotecnia) | I54: AÑO | J54: MES | K54: DIA
I55: 2005 | J55: 9 | K55: 15
B57: Experiencia Específica | L57: Verificación de experiencia posterior a la expedición de la tarjeta profesional
B58: Solicitada: | F58: 5 | H58: Meses | I58: =IF(F59>F58,$R$10,$S$10) -> CUMPLE | J58: =IF(F59<=O52,Q52,IF(AND(F59>M53,F59<=O53),Q53,IF(AND(F59>M54,F59<=O54),Q54,IF(F59>M55,Q55,"REVISAR")))) -> 0
B59: Presentada: | F59: =SUM(Q63:Q81) -> 11.149087 | H59: Meses | L59: =IF(I53>J51,"CUMPLE","NO CUMPLE") -> CUMPLE
B61: FOLIO | C61: VALIDA | D61: EXP VS TAR PRO | E61: Verificación Experiencia | K61: Inicio | N61: Terminación | Q61: Total en Años
K62: AÑO | L62: MES | M62: DIA | N62: AÑO | O62: MES | P62: DIA
E64: COMPLEMENTOS CIVILES SAS | K64: 2017 | L64: 9 | M64: 7 | N64: 2018 | O64: 6 | P64: 26 | Q64: =(N64+(O64/12)+(P64/365))-(K64+(L64/12)+(M64/365)) -> 0.80205479
...

Sheet 3.INSTRUMENTO GRUPO SAS
B2: UNIDAD DE SERVICIOS PENITENCIARIOS Y CARCELARIOS
B4: DIRECCION DE INFRAESTRUCTURA
B7: SUBDIRECCIÓN DE CONSTRUCCIÓN Y CONSERVACIÓN
B9: PROCESO MININA CUANTIA | L9: =[2]Consolidado!L7 -> N° | M9: INVITACIÓN PÚBLICA USPEC-IP-MC-048-2018
B10: OBJETO | D10: REALIZAR EL LEVANTAMIENTO TOPOGRAFICO Y ARQUITECTONICO, LOS ESTUDIOS GEOTECNICOS, LA VALORACION, DISEÑO ESTRUCTURAL Y EL PRESUPUESTO DETALLADO NECESARIOS PARA EJECUTAR LAS OBRAS CIVILES DE RECONSTRUCCIÓN DEL MURO DE CERRAMIENTO PERIMETRAL EXISTENTE DIAGNOSTICADO COMO INESTABLE EN EL ESTABLECIMIENTO PENITEN CIARIO DE MEDIANA SEGURIDAD – EPMSC VILLAVICENCIO – META. | R10: CUMPLE | S10: NO CUMPLE | T10: HÁBIL | U10: INHÁBIL
B12: PRESUPUESTO OFICIAL
B13: VALOR: | E13: 64270764 | H13: VALOR SMMLV 2018 | N13: EN SMMLV: | P13: =+E13/781242 -> 82.26742
B15: PROPONENTE
B16: NOMBRE | E16: INSTRUMENTO GRUPO SAS | L16: NIT | N16: 900809656-1
B18: VERIFICACIÓN TÉCNICA
B20: VERIFICACIÓN DE DOCUMENTOS TÉCNICOS OBLIGATORIOS | L20: CUMPLE / NO CUMPLE | N20: OBSERVACIONES
B21: PRESENTACIÓN DEL ANEXO TÉCNICO DEBIDAMENTE DILIGENCIADO Y FIRMADO | L21: CUMPLE
B25: EXPERIENCIA DEL CONTRANTE
B26: Requisitos según pliego de condiciones Numeral 28.2.1. EXPERIENCIA MÍNIMA DEL PROPONENTE:
B27: Un (1) Director de estudios INGENIERO CIVIL O ARQUITECTO ESPECIALISTA EN GEOTECNIA y/o ESPECIALISTA EN ESTRUCTURAS y/o GERENCIA DE PROYECTOS /y/o MASTER EN INGENIERIA Igual o mayor a diez (10) años (contados a partir del Acta de grado o la expedición de la tarjeta profesional o lo que determine para este aspecto la normatividad vigente) y experiencia mínimo de 5 años contados a partir de la obtención del título de posgrado. 100%
B28: N° CONTRATO | C28: ENTIDAD CONTRATANTE | F28: OBJETO DEL CONTRATO | I28: CÓDIGOS RUP | J28: AÑO DE EJECUCIÓN | K28: EXPERIENCIA (SMMLV) | L28: PORCENTAJE DE PARTICIPCIÓN | M28: EXPERIENCIA TOTAL (SMMLV) | N28: CUMPLE/NO CUMPLE | O28: OBSERVACIONES
B29: 1 | C29: INSTITUTO COLOMBIANO DE BIENESTAR FAMILIAR ICBF | F29: REALIZAR LOS ESTUDIOS Y DISEÑOS PARA LA CONSTRUCCIÓN DE UN CENTRO DE DESARROLLO INFANTIL EN EL MUNICIPIO DE TARSO, ANTIOQUIA PARA PRESTAR EL SERVICIO DE ATENCION A LA PRIMERA INFANCIA | J29: 24/10/2017 A 31/12/2017 | K29: 64480250 | L29: 0 | M29: 64480250 | N29: CUMPLE
B30: 2 | C30: MUNICIPIO DE ARAUCA, DEPARTAMENTO DE ARAUCA | F30: ESTUDIOS Y DISEÑOS DEL CENTRO DE INTEGRACIÓN CIUDADANA PARA LA COMUNA 5 EN EL MUNICIPIO DE ARAUCA, DEPARTAMENTO DE ARAUCA | J30: 28/05/2018 A 27/06/2018 | K30: 37946720 | L30: 0 | M30: 37946720 | N30: CUMPLE
B31: 3 | C31: ALCALDIA MUNICIPAL DE PUEBLO RICO - RISARALDA | F31: ELABORAR LOS ESTUDIOS, DISEÑOS, PRESUPUESTOS Y ESPECIFICACIONES TECNICAS DE AREAS DE ESPACIOS PUBLICO, ESCENARIOS DEPORTIVOS, Y EDIFICACIONES INSTITUCIONALES EN LA ZONA URBANA Y EL CORREGIMIENTO DE SANTA CECILIA DEL MUNICIPIO DE PUEBLO RICO RISARALDA | J31: 16/12/2016 A31/12/2016 | K31: 62786142 | L31: 0 | M31: 62786142 | N31: CUMPLE
B32: 4
B33: 5
B34: 6
B35: 7
B36: 8
B37: 9
B38: 10
B40: SUMATORIA TOTAL VALOR CONTRATOS | K40: =SUM(K29:K31) -> 165213112 | M40: =SUM(M29:M38) -> 165213112 | O40: =IF(K40>=$E$13,"CUMPLE","NO CUMPLE") -> CUMPLE
B42: EVALUACIÓN DE LA EXPERIENCIA GENERAL DEL PROPONENTE (CUMPLE /NO CUMPLE) | O42: CUMPLE
B46: EXPERIENCIA ESPECÍFICA
B47: Requisitos según pliego de condiciones
B48: Un (1) Director de estudios INGENIERO CIVIL O ARQUITECTO ESPECIALISTA EN GEOTECNIA y/o ESPECIALISTA EN ESTRUCTURAS y/o GERENCIA DE PROYECTOS /y/o MASTER EN INGENIERIA Igual o mayor a diez (10) años (contados a partir del Acta de grado o la expedición de la tarjeta profesional o lo que determine para este aspecto la normatividad vigente) y experiencia mínimo de 5 años contados a partir de la obtención del título de posgrado. 100%
B50: DIRECTOR DE ESTUDIOS | G50: NO PRESENTA PERSONAL | N50: CÉDULA | O50: 79460260
B51: LUIS HERNAN MAHECHA PULIDO | I51: MIN | J51: 10
I52: 2005
B53: DIRECTOR | F53: ING. CIVIL | I53: =(TODAY()-DATE(I55,J55,K55))/365 -> 23.008219
B54: Fecha de TARJETA PROFESIONAL como especialista en geotecnia) | I54: AÑO | J54: MES | K54: DIA
I55: 1995 | J55: 9 | K55: 21
B57: Experiencia Específica | L57: Verificación de experiencia posterior a la expedición de la tarjeta profesional
B58: Solicitada: | F58: 5 | H58: años | I58: =IF(F59>F58,$R$10,$S$10) -> CUMPLE | J58: =IF(F59<=O52,Q52,IF(AND(F59>M53,F59<=O53),Q53,IF(AND(F59>M54,F59<=O54),Q54,IF(F59>M55,Q55,"REVISAR")))) -> 0
B59: Presentada: | F59: 16.48 | H59: años | L59: =IF(I53>J51,"CUMPLE","NO CUMPLE") -> CUMPLE
...

Sheet 4.ESTUDIO URBANO ARQUITECTOSAS
B2: UNIDAD DE SERVICIOS PENITENCIARIOS Y CARCELARIOS
B4: DIRECCION DE INFRAESTRUCTURA
B7: SUBDIRECCIÓN DE CONSTRUCCIÓN Y CONSERVACIÓN
B9: PROCESO MININA CUANTIA | L9: =[2]Consolidado!L7 -> N° | M9: USPEC-IP-MC-48-2018
B10: OBJETO | D10: REALIZAR EL LEVANTAMIENTO TOPOGRAFICO Y ARQUITECTONICO, LOS ESTUDIOS GEOTECNICOS, LA VALORACION, DISEÑO ESTRUCTURAL Y EL PRESUPUESTO DETALLADO NECESARIOS PARA EJECUTAR LAS OBRAS CIVILES DE RECONSTRUCCIÓN DEL MURO DE CERRAMIENTO PERIMETRAL EXISTENTE DIAGNOSTICADO COMO INESTABLE EN EL ESTABLECIMIENTO PENITEN CIARIO DE MEDIANA SEGURIDAD – EPMSC VILLAVICENCIO – META. | R10: CUMPLE | S10: NO CUMPLE | T10: HÁBIL | U10: INHÁBIL
B12: PRESUPUESTO OFICIAL
B13: VALOR: | E13: 64270764 | H13: VALOR SMMLV 2018 | N13: EN SMMLV: | P13: =+E13/781242 -> 82.26742
B15: PROPONENTE
B16: NOMBRE | E16: ESTUDIO URBANO | L16: NIT | N16: 830143541-8
B18: VERIFICACIÓN TÉCNICA
B20: VERIFICACIÓN DE DOCUMENTOS TÉCNICOS OBLIGATORIOS | L20: CUMPLE / NO CUMPLE | N20: OBSERVACIONES
B21: PRESENTACIÓN DEL ANEXO TÉCNICO DEBIDAMENTE DILIGENCIADO Y FIRMADO | L21: CUMPLE
B25: EXPERIENCIA DEL CONTRANTE
B26: Requisitos según pliego de condiciones Numeral 28.2.1. EXPERIENCIA MÍNIMA DEL PROPONENTE:
B27: Experiencia relacionada en ELABORACIÓN DE ESTUDIOS DE SUELOS Y/O ELABORACIÓN DE ESTUDIOS GEOTÉCNICOS, ELABORACIÓN DE ESTUDIOS, mediante certificaciones de tres (3) contratos liquidados, ejecutados con entidades públicas o privadas dentro de los últimos diez (10) años anteriores a la fecha de cierre de este proceso de selección, cuya sumatoria se sea igual o superior al ciento por ciento (100%) al cierre de la presente contratación. No serán tenidos en cuenta contratos que se encuentren en ejecución.
B28: N° CONTRATO | C28: ENTIDAD CONTRATANTE | F28: OBJETO DEL CONTRATO | I28: CÓDIGOS RUP | J28: AÑO DE EJECUCIÓN | K28: EXPERIENCIA (SMMLV) | L28: PORCENTAJE DE PARTICIPCIÓN | M28: EXPERIENCIA TOTAL (SMMLV) | N28: CUMPLE/NO CUMPLE | O28: OBSERVACIONES
B29: 1 | C29: ALCALDIA MUNICIPAL DE UBATE | F29: CONSULTORÍA PARA REALIZAR LOS DISEÑOS ARQUITECTÓNICOS, ESTUDIOS DE SUELOS, CÁLCULOS ESTRUCTURALES, DISEÑOS HIDROSANITARIOS Y GAS, DISEÑOS DE REDES ELÉCTRICAS DEL HOGAR DE PASO | J29: 41966 | K29: 22375000 | L29: 100 | N29: CUMPLE
C30: FUERZA AEREA COLOMBIANA | K30: 42224000 | L30: 100
B32: 4
B33: 5
B34: 6
B35: 7
B36: 8
B37: 9
B38: 10
B40: SUMATORIA TOTAL VALOR CONTRATOS | K40: =SUM(K29:K31) -> 64599000 | M40: =SUM(M29:M38) -> 0 | O40: =IF(K40>=$E$13,"CUMPLE","NO CUMPLE") -> CUMPLE
B42: EVALUACIÓN DE LA EXPERIENCIA GENERAL DEL PROPONENTE (CUMPLE /NO CUMPLE) | O42: =O40 -> CUMPLE
B46: EXPERIENCIA ESPECÍFICA
B47: Requisitos según pliego de condiciones N° USPEC-IP-MC-48-2018
B48: Un (1) Director de estudios INGENIERO CIVIL O ARQUITECTO ESPECIALISTA EN GEOTECNIA y/o ESPECIALISTA EN ESTRUCTURAS y/o GERENCIA DE PROYECTOS /y/o MASTER EN INGENIERIA Igual o mayor a diez (10) años (contados a partir del Acta de grado o la expedición de la tarjeta profesional o lo que determine para este aspecto la normatividad vigente) y experiencia mínimo de 5 años contados a partir de la obtención del título de posgrado. 100%
B50: DIRECTOR DE ESTUDIOS | G50: NO PRESENTA PERSONAL | N50: CÉDULA
B51: ALFREDO MATEUS MANTILLA | I51: MIN | J51: 10
I52: 2005
B53: DIRECTOR | F53: ING. CIVIL | I53: =(TODAY()-DATE(I55,J55,K55))/365 -> 31.290411
B54: Fecha de TARJETA PROFESIONAL como especialista en geotecnia) | I54: AÑO | J54: MES | K54: DIA
I55: 1987 | J55: 6 | K55: 12
B57: Experiencia Específica | L57: Verificación de experiencia posterior a la expedición de la tarjeta profesional
B58: Solicitada: | F58: 5 | H58: Meses | I58: =IF(F59>F58,$R$10,$S$10) -> CUMPLE | J58: =IF(F59<=O52,Q52,IF(AND(F59>M53,F59<=O53),Q53,IF(AND(F59>M54,F59<=O54),Q54,IF(F59>M55,Q55,"REVISAR")))) -> 0
B59: Presentada: | F59: =SUM(Q63:Q81) -> 5.6429224 | H59: Meses | L59: =IF(I53>J51,"CUMPLE","NO CUMPLE") -> CUMPLE
B61: FOLIO | C61: VALIDA | D61: EXP VS TAR PRO | E61: Verificación Experiencia | K61: Inicio | N61: Terminación | Q61: Total en Años
...

Sheet 5.H&V
B2: UNIDAD DE SERVICIOS PENITENCIARIOS Y CARCELARIOS
B4: DIRECCION DE INFRAESTRUCTURA
B7: SUBDIRECCIÓN DE CONSTRUCCIÓN Y CONSERVACIÓN
B9: PROCESO MININA CUANTIA | L9: =[2]Consolidado!L7 -> N° | M9: INVITACIÓN PÚBLICA USPEC-IP-MC-048-2018
B10: OBJETO | D10: REALIZAR EL LEVANTAMIENTO TOPOGRAFICO Y ARQUITECTONICO, LOS ESTUDIOS GEOTECNICOS, LA VALORACION, DISEÑO ESTRUCTURAL Y EL PRESUPUESTO DETALLADO NECESARIOS PARA EJECUTAR LAS OBRAS CIVILES DE RECONSTRUCCIÓN DEL MURO DE CERRAMIENTO PERIMETRAL EXISTENTE DIAGNOSTICADO COMO INESTABLE EN EL ESTABLECIMIENTO PENITEN CIARIO DE MEDIANA SEGURIDAD – EPMSC VILLAVICENCIO – META. | R10: CUMPLE | S10: NO CUMPLE | T10: HÁBIL | U10: INHÁBIL
B12: PRESUPUESTO OFICIAL
B13: VALOR: | E13: 64270764 | H13: VALOR SMMLV 2018 | N13: EN SMMLV: | P13: =+E13/781242 -> 82.26742
B15: PROPONENTE
B16: NOMBRE | E16: H&V | L16: NIT | N16: 900.700.737 - 8
B18: VERIFICACIÓN TÉCNICA
B20: VERIFICACIÓN DE DOCUMENTOS TÉCNICOS OBLIGATORIOS | L20: CUMPLE / NO CUMPLE | N20: OBSERVACIONES
B21: PRESENTACIÓN DEL ANEXO TÉCNICO DEBIDAMENTE DILIGENCIADO Y FIRMADO | L21: CUMPLE
B25: EXPERIENCIA DEL CONTRANTE
B26: Requisitos según pliego de condiciones Numeral 28.2.1. EXPERIENCIA MÍNIMA DEL PROPONENTE:
B27: Experiencia relacionada en ELABORACIÓN DE ESTUDIOS DE SUELOS Y/O ELABORACIÓN DE ESTUDIOS GEOTÉCNICOS, ELABORACIÓN DE ESTUDIOS, mediante certificaciones de tres (3) contratos liquidados, ejecutados con entidades públicas o privadas dentro de los últimos diez (10) años anteriores a la fecha de cierre de este proceso de selección, cuya sumatoria se sea igual o superior al ciento por ciento (100%) al cierre de la presente contratación. No serán tenidos en cuenta contratos que se encuentren en ejecución.
B28: N° CONTRATO | C28: ENTIDAD CONTRATANTE | F28: OBJETO DEL CONTRATO | I28: CÓDIGOS RUP | J28: AÑO DE EJECUCIÓN | K28: EXPERIENCIA (SMMLV) | L28: PORCENTAJE DE PARTICIPCIÓN | M28: EXPERIENCIA TOTAL (SMMLV) | N28: CUMPLE/NO CUMPLE | O28: OBSERVACIONES
B29: 1 | C29: AUTONORTE ANTIOQUEÑO | F29: ELABORACIÓN DE ESTUDIOS Y DISEÑOS PARA EL PARQUE REGIONAL DEL TRATAMIENTO DE RESIDUOS SOLIDOS DEL BAJO CAUCA ANTIOQUEÑO | J29: 42173 | K29: 155300000 | L29: 0 | M29: 155300000 | N29: NO CUMPLE | O29: no especifica fecha de inicio y terminación del contrato
B30: 2 | C30: MUNICIPIO DE CACERES | F30: ELABORACIÓN DEL PROYECTO ESTUDIO DE SUELOY ESTUDIO TOPOGRAFICO DEL MALECON A ORILLAS DEL RIO CAUCA, MUNICIPIO DE CECERES | J30: 25/06/2010 A 25/07/2010 | K30: 12500000 | L30: 0 | M30: 12500000 | N30: CUMPLE
B31: 3 | C31: MUNICIPIO DE CAUCASIA | F31: LEVANTAMIENTO TOPOGRAFICO, ESTUDIO DE SUELO, PARA LOS DISEÑOS DONDE SE CONSTRUIRA EL NUEVO SALON DE TENIS DE MESA MUNICIPIO DE CAUCASIA, ANTIOQUIA | J31: 23/10/2016 A 23/12/2016 | K31: 29768790 | L31: 0 | M31: 29768790 | N31: CUMPLE
B32: 4
B33: 5
B34: 6
B35: 7
B36: 8
B37: 9
B38: 10
B40: SUMATORIA TOTAL VALOR CONTRATOS | K40: =SUM(K29:K31) -> 197568790 | M40: =SUM(M29:M38) -> 197568790 | O40: NO CUMPLE
B42: EVALUACIÓN DE LA EXPERIENCIA GENERAL DEL PROPONENTE (CUMPLE /NO CUMPLE) | O42: =O40 -> NO CUMPLE
B43: No especifica fecha de inicio y terminación del contrato AUTONORTE ANTIOQUEÑO
B46: EXPERIENCIA ESPECÍFICA
B47: Requisitos según pliego de condiciones N° USPEC-SA-SI-048-2018 numeral 3.3.2. - b)
B48: Un (1) Director de estudios INGENIERO CIVIL O ARQUITECTO ESPECIALISTA EN GEOTECNIA y/o ESPECIALISTA EN ESTRUCTURAS y/o GERENCIA DE PROYECTOS /y/o MASTER EN INGENIERIA Igual o mayor a diez (10) años (contados a partir del Acta de grado o la expedición de la tarjeta profesional o lo que determine para este aspecto la normatividad vigente) y experiencia mínimo de 5 años contados a partir de la obtención del título de posgrado. 100%
B50: DIRECTOR DE ESTUDIOS | G50: NO PRESENTA PERSONAL | N50: CÉDULA | O50: 79569675
B51: JORGE ESCOBAR BUELVAS | I51: MIN | J51: 10
I52: 2005
B53: DIRECTOR | F53: ING. CIVIL | I53: =(TODAY()-DATE(I55,J55,K55))/365 -> 14.008219
B54: Fecha de TARJETA PROFESIONAL como especialista en geotecnia) | I54: AÑO | J54: MES | K54: DIA
I55: 2004 | J55: 9 | K55: 18
B57: Experiencia Específica | L57: Verificación de experiencia posterior a la expedición de la tarjeta profesional
B58: Solicitada: | F58: 5 | H58: Meses | I58: =IF(F59>F58,$R$10,$S$10) -> NO CUMPLE | J58: =IF(F59<=O52,Q52,IF(AND(F59>M53,F59<=O53),Q53,IF(AND(F59>M54,F59<=O54),Q54,IF(F59>M55,Q55,"REVISAR")))) -> 0
...

Sheet Evaluación
A1: UNIDAD DE SERVICIOS PENITENCIARIOS Y CARCELARIOS USPEC
A2: DIRECCION DE INFRAESTRUCTURA
A3: REVISIÓN DE OFERTAS ECONÓMICAS
A4: USPEC-IP-MC-048-2018
A6: PROPONENTE | C6: PRESUPUESTO OFERTADO | D6: RESULTADO | E6: OBSERVACIONES
A7: 1 | B7: H&V CONSTRUCCIONES & CONSULTORIAS S.A.S | C7: 57844764 | D7: RECHAZADO | E7: Se realizo corrección aritmética y el resultado total supera el presupuesto estimado por la Entidad. Causal de rechazo literal "h".
A8: 2 | B8: INSTRUMENTO GRUPO SAS | C8: 49214794 | D8: CUMPLE
A9: 3 | B9: AIC SAS | C9: 44943325 | D9: RECHAZADO | E9: La oferta económica presentada no integra las especificaciones técnicas de obligatorio cumplimiento solicitadas por la Entidad. Causal de rechazo "o".
A10: 4 | B10: ESTUDIO URBANO ARQUITECTOS SAS | C10: 50000000 | D10: CUMPLE
A11: 5 | B11: CORIGAM | C11: 40563568 | D11: RECHAZADO | E11: Presenta oferta económica parcial omitiendo tres de los estudios solicitados en la consultoría (programación detallada de obra; gestión de trámites y servicios públicos; diseño plan de manejo y gestiones ambientales, sociales y de seguridad industrial). Causal de rechazo literal "f".
A13: FECHA: | B13: 43356
A17: EVALUADORES COMPONENTE TÉCNICO - PRESUPUESTAL | E17: Arq. Solanyi Robles Joya

Sheet Consolidado parcial
B2: UNIDAD DE SERVICIOS PENITENCIARIOS Y CARCELARIOS
A6: DIRECCION DE INFRAESTRUCTURA
B7: SUBDIRECCIÓN DE CONSTRUCCIÓN Y CONSERVACIÓN
B9: LICITACIÓN PÚBLICA | L9: # | M9: =+NOCONTRATO -> #NAME?
B10: OBJETO | D10: =Contrato -> #REF!
B11: GRUPO N° 2,4,8,23
B13: CONSOLIDADO PRE - EVALUACION TECNICA
C15: OFERENTE | L15: VERIFICACIÓN | O15: OBSERVACIONES | P15: PUNTAJE FINAL
C16: 1 | D16: =+CONTRATISTA -> #NAME? | L16: NO HABIL | O16: Folio 160: La copia de la tarjeta profesional y cedula no es legible del residente de intervetoria | P16: =+PUNTAJEFINAL -> #NAME?
C17: 2 | D17: =+CONTRATISTA2 -> #NAME? | L17: =+Quialifer2 -> #NAME? | O17: Folio 171: La copia de la tarjeta profesional no es legible del residente de intervetoria, no anexa copia de cedula | P17: =+PUNTAJEFINAL2 -> #NAME?
C18: 3
C19: 4
C20: 5 | D20: =+contratista3 -> #NAME? | L20: =+Quialifer3 -> #NAME? | P20: =+PUNTAJEFINAL3 -> #NAME?
C21: 6
C22: 7 | O22: Según numeral 6,1 EN LA LEY 842 DE 2003, Si el proponente es el mismo que certifica al profesional, además de la certificación del personal propuesto, debe presentar la copia del respectivo contrato suscrito entre el contratante (proponente) y el profesional certificado, en caso contrario esta certificación no será tenida en cuenta para acreditar la experiencia específica solicitada, en caso de no contar con el contrato anexar la certificación de pagos de parafiscales.
C23: 9 | O23: Faltan hojas de vida profesionales según parrafo pag 42. En caso que el proponente adjudicatario no aporte las hojas de vida, tal como se exige en el párrafo anterior, la Entidad dará aplicación al numeral 12 del Artículo 30 de la Ley 80 de 1993.
C24: 12 | O24: No existe la Carta de compromiso de dedicación del tiempo exigido,para ninguno de los profesionales, en donde manifieste conocer las condiciones técnicas de la obra. Además deberá certificar que no se encuentra laborando en otros proyectos de la USPEC a la fecha del cierre del presente proceso. texto pag 42 pliego de condiciones
C25: 13 | D25: =+CONTRATISTA4 -> #NAME? | L25: NO HABIL | O25: No es valida la Carta de compromiso de dedicación del tiempo exigido,para ninguno de los profesionales, en donde manifieste conocer las condiciones técnicas de la obra. Además deberá certificar que no se encuentra laborando en otros proyectos de la USPEC a la fecha del cierre del presente proceso. texto pag 42 pliego de condiciones | P25: =+PUNTAJEFINAL4 -> #NAME?
C26: 14 | O26: los certificados que avalana las terjetas profesionales(COPNIA-ACIEM) no regsistran expedicion vigente ni consigna estados de competencia de los profesionales.
C27: 16 | O27: No valida las experiencias del residente de interventoria electrico, debe acotar experiencias, indicar fecha de exacta de inicio y de terminacion de cada contrato.
C28: 17 | O28: Faltan hojas de vida profesionales según parrafo pag 42. En caso que el proponente adjudicatario no aporte las hojas de vida, tal como se exige en el párrafo anterior, la Entidad dará aplicación al numeral 12 del Artículo 30 de la Ley 80 de 1993.
G34: D. ALEJANDRO LEAL TAVERA
B36: Profesional Evaluador

Sheet Consolidado SUBSANE
B3: UNIDAD DE SERVICIOS PENITENCIARIOS Y CARCELARIOS
B5: =+'Consolidado parcial'!B11 -> GRUPO N° 2,4,8,23
B8: CONSOLIDADO PRE - EVALUACION TECNICA
C10: OFERENTE | L10: VERIFICACIÓN | O10: EXPERIENCIA ESPECIFICA ADICIONAL | R10: DIRECTOR DE INTERVENTORIA | U10: RESIDENTE DE INTERVENTORIA 1 | X10: RESIDENTE DE INTERVENTORIA 2 | AA10: APOYO A LA INDUSTRIA NACIONAL | AD10: PUNTAJE FINAL | AF10: OBSERVACIONES
C11: 1 | D11: =+contratista_1 -> #REF!
C12: 2 | D12: =+#REF! -> #REF!
C13: 3 | D13: =+#REF! -> #REF!
C14: 4 | D14: =+#REF! -> #REF!
C15: 5 | D15: =+#REF! -> #REF!
C16: 6 | D16: =+#REF! -> #REF!
C17: 7 | D17: =+#REF! -> #REF!
C18: 8 | D18: =+#REF! -> #REF!
C19: 9 | D19: =+#REF! -> #REF!
C20: 10
C21: 11
C22: 12
C23: 13
C24: 14
C25: 15
B28: Profesional Evaluador
