Workbook

Sheet 1. Pto.Resum.xCap.
B8: OBRA : | C8: Laboratorio Científico Especializado de la DIAN
B9: DIRECCION : | C9: Calle 65 BIS N° 88-81/85/91/99 - Bodega España - Alamo
B10: CIUDAD : | C10: Bogotá .D.C.
B11: FORMATO No.
B12: PRESUPUESTO RESUMIDO POR CAPITULOS
B13: FECHA : | C13: Abril 06 de 2016 rev. Octubre 25 de 2016
B15: CAPITULO | C15: DESCRIPCION | E15: VALOR TOTAL | F15: Valor M2 | G15: %
B17: 1 | C17: PRELIMINARES GENERALES | E17: =+'2. Presupuesto Detallado'!G38 -> 118642343 | F17: =+E17/$E$44 -> 18757.683 | G17: =+E17/$E$42 -> 0.0089458944
B18: 2 | C18: DESMONTES y DEMOLICIONES | E18: =+'2. Presupuesto Detallado'!G73 -> 470103636 | F18: =+E18/$E$44 -> 74324.686 | G18: =+E18/$E$42 -> 0.035446851
B19: 3 | C19: CIMENTACION | E19: =+'2. Presupuesto Detallado'!G136 -> 2.3195664e+09 | F19: =+E19/$E$44 -> 366729.87 | G19: =+E19/$E$42 -> 0.17490043
B20: 4 | C20: ESTRUCTURA EN CONCRETO | E20: =+'2. Presupuesto Detallado'!G180 -> 1.5197722e+09 | F20: =+E20/$E$44 -> 240280.18 | G20: =+E20/$E$42 -> 0.11459417
B21: 5 | C21: ESTRUCTURA METALICA | E21: =+'2. Presupuesto Detallado'!G195 -> 9.4397131e+08 | F21: =+E21/$E$44 -> 149244.48 | G21: =+E21/$E$42 -> 0.07117752
B22: 6 | C22: MAMPOSTERIA INTERIOR | E22: =+'2. Presupuesto Detallado'!G233 -> 5.1024764e+08 | F22: =+E22/$E$44 -> 80671.564 | G22: =+E22/$E$42 -> 0.038473798
B23: 7 | C23: PAÑETES | E23: =+'2. Presupuesto Detallado'!G242 -> 1.5811356e+08 | F23: =+E23/$E$44 -> 24998.192 | G23: =+E23/$E$42 -> 0.011922111
B24: 8 | C24: FACHADAS | E24: =+'2. Presupuesto Detallado'!G253 -> 1.2873329e+09 | F24: =+E24/$E$44 -> 203530.89 | G24: =+E24/$E$42 -> 0.097067741
B25: 9 | C25: CARPINTERIA EN ALUMINIO | E25: =+'2. Presupuesto Detallado'!G292 -> 1.8764865e+09 | F25: =+E25/$E$44 -> 296677.71 | G25: =+E25/$E$42 -> 0.14149122
B26: 10 | C26: IMPERMEABILIZACIONES | E26: =+'2. Presupuesto Detallado'!G312 -> 1.5620802e+08 | F26: =+E26/$E$44 -> 24696.92 | G26: =+E26/$E$42 -> 0.011778429
B27: 11 | C27: CUBIERTAS | E27: =+'2. Presupuesto Detallado'!G345 -> 4.8764996e+08 | F27: =+E27/$E$44 -> 77098.807 | G27: =+E27/$E$42 -> 0.036769883
B28: 12 | C28: CIELOS RASOS | E28: =+'2. Presupuesto Detallado'!G356 -> 6.3276905e+08 | F28: =+E28/$E$44 -> 100042.54 | G28: =+E28/$E$42 -> 0.047712182
B29: 13 | C29: BASES PARA PISOS | E29: =+'2. Presupuesto Detallado'!G363 -> 48788390 | F29: =+E29/$E$44 -> 7713.5795 | G29: =+E29/$E$42 -> 0.0036787523
B30: 14 | C30: ACABADOS DE PISOS | E30: =+'2. Presupuesto Detallado'!G396 -> 9.6717822e+08 | F30: =+E30/$E$44 -> 152913.55 | G30: =+E30/$E$42 -> 0.072927372
B31: 15 | C31: ENCHAPES CERAMICOS | E31: =+'2. Presupuesto Detallado'!G405 -> 1.7014055e+08 | F31: =+E31/$E$44 -> 26899.692 | G31: =+E31/$E$42 -> 0.012828973
B32: 16 | C32: ENCHAPES Y ACCESORIOS EN GRANITO | E32: =+'2. Presupuesto Detallado'!G411 -> 20547106 | F32: =+E32/$E$44 -> 3248.5543 | G32: =+E32/$E$42 -> 0.0015492971
B33: 17 | C33: CARPINTERIA DE MADERA | E33: =+'2. Presupuesto Detallado'!G420 -> 41139413 | F33: =+E33/$E$44 -> 6504.255 | G33: =+E33/$E$42 -> 0.0031020025
B34: 18 | C34: CARPINTERIA METALICA | E34: =+'2. Presupuesto Detallado'!G482 -> 5.3050142e+08 | F34: =+E34/$E$44 -> 83873.742 | G34: =+E34/$E$42 -> 0.040000977
B35: 19 | C35: APARATOS Y ACCESORIOS | E35: =+'2. Presupuesto Detallado'!G511 -> 1.4463569e+08 | F35: =+E35/$E$44 -> 22867.302 | G35: =+E35/$E$42 -> 0.01090585
B36: 20 | C36: SEÑALIZACION | E36: =+'2. Presupuesto Detallado'!G519 -> 28876173 | F36: =+E36/$E$44 -> 4565.4029 | G36: =+E36/$E$42 -> 0.0021773272
B37: 21 | C37: VIDRIOS ESPEJOS Y CERRADURAS | E37: =+'2. Presupuesto Detallado'!G535 -> 1.5765154e+08 | F37: =+E37/$E$44 -> 24925.145 | G37: =+E37/$E$42 -> 0.011887274
B38: 22 | C38: PINTURA | E38: =+'2. Presupuesto Detallado'!G542 -> 2.4676809e+08 | F38: =+E38/$E$44 -> 39014.718 | G38: =+E38/$E$42 -> 0.018606859
B39: 23 | C39: ASEO GENERAL | E39: =+'2. Presupuesto Detallado'!G548 -> 45873870 | F39: =+E39/$E$44 -> 7252.7858 | G39: =+E39/$E$42 -> 0.003458991
B40: 24 | C40: OBRAS EXTERIORES y PAISAJISMO | E40: =+'2. Presupuesto Detallado'!G586 -> 1.7477137e+08 | F40: =+E40/$E$44 -> 27631.837 | G40: =+E40/$E$42 -> 0.013178147
B41: 25 | C41: COCINAS | E41: =+'2. Presupuesto Detallado'!G604 -> 2.0447601e+08 | F41: =+E41/$E$44 -> 32328.223 | G41: =+E41/$E$42 -> 0.015417942
C42: COSTO DIRECTO Obra Civil y Arquitectonica | E42: =SUM(E17:E41) -> 1.3262211e+10 | F42: =+E42/E44 -> 2096792.3 | G42: =SUM(G17:G41) -> 1
C44: Area Construida | D44: m2 | E44: =+'2. Presupuesto Detallado'!G608 -> 6325
C45: Valor M2 C.D. | E45: =+E42/E44 -> 2096792.3
C47: ADMINISTRACION | D47: =+'2. Presupuesto Detallado'!E611 -> 0.19610434 | E47: =+'2. Presupuesto Detallado'!G611 -> 2.6007773e+09
C48: IMPREVISTOS | D48: =+'2. Presupuesto Detallado'!E612 -> 0.01 | E48: =+'2. Presupuesto Detallado'!G612 -> 1.3262211e+08
C49: UTILIDAD | D49: =+'2. Presupuesto Detallado'!E613 -> 0.06 | E49: =+'2. Presupuesto Detallado'!G613 -> 7.9573268e+08
C50: I V A sobre Utilidad | D50: =+'2. Presupuesto Detallado'!E614 -> 0.16 | E50: =+'2. Presupuesto Detallado'!G614 -> 1.2731723e+08
C51: TOTAL A I U | D51: =+E51/E42 -> 0.27570434 | E51: =SUM(E47:E50) -> 3.6564493e+09
...

Sheet 2. Presupuesto Detallado
B8: OBRA : | C8: Laboratorio Científico Especializado de la DIAN
B9: DIRECCION : | C9: Calle 65 BIS N° 88-81/85/91/99 - Bodega España - Alamo
B10: CIUDAD : | C10: Bogotá .D.C.
B12: FORMATO No. 1
B13: CANTIDADES DE OBRA Y PRESUPUESTO
B15: FECHA : | C15: Abril 06 de 2016 rev. Octubre 25 de 2016
B17: CAPITULO | C17: DESCRIPCION | D17: UNID. | E17: CANTIDAD | F17: VALOR UNITARIO | G17: VALOR TOTAL
B19: 1 | C19: PRELIMINARES GENERALES
C20: LOCALIZACION y REPLANTEO
B21: =+B19+0.01 -> 1.01 | C21: Localizacion y Replanteo | D21: m2 | E21: 6325 | F21: 2192.0604 | G21: =ROUND((E21*F21),0) -> 13864782
C22: CAMPAMENTO y CERRAMIENTO
B23: =+B21+0.01 -> 1.02 | C23: Campamento en Mamposteria | D23: m2 | E23: 150 | F23: 136810.29 | G23: =ROUND((E23*F23),0) -> 20521544
B24: =+B23+0.01 -> 1.03 | C24: Letrinas en Mamposteria | D24: und | E24: 5 | F24: 509637.01 | G24: =ROUND((E24*F24),0) -> 2548185
B25: =+B24+0.01 -> 1.04 | C25: Cerramiento Provisional en Laminas Galvanizada h=2m | D25: ml | E25: 80 | F25: 83479.341 | G25: =ROUND((E25*F25),0) -> 6678347
B26: =+B25+0.01 -> 1.05 | C26: Valla de identificacion (Licencia de Construccion) | D26: und | E26: 1 | F26: 259885.24 | G26: =ROUND((E26*F26),0) -> 259885
B27: =+B26+0.01 -> 1.06 | C27: Descapote a Maquina en material comun e<=30 cm. ( Incluye retiro, cargue y transprote fuera de la obra) | D27: m2 | E27: 6791 | F27: 9377.1742 | G27: =ROUND((E27*F27),0) -> 63680390
B28: =+B27+0.01 -> 1.07 | C28: Extendida y Afirmado en Rajon para Via Provisional Acceso Mixers | D28: m3 | E28: 73 | F28: 43498.047 | G28: =ROUND((E28*F28),0) -> 3175357
C29: PROVISIONALES DE SERVICIOS PUBLICOS
B30: =+B28+0.01 -> 1.08 | C30: Provisional de Agua | D30: un | E30: 1 | F30: 532390.62 | G30: =ROUND((E30*F30),0) -> 532391
B31: =+B30+0.01 -> 1.09 | C31: Provisional de Telefono | D31: un | E31: 1 | F31: 282290.33 | G31: =ROUND((E31*F31),0) -> 282290
B32: =+B31+0.01 -> 1.1 | C32: Provisional de Energia | D32: un | E32: 1 | F32: 2534192.3 | G32: =ROUND((E32*F32),0) -> 2534192
C33: Derechos Provisionales
B34: =+B32+0.01 -> 1.11 | C34: Solicitud de Servicio Temporal (TPO) de Acueducto y ejecución de la Obra respectiva para conexión en andén (sin importar el tipo) de 1 1/2" - 2". La tramitología contempla el diligenciamiento de formularios, cronograma de actividades, planos actualizados y georeferenciados, levantamiento de redes en caso de ser necesario, memorias de cálculo, autorizaciones de las entidades competentes en caso de estar en sectores patrimoniales o aledaños, especificaciones técnicas, registros fotográficos, y demás documentos relacionados. La ejecución de Obra contempla la excavación, tubería, accesorios, conexión a la red principal y a red interna, recuperación del espacio público (andén del mismo tipo intervenido) y retiro y disposición de escombros, y porcentaje respectivo de los costos de Revisión de diseños por la empresa de acueducto y costos de la Interventoría por parte de la empresa de acueducto. Incluye las correcciones de los documentos y anexos hasta el momento en que el Servicio Temporal (TPO) sea aprobado por parte de la empresa de acueducto. NO incluye medidor ni registro de usuario (bola) | D34: un | E34: 1 | F34: 1791529.3 | G34: =ROUND((E34*F34),0) -> 1791529
B35: =+B34+0.01 -> 1.12 | C35: Solicitud de Servicio Temporal (TPO) de Alcantarillado (A. Negras y A. Lluvias) y ejecución de la Obra respectiva para conexión en andén (sin importar el tipo) de 6" - 8" en tubería de alcantarillado corrugada PVC. La tramitología contempla el diligenciamiento de formularios, cronograma de actividades, planos actualizados y georeferenciados, levantamiento de redes en caso de ser necesario, memorias de cálculo, autorizaciones de las entidades competentes en caso de estar en sectores patrimoniales o aledaños, especificaciones técnicas, registros fotográficos, pólizas respectivas solicitadas por el la empresa de acueductoy acordes a la ejecución de la obra, y demás documentos relacionados. La ejecución de Obra contempla la excavación, tubería, accesorios, conexión a la red principal, recuperación del espacio público (andén del mismo tipo intervenido) y retiro y disposición de escombros, y porcentaje respectivo de los costos de Revisión de diseños por la la empresa de acueductoy costos de la Interventoría por parte de la EAAB. Incluye las correcciones de los documentos y anexos hasta el momento en que el Servicio Temporal (TPO) sea aprobado por parte de la EAAB. NO incluye cajas de inspección | D35: un | E35: 1 | F35: 1596605.2 | G35: =ROUND((E35*F35),0) -> 1596605
B36: =+B35+0.01 -> 1.13 | C36: Solicitud de Provisional de Obra de Energía con cargas menores a 34 kW y ejecución de la Obra respectiva. La tramitología contempla el diligenciamiento de formularios, cronograma de actividades, planos actualizados y georeferenciados, autorizaciones de las entidades competentes en caso de estar en sectores patrimoniales o aledaños, especificaciones técnicas, registros fotográficos, y demás documentos relacionados. La ejecución de Obra contempla el cableado, accesorios, conexión a la red principal, suministro e instalación del medidor provisional, y complementarios. Incluye las adecuaciónes necesarias en obra y las correciones de los documentos y anexos hasta el momento en que la Provisional de Obra sea aprobado por parte de la enpresa de energía. | D36: un | E36: 1 | F36: 1083023.5 | G36: =ROUND((E36*F36),0) -> 1083023
B37: =+B36+0.01 -> 1.14 | C37: Solicitud de Línea Telefónica con servicio de Internet Banda Ancha y ejecución de la Obra respectiva. La tramitología contempla el diligenciamiento de formularios, planos actualizados y georeferenciados en caso de ser necesarios, autorizaciones de las entidades competentes en caso de estar en sectores patrimoniales o aledaños, y demás documentos relacionados. La ejecución de Obra contempla el cableado, accesorios, conexión a la red principal, y complementarios. Incluye las adecuaciónes necesarias en obra y las correciones de los documentos y anexos hasta el momento en que la Linea Telefónica sea aprobado e instalada | D37: un | E37: 1 | F37: 93822.781 | G37: =ROUND((E37*F37),0) -> 93823
C38: SUB-TOTAL | G38: =SUM(G20:G37) -> 118642343
B40: =+B19+1 -> 2 | C40: DESMONTES y DEMOLICIONES
C41: DESMONTES
B42: =+B40+0.01 -> 2.01 | C42: Desmonte Canaleta de Asbesto Cemento Cubierta con claraboyas y sistemas de fijación. Incluye trasiego, cargue, retiro, transporte y deposición fuera de la obra. | D42: m2 | E42: 2184.814 | F42: 15109.797 | G42: =ROUND((E42*F42),0) -> 33012097
B43: =+B42+0.01 -> 2.02 | C43: Desmonte Caballete de Asbesto Cemento Cubierta y sistemas de fijación. Incluye trasiego, cargue, retiro, transporte y deposición fuera de la obra. | D43: ml | E43: 116 | F43: 13749.916 | G43: =ROUND((E43*F43),0) -> 1594990
B44: =+B43+0.01 -> 2.03 | C44: Desmonte de Flanches, Canales o similares en Lamina Galvanizada Cubierta y sistema de fijación. Incluye trasiego, cargue, retiro, transporte y deposicion fuera de la obra | D44: ml | E44: 190 | F44: 6485.7196 | G44: =ROUND((E44*F44),0) -> 1232287
B45: =+B44+0.01 -> 2.04 | C45: Desmonte de Rejas Metalicas y sistema de fijación. Incluye trasiego, cargue, retiro, transporte y deposicion fuera de la obra | D45: m2 | E45: 66 | F45: 11649.281 | G45: =ROUND((E45*F45),0) -> 768853
B46: =+B45+0.01 -> 2.05 | C46: Desmonte de Ventaneria con Vidrio y sistema de fijación. Incluye trasiego, cargue, retiro, transporte y deposicion fuera de la obra | D46: m2 | E46: 65 | F46: 11649.281 | G46: =ROUND((E46*F46),0) -> 757203
B47: =+B46+0.01 -> 2.06 | C47: Desmonte de Portones y Puertas Metalicas y sistema de fijación. Incluye trasiego, cargue, retiro, transporte y deposicion fuera de la obra | D47: m2 | E47: 67 | F47: 23298.563 | G47: =ROUND((E47*F47),0) -> 1561004
B48: =+B47+0.01 -> 2.07 | C48: Desmonte de Cerramientos Interiores en Malla Eslabonada y sistema de soporte. Incluye trasiego, cargue, retiro, transporte y deposicion fuera de la obra | D48: m2 | E48: 464 | F48: 11649.281 | G48: =ROUND((E48*F48),0) -> 5405267
B49: =+B48+0.01 -> 2.08 | C49: Desmonte Luminarias (de cualquier referencia) y sistema de fijación. Incluye trasiego, cargue, retiro, transporte y deposicion fuera de la obra | D49: und | E49: 63 | F49: 15205.86 | G49: =ROUND((E49*F49),0) -> 957969
B50: =+B49+0.01 -> 2.09 | C50: Desmonte y Cancelacion Red Electrica General (tuberias, ductos, canaletas, cajas, tableros, cableado, etc.) y sistema de fijación. Incluye trasiego, cargue, retiro, transporte y deposicion fuera de la obra | D50: un | E50: 1 | F50: 6820129.3 | G50: =ROUND((E50*F50),0) -> 6820129
B51: =+B50+0.01 -> 2.1 | C51: Desmonte y Cancelacion Red Hidrosanitaria General (tuberias y accesorios de cualquier tipo) y sistema de fijación. Incluye trasiego, cargue, retiro, transporte y deposicion fuera de la obra | D51: un | E51: 1 | F51: 8870481.6 | G51: =ROUND((E51*F51),0) -> 8870482
B52: =+B51+0.01 -> 2.11 | C52: Desmonte de Cerchas Metalicas Principales y sistema de fijación. Incluye trasiego, cargue, retiro, transporte y deposicion fuera de la obra | D52: ml | E52: 172 | F52: 38817.573 | G52: =ROUND((E52*F52),0) -> 6676623
...

Sheet 3. A.I.U.
C6: OBRA : | D6: Laboratorio Científico Especializado de la DIAN
C7: DIRECCION : | D7: Calle 65 BIS N° 88-81/85/91/99 - Bodega España - Alamo
C8: CIUDAD : | D8: Bogotá .D.C.
C9: FORMATO No.
C11: FECHA : Abril 06 de 2016 rev. Octubre 25 de 2016
D12: DISCRIMINACION DEL A. I. U. | AG12: =+AG16/(AG16+AI16) -> 0.47265024 | AI12: =+AI16/(AG16+AI16) -> 0.52734976 | AM12: =+AG12+AI12 -> 1
E14: VALOR BASE | F14: F.P. | G14: Ded. | H14: Inc. | I14: M-1 | J14: M-2 | K14: M-3 | L14: M-4 | M14: M-5 | N14: M-6 | O14: M-7 | P14: M-8 | Q14: M-9 | R14: M-10 | S14: M-11 | T14: M-12 | U14: M-13 | V14: M-14 | W14: M-15 | X14: M-16 | Y14: M-17 | Z14: M-18 | AA14: M-19 | AB14: M-20 | AC14: T | AD14: TOTAL | AG14: Obra Civil | AI14: Insta.+Equipos | AK14: Amoblamiento | AM14: Total
C16: Costo Directo Total | AD16: =+AG16+AI16+AK16 -> 3.0305408e+10 | AG16: =+'2. Presupuesto Detallado'!G606 -> 1.3262211e+10 | AI16: =+'2. Presupuesto Detallado'!G2274 -> 1.4797039e+10 | AK16: =+'2. Presupuesto Detallado'!G2590 -> 2.2461576e+09 | AM16: =+AG16+AI16+AK16 -> 3.0305408e+10
C17: Administracion | AD17: =+AD43+AD56+AD63+AD68+AD99 -> 2.0113858e+09 | AG17: =+$AD17*AG$12 -> 9.5068198e+08 | AI17: =+$AD17*AI$12 -> 1.0607038e+09 | AM17: =+AG17+AI17+AK17 -> 2.0113858e+09
C18: Polizas | AD18: =+AD111 -> 5.2789196e+08 | AG18: =+$AD18*AG$12 -> 2.4950826e+08 | AI18: =+$AD18*AI$12 -> 2.783837e+08 | AM18: =+AG18+AI18+AK18 -> 5.2789196e+08
C19: Impuestos | AD19: =+AD117 -> 2.9632631e+09 | AG19: =+$AD19*AG$12 -> 1.400587e+09 | AI19: =+$AD19*AI$12 -> 1.5626761e+09 | AM19: =+AG19+AI19+AK19 -> 2.9632631e+09
C20: Imprevistos | AD20: =+AG20+AI20+AK20 -> 2.805925e+08 | AF20: 0.01 | AG20: =+AG$16*$AF20 -> 1.3262211e+08 | AH20: 0.01 | AI20: =+AI$16*$AH20 -> 1.4797039e+08 | AM20: =+AG20+AI20+AK20 -> 2.805925e+08
C21: Utilidad | AD21: =+AG21+AI21+AK21 -> 1.0916735e+09 | AF21: 0.06 | AG21: =+AG$16*$AF21 -> 7.9573268e+08 | AH21: 0.02 | AI21: =+AI$16*$AH21 -> 2.9594078e+08 | AM21: =+AG21+AI21+AK21 -> 1.0916735e+09
C22: I.V.A. sobre uilidad | AD22: =+AG22+AI22+AK22 -> 5.3405297e+08 | AG22: =+AG21*AF23 -> 1.2731723e+08 | AH22: 0.16 | AI22: =+AI21*AH22 -> 47350525 | AK22: =+AK16*AH22 -> 3.5938522e+08 | AM22: =+AG22+AI22+AK22 -> 5.3405297e+08
B23: Costo Total Proyecto | AD23: 3.7714268e+10 | AF23: 0.16 | AG23: =SUM(AG16:AG22) -> 1.6918661e+10 | AI23: =SUM(AI16:AI22) -> 1.8190064e+10 | AK23: =SUM(AK16:AK22) -> 2.6055428e+09 | AM23: =SUM(AM16:AM22) -> 3.7714268e+10 | AN23: =+AD23-AM23 -> 0
B25: Personal Administracion Obra
C26: Director de Obra | D26: mes | E26: =10331911 -> 10331911 | F26: 0.3635 | G26: 0.5 | H26: 1 | I26: 1 | J26: 1 | K26: 1 | L26: 1 | M26: 1 | N26: 1 | O26: 1 | P26: 1 | Q26: 1 | R26: 1 | S26: 1 | T26: 1 | U26: 1 | V26: 1 | W26: 1 | X26: 1 | Y26: 1 | AC26: =SUM(I26:AB26) -> 17 | AD26: =+E26*(1+F26)*G26*H26*AC26 -> 1.1974427e+08
C27: Ingeniero Residente Estructura | D27: mes | E27: =7873417 -> 7873417 | F27: 0.3635 | G27: 1 | H27: 1 | I27: 1 | J27: 1 | K27: 1 | L27: 1 | M27: 1 | N27: 1 | O27: 1 | P27: 1 | Q27: 1 | R27: 1 | S27: 1 | T27: 1 | U27: 1 | V27: 1 | W27: 1 | X27: 1 | Y27: 1 | AC27: =SUM(I27:AB27) -> 17 | AD27: =+E27*(1+F27)*G27*H27*AC27 -> 1.8250187e+08
C28: Ingeniero Residente Instalaciones y Equipos | D28: mes | E28: =7873417 -> 7873417 | F28: 0.3635 | G28: 1 | H28: 1 | I28: 1 | J28: 1 | K28: 1 | L28: 1 | M28: 1 | N28: 1 | O28: 1 | P28: 1 | Q28: 1 | R28: 1 | S28: 1 | T28: 1 | U28: 1 | V28: 1 | W28: 1 | X28: 1 | Y28: 1 | AC28: =SUM(I28:AB28) -> 17 | AD28: =+E28*(1+F28)*G28*H28*AC28 -> 1.8250187e+08
C29: Arquitecto Residente Acabados | D29: mes | E29: =7873417 -> 7873417 | F29: 0.3635 | G29: 1 | H29: 1 | I29: 1 | J29: 1 | K29: 1 | L29: 1 | M29: 1 | N29: 1 | O29: 1 | P29: 1 | Q29: 1 | R29: 1 | S29: 1 | T29: 1 | U29: 1 | V29: 1 | W29: 1 | X29: 1 | Y29: 1 | AC29: =SUM(I29:AB29) -> 17 | AD29: =+E29*(1+F29)*G29*H29*AC29 -> 1.8250187e+08
C30: Ing. Residente Administrativo | D30: mes | E30: =5658694 -> 5658694 | F30: 0.3635 | G30: 1 | H30: 1 | I30: 1 | J30: 1 | K30: 1 | L30: 1 | M30: 1 | N30: 1 | O30: 1 | P30: 1 | Q30: 1 | R30: 1 | S30: 1 | T30: 1 | U30: 1 | V30: 1 | W30: 1 | X30: 1 | Y30: 1 | AC30: =SUM(I30:AB30) -> 17 | AD30: =+E30*(1+F30)*G30*H30*AC30 -> 1.311657e+08
C31: Ing. Residente Seguridad Industrial | D31: mes | E31: 4443433.4 | F31: 0.3635 | G31: 1 | H31: 1 | I31: 1 | J31: 1 | K31: 1 | L31: 1 | M31: 1 | N31: 1 | O31: 1 | P31: 1 | Q31: 1 | R31: 1 | S31: 1 | T31: 1 | U31: 1 | V31: 1 | W31: 1 | X31: 1 | Y31: 1 | AC31: =SUM(I31:AB31) -> 17 | AD31: =+E31*(1+F31)*G31*H31*AC31 -> 1.0299656e+08
C32: Maestro | D32: mes | E32: =1860405 -> 1860405 | F32: 0.4757 | G32: 1 | H32: 1 | I32: 1 | J32: 1 | K32: 1 | L32: 1 | M32: 1 | N32: 1 | O32: 1 | P32: 1 | Q32: 1 | R32: 1 | S32: 1 | T32: 1 | U32: 1 | V32: 1 | W32: 1 | X32: 1 | Y32: 1 | AC32: =SUM(I32:AB32) -> 17 | AD32: =+E32*(1+F32)*G32*H32*AC32 -> 46671794
C33: Constramaestro | D33: mes | E33: =1376175 -> 1376175 | F33: 0.4757 | G33: 1 | H33: 1 | AC33: =SUM(I33:AB33) -> 0 | AD33: =+E33*(1+F33)*G33*H33*AC33 -> 0
C34: Almacenista | D34: mes | E34: =1528111 -> 1528111 | F34: 0.4757 | G34: 1 | H34: 1 | I34: 1 | J34: 1 | K34: 1 | L34: 1 | M34: 1 | N34: 1 | O34: 1 | P34: 1 | Q34: 1 | R34: 1 | S34: 1 | T34: 1 | U34: 1 | V34: 1 | W34: 1 | X34: 1 | Y34: 1 | AC34: =SUM(I34:AB34) -> 17 | AD34: =+E34*(1+F34)*G34*H34*AC34 -> 38335568
C35: Auxiliar de Almacen | D35: mes | E35: =1022000 -> 1022000 | F35: 0.4757 | G35: 1 | H35: 1 | AC35: =SUM(I35:AB35) -> 0 | AD35: =+E35*(1+F35)*G35*H35*AC35 -> 0
C36: Topografo | D36: mes | E36: =2218189 -> 2218189 | F36: 0.4757 | G36: 1 | H36: 1 | I36: 1 | J36: 1 | K36: 1 | L36: 1 | M36: 1 | N36: 1 | O36: 1 | P36: 1 | Q36: 1 | R36: 1 | S36: 1 | T36: 1 | U36: 1 | V36: 1 | W36: 1 | X36: 1 | Y36: 1 | AC36: =SUM(I36:AB36) -> 17 | AD36: =+E36*(1+F36)*G36*H36*AC36 -> 55647486
C37: Candenero 1 | D37: mes | E37: =1377126 -> 1377126 | F37: 0.4757 | G37: 1 | H37: 1 | I37: 1 | J37: 1 | K37: 1 | L37: 1 | M37: 1 | N37: 1 | O37: 1 | P37: 1 | Q37: 1 | R37: 1 | S37: 1 | T37: 1 | U37: 1 | V37: 1 | W37: 1 | X37: 1 | Y37: 1 | AC37: =SUM(I37:AB37) -> 17 | AD37: =+E37*(1+F37)*G37*H37*AC37 -> 34547822
C38: Oficiales | D38: mes | E38: =955000 -> 955000 | F38: 0.4757 | G38: 1 | H38: 1 | AC38: =SUM(I38:AB38) -> 0 | AD38: =+E38*(1+F38)*G38*H38*AC38 -> 0
C39: Ayudantes | D39: mes | E39: =670000 -> 670000 | F39: 0.4757 | G39: 1 | H39: 1 | AC39: =SUM(I39:AB39) -> 0 | AD39: =+E39*(1+F39)*G39*H39*AC39 -> 0
C40: Conductor | D40: mes | E40: =1671304.03 -> 1671304 | F40: 0.4757 | G40: 1 | H40: 1 | I40: 1 | J40: 1 | K40: 1 | L40: 1 | M40: 1 | N40: 1 | O40: 1 | P40: 1 | Q40: 1 | R40: 1 | S40: 1 | T40: 1 | U40: 1 | V40: 1 | W40: 1 | X40: 1 | Y40: 1 | AC40: =SUM(I40:AB40) -> 17 | AD40: =+E40*(1+F40)*G40*H40*AC40 -> 41927837
C41: Secretaria | D41: mes | E41: =1198053 -> 1198053 | F41: 0.4757 | G41: 1 | H41: 1 | AC41: =SUM(I41:AB41) -> 0 | AD41: =+E41*(1+F41)*G41*H41*AC41 -> 0
C42: Mensajero | D42: mes | E42: =998185 -> 998185 | F42: 0.4757 | G42: 1 | H42: 1 | I42: 1 | J42: 1 | K42: 1 | L42: 1 | M42: 1 | N42: 1 | O42: 1 | P42: 1 | Q42: 1 | R42: 1 | S42: 1 | T42: 1 | U42: 1 | V42: 1 | W42: 1 | X42: 1 | Y42: 1 | AC42: =SUM(I42:AB42) -> 17 | AD42: =+E42*(1+F42)*G42*H42*AC42 -> 25041367
AD43: =SUM(AD26:AD42) -> 1.143584e+09 | AG43: =+$AD43*AG$12 -> 5.4051526e+08 | AI43: =+$AD43*AI$12 -> 6.0306876e+08 | AM43: =+AG43+AI43+AK43 -> 1.143584e+09
B44: Asesores
C45: Especialista Geotecnico (12 años) | D45: mes | E45: 8632086.4 | F45: 0.3635 | G45: 0.15 | H45: 1 | I45: 1 | J45: 1 | K45: 1 | L45: 1 | M45: 1 | AC45: =SUM(I45:AB45) -> 5 | AD45: =+E45*(1+F45)*G45*H45*AC45 -> 8827387.4
C46: Especialista Estructural (12 años) | D46: mes | E46: 8632086.4 | F46: 0.3635 | G46: 0.25 | H46: 1 | I46: 1 | J46: 1 | K46: 1 | L46: 1 | M46: 1 | N46: 1 | O46: 1 | P46: 1 | Q46: 1 | R46: 1 | S46: 1 | AC46: =SUM(I46:AB46) -> 11 | AD46: =+E46*(1+F46)*G46*H46*AC46 -> 32367087
C47: Especialista Hidraulico (12 años) | D47: mes | E47: 8632086.4 | F47: 0.3635 | G47: 0.25 | H47: 1 | M47: 1 | N47: 1 | O47: 1 | P47: 1 | Q47: 1 | R47: 1 | S47: 1 | T47: 1 | U47: 1 | V47: 1 | W47: 1 | X47: 1 | AC47: =SUM(I47:AB47) -> 12 | AD47: =+E47*(1+F47)*G47*H47*AC47 -> 35309550
C48: Especialista Electrico (12 años) | D48: mes | E48: 8632086.4 | F48: 0.3635 | G48: 0.25 | H48: 1 | M48: 1 | N48: 1 | O48: 1 | P48: 1 | Q48: 1 | R48: 1 | S48: 1 | T48: 1 | U48: 1 | V48: 1 | W48: 1 | X48: 1 | AC48: =SUM(I48:AB48) -> 12 | AD48: =+E48*(1+F48)*G48*H48*AC48 -> 35309550
C49: Especialista Mecanico (12 años) | D49: mes | E49: 8632086.4 | F49: 0.3635 | G49: 0.25 | H49: 1 | P49: 1 | Q49: 1 | R49: 1 | S49: 1 | T49: 1 | U49: 1 | V49: 1 | W49: 1 | X49: 1 | AC49: =SUM(I49:AB49) -> 9 | AD49: =+E49*(1+F49)*G49*H49*AC49 -> 26482162
...

Sheet Gastos Generales
B6: OBJETO: SERVICIO DE INTERVENTORIA TÉCNICA, ADMINISTRATIVA, FINANCIERA, AMBIENTAL, CONTABLE Y JURÍDICA SOBRE LA ADECUACIÓN Y DOTACIÓN, INCLUIDOS LOS DISEÑOS REQUERIDOS, PARA LAS ÁREAS INTERNAS DEL EDIFICIO SENDAS, SEDE DE LA DIRECCIÓN DE IMPUESTOS Y ADUANAS NACIONALES – DIAN, UBICADO EN LA CARRERA 7 NO. 6C – 54 DE LA CIUDAD DE BOGOTÁ
B7: ANEXO No. 2.1 GASTOS GENERALES
B8: Descripción | C8: Cantidad por mes | D8: Vr. Unit | E8: Vr.total
B9: Guantes (Caja x 100) | C9: 3 | D9: =ROUND(((82550+54900)/2),0) -> 68725 | E9: =+C9*D9 -> 206175
B10: Tapabocas (Caja x 50) | C10: 4 | D10: =ROUND(((17900+15990+15990+18590)/4),0) -> 17118 | E10: =+C10*D10 -> 68472
B11: Caretas | C11: 9 | D11: =ROUND(((29000+39900+9900+16900)/4),0) -> 23925 | E11: =+C11*D11 -> 215325
B12: Alcohol etílico al 70% x 20 litros | C12: 1 | D12: =ROUND(((80500+124900+103200)/3),0) -> 102867 | E12: =+C12*D12 -> 102867
B13: Gel antibacterial x 4 litros | C13: 1 | D13: =ROUND(((39900+39900+30000)/3),0) -> 36600 | E13: =+C13*D13 -> 36600
B14: Insumos para impresión (toner y/o y tintas) | C14: 1 | D14: =ROUND(((134000+121900+149900)/3),0) -> 135267 | E14: =+C14*D14 -> 135267
B15: Entregas Medios mágnéticos | C15: 1 | D15: 50000 | E15: =+C15*D15 -> 50000
B16: Mensajería y trámites de correspondencia | C16: 1 | D16: 120000 | E16: =+C16*D16 -> 120000
B17: Transporte | C17: 1 | D17: 110000 | E17: =+C17*D17 -> 110000
B18: Impresión de planos | C18: 10 | D18: =ROUND(((30000+25000+10200+17000)/4),0) -> 20550 | E18: =+C18*D18 -> 205500
B19: Productos limpieza y desinfección oficina | C19: 1 | D19: =ROUND(((39900+80000+208000)/3),0) -> 109300 | E19: =+C19*D19 -> 109300
B20: Productos e insumos de papelería | C20: 1 | D20: =ROUND(((211000+109880)/2),0) -> 160440 | E20: =+C20*D20 -> 160440
D21: Total mensual: | E21: =SUM(E9:E18) -> 1250206
B23: Nota 1: En el valor de cada uno de los elementos constitutivos de los gastos generales, se encuentra incluido el valor del impuesto al valor Agregado IVA cuando sea aplicable según el Estatuto Triburario, y demás normas emitidas por el Gobierno Nacional en lo referido a la exención de bienes durante la vigencia de la Emergencia Sanitaria declarada por el Ministerio de Salud y Protección Social, con ocasión de la pandemia derivada del Coronavirus COVID-19.
B24: Nota 2: Por lo anterior, será responsabilidad del Adjudicatario presentar los correspondientes soportes contables con la inclusión del IVA o no ante el supervisor del contrato, según corresponda y aplique en la normatividad vigente .
