Workbook
Name \A: #REF!
Name \L: #REF!
Name \P: #REF!
Name \s: #REF!
Name _______________AFC1: [1]INV!$A$25:$D$28
Name _______________AFC3: [1]INV!$F$25:$I$28
Name _______________AFC5: [1]INV!$K$25:$N$28
Name _______________BGC1: [1]INV!$A$5:$D$8
Name _______________BGC3: [1]INV!$F$5:$I$8
Name _______________BGC5: [1]INV!$K$5:$N$8
Name _______________CAC1: [1]INV!$A$19:$D$22
Name _______________CAC3: [1]INV!$F$19:$I$22
Name _______________CAC5: [1]INV!$K$19:$N$22
Name _______________oa55: #REF!
Name _______________SBC1: [1]INV!$A$12:$D$15
Name _______________SBC3: [1]INV!$F$12:$I$15
Name _______________SBC5: [1]INV!$K$12:$N$15
Name ______________AFC1: [1]INV!$A$25:$D$28
Name ______________AFC3: [1]INV!$F$25:$I$28
Name ______________AFC5: [1]INV!$K$25:$N$28
Name ______________BGC1: [1]INV!$A$5:$D$8
Name ______________BGC3: [1]INV!$F$5:$I$8
Name ______________BGC5: [1]INV!$K$5:$N$8
Name ______________CAC1: [1]INV!$A$19:$D$22
Name ______________CAC3: [1]INV!$F$19:$I$22
Name ______________CAC5: [1]INV!$K$19:$N$22
Name ______________oa55: #REF!
Name ______________SBC1: [1]INV!$A$12:$D$15
Name ______________SBC3: [1]INV!$F$12:$I$15
Name ______________SBC5: [1]INV!$K$12:$N$15
Name _____________AFC1: [1]INV!$A$25:$D$28
Name _____________AFC3: [1]INV!$F$25:$I$28
Name _____________AFC5: [1]INV!$K$25:$N$28
Name _____________BGC1: [1]INV!$A$5:$D$8
Name _____________BGC3: [1]INV!$F$5:$I$8
Name _____________BGC5: [1]INV!$K$5:$N$8
Name _____________CAC1: [1]INV!$A$19:$D$22
Name _____________CAC3: [1]INV!$F$19:$I$22
Name _____________CAC5: [1]INV!$K$19:$N$22
Name _____________oa55: #REF!
Name _____________SBC1: [1]INV!$A$12:$D$15
Name _____________SBC3: [1]INV!$F$12:$I$15
Name _____________SBC5: [1]INV!$K$12:$N$15
Name ____________AFC1: [1]INV!$A$25:$D$28
Name ____________AFC3: [1]INV!$F$25:$I$28
Name ____________AFC5: [1]INV!$K$25:$N$28
Name ____________BGC1: [1]INV!$A$5:$D$8
Name ____________BGC3: [1]INV!$F$5:$I$8
Name ____________BGC5: [1]INV!$K$5:$N$8
Name ____________CAC1: [1]INV!$A$19:$D$22
Name ____________CAC3: [1]INV!$F$19:$I$22
Name ____________CAC5: [1]INV!$K$19:$N$22
Name ____________oa55: #REF!
Name ____________SBC1: [1]INV!$A$12:$D$15
Name ____________SBC3: [1]INV!$F$12:$I$15
Name ____________SBC5: [1]INV!$K$12:$N$15
Name ___________AFC1: [1]INV!$A$25:$D$28
Name ___________AFC3: [1]INV!$F$25:$I$28
Name ___________AFC5: [1]INV!$K$25:$N$28
Name ___________BGC1: [1]INV!$A$5:$D$8

Sheet PRESUPUESTO DOCUMENTO TECNICO 
B2: OBJETIVO ESP. | C2: PRODUCTO | D2: ACTIVIDAD | E2: DESCRIPCION | F2: UNIDAD | G2: CANTIDAD | H2: VR. UNITARIO | I2: FUENTE | K2: VR. TOTAL
I3: R.PROPIO | J3: R. SGP
B4: Mejorar, construir, y adecuar la infraestructura de las unidades técnicas de basura – UTB y los locales comerciales de las Plazas de Mercado del Municipio de Popayán. | C4: Producto PDM: Plan de mantenimiento de las plazas de mercad ejecutado Producto MGA: Plazas de mercado mantenida Descripción: Unidades de Tratamiento de Basuras – UTB Construidas y adecuadas y locales comerciales plaza de mercado Esmeralda adecuados. | D4: 2. Realizar obras de adecuación de 19 locales comerciales en la plaza de mercado la esmeralda del municipio de Popayán. | E4: =+PRESUPUESTO!B10 -> Suminstro y colocación de Alistado para piso en mortero 1:4 de e=0.04m para 18 locales | F4: =+PRESUPUESTO!C10 -> m2 | G4: =+PRESUPUESTO!D10 -> 79.01 | H4: =+PRESUPUESTO!E10 -> 24725 | I4: =+H32+H36 -> 43318430 | K4: =+J4+I4 -> 43318430
E5: =+PRESUPUESTO!B11 -> Suministro y colocación de piso en cerámica tráfico 4 de 33.8 cm x 33.8 cm para 17 locales | F5: =+PRESUPUESTO!C11 -> m2 | G5: =+PRESUPUESTO!D11 -> 79.01 | H5: =+PRESUPUESTO!E11 -> 42986
E6: =+PRESUPUESTO!B12 -> Suministro y colocación de guardaescoba en cerámica (h=7 cm) para muros internos de 17 locales. | F6: =+PRESUPUESTO!C12 -> m | G6: =+PRESUPUESTO!D12 -> 122.4 | H6: =+PRESUPUESTO!E12 -> 18702
E7: =+PRESUPUESTO!B13 -> Aplicación de pañete impermeabilizado para muros internos con mortero 1:4 de espesor 2.5 cm para 15 locales | F7: =+PRESUPUESTO!C13 -> m2 | G7: =+PRESUPUESTO!D13 -> 160.57 | H7: =+PRESUPUESTO!E13 -> 21587
E8: =+PRESUPUESTO!B14 -> INSTALACIONES ELECTRICAS E HIDROSANITARIAS
E9: =+PRESUPUESTO!B15 -> Suministro e instalación de acometida en cable de cobre 2F No. 10. Incluye elementos necesarios para dejar estas redes en optimas condiciones de funcionamiento y que cumpla con las especificaciones establecidas en 17 locales, para instalación de contador eléctrico del cual se derivará acometida de luminaria, interruptores y tómas electricos. L=1m. | F9: =+PRESUPUESTO!C15 -> m | G9: =+PRESUPUESTO!D15 -> 66 | H9: =+PRESUPUESTO!E15 -> 15455
E10: =+PRESUPUESTO!B16 -> Suministro e instalación de salida eléctrica para luminaria, incluye roseta e interruptor sencillo, caja octogonal, tubería, alambre cobre THW 10 AWG, adaptadores. L = 1ml, para 17 locales | F10: =+PRESUPUESTO!C16 -> Und | G10: =+PRESUPUESTO!D16 -> 17 | H10: =+PRESUPUESTO!E16 -> 77481
E11: =+PRESUPUESTO!B17 -> Suministro e instalación de salida toma doble con polo a tierra para 17 locales, dos por cada local distribuidos. L=1m | F11: =+PRESUPUESTO!C17 -> Und | G11: =+PRESUPUESTO!D17 -> 34 | H11: =+PRESUPUESTO!E17 -> 63485
E12: =+PRESUPUESTO!B18 -> Suministro e instalación de acometida en cable de cobre 2F No. 10. Incluye elementos necesarios para dejar estas redes en optimas condiciones de funcionamiento y que cumpla con las especificaciones establecidas. Acometida principal. | F12: =+PRESUPUESTO!C18 -> m | G12: =+PRESUPUESTO!D18 -> 10 | H12: =+PRESUPUESTO!E18 -> 15455
E13: =+PRESUPUESTO!B19 -> Suministro e instalación de Alambre de cobre aisladoTHNN No. 12 para acometidas secundarias. Incluye accesorios de instalación | F13: =+PRESUPUESTO!C19 -> m | G13: =+PRESUPUESTO!D19 -> 10 | H13: =+PRESUPUESTO!E19 -> 13381
E14: =+PRESUPUESTO!B20 -> Suministro e instalación de medidor de energía eléctrica monofásico, incluye caja de protección, caja tablero CT 4 circuitos y tacos de 20 amperios para 17 locales | F14: =+PRESUPUESTO!C20 -> Und | G14: =+PRESUPUESTO!D20 -> 17 | H14: =+PRESUPUESTO!E20 -> 372492
E15: =+PRESUPUESTO!B21 -> Suministro e instalación de acometida de agua potable en tubería PVC de 1/2" RDE 9, sobre anden de concreto y/o tableta, para 1 local y poceta común. Ver ubicación en bosquejo suministrado | F15: =+PRESUPUESTO!C21 -> m | G15: =+PRESUPUESTO!D21 -> 50 | H15: =+PRESUPUESTO!E21 -> 6444
E16: =+PRESUPUESTO!B22 -> Suministro e instalación de punto de agua potable 1/2" en PVC para 1 local y poceta común que se va a construir. Ver bosquejo. | F16: =+PRESUPUESTO!C22 -> Und | G16: =+PRESUPUESTO!D22 -> 2 | H16: =+PRESUPUESTO!E22 -> 35990
E17: =+PRESUPUESTO!B23 -> Suministro e instalación de punto sanitario en PVC 3" para 1 local y poceta común que se va a construir. Ver bosquejo. | F17: =+PRESUPUESTO!C23 -> Und | G17: =+PRESUPUESTO!D23 -> 2 | H17: =+PRESUPUESTO!E23 -> 60601
E18: =+PRESUPUESTO!B24 -> Suministro e instalación de contador de agua potable para local y poceta común | F18: =+PRESUPUESTO!C24 -> Und | G18: =+PRESUPUESTO!D24 -> 2 | H18: =+PRESUPUESTO!E24 -> 234847
E19: =+PRESUPUESTO!B25 -> PRELIMARES
E20: =+PRESUPUESTO!B26 -> Demolición de losa de piso a mano para instalación de tuberías hidráulicas de PVC 1/2" para 1 local y poceta de agua común. Ver ubicación en bosquejo suministrado | F20: =+PRESUPUESTO!C26 -> m2 | G20: =+PRESUPUESTO!D26 -> 48 | H20: =+PRESUPUESTO!E26 -> 19686
E21: =+PRESUPUESTO!B27 -> Excavación manual en suelos varios para instalación de tuberia hidráulica de PVC 1/2 para 3 locales. Ver ubicación en bosquejo suministrado | F21: =+PRESUPUESTO!C27 -> m3 | G21: =+PRESUPUESTO!D27 -> 48 | H21: =+PRESUPUESTO!E27 -> 16873
E22: =+PRESUPUESTO!B28 -> Relleno con material de sitio sobre excavaciones | F22: =+PRESUPUESTO!C28 -> m3 | G22: =+PRESUPUESTO!D28 -> 48 | H22: =+PRESUPUESTO!E28 -> 7537
E23: =+PRESUPUESTO!B29 -> CONCRETO RESISTENCIA 21MPA (D) Contrapiso E = 0.10m; acabado acolillado y escobiado con tratamiento de juntas (incluye refuerzo con malla electrosoldada) | F23: =+PRESUPUESTO!C29 -> m3 | G23: =+PRESUPUESTO!D29 -> 4.8 | H23: =+PRESUPUESTO!E29 -> 827420
E24: =+PRESUPUESTO!B30 -> Transporte de material proveniente de excavación, explanación, canales y escombros. Inluye Cargue a mano | F24: =+PRESUPUESTO!C30 -> m3 - km | G24: =+PRESUPUESTO!D30 -> 10 | H24: =+PRESUPUESTO!E30 -> 20488
E25: =+PRESUPUESTO!B31 -> Conformación de zona de disposición de sobrantes. Incluye regalias. | F25: =+PRESUPUESTO!C31 -> m3 | G25: =+PRESUPUESTO!D31 -> 10 | H25: =+PRESUPUESTO!E31 -> 4768
E26: =+PRESUPUESTO!B32 -> OTROS
E27: =+PRESUPUESTO!B33 -> Reparación de cortinas metálicas que estan oxidadas. Incluye reposición de partes en mal estado. Para 15 locales. | F27: =+PRESUPUESTO!C33 -> m2 | G27: =+PRESUPUESTO!D33 -> 71.28 | H27: =+PRESUPUESTO!E33 -> 19562
E28: =+PRESUPUESTO!B34 -> VARIOS
E29: =+PRESUPUESTO!B35 -> Construcción de Muro en ladrillo común en Soga a la vista para 3 locales, 1 muro divisorio completo de altura 2.80 y antepechos a una altura de 0.8m, de acuerdo al bosquejo suminstrado. | F29: =+PRESUPUESTO!C35 -> m2 | G29: =+PRESUPUESTO!D35 -> 18.19 | H29: =+PRESUPUESTO!E35 -> 52507
E30: =+PRESUPUESTO!B36 -> Construcción de Meson en concreto de 17 MPa (2500 psi), Espesor 8cm, incluye malla electrosoldada m-084, enchape y piragua, para 3 locales, de acuerdo al bosquejo suministrado | F30: =+PRESUPUESTO!C36 -> m2 | G30: =+PRESUPUESTO!D36 -> 2.1 | H30: =+PRESUPUESTO!E36 -> 156900
E31: =+PRESUPUESTO!B37 -> Construcción de Poceta corrida de aseo y abastecimiento de agua, en concreto de 21 Mpa (3.000 PSI) incluye enchape, de dimenciones b=2m x a=0.70m | F31: =+PRESUPUESTO!C37 -> m | G31: =+PRESUPUESTO!D37 -> 2 | H31: =+PRESUPUESTO!E37 -> 295272
E32: TOTAL COSTOS DIRECTOS | H32: =+PRESUPUESTO!F38 -> 32816992
E33: Administración | G33: =25% -> 0.25 | H33: =+ROUND($H$32*G33,0) -> 8204248
E34: Imprevistos | G34: =2% -> 0.02 | H34: =+ROUND($H$32*G34,0) -> 656340
E35: Utilidad | G35: =5% -> 0.05 | H35: =+ROUND($H$32*G35,0) -> 1640850
E36: COSTOS INDIRECTOS | H36: =+SUM(H33:H35) -> 10501438
E37: COSTO TOTAL LOCALES COMERCIALES ESMERALDA | K37: =+K4 -> 43318430

Sheet PRESUPUESTO
B1: ALCALDIA DE POPAYAN | F1: GBS-110
F2: Versión: 01
B3: SECRETARIA GENERAL | F3: Página 1 de 1
A5: PRESUPUESTO
A6: ADECUACIONES LOCALES - PLAZA DE MERCADO LA ESMERALDA
A8: ITEM | B8: DESCRIPCIÓN | C8: UNIDAD | D8: CANTIDAD | E8: VALOR UNITARIO | F8: VALOR TOTAL
A9: 1 | B9: ACABADOS
A10: 1.01 | B10: Suminstro y colocación de Alistado para piso en mortero 1:4 de e=0.04m para 18 locales | C10: m2 | D10: =ROUND(D11,2) -> 79.01 | E10: ='1.01'!H37 -> 24725 | F10: =ROUND(D10*E10,0) -> 1953522
A11: 1.02 | B11: Suministro y colocación de piso en cerámica tráfico 4 de 33.8 cm x 33.8 cm para 17 locales | C11: m2 | D11: =ROUND((2*3.2)*4+(3*1.78)*4+(1.1*2)*2+(2*1.4)*3+(3.2*4)+1.5*2+1.5*1.63+1*1,2) -> 79.01 | E11: =ROUND('1.02'!I41,0) -> 42986 | F11: =ROUND(D11*E11,0) -> 3396324
A12: 1.03 | B12: Suministro y colocación de guardaescoba en cerámica (h=7 cm) para muros internos de 17 locales. | C12: m | D12: =ROUND(3.2*8+2*8+1.78*8+3*8+1.1*4+2*4+1.4*6+2*6+1.5*2+2+1.63*2+1.5,2) -> 122.4 | E12: ='1.03'!I40 -> 18702 | F12: =ROUND(D12*E12,0) -> 2289125
A13: 1.04 | B13: Aplicación de pañete impermeabilizado para muros internos con mortero 1:4 de espesor 2.5 cm para 15 locales | C13: m2 | D13: =ROUND(1.1*1.9*8+3.2*4*2.85+3*8*1.1+4*1.78*2.85+2*4*1.1+1.1*2*2.85+1.4*3*2.85+2*7*1.1+3.2*2*2.85,2) -> 160.57 | E13: ='1.04'!H36 -> 21587 | F13: =ROUND(D13*E13,0) -> 3466225
A14: 2 | B14: INSTALACIONES ELECTRICAS E HIDROSANITARIAS
A15: 2.01 | B15: Suministro e instalación de acometida en cable de cobre 2F No. 10. Incluye elementos necesarios para dejar estas redes en optimas condiciones de funcionamiento y que cumpla con las especificaciones establecidas en 17 locales, para instalación de contador eléctrico del cual se derivará acometida de luminaria, interruptores y tómas electricos. L=1m. | C15: m | D15: =ROUND(26+40,2) -> 66 | E15: ='2.01'!H41 -> 15455 | F15: =ROUND(D15*E15,0) -> 1020030
A16: 2.02 | B16: Suministro e instalación de salida eléctrica para luminaria, incluye roseta e interruptor sencillo, caja octogonal, tubería, alambre cobre THW 10 AWG, adaptadores. L = 1ml, para 17 locales | C16: Und | D16: =ROUND(17,2) -> 17 | E16: ='2.02'!H45 -> 77481 | F16: =ROUND(D16*E16,0) -> 1317177
A17: 2.03 | B17: Suministro e instalación de salida toma doble con polo a tierra para 17 locales, dos por cada local distribuidos. L=1m | C17: Und | D17: =ROUND(17*2,2) -> 34 | E17: ='2.03'!H42 -> 63485 | F17: =ROUND(D17*E17,0) -> 2158490
A18: 2.04 | B18: Suministro e instalación de acometida en cable de cobre 2F No. 10. Incluye elementos necesarios para dejar estas redes en optimas condiciones de funcionamiento y que cumpla con las especificaciones establecidas. Acometida principal. | C18: m | D18: =+ROUND(10,2) -> 10 | E18: ='2.04'!H41 -> 15455 | F18: =ROUND(D18*E18,0) -> 154550
A19: 2.05 | B19: Suministro e instalación de Alambre de cobre aisladoTHNN No. 12 para acometidas secundarias. Incluye accesorios de instalación | C19: m | D19: =+ROUND(10,2) -> 10 | E19: ='2.05'!H41 -> 13381 | F19: =ROUND(D19*E19,0) -> 133810
A20: 2.06 | B20: Suministro e instalación de medidor de energía eléctrica monofásico, incluye caja de protección, caja tablero CT 4 circuitos y tacos de 20 amperios para 17 locales | C20: Und | D20: =+ROUND(17,2) -> 17 | E20: ='2.06'!H44 -> 372492 | F20: =ROUND(D20*E20,0) -> 6332364
A21: 2.07 | B21: Suministro e instalación de acometida de agua potable en tubería PVC de 1/2" RDE 9, sobre anden de concreto y/o tableta, para 1 local y poceta común. Ver ubicación en bosquejo suministrado | C21: m | D21: =+ROUND(50,2) -> 50 | E21: ='2.07'!H37 -> 6444 | F21: =ROUND(D21*E21,0) -> 322200
A22: 2.08 | B22: Suministro e instalación de punto de agua potable 1/2" en PVC para 1 local y poceta común que se va a construir. Ver bosquejo. | C22: Und | D22: =+ROUND(2,2) -> 2 | E22: ='2.08'!H41 -> 35990 | F22: =ROUND(D22*E22,0) -> 71980
A23: 2.09 | B23: Suministro e instalación de punto sanitario en PVC 3" para 1 local y poceta común que se va a construir. Ver bosquejo. | C23: Und | D23: =+ROUND(2,2) -> 2 | E23: ='2.09'!H37 -> 60601 | F23: =ROUND(D23*E23,0) -> 121202
A24: 2.1 | B24: Suministro e instalación de contador de agua potable para local y poceta común | C24: Und | D24: =+ROUND(2,2) -> 2 | E24: ='2.10'!H39 -> 234847 | F24: =ROUND(D24*E24,0) -> 469694
A25: 3 | B25: PRELIMARES
A26: 3.01 | B26: Demolición de losa de piso a mano para instalación de tuberías hidráulicas de PVC 1/2" para 1 local y poceta de agua común. Ver ubicación en bosquejo suministrado | C26: m2 | D26: =ROUND(48,2) -> 48 | E26: ='3.01'!H41 -> 19686 | F26: =ROUND(D26*E26,0) -> 944928
A27: 3.02 | B27: Excavación manual en suelos varios para instalación de tuberia hidráulica de PVC 1/2 para 3 locales. Ver ubicación en bosquejo suministrado | C27: m3 | D27: =ROUND(48*1,2) -> 48 | E27: ='3.02'!H33 -> 16873 | F27: =ROUND(D27*E27,0) -> 809904
A28: 3.03 | B28: Relleno con material de sitio sobre excavaciones | C28: m3 | D28: =ROUND(D27,2) -> 48 | E28: ='3.03'!H41 -> 7537 | F28: =ROUND(D28*E28,0) -> 361776
A29: 3.04 | B29: CONCRETO RESISTENCIA 21MPA (D) Contrapiso E = 0.10m; acabado acolillado y escobiado con tratamiento de juntas (incluye refuerzo con malla electrosoldada) | C29: m3 | D29: =ROUND(48*0.1,2) -> 4.8 | E29: ='3.04'!H40 -> 827420 | F29: =ROUND(D29*E29,0) -> 3971616
A30: 3.05 | B30: Transporte de material proveniente de excavación, explanación, canales y escombros. Inluye Cargue a mano | C30: m3 - km | D30: 10 | E30: ='3.05'!H44 -> 20488 | F30: =ROUND(D30*E30,0) -> 204880
A31: 3.06 | B31: Conformación de zona de disposición de sobrantes. Incluye regalias. | C31: m3 | D31: 10 | E31: =+'3,06'!H34 -> 4768 | F31: =ROUND(D31*E31,0) -> 47680
A32: 4 | B32: OTROS
A33: 4.01 | B33: Reparación de cortinas metálicas que estan oxidadas. Incluye reposición de partes en mal estado. Para 15 locales. | C33: m2 | D33: =ROUND((1+1+1.4*3+2.6+2.2+1.6*2+1.7*2+3*3+3.1)*2.4,2) -> 71.28 | E33: ='4.01'!H40 -> 19562 | F33: =ROUND(D33*E33,0) -> 1394379
A34: 5 | B34: VARIOS
A35: 5.01 | B35: Construcción de Muro en ladrillo común en Soga a la vista para 3 locales, 1 muro divisorio completo de altura 2.80 y antepechos a una altura de 0.8m, de acuerdo al bosquejo suminstrado. | C35: m2 | D35: =ROUND(3.2*2.85+(1.5*3*0.76)+(1.63*2+1)*0.8+(1+0.9*2)*0.8,2) -> 18.19 | E35: ='5.01'!H39 -> 52507 | F35: =ROUND(D35*E35,0) -> 955102
A36: 5.02 | B36: Construcción de Meson en concreto de 17 MPa (2500 psi), Espesor 8cm, incluye malla electrosoldada m-084, enchape y piragua, para 3 locales, de acuerdo al bosquejo suministrado | C36: m2 | D36: =ROUND(1*0.6+1.5*0.6+1*0.6,2) -> 2.1 | E36: ='5.02'!H42 -> 156900 | F36: =ROUND(D36*E36,0) -> 329490
A37: 5.03 | B37: Construcción de Poceta corrida de aseo y abastecimiento de agua, en concreto de 21 Mpa (3.000 PSI) incluye enchape, de dimenciones b=2m x a=0.70m | C37: m | D37: =+ROUND(2,2) -> 2 | E37: ='5.03'!I42 -> 295272 | F37: =ROUND(D37*E37,0) -> 590544
A38: TOTAL COSTOS DIRECTOS | F38: =ROUND(SUM(F10:F37),0) -> 32816992
A40: Administración | E40: =25% -> 0.25 | F40: =ROUND(E40*$F$38,0) -> 8204248
A41: Imprevistos | E41: =2% -> 0.02 | F41: =ROUND(E41*$F$38,0) -> 656340
A42: Utilidad | E42: =5% -> 0.05 | F42: =ROUND(E42*$F$38,0) -> 1640850
A43: COSTOS INDIRECTOS | F43: =ROUND(SUM(F40:F42),0) -> 10501438
...

Sheet 1.01
A2: =+[42]DATOS!B2 -> ALCALDIA DE POPAYAN
A3: =+[42]DATOS!B4 -> SECRETARIA DE INFRAESTRUCTURA | E3: ANALISIS DE PRECIOS UNITARIOS
I4: REGRESAR
A5: ITEM : | B5: ALISTADO DE PISO CON MORTERO 1:4. E= 0.04M | E5: OBRA : | F5: =+[42]DATOS!B6 -> PRESUPUESTO PARA EDIFICACIONES
A7: UNIDAD : | B7: M2
A9: I.-EQUIPO | E9: FECHA : | F9: =+[42]DATOS!B8 -> 44385
A10: DESCRIPCION | D10: TIPO | E10: TARIFA | G10: VR/UNITARIO
A11: =+[42]Insumos!B40 -> HERRAMIENTA MENOR | C11: (5% MO) | G11: =+H35*0.05 -> 562.46808
F15: SUB-TOTAL | H15: =SUM(G11:G14) -> 562.46808
A16: II.-MATERIALES
A17: DESCRIPCION | D17: UNIDAD | E17: VALOR | F17: CANTIDAD | G17: VR/UNITARIO
A18: =+[42]CONCRETOS!E94 -> MORTERO 1:4 | D18: M3 | E18: =[42]CONCRETOS!G94 -> 322833 | F18: 0.04 | G18: =+E18*F18 -> 12913.32
G19: =+E19*F19 -> 0
G20: =+E20*F20 -> 0
F22: SUB-TOTAL | H22: =SUM(G18:G21) -> 12913.32
A23: III.-TRANSPORTE
A24: DESCRIPCION | C24: VOLUMEN | D24: DISTANCIA | E24: M3-KM | F24: TARIFA | G24: VR/UNITARIO
F28: SUB-TOTAL
A29: IV.-MANO DE OBRA
A30: DESCRIPCION | C30: JORNAL | D30: PRESTAC. | E30: JOR.TOTAL | F30: RENDI. | G30: VR/UNITARIO
A31: =+[42]CUADRILLA!E66 -> CUADRILLA No.10 | C31: =+[42]CUADRILLA!G66 -> 118414.33 | D31: =[42]DATOS!B15 -> 1.9 | E31: =C31*D31 -> 224987.23 | F31: 20 | G31: =E31/F31 -> 11249.362
F35: SUB-TOTAL | H35: =SUM(G31:G34) -> 11249.362
C37: TOTAL COSTO DIRECTO | H37: =ROUND(SUM(H15:H35),0) -> 24725
A38: V.-COSTOS INDIRECTOS
A39: DESCRIPCION | F39: % | G39: VR/TOTAL
A40: ADMINISTRACION | F40: =+[42]DATOS!B10 -> 0.25 | G40: =$H$37*F40 -> 6181.25
A41: IMPREVISTOS | F41: =+[42]DATOS!B11 -> 0.02 | G41: =$H$37*F41 -> 494.5
A42: UTILIDAD | F42: =+[42]DATOS!B12 -> 0.05 | G42: =$H$37*F42 -> 1236.25
F44: SUB-TOTAL | H44: =ROUND(SUM(G40:G43),0) -> 7912
C46: PRECIO UNITARIO TOTAL | H46: =ROUND(SUM(H37:H44),0) -> 32637

Sheet 1.02
B2: =+[43]DATOS!B2 -> ALCALDIA DE POPAYAN | K2: OK ACTUALIZADO
B3: =+[43]DATOS!B4 -> SECRETARIA DE INFRAESTRUCTURA | F3: ANALISIS DE PRECIOS UNITARIOS
L4: REGRESAR
B5: ITEM : | C5: SUMINISTRO E INSTALACIÓN PISO LAVRA DE 33,8 x 33,8 TRÁFICO 4 o SIMILAR | F5: OBRA : | G5: =+[43]DATOS!B6 -> PRESUPUESTO PARA EDIFICACIONES
B7: UNIDAD : | C7: M2
B9: I.-EQUIPO | F9: FECHA : | G9: 44378
B10: DESCRIPCION | E10: TIPO | F10: TARIFA | H10: VR/UNITARIO
B11: =+[43]Insumos!B40 -> HERRAMIENTA MENOR | D11: (5% MO) | H11: =+I39*0.05 -> 535.68389
G15: SUB-TOTAL | I15: =SUM(H11:H14) -> 535.68389
B16: II.-MATERIALES
B17: DESCRIPCION | E17: UNIDAD | F17: VALOR | G17: CANTIDAD | H17: VR/UNITARIO
B18: =+[43]Insumos!B818 -> Piso Lavra de 32x32 cm o similar. | E18: =+[43]Insumos!C818 -> M2 | F18: =+[43]Insumos!D818 -> 25647 | G18: 1 | H18: =+F18*G18 -> 25647
B19: =+[43]Insumos!B428 -> EMBOQUILLADOR | E19: =+[43]Insumos!C428 -> Kg | F19: =+[43]Insumos!D428 -> 5145 | G19: 0.35 | H19: =+F19*G19 -> 1800.75
B20: =+[43]Insumos!B819 -> PEGACOR GRIS 25KG | E20: =+[43]Insumos!C819 -> Kg | F20: =+[43]Insumos!D819 -> 1232 | G20: 3 | H20: =+F20*G20 -> 3696
B21: =+[43]Insumos!B442 -> WAIPE | E21: =+[43]Insumos!C442 -> Kg | F21: =+[43]Insumos!D442 -> 5665 | G21: 0.1 | H21: =+F21*G21 -> 566.5
B22: =+[43]Insumos!B820 -> BOQUILLA 2Kg | E22: =+[43]Insumos!C820 -> Kg | F22: =+[43]Insumos!D820 -> 6644 | G22: 0.004 | H22: =+F22*G22 -> 26.576
G26: SUB-TOTAL | I26: =SUM(H18:H25) -> 31736.826
B27: III.-TRANSPORTE
B28: DESCRIPCION | D28: VOLUMEN | E28: DISTANCIA | F28: M3-KM | G28: TARIFA | H28: VR/UNITARIO
G32: SUB-TOTAL
B33: IV.-MANO DE OBRA
B34: DESCRIPCION | D34: JORNAL | E34: PRESTAC. | F34: JOR.TOTAL | G34: RENDI. | H34: VR/UNITARIO
B35: =+[43]CUADRILLA!E72 -> CUADRILLA No.11 | D35: =+[43]CUADRILLA!G72 -> 84581.667 | E35: =[43]DATOS!B15 -> 1.9 | F35: =D35*E35 -> 160705.17 | G35: 15 | H35: =F35/G35 -> 10713.678
G39: SUB-TOTAL | I39: =SUM(H35:H38) -> 10713.678
D41: TOTAL COSTO DIRECTO | I41: =ROUND(SUM(I15:I39),0) -> 42986
B42: V.-COSTOS INDIRECTOS
B43: DESCRIPCION | G43: % | H43: VR/TOTAL
B44: ADMINISTRACION | G44: =+[43]DATOS!B10 -> 0.25 | H44: =$I$41*G44 -> 10746.5
B45: IMPREVISTOS | G45: =+[43]DATOS!B11 -> 0.02 | H45: =$I$41*G45 -> 859.72
B46: UTILIDAD | G46: =+[43]DATOS!B12 -> 0.05 | H46: =$I$41*G46 -> 2149.3
G48: SUB-TOTAL | I48: =ROUND(SUM(H44:H47),0) -> 13756
D50: PRECIO UNITARIO TOTAL | I50: =ROUND(SUM(I41:I48),0) -> 56742

Sheet 1.03
B2: =+[43]DATOS!B2 -> ALCALDIA DE POPAYAN | K2: OK ACTUALIZADO
B3: =+[43]DATOS!B4 -> SECRETARIA DE INFRAESTRUCTURA | F3: ANALISIS DE PRECIOS UNITARIOS
L4: REGRESAR
B5: ITEM : | C5: SUMINISTRO E INSTALACIÓN DE GUARDA ESCOBA EN CERÁMICA LAVRA O SIMILAR TRÁFICO 4 h=7 cm | F5: OBRA : | G5: =+[43]DATOS!B6 -> PRESUPUESTO PARA EDIFICACIONES
B7: UNIDAD : | C7: m
B9: I.-EQUIPO | F9: FECHA : | G9: 44378
B10: DESCRIPCION | E10: TIPO | F10: TARIFA | H10: VR/UNITARIO
B11: =+[43]Insumos!B40 -> HERRAMIENTA MENOR | D11: (5% MO) | H11: =+I38*0.05 -> 100.44073
B12: =+[43]Insumos!B428 -> EMBOQUILLADOR | E12: =+[43]Insumos!C428 -> Kg | F12: =+[43]Insumos!D428 -> 5145 | G12: 14 | H12: =+F12/G12 -> 367.5
G15: SUB-TOTAL | I15: =SUM(H11:H14) -> 467.94073
B16: II.-MATERIALES
B17: DESCRIPCION | E17: UNIDAD | F17: VALOR | G17: CANTIDAD | H17: VR/UNITARIO
B18: =+[43]Insumos!B947 -> Guardaescoba cerámico sifín 8x41cm | E18: =+[43]Insumos!C947 -> m | F18: =+[43]Insumos!D947 -> 15000 | G18: 1 | H18: =+F18*G18 -> 15000
B19: =+[43]Insumos!B819 -> PEGACOR GRIS 25KG | E19: =+[43]Insumos!C819 -> Kg | F19: =+[43]Insumos!D819 -> 1232 | G19: 0.4 | H19: =+F19*G19 -> 492.8
B20: =+[43]Insumos!B442 -> WAIPE | E20: =+[43]Insumos!C442 -> Kg | F20: =+[43]Insumos!D442 -> 5665 | G20: 0.1 | H20: =+F20*G20 -> 566.5
B21: =+[43]Insumos!B820 -> BOQUILLA 2Kg | E21: =+[43]Insumos!C820 -> Kg | F21: =+[43]Insumos!D820 -> 6644 | G21: 0.025 | H21: =+F21*G21 -> 166.1
G25: SUB-TOTAL | I25: =SUM(H18:H24) -> 16225.4
B26: III.-TRANSPORTE
B27: DESCRIPCION | D27: VOLUMEN | E27: DISTANCIA | F27: M3-KM | G27: TARIFA | H27: VR/UNITARIO
G31: SUB-TOTAL
B32: IV.-MANO DE OBRA
B33: DESCRIPCION | D33: JORNAL | E33: PRESTAC. | F33: JOR.TOTAL | G33: RENDI. | H33: VR/UNITARIO
B34: =+[43]CUADRILLA!E72 -> CUADRILLA No.11 | D34: =+[43]CUADRILLA!G72 -> 84581.667 | E34: =[43]DATOS!B15 -> 1.9 | F34: =D34*E34 -> 160705.17 | G34: 80 | H34: =F34/G34 -> 2008.8146
G38: SUB-TOTAL | I38: =SUM(H34:H37) -> 2008.8146
D40: TOTAL COSTO DIRECTO | I40: =ROUND(SUM(I15:I38),0) -> 18702
B41: V.-COSTOS INDIRECTOS
B42: DESCRIPCION | G42: % | H42: VR/TOTAL
B43: ADMINISTRACION | G43: =+[43]DATOS!B10 -> 0.25 | H43: =$I$40*G43 -> 4675.5
B44: IMPREVISTOS | G44: =+[43]DATOS!B11 -> 0.02 | H44: =$I$40*G44 -> 374.04
B45: UTILIDAD | G45: =+[43]DATOS!B12 -> 0.05 | H45: =$I$40*G45 -> 935.1
G47: SUB-TOTAL | I47: =ROUND(SUM(H43:H46),0) -> 5985
D49: PRECIO UNITARIO TOTAL | I49: =ROUND(SUM(I40:I47),0) -> 24687

Sheet 1.04
A2: =+[42]DATOS!B2 -> ALCALDIA DE POPAYAN
A3: =+[42]DATOS!B4 -> SECRETARIA DE INFRAESTRUCTURA | E3: ANALISIS DE PRECIOS UNITARIOS
I4: REGRESAR
A5: ITEM : | B5: Aplicación de mortero 1:4 impermeabilizado sobre muros. E=2.5cm | E5: OBRA : | F5: =+[42]DATOS!B6 -> PRESUPUESTO PARA EDIFICACIONES
A7: UNIDAD : | B7: m2
A9: I.-EQUIPO | E9: FECHA : | F9: =+[42]DATOS!B8 -> 44385
A10: DESCRIPCION | D10: TIPO | E10: TARIFA | G10: VR/UNITARIO
A11: =+[42]Insumos!B40 -> HERRAMIENTA MENOR | C11: (5% MO) | G11: =+H34*0.05 -> 261.1459
A12: =+[42]Insumos!B204 -> ANDAMIOS PARALES TENSORES | D12: =+[42]Insumos!C204 -> HR | E12: =+[42]Insumos!D204 -> 12221 | F12: 0.1 | G12: =+F12*E12 -> 1222.1
F14: SUB-TOTAL | H14: =SUM(G11:G13) -> 1483.2459
A15: II.-MATERIALES
A16: DESCRIPCION | D16: UNIDAD | E16: VALOR | F16: CANTIDAD | G16: VR/UNITARIO
A17: =+[42]Insumos!B957 -> Impermeabilizante Integral Para Morteros | D17: =+[42]Insumos!C957 -> Kg | E17: =+[42]Insumos!D957 -> 12975 | F17: 0.5 | G17: =+E17*F17 -> 6487.5
A18: =+[42]CONCRETOS!E94 -> MORTERO 1:4 | D18: M3 | E18: =+[42]CONCRETOS!G94 -> 322833 | F18: 0.026 | G18: =+E18*F18 -> 8393.658
F21: SUB-TOTAL | H21: =SUM(G17:G20) -> 14881.158
A22: III.-TRANSPORTE
A23: DESCRIPCION | C23: VOLUMEN | D23: DISTANCIA | E23: M3-KM | F23: TARIFA | G23: VR/UNITARIO
F27: SUB-TOTAL
A28: IV.-MANO DE OBRA
A29: DESCRIPCION | C29: JORNAL | D29: PRESTAC. | E29: JOR.TOTAL | F29: RENDI. | G29: VR/UNITARIO
A30: =+[42]CUADRILLA!E6 -> CUADRILLA No. 01 | C30: =+[42]CUADRILLA!G6 -> 219912.33 | D30: =[42]DATOS!B15 -> 1.9 | E30: =C30*D30 -> 417833.43 | F30: 80 | G30: =E30/F30 -> 5222.9179
F34: SUB-TOTAL | H34: =SUM(G30:G33) -> 5222.9179
C36: TOTAL COSTO DIRECTO | H36: =ROUND(SUM(H14:H34),0) -> 21587
A37: V.-COSTOS INDIRECTOS
A38: DESCRIPCION | F38: % | G38: VR/TOTAL
A39: ADMINISTRACION | F39: =+[42]DATOS!B10 -> 0.25 | G39: =$H$36*F39 -> 5396.75
A40: IMPREVISTOS | F40: =+[42]DATOS!B11 -> 0.02 | G40: =$H$36*F40 -> 431.74
A41: UTILIDAD | F41: =+[42]DATOS!B12 -> 0.05 | G41: =$H$36*F41 -> 1079.35
F43: SUB-TOTAL | H43: =ROUND(SUM(G39:G42),0) -> 6908
C45: PRECIO UNITARIO TOTAL | H45: =ROUND(SUM(H36:H43),0) -> 28495

Sheet 2.01
A2: =+[42]DATOS!B2 -> ALCALDIA DE POPAYAN
A3: =+[42]DATOS!B4 -> SECRETARIA DE INFRAESTRUCTURA | E3: ANALISIS DE PRECIOS UNITARIOS
I4: REGRESAR
A5: ITEM : | B5: Suministro e instalación de acometida en cable de cobre 2F No. 10. Incluye elementos necesarios para dejar estas redes en optimas condiciones de funcionamiento y que cumpla con las especificaciones establecidas. | E5: OBRA : | F5: =+[42]DATOS!B6 -> PRESUPUESTO PARA EDIFICACIONES
A7: UNIDAD : | B7: m
A9: I.-EQUIPO | E9: FECHA : | F9: =+[42]DATOS!B8 -> 44385
A10: DESCRIPCION | D10: TIPO | E10: TARIFA | G10: VR/UNITARIO
A11: =+[42]Insumos!B40 -> HERRAMIENTA MENOR | C11: (5% MO) | G11: =+H39*0.05 -> 193.88322
A12: =+[42]Insumos!B203 -> ANDAMIO TUBULAR METALICO certificado | E12: =+[42]Insumos!D203 -> 1227 | F12: 8 | G12: =+E12/F12 -> 153.375
F14: SUB-TOTAL | H14: =SUM(G11:G13) -> 347.25822
A15: II.-MATERIALES
A16: DESCRIPCION | D16: UNIDAD | E16: VALOR | F16: CANTIDAD | G16: VR/UNITARIO
A17: =+[42]Insumos!B927 -> CAJA OCTAGONAL 100 X 100 X 47 MM | D17: =+[42]Insumos!C927 -> Un | E17: =+[42]Insumos!D927 -> 3136 | F17: 0.2 | G17: =+E17*F17 -> 627.2
A18: =+[42]Insumos!B928 -> CONECTOR RESORTE ROJO | D18: =+[42]Insumos!C928 -> Un | E18: =+[42]Insumos!D928 -> 619 | F18: 0.1 | G18: =+E18*F18 -> 61.9
A19: =+[42]Insumos!B929 -> LIMPIADOR REMOVEDOR PVC 1/4 GAL. | D19: =+[42]Insumos!C929 -> Un | E19: =+[42]Insumos!D929 -> 54658 | F19: 0.02 | G19: =+E19*F19 -> 1093.16
A20: =+[42]Insumos!B930 -> SOLDADURA PVC WET BONDING 1/8 GL. | D20: =+[42]Insumos!C930 -> Un | E20: =+[42]Insumos!D930 -> 60424 | F20: 0.02 | G20: =+E20*F20 -> 1208.48
A21: =+[42]Insumos!B931 -> TORNILLO LAMINA ZINCADO 6X3X8" | D21: =+[42]Insumos!C931 -> Un | E21: =+[42]Insumos!D931 -> 32 | F21: 2 | G21: =+E21*F21 -> 64
A22: =+[42]Insumos!B932 -> TUBO CONDUIT ½" RALCO | D22: =+[42]Insumos!C932 -> m | E22: =+[42]Insumos!D932 -> 2083 | F22: 1 | G22: =+E22*F22 -> 2083
A23: =+[42]Insumos!B933 -> ADAPTADOR TERMINAL CONDUIT 1/2" | D23: =+[42]Insumos!C933 -> Un | E23: =+[42]Insumos!D933 -> 508 | F23: 0.3 | G23: =+E23*F23 -> 152.4
A24: =+[42]Insumos!B958 -> Cable de Cobre Aislado THHN No. 10 | D24: =+[42]Insumos!C958 -> m | E24: =+[42]Insumos!D958 -> 2700 | F24: 2.2 | G24: =+E24*F24 -> 5940
F26: SUB-TOTAL | H26: =SUM(G17:G25) -> 11230.14
A27: III.-TRANSPORTE
A28: DESCRIPCION | C28: VOLUMEN | D28: DISTANCIA | E28: M3-KM | F28: TARIFA | G28: VR/UNITARIO
F32: SUB-TOTAL
A33: IV.-MANO DE OBRA
A34: DESCRIPCION | C34: JORNAL | D34: PRESTAC. | E34: JOR.TOTAL | F34: RENDI. | G34: VR/UNITARIO
A35: =+[42]CUADRILLA!E113 -> CUADRILLA No. 19 | C35: =+[42]CUADRILLA!G113 -> 102043.8 | D35: =[42]DATOS!B15 -> 1.9 | E35: =C35*D35 -> 193883.22 | F35: 50 | G35: =E35/F35 -> 3877.6644
F39: SUB-TOTAL | H39: =SUM(G35:G38) -> 3877.6644
C41: TOTAL COSTO DIRECTO | H41: =ROUND(SUM(H14:H39),0) -> 15455
A42: V.-COSTOS INDIRECTOS
A43: DESCRIPCION | F43: % | G43: VR/TOTAL
A44: ADMINISTRACION | F44: =+[42]DATOS!B10 -> 0.25 | G44: =$H$41*F44 -> 3863.75
A45: IMPREVISTOS | F45: =+[42]DATOS!B11 -> 0.02 | G45: =$H$41*F45 -> 309.1
A46: UTILIDAD | F46: =+[42]DATOS!B12 -> 0.05 | G46: =$H$41*F46 -> 772.75
F48: SUB-TOTAL | H48: =ROUND(SUM(G44:G47),0) -> 4946
C50: PRECIO UNITARIO TOTAL | H50: =ROUND(SUM(H41:H48),0) -> 20401

Sheet 2.02
A2: =+[42]DATOS!B2 -> ALCALDIA DE POPAYAN
A3: =+[42]DATOS!B4 -> SECRETARIA DE INFRAESTRUCTURA | E3: ANALISIS DE PRECIOS UNITARIOS
I4: REGRESAR
A5: ITEM : | B5: SUMINISTRO E INSTALACIÓN DE SALIDA ELÉCTRICA PARA LUMINARIA, INCLUYE ROSETA E INTERRUPTOR SENCILLO, CAJA OCTOGONAL, TUBERÍA, ALAMBRE COBRE THW 10 AWG, ADAPTADORES. L = 1ML | E5: OBRA : | F5: =+[42]DATOS!B6 -> PRESUPUESTO PARA EDIFICACIONES
A7: UNIDAD : | B7: Und
A9: I.-EQUIPO | E9: FECHA : | F9: =+[42]DATOS!B8 -> 44385
A10: DESCRIPCION | D10: TIPO | E10: TARIFA | G10: VR/UNITARIO
A11: =+[42]Insumos!B40 -> HERRAMIENTA MENOR | C11: (5% MO) | G11: =+H43*0.05 -> 1938.8322
A12: =+[42]Insumos!B203 -> ANDAMIO TUBULAR METALICO certificado | D12: =+[42]Insumos!C203 -> h | E12: =+[42]Insumos!D203 -> 1227 | F12: 5 | G12: =+E12/F12 -> 245.4
F15: SUB-TOTAL | H15: =SUM(G11:G14) -> 2184.2322
A16: II.-MATERIALES
A17: DESCRIPCION | D17: UNIDAD | E17: VALOR | F17: CANTIDAD | G17: VR/UNITARIO
A19: =+[42]Insumos!B465 -> Adaptador terminal conduit de 1/2 | D19: =+[42]Insumos!C465 -> und | E19: =+[42]Insumos!D465 -> 240 | F19: 1 | G19: =+E19*F19 -> 240
A20: =+[42]Insumos!B805 -> Alambre de cobre aislado THHN No. 10 | D20: =+[42]Insumos!C805 -> m | E20: =+[42]Insumos!D805 -> 2700 | F20: 2.2 | G20: =+E20*F20 -> 5940
A21: =+[42]Insumos!B812 -> Caja Octagonal Cal20 Galvanizada | D21: =+[42]Insumos!C812 -> Und | E21: =+[42]Insumos!D812 -> 1648 | F21: 1 | G21: =+E21*F21 -> 1648
A22: =+[42]Insumos!B557 -> Limpiador PVC | D22: =+[42]Insumos!C557 -> 1/4 gal | E22: =+[42]Insumos!D557 -> 50901 | F22: 0.015 | G22: =+E22*F22 -> 763.515
A23: =+[42]Insumos!B581 -> Soldadura Líquida PVC | D23: =+[42]Insumos!C582 -> und | E23: =+[42]Insumos!D581 -> 54549 | F23: 0.015 | G23: =+E23*F23 -> 818.235
A24: =+[42]Insumos!B710 -> Tubo PVC Conduit por 3m de 1/2" | D24: =+[42]Insumos!C710 -> m | E24: =+[42]Insumos!D710 -> 2163 | F24: 2.2 | G24: =+E24*F24 -> 4758.6
A25: =+[42]Insumos!B811 -> Curva 90x1/2 Pulgada Conduit | D25: =+[42]Insumos!C811 -> Und | E25: =+[42]Insumos!D811 -> 670 | F25: 1 | G25: =+E25*F25 -> 670
A26: =+[42]Insumos!B813 -> INTERRUPTOR SENCILLO CONMUTABLE PARA ENCENDIDO/APAGADO DE ILUMINACIÓN DE 20 A. | D26: =+[42]Insumos!C813 -> UN | E26: =+[42]Insumos!D813 -> 3760 | F26: 1 | G26: =+E26*F26 -> 3760
A27: =+[42]Insumos!B814 -> ROSETA O PLAFÓN EN PORCELANA | D27: =+[42]Insumos!C814 -> Und | E27: =+[42]Insumos!D814 -> 2987 | F27: 1 | G27: =+E27*F27 -> 2987
A28: =+[42]Insumos!B815 -> BOMBILLO PARA ROSETA LED 9,5 W | D28: =+[42]Insumos!C815 -> Und | E28: =+[42]Insumos!D815 -> 14935 | F28: 1 | G28: =+E28*F28 -> 14935
F30: SUB-TOTAL | H30: =SUM(G18:G29) -> 36520.35
A31: III.-TRANSPORTE
A32: DESCRIPCION | C32: VOLUMEN | D32: DISTANCIA | E32: M3-KM | F32: TARIFA | G32: VR/UNITARIO
F36: SUB-TOTAL
A37: IV.-MANO DE OBRA
A38: DESCRIPCION | C38: JORNAL | D38: PRESTAC. | E38: JOR.TOTAL | F38: RENDI. | G38: VR/UNITARIO
A39: =+[42]CUADRILLA!E113 -> CUADRILLA No. 19 | C39: =+[42]CUADRILLA!G113 -> 102043.8 | D39: =[42]DATOS!B15 -> 1.9 | E39: =+D39*C39 -> 193883.22 | F39: 5 | G39: =E39/F39 -> 38776.644
F43: SUB-TOTAL | H43: =SUM(G39:G42) -> 38776.644
C45: TOTAL COSTO DIRECTO | H45: =ROUND(SUM(H15:H43),0) -> 77481
A46: V.-COSTOS INDIRECTOS
A47: DESCRIPCION | F47: % | G47: VR/TOTAL
A48: ADMINISTRACION | F48: =+[42]DATOS!B10 -> 0.25 | G48: =$H$45*F48 -> 19370.25
A49: IMPREVISTOS | F49: =+[42]DATOS!B11 -> 0.02 | G49: =$H$45*F49 -> 1549.62
A50: UTILIDAD | F50: =+[42]DATOS!B12 -> 0.05 | G50: =$H$45*F50 -> 3874.05
F52: SUB-TOTAL | H52: =ROUND(SUM(G48:G51),0) -> 24794
C54: PRECIO UNITARIO TOTAL | H54: =ROUND(SUM(H45:H52),0) -> 102275

Sheet 2.03
A2: =+[44]DATOS!B2 -> ALCALDIA DE POPAYAN
A3: =+[44]DATOS!B4 -> SECRETARIA DE INFRAESTRUCTURA | E3: ANALISIS DE PRECIOS UNITARIOS
I4: REGRESAR
A5: ITEM : | B5: SALIDA TOMA ELÉCTRICA, INCLUYE TOMA, CAJA 5800, TUBERÍA, ALAMBRE DE COBRE THW 10 AWG. ADAPTADORES. L=1m | E5: OBRA : | F5: =+[44]DATOS!B6 -> PRESUPUESTO PARA EDIFICACIONES
A7: UNIDAD : | B7: Und
A9: I.-EQUIPO | E9: FECHA : | F9: =+[44]DATOS!B8 -> 44385
A10: DESCRIPCION | D10: TIPO | E10: TARIFA | G10: VR/UNITARIO
A11: =+[44]Insumos!B40 -> HERRAMIENTA MENOR | C11: (5% MO) | G11: =+H40*0.05 -> 1938.8322
F15: SUB-TOTAL | H15: =SUM(G11:G14) -> 1938.8322
A16: II.-MATERIALES
A17: DESCRIPCION | D17: UNIDAD | E17: VALOR | F17: CANTIDAD | G17: VR/UNITARIO
A19: =+[44]Insumos!B465 -> Adaptador terminal conduit de 1/2 | D19: =+[44]Insumos!C465 -> und | E19: =+[44]Insumos!D465 -> 240 | F19: 1 | G19: =+E19*F19 -> 240
A20: =+[44]Insumos!B805 -> Alambre de cobre aislado THHN No. 10 | D20: =+[44]Insumos!C805 -> m | E20: =+[44]Insumos!D805 -> 2700 | F20: 2.2 | G20: =+E20*F20 -> 5940
A21: =+[44]Insumos!B808 -> CAJA GALVANIZADA 5800 CL. 20 | D21: =+[44]Insumos!C808 -> UN | E21: =+[44]Insumos!D808 -> 1751 | F21: 1 | G21: =+E21*F21 -> 1751
A22: =+[44]Insumos!B557 -> Limpiador PVC | D22: =+[44]Insumos!C557 -> 1/4 gal | E22: =+[44]Insumos!D557 -> 50901 | F22: 0.015 | G22: =+E22*F22 -> 763.515
A23: =+[44]Insumos!B581 -> Soldadura Líquida PVC | D23: =+[44]Insumos!C582 -> und | E23: =+[44]Insumos!D581 -> 54549 | F23: 0.015 | G23: =+E23*F23 -> 818.235
A24: =+[44]Insumos!B710 -> Tubo PVC Conduit por 3m de 1/2" | D24: =+[44]Insumos!C710 -> m | E24: =+[44]Insumos!D710 -> 2163 | F24: 2.2 | G24: =+E24*F24 -> 4758.6
A25: =+[44]Insumos!B811 -> Curva 90x1/2 Pulgada Conduit | D25: =+[44]Insumos!C811 -> Und | E25: =+[44]Insumos!D811 -> 670 | F25: 1 | G25: =+E25*F25 -> 670
A26: =+[44]Insumos!B810 -> TOMACORRIENTE CON CONEXIÓN A TIERRA, BIFÁSICOS, DOS POLOS, 3 HILOS, 20 A | D26: =+[44]Insumos!C810 -> UN | E26: =+[44]Insumos!D810 -> 7828 | F26: 1 | G26: =+E26*F26 -> 7828
F27: SUB-TOTAL | H27: =SUM(G18:G26) -> 22769.35
A28: III.-TRANSPORTE
A29: DESCRIPCION | C29: VOLUMEN | D29: DISTANCIA | E29: M3-KM | F29: TARIFA | G29: VR/UNITARIO
F33: SUB-TOTAL
A34: IV.-MANO DE OBRA
A35: DESCRIPCION | C35: JORNAL | D35: PRESTAC. | E35: JOR.TOTAL | F35: RENDI. | G35: VR/UNITARIO
A36: =+[44]CUADRILLA!E113 -> CUADRILLA No. 19 | C36: =+[44]CUADRILLA!G113 -> 102043.8 | D36: =[44]DATOS!B15 -> 1.9 | E36: =+D36*C36 -> 193883.22 | F36: 5 | G36: =E36/F36 -> 38776.644
F40: SUB-TOTAL | H40: =SUM(G36:G39) -> 38776.644
C42: TOTAL COSTO DIRECTO | H42: =ROUND(SUM(H15:H40),0) -> 63485
A43: V.-COSTOS INDIRECTOS
A44: DESCRIPCION | F44: % | G44: VR/TOTAL
A45: ADMINISTRACION | F45: =+[44]DATOS!B10 -> 0.25 | G45: =$H$42*F45 -> 15871.25
A46: IMPREVISTOS | F46: =+[44]DATOS!B11 -> 0.02 | G46: =$H$42*F46 -> 1269.7
A47: UTILIDAD | F47: =+[44]DATOS!B12 -> 0.05 | G47: =$H$42*F47 -> 3174.25
F49: SUB-TOTAL | H49: =ROUND(SUM(G45:G48),0) -> 20315
C51: PRECIO UNITARIO TOTAL | H51: =ROUND(SUM(H42:H49),0) -> 83800

Sheet 2.04
A2: =+[44]DATOS!B2 -> ALCALDIA DE POPAYAN
A3: =+[44]DATOS!B4 -> SECRETARIA DE INFRAESTRUCTURA | E3: ANALISIS DE PRECIOS UNITARIOS
I4: REGRESAR
A5: ITEM : | B5: Suministro e instalación de acometida en cable de cobre 2F No. 10. Incluye elementos necesarios para dejar estas redes en optimas condiciones de funcionamiento y que cumpla con las especificaciones establecidas. | E5: OBRA : | F5: =+[44]DATOS!B6 -> PRESUPUESTO PARA EDIFICACIONES
A7: UNIDAD : | B7: m
A9: I.-EQUIPO | E9: FECHA : | F9: =+[44]DATOS!B8 -> 44385
A10: DESCRIPCION | D10: TIPO | E10: TARIFA | G10: VR/UNITARIO
A11: =+[44]Insumos!B40 -> HERRAMIENTA MENOR | C11: (5% MO) | G11: =+H39*0.05 -> 193.88322
A12: =+[44]Insumos!B203 -> ANDAMIO TUBULAR METALICO certificado | E12: =+[44]Insumos!D203 -> 1227 | F12: 8 | G12: =+E12/F12 -> 153.375
F14: SUB-TOTAL | H14: =SUM(G11:G13) -> 347.25822
A15: II.-MATERIALES
A16: DESCRIPCION | D16: UNIDAD | E16: VALOR | F16: CANTIDAD | G16: VR/UNITARIO
A17: =+[44]Insumos!B927 -> CAJA OCTAGONAL 100 X 100 X 47 MM | D17: =+[44]Insumos!C927 -> Un | E17: =+[44]Insumos!D927 -> 3136 | F17: 0.2 | G17: =+E17*F17 -> 627.2
A18: =+[44]Insumos!B928 -> CONECTOR RESORTE ROJO | D18: =+[44]Insumos!C928 -> Un | E18: =+[44]Insumos!D928 -> 619 | F18: 0.1 | G18: =+E18*F18 -> 61.9
A19: =+[44]Insumos!B929 -> LIMPIADOR REMOVEDOR PVC 1/4 GAL. | D19: =+[44]Insumos!C929 -> Un | E19: =+[44]Insumos!D929 -> 54658 | F19: 0.02 | G19: =+E19*F19 -> 1093.16
A20: =+[44]Insumos!B930 -> SOLDADURA PVC WET BONDING 1/8 GL. | D20: =+[44]Insumos!C930 -> Un | E20: =+[44]Insumos!D930 -> 60424 | F20: 0.02 | G20: =+E20*F20 -> 1208.48
A21: =+[44]Insumos!B931 -> TORNILLO LAMINA ZINCADO 6X3X8" | D21: =+[44]Insumos!C931 -> Un | E21: =+[44]Insumos!D931 -> 32 | F21: 2 | G21: =+E21*F21 -> 64
A22: =+[44]Insumos!B932 -> TUBO CONDUIT ½" RALCO | D22: =+[44]Insumos!C932 -> m | E22: =+[44]Insumos!D932 -> 2083 | F22: 1 | G22: =+E22*F22 -> 2083
A23: =+[44]Insumos!B933 -> ADAPTADOR TERMINAL CONDUIT 1/2" | D23: =+[44]Insumos!C933 -> Un | E23: =+[44]Insumos!D933 -> 508 | F23: 0.3 | G23: =+E23*F23 -> 152.4
A24: =+[44]Insumos!B958 -> Cable de Cobre Aislado THHN No. 10 | D24: =+[44]Insumos!C958 -> m | E24: =+[44]Insumos!D958 -> 2700 | F24: 2.2 | G24: =+E24*F24 -> 5940
F26: SUB-TOTAL | H26: =SUM(G17:G25) -> 11230.14
A27: III.-TRANSPORTE
A28: DESCRIPCION | C28: VOLUMEN | D28: DISTANCIA | E28: M3-KM | F28: TARIFA | G28: VR/UNITARIO
F32: SUB-TOTAL
A33: IV.-MANO DE OBRA
A34: DESCRIPCION | C34: JORNAL | D34: PRESTAC. | E34: JOR.TOTAL | F34: RENDI. | G34: VR/UNITARIO
A35: =+[44]CUADRILLA!E113 -> CUADRILLA No. 19 | C35: =+[44]CUADRILLA!G113 -> 102043.8 | D35: =[44]DATOS!B15 -> 1.9 | E35: =C35*D35 -> 193883.22 | F35: 50 | G35: =E35/F35 -> 3877.6644
F39: SUB-TOTAL | H39: =SUM(G35:G38) -> 3877.6644
C41: TOTAL COSTO DIRECTO | H41: =ROUND(SUM(H14:H39),0) -> 15455
A42: V.-COSTOS INDIRECTOS
A43: DESCRIPCION | F43: % | G43: VR/TOTAL
A44: ADMINISTRACION | F44: =+[44]DATOS!B10 -> 0.25 | G44: =$H$41*F44 -> 3863.75
A45: IMPREVISTOS | F45: =+[44]DATOS!B11 -> 0.02 | G45: =$H$41*F45 -> 309.1
A46: UTILIDAD | F46: =+[44]DATOS!B12 -> 0.05 | G46: =$H$41*F46 -> 772.75
F48: SUB-TOTAL | H48: =ROUND(SUM(G44:G47),0) -> 4946
C50: PRECIO UNITARIO TOTAL | H50: =ROUND(SUM(H41:H48),0) -> 20401

Sheet 2.05
A2: =+[43]DATOS!B2 -> ALCALDIA DE POPAYAN | I2: OK ACTUALIZADO
A3: =+[43]DATOS!B4 -> SECRETARIA DE INFRAESTRUCTURA | E3: ANALISIS DE PRECIOS UNITARIOS
J4: REGRESAR
A5: ITEM : | B5: Suministro e instalación de acometida en cable de cobre 2F No. 12. Incluye elementos necesarios para dejar estas redes en optimas condiciones de funcionamiento y que cumpla con las especificaciones establecidas. | E5: OBRA : | F5: =+[43]DATOS!B6 -> PRESUPUESTO PARA EDIFICACIONES
A7: UNIDAD : | B7: m
A9: I.-EQUIPO | E9: FECHA : | F9: =+'[44]5.P1'!$F$9 -> 44385
A10: DESCRIPCION | D10: TIPO | E10: TARIFA | G10: VR/UNITARIO
A11: =+[43]Insumos!B40 -> HERRAMIENTA MENOR | C11: (5% MO) | G11: =+H39*0.05 -> 131.77494
A12: =+[43]Insumos!B200 -> ANDAMIO TUBULAR METALICO certificado | E12: =+[43]Insumos!D200 -> 1227 | F12: 8 | G12: =+E12/F12 -> 153.375
F14: SUB-TOTAL | H14: =SUM(G11:G13) -> 285.14994
A15: II.-MATERIALES
A16: DESCRIPCION | D16: UNIDAD | E16: VALOR | F16: CANTIDAD | G16: VR/UNITARIO
A17: =+[43]Insumos!B919 -> CAJA OCTAGONAL 100 X 100 X 47 MM | D17: =+[43]Insumos!C919 -> Un | E17: =+[43]Insumos!D919 -> 3136 | F17: 0.2 | G17: =+E17*F17 -> 627.2
A18: =+[43]Insumos!B920 -> CONECTOR RESORTE ROJO | D18: =+[43]Insumos!C920 -> Un | E18: =+[43]Insumos!D920 -> 619 | F18: 0.1 | G18: =+E18*F18 -> 61.9
A19: =+[43]Insumos!B921 -> LIMPIADOR REMOVEDOR PVC 1/4 GAL. | D19: =+[43]Insumos!C921 -> Un | E19: =+[43]Insumos!D921 -> 54658 | F19: 0.02 | G19: =+E19*F19 -> 1093.16
A20: =+[43]Insumos!B922 -> SOLDADURA PVC WET BONDING 1/8 GL. | D20: =+[43]Insumos!C922 -> Un | E20: =+[43]Insumos!D922 -> 60424 | F20: 0.02 | G20: =+E20*F20 -> 1208.48
A21: =+[43]Insumos!B923 -> TORNILLO LAMINA ZINCADO 6X3X8" | D21: =+[43]Insumos!C923 -> Un | E21: =+[43]Insumos!D923 -> 32 | F21: 2 | G21: =+E21*F21 -> 64
A22: =+[43]Insumos!B924 -> TUBO CONDUIT ½" RALCO | D22: =+[43]Insumos!C924 -> m | E22: =+[43]Insumos!D924 -> 2083 | F22: 1 | G22: =+E22*F22 -> 2083
A23: =+[43]Insumos!B925 -> ADAPTADOR TERMINAL CONDUIT 1/2" | D23: =+[43]Insumos!C925 -> Un | E23: =+[43]Insumos!D925 -> 508 | F23: 0.3 | G23: =+E23*F23 -> 152.4
A24: Cable de cobre asilado THHN No. 12 | D24: =+[43]Insumos!C949 -> m | E24: 2350 | F24: 2.2 | G24: =+E24*F24 -> 5170
F26: SUB-TOTAL | H26: =SUM(G17:G25) -> 10460.14
A27: III.-TRANSPORTE
A28: DESCRIPCION | C28: VOLUMEN | D28: DISTANCIA | E28: M3-KM | F28: TARIFA | G28: VR/UNITARIO
F32: SUB-TOTAL
A33: IV.-MANO DE OBRA
A34: DESCRIPCION | C34: JORNAL | D34: PRESTAC. | E34: JOR.TOTAL | F34: RENDI. | G34: VR/UNITARIO
A35: =+[43]CUADRILLA!E113 -> CUADRILLA No. 19 | C35: =+[43]CUADRILLA!G113 -> 69355.233 | D35: =[43]DATOS!B15 -> 1.9 | E35: =C35*D35 -> 131774.94 | F35: 50 | G35: =E35/F35 -> 2635.4989
F39: SUB-TOTAL | H39: =SUM(G35:G38) -> 2635.4989
C41: TOTAL COSTO DIRECTO | H41: =ROUND(SUM(H14:H39),0) -> 13381
A42: V.-COSTOS INDIRECTOS
A43: DESCRIPCION | F43: % | G43: VR/TOTAL
A44: ADMINISTRACION | F44: =+[43]DATOS!B10 -> 0.25 | G44: =$H$41*F44 -> 3345.25
A45: IMPREVISTOS | F45: =+[43]DATOS!B11 -> 0.02 | G45: =$H$41*F45 -> 267.62
A46: UTILIDAD | F46: =+[43]DATOS!B12 -> 0.05 | G46: =$H$41*F46 -> 669.05
F48: SUB-TOTAL | H48: =ROUND(SUM(G44:G47),0) -> 4282
C50: PRECIO UNITARIO TOTAL | H50: =ROUND(SUM(H41:H48),0) -> 17663

Sheet 2.06
A2: =+[42]DATOS!B2 -> ALCALDIA DE POPAYAN | I2: OK ACTUALIZADO
A3: =+[42]DATOS!B4 -> SECRETARIA DE INFRAESTRUCTURA | E3: ANALISIS DE PRECIOS UNITARIOS
J4: REGRESAR
A5: ITEM : | B5: SUMINISTRO E INSTALACIÓN DE MEDIDOR DE ENERGÍA ELÉCTRICA MONOFÁSICO, INCLUYE CAJA DE PROTECCIÓN, CAJA TABLERO CT 4 CIRCUITOS Y TACOS DE 20 A | E5: OBRA : | F5: =+[42]DATOS!B6 -> PRESUPUESTO PARA EDIFICACIONES
A7: UNIDAD : | B7: Und
A9: I.-EQUIPO | E9: FECHA : | F9: =+[42]DATOS!B8 -> 44385
A10: DESCRIPCION | D10: TIPO | E10: TARIFA | G10: VR/UNITARIO
A11: =+[42]Insumos!B40 -> HERRAMIENTA MENOR | C11: (5% MO) | G11: =+H42*0.05 -> 4847.0805
F15: SUB-TOTAL | H15: =SUM(G11:G14) -> 4847.0805
A16: II.-MATERIALES
A17: DESCRIPCION | D17: UNIDAD | E17: VALOR | F17: CANTIDAD | G17: VR/UNITARIO
A19: =+[42]Insumos!B816 -> MEDIDOR DE ENERGIA MONOFASICO | D19: =+[42]Insumos!C816 -> UN | E19: =+[42]Insumos!D816 -> 92597 | F19: 1 | G19: =+E19*F19 -> 92597
A20: =+[42]Insumos!B818 -> CAJA PARA MEDIDOR MONOFÁSICO O TRIFÁSICO DE ENERGÍA 320X200X160mm. INCLUYE TOTALIZADOR DE 3X30A Y PROTECCIÓN PARA MEDIDOR DE 3X30A | D20: =+[42]Insumos!C818 -> UN | E20: =+[42]Insumos!D818 -> 89610 | F20: 1 | G20: =+E20*F20 -> 89610
A21: =+[42]Insumos!B819 -> CAJA TABLERO CT 4 CIRCUITOS | D21: =+[42]Insumos!C819 -> UN | E21: =+[42]Insumos!D819 -> 44496 | F21: 1 | G21: =+E21*F21 -> 44496
A22: =+[42]Insumos!B820 -> Taco 1 polo 20 amperios | D22: =+[42]Insumos!C820 -> UN | E22: =+[42]Insumos!D820 -> 22000 | F22: 2 | G22: =+E22*F22 -> 44000
F29: SUB-TOTAL | H29: =SUM(G18:G28) -> 270703
A30: III.-TRANSPORTE
A31: DESCRIPCION | C31: VOLUMEN | D31: DISTANCIA | E31: M3-KM | F31: TARIFA | G31: VR/UNITARIO
F35: SUB-TOTAL
A36: IV.-MANO DE OBRA
A37: DESCRIPCION | C37: JORNAL | D37: PRESTAC. | E37: JOR.TOTAL | F37: RENDI. | G37: VR/UNITARIO
A38: =+[42]CUADRILLA!E113 -> CUADRILLA No. 19 | C38: =+[42]CUADRILLA!G113 -> 102043.8 | D38: =[42]DATOS!B15 -> 1.9 | E38: =+D38*C38 -> 193883.22 | F38: 2 | G38: =E38/F38 -> 96941.61
F42: SUB-TOTAL | H42: =SUM(G38:G41) -> 96941.61
C44: TOTAL COSTO DIRECTO | H44: =ROUND(SUM(H15:H42),0) -> 372492
A45: V.-COSTOS INDIRECTOS
A46: DESCRIPCION | F46: % | G46: VR/TOTAL
A47: ADMINISTRACION | F47: =+[42]DATOS!B10 -> 0.25 | G47: =$H$44*F47 -> 93123
A48: IMPREVISTOS | F48: =+[42]DATOS!B11 -> 0.02 | G48: =$H$44*F48 -> 7449.84
A49: UTILIDAD | F49: =+[42]DATOS!B12 -> 0.05 | G49: =$H$44*F49 -> 18624.6
F51: SUB-TOTAL | H51: =ROUND(SUM(G47:G50),0) -> 119197
C53: PRECIO UNITARIO TOTAL | H53: =ROUND(SUM(H44:H51),0) -> 491689

Sheet 2.07
A2: =+[42]DATOS!B2 -> ALCALDIA DE POPAYAN
A3: =+[42]DATOS!B4 -> SECRETARIA DE INFRAESTRUCTURA | E3: ANALISIS DE PRECIOS UNITARIOS
I4: REGRESAR
A5: ITEM : | B5: Suministro e instalación de tubería hidráulica de en PVC RDE 9 de 1/2". | E5: OBRA : | F5: =+[42]DATOS!B6 -> PRESUPUESTO PARA EDIFICACIONES
A7: UNIDAD : | B7: m
A9: I.-EQUIPO | E9: FECHA : | F9: =+[42]DATOS!B8 -> 44385
A10: DESCRIPCION | D10: TIPO | E10: TARIFA | G10: VR/UNITARIO
A11: =+[42]Insumos!B40 -> HERRAMIENTA MENOR | C11: (5% MO) | G11: =+H35*0.05 -> 80.352583
F15: SUB-TOTAL | H15: =SUM(G11:G14) -> 80.352583
A16: II.-MATERIALES
A17: DESCRIPCION | D17: UNIDAD | E17: VALOR | F17: CANTIDAD | G17: VR/UNITARIO
A18: =+[42]Insumos!B688 -> Tubería PVC presión de 1/2" RDE 9 | D18: =+[42]Insumos!C688 -> m | E18: =+[42]Insumos!D688 -> 4205 | F18: 1 | G18: =+E18*F18 -> 4205
A19: =+[42]Insumos!B581 -> Soldadura Líquida PVC | D19: =+[42]Insumos!C580 -> und | E19: =+[42]Insumos!D581 -> 54549 | F19: 0.002 | G19: =+E19*F19 -> 109.098
A20: =+[42]Insumos!B557 -> Limpiador PVC | D20: =+[42]Insumos!C557 -> 1/4 gal | E20: =+[42]Insumos!D557 -> 50901 | F20: 0.002 | G20: =+E20*F20 -> 101.802
A21: =+[42]Insumos!B502 -> Codo 90° Presión de 1/2" | D21: =+[42]Insumos!C502 -> und | E21: =+[42]Insumos!D502 -> 681 | F21: 0.5 | G21: =+E21*F21 -> 340.5
F22: SUB-TOTAL | H22: =SUM(G18:G21) -> 4756.4
A23: III.-TRANSPORTE
A24: DESCRIPCION | C24: VOLUMEN | D24: DISTANCIA | E24: M3-KM | F24: TARIFA | G24: VR/UNITARIO
F28: SUB-TOTAL
A29: IV.-MANO DE OBRA
A30: DESCRIPCION | C30: JORNAL | D30: PRESTAC. | E30: JOR.TOTAL | F30: RENDI. | G30: VR/UNITARIO
A31: =+[42]CUADRILLA!E72 -> CUADRILLA No.11 | C31: =+[42]CUADRILLA!G72 -> 84581.667 | D31: =[42]DATOS!B15 -> 1.9 | E31: =C31*D31 -> 160705.17 | F31: 100 | G31: =E31/F31 -> 1607.0517
F35: SUB-TOTAL | H35: =SUM(G31:G34) -> 1607.0517
C37: TOTAL COSTO DIRECTO | H37: =ROUND(SUM(H15:H35),0) -> 6444
A38: V.-COSTOS INDIRECTOS
A39: DESCRIPCION | F39: % | G39: VR/TOTAL
A40: ADMINISTRACION | F40: =+[42]DATOS!B10 -> 0.25 | G40: =$H$37*F40 -> 1611
A41: IMPREVISTOS | F41: =+[42]DATOS!B11 -> 0.02 | G41: =$H$37*F41 -> 128.88
A42: UTILIDAD | F42: =+[42]DATOS!B12 -> 0.05 | G42: =$H$37*F42 -> 322.2
F44: SUB-TOTAL | H44: =ROUND(SUM(G40:G43),0) -> 2062
C46: PRECIO UNITARIO TOTAL | H46: =ROUND(SUM(H37:H44),0) -> 8506

Sheet 2.08
A2: =+[43]DATOS!B2 -> ALCALDIA DE POPAYAN | I2: OK ACTUALIZADO
A3: =+[43]DATOS!B4 -> SECRETARIA DE INFRAESTRUCTURA | E3: ANALISIS DE PRECIOS UNITARIOS
J4: REGRESAR
A5: ITEM : | B5: Construcción de Punto Hco de agua fría en tubería de PVC de 1/2 in. L=1m | E5: OBRA : | F5: =+[43]DATOS!B6 -> PRESUPUESTO PARA EDIFICACIONES
A7: UNIDAD : | B7: Und
A9: I.-EQUIPO | E9: FECHA : | F9: =+'[44]5.P1'!$F$9 -> 44385
A10: DESCRIPCION | D10: TIPO | E10: TARIFA | G10: VR/UNITARIO
A11: =+[43]Insumos!B40 -> HERRAMIENTA MENOR | C11: (5% MO) | G11: =+H39*0.05 -> 1339.2097
F15: SUB-TOTAL | H15: =SUM(G11:G14) -> 1339.2097
A16: II.-MATERIALES
A17: DESCRIPCION | D17: UNIDAD | E17: VALOR | F17: CANTIDAD | G17: VR/UNITARIO
A18: =+[43]Insumos!B454 -> Adaptador Macho Presión de 1/2" | D18: =+[43]Insumos!C454 -> und | E18: =+[43]Insumos!D454 -> 515 | F18: 1 | G18: =+E18*F18 -> 515
A19: =+[43]Insumos!B499 -> Codo 90° Presión de 1/2" | D19: =+[43]Insumos!C499 -> und | E19: =+[43]Insumos!D499 -> 681 | F19: 2 | G19: =+E19*F19 -> 1362
A20: =+[43]Insumos!B554 -> Limpiador PVC | D20: =+[43]Insumos!C554 -> 1/4 gal | E20: =+[43]Insumos!D554 -> 50901 | F20: 0.01 | G20: =+E20*F20 -> 509.01
A21: =+[43]Insumos!B760 -> Cinta teflón 10 m | D21: =+[43]Insumos!C760 -> und | E21: =+[43]Insumos!D760 -> 515 | F21: 0.25 | G21: =+E21*F21 -> 128.75
A22: =+[43]Insumos!B684 -> Tubería PVC presión de 1/2" RDE 9 | D22: =+[43]Insumos!C684 -> m | E22: =+[43]Insumos!D684 -> 4205 | F22: 1 | G22: =+E22*F22 -> 4205
A23: =+[43]Insumos!B577 -> Soldadura Líquida PVC | D23: =+[43]Insumos!C734 -> und | E23: =+[43]Insumos!D577 -> 54549 | F23: 0.005 | G23: =+E23*F23 -> 272.745
A24: =+[43]Insumos!B587 -> Tapón presión PVC 1/2 | D24: =+[43]Insumos!C587 -> und | E24: =+[43]Insumos!D587 -> 359 | F24: 1 | G24: =+E24*F24 -> 359
A25: =+[43]Insumos!B631 -> Tee PVC presión 1/2" | D25: =+[43]Insumos!C631 -> und | E25: =+[43]Insumos!D631 -> 515 | F25: 1 | G25: =+E25*F25 -> 515
F26: SUB-TOTAL | H26: =SUM(G18:G25) -> 7866.505
A27: III.-TRANSPORTE
A28: DESCRIPCION | C28: VOLUMEN | D28: DISTANCIA | E28: M3-KM | F28: TARIFA | G28: VR/UNITARIO
F32: SUB-TOTAL
A33: IV.-MANO DE OBRA
A34: DESCRIPCION | C34: JORNAL | D34: PRESTAC. | E34: JOR.TOTAL | F34: RENDI. | G34: VR/UNITARIO
A35: =+[43]CUADRILLA!E72 -> CUADRILLA No.11 | C35: =+[43]CUADRILLA!G72 -> 84581.667 | D35: =[43]DATOS!B15 -> 1.9 | E35: =C35*D35 -> 160705.17 | F35: 6 | G35: =E35/F35 -> 26784.194
F39: SUB-TOTAL | H39: =SUM(G35:G38) -> 26784.194
C41: TOTAL COSTO DIRECTO | H41: =ROUND(SUM(H15:H39),0) -> 35990
A42: V.-COSTOS INDIRECTOS
A43: DESCRIPCION | F43: % | G43: VR/TOTAL
A44: ADMINISTRACION | F44: =+[43]DATOS!B10 -> 0.25 | G44: =$H$41*F44 -> 8997.5
A45: IMPREVISTOS | F45: =+[43]DATOS!B11 -> 0.02 | G45: =$H$41*F45 -> 719.8
A46: UTILIDAD | F46: =+[43]DATOS!B12 -> 0.05 | G46: =$H$41*F46 -> 1799.5
F48: SUB-TOTAL | H48: =ROUND(SUM(G44:G47),0) -> 11517
C50: PRECIO UNITARIO TOTAL | H50: =ROUND(SUM(H41:H48),0) -> 47507

Sheet 2.09
A2: =+[42]DATOS!B2 -> ALCALDIA DE POPAYAN
A3: =+[42]DATOS!B4 -> SECRETARIA DE INFRAESTRUCTURA | E3: ANALISIS DE PRECIOS UNITARIOS
I4: REGRESAR
A5: ITEM : | B5: Construcción de punto sanitario en PVC de 3 in. Incluye accesorios de instalación. | E5: OBRA : | F5: =+[42]DATOS!B6 -> PRESUPUESTO PARA EDIFICACIONES
A7: UNIDAD : | B7: Und
A9: I.-EQUIPO | E9: FECHA : | F9: =+[42]DATOS!B8 -> 44385
A10: DESCRIPCION | D10: TIPO | E10: TARIFA | G10: VR/UNITARIO
A11: =+[42]Insumos!B40 -> HERRAMIENTA MENOR | C11: (5% MO) | G11: =+H35*0.05 -> 1004.4073
F15: SUB-TOTAL | H15: =SUM(G11:G14) -> 1004.4073
A16: II.-MATERIALES
A17: DESCRIPCION | D17: UNIDAD | E17: VALOR | F17: CANTIDAD | G17: VR/UNITARIO
A18: =+[42]Insumos!B559 -> Sifón St 3" | D18: =+[42]Insumos!C559 -> und | E18: =+[42]Insumos!D559 -> 11433 | F18: 1 | G18: =+E18*F18 -> 11433
A19: =+[42]Insumos!B712 -> Tubo Sanitario PVC 3" | D19: =+[42]Insumos!C712 -> m | E19: =+[42]Insumos!D712 -> 18700 | F19: 1.2 | G19: =+E19*F19 -> 22440
A20: =+[42]Insumos!B581 -> Soldadura Líquida PVC | D20: =+[42]Insumos!C580 -> und | E20: =+[42]Insumos!D581 -> 54549 | F20: 0.01 | G20: =+E20*F20 -> 545.49
A21: =+[42]Insumos!B557 -> Limpiador PVC | D21: =+[42]Insumos!C557 -> 1/4 gal | E21: =+[42]Insumos!D557 -> 50901 | F21: 0.1 | G21: =+E21*F21 -> 5090.1
F22: SUB-TOTAL | H22: =SUM(G18:G21) -> 39508.59
A23: III.-TRANSPORTE
A24: DESCRIPCION | C24: VOLUMEN | D24: DISTANCIA | E24: M3-KM | F24: TARIFA | G24: VR/UNITARIO
F28: SUB-TOTAL
A29: IV.-MANO DE OBRA
A30: DESCRIPCION | C30: JORNAL | D30: PRESTAC. | E30: JOR.TOTAL | F30: RENDI. | G30: VR/UNITARIO
A31: =+[42]CUADRILLA!E72 -> CUADRILLA No.11 | C31: =+[42]CUADRILLA!G72 -> 84581.667 | D31: =[42]DATOS!B15 -> 1.9 | E31: =C31*D31 -> 160705.17 | F31: 8 | G31: =E31/F31 -> 20088.146
F35: SUB-TOTAL | H35: =SUM(G31:G34) -> 20088.146
C37: TOTAL COSTO DIRECTO | H37: =ROUND(SUM(H15:H35),0) -> 60601
A38: V.-COSTOS INDIRECTOS
A39: DESCRIPCION | F39: % | G39: VR/TOTAL
A40: ADMINISTRACION | F40: =+[42]DATOS!B10 -> 0.25 | G40: =$H$37*F40 -> 15150.25
A41: IMPREVISTOS | F41: =+[42]DATOS!B11 -> 0.02 | G41: =$H$37*F41 -> 1212.02
A42: UTILIDAD | F42: =+[42]DATOS!B12 -> 0.05 | G42: =$H$37*F42 -> 3030.05
F44: SUB-TOTAL | H44: =ROUND(SUM(G40:G43),0) -> 19392
C46: PRECIO UNITARIO TOTAL | H46: =ROUND(SUM(H37:H44),0) -> 79993

Sheet 2.10
A2: =+[43]DATOS!B2 -> ALCALDIA DE POPAYAN | I2: OK ACTUALIZADO
A3: =+[43]DATOS!B4 -> SECRETARIA DE INFRAESTRUCTURA | E3: ANALISIS DE PRECIOS UNITARIOS
J4: REGRESAR
A5: ITEM : | B5: SUMINISTRO E INSTALACIÓN DE MEDIDOR DE AGUA DE 1/2" | E5: OBRA : | F5: =+[43]DATOS!B6 -> PRESUPUESTO PARA EDIFICACIONES
A7: UNIDAD : | B7: Und
A9: I.-EQUIPO | E9: FECHA : | F9: =+'[44]5.P1'!$F$9 -> 44385
A10: DESCRIPCION | D10: TIPO | E10: TARIFA | G10: VR/UNITARIO
A11: =+[43]Insumos!B40 -> HERRAMIENTA MENOR | C11: (5% MO) | G11: =+H37*0.05 -> 401.76292
F15: SUB-TOTAL | H15: =SUM(G11:G14) -> 401.76292
A16: II.-MATERIALES
A17: DESCRIPCION | D17: UNIDAD | E17: VALOR | F17: CANTIDAD | G17: VR/UNITARIO
A18: =+[43]Insumos!B764 -> MEDIDOR DE AGUA POTABLE DE 1/2" | D18: =+[43]Insumos!C764 -> Und | E18: =+[43]Insumos!D764 -> 154500 | F18: 1 | G18: =+E18*F18 -> 154500
A19: =+[43]Insumos!B765 -> CAJA Y TAPA DE FUNDICIÓN DÚCTIL DE 30x30 CM, SGÚN COMPAÑÍA SUMINISTRADORA | D19: =+[43]Insumos!C765 -> und | E19: =+[43]Insumos!D765 -> 32960 | F19: 1 | G19: =+E19*F19 -> 32960
A20: =+[43]Insumos!B766 -> GRIFO DE COMPROBACIÓN DE LATÓN, PARA ROSCAR, DE 1/2" | D20: =+[43]Insumos!C766 -> und | E20: =+[43]Insumos!D766 -> 12518 | F20: 1 | G20: =+E20*F20 -> 12518
A21: =+[43]Insumos!B767 -> VÁLCULA DE ESFERA DE LATÓN NIQUELADO PARA ROSCAR DE 1/2" | D21: =+[43]Insumos!C767 -> und | E21: =+[43]Insumos!D767 -> 10403 | F21: 1 | G21: =+E21*F21 -> 10403
A22: =+[43]Insumos!B768 -> MATERIAL AUXILIAR PARA INSTALACIONES HIDRÁULICAS | D22: =+[43]Insumos!C768 -> und | E22: =+[43]Insumos!D768 -> 3514 | F22: 1 | G22: =+E22*F22 -> 3514
A23: =+[43]Insumos!B769 -> FILTRO RETENEDOR DE RESIDUOS DE LATÓN, CON TAMÍZ DE ACERO INOXIDABLE CON PERFORACIONES DE 0,4mm DE DIÁMETRO, CON ROSCA DE 1/2". | D23: =+[43]Insumos!C769 -> und | E23: =+[43]Insumos!D769 -> 12515 | F23: 1 | G23: =+E23*F23 -> 12515
F24: SUB-TOTAL | H24: =SUM(G18:G23) -> 226410
A25: III.-TRANSPORTE
A26: DESCRIPCION | C26: VOLUMEN | D26: DISTANCIA | E26: M3-KM | F26: TARIFA | G26: VR/UNITARIO
F30: SUB-TOTAL
A31: IV.-MANO DE OBRA
A32: DESCRIPCION | C32: JORNAL | D32: PRESTAC. | E32: JOR.TOTAL | F32: RENDI. | G32: VR/UNITARIO
A33: =+[43]CUADRILLA!E60 -> CUADRILLA No. 09 | C33: =+[43]CUADRILLA!G60 -> 33832.667 | D33: =[43]DATOS!B15 -> 1.9 | E33: =C33*D33 -> 64282.067 | F33: 8 | G33: =E33/F33 -> 8035.2583
F37: SUB-TOTAL | H37: =SUM(G33:G36) -> 8035.2583
C39: TOTAL COSTO DIRECTO | H39: =ROUND(SUM(H15:H37),0) -> 234847
A40: V.-COSTOS INDIRECTOS
A41: DESCRIPCION | F41: % | G41: VR/TOTAL
A42: ADMINISTRACION | F42: =+[43]DATOS!B10 -> 0.25 | G42: =$H$39*F42 -> 58711.75
A43: IMPREVISTOS | F43: =+[43]DATOS!B11 -> 0.02 | G43: =$H$39*F43 -> 4696.94
A44: UTILIDAD | F44: =+[43]DATOS!B12 -> 0.05 | G44: =$H$39*F44 -> 11742.35
F46: SUB-TOTAL | H46: =ROUND(SUM(G42:G45),0) -> 75151
C48: PRECIO UNITARIO TOTAL | H48: =ROUND(SUM(H39:H46),0) -> 309998

Sheet 3.01
A2: =+[43]DATOS!B2 -> ALCALDIA DE POPAYAN | I2: OK ACTUALIZADO
A3: =+[43]DATOS!B4 -> SECRETARIA DE INFRAESTRUCTURA | E3: ANALISIS DE PRECIOS UNITARIOS
J4: REGRESAR
A5: ITEM : | B5: 201.9.1 - DEMOLICIÓN DE PISOS Y ANDENES | E5: OBRA : | F5: =+[43]DATOS!B6 -> PRESUPUESTO PARA EDIFICACIONES
B6: DE CONCRETO A MANO
A7: UNIDAD : M3 | B7: M2
A9: I.-EQUIPO | E9: FECHA : | F9: =+'[44]5.P1'!$F$9 -> 44385
A10: DESCRIPCION | D10: TIPO | E10: TARIFA | F10: RENDI. | G10: VR/UNITARIO
A14: =+[43]Insumos!B40 -> HERRAMIENTA MENOR | C14: 0.05 | G14: =+H39*C14 -> 937.44681
F15: SUB-TOTAL | H15: =SUM(G11:G14) -> 937.44681
A16: II.-MATERIALES
A17: DESCRIPCION | D17: UNIDAD | E17: VALOR | F17: CANTIDAD | G17: VR/UNITARIO
F26: SUB-TOTAL | H26: =SUM(G18:G25) -> 0
A27: III.-TRANSPORTE
A28: DESCRIPCION | C28: VOLUMEN | D28: DISTANCIA | E28: M3-KM | F28: TARIFA | G28: VR/UNITARIO
G29: =+F29*E29 -> 0
G30: =+C30*F30 -> 0
F32: SUB-TOTAL | H32: =SUM(G24:G31) -> 0
A33: IV.-MANO DE OBRA
A34: DESCRIPCION | C34: JORNAL | D34: PRESTAC. | E34: JOR.TOTAL | F34: RENDI. | G34: VR/UNITARIO
A35: =+[43]CUADRILLA!E66 -> CUADRILLA No.10 | C35: =+[43]CUADRILLA!G66 -> 118414.33 | D35: =+[43]DATOS!B15 -> 1.9 | E35: =+D35*C35 -> 224987.23 | F35: 12 | G35: =E35/F35 -> 18748.936
F39: SUB-TOTAL | H39: =SUM(G31:G38) -> 18748.936
C41: TOTAL COSTO DIRECTO | H41: =ROUND(H15+H26+H32+H39,0) -> 19686
A42: V.-COSTOS INDIRECTOS
A43: DESCRIPCION | F43: % | G43: VR/TOTAL
A44: ADMINISTRACION | F44: =+[43]DATOS!B10 -> 0.25 | G44: =$H$41*F44 -> 4921.5
A45: IMPREVISTOS | F45: =+[43]DATOS!B11 -> 0.02 | G45: =$H$41*F45 -> 393.72
A46: UTILIDAD | F46: =+[43]DATOS!B12 -> 0.05 | G46: =$H$41*F46 -> 984.3
A47: =+[43]DATOS!A13 -> 0
F48: SUB-TOTAL | H48: =ROUND(SUM(G44:G47),0) -> 6300
C50: PRECIO UNITARIO TOTAL | H50: =ROUND(SUM(H41:H48),0) -> 25986

Sheet 3.02
A2: =+[43]DATOS!B2 -> ALCALDIA DE POPAYAN | J2: OK ACTUALIZADO
A3: =+[43]DATOS!B4 -> SECRETARIA DE INFRAESTRUCTURA | E3: ANALISIS DE PRECIOS UNITARIOS
K4: REGRESAR
A5: ITEM : | B5: 600.P1 - EXCAVACIONES VARIAS SIN | E5: OBRA : | F5: =+[43]DATOS!B6 -> PRESUPUESTO PARA EDIFICACIONES
B6: CLASIFICAR A MANO.
A7: UNIDAD : | B7: M3
A9: I.-EQUIPO | E9: FECHA : | F9: =+'[44]5.P1'!$F$9 -> 44385
A10: DESCRIPCION | D10: TIPO | E10: TARIFA | F10: RENDI. | G10: VR/UNITARIO
A11: =+[43]Insumos!B40 -> HERRAMIENTA MENOR | C11: 0.05 | G11: =+H31*C11 -> 803.47583 | J11: 338
F13: SUB-TOTAL | H13: =SUM(G11:G12) -> 803.47583
A14: II.-MATERIALES
A15: DESCRIPCION | D15: UNIDAD | E15: VALOR | F15: CANTIDAD | G15: VR/UNITARIO
F18: SUB-TOTAL | H18: =SUM(G16:G17) -> 0
A19: III.-TRANSPORTE
A20: DESCRIPCION | C20: VOLUMEN | D20: DISTANCIA | E20: M3-KM | F20: TARIFA | G20: VR/UNITARIO
G21: =+F21*E21 -> 0
G22: =+F22*C22 -> 0
F24: SUB-TOTAL | H24: =SUM(G21:G23) -> 0 | J24: =+G11/H31 -> 0.05
A25: IV.-MANO DE OBRA
A26: DESCRIPCION | C26: JORNAL | D26: PRESTAC. | E26: JOR.TOTAL | F26: RENDI. | G26: VR/UNITARIO
A27: =+[43]DATOS!A24 -> CUADRILLA No. 06 | C27: =+[43]DATOS!B24 -> 101498 | D27: =[43]DATOS!B15 -> 1.9 | E27: =C27*D27 -> 192846.2 | F27: 12 | G27: =E27/F27-1 -> 16069.517
F31: SUB-TOTAL | H31: =SUM(G27:G30) -> 16069.517
C33: TOTAL COSTO DIRECTO | H33: =ROUND(SUM(H13:H31),0) -> 16873
A34: V.-COSTOS INDIRECTOS
A35: DESCRIPCION | F35: % | G35: VR/TOTAL
A36: ADMINISTRACION | F36: =+[43]DATOS!B10 -> 0.25 | G36: =$H$33*F36 -> 4218.25
A37: IMPREVISTOS | F37: =+[43]DATOS!B11 -> 0.02 | G37: =$H$33*F37 -> 337.46
A38: UTILIDAD | F38: =+[43]DATOS!B12 -> 0.05 | G38: =$H$33*F38 -> 843.65
F40: SUB-TOTAL | H40: =ROUND(SUM(G36:G39),0) -> 5399
C42: PRECIO UNITARIO TOTAL | H42: =ROUND(SUM(H33:H40),0) -> 22272

Sheet 3.03
A2: =+[43]DATOS!B2 -> ALCALDIA DE POPAYAN | I2: OK ACTUALIZADO
A3: =+[43]DATOS!B4 -> SECRETARIA DE INFRAESTRUCTURA | E3: ANALISIS DE PRECIOS UNITARIOS
J4: REGRESAR
A5: ITEM : | B5: RELLENO Y COMPACTACIÓN CON MATERIAL DE SITIO | E5: OBRA : | F5: =+[43]DATOS!B6 -> PRESUPUESTO PARA EDIFICACIONES
A7: UNIDAD : | B7: M3
A9: I.-EQUIPO | E9: FECHA : | F9: =+'[44]5.P1'!$F$9 -> 44385
A10: DESCRIPCION | D10: TIPO | E10: TARIFA | F10: RENDI. | G10: VR/UNITARIO
A11: =+[43]Insumos!B40 -> HERRAMIENTA MENOR | C11: (5% MO) | G11: =+H39*0.05 -> 321.41033
A12: =+[43]Insumos!B24 -> VIBROCOMPACTADOR 6 TN. | E12: =+[43]Insumos!D24 -> 108334 | F12: 0.005 | G12: =+F12*E12 -> 541.67
