Workbook
Name ANDAM: '[1]LISTA DE PRECIO'!$E$63
Name CROMATO_ZINC: '[1]LISTA DE PRECIO'!$E$99
Name EQUIPOSOL: '[1]LISTA DE PRECIO'!$E$70
Name ESMALTE: '[1]LISTA DE PRECIO'!$E$100
Name PTTO: '[2]PPTO-obra'!$C:$H

Sheet resumen 
B4: RESUMEN DEL PROYECTO
B6: REPÚBLICA DE COLOMBIA GOBERNACIÓN DE CORDOBA
B9: MANTENIMIENTO Y ADECUACIÓN DE LA CASA DE LA MUJER UBICADA EN EL MUNICIPIO DE MONTERÍA - CÓRDOBA
B12: Proyecto | C12: =+'[3]Presupuesto Electrico'!C2:F2 -> UNIDAD
C13: Tiempo de ejecución del proyecto (MESES): | G13: 6
C14: Tiempo de ejecución de obra (MESES): | G14: 6
B16: Construcción de la Obra Civil | G16: =+'PRESUPUESTO GENERAL'!I67+'PRESUPUESTO GENERAL'!I71 -> 2.532597e+08
B17: PGIO 2% | G17: =+'PRESUPUESTO GENERAL'!I72 -> 3896303
G18: =+'[4]PRESUPUESTO GENERAL'!F32 -> 0
B19: Interventoría 7% | G19: =+'[3]Presupuesto Electrico'!F59 -> 0
B20: Valor Total del proyecto | G20: =ROUND((SUM(G16:G19)),0) -> 257156000
B22: Presupuesto resumido por actividades
B23: 1 | C23: =+'PRESUPUESTO GENERAL'!D14 -> PRELIMINARES | G23: =+'PRESUPUESTO GENERAL'!I14*1.3 -> 23544011
B24: =+B23+1 -> 2 | C24: =+'PRESUPUESTO GENERAL'!D18 -> PISOS Y ENCHAPES | G24: =+'PRESUPUESTO GENERAL'!I18*1.3 -> 1089183.7
B25: =+B24+1 -> 3 | C25: =+'PRESUPUESTO GENERAL'!D21 -> CUBIERTAS | G25: =+'PRESUPUESTO GENERAL'!I21*1.3 -> 1.0417338e+08
B26: =+B25+1 -> 4 | C26: =+'PRESUPUESTO GENERAL'!D26 -> PINTURA Y ESTUCO | G26: =+'PRESUPUESTO GENERAL'!I26*1.3 -> 36167361
B27: =+B26+1 -> 5 | C27: =+'PRESUPUESTO GENERAL'!D30 -> PUERTAS,VENTANAS Y DIVISIONES | G27: =+'PRESUPUESTO GENERAL'!I30*1.3 -> 27035483
B28: =+B27+1 -> 6 | C28: =+'PRESUPUESTO GENERAL'!D42 -> INSTALACIONES ELECTRICAS | G28: =+('PRESUPUESTO GENERAL'!I42+'PRESUPUESTO GENERAL'!I47+'PRESUPUESTO GENERAL'!I49+'PRESUPUESTO GENERAL'!I54+'PRESUPUESTO GENERAL'!I58+'PRESUPUESTO GENERAL'!I63)*1.3 -> 61250274
B29: =+B28+1 -> 7 | C29: REALIZAR IMPLEMENTACÓN PGIO | G29: =+'PRESUPUESTO GENERAL'!I72 -> 3896303
B30: =+B27+1 -> 6 | C30: REALIZAR LA INTERVENTORÍA TÉCNICA, ADMINISTRATIVA Y FINANCIERA (7%) | G30: =+'[3]Presupuesto Electrico'!F59 -> 0
C31: Total del Proyecto | G31: =ROUND((SUM(G23:G30)),0) -> 257156000
C35: ELIANA UPARELA MARSIGLIA | F35: CILIA TOBIAS CARRASCAL
C36: Director Técnico y Administrativo S.I.D. | F36: SECRETARIA DE INFRAESTRUCTURA
C37: Revisó | F37: Revisó
B39: ¡Ahora le toca al pueblo! Dirección: Palacio de Naín - Calle 27 N 3 - 28 - Montería - Córdoba / Contacto Teléfono: 7848940 / Línea de atención gratuita: 018000400357 Email: contactenos@cordoba.gov.co - secretaria.infraestructura@cordoba.gov.co
B45: Objetivo | C45: Productos | D45: Actividades | E45: Insumos
B46: =+B9 -> MANTENIMIENTO Y ADECUACIÓN DE LA CASA DE LA MUJER UBICADA EN EL MUNICIPIO DE MONTERÍA - CÓRDOBA | C46: =+B46 -> MANTENIMIENTO Y ADECUACIÓN DE LA CASA DE LA MUJER UBICADA EN EL MUNICIPIO DE MONTERÍA - CÓRDOBA | D46: =+C23 -> PRELIMINARES | E46: =+G23 -> 23544011
D47: =+C24 -> PISOS Y ENCHAPES | E47: =+G24 -> 1089183.7
D48: =+C25 -> CUBIERTAS | E48: =+G25 -> 1.0417338e+08
D49: =+C26 -> PINTURA Y ESTUCO | E49: =+G26 -> 36167361
D50: =+C27 -> PUERTAS,VENTANAS Y DIVISIONES | E50: =+G27 -> 27035483
D51: =+C28 -> INSTALACIONES ELECTRICAS | E51: =G28 -> 61250274
D52: =+C29 -> REALIZAR IMPLEMENTACÓN PGIO | E52: =+G29 -> 3896303
D53: =+C30 -> REALIZAR LA INTERVENTORÍA TÉCNICA, ADMINISTRATIVA Y FINANCIERA (7%) | E53: =+G30 -> 0
B54: Total del Proyecto | E54: =ROUND((SUM(E46:E53)),0) -> 257156000
C58: =+C35 -> ELIANA UPARELA MARSIGLIA | F58: CILIA TOBIAS CARRASCAL
C59: Director Técnico y Administrativo S.I.D. | F59: SECRETARIA DE INFRAESTRUCTURA
C60: Revisó | F60: Revisó
B62: ¡Ahora le toca al pueblo! Dirección: Palacio de Naín - Calle 27 N 3 - 28 - Montería - Córdoba / Contacto Teléfono: 7848940 / Línea de atención gratuita: 018000400357 Email: contactenos@cordoba.gov.co - secretaria.infraestructura@cordoba.gov.co
B67: Etapa | C67: Año | D67: Actividad | E67: Ruta Crítica | F67: Valor
...

Sheet PRESUPUESTO GENERAL
C2: PRESUPUESTO OFICIAL DE OBRA
C4: REPÚBLICA DE COLOMBIA GOBERNACIÓN DE CORDOBA
C7: SECRETARÍA DE INFRAESTRUCTURA - DEPARTAMENTO DE CÓRDOBA
C9: MANTENIMIENTO Y ADECUACIÓN DE LA CASA DE LA MUJER UBICADA EN EL MUNICIPIO DE MONTERÍA - CÓRDOBA
C12: ÍTEM | D12: DESCRIPCIÓN | E12: UND | F12: CANT | G12: VR.UNITARIO | H12: VR. PARCIAL | I12: VR. TOTAL
C14: 1 | D14: PRELIMINARES | I14: =SUM(H15:H16) -> 18110778
C15: 1.1 | D15: Desmonte de cielo raso | E15: m2 | F15: 717.76 | G15: =+'1.1-A.P.U'!G38 -> 24584 | H15: =(F15*G15) -> 17645412
C16: 1.2 | D16: Desmonte y retiro de puertas y ventanas existentes | E16: Un | F16: 22 | G16: =+'1,2-A.P.U'!G37 -> 21153 | H16: =(F16*G16) -> 465366
C18: 2 | D18: PISOS Y ENCHAPES | I18: =SUM(H19:H19) -> 837833.61
C19: 2.1 | D19: Pañete en mortero 1:4 allanado para muros, incluye junta de dilatación | E19: m2 | F19: 30 | G19: =+'2.1-A.P.U'!G41 -> 27927.787 | H19: =(F19*G19) -> 837833.61
C21: 3 | D21: CUBIERTAS | I21: =SUM(H22:H24) -> 80133373
C22: 3.1 | D22: Reparacion de cubierta y caballerte en eternit | E22: m2 | F22: 702.63622 | G22: ='3.1-A-P-U'!G41 -> 37142 | H22: =(F22*G22) -> 26097314
C23: 3.2 | D23: Impermeabilizacion manto real | E23: ml | F23: 20 | G23: =+'3.2-A.P.U'!G40 -> 201098 | H23: =(F23*G23) -> 4021960
C24: 3.3 | D24: Suministro e instalación de cielo raso en Dry wall, incluye estructura de soporte y pintura a 3 manos | E24: m2 | F24: =+F15 -> 717.76 | G24: ='3.3-A.P.U'!G48 -> 69680.81 | H24: =(F24*G24) -> 50014098
C26: 4 | D26: PINTURA Y ESTUCO | I26: =SUM(H27:H28) -> 27821047
C27: 4.1 | D27: Pintura tipo 1 para muros interiores y exteriores (3 manos) | E27: m2 | F27: =2377+20 -> 2397 | G27: ='4.1-A.P.U.'!G41 -> 11297 | H27: =(F27*G27) -> 27078909
C28: 4.2 | D28: Estuco plastico para muros | E28: m2 | F28: =+F19 -> 30 | G28: ='4.2-A.P.U.'!G41 -> 24737.923 | H28: =(F28*G28) -> 742137.69
C30: 5 | D30: PUERTAS,VENTANAS Y DIVISIONES | I30: =SUM(H31:H40) -> 20796525
C31: 5.1 | D31: suministro e instalacion de puertas en madera 2,64 x 1,6 (fachada) | E31: und | F31: 2 | G31: =+'5.1 A.P.U'!G45 -> 1291354 | H31: =(F31*G31) -> 2582708
C32: 5.2 | D32: suministro e instalacion de ventanas en madera 2,20 x 1,00 (fachada) | E32: und | F32: 4 | G32: =+'5.2 A.P.U'!G45 -> 867354 | H32: =(F32*G32) -> 3469416
C33: 5.3 | D33: suministro e instalacion de puertas en madera 2,00 x 0,90 | E33: und | F33: 4 | G33: =+'5.3 A.P.U '!G45 -> 927354 | H33: =(F33*G33) -> 3709416
C34: 5.4 | D34: suministro e instalacion de puertas en madera 2,00 x 0,80 | E34: und | F34: 3 | G34: =+'5.4 A.P.U '!G45 -> 867354 | H34: =(F34*G34) -> 2602062
C35: 5.5 | D35: suministro e instalacion de puertas en madera 2,10 x 1,10 | E35: und | F35: 3 | G35: =+'5.5 A.P.U '!G45 -> 867354 | H35: =(F35*G35) -> 2602062
C36: 5.6 | D36: suministro e instalacion de puertas en madera 2,70 x 1,65 | E36: und | F36: 3 | G36: =+'5.6 A.P.U.'!G45 -> 927354 | H36: =(F36*G36) -> 2782062
C37: 5.7 | D37: suministro e instalacion de puertas en metalica 2,00 x 1,00 | E37: und | F37: 2 | G37: =+'5.7 A.P.U.'!G41 -> 428199 | H37: =(F37*G37) -> 856398
C38: 5.8 | D38: suministro e instalacion de puertas en metalica 2,00 x 0,80 | E38: und | F38: 3 | G38: =+'5.8 A.P.U'!G41 -> 385560 | H38: =(F38*G38) -> 1156680
C39: 5.9 | D39: Pintura con proteccion anticorrosivo y acabado en esmalte para puerta de 2,60 X 2,70 (GARAJE) | E39: M2 | F39: =+(2.6*2.7) -> 7.02 | G39: =+'5.9 A.P.U '!G42 -> 24155.9 | H39: =(F39*G39) -> 169574.42
C40: 5.10 | D40: Divicion en para oficnas en superboar | E40: m2 | F40: =8.5*2.2 -> 18.7 | G40: =+'5.10 A.P.U'!G45 -> 46318 | H40: =(F40*G40) -> 866146.6
C42: 6 | D42: INSTALACIONES ELECTRICAS | I42: =SUM(H44:H46) -> 9560000
C43: 6.1 | D43: INSTALACIONES ELECTRICAS INTERNAS
C44: 6.1.1 | D44: SUMINISTRO E INSTALACIÓN DE LUMINARIAS LED DE 18 W, CIRCULAR. PARA EMPOTRAR. | E44: UND | F44: 40 | G44: =+'6.1.1 A.P.U'!G41 -> 135000 | H44: =(F44*G44) -> 5400000
C45: 6.1.2 | D45: SUMINISTRO E INSTALACIÓN DE TOMACORRIENTE NORMAL, 120 V. | E45: UND | F45: 30 | G45: =+'6.1.2 A.P.U '!G41 -> 92000 | H45: =(F45*G45) -> 2760000
C46: 6.1.3 | D46: SUMINISTRO, MONTAJE E INSTALACIÓN DE VENTILADOR DE TECHO. | E46: UND | F46: 4 | G46: =+'6.1.3 A.P.U '!G41 -> 350000 | H46: =(F46*G46) -> 1400000
C47: 6.2 | D47: AIRE ACONDICIONADO | I47: =+H48 -> 3000000
C48: 6.2.1 | D48: MANTENIMIENTO PREVENTIVO DE UNIDADES MANEJADORAS Y CONDENSADORAS DE AIRE ACONDICIONADOS. | E48: UND | F48: 12 | G48: =+'6.2.1 A.P.U '!G41 -> 250000 | H48: =(F48*G48) -> 3000000
C49: 6.3 | D49: ACOMETIDAS Y ALIMENTADORES ELECTRICOS | I49: =+SUM(H50:H53) -> 17239551
C50: 6.3.1 | D50: SUMINISTRO DE CABLE DE COBRE 3 X N°2 + 1 N°2 + 1 N°2 T THWN. LIBRE DE HALOGENO. TUBERÍA EMT DE 1 1/2". ACCESORIOS PARA SU INSTALACIÓN. | E50: ML | F50: 10 | G50: =+'6.3.1 A.P.U '!G44 -> 209354.33 | H50: =(F50*G50) -> 2093543.3
C51: 6.3.2 | D51: SUMINISTRO DE CABLE DE COBRE 2 X N°6 + 1 N°6 + 1 N°6 T THWN. LIBRE DE HALOGENO. TUBERÍA EMT DE 1 1/4"y EMT DE 3/4". ACCESORIOS PARA SU INSTALACIÓN. | E51: ML | F51: 5 | G51: =+'6.3.2 A.P.U '!G46 -> 117150 | H51: =(F51*G51) -> 585750
C52: 6.3.3 | D52: SUMINISTRO DE CABLE DE COBRE 2 X N°10 + 1 N°10 + 1 N°10 T THWN. LIBRE DE HALOGENO. TUBERÍA EMT DE 3/4". ACCESORIOS PARA SU INSTALACIÓN. | E52: ML | F52: 120 | G52: =+'6.3.3 A.P.U '!G44 -> 38553.098 | H52: =(F52*G52) -> 4626371.8
C53: 6.3.4 | D53: SUMINISTRO DE CABLE DE COBRE 2 X N° 12 + 1 N° 12 + 1 N°12 T THWN. LIBRE DE HALOGENO. TUBERÍA EMT DE 1/2" y EMT DE 3/4". ACCESORIOS PARA SU INSTALACIÓN. | E53: ML | F53: 350 | G53: =+'6.3.4 A.P.U '!G46 -> 28382.532 | H53: =(F53*G53) -> 9933886.2
...

Sheet 1.1-A.P.U 
B2: ANÁLISIS DE PRECIOS UNITARIOS - A.P.U.
B4: REPÚBLICA DE COLOMBIA GOBERNACIÓN DE CORDOBA
B7: SECRETARÍA DE INFRAESTRUCTURA - DEPARTAMENTO DE CÓRDOBA
B9: MANTENIMIENTO Y MEJORAS LOCATIVAS EN DIFERENTES PUNTOS DEL BIBLIOPARQUE DAVID SANCHEZ JULIAO UBICADO EN EL BARRIO VILLA MELISA, DEL MUNICIPIO DE MONTERÍA-CORDOBA
B13: PROYECTO U OBRA: | D13: DESCRIPCIÓN DEL ÍTEM
B14: =B9 -> MANTENIMIENTO Y MEJORAS LOCATIVAS EN DIFERENTES PUNTOS DEL BIBLIOPARQUE DAVID SANCHEZ JULIAO UBICADO EN EL BARRIO VILLA MELISA, DEL MUNICIPIO DE MONTERÍA-CORDOBA | D14: ='PRESUPUESTO GENERAL'!#REF! -> #REF!
B15: ÍTEM: | C15: ='PRESUPUESTO GENERAL'!C15 -> 1.1 | D15: UNIDAD: | E15: m2 | F15: CANTIDAD: | G15: ='PRESUPUESTO GENERAL'!F15 -> 717.76
B17: 1. EQUIPOS
B18: Descripción | D18: Tipo | E18: Valor/Hora | F18: Rendimiento | G18: Valor-unit.
B19: herramientas menores | D19: Manual | E19: 3000 | F19: 5 | G19: =ROUND(E19/F19,0) -> 600
F23: Sub-Total | G23: =SUM(G19:G22) -> 600
B24: 2. MATERIALES EN OBRA
B25: Descripción | D25: unidad | E25: Precio-unit. | F25: Cantidad | G25: Valor-unit.
F30: Sub-Total | G30: =SUM(G26:G29) -> 0
B31: 3. TRANSPORTES
B32: Material | C32: Vol-peso ó Cant. | D32: Distancia | E32: M3-Km | F32: Tarifa | G32: Valor-unit.
G35: =SUM(G33:G34) -> 0
B36: 4. MANO DE OBRA
B37: Trabajador | C37: Jornal | D37: Prestaciones | E37: Jornal Total | F37: Rendimiento | G37: Valor-unit.
B38: =Personal!D25 -> CUADRILLA ( 2 AYUDANTES) (JR) | C38: 65361.211 | D38: 55557.03 | E38: 120918.24 | F38: 18 | G38: =ROUND(E38/F38,0) -> 6718
F41: Sub-Total | G41: =SUM(G38:G40) -> 6718
F42: Total Costo Directo | G42: =+G23+G30+G35+G41 -> 7318
B47: GUSTAVO TIRADO HERNADEZ | C47: OSCAR PINEDA MENDOZA | G47: CILIA TOBIAS CARRASCAL
B48: Contratista Secretaria De Infraestructura | C48: Contratista Secretaria De Infraestructura | G48: SECRETARIA DE INFRAESTRUCTURA
B49: Elaboró | C49: Elaboró | G49: Aprobó
B51: ¡Ahora le toca al pueblo! Dirección: Palacio de Naín - Calle 27 N 3 - 28 - Montería - Córdoba / Contacto Teléfono: 7848940 / Línea de atención gratuita: 018000400357 Email: contactenos@cordoba.gov.co - secretaria.infraestructura@cordoba.gov.co

Sheet 1.2-A.P.U
B2: ANÁLISIS DE PRECIOS UNITARIOS - A.P.U.
B4: REPÚBLICA DE COLOMBIA GOBERNACIÓN DE CORDOBA
B7: SECRETARÍA DE INFRAESTRUCTURA - DEPARTAMENTO DE CÓRDOBA
B9: MANTENIMIENTO Y MEJORAS LOCATIVAS EN DIFERENTES PUNTOS DEL BIBLIOPARQUE DAVID SANCHEZ JULIAO UBICADO EN EL BARRIO VILLA MELISA, DEL MUNICIPIO DE MONTERÍA-CORDOBA
B13: PROYECTO U OBRA: | D13: DESCRIPCIÓN DEL ÍTEM:
B14: =B9 -> MANTENIMIENTO Y MEJORAS LOCATIVAS EN DIFERENTES PUNTOS DEL BIBLIOPARQUE DAVID SANCHEZ JULIAO UBICADO EN EL BARRIO VILLA MELISA, DEL MUNICIPIO DE MONTERÍA-CORDOBA | D14: ='PRESUPUESTO GENERAL'!#REF! -> #REF!
B15: ÍTEM: | C15: ='PRESUPUESTO GENERAL'!C16 -> 1.2 | D15: UNIDAD: | E15: m2 | F15: CANTIDAD: | G15: ='PRESUPUESTO GENERAL'!F16 -> 22
B17: 1. EQUIPOS
B18: Descripción | D18: Tipo | E18: Tarifa/Hora | F18: Rendimiento | G18: Valor-unit.
B19: HERRAMIENTAS MENORES | D19: Manual | E19: 2000 | F19: 0.1 | G19: =ROUND(E19*F19,0) -> 200
F21: Sub-Total | G21: =SUM(G19:G20) -> 200
B22: 2. MATERIALES EN OBRA
B23: Descripción | D23: unidad | E23: Precio-unit. | F23: Cantidad | G23: Valor-unit.
F27: Sub-Total | G27: =SUM(G24:G26) -> 0
B28: 3. TRANSPORTES
B29: Material | C29: Vol-peso ó Cant. | D29: Distancia | E29: M3-Km | F29: Tarifa | G29: Valor-unit.
G32: =SUM(G30:G31) -> 0
B33: 4. MANO DE OBRA
B34: Trabajador | C34: Jornal | D34: Prestaciones | E34: Jornal Total | F34: Rendimiento | G34: Valor-unit.
B35: =+[2]PERSONAL!$D$25 -> CUADRILLA ( 2 AYUDANTES) (JR) | C35: =+[2]PERSONAL!$F$25 -> 65361.211 | D35: =+[2]PERSONAL!$G$25 -> 55557.03 | E35: =+C35+D35 -> 120918.24 | F35: 15 | G35: =ROUND(E35/F35,0) -> 8061
F38: Sub-Total | G38: =SUM(G35:G37) -> 8061
F39: Total Costo Directo | G39: =+G21+G27+G32+G38 -> 8261
B42: GUSTAVO TIRADO HERNADEZ | C42: OSCAR PINEDA MENDOZA | G42: CILIA TOBIAS CARRASCAL
B43: Contratista Secretaria De Infraestructura | C43: Contratista Secretaria De Infraestructura | G43: SECRETARIA DE INFRAESTRUCTURA
B44: Elaboró | C44: Elaboró | G44: Aprobó
B46: ¡Ahora le toca al pueblo! Dirección: Palacio de Naín - Calle 27 N 3 - 28 - Montería - Córdoba / Contacto Teléfono: 7848940 / Línea de atención gratuita: 018000400357 Email: contactenos@cordoba.gov.co - secretaria.infraestructura@cordoba.gov.co

Sheet A.I.U
D2: DESGLOSE DEL A.I.U. (ADMINISTRACÍON, IMPREVISTOS Y UTILIDAD)
D4: REPÚBLICA DE COLOMBIA GOBERNACIÓN DE CORDOBA
D7: ='PRESUPUESTO GENERAL'!C7 -> SECRETARÍA DE INFRAESTRUCTURA - DEPARTAMENTO DE CÓRDOBA
D9: ='PRESUPUESTO GENERAL'!C9 -> MANTENIMIENTO Y ADECUACIÓN DE LA CASA DE LA MUJER UBICADA EN EL MUNICIPIO DE MONTERÍA - CÓRDOBA
D14: VALOR DE LOS COSTOS DIRECTOS OBRA CIVIL | E14: =+'PRESUPUESTO GENERAL'!I67 -> 1.9481515e+08 | J14: ADMINISTRACIÓN | L14: 0.25
D15: DURACIÓN DE LA EJECUCIÓN DE LA OBRA | E15: 2 | F15: MESES | J15: IMPREVISTOS | L15: 0.01
D16: A.I.U CALCULADO | E16: =+L14+L15+L16 -> 0.3 | J16: UTILIDAD | L16: 0.04
D17: TOTAL VALOR A.I.U. ADOPTADO | E17: =+E16 -> 0.3
D19: COSTOS ADMINISTRATIVOS | E19: VR. HONORARIO MENSUAL $ | F19: F.P. | G19: VR. MENSUAL TOTAL | H19: CANT | I19: DEDICACIÓN MENSUAL % | J19: MESES | K19: VR. PARCIAL | L19: % SOBRE COSTOS DIRECTOS
C21: 1 | D21: PERSONAL PROFESIONAL Y TÉCNICO | F21: 0.85 | K21: =SUM(K22:K26) -> 10092863 | L21: =SUM(L22:L26) -> 0.051807384
D22: Director de obra | E22: 4433940 | F22: =+E22*85% -> 3768849 | G22: =+F22+E22 -> 8202789 | H22: 1 | I22: 0.2 | J22: =+$E$15 -> 2 | K22: =+J22*I22*H22*G22 -> 3281115.6 | L22: =+K22/$E$14 -> 0.016842199
D23: Residente de obra | E23: 1534177.4 | F23: =+E23*85% -> 1304050.8 | G23: =+F23+E23 -> 2838228.2 | H23: 1 | I23: 1 | J23: =+$E$15 -> 2 | K23: =+J23*I23*H23*G23 -> 5676456.4 | L23: =+K23/$E$14 -> 0.029137654
D24: Ingeniero Eléctrico | E24: =+E23 -> 1534177.4 | F24: =+E24*85% -> 1304050.8 | G24: =+F24+E24 -> 2838228.2 | H24: 1 | I24: 0.1 | J24: =+$E$15 -> 2 | K24: =+J24*I24*H24*G24 -> 567645.64 | L24: =+K24/$E$14 -> 0.0029137654
D25: Especialista en higiene y seguridad industrial | E25: =+E23 -> 1534177.4 | F25: =+E25*85% -> 1304050.8 | G25: =+F25+E25 -> 2838228.2 | H25: 1 | I25: 0.1 | J25: =+$E$15 -> 2 | K25: =+J25*I25*H25*G25 -> 567645.64 | L25: =+K25/$E$14 -> 0.0029137654
C27: 2
D28: OFICINA, PAPELERIA Y OTROS | K28: =SUM(K29:K29) -> 1756316.7 | L28: =SUM(L29:L29) -> 0.0090152981
D29: Alquiler de Oficina, - incluye mobiliario y servicios públicos - Reproducción de documentos, planos, ploter, comunicaciones. | E29: 878158.33 | H29: 1 | I29: 1 | J29: =+E15 -> 2 | K29: =+J29*I29*H29*E29 -> 1756316.7 | L29: =+K29/$E$14 -> 0.0090152981
C31: 3 | D31: OTROS COSTOS FIJOS | K31: =SUM(K32:K32) -> 562493.33 | L31: =SUM(L32:L32) -> 0.0028873182
D32: Valla Informativa del proyecto | E32: 562493.33 | H32: 1 | K32: =+E32*H32 -> 562493.33 | L32: =+K32/$E$14 -> 0.0028873182
D34: LEGALIZACIÓN DEL CONTRATO, IMPUESTOS TASAS Y CONTRIBUCIONES | K34: =ROUND((SUM(K35:K41)),2) -> 36292115 | L34: =SUM(L35:L41) -> 0.18629
D35: Pro-Cultura | E35: Tasa prima sobre el valor del contrato | J35: 0.005 | K35: =+(1+0.3)*J35*$E$14 -> 1266298.5 | L35: =+K35/$E$14 -> 0.0065
D36: Para el bienestar del adulto mayor | E36: Tasa prima sobre el valor del contrato | J36: 0.03 | K36: =+(1+0.3)*J36*$E$14 -> 7597790.9 | L36: =+K36/$E$14 -> 0.039
D37: Estampilla Pro-Desarrollo Académico y descentralización de servicios educativos de Universidaad de Córdoba | E37: Tasa prima sobre el valor del contrato | J37: 0.02 | K37: =+(1+0.3)*J37*$E$14 -> 5065193.9 | L37: =+K37/$E$14 -> 0.026
D38: Prodesarrollo Departamental | E38: Tasa prima sobre el valor del contrato | J38: 0.02 | K38: =+(1+0.3)*J38*$E$14 -> 5065193.9 | L38: =+K38/$E$14 -> 0.026
D39: Tasa Pro-Deporte y Recreación Departamental | E39: Tasa prima sobre el valor del contrato | J39: 0.01 | K39: =+(1+0.3)*J39*$E$14 -> 2532597 | L39: =+K39/$E$14 -> 0.013
D40: Garantías | E40: Tasa prima sobre el valor del contrato | J40: 0.0083 | K40: =+(1+0.3)*J40*$E$14 -> 2102055.5 | L40: =+K40/$E$14 -> 0.01079
D41: Fondo de Seguridad Ciudadana | E41: Tasa prima sobre el valor del contrato | J41: 0.05 | K41: =+(1+0.3)*J41*$E$14 -> 12662985 | L41: =+K41/$E$14 -> 0.065 | N41: 155619580 | P41: =+'[5]PRESUPUESTO GRAL'!F150 -> 155619580
D43: TOTAL COSTOS ADMINISTRATIVOS | K43: =ROUND((K34+K31+K28+K21),2) -> 48703788 | L43: =+L21+L28+L31+L34 -> 0.25 | N43: 48703788 | O43: 25
D44: RESERVA PARA IMPREVISTOS | K44: =ROUND((+L44*E14),0) -> 1948152 | L44: 0.01
D45: UTILIDAD ESPERADA | K45: =ROUND((+L45*E14),0) -> 7792606 | L45: 0.04
D47: VALOR TOTAL DEL A.I.U. | K47: =SUM(K43:K45) -> 58444546 | L47: =+L43+L44+L45 -> 0.3 | N47: 58444546
N49: =+K47-N47 -> 0
D53: DANIELA BUSTAMENTE | L53: ELINA UPARELA MARSIGLIA
D54: ARQUITECTA CONTRATISTA DE APOYO S.I.D. | L54: DIRECTOR TECNICO Y ADMINISTRATIVO S.I.D
D55: Elaboró | L55: Aprobó
D57: GEBILIER RAMOS
D58: INGENIERO CONTRATISTA DE APOYO S.I.D.
D59: Elaboró
D62: ¡Ahora le toca al pueblo! Dirección: Palacio de Naín - Calle 27 N 3 - 28 - Montería - Córdoba / Contacto Teléfono: 7848940 / Línea de atención gratuita: 018000400357 Email: contactenos@cordoba.gov.co - secretaria.infraestructura@cordoba.gov.co

Sheet 1.1-A.P.U
B2: ANÁLISIS DE PRECIOS UNITARIOS - A.P.U.
B4: REPÚBLICA DE COLOMBIA GOBERNACIÓN DE CORDOBA
B9: MANTENIMIENTO Y ADECUACIÓN DE LA CASA DE LA MUJER UBICADA EN EL MUNICIPIO DE MONTERÍA - CÓRDOBA
B13: PROYECTO U OBRA: | D13: DESCRIPCIÓN DEL ÍTEM:
B14: =+B9 -> MANTENIMIENTO Y ADECUACIÓN DE LA CASA DE LA MUJER UBICADA EN EL MUNICIPIO DE MONTERÍA - CÓRDOBA | D14: ='PRESUPUESTO GENERAL'!D15 -> Desmonte de cielo raso
B15: ÍTEM: | C15: 1.1 | D15: UNIDAD: | E15: M2 | F15: CANTIDAD: | G15: 717.76
B17: 1. EQUIPOS
B18: Descripción | D18: Tipo | E18: Tarifa/Hora | F18: Rendimiento | G18: Valor-unit.
B19: herramientas menores | D19: Manual | E19: 2000 | F19: 5 | G19: =E19/F19 -> 400
F22: Sub-Total | G22: =SUM(G19:G21) -> 400
B23: 2. MATERIALES EN OBRA
B24: Descripción | D24: unidad | E24: Precio-unit. | F24: Cantidad | G24: Valor-unit.
F26: Sub-Total | G26: =SUM(G25:G25) -> 0
B27: 3. TRANSPORTES
B28: Material | D28: Cantidad | E28: Rendimiento/Dia | F28: Tarifa | G28: Valor-unit.
F31: Sub-Total | G31: =SUM(G29:G30) -> 0
B32: 4. MANO DE OBRA
B33: Trabajador | C33: Jornal | D33: Prestaciones | E33: Jornal Total | F33: Rendimiento | G33: Valor-unit.
B34: =Personal!D25 -> CUADRILLA ( 2 AYUDANTES) (JR) | C34: 65361.211 | D34: 55557.03 | E34: 120918.24 | F34: 5 | G34: =ROUND(E34/F34,0) -> 24184
F37: Sub-Total | G37: =SUM(G34:G36) -> 24184
F38: Total Costo Directo | G38: =+G22+G26+G31+G37 -> 24584
B40: DANIELA BUSTAMENTE | G40: ELINA UPARELA MARSIGLIA
B41: ARQUITECTA CONTRATISTA DE APOYO S.I.D. | G41: DIRECTOR TECNICO Y ADMINISTRATIVO S.I.D
B42: Elaboró | G42: Aprobó
B44: ¡Ahora le toca al pueblo! Dirección: Palacio de Naín - Calle 27 N 3 - 28 - Montería - Córdoba / Contacto Teléfono: 7848940 / Línea de atención gratuita: 018000400357 Email: contactenos@cordoba.gov.co - secretaria.infraestructura@cordoba.gov.co

Sheet 1,2-A.P.U
B2: ANÁLISIS DE PRECIOS UNITARIOS - A.P.U.
B4: REPÚBLICA DE COLOMBIA GOBERNACIÓN DE CORDOBA
B9: MANTENIMIENTO Y ADECUACIÓN DE LA CASA DE LA MUJER UBICADA EN EL MUNICIPIO DE MONTERÍA - CÓRDOBA
B13: PROYECTO U OBRA: | D13: DESCRIPCIÓN DEL ÍTEM:
B14: =B9 -> MANTENIMIENTO Y ADECUACIÓN DE LA CASA DE LA MUJER UBICADA EN EL MUNICIPIO DE MONTERÍA - CÓRDOBA | D14: ='PRESUPUESTO GENERAL'!D16 -> Desmonte y retiro de puertas y ventanas existentes
B15: ÍTEM: | C15: 1.2 | D15: UNIDAD: | E15: und | F15: CANTIDAD: | G15: 22
B17: 1. EQUIPOS
B18: Descripción | D18: Tipo | E18: Tarifa/Hora | F18: Rendimiento | G18: Valor-unit.
B19: herramientas menores | D19: Manual | E19: 2000 | F19: 2 | G19: =E19/F19 -> 1000
F21: Sub-Total | G21: =SUM(G19:G20) -> 1000
B22: 2. MATERIALES EN OBRA
B23: Descripción | D23: unidad | E23: Precio-unit. | F23: Cantidad | G23: Valor-unit.
F25: Sub-Total | G25: =SUM(G24:G24) -> 0
B26: 3. TRANSPORTES
B27: Material | D27: Cantidad | E27: Rendimiento/Dia | F27: Tarifa | G27: Valor-unit.
F30: Sub-Total | G30: =SUM(G28:G29) -> 0
B31: 4. MANO DE OBRA
B32: Trabajador | C32: Jornal | D32: Prestaciones | E32: Jornal Total | F32: Rendimiento | G32: Valor-unit.
B33: =Personal!D25 -> CUADRILLA ( 2 AYUDANTES) (JR) | C33: 65361.211 | D33: 55557.03 | E33: 120918.24 | F33: 6 | G33: =ROUND(E33/F33,0) -> 20153
F36: Sub-Total | G36: =SUM(G33:G35) -> 20153
F37: Total Costo Directo | G37: =+G21+G25+G30+G36 -> 21153
B39: DANIELA BUSTAMENTE | G39: ELINA UPARELA MARSIGLIA
B40: ARQUITECTA CONTRATISTA DE APOYO S.I.D. | G40: DIRECTOR TECNICO Y ADMINISTRATIVO S.I.D
B41: Elaboró | G41: Aprobó
B43: ¡Ahora le toca al pueblo! Dirección: Palacio de Naín - Calle 27 N 3 - 28 - Montería - Córdoba / Contacto Teléfono: 7848940 / Línea de atención gratuita: 018000400357 Email: contactenos@cordoba.gov.co - secretaria.infraestructura@cordoba.gov.co

Sheet 2.1-A.P.U
B2: ANÁLISIS DE PRECIOS UNITARIOS - A.P.U.
B4: REPÚBLICA DE COLOMBIA GOBERNACIÓN DE CORDOBA
B9: MANTENIMIENTO Y ADECUACIÓN DE LA CASA DE LA MUJER UBICADA EN EL MUNICIPIO DE MONTERÍA - CÓRDOBA
B13: PROYECTO U OBRA: | D13: DESCRIPCIÓN DEL ÍTEM:
B14: =B9 -> MANTENIMIENTO Y ADECUACIÓN DE LA CASA DE LA MUJER UBICADA EN EL MUNICIPIO DE MONTERÍA - CÓRDOBA | D14: ='PRESUPUESTO GENERAL'!D19 -> Pañete en mortero 1:4 allanado para muros, incluye junta de dilatación
B15: ÍTEM: | C15: ='PRESUPUESTO GENERAL'!C19 -> 2.1 | D15: UNIDAD: | E15: ='PRESUPUESTO GENERAL'!E19 -> m2 | F15: CANTIDAD: | G15: ='PRESUPUESTO GENERAL'!F19 -> 30
B17: 1. EQUIPOS
B18: Descripción | D18: Cantidad | E18: Tarifa/Dia | F18: Rendimiento | G18: Valor-unit.
B19: Herramientas menores | D19: 1 | E19: 3000 | F19: 10 | G19: =(D19*E19)/F19 -> 300
B20: Andamios de tiejras | D20: 1 | E20: 1000 | F20: 1 | G20: =(D20*E20)/F20 -> 1000
F22: Sub-Total | G22: =SUM(G19:G21) -> 1300
B23: 2. MATERIALES EN OBRA
B24: Descripción | D24: unidad | E24: Precio-unit. | F24: Cantidad | G24: Valor-unit.
B25: mortero 1:4 | D25: m3 | E25: 382841 | F25: 0.03 | G25: =E25*F25 -> 11485.23
D26: % | E26: =+G25 -> 11485.23 | F26: =+F25 -> 0.03 | G26: =E26*F26 -> 344.5569
G29: =ROUND(E29*F29,0) -> 0
F30: Sub-Total | G30: =SUM(G25:G29) -> 11829.787
B31: 3. TRANSPORTES
B32: Material | D32: Cantidad | E32: Rendimiento/Dia | F32: Tarifa | G32: Valor-unit.
G35: =SUM(G33:G34) -> 0
B36: 4. MANO DE OBRA
B37: Trabajador | C37: Jornal | D37: Prestaciones | E37: Jornal Total | F37: Rendimiento | G37: Valor-unit.
B38: =Personal!D35 -> CUADRILLA ( OFICIAL + AYUDANTE) (JR) | C38: 79991.261 | D38: 67992.572 | E38: 147983.83 | F38: 10 | G38: =ROUND(E38/F38,0) -> 14798
F40: Sub-Total | G40: =SUM(G38:G39) -> 14798
F41: Total Costo Directo | G41: =+G22+G30+G35+G40 -> 27927.787
B44: DANIELA BUSTAMENTE | G44: ELINA UPARELA MARSIGLIA
B45: ARQUITECTA CONTRATISTA DE APOYO S.I.D. | G45: DIRECTOR TECNICO Y ADMINISTRATIVO S.I.D
B46: Elaboró | G46: Aprobó
B48: ¡Ahora le toca al pueblo! Dirección: Palacio de Naín - Calle 27 N 3 - 28 - Montería - Córdoba / Contacto Teléfono: 7848940 / Línea de atención gratuita: 018000400357 Email: contactenos@cordoba.gov.co - secretaria.infraestructura@cordoba.gov.co

Sheet 3.1-A-P-U
B2: ANÁLISIS DE PRECIOS UNITARIOS - A.P.U.
B4: REPÚBLICA DE COLOMBIA GOBERNACIÓN DE CORDOBA
B9: MANTENIMIENTO Y ADECUACIÓN DE LA CASA DE LA MUJER UBICADA EN EL MUNICIPIO DE MONTERÍA - CÓRDOBA
B13: PROYECTO U OBRA: | D13: DESCRIPCIÓN DEL ÍTEM:
B14: =+B9 -> MANTENIMIENTO Y ADECUACIÓN DE LA CASA DE LA MUJER UBICADA EN EL MUNICIPIO DE MONTERÍA - CÓRDOBA | D14: ='PRESUPUESTO GENERAL'!D22 -> Reparacion de cubierta y caballerte en eternit
B15: ÍTEM: | C15: ='PRESUPUESTO GENERAL'!C22 -> 3.1 | D15: UNIDAD: | E15: ='PRESUPUESTO GENERAL'!E22 -> m2 | F15: CANTIDAD: | G15: ='PRESUPUESTO GENERAL'!F22 -> 702.63622
B17: 1. EQUIPOS
B18: Descripción | D18: Cantidad | E18: Tarifa/Dia | F18: Rendimiento | G18: Valor-unit.
B19: Juego de herramientas menores | D19: 1 | E19: 1600 | F19: 0.2 | G19: =E19*F19 -> 320
B20: Andamio metalico tubular | D20: 1 | E20: 1100 | F20: 0.3 | G20: =E20*F20 -> 330
B21: Cruceta andamio | D21: 1 | E21: 100 | F21: 0.2 | G21: =E21*F21 -> 20
F22: Sub-Total | G22: =SUM(G19:G21) -> 670
B23: 2. MATERIALES EN OBRA
B24: Descripción | D24: unidad | E24: Precio-unit. | F24: Cantidad | G24: Valor-unit.
B25: Gancho | D25: und | E25: 353 | F25: 2 | G25: =ROUND(E25*F25,0) -> 706
B26: Teja asbesto cemento # 6 | D26: und | E26: 25900 | F26: 1 | G26: =ROUND(E26*F26,0) -> 25900
F29: Sub-Total | G29: =SUM(G25:G28) -> 26606
B30: 3. TRANSPORTES
B31: Material | D31: Cantidad | E31: Rendimiento/Dia | F31: Tarifa | G31: Valor-unit.
F34: Sub-Total | G34: =SUM(G32:G33) -> 0
B35: 4. MANO DE OBRA
B36: Trabajador | C36: Jornal | D36: Prestaciones | E36: Jornal Total | F36: Rendimiento | G36: Valor-unit.
B37: CUADRILLA ( OFICIAL + AYUDANTE) (JR) | C37: 79991.261 | D37: 67992.572 | E37: 147983.83 | F37: 15 | G37: =ROUND(E37/F37,0) -> 9866
F40: Sub-Total | G40: =SUM(G37:G39) -> 9866
F41: Total Costo Directo | G41: =+G22+G29+G34+G40 -> 37142
B44: DANIELA BUSTAMENTE | G44: ELINA UPARELA MARSIGLIA
B45: ARQUITECTA CONTRATISTA DE APOYO S.I.D. | G45: DIRECTOR TECNICO Y ADMINISTRATIVO S.I.D
B46: Elaboró | G46: Aprobó
B48: ¡Ahora le toca al pueblo! Dirección: Palacio de Naín - Calle 27 N 3 - 28 - Montería - Córdoba / Contacto Teléfono: 7848940 / Línea de atención gratuita: 018000400357 Email: contactenos@cordoba.gov.co - secretaria.infraestructura@cordoba.gov.co

Sheet 3.2-A.P.U
B2: ANÁLISIS DE PRECIOS UNITARIOS - A.P.U.
B4: REPÚBLICA DE COLOMBIA GOBERNACIÓN DE CORDOBA
B9: MANTENIMIENTO Y ADECUACIÓN DE LA CASA DE LA MUJER UBICADA EN EL MUNICIPIO DE MONTERÍA - CÓRDOBA
B13: PROYECTO U OBRA: | D13: DESCRIPCIÓN DEL ÍTEM:
B14: =+B9 -> MANTENIMIENTO Y ADECUACIÓN DE LA CASA DE LA MUJER UBICADA EN EL MUNICIPIO DE MONTERÍA - CÓRDOBA | D14: =+'PRESUPUESTO GENERAL'!D23 -> Impermeabilizacion manto real
B15: ÍTEM: | C15: 3.2 | D15: UNIDAD: | E15: =+'PRESUPUESTO GENERAL'!E23 -> ml | F15: CANTIDAD: | G15: 20
B17: 1. EQUIPOS
B18: Descripción | D18: Cantidad | E18: Tarifa/Dia | F18: Rendimiento | G18: Valor-unit.
B19: Juego de herramientas menores | D19: 1 | E19: 3000 | F19: 10 | G19: =(D19*E19)/F19 -> 300
B20: Andamios de tiejras | D20: 1 | E20: 1000 | F20: 1 | G20: =(D20*E20)/F20 -> 1000
F22: Sub-Total | G22: =SUM(G19:G21) -> 1300
B23: 2. MATERIALES EN OBRA
B24: Descripción | D24: unidad | E24: Precio-unit. | F24: Cantidad | G24: Valor-unit.
B25: impermeabilizante con mato real con aluminio | D25: und | E25: 185000 | F25: 1 | G25: =ROUND(E25*F25,0) -> 185000
G26: =E26*F26 -> 0
F28: Sub-Total | G28: =SUM(G25:G27) -> 185000
B29: 3. TRANSPORTES
B30: Material | D30: Cantidad | E30: Rendimiento/Dia | F30: Tarifa | G30: Valor-unit.
F33: Sub-Total | G33: =SUM(G31:G32) -> 0
B34: 4. MANO DE OBRA
B35: Trabajador | C35: Jornal | D35: Prestaciones | E35: Jornal Total | F35: Rendimiento | G35: Valor-unit.
B36: CUADRILLA ( OFICIAL + AYUDANTE) (JR) | C36: 79991.261 | D36: 67992.572 | E36: 147983.83 | F36: 10 | G36: =ROUND(E36/F36,0) -> 14798
F39: Sub-Total | G39: =SUM(G36:G38) -> 14798
F40: Total Costo Directo | G40: =+G22+G28+G33+G39 -> 201098
B43: DANIELA BUSTAMENTE | G43: ELINA UPARELA MARSIGLIA
B44: ARQUITECTA CONTRATISTA DE APOYO S.I.D. | G44: DIRECTOR TECNICO Y ADMINISTRATIVO S.I.D
B45: Elaboró | G45: Aprobó
B47: ¡Ahora le toca al pueblo! Dirección: Palacio de Naín - Calle 27 N 3 - 28 - Montería - Córdoba / Contacto Teléfono: 7848940 / Línea de atención gratuita: 018000400357 Email: contactenos@cordoba.gov.co - secretaria.infraestructura@cordoba.gov.co

Sheet 3.3-A.P.U
B2: ANÁLISIS DE PRECIOS UNITARIOS - A.P.U.
B4: REPÚBLICA DE COLOMBIA GOBERNACIÓN DE CORDOBA
B9: MANTENIMIENTO Y ADECUACIÓN DE LA CASA DE LA MUJER UBICADA EN EL MUNICIPIO DE MONTERÍA - CÓRDOBA
B13: PROYECTO U OBRA: | D13: DESCRIPCIÓN DEL ÍTEM:
B14: =B9 -> MANTENIMIENTO Y ADECUACIÓN DE LA CASA DE LA MUJER UBICADA EN EL MUNICIPIO DE MONTERÍA - CÓRDOBA | D14: ='PRESUPUESTO GENERAL'!D24 -> Suministro e instalación de cielo raso en Dry wall, incluye estructura de soporte y pintura a 3 manos
B15: ÍTEM: | C15: 3.3 | D15: UNIDAD: | E15: ='PRESUPUESTO GENERAL'!E24 -> m2 | F15: CANTIDAD: | G15: ='PRESUPUESTO GENERAL'!F24 -> 717.76
B17: 1. EQUIPOS
B18: Descripción | D18: Tipo | E18: Tarifa/Hora | F18: Rendimiento | G18: Valor-unit.
B19: Herramientas menores | D19: Manual | E19: 23074 | F19: 0.05 | G19: =E19*F19 -> 1153.7
B20: Andamios metalicos | D20: Dia | E20: 500 | F20: 2.5 | G20: =E20/F20 -> 200
F21: Sub-Total | G21: =SUM(G19:G20) -> 1353.7
B22: 2. MATERIALES EN OBRA
B23: Descripción | D23: unidad | E23: Precio-unit. | F23: Cantidad | G23: Valor-unit.
B24: ANGULO 30 X 20 MM CAL 26 X 2.44 | D24: un | E24: 3500 | F24: 0.68 | G24: =E24*F24 -> 2380
B25: CINTA DE PAPEL X ROLLO | D25: un | E25: 9000 | F25: 0.02 | G25: =E25*F25 -> 180
B26: CLAVO ANCLAJE ACERO 1" | D26: un | E26: 700 | F26: 1.5 | G26: =E26*F26 -> 1050
B27: LIJA DE AGUA | D27: un | E27: 1900 | F27: 0.05 | G27: =E27*F27 -> 95
B28: OMEGA CON REBORDE CAL 26 X 2.44 | D28: un | E28: 15000 | F28: 0.9 | G28: =E28*F28 -> 13500
B29: PARAL 39 CAL 26 X 2.44 | D29: un | E29: 15000 | F29: 0.43 | G29: =E29*F29 -> 6450
B30: PLACA EN YESO 1.22 MTS X 2.44 MTS | D30: un | E30: 19200 | F30: 0.4 | G30: =E30*F30 -> 7680
B31: TORNILLO CORTO DRYWALL | D31: un | E31: 400 | F31: 23 | G31: =E31*F31 -> 9200
B32: VINILO TIPO 1 | D32: Galón | E32: 57780 | F32: 0.04 | G32: =E32*F32 -> 2311.2
B33: VINILOS PARA TECHOS | D33: Galón | E33: 25200 | F33: 0.01 | G33: =E33*F33 -> 252
B34: DESPERDICIOS | D34: % | E34: =SUM(G24:G33) -> 43098.2 | F34: 0.05 | G34: =E34*F34 -> 2154.91
F36: Sub-Total | G36: =SUM(G24:G35) -> 45253.11
B37: 3. TRANSPORTES
B38: Material | D38: Cantidad | E38: Rendimiento/Dia | F38: Tarifa | G38: Valor-unit.
F41: Sub-Total | G41: =SUM(G39:G40) -> 0
B42: 4. MANO DE OBRA
B43: Trabajador | C43: Jornal | D43: Prestaciones | E43: Jornal Total | F43: Rendimiento | G43: Valor-unit.
B44: =Personal!D14 -> MAESTRO (JR) | C44: 61940.706 | D44: 52649.6 | E44: 114590.31 | F44: 14 | G44: =ROUND(E44/F44,0) -> 8185
B45: =Personal!D27 -> CUADRILLA ( OFICIAL + 2 AYUDANTES) (JR) | C45: 112671.87 | D45: 95771.087 | E45: 208442.95 | F45: 14 | G45: =ROUND(E45/F45,0) -> 14889
F47: Sub-Total | G47: =SUM(G44:G46) -> 23074
F48: Total Costo Directo | G48: =+G21+G36+G41+G47 -> 69680.81
B50: DANIELA BUSTAMENTE | G50: ELINA UPARELA MARSIGLIA
B51: ARQUITECTA CONTRATISTA DE APOYO S.I.D. | G51: DIRECTOR TECNICO Y ADMINISTRATIVO S.I.D
B52: Elaboró | G52: Aprobó
B54: ¡Ahora le toca al pueblo! Dirección: Palacio de Naín - Calle 27 N 3 - 28 - Montería - Córdoba / Contacto Teléfono: 7848940 / Línea de atención gratuita: 018000400357 Email: contactenos@cordoba.gov.co - secretaria.infraestructura@cordoba.gov.co

Sheet 4.1-A.P.U
B2: ANÁLISIS DE PRECIOS UNITARIOS - A.P.U.
B4: REPÚBLICA DE COLOMBIA GOBERNACIÓN DE CORDOBA
B7: SECRETARÍA DE INFRAESTRUCTURA - DEPARTAMENTO DE CÓRDOBA
B9: MANTENIMIENTO Y MEJORAS LOCATIVAS EN DIFERENTES PUNTOS DEL BIBLIOPARQUE DAVID SANCHEZ JULIAO UBICADO EN EL BARRIO VILLA MELISA, DEL MUNICIPIO DE MONTERÍA-CORDOBA
B13: PROYECTO U OBRA: | D13: DESCRIPCIÓN DEL ÍTEM:
B14: =B9 -> MANTENIMIENTO Y MEJORAS LOCATIVAS EN DIFERENTES PUNTOS DEL BIBLIOPARQUE DAVID SANCHEZ JULIAO UBICADO EN EL BARRIO VILLA MELISA, DEL MUNICIPIO DE MONTERÍA-CORDOBA | D14: ='PRESUPUESTO GENERAL'!#REF! -> #REF!
B15: ÍTEM: | C15: ='PRESUPUESTO GENERAL'!#REF! -> #REF! | D15: UNIDAD: | E15: ='PRESUPUESTO GENERAL'!#REF! -> #REF! | F15: CANTIDAD: | G15: ='PRESUPUESTO GENERAL'!#REF! -> #REF!
B17: 1. EQUIPOS
B18: Descripción | D18: Cantidad | E18: Tarifa/Hora | F18: Rendimiento | G18: Valor-unit.
B19: Juego de herramientas menores | D19: 1 | E19: 2000 | F19: 1 | G19: =(D19*E19)/F19 -> 2000
F22: Sub-Total | G22: =SUM(G19:G21) -> 2000
B23: 2. MATERIALES EN OBRA
B24: Descripción | D24: unidad | E24: Precio-unit. | F24: Cantidad | G24: Valor-unit.
B25: Sanitario 4.8 lts corona o similar | D25: und | E25: 250000 | F25: 1 | G25: =ROUND(E25*F25,0) -> 250000
B26: Manguera para sanitario | D26: und | E26: 10000 | F26: 1 | G26: =ROUND(E26*F26,0) -> 10000
B27: Cemento blanco | D27: Kg | E27: 2500 | F27: 3.45 | G27: =ROUND(E27*F27,0) -> 8625
B28: Silicona liquida | D28: und | E28: 12000 | F28: 0.5 | G28: =ROUND(E28*F28,0) -> 6000
B29: Cinta teflon | D29: und | E29: 1200 | F29: 1 | G29: =ROUND(E29*F29,0) -> 1200
F31: Sub-Total | G31: =SUM(G25:G30) -> 275825
B32: 3. TRANSPORTES
B33: Material | D33: Cantidad | E33: Rendimiento/Dia | F33: Tarifa | G33: Valor-unit.
F36: Sub-Total | G36: =SUM(G34:G35) -> 0
B37: 4. MANO DE OBRA
B38: Trabajador | C38: Jornal | D38: Prestaciones | E38: Jornal Total | F38: Rendimiento | G38: Valor-unit.
B39: CUADRILLA ( OFICIAL + AYUDANTE) (JR) | C39: 79991.261 | D39: 67992.572 | E39: 147983.83 | F39: 2.5 | G39: =ROUND(E39/F39,0) -> 59194
F42: Sub-Total | G42: =SUM(G39:G41) -> 59194
F43: Total Costo Directo | G43: =+G22+G31+G36+G42 -> 337019
B46: GUSTAVO TIRADO HERNADEZ | C46: OSCAR PINEDA MENDOZA | G46: CILIA TOBIAS CARRASCAL
B47: Contratista Secretaria De Infraestructura | C47: Contratista Secretaria De Infraestructura | G47: SECRETARIA DE INFRAESTRUCTURA
B48: Elaboró | C48: Elaboró | G48: Aprobó
B50: ¡Ahora le toca al pueblo! Dirección: Palacio de Naín - Calle 27 N 3 - 28 - Montería - Córdoba / Contacto Teléfono: 7848940 / Línea de atención gratuita: 018000400357 Email: contactenos@cordoba.gov.co - secretaria.infraestructura@cordoba.gov.co

Sheet 4.2-A.P.U
B2: ANÁLISIS DE PRECIOS UNITARIOS - A.P.U.
B4: REPÚBLICA DE COLOMBIA GOBERNACIÓN DE CORDOBA
B7: SECRETARÍA DE INFRAESTRUCTURA - DEPARTAMENTO DE CÓRDOBA
B9: MANTENIMIENTO Y MEJORAS LOCATIVAS EN DIFERENTES PUNTOS DEL BIBLIOPARQUE DAVID SANCHEZ JULIAO UBICADO EN EL BARRIO VILLA MELISA, DEL MUNICIPIO DE MONTERÍA-CORDOBA
B13: PROYECTO U OBRA: | D13: DESCRIPCIÓN DEL ÍTEM:
B14: =B9 -> MANTENIMIENTO Y MEJORAS LOCATIVAS EN DIFERENTES PUNTOS DEL BIBLIOPARQUE DAVID SANCHEZ JULIAO UBICADO EN EL BARRIO VILLA MELISA, DEL MUNICIPIO DE MONTERÍA-CORDOBA | D14: ='PRESUPUESTO GENERAL'!#REF! -> #REF!
B15: ÍTEM: | C15: ='PRESUPUESTO GENERAL'!#REF! -> #REF! | D15: UNIDAD: | E15: ='PRESUPUESTO GENERAL'!#REF! -> #REF! | F15: CANTIDAD: | G15: ='PRESUPUESTO GENERAL'!#REF! -> #REF!
B17: 1. EQUIPOS
B18: Descripción | D18: Cantidad | E18: Tarifa/Hora | F18: Rendimiento | G18: Valor-unit.
B19: Juego de herramientas menores | D19: 1 | E19: 2000 | F19: 1 | G19: =(D19*E19)/F19 -> 2000
F22: Sub-Total | G22: =SUM(G19:G21) -> 2000
B23: 2. MATERIALES EN OBRA
B24: Descripción | D24: unidad | E24: Precio-unit. | F24: Cantidad | G24: Valor-unit.
B25: lavamano ref. marsella o similr | D25: und | E25: 180000 | F25: 1 | G25: =ROUND(E25*F25,0) -> 180000
B26: Manguera para lavamanos | D26: und | E26: 8400 | F26: 1 | G26: =ROUND(E26*F26,0) -> 8400
B27: Silicona liquida | D27: und | E27: 12000 | F27: 0.5 | G27: =ROUND(E27*F27,0) -> 6000
B28: Cinta teflon | D28: und | E28: 1200 | F28: 1 | G28: =ROUND(E28*F28,0) -> 1200
F30: Sub-Total | G30: =SUM(G25:G29) -> 195600
B31: 3. TRANSPORTES
B32: Material | D32: Cantidad | E32: Rendimiento/Dia | F32: Tarifa | G32: Valor-unit.
F35: Sub-Total | G35: =SUM(G33:G34) -> 0
B36: 4. MANO DE OBRA
B37: Trabajador | C37: Jornal | D37: Prestaciones | E37: Jornal Total | F37: Rendimiento | G37: Valor-unit.
B38: CUADRILLA ( OFICIAL + AYUDANTE) (JR) | C38: 79991.261 | D38: 67992.572 | E38: 147983.83 | F38: 2.5 | G38: =ROUND(E38/F38,0) -> 59194
F41: Sub-Total | G41: =SUM(G38:G40) -> 59194
F42: Total Costo Directo | G42: =+G22+G30+G35+G41 -> 256794
B45: GUSTAVO TIRADO HERNADEZ | C45: OSCAR PINEDA MENDOZA | G45: CILIA TOBIAS CARRASCAL
B46: Contratista Secretaria De Infraestructura | C46: Contratista Secretaria De Infraestructura | G46: SECRETARIA DE INFRAESTRUCTURA
B47: Elaboró | C47: Elaboró | G47: Aprobó
B49: ¡Ahora le toca al pueblo! Dirección: Palacio de Naín - Calle 27 N 3 - 28 - Montería - Córdoba / Contacto Teléfono: 7848940 / Línea de atención gratuita: 018000400357 Email: contactenos@cordoba.gov.co - secretaria.infraestructura@cordoba.gov.co

Sheet 5.2-A.P.U
B2: ANÁLISIS DE PRECIOS UNITARIOS - A.P.U.
B4: REPÚBLICA DE COLOMBIA GOBERNACIÓN DE CORDOBA
B7: SECRETARÍA DE INFRAESTRUCTURA - DEPARTAMENTO DE CÓRDOBA
B9: MANTENIMIENTO Y MEJORAS LOCATIVAS EN DIFERENTES PUNTOS DEL BIBLIOPARQUE DAVID SANCHEZ JULIAO UBICADO EN EL BARRIO VILLA MELISA, DEL MUNICIPIO DE MONTERÍA-CORDOBA
B13: PROYECTO U OBRA: | D13: DESCRIPCIÓN DEL ÍTEM:
B14: =B9 -> MANTENIMIENTO Y MEJORAS LOCATIVAS EN DIFERENTES PUNTOS DEL BIBLIOPARQUE DAVID SANCHEZ JULIAO UBICADO EN EL BARRIO VILLA MELISA, DEL MUNICIPIO DE MONTERÍA-CORDOBA | D14: ='PRESUPUESTO GENERAL'!D23 -> Impermeabilizacion manto real
B15: ÍTEM: | C15: ='PRESUPUESTO GENERAL'!C24 -> 3.3 | D15: UNIDAD: | E15: ='PRESUPUESTO GENERAL'!#REF! -> #REF! | F15: CANTIDAD: | G15: ='PRESUPUESTO GENERAL'!#REF! -> #REF!
B17: 1. EQUIPOS
B18: Descripción | D18: Cantidad | E18: Tarifa/Dia | F18: Rendimiento | G18: Valor-unit.
B19: Juego de herramientas menores | D19: 1 | E19: 1600 | F19: 0.5 | G19: =E19*F19 -> 800
G20: =E20*F20 -> 0
G21: =E21*F21 -> 0
F22: Sub-Total | G22: =SUM(G19:G21) -> 800
B23: 2. MATERIALES EN OBRA
B24: Descripción | D24: unidad | E24: Precio-unit. | F24: Cantidad | G24: Valor-unit.
B25: impermeabilizante asfaltico | D25: und | E25: 35200 | F25: 2 | G25: =ROUND(E25*F25,0) -> 70400
B26: brocha 4" | D26: und | E26: 6000 | F26: 1 | G26: =ROUND(E26*F26,0) -> 6000
G27: =ROUND(E27*F27,0) -> 0
G28: =ROUND(E28*F28,0) -> 0
F29: Sub-Total | G29: =SUM(G25:G28) -> 76400
B30: 3. TRANSPORTES
B31: Material | D31: Cantidad | E31: Rendimiento/Dia | F31: Tarifa | G31: Valor-unit.
F34: Sub-Total | G34: =SUM(G32:G33) -> 0
B35: 4. MANO DE OBRA
B36: Trabajador | C36: Jornal | D36: Prestaciones | E36: Jornal Total | F36: Rendimiento | G36: Valor-unit.
B37: CUADRILLA ( OFICIAL + AYUDANTE) (JR) | C37: 79991.261 | D37: 67992.572 | E37: 147983.83 | F37: 25 | G37: =ROUND(E37/F37,0) -> 5919
F40: Sub-Total | G40: =SUM(G37:G39) -> 5919
F41: Total Costo Directo | G41: =+G22+G29+G34+G40 -> 83119
B44: GUSTAVO TIRADO HERNADEZ | D44: OSCAR PINEDA MENDOZA | G44: CILIA TOBIAS CARRASCAL
B45: Contratista Secretaria De Infraestructura | D45: Contratista Secretaria De Infraestructura | G45: SECRETARIA DE INFRAESTRUCTURA
B46: Elaboró | D46: Elaboró | G46: Aprobó
B48: ¡Ahora le toca al pueblo! Dirección: Palacio de Naín - Calle 27 N 3 - 28 - Montería - Córdoba / Contacto Teléfono: 7848940 / Línea de atención gratuita: 018000400357 Email: contactenos@cordoba.gov.co - secretaria.infraestructura@cordoba.gov.co

Sheet 4.1-A.P.U.
B2: ANÁLISIS DE PRECIOS UNITARIOS - A.P.U.
B4: REPÚBLICA DE COLOMBIA GOBERNACIÓN DE CORDOBA
B9: MANTENIMIENTO Y ADECUACIÓN DE LA CASA DE LA MUJER UBICADA EN EL MUNICIPIO DE MONTERÍA - CÓRDOBA
B13: PROYECTO U OBRA: | D13: DESCRIPCIÓN DEL ÍTEM:
B14: =+B9 -> MANTENIMIENTO Y ADECUACIÓN DE LA CASA DE LA MUJER UBICADA EN EL MUNICIPIO DE MONTERÍA - CÓRDOBA | D14: ='PRESUPUESTO GENERAL'!D27 -> Pintura tipo 1 para muros interiores y exteriores (3 manos)
B15: ÍTEM: | C15: ='PRESUPUESTO GENERAL'!C27 -> 4.1 | D15: UNIDAD: | E15: ='PRESUPUESTO GENERAL'!E27 -> m2 | F15: CANTIDAD: | G15: ='PRESUPUESTO GENERAL'!F27 -> 2397
B17: 1. EQUIPOS
B18: Descripción | D18: Cantidad | E18: Tarifa/Hora | F18: Rendimiento | G18: Valor-unit.
B19: Juego de herramientas menores | D19: 1 | E19: 7000 | F19: 14 | G19: =(D19*E19)/F19 -> 500
B20: Andamios metalicos | D20: 1 | E20: 7000 | F20: 14 | G20: =(D20*E20)/F20 -> 500
F22: Sub-Total | G22: =SUM(G19:G21) -> 1000
B23: 2. MATERIALES EN OBRA
B24: Descripción | D24: unidad | E24: Precio-unit. | F24: Cantidad | G24: Valor-unit.
B25: Pintura tipo 1, 3 manos | D25: m2 | E25: 3200 | F25: 1 | G25: =ROUND(E25*F25,0) -> 3200
B26: Pegate tipo acronal | D26: gl | E26: 200 | F26: 1 | G26: =ROUND(E26*F26,0) -> 200
B27: Desperdicio 5 % | G27: =(G25+G26)*5% -> 170
F29: Sub-Total | G29: =SUM(G25:G28) -> 3570
B30: 3. TRANSPORTES
B31: Material | D31: Cantidad | E31: Rendimiento/Dia | F31: Tarifa | G31: Valor-unit.
F34: Sub-Total | G34: =SUM(G32:G33) -> 0
B35: 4. MANO DE OBRA
B36: Trabajador | C36: Jornal | D36: Prestaciones | E36: Jornal Total | F36: Rendimiento | G36: Valor-unit.
B37: CUADRILLA ( OFICIAL + AYUDANTE) (JR) | C37: 79991.261 | D37: 67992.572 | E37: 147983.83 | F37: 22 | G37: =ROUND(E37/F37,0) -> 6727
F40: Sub-Total | G40: =SUM(G37:G39) -> 6727
F41: Total Costo Directo | G41: =+G22+G29+G34+G40 -> 11297
B44: DANIELA BUSTAMENTE | G44: ELINA UPARELA MARSIGLIA
B45: ARQUITECTA CONTRATISTA DE APOYO S.I.D. | G45: DIRECTOR TECNICO Y ADMINISTRATIVO S.I.D
B46: Elaboró | G46: Aprobó
B48: ¡Ahora le toca al pueblo! Dirección: Palacio de Naín - Calle 27 N 3 - 28 - Montería - Córdoba / Contacto Teléfono: 7848940 / Línea de atención gratuita: 018000400357 Email: contactenos@cordoba.gov.co - secretaria.infraestructura@cordoba.gov.co

Sheet 4.2-A.P.U.
B2: ANÁLISIS DE PRECIOS UNITARIOS - A.P.U.
B4: REPÚBLICA DE COLOMBIA GOBERNACIÓN DE CORDOBA
B9: MANTENIMIENTO Y ADECUACIÓN DE LA CASA DE LA MUJER UBICADA EN EL MUNICIPIO DE MONTERÍA - CÓRDOBA
B13: PROYECTO U OBRA: | D13: DESCRIPCIÓN DEL ÍTEM:
B14: =B9 -> MANTENIMIENTO Y ADECUACIÓN DE LA CASA DE LA MUJER UBICADA EN EL MUNICIPIO DE MONTERÍA - CÓRDOBA | D14: ='PRESUPUESTO GENERAL'!D28 -> Estuco plastico para muros
B15: ÍTEM: | C15: ='PRESUPUESTO GENERAL'!C28 -> 4.2 | D15: UNIDAD: | E15: ='PRESUPUESTO GENERAL'!E27 -> m2 | F15: CANTIDAD: | G15: ='PRESUPUESTO GENERAL'!F28 -> 30
B17: 1. EQUIPOS
B18: Descripción | D18: Cantidad | E18: Tarifa/Dia | F18: Rendimiento | G18: Valor-unit.
B19: Juego de herramientas menores | D19: 1 | E19: 7000 | F19: 6.5 | G19: =(D19*E19)/F19 -> 1076.9231
B20: Andamios metalicos | D20: 1 | E20: 7000 | F20: 8 | G20: =(D20*E20)/F20 -> 875
F22: Sub-Total | G22: =SUM(G19:G21) -> 1951.9231
B23: 2. MATERIALES EN OBRA
B24: Descripción | D24: unidad | E24: Precio-unit. | F24: Cantidad | G24: Valor-unit.
B25: Estuco plastico | D25: kg | E25: 70000 | F25: 0.15 | G25: =ROUND(E25*F25,0) -> 10500
B26: lija | D26: und | E26: 1200 | F26: 0.3 | G26: =ROUND(E26*F26,0) -> 360
B27: Desperdicio 5 % | G27: =(G25+G26)*5% -> 543
F29: Sub-Total | G29: =SUM(G25:G28) -> 11403
B30: 3. TRANSPORTES
B31: Material | D31: Cantidad | E31: Rendimiento/Dia | F31: Tarifa | G31: Valor-unit.
F34: Sub-Total | G34: =SUM(G32:G33) -> 0
B35: 4. MANO DE OBRA
B36: Trabajador | C36: Jornal | D36: Prestaciones | E36: Jornal Total | F36: Rendimiento | G36: Valor-unit.
B37: CUADRILLA ( OFICIAL + AYUDANTE) (JR) | C37: 79991.261 | D37: 67992.572 | E37: 147983.83 | F37: 13 | G37: =ROUND(E37/F37,0) -> 11383
F40: Sub-Total | G40: =SUM(G37:G39) -> 11383
F41: Total Costo Directo | G41: =+G22+G29+G34+G40 -> 24737.923
B44: DANIELA BUSTAMENTE | G44: ELINA UPARELA MARSIGLIA
B45: ARQUITECTA CONTRATISTA DE APOYO S.I.D. | G45: DIRECTOR TECNICO Y ADMINISTRATIVO S.I.D
B46: Elaboró | G46: Aprobó
B48: ¡Ahora le toca al pueblo! Dirección: Palacio de Naín - Calle 27 N 3 - 28 - Montería - Córdoba / Contacto Teléfono: 7848940 / Línea de atención gratuita: 018000400357 Email: contactenos@cordoba.gov.co - secretaria.infraestructura@cordoba.gov.co

Sheet 5.1 A.P.U
B2: ANÁLISIS DE PRECIOS UNITARIOS - A.P.U.
B4: REPÚBLICA DE COLOMBIA GOBERNACIÓN DE CORDOBA
B9: MANTENIMIENTO Y ADECUACIÓN DE LA CASA DE LA MUJER UBICADA EN EL MUNICIPIO DE MONTERÍA - CÓRDOBA
B13: PROYECTO U OBRA: | D13: DESCRIPCIÓN DEL ÍTEM:
B14: =B9 -> MANTENIMIENTO Y ADECUACIÓN DE LA CASA DE LA MUJER UBICADA EN EL MUNICIPIO DE MONTERÍA - CÓRDOBA | D14: =+'PRESUPUESTO GENERAL'!D31 -> suministro e instalacion de puertas en madera 2,64 x 1,6 (fachada)
B15: ÍTEM: | C15: =+'PRESUPUESTO GENERAL'!C31 -> 5.1 | D15: UNIDAD: | E15: =+'PRESUPUESTO GENERAL'!E31 -> und | F15: CANTIDAD: | G15: =+'PRESUPUESTO GENERAL'!F31 -> 2
B17: 1. EQUIPOS
B18: Descripción | D18: Cantidad | E18: Tarifa/Dia | F18: Rendimiento | G18: Valor-unit.
B19: Juego de herramientas menores | D19: 1 | E19: 7000 | F19: 5 | G19: =(D19*E19)/F19 -> 1400
F22: Sub-Total | G22: =SUM(G19:G21) -> 1400
B23: 2. MATERIALES EN OBRA
B24: Descripción | D24: unidad | E24: Precio-unit. | F24: Cantidad | G24: Valor-unit.
B25: Marco de madera | D25: und | E25: 60000 | F25: 1 | G25: =ROUND(E25*F25,0) -> 60000
B26: hoja de puerta para exterior solida | D26: und | E26: 400000 | F26: 2 | G26: =ROUND(E26*F26,0) -> 800000
B27: Tapa luces macizo | D27: m | E27: 4000 | F27: 11 | G27: =ROUND(E27*F27,0) -> 44000
B28: tornillo de acero 19/22mm | D28: und | E28: 6 | F28: 13000 | G28: =ROUND(E28*F28,0) -> 78000
B29: Cerradura de tipo cerrojo, frente, accesorios y tirnillos de atado para puerta de paso | D29: und | E29: 35000 | F29: 1 | G29: =ROUND(E29*F29,0) -> 35000
B30: juego de manijas | D30: und | E30: 135000 | F30: 2 | G30: =ROUND(E30*F30,0) -> 270000
B31: Esmalte semibrillante | D31: gln | E31: 67000 | F31: 0.022 | G31: =ROUND(E31*F31,0) -> 1474
F33: Sub-Total | G33: =SUM(G25:G32) -> 1288474
B34: 3. TRANSPORTES
B35: Material | D35: Cantidad | E35: Rendimiento/Dia | F35: Tarifa | G35: Valor-unit.
F38: Sub-Total | G38: =SUM(G36:G37) -> 0
B39: 4. MANO DE OBRA
B40: Trabajador | C40: Jornal | D40: Prestaciones | E40: Jornal Total | F40: Rendimiento | G40: Valor-unit.
B41: CUADRILLA ( OFICIAL + AYUDANTE) (JR) | C41: 79991.261 | D41: 67992.572 | E41: 147983.83 | F41: 100 | G41: =ROUND(E41/F41,0) -> 1480
F44: Sub-Total | G44: =SUM(G41:G43) -> 1480
F45: Total Costo Directo | G45: =+G22+G33+G38+G44 -> 1291354
B48: DANIELA BUSTAMENTE | G48: ELINA UPARELA MARSIGLIA
B49: ARQUITECTA CONTRATISTA DE APOYO S.I.D. | G49: DIRECTOR TECNICO Y ADMINISTRATIVO S.I.D
B50: Elaboró | G50: Aprobó
B52: ¡Ahora le toca al pueblo! Dirección: Palacio de Naín - Calle 27 N 3 - 28 - Montería - Córdoba / Contacto Teléfono: 7848940 / Línea de atención gratuita: 018000400357 Email: contactenos@cordoba.gov.co - secretaria.infraestructura@cordoba.gov.co

Sheet 5.2 A.P.U
B2: ANÁLISIS DE PRECIOS UNITARIOS - A.P.U.
B4: REPÚBLICA DE COLOMBIA GOBERNACIÓN DE CORDOBA
B9: MANTENIMIENTO Y ADECUACIÓN DE LA CASA DE LA MUJER UBICADA EN EL MUNICIPIO DE MONTERÍA - CÓRDOBA
B13: PROYECTO U OBRA: | D13: DESCRIPCIÓN DEL ÍTEM:
B14: =B9 -> MANTENIMIENTO Y ADECUACIÓN DE LA CASA DE LA MUJER UBICADA EN EL MUNICIPIO DE MONTERÍA - CÓRDOBA | D14: =+'PRESUPUESTO GENERAL'!D32 -> suministro e instalacion de ventanas en madera 2,20 x 1,00 (fachada)
B15: ÍTEM: | C15: 5.2 | D15: UNIDAD: | E15: =+'PRESUPUESTO GENERAL'!E31 -> und | F15: CANTIDAD: | G15: 4
B17: 1. EQUIPOS
B18: Descripción | D18: Cantidad | E18: Tarifa/Dia | F18: Rendimiento | G18: Valor-unit.
B19: Juego de herramientas menores | D19: 1 | E19: 7000 | F19: 5 | G19: =(D19*E19)/F19 -> 1400
F22: Sub-Total | G22: =SUM(G19:G21) -> 1400
B23: 2. MATERIALES EN OBRA
B24: Descripción | D24: unidad | E24: Precio-unit. | F24: Cantidad | G24: Valor-unit.
B25: Marco de madera | D25: und | E25: 90000 | F25: 1 | G25: =ROUND(E25*F25,0) -> 90000
B26: hoja de ventana para exterior solida | D26: und | E26: 350000 | F26: 1 | G26: =ROUND(E26*F26,0) -> 350000
B27: Tapa luces macizo | D27: m | E27: 4000 | F27: 10 | G27: =ROUND(E27*F27,0) -> 40000
B28: tornillo de acero 19/22mm | D28: und | E28: 6 | F28: 13000 | G28: =ROUND(E28*F28,0) -> 78000
B29: Cerradura de tipo cerrojo, | D29: und | E29: 35000 | F29: 1 | G29: =ROUND(E29*F29,0) -> 35000
B30: juego de manijas | D30: und | E30: 135000 | F30: 2 | G30: =ROUND(E30*F30,0) -> 270000
B31: Esmalte semibrillante | D31: gln | E31: 67000 | F31: 0.022 | G31: =ROUND(E31*F31,0) -> 1474
F33: Sub-Total | G33: =SUM(G25:G32) -> 864474
B34: 3. TRANSPORTES
B35: Material | D35: Cantidad | E35: Rendimiento/Dia | F35: Tarifa | G35: Valor-unit.
F38: Sub-Total | G38: =SUM(G36:G37) -> 0
B39: 4. MANO DE OBRA
B40: Trabajador | C40: Jornal | D40: Prestaciones | E40: Jornal Total | F40: Rendimiento | G40: Valor-unit.
B41: CUADRILLA ( OFICIAL + AYUDANTE) (JR) | C41: 79991.261 | D41: 67992.572 | E41: 147983.83 | F41: 100 | G41: =ROUND(E41/F41,0) -> 1480
F44: Sub-Total | G44: =SUM(G41:G43) -> 1480
F45: Total Costo Directo | G45: =+G22+G33+G38+G44 -> 867354
B48: DANIELA BUSTAMENTE | G48: ELINA UPARELA MARSIGLIA
B49: ARQUITECTA CONTRATISTA DE APOYO S.I.D. | G49: DIRECTOR TECNICO Y ADMINISTRATIVO S.I.D
B50: Elaboró | G50: Aprobó
B52: ¡Ahora le toca al pueblo! Dirección: Palacio de Naín - Calle 27 N 3 - 28 - Montería - Córdoba / Contacto Teléfono: 7848940 / Línea de atención gratuita: 018000400357 Email: contactenos@cordoba.gov.co - secretaria.infraestructura@cordoba.gov.co

Sheet 5.3 A.P.U 
B2: ANÁLISIS DE PRECIOS UNITARIOS - A.P.U.
B4: REPÚBLICA DE COLOMBIA GOBERNACIÓN DE CORDOBA
B9: MANTENIMIENTO Y ADECUACIÓN DE LA CASA DE LA MUJER UBICADA EN EL MUNICIPIO DE MONTERÍA - CÓRDOBA
B13: PROYECTO U OBRA: | D13: DESCRIPCIÓN DEL ÍTEM:
B14: =B9 -> MANTENIMIENTO Y ADECUACIÓN DE LA CASA DE LA MUJER UBICADA EN EL MUNICIPIO DE MONTERÍA - CÓRDOBA | D14: =+'PRESUPUESTO GENERAL'!D33 -> suministro e instalacion de puertas en madera 2,00 x 0,90
B15: ÍTEM: | C15: 5.3 | D15: UNIDAD: | E15: =+'PRESUPUESTO GENERAL'!E31 -> und | F15: CANTIDAD: | G15: =+'PRESUPUESTO GENERAL'!F33 -> 4
B17: 1. EQUIPOS
B18: Descripción | D18: Cantidad | E18: Tarifa/Dia | F18: Rendimiento | G18: Valor-unit.
B19: Juego de herramientas menores | D19: 1 | E19: 7000 | F19: 5 | G19: =(D19*E19)/F19 -> 1400
F22: Sub-Total | G22: =SUM(G19:G21) -> 1400
B23: 2. MATERIALES EN OBRA
B24: Descripción | D24: unidad | E24: Precio-unit. | F24: Cantidad | G24: Valor-unit.
B25: Marco de madera | D25: und | E25: 150000 | F25: 1 | G25: =ROUND(E25*F25,0) -> 150000
B26: hoja de puerta para exterior solida | D26: und | E26: 350000 | F26: 1 | G26: =ROUND(E26*F26,0) -> 350000
B27: Tapa luces macizo | D27: m | E27: 4000 | F27: 10 | G27: =ROUND(E27*F27,0) -> 40000
B28: tornillo de acero 19/22mm | D28: und | E28: 6 | F28: 13000 | G28: =ROUND(E28*F28,0) -> 78000
B29: Cerradura de tipo cerrojo, frente, accesorios y tirnillos de atado para puerta de paso | D29: und | E29: 35000 | F29: 1 | G29: =ROUND(E29*F29,0) -> 35000
B30: juego de manijas | D30: und | E30: 135000 | F30: 2 | G30: =ROUND(E30*F30,0) -> 270000
B31: Esmalte semibrillante | D31: gln | E31: 67000 | F31: 0.022 | G31: =ROUND(E31*F31,0) -> 1474
F33: Sub-Total | G33: =SUM(G25:G32) -> 924474
B34: 3. TRANSPORTES
B35: Material | D35: Cantidad | E35: Rendimiento/Dia | F35: Tarifa | G35: Valor-unit.
F38: Sub-Total | G38: =SUM(G36:G37) -> 0
B39: 4. MANO DE OBRA
B40: Trabajador | C40: Jornal | D40: Prestaciones | E40: Jornal Total | F40: Rendimiento | G40: Valor-unit.
B41: CUADRILLA ( OFICIAL + AYUDANTE) (JR) | C41: 79991.261 | D41: 67992.572 | E41: 147983.83 | F41: 100 | G41: =ROUND(E41/F41,0) -> 1480
F44: Sub-Total | G44: =SUM(G41:G43) -> 1480
F45: Total Costo Directo | G45: =+G22+G33+G38+G44 -> 927354
B48: DANIELA BUSTAMENTE | G48: ELINA UPARELA MARSIGLIA
B49: ARQUITECTA CONTRATISTA DE APOYO S.I.D. | G49: DIRECTOR TECNICO Y ADMINISTRATIVO S.I.D
B50: Elaboró | G50: Aprobó
B52: ¡Ahora le toca al pueblo! Dirección: Palacio de Naín - Calle 27 N 3 - 28 - Montería - Córdoba / Contacto Teléfono: 7848940 / Línea de atención gratuita: 018000400357 Email: contactenos@cordoba.gov.co - secretaria.infraestructura@cordoba.gov.co

Sheet 5.4 A.P.U 
B2: ANÁLISIS DE PRECIOS UNITARIOS - A.P.U.
B4: REPÚBLICA DE COLOMBIA GOBERNACIÓN DE CORDOBA
B9: MANTENIMIENTO Y ADECUACIÓN DE LA CASA DE LA MUJER UBICADA EN EL MUNICIPIO DE MONTERÍA - CÓRDOBA
B13: PROYECTO U OBRA: | D13: DESCRIPCIÓN DEL ÍTEM:
B14: =B9 -> MANTENIMIENTO Y ADECUACIÓN DE LA CASA DE LA MUJER UBICADA EN EL MUNICIPIO DE MONTERÍA - CÓRDOBA | D14: =+'PRESUPUESTO GENERAL'!D34 -> suministro e instalacion de puertas en madera 2,00 x 0,80
B15: ÍTEM: | C15: 5.4 | D15: UNIDAD: | E15: =+'PRESUPUESTO GENERAL'!E31 -> und | F15: CANTIDAD: | G15: 3
B17: 1. EQUIPOS
B18: Descripción | D18: Cantidad | E18: Tarifa/Dia | F18: Rendimiento | G18: Valor-unit.
B19: Juego de herramientas menores | D19: 1 | E19: 7000 | F19: 5 | G19: =(D19*E19)/F19 -> 1400
F22: Sub-Total | G22: =SUM(G19:G21) -> 1400
B23: 2. MATERIALES EN OBRA
B24: Descripción | D24: unidad | E24: Precio-unit. | F24: Cantidad | G24: Valor-unit.
B25: Marco de madera | D25: und | E25: 100000 | F25: 1 | G25: =ROUND(E25*F25,0) -> 100000
B26: hoja de puerta para exterior solida | D26: und | E26: 340000 | F26: 1 | G26: =ROUND(E26*F26,0) -> 340000
B27: Tapa luces macizo | D27: m | E27: 4000 | F27: 10 | G27: =ROUND(E27*F27,0) -> 40000
B28: tornillo de acero 19/22mm | D28: und | E28: 6 | F28: 13000 | G28: =ROUND(E28*F28,0) -> 78000
B29: Cerradura de tipo cerrojo, frente, accesorios y tirnillos de atado para puerta de paso | D29: und | E29: 35000 | F29: 1 | G29: =ROUND(E29*F29,0) -> 35000
B30: juego de manijas | D30: und | E30: 135000 | F30: 2 | G30: =ROUND(E30*F30,0) -> 270000
B31: Esmalte semibrillante | D31: gln | E31: 67000 | F31: 0.022 | G31: =ROUND(E31*F31,0) -> 1474
F33: Sub-Total | G33: =SUM(G25:G32) -> 864474
B34: 3. TRANSPORTES
B35: Material | D35: Cantidad | E35: Rendimiento/Dia | F35: Tarifa | G35: Valor-unit.
F38: Sub-Total | G38: =SUM(G36:G37) -> 0
B39: 4. MANO DE OBRA
B40: Trabajador | C40: Jornal | D40: Prestaciones | E40: Jornal Total | F40: Rendimiento | G40: Valor-unit.
B41: CUADRILLA ( OFICIAL + AYUDANTE) (JR) | C41: 79991.261 | D41: 67992.572 | E41: 147983.83 | F41: 100 | G41: =ROUND(E41/F41,0) -> 1480
F44: Sub-Total | G44: =SUM(G41:G43) -> 1480
F45: Total Costo Directo | G45: =+G22+G33+G38+G44 -> 867354
B48: DANIELA BUSTAMENTE | G48: ELINA UPARELA MARSIGLIA
B49: ARQUITECTA CONTRATISTA DE APOYO S.I.D. | G49: DIRECTOR TECNICO Y ADMINISTRATIVO S.I.D
B50: Elaboró | G50: Aprobó
B52: ¡Ahora le toca al pueblo! Dirección: Palacio de Naín - Calle 27 N 3 - 28 - Montería - Córdoba / Contacto Teléfono: 7848940 / Línea de atención gratuita: 018000400357 Email: contactenos@cordoba.gov.co - secretaria.infraestructura@cordoba.gov.co

Sheet 5.5 A.P.U 
B2: ANÁLISIS DE PRECIOS UNITARIOS - A.P.U.
B4: REPÚBLICA DE COLOMBIA GOBERNACIÓN DE CORDOBA
B9: MANTENIMIENTO Y ADECUACIÓN DE LA CASA DE LA MUJER UBICADA EN EL MUNICIPIO DE MONTERÍA - CÓRDOBA
B13: PROYECTO U OBRA: | D13: DESCRIPCIÓN DEL ÍTEM:
B14: =B9 -> MANTENIMIENTO Y ADECUACIÓN DE LA CASA DE LA MUJER UBICADA EN EL MUNICIPIO DE MONTERÍA - CÓRDOBA | D14: =+'PRESUPUESTO GENERAL'!D35 -> suministro e instalacion de puertas en madera 2,10 x 1,10
B15: ÍTEM: | C15: 5.5 | D15: UNIDAD: | E15: =+'PRESUPUESTO GENERAL'!E31 -> und | F15: CANTIDAD: | G15: =+'PRESUPUESTO GENERAL'!F35 -> 3
B17: 1. EQUIPOS
B18: Descripción | D18: Cantidad | E18: Tarifa/Dia | F18: Rendimiento | G18: Valor-unit.
B19: Juego de herramientas menores | D19: 1 | E19: 7000 | F19: 5 | G19: =(D19*E19)/F19 -> 1400
F22: Sub-Total | G22: =SUM(G19:G21) -> 1400
B23: 2. MATERIALES EN OBRA
B24: Descripción | D24: unidad | E24: Precio-unit. | F24: Cantidad | G24: Valor-unit.
B25: Marco de madera | D25: und | E25: 90000 | F25: 1 | G25: =ROUND(E25*F25,0) -> 90000
B26: hoja de puerta para exterior solida | D26: und | E26: 350000 | F26: 1 | G26: =ROUND(E26*F26,0) -> 350000
B27: Tapa luces macizo | D27: m | E27: 4000 | F27: 10 | G27: =ROUND(E27*F27,0) -> 40000
B28: tornillo de acero 19/22mm | D28: und | E28: 6 | F28: 13000 | G28: =ROUND(E28*F28,0) -> 78000
B29: Cerradura de tipo cerrojo, frente, accesorios y tirnillos de atado para puerta de paso | D29: und | E29: 35000 | F29: 1 | G29: =ROUND(E29*F29,0) -> 35000
B30: juego de manijas | D30: und | E30: 135000 | F30: 2 | G30: =ROUND(E30*F30,0) -> 270000
B31: Esmalte semibrillante | D31: gln | E31: 67000 | F31: 0.022 | G31: =ROUND(E31*F31,0) -> 1474
F33: Sub-Total | G33: =SUM(G25:G32) -> 864474
B34: 3. TRANSPORTES
B35: Material | D35: Cantidad | E35: Rendimiento/Dia | F35: Tarifa | G35: Valor-unit.
F38: Sub-Total | G38: =SUM(G36:G37) -> 0
B39: 4. MANO DE OBRA
B40: Trabajador | C40: Jornal | D40: Prestaciones | E40: Jornal Total | F40: Rendimiento | G40: Valor-unit.
B41: CUADRILLA ( OFICIAL + AYUDANTE) (JR) | C41: 79991.261 | D41: 67992.572 | E41: 147983.83 | F41: 100 | G41: =ROUND(E41/F41,0) -> 1480
F44: Sub-Total | G44: =SUM(G41:G43) -> 1480
F45: Total Costo Directo | G45: =+G22+G33+G38+G44 -> 867354
B48: DANIELA BUSTAMENTE | G48: ELINA UPARELA MARSIGLIA
B49: ARQUITECTA CONTRATISTA DE APOYO S.I.D. | G49: DIRECTOR TECNICO Y ADMINISTRATIVO S.I.D
B50: Elaboró | G50: Aprobó
B52: ¡Ahora le toca al pueblo! Dirección: Palacio de Naín - Calle 27 N 3 - 28 - Montería - Córdoba / Contacto Teléfono: 7848940 / Línea de atención gratuita: 018000400357 Email: contactenos@cordoba.gov.co - secretaria.infraestructura@cordoba.gov.co

Sheet 5.6 A.P.U.
B2: ANÁLISIS DE PRECIOS UNITARIOS - A.P.U.
B4: REPÚBLICA DE COLOMBIA GOBERNACIÓN DE CORDOBA
B9: MANTENIMIENTO Y ADECUACIÓN DE LA CASA DE LA MUJER UBICADA EN EL MUNICIPIO DE MONTERÍA - CÓRDOBA
B13: PROYECTO U OBRA: | D13: DESCRIPCIÓN DEL ÍTEM:
B14: =B9 -> MANTENIMIENTO Y ADECUACIÓN DE LA CASA DE LA MUJER UBICADA EN EL MUNICIPIO DE MONTERÍA - CÓRDOBA | D14: =+'PRESUPUESTO GENERAL'!D36 -> suministro e instalacion de puertas en madera 2,70 x 1,65
B15: ÍTEM: | C15: 5.6 | D15: UNIDAD: | E15: =+'PRESUPUESTO GENERAL'!E31 -> und | F15: CANTIDAD: | G15: 3
B17: 1. EQUIPOS
B18: Descripción | D18: Cantidad | E18: Tarifa/Dia | F18: Rendimiento | G18: Valor-unit.
B19: Juego de herramientas menores | D19: 1 | E19: 7000 | F19: 5 | G19: =(D19*E19)/F19 -> 1400
F22: Sub-Total | G22: =SUM(G19:G21) -> 1400
B23: 2. MATERIALES EN OBRA
B24: Descripción | D24: unidad | E24: Precio-unit. | F24: Cantidad | G24: Valor-unit.
B25: Marco de madera | D25: und | E25: 120000 | F25: 1 | G25: =ROUND(E25*F25,0) -> 120000
B26: hoja de puerta para exterior solida | D26: und | E26: 380000 | F26: 1 | G26: =ROUND(E26*F26,0) -> 380000
B27: Tapa luces macizo | D27: m | E27: 4000 | F27: 10 | G27: =ROUND(E27*F27,0) -> 40000
B28: tornillo de acero 19/22mm | D28: und | E28: 6 | F28: 13000 | G28: =ROUND(E28*F28,0) -> 78000
B29: Cerradura de tipo cerrojo, frente, accesorios y tirnillos de atado para puerta de paso | D29: und | E29: 35000 | F29: 1 | G29: =ROUND(E29*F29,0) -> 35000
B30: juego de manijas | D30: und | E30: 135000 | F30: 2 | G30: =ROUND(E30*F30,0) -> 270000
B31: Esmalte semibrillante | D31: gln | E31: 67000 | F31: 0.022 | G31: =ROUND(E31*F31,0) -> 1474
F33: Sub-Total | G33: =SUM(G25:G32) -> 924474
B34: 3. TRANSPORTES
B35: Material | D35: Cantidad | E35: Rendimiento/Dia | F35: Tarifa | G35: Valor-unit.
F38: Sub-Total | G38: =SUM(G36:G37) -> 0
B39: 4. MANO DE OBRA
B40: Trabajador | C40: Jornal | D40: Prestaciones | E40: Jornal Total | F40: Rendimiento | G40: Valor-unit.
