Workbook

Sheet PAG 1
C2: UNIDAD ADMINISTRATIVA ESPECIAL DE LA AERONAUTICA CIVIL
C4: SELECCIÓN ABREVIADA DE MENOR CUANTIA No. 18001144 H4 de 2018
A6: OBJETO: | B6: CONTRATAR EL MANTENIMIENTO Y MEJORAMIENTO DEL CERRAMIENTO PERIMETRAL DE LAS ESTACIONES VOR MARINILLA, OTU-REMEDIOS EN ANTIOQUIA Y QUIBDÓ EN CHOCÓ
C10: EVALUACIÓN TÉCNICA ECONÓMICA DE LAS PROPUESTAS
A13: Obra constancia que al cierre de la presentación de propuesta para la selección abreviada de Menor Cuantía No. 18001144 H4 el día 9 de Octubre de 2018 a las 2:00 pm, por tanto se elaboró el acta de cierre de las mismas y se constató los certificados de la respectiva documentación allegada para cada uno de los proponentes.
A15: Se recibieron propuestas de los siguientes oferentes: COLOMBIANA DE LA INGENIERIA Y DE LA ARQUITECTURA S.A.S – COLINAR SA, CONSTRUYENDO AMBIENTE SAS, GRUPO SYC SAs, INGENIERIA RH, ORGANIZACIÓN HAR SAS, USCOM SAS, ALCALA Y ESPINOSA, CONSTRUCCIONES EULER MEDINA GARCIA Y CIA LTDA. propuestas que fueron el soporte para adelantar la respectiva evaluación por parte del comité técnico.
A19: RECURSOS FINANCIEROS Y PRESUPUESTO OFICIAL
A21: La Aeronáutica Civil, Regional Antioquia cubrirá los costos de la contratación a realizar con recursos correspondiente a la vigencia fiscal de 2018, de conformidad con el certificado de disponibilidad presupuestal SIIF Nación No.9218 de fecha 27 de agosto de 2018, por valor de$ 196.612.941
A24: MANIFESTACIÓN DE INTERÉS PARA PARTICIPAR EN EL PROCESO
A26: En la página del SECOP ll se encuentra publicado el listado de los oferentes que manifestaron interés de participar en el proceso, el cual fue verificado.

Sheet PAG 2
D2: REQUISITOS TÉCNICOS
A3: REQUESITOS HABILITANTES
D4: DOCUMENTOS DE LA PROPUESTA
A6: DOCUMENTO | C6: COLOMBIANA DE LA INGENIERIA Y DE LA ARQUITECTURA S.A.S – COLINAR SAS | G6: CONSTRUYENDO AMBIENTE SAS | K6: GRUPO S Y C SAS | O6: INGENIERIA RH SAS | S6: ORGANIZACIÓN HAR SAS | W6: USCOM SAS | AA6: ALCALA & ESPINOSA DISEÑO Y CONSTRUCCION LTDA | AE6: CONSTRUCCIONES EULER MEDINA GARCIA Y CIA LTDA
A7: NÚMERO DE PROPUESTAS | C7: 1 | G7: 2 | K7: 3 | O7: 4 | S7: 5 | W7: 6 | AA7: 7 | AE7: 8
A8: FORMATO DE PRESENTACIÓN DE LA OFERTA (FORMATO 1) | C8: Cumple | G8: Cumple | K8: Cumple | O8: Cumple | S8: Cumple | W8: Cumple | AA8: Cumple | AE8: Cumple
A9: CONFORMACIÓN CONSORCIO O UNION TEMPORAL | C9: NO APLICA | G9: NO APLICA | K9: NO APLICA | O9: NO APLICA | S9: NO APLICA | W9: NO APLICA | AA9: NO APLICA | AE9: NO APLICA
A10: MANIFESTACIÓN DE INTERÉS | C10: Cumple | G10: Cumple | K10: Cumple | O10: Cumple | S10: Cumple | W10: Cumple | AA10: Cumple | AE10: Cumple
A11: CERTIFICADO CUMPLIMIENTO ESPECIFICACIONES TÉCNICAS (FORMATO ANEXO No.2) | C11: Cumple | G11: Cumple | K11: Cumple | O11: Cumple | S11: Cumple | W11: Cumple | AA11: Cumple | AE11: No presenta aceptación y cumplimiento
A12: PRESENTACIÓN DE LA OFERTA, (FORMULARIO No. 1) | C12: Cumple Valor = $192.142.858 | G12: NO Cumple Valor = $192.009.261,6 | K12: Cumple Valor= $192.676.598,36 | O12: Cumple Valor = $190.962.432 | S12: NO Cumple Valor = $192.322.371,01 | W12: NO Cumple Valor = $188.234.352,40 | AA12: Cumple Valor= $191.188.223 | AE12: No Cumple No presenta el Formulario No 1 Valor = $0
A13: VALOR INGRESADO EN EL SECOP II | C13: 192142858 | G13: 1.9200926e+08 | K13: 1.926766e+08 | O13: 190962432 | S13: 1.9232237e+08 | W13: 188233474 | AA13: 191188223 | AE13: $208.019.700,74 Valor mayor al presupuesto oficial
A14: PRESENTACIÓN DE FORMATO No. 6 APOYO A LA INDUSTRIA NACIONAL | C14: Adjunta | G14: Adjunta | K14: Adjunta | O14: Adjunta | S14: Adjunta | W14: Adjunta Pero no ofrece contratar personal y adquirir material 100% Colombiano para el desarrollo de la obra | AA14: Adjunta | AE14: Rechazado

Sheet PAG 3
A2: EXPERIENCIA DEL PROPONENTE
C3: ='PAG 2'!C6:F6 -> COLOMBIANA DE LA INGENIERIA Y DE LA ARQUITECTURA S.A.S – COLINAR SAS | G3: ='PAG 2'!G6:J6 -> CONSTRUYENDO AMBIENTE SAS | K3: ='PAG 2'!K6:N6 -> GRUPO S Y C SAS | O3: ='PAG 2'!O6:R6 -> INGENIERIA RH SAS | S3: ='PAG 2'!S6:V6 -> ORGANIZACIÓN HAR SAS | W3: ='PAG 2'!W6 -> USCOM SAS | AA3: ='PAG 2'!AA6 -> ALCALA & ESPINOSA DISEÑO Y CONSTRUCCION LTDA | AE3: ='PAG 2'!AE6 -> CONSTRUCCIONES EULER MEDINA GARCIA Y CIA LTDA
A4: NUMERO DE PROPUESTAS | C4: 1 | G4: 2 | K4: 3 | O4: 4 | S4: 5 | W4: 6 | AA4: 7 | AE4: 8
A5: INTEGRANTES CONSORCIO | C5: No aplica | G5: No aplica | K5: No aplica | O5: No aplica | S5: No aplica | W5: No aplica | AA5: No aplica | AE5: No aplica
A6: REGISTRO ÚNICO DE PROPONENTES RUP | C6: Cumple | G6: Cumple | K6: Cumple | O6: Cumple | S6: =+K6 -> Cumple | W6: Cumple | AA6: Cumple | AE6: Rechazado
A7: ACTIVIDADES Y CLASIFICACIÓN SEGÚN LA UNSPSC. El Proponente deberá tener al menos uno los siguientes códigos inscritos en el RUP: 721015 Servicios de apoyo a la construcción 721029 Servicios de mantenimiento y reparación de instalaciones y 721214 Servicios de construcción de edificios públicos especializados | C7: Cumple | G7: Cumple | K7: Cumple | O7: Cumple | S7: =+K7 -> Cumple | W7: Cumple | AA7: Cumple | AE7: Rechazado
A8: EXPERIENCIA GENERAL. Para la acreditación de la EXPERIENCIA REQUERIDA, además de consignarse en el formulario de experiencia toda la información solicitada, según corresponda, el proponente deberá cumplir los siguientes requisitos: • El proponente deberá acreditar hasta (03) contratos terminados que cumplan lo requerido en el pliego, contratos de obra pública o prestación de servicios, con entidades públicas y/o privadas, cuyo valor sea igual o mayor a dos (2) veces el presupuesto oficial expresado en salarios mínimos, los cuales deben encontrarse inscritos en el Registro Único de Proponentes- RUP, deberán contemplar por lo menos una (1) clasificación de bienes y servicios de Naciones Unidas hasta el tercer nivel clasificación solicitada en el presente proceso: 721015 Servicios de apoyo a la construcción 721029 Servicios de mantenimiento y reparación de instalaciones y 721214 Servicios de construcción de edificios públicos especializados | C8: 1. Numero del consecutivo del contrato reportado N ° 21 %participación: en 100%, Objeto: Estudios tecnicos, ajuste a Diseños y CONSTRUCCION DE INFRAESTRUCTURA DEL CENTRO DE DESARROLLO INFANTIL SECTOR EL LAGO MINICIPIO DE RIONEGRO ANTIOQUIA Contratante MUNICIPIO DE RIONEGRO Valor ejecutado: $ 658.467.600 (1.068,94 SMML). CUMPLE. 2. Numero del consecutivo RUP del contrato reportado N ° 3, participación en 100%, OBJETO: Construccion del Relleno Sanitario del Municipio de Giraldo - Primera Etapa. Contratante MUNICIPIO DE GIRALDO valor a reportar: $ 408.520.206 (793,24 SMML). CUMPLE. | G8: 1. Numero del consecutivo RUP del contrato reportado N ° 45 participación en 100%, OBJETO: OBRA PÚBLICA EN LAS INSTALACIONES DE LA SEDE POBALDO DEL POLITECNICO COLOMBIANO JAIME ISAZA CADAVID l contratante POLITECNICO COLOMBIANO JAIME ISAZA CADAVID valor a reportar: $ 914.329.783,00 (1326.061,09 SMML). CUMPLE. | K8: 1. Numero del consecutivo RUP del contrato reportado N ° 84 participación en 100%, OBJETO: Ejecucion de obras para la terminacion para la segunda etapa de la E.S.E. Hospital Cesar Uribe Piedrahita del municipio de Caucasia Contratante E.S.E. HOSPITAL CESAR URIBE PIEDRAHITA DEL MUNICIPIO DE CAUCASIA valor a reportar: $ 25.328.075.382 (34.332,61 SMML). CUMPLE. | O8: 1. Numero del consecutivo RUP del contrato reportado N ° 5 participación en 100%, OBJETO: CONSTRUCCIÓN DE LA SEDE SOCIAL CAMPESTRE ISEC S.A. EN LA CIUDAD DE FUSAGASUGÁ Contratante: ISEC S.A valor a reportar: $ 380.275.000 (671,03 SMML). | S8: 1. Numero del consecutivo RUP del contrato reportado N ° 11 participación en 50%, OBJETO: CONSTRUCCIÓN DEL CERRAMIENTO EN MAMPOSTERIA EN ATEPECHO Y MALLA ESLABONADA DEL PREDIO TANQUE CASABKLANCA PROPIEDAD DE LA EMPRESA DE ACUEDUCTO Y ALCANTARILLADO DE BOGOTA-ESP Contratante: UNIDAD ADMINISTRATIVA ESPECIAL DE AERONAUTICA CIVIL valor a reportar: $ 847.962.632 (1.182,57 SMML). CUMPLE | W8: No se puede evaluar, porque no presenta el N° contrato del RUP | AA8: 1. Numero del consecutivo RUP del contrato reportado N ° 14 participación en 100%, OBJETO: CONTRATAR EL SERVICIO DE CONSTRUCCION Y ADECUACIONES DE LAS CASAS DEL PROYECTO SENDEROS DE SAN ANDRES UBICADO EN EL MUNICIPIO DE FUNZA CUNDINAMARCA) QUE INCLUYE: OBRAS EXTERIORES Y DE URBANISMO, CONSTRUCCION DE POLIDEPORTIVO, ESTRUCTURA, MAMPOSTERIAS, OBRAS HUMEDAS, SUMINISTRO DE APARATOS SANITARIOS, ADECUACIONES DE BAÑOS Y COCINAS, ENCHAPES DE PISOS Y PAREDES, CUBIERTAS Y LOS DEMAS ACABADOS QUE SE REQUIERAN, COMO TAMBIEN LA DEMOLICION DE LA CASA MODELO. valor a reportar: $ 631.150.0021 (1070,65 SMML). Contratante VIP CONSTRUCTIONS S.A.S.. no presenta el contrato con VIP CONSTRUCTIONS S.A.S. NO CUMPLE. | AE8: Rechazado
A9: EXPERIENCIA GENERAL. Para la acreditación de la EXPERIENCIA REQUERIDA, además de consignarse en el formulario de experiencia toda la información solicitada, según corresponda, el proponente deberá cumplir los siguientes requisitos: • El proponente deberá acreditar hasta (03) contratos terminados que cumplan lo requerido en el pliego, contratos de obra pública o prestación de servicios, con entidades públicas y/o privadas, cuyo valor sea igual o mayor a dos (2) veces el presupuesto oficial expresado en salarios mínimos, los cuales deben encontrarse inscritos en el Registro Único de Proponentes- RUP, deberán contemplar por lo menos una (1) clasificación de bienes y servicios de Naciones Unidas hasta el tercer nivel clasificación solicitada en el presente proceso: 721015 Servicios de apoyo a la construcción 721029 Servicios de mantenimiento y reparación de instalaciones y 721214 Servicios de construcción de edificios públicos especializados | C9: no presenta | G9: =+C9 -> no presenta | K9: =+G9 -> no presenta | O9: 2. Nombre del consecutivo RUP del contrato reportado N° 27 articipación en 100%, OBJETO: CONSTRUCCIÓN Y/O ADECUACIÓN DE TRES ESTACIONES PARA EL MONTAJE DE LA RED CANAL DE TELEVISIÓN IV ETAPA, UBICADAS EN LOS MUNICIPIOS DE YARUMAL (ANTIOQUIA), GUARNE (ANTIOQUIA) Y ZIPAQUIRA (CUNDINAMARCA) Contratante: CONSORCIO CANALES NACIONALES PRIVADOS valor a reportar: $ 107.446.007,94 (323,63 SMML), CUMPLE. | S9: no presenta | AA9: 2. Numero del consecutivo RUP del contrato reportado N ° 17, participación en 50%, OBJETO: REALIZAR LA ORGANIZACIÓN DE ESPACIOS INTERNOS Y EXTERNOS ASI COMO BRINDAR EL MANTENIMIENTO PREVENTIVO Y CORRECTIVO DE LOS BIENES MUEBLES E INMUEBLES DEL INS. Contratante INSTITUTO NACIONAL DE SALUD valor a reportar: $ 380.000 (294,87 SMML). CUMPLE. 3. Numero del consecutivo RUP del contrato reportado N ° 11, participación en 50%, OBJETO: CONTRATAR EL SERVICIO DE MANTENIMIENTO LOCATIVO PARA LOS DISTINTOS CENTROS DE LA REGIONAL DISTRITO CAPITAL ZONA NORTE. Contratante SENA valor a reportar: $ 226.326.908 (175,625 SMML). CUMPLE. CUMPLE.
C10: =C3 -> COLOMBIANA DE LA INGENIERIA Y DE LA ARQUITECTURA S.A.S – COLINAR SAS | G10: =G3 -> CONSTRUYENDO AMBIENTE SAS | K10: =K3 -> GRUPO S Y C SAS | O10: =O3 -> INGENIERIA RH SAS | S10: =S3 -> ORGANIZACIÓN HAR SAS | W10: =W3 -> USCOM SAS | AA10: =AA3 -> ALCALA & ESPINOSA DISEÑO Y CONSTRUCCION LTDA | AE10: =AE3 -> CONSTRUCCIONES EULER MEDINA GARCIA Y CIA LTDA
A11: NUMERO DE PROPUESTAS | C11: 1 | G11: 2 | K11: 4 | O11: 4 | S11: 5 | W11: 6 | AA11: 7 | AE11: 7
A12: EXPERIENCIA ESPECIFICA. Personas Naturales Si el proponente es persona natural deberá acreditar una experiencia probable de tres (3) años mediante la presentación de la copia legible de la tarjeta de matrícula profesional y certificación de vigencia, expedida por el Consejo Profesional Nacional de Ingeniería Arquitectura y sus Profesiones Auxiliares – COPNIA o por la entidad correspondiente según la profesión, con una vigencia de seis (6) meses. Personas Jurídicas Si el proponente es persona jurídica deberá acreditar su existencia y representación legal con una experiencia probable de por lo menos tres (3) años verificable con la copia del Certificado de la Cámara de Comercio de su jurisdicción, expedido con una antelación no mayor a los treinta (30) días calendario, previos a la fecha de cierre del proceso. En caso de consorcio o uniones temporales la exigencia de los tres (3) años de experiencia probable, deberá ser acreditada por cada uno de los integrantes de forma separada. El proponente deberá aportar hasta tres (3) certificaciones de contratos de obra pública con entidades públicas y/o privadas, que sumados sus valores sean igual o mayor a dos (2) veces el presupuesto oficial, expresado en salarios mínimos legales mensuales. Adicionalmente el proponente deberá acreditar mediante: certificado de obra ó acta de recibo de obra o acta de liquidación, que el contrato previó en uno de sus ítems presente alguna de las siguientes actividades: 1. CERRAMIENTOS EN MALLA | C12: 1. Numero del consecutivo RUP del contrato reportado N ° 3, Contratante: Municipio de Giraldo. Contrato Lp 003 de 2009, Objeto: Construccion del Relleno Sanitario del Municipio de Giraldo - Primera Etapa. Valor ejecutado: $ 408.520.206 (793,24 SMML). Plazo: 120 dias calendario, Fecha incio: 27-octubre-2009, Fecha terminación: 27-feb-2010, % Participación: 100%, Información contacto contratante: Municipio de Giraldo. NO CUMPLE NO PRESENTA ACTIVIDADES DE CERRAMIENTO EN MALLA. | G12: 1. Numero del consecutivo RUP del contrato reportado N ° 45, Contratante: POLITECNICO COLOMBIANO JAIME ISAZA CADAVI. Contrato OM-01-2011, Objeto: OBRA PÚBLICA EN LAS INSTALACIONES DE LA SEDE POBALDO DEL POLITECNICO COLOMBIANO JAIME ISAZA CADAVID. Valor ejecutado: 914.329.783,00 (1326.061,09 SMML). Plazo: 150 dias calendario, Fecha incio: 8-agosto-16, Fecha terminación: 31-diciembre-16, % Participación: 100%, Información contacto contratante: POLITECNICO COLOMBIANO JAIME ISAZA CADAVID. NO CUMPLE NO PRESENTA ACTIVIDADES DE CERRAMIENTO EN MALLA. | K12: 1. Numero del consecutivo RUP del contrato reportado N ° 84, Contratante: E.S.E. HOSPITAL CESAR URIBE PIEDRAHITA DEL MUNICIPIO DE CAUCASIA . Contrato OP-67 de 2016, Objeto: Ejecucion de obras para la terminacion para la segunda etapa de la E.S.E. Hospital Cesar Uribe Piedrahita del municipio de Caucasia. Valor ejecutado: 25.328.075.382 (34.332,61 SMML). Plazo: 18 MESES 9 DIAS , Fecha incio: 2-mayo-16, Fecha terminación: 10-nov.-17, % Participación: 100%, Información contacto contratante: E.S.E. HOSPITAL CESAR URIBE PIEDRAHITA DEL MUNICIPIO DE CAUCASIAL. CUMPLE PRESENTA ACTIVIDADES DE CERRAMIENTO EN MALLA EN O.E.52. | O12: 1. Numero del consecutivo RUP del contrato reportado N ° 5 Contratante: ISEC S.A , OBJETO: CONSTRUCCIÓN DE LA SEDE SOCIAL CAMPESTRE ISEC S.A. EN LA CIUDAD DE FUSAGASUGÁ valor a reportar: $ 380.275.000 (671,03 SMML), plazo: 3 meses Fecha incio: 20-Mayo-2012, Fecha terminación: 20-Agosto-2012, % Participación: 100%, PRESENTA ACTIVIDADES DE CERRAMIENTO EN MALLA. | S12: 1. Numero del consecutivo RUP del contrato reportado N ° 11 Contratante: UNIDAD ADMINISTRATIVA ESPECIAL DE AERONAUTICA CIVIL, OBJETO: CONSTRUCCIÓN DEL CERRAMIENTO EN MAMPOSTERIA EN ATEPECHO Y MALLA ESLABONADA DEL PREDIO TANQUE CASABLANCA PROPIEDAD DE LA EMPRESA DE ACUEDUCTO Y ALCANTARILLADO DE BOGOTA-ESP valor a reportar: $ 847.962.632 (1.182,57 SMML). plazo: 5 meses Fecha incio: 18 Febrero 2014, Fecha terminación: 17 Julio 2014, % Participación: 50%, PRESENTA ACTIVIDADES DE CERRAMIENTO EN MALLA. CUMPLE | W12: No se puede evaluar, porque no presenta el N° contrato del RUP | AA12: 1. Numero del consecutivo RUP del contrato reportado N ° 17, Contratante: INSTITUTO NACIONAL DE SALUD. Contrato 00-249-2016, Objeto: REALIZAR LA ORGANIZACIÓN DE ESPACIOS INTERNOS Y EXTERNOS ASI COMO BRINDAR EL MANTENIMIENTO PREVENTIVO Y CORRECTIVO DE LOS BIENES MUEBLES E INMUEBLES DEL INS. Contratante INSTITUTO NACIONAL DE SALUD. Valor ejecutado: 380.000 (294,87 SMML). Plazo: 2 MESES, Fecha incio: 13-OCT.-15, Fecha terminación: 15-dic.-15, % Participación: 50%, Información contacto contratante: INSTITUTO NACIONAL DE SALUD. NO CUMPLE NO PRESENTA ACTIVIDADES DE CERRAMIENTO EN MALLA. | AE12: Rechazado

Sheet pag 4
A2: EXPERIENCIA DEL PROPONENTE
C3: ='PAG 2'!C6:F6 -> COLOMBIANA DE LA INGENIERIA Y DE LA ARQUITECTURA S.A.S – COLINAR SAS | F3: ='PAG 2'!G6 -> CONSTRUYENDO AMBIENTE SAS | I3: ='PAG 2'!K6 -> GRUPO S Y C SAS | L3: ='PAG 2'!O6 -> INGENIERIA RH SAS | O3: ='PAG 2'!S6 -> ORGANIZACIÓN HAR SAS | R3: ='PAG 2'!W6 -> USCOM SAS | U3: ='PAG 2'!AA6 -> ALCALA & ESPINOSA DISEÑO Y CONSTRUCCION LTDA | X3: ='PAG 2'!AE6 -> CONSTRUCCIONES EULER MEDINA GARCIA Y CIA LTDA
A4: NUMERO DE PROPUESTAS | C4: 1 | F4: 2 | I4: 3 | L4: 4 | O4: 5 | R4: 6 | U4: 7 | X4: 8
A5: EXPERIENCIA ESPECIFICA. Personas Naturales Si el proponente es persona natural deberá acreditar una experiencia probable de tres (3) años mediante la presentación de la copia legible de la tarjeta de matrícula profesional y certificación de vigencia, expedida por el Consejo Profesional Nacional de Ingeniería Arquitectura y sus Profesiones Auxiliares – COPNIA o por la entidad correspondiente según la profesión, con una vigencia de seis (6) meses. Personas Jurídicas Si el proponente es persona jurídica deberá acreditar su existencia y representación legal con una experiencia probable de por lo menos tres (3) años verificable con la copia del Certificado de la Cámara de Comercio de su jurisdicción, expedido con una antelación no mayor a los treinta (30) días calendario, previos a la fecha de cierre del proceso. En caso de consorcio o uniones temporales la exigencia de los tres (3) años de experiencia probable, deberá ser acreditada por cada uno de los integrantes de forma separada. El proponente deberá aportar hasta tres (3) certificaciones de contratos de obra pública con entidades públicas y/o privadas, que sumados sus valores sean igual o mayor a dos (2) veces el presupuesto oficial, expresado en salarios mínimos legales mensuales. Adicionalmente el proponente deberá acreditar mediante: certificado de obra ó acta de recibo de obra o acta de liquidación, que el contrato previó en uno de sus ítems presente alguna de las siguientes actividades: 1. CERRAMIENTOS EN MALLA | C5: No presenta | F5: No presenta | I5: =F5 -> No presenta | L5: 2.Nombre del consecutivo RUP del contrato reportado N° 27 articipación en 100%, Contratante: CONSORCIO CANALES NACIONALES Objeto: CONSTRUCCIÓN Y/O ADECUACIÓN DE TRES ESTACIONES PARA EL MONTAJE DE LA RED CANAL DE TELEVISIÓN IV ETAPA, UBICADAS EN LOS MUNICIPIOS DE YARUMAL (ANTIOQUIA), GUARNE (ANTIOQUIA) Y ZIPAQUIRA (CUNDINAMARCA) valor a reportar: $ 107.446.007,94 (323,63 SMML), Fecha incio: 21-Febrero-2003, Fecha terminación: 28- Junio-2003, % Participación: 100%, PRESENTA ACTIVIDADES DE CERRAMIENTO EN MALLA CUMPLE | O5: =+F5 -> No presenta | R5: No se puede evaluar, porque no presenta el N° contrato del RUP | U5: 2. Numero del consecutivo RUP del contrato reportado N ° 11, Contratante: SENA. Contrato 00-231-2016, Objeto: CONTRATAR EL SERVICIO DE MANTENIMIENTO LOCATIVO PARA LOS DISTINTOS CENTROS DE LA REGIONAL DISTRITO CAPITAL ZONA NORTE. Valor ejecutado: 226.326.908 (175,625 SMML). Plazo: 3 meses, Fecha incio: 10-oct.-14, Fecha terminación: 15-ene-15, % Participación: 50%, Información contacto contratante: SENA. CUMPLE NO CUMPLE CON LO SOLICITADO DE HASTA 3 CERTIFICACIONES QUE SUMADOS SUS VALORES SEAN IGUAL O MAYOR A 2 VECES EL PRESUPUESTO OFICIAL. NO HABILITADO. | X5: Rechazado
C6: No presenta | F6: No presenta | I6: =F6 -> No presenta | L6: =+I6 -> No presenta | O6: No presenta | R6: No se puede evaluar, porque no presenta el N° contrato del RUP | U6: No presenta | X6: Rechazado

Sheet pag 5
A2: PERSONAL MÍNIMO REQUERIDO
C3: ='PAG 2'!C6:F6 -> COLOMBIANA DE LA INGENIERIA Y DE LA ARQUITECTURA S.A.S – COLINAR SAS | E3: ='PAG 2'!G6 -> CONSTRUYENDO AMBIENTE SAS | G3: ='PAG 2'!K6 -> GRUPO S Y C SAS | I3: ='PAG 2'!O6 -> INGENIERIA RH SAS | K3: ='PAG 2'!S6 -> ORGANIZACIÓN HAR SAS | M3: ='PAG 2'!W6 -> USCOM SAS | O3: ='PAG 2'!AA6 -> ALCALA & ESPINOSA DISEÑO Y CONSTRUCCION LTDA | Q3: ='PAG 2'!AE6 -> CONSTRUCCIONES EULER MEDINA GARCIA Y CIA LTDA
A4: NUMERO DE PROPUESTAS | C4: 1 | E4: 2 | G4: 3 | I4: 4 | K4: 5 | M4: 6 | O4: 7 | Q4: 8
A5: 3.15.1 PERSONAL MÍNIMO REQUERIDO La entidad verificará el personal mínimo requerido señalado en los presentes pliegos de condiciones, quien cumpla con el personal y con la idoneidad requerida para la presente convocatoria su propuesta será considera como hábil.
A6: Director de obra – Treinta por ciento del Tiempo (30%) Se requiere proponer un Director de obra para la prestación del servicio con las siguientes condiciones: Que represente al Contratista en los aspectos técnicos y administrativos y también será la persona en la cual la organización delegue la responsabilidad general de la ejecución del proyecto; el profesional ofrecido como Director de obra debe ser Ingeniero Civil o Arquitecto y poseer la siguiente experiencia: Experiencia general: Tener experiencia profesional mínima de seis (6) años, contados a partir de la fecha de expedición de la matrícula profesional y hasta el cierre de la presente convocatoria, la cual debe estar debidamente certificada y demostrada con documentos soportes; Se debe adjuntar carta de intención | C6: JORGE ARTURO FLOREZ ADAVE Ingeniero Civil | E6: DIEGO LEON CORTES CORDOBA Ingeniero Civil | G6: JUAN PABLO ESCOBAR VALDERRAMA. Arquitecto | I6: MANUEL OSWALDO MEDINA RUIZ. Arquitecto | K6: No Presenta | M6: LUIS FELIPE GUAYACAN VIANCHA. Ingeniero Civil | O6: No adjunta | Q6: Rechazado
A7: Hoja de vida. | C7: Adjunta | E7: Adjunta | G7: =E7 -> Adjunta | I7: Adjunta | K7: No adjunta | M7: Adjunta | O7: No adjunta
A8: Copia del título otorgado por la institución educativa. | C8: Ingeniero Civil UNIVERSIDAD NACIONAL 1991 | E8: Ingeniero Civil Universidad de Medellín 1997 | G8: Arquitecto UNIVERSIDAD PONTIFICA BOLIVARIANA 1997 | I8: Arquitecto UNIVERSIDAD PILOTO DE COLOMBIA 1994 | K8: No adjunta | M8: Ingeniero Civil UNIVERSIDAD NACIONAL 2003 | O8: No adjunta
A9: Copia tarjeta profesional (para las profesiones que así lo requieran) o licencia | C9: 05202-42870 ANT 18/6/1992 | E9: 0520269769 ANT 29/1/1998 | G9: 0570078667 ANT 23/07/98 | I9: 2570053193CND 01/12/94 | K9: No adjunta | M9: 25202123767 CND 20/10/2005 | O9: No adjunta
A10: Certificado de vigencia de la tarjeta profesional o su equivalente (vigente). | C10: Copnia 18/6/1992 | E10: No adjunta | G10: Consejo Profesional Nacional de Arquitectura y sus profesiones auxiliares 23/07/98 | I10: Consejo Profesional Nacional de Arquitectura y sus profesiones auxiliares 01/12/94 | K10: No adjunta | M10: Copnia 20/10/2005 | O10: No adjunta
A11: El personal mínimo propuesto debe adjuntar carta de intención (incluir) | C11: Adjunta | E11: Adjunta | G11: =E11 -> Adjunta | I11: Adjunta | K11: No adjunta | M11: Adjunta | O11: No adjunta
C12: CUMPLE | E12: NO CUMPLE | G12: CUMPLE | I12: CUMPLE | K12: NO CUMPLE | M12: CUMPLE | O12: NO CUMPLE
A13: - Residente de obra: – Tiempo Completo Se requiere proponer un Residente de obra que acredite como mínimo ser profesional en: ingeniería civil o Arquitectura y debe poseer la siguiente experiencia: Experiencia General. Tener experiencia profesional mínima de dos (2) años, contados a partir de la fecha de expedición de la matrícula profesional o su equivalente y hasta el cierre de la presente invitación, la cual debe estar debidamente certificada y demostrada con documentos soporte; | C13: Oscar Dario Londoño Ingeniero Civil | E13: Juan Carlos Montoya Lopéz Arquitecto | G13: Hugo Andrés Cuartas Jimenez Ingeniero Civil | I13: Miguel Angel Moya Patiño. Arquitecto | K13: No Presenta | M13: Mariela Torrado Calderon. Ingeniera Civil | O13: No Presenta | Q13: Rechazado
A14: Hoja de vida. | C14: Adjunta | E14: Adjunta | G14: =E14 -> Adjunta | I14: Adjunta | K14: No adjunta | M14: Adjunta | O14: No adjunta
A15: Copia del título otorgado por la institución educativa. | C15: Ingeniero Civil UNIVERSIDAD COOPERATIVA DE COLOMBIA 2012 | E15: Aquitecto Universidad Pontificia Bolivariana 1990 | G15: Ingeniero Civil UNIVERSIDAD NACIONAL 2003 | I15: Arquitecto UNIVERSIDAD PILOTO DE COLOMBIA 1997 | K15: No adjunta | M15: Ingeniero Civil UNIVERSIDAD FRANCISCO DE PAULA SANTANDER 22/03/2002 | O15: No adjunta
A16: Copia tarjeta profesional (para las profesiones que así lo requieran) o licencia | C16: 0520237749 ANT 18/10/2012 | E16: 0570039069 ANT | G16: 05202115264 ANT 02/17/2005 | I16: 2570068213CND 16/10/1997 | K16: No adjunta | M16: 54202100961NTS 18/09/2003 | O16: No adjunta
C17: =C3 -> COLOMBIANA DE LA INGENIERIA Y DE LA ARQUITECTURA S.A.S – COLINAR SAS | E17: =E3 -> CONSTRUYENDO AMBIENTE SAS | G17: =G3 -> GRUPO S Y C SAS | I17: =I3 -> INGENIERIA RH SAS | K17: =K3 -> ORGANIZACIÓN HAR SAS | M17: =M3 -> USCOM SAS | O17: =O3 -> ALCALA & ESPINOSA DISEÑO Y CONSTRUCCION LTDA | Q17: =Q3 -> CONSTRUCCIONES EULER MEDINA GARCIA Y CIA LTDA
A18: NUMERO DE PROPUESTAS | C18: 1 | E18: 2 | G18: 3 | I18: 4 | K18: 5 | M18: 6 | O18: 7 | Q18: 8
A19: Certificado de vigencia de la tarjeta profesional o su equivalente (vigente). | C19: Copnia 18/10/2012 | E19: No adjunta | G19: Copnia 17/02/2005 | I19: Consejo Profesional Nacional de Arquitectura y sus profesiones auxiliares 16/10/1997 | K19: No adjunta | M19: Copnia 18/07/2003 | O19: No adjunta | Q19: Rechazado
A20: El personal mínimo propuesto debe adjuntar carta de intención (incluir) | C20: Adjunta | E20: Adjunta | G20: =+E20 -> Adjunta | I20: Adjunta | K20: No adjunta | M20: Adjunta | O20: No adjunta
C21: CUMPLE | E21: NO CUMPLE | G21: CUMPLE | I21: CUMPLE | K21: NO CUMPLE | M21: CUMPLE | O21: NO CUMPLE
A22: - Inspector en seguridad y salud en el trabajo: – Cincuenta por ciento del Tiempo (50%) Se requiere proponer un inspector en seguridad y salud en el trabajo que acredite como mínimo ser tecnólogo en salud ocupacional y debe poseer la siguiente experiencia: Experiencia General. Tener experiencia mínima de dos (2) años, contados a partir de la fecha de expedición de la matrícula o licencia y hasta el cierre de la presente invitación, la cual debe estar debidamente certificada y demostrada con documentos soporte; | C22: Ana María Buelva Tecnologa de Salud Ocupacional | E22: Liliana Esneda Garcia Garcia Tecnologa en seguridad e higiene Ocupacional | G22: Cristian Andrés Espinosa Puerta Tecnnólogo en Seguridsad Industrial, Salud Ocupacional y Medio Ambiente en la construcción | I22: Javier Alexander Valbuena Saldaña. Tecnologo en Higiene y Seguridad Industrial. | K22: No Presenta | M22: Luis Fernando Lozada Castro. Seguridad y Salud en el Trabajo | O22: No Presenta | Q22: Rechazado
A23: Hoja de vida. | C23: Adjunta | E23: Adjunta | G23: =+E23 -> Adjunta | I23: Adjunta | K23: No adjunta | M23: Adjunta | O23: No adjunta
A24: Copia del título otorgado por la institución educativa. | C24: Tecnologa de Salud Ocupacional SENA 2010 | E24: Tecnologa en seguridad e higiene Ocupacional Politecnico Colombiano Jaime Isaza Cadavid 2005 | G24: Tecnnólogo en Seguridsad Industrial, Salud Ocupacional y Medio Ambiente en la construcción SENA 2012 | I24: Tecnologo en Higiene y Seguridad Industrial. Corporacion Instituto Tecnologico de la Seguridad 1998 | K24: No adjunta | M24: Seguridad y Salud en el Trabajo SENA 2005 | O24: No adjunta
A25: Copia tarjeta profesional (para las profesiones que así lo requieran) o licencia | C25: Licencia -Resolución 0108823 (20 de sept de 2010) | E25: Licencia -Resolución 298538 de 29/09/2015 | G25: =+G26 -> Licencia -Resolución 093570 de 02/09/2013 | I25: Licencia -Resolución 6156 (09 de Junio de 2011) | K25: No adjunta | M25: Licencia -Resolución 15403 (26 de Diciembre de 2016) | O25: No adjunta
A26: Certificado de vigencia de la tarjeta profesional o su equivalente (vigente). | C26: Licencia -Resolución 0108823 (20 de sept de 2010) | E26: Licencia -Resolución 298538 de 29/09/2015 | G26: Licencia -Resolución 093570 de 02/09/2013 | I26: =+I25 -> Licencia -Resolución 6156 (09 de Junio de 2011) | K26: No adjunta | M26: =+M25 -> Licencia -Resolución 15403 (26 de Diciembre de 2016) | O26: No adjunta
A27: El personal mínimo propuesto debe adjuntar carta de intención (incluir) | C27: Adjunta | E27: Adjunta | G27: =+E27 -> Adjunta | I27: Adjunta | K27: No adjunta | M27: Adjunta | O27: No adjunta
C28: CUMPLE | E28: CUMPLE | G28: CUMPLE | I28: CUMPLE | K28: NO CUMPLE | M28: CUMPLE | O28: NO CUMPLE

Sheet PAG 6
A2: PUNTAJE EVALUACION TÉCNICA | D2: ='PAG 2'!C6 -> COLOMBIANA DE LA INGENIERIA Y DE LA ARQUITECTURA S.A.S – COLINAR SAS | E2: ='PAG 2'!G6 -> CONSTRUYENDO AMBIENTE SAS | F2: ='PAG 2'!K6 -> GRUPO S Y C SAS | G2: ='PAG 2'!O6 -> INGENIERIA RH SAS | H2: ='PAG 2'!S6 -> ORGANIZACIÓN HAR SAS | I2: ='PAG 2'!W6 -> USCOM SAS | J2: ='PAG 2'!AA6 -> ALCALA & ESPINOSA DISEÑO Y CONSTRUCCION LTDA | K2: ='PAG 2'!AE6 -> CONSTRUCCIONES EULER MEDINA GARCIA Y CIA LTDA
A3: NUMERO DE PROPUESTAS | D3: 1 | E3: 2 | F3: 3 | G3: 4 | H3: 5 | I3: 6 | J3: 7 | K3: 8
A4: NUMERO DE PERSONAS AFILIADAS AL SGSSS | D4: Se realiza verificacion a las planillas del oferente, encontrando que en la PLANILLAS No. 36998457 de mayo 2018 presenta 1 persona a que esta de forma continua y la planilla PLANILLAS No. 37270564 junio marzo presenta 1 persona que esta de forma continua, para un promedio de 1 persona que estan de forma continua en los 2 meses. | E4: Se realiza verificacion a las planillas del oferente, encontrando que en la PLANILLAS No. 8993176619 2016-08 y 8994481049 de 2016-09, En las cuales No se puede verificar en los formatos de planillas que presento, porque se requiere revisar los dias laborados por cada afiliado, que esten continuos en los dos meses. No es posible evaluar. Puntaje cero (0) | F4: Se realiza verificacion a las planilla 30620693 abril 2016 presenta más 18 personas afiladas que esta de forma continua y la planilla 30973076 de mayo de 2016 presenta más 18 personas afiladas que esta de forma continua, encontrando que un promedio de 18 personas afiladas que estan de forma continua en los 2 meses. | G4: Se realiza verificacion a las planillas del oferente, encontrando que en la PLANILLAS No. 10096666 2017-11 y 1010344601 de 2017-12, En las cuales No se puede verificar en los formatos de planillas que presento, porque se requiere revisar los dias laborados por cada afiliado y el nombre del afiliado, que esten continuos en los dos meses. No es posible evaluar. Puntaje cero (0) | H4: Se realiza verificacion a las planilla 10472080 abril 2016 presenta más 18 personas afiladas que esta de forma continua y la planilla 10539775 de mayo de 2016 presenta 18 personas afiladas que esta de forma continua en los 2 meses. | I4: No Adjunta Planillas | J4: Solo debe presentar 2 planillas consecutivas, el proponente es el que debe indicar cuales son las planillas a evaluar. No se puede verificar en los formatos de planillas que presento, porque se requiere revisar los dias laborados por cada afiliado, que esten continuos en los dos meses Puntaje cero (0) | K4: Rechazado
A5: DESDE | B5: HASTA | C5: PUNTOS
A6: 1 | B6: 4 | C6: 4
A7: 5 | B7: 8 | C7: 8
A8: 9 | B8: 12 | C8: 12
A9: 13 | B9: 16 | C9: 16
A10: 17 igual o en adelante | C10: 20
A11: PUNTAJE TOTAL CAPACIDAD PERSONAL | D11: 4 | E11: 0 | F11: 20 | G11: 0 | H11: 20 | I11: 0 | J11: 0 | K11: 0
A12: EQUIPOS | B12: CARTA DE DISPONIBILIDAD
A13: Mezcladora de concreto | B13: 1 | D13: 5 | E13: 5 | F13: 5 | G13: 5 | H13: 5 | I13: 0 | J13: 5
A14: Rana vibrocompactadora | B14: 1 | D14: 5 | E14: 5 | F14: 5 | G14: 5 | H14: 5 | I14: 0 | J14: 5
A15: Equipos de soldadura | B15: 1 | D15: 5 | E15: 5 | F15: 5 | G15: 5 | H15: 5 | I15: 0 | J15: 5
A16: Vibradores para concreto | B16: 1 | D16: 5 | E16: 5 | F16: 5 | G16: 5 | H16: 5 | I16: 0 | J16: 5
A18: PUNTAJE TOTAL CAPACIDAD DE EQUIPOS | D18: =SUM(D13:D17) -> 20 | E18: =SUM(E13:E17) -> 20 | F18: =SUM(F13:F17) -> 20 | G18: =SUM(G13:G17) -> 20 | H18: =SUM(H13:H17) -> 20 | I18: =SUM(I13:I17) -> 0 | J18: =SUM(J13:J17) -> 20 | K18: =SUM(K13:K17) -> 0
A19: PUNTAJE APOYO A LA INDUSTRIA NACIONAL | D19: 10 | E19: 10 | F19: 10 | G19: 10 | H19: 10 | I19: 10 | J19: 10 | K19: 0
A20: PUNTAJE TOTAL EVALUACION TÉCNICA | D20: =D19+D18+D11 -> 34 | E20: =E19+E18+E11 -> 30 | F20: =F19+F18+F11 -> 50 | G20: =G19+G18+G11 -> 30 | H20: =H19+H18+H11 -> 50 | I20: =I19+I18+I11 -> 10 | J20: =J19+J18+J11 -> 30 | K20: =K19+K18+K11 -> 0

Sheet PAG 7
A2: CONCLUSIONES Y RECOMENDACIONES
A3: Conclusiones:
A5: * El proponente COLOMBIANA DE LA INGENIERIA Y DE LA ARQUITECTURA S.A.S – COLINAR SAS, el pliego de condiciones dice en el numeral 4.21 EXPERIENCIA REQUERIDA. B.EXPERIENCIA ESPECIFICA. Personas Naturales Si el proponente es persona natural deberá acreditar una experiencia probable de tres (3) años mediante la presentación de la copia legible de la tarjeta de matrícula profesional y certificación de vigencia, expedida por el Consejo Profesional Nacional de Ingeniería Arquitectura y sus Profesiones Auxiliares – COPNIA o por la entidad correspondiente según la profesión, con una vigencia de seis (6) meses. Personas Jurídicas Si el proponente es persona jurídica deberá acreditar su existencia y representación legal con una experiencia probable de por lo menos tres (3) años verificable con la copia del Certificado de la Cámara de Comercio de su jurisdicción, expedido con una antelación no mayor a los treinta (30) días calendario, previos a la fecha de cierre del proceso. En caso de consorcio o uniones temporales la exigencia de los tres (3) años de experiencia probable, deberá ser acreditada por cada uno de los integrantes de forma separada. El proponente deberá aportar hasta tres (3) certificaciones de contratos de obra pública con entidades públicas y/o privadas, que sumados sus valores sean igual o mayor a dos (2) veces el presupuesto oficial, expresado en salarios mínimos legales mensuales. Adicionalmente el proponente deberá acreditar mediante: certificado de obra ó acta de recibo de obra o acta de liquidación, que el contrato previó en uno de sus ítems presente alguna de las siguientes actividades: 1. CERRAMIENTOS EN MALLA NO CUMPLE NO PRESENTA ACTIVIDADES DE CERRAMIENTO EN MALLA.NO HABILITADO. Evaluada la parte tecnica suma 34 puntos. NO HABILITADO debe presentar la documentación requerida antes del 18 de octubre de 2018.
A6: * El proponente CONSTRUYENDO AMBIENTE SAS, Evaluada la parte tecnica suma 30 puntos. El pliego de condiciones dice en el numeral 5.2.3 OTORGAMIENTO DE PUNTAJE POR FACTOR DE CALIDAD. Capacidad de personal. Número (n°) de personas vinculadas mediante una relación contractual con el proponente, se asignará un puntaje máximo de doscientos (20) puntos. Para la evaluación de este factor de escogencia, se tomará las fotocopias de la(s) planilla(s) de pago EPS, ARP y PENSIÓN con el promedio de dos meses continuos cualquiera de los años 2016, 2017 y 2018. Se realiza verificacion a las planillas del oferente, encontrando que en la PLANILLAS No. 8993176619 2016-08 y 8994481049 de 2016-09, En las cuales No se puede verificar en los formatos de planillas que presento, porque se requiere revisar los dias laborados por cada afiliado, que esten continuos en los dos meses. No es posible evaluar. Puntaje cero (0). NO HABILITADO. El pliego de condiciones dice en el numeral 7.7 PERSONAL MÍNIMO REQUERIDO La entidad verificará el personal mínimo requerido señalado en los presentes pliegos de condiciones, quien cumpla con el personal y con la idoneidad requerida para la presente convocatoria su propuesta será considera como hábil. Los profesionales o tecnólogos propuestos al presente proceso de selección deberán adjuntar la siguiente documentación:  Hoja de vida;  Copia del título otorgado por la institución educativa;  Copia tarjeta profesional (para las profesiones que así lo requieran) o licencia;  Certificado de vigencia de la tarjeta profesional o su equivalente (vigente);  El personal mínimo propuesto debe adjuntar carta de intención. El proponente no presenta lo requerido en el numeral 7,7 personal minimo requerido, no presenta Certificado de vigencia de la tarjeta profesional o su equivalente (vigente) del Director de Obra y el Residente de Obra. NO HABILITADO. En la plataforma del SECOP II presenta un oferta economica por valor de $192.009.261,6 y en el formulario No 1 de propuesta economica presenta un valor de $192.009.263,6. El numeral 5.2.1 OTORGAMIENTO DE PUNTAJE POR VALOR DE LA PROPUESTA dice: El valor de la propuesta consignado en el formulario No 1 debe ser exactamente igual a la lista de precios del SECOP II, en el caso de presentarse una diferencia la propuesta será RECHAZADA. NO HABILITADO. El Pliego en el numeral 4.21 EXPERIENCIA REQUERIDA. B.EXPERIENCIA ESPECIFICA. Personas Naturales Si el proponente es persona natural deberá acreditar una experiencia probable de tres (3) años mediante la presentación de la copia legible de la tarjeta de matrícula profesional y certificación de vigencia, expedida por el Consejo Profesional Nacional de Ingeniería Arquitectura y sus Profesiones Auxiliares – COPNIA o por la entidad correspondiente según la profesión, con una vigencia de seis (6) meses. Personas Jurídicas Si el proponente es persona jurídica deberá acreditar su existencia y representación legal con una experiencia probable de por lo menos tres (3) años verificable con la copia del Certificado de la Cámara de Comercio de su jurisdicción, expedido con una antelación no mayor a los treinta (30) días calendario, previos a la fecha de cierre del proceso. En caso de consorcio o uniones temporales la exigencia de los tres (3) años de experiencia probable, deberá ser acreditada por cada uno de los integrantes de forma separada. El proponente deberá aportar hasta tres (3) certificaciones de contratos de obra pública con entidades públicas y/o privadas, que sumados sus valores sean igual o mayor a dos (2) veces el presupuesto oficial, expresado en salarios mínimos legales mensuales. Adicionalmente el proponente deberá acreditar mediante: certificado de obra ó acta de recibo de obra o acta de liquidación, que el contrato previó en uno de sus ítems presente alguna de las siguientes actividades: 1. CERRAMIENTOS EN MALLA NO CUMPLE NO PRESENTA ACTIVIDADES DE CERRAMIENTO EN MALLA.NO HABILITADO.
A7: * El proponente GRUPO S Y C SAS, Cumple con todos los requisitos habilitantes técnicos, evaluada la parte tecnica suma 50 puntos. HABILITADO
A8: * El proponente INGENIERIA RH SAS, evaluada la parte tecnica suma 30 puntos. El pliego de condiciones dice en el numeral 5.2.3 OTORGAMIENTO DE PUNTAJE POR FACTOR DE CALIDAD. Capacidad de personal. Número (n°) de personas vinculadas mediante una relación contractual con el proponente, se asignará un puntaje máximo de doscientos (20) puntos. Para la evaluación de este factor de escogencia, se tomará las fotocopias de la(s) planilla(s) de pago EPS, ARP y PENSIÓN con el promedio de dos meses continuos cualquiera de los años 2016, 2017 y 2018. Se realiza verificacion a las planillas del oferente, encontrando que en la PLANILLAS No. 10096666 2017-11 y 1010344601 de 2017-12, En las cuales No se puede verificar en los formatos de planillas que presento, porque se requiere revisar los dias laborados por cada afiliado y el nombre del afiliado, que esten continuos en los dos meses. No es posible evaluar. Puntaje cero (0).
A9: * El proponente ORGANIZACIÓN HAR SAS, evaluada la parte tecnica suma 50 puntos. El pliego de condiciones dice en el numeral 7.7 PERSONAL MÍNIMO REQUERIDO La entidad verificará el personal mínimo requerido señalado en los presentes pliegos de condiciones, quien cumpla con el personal y con la idoneidad requerida para la presente convocatoria su propuesta será considera como hábil. Los profesionales o tecnólogos propuestos al presente proceso de selección deberán adjuntar la siguiente documentación:  Hoja de vida;  Copia del título otorgado por la institución educativa;  Copia tarjeta profesional (para las profesiones que así lo requieran) o licencia;  Certificado de vigencia de la tarjeta profesional o su equivalente (vigente);  El personal mínimo propuesto debe adjuntar carta de intención. El proponente no presenta lo requerido en el numeral 7,7 personal minimo requerido. NO HABILITADO. En la plataforma del SECOP II presenta un oferta economica por valor de $192.322.371,01 y en el formulario No 1 de propuesta economica presenta un valor de $192.322.370,01. El numeral 5.2.1 OTORGAMIENTO DE PUNTAJE POR VALOR DE LA PROPUESTA dice: El valor de la propuesta consignado en el formulario No 1 debe ser exactamente igual a la lista de precios del SECOP II, en el caso de presentarse una diferencia la propuesta será RECHAZADA. NO HABILITADO.
A10: * El proponente USCOM SAS , Evaluada la parte tecnica suma 10 puntos. El pliego de condiciones dice En la plataforma del SECOP II presenta un oferta economica por valor de $188.233.474 y en el formulario No 1 de propuesta economica presenta un valor de $188.234.352,40. El numeral 5.2.1 OTORGAMIENTO DE PUNTAJE POR VALOR DE LA PROPUESTA dice: El valor de la propuesta consignado en el formulario No 1 debe ser exactamente igual a la lista de precios del SECOP II, en el caso de presentarse una diferencia la propuesta será RECHAZADA. NO HABILITADO. Adjunta el Anexo 2. Pero no ofrece contratar personal y adquirir material 100% Colombiano para el desarrollo de la obra APOYO A LA INDUSTRIA NACIONAL El Pliego en el numeral 4.21 EXPERIENCIA REQUERIDA. B.EXPERIENCIA ESPECIFICA. Personas Naturales Si el proponente es persona natural deberá acreditar una experiencia probable de tres (3) años mediante la presentación de la copia legible de la tarjeta de matrícula profesional y certificación de vigencia, expedida por el Consejo Profesional Nacional de Ingeniería Arquitectura y sus Profesiones Auxiliares – COPNIA o por la entidad correspondiente según la profesión, con una vigencia de seis (6) meses. Personas Jurídicas Si el proponente es persona jurídica deberá acreditar su existencia y representación legal con una experiencia probable de por lo menos tres (3) años verificable con la copia del Certificado de la Cámara de Comercio de su jurisdicción, expedido con una antelación no mayor a los treinta (30) días calendario, previos a la fecha de cierre del proceso. En caso de consorcio o uniones temporales la exigencia de los tres (3) años de experiencia probable, deberá ser acreditada por cada uno de los integrantes de forma separada. El proponente deberá aportar hasta tres (3) certificaciones de contratos de obra pública con entidades públicas y/o privadas, que sumados sus valores sean igual o mayor a dos (2) veces el presupuesto oficial, expresado en salarios mínimos legales mensuales. Adicionalmente el proponente deberá acreditar mediante: certificado de obra ó acta de recibo de obra o acta de liquidación, que el contrato previó en uno de sus ítems presente alguna de las siguientes actividades: 1. CERRAMIENTOS EN MALLA NO CUMPLE No se puede evaluar, porque no presenta el N° contrato del RUP.NO HABILITADO. El pliego de condiciones dice en el numeral 5.2.3 OTORGAMIENTO DE PUNTAJE POR FACTOR DE CALIDAD. Capacidad de personal. Número (n°) de personas vinculadas mediante una relación contractual con el proponente, se asignará un puntaje máximo de doscientos (20) puntos. Para la evaluación de este factor de escogencia, se tomará las fotocopias de la(s) planilla(s) de pago EPS, ARP y PENSIÓN con el promedio de dos meses continuos cualquiera de los años 2016, 2017 y 2018. no presenta plantillas. Puntaje cero (0). NO HABILITADO. no presenta Equipos.Puntaje cero (0) NO HABILITADO,
A11: * El proponente ALCALA & ESPINOSA DISEÑO Y CONSTRUCCION LTDA, el pliego de condiciones dice El pliego de condiciones dice en el numeral 7.7 PERSONAL MÍNIMO REQUERIDO La entidad verificará el personal mínimo requerido señalado en los presentes pliegos de condiciones, quien cumpla con el personal y con la idoneidad requerida para la presente convocatoria su propuesta será considera como hábil. Los profesionales o tecnólogos propuestos al presente proceso de selección deberán adjuntar la siguiente documentación:  Hoja de vida;  Copia del título otorgado por la institución educativa;  Copia tarjeta profesional (para las profesiones que así lo requieran) o licencia;  Certificado de vigencia de la tarjeta profesional o su equivalente (vigente);  El personal mínimo propuesto debe adjuntar carta de intención. El proponente no presenta lo requerido en el numeral 7,7 personal minimo requerido, no presenta Certificado de vigencia de la tarjeta profesional o su equivalente (vigente) del Director de Obra y el Residente de Obra. NO HABILITADO. El Pliego en el numeral 4.21 EXPERIENCIA REQUERIDA. B.EXPERIENCIA ESPECIFICA. Personas Naturales Si el proponente es persona natural deberá acreditar una experiencia probable de tres (3) años mediante la presentación de la copia legible de la tarjeta de matrícula profesional y certificación de vigencia, expedida por el Consejo Profesional Nacional de Ingeniería Arquitectura y sus Profesiones Auxiliares – COPNIA o por la entidad correspondiente según la profesión, con una vigencia de seis (6) meses. Personas Jurídicas Si el proponente es persona jurídica deberá acreditar su existencia y representación legal con una experiencia probable de por lo menos tres (3) años verificable con la copia del Certificado de la Cámara de Comercio de su jurisdicción, expedido con una antelación no mayor a los treinta (30) días calendario, previos a la fecha de cierre del proceso. En caso de consorcio o uniones temporales la exigencia de los tres (3) años de experiencia probable, deberá ser acreditada por cada uno de los integrantes de forma separada. El proponente deberá aportar hasta tres (3) certificaciones de contratos de obra pública con entidades públicas y/o privadas, que sumados sus valores sean igual o mayor a dos (2) veces el presupuesto oficial, expresado en salarios mínimos legales mensuales. Adicionalmente el proponente deberá acreditar mediante: certificado de obra ó acta de recibo de obra o acta de liquidación, que el contrato previó en uno de sus ítems presente alguna de las siguientes actividades: 1. CERRAMIENTOS EN MALLA NO CUMPLE NO PRESENTA ACTIVIDADES DE CERRAMIENTO EN MALLA.NO HABILITADO.
A12: * El proponente CONSTRUCCIONES EULER MEDINA GARCIA Y CIA LTDA, el pliego de condiciones dice en el numeral 6.3 RECHAZO DE LAS PROPUESTAS Son causales de rechazo las siguientes: 12). Exceder el valor de la oferta el presupuesto oficial para el proceso, al cual se presenta. ( En el SECOPII presenta un Valor de 208.019.700, 74, valor que excede elpresupuesto oficial) 13). No incluir la propuesta económica para el proceso, o no estar debidamente firmada por el representante legal del proponente. (NO entegro el Formulario No 1 de propuesta ecoómica) RECHAZADA.
A15: Cordialmente,
A19: Alvaro Hernán Restrepo Guzmán
... A22: Octubre 12 de 2018

Sheet resumen
A1: REPÚBLICA DE COLOMBIA
A2: MINISTERIO DE TRANSPORTE
A3: AERONAUTICA CIVIL
A4: SELECCIÓN ABREVIADA DE MENOR CUANTÍA
A5: ='[1]1'!M1 -> PROCESO 18000770 H4 de 2017
A6: DIRECCION DE REGIONAL ANTIOQUIA
A7: ='[1]1'!A2 -> CONTRATAR EL MEJORAMIENTO DE LA SEDE DE LA CASA VACACIONAL (SALON SOCIAL) DE LA AERONAUTICA CIVIL.
A8: NUMERO DE PROPONENTE | B8: NOMBRE DEL PROPONENTE | C8: EXPERIENCIA DEL PROPONENTE
C9: CONTRATO 1 | D9: CONTRATO 2 | E9: CONTRATO 3 | F9: PFMT MIN 120,16 | G9: VTE MIN 480,65 | H9: APOYO A LA IND NACIONAL MAX 10 PTS | I9: PUNTAJE TOTAL | J9: EVALUACION FINAL | K9: OBSERVACIONES
A10: 1 | B10: ='PAG 2'!C6 -> COLOMBIANA DE LA INGENIERIA Y DE LA ARQUITECTURA S.A.S – COLINAR SAS | C10: ='1'!M15 -> CUMPLE | D10: ='1'!M16 -> CUMPLE | E10: ='1'!M17 -> CUMPLE | F10: ='1'!N9 -> 306.39022 | G10: ='1'!M9 -> 1862.184 | H10: 10 | I10: =H10 -> 10 | J10: HABIL
A11: 2 | B11: ='PAG 2'!G6 -> CONSTRUYENDO AMBIENTE SAS | C11: ='2'!M15 -> CUMPLE | D11: ='2'!M17 -> CUMPLE | E11: ='2'!M19 -> 0 | F11: ='2'!N9 -> 245.68115 | G11: ='2'!M9 -> 1163.4845 | H11: 10 | I11: =H11 -> 10 | J11: HABIL
A12: 3 | B12: ='PAG 2'!K6 -> GRUPO S Y C SAS | C12: ='3'!M15 -> CUMPLE | D12: ='3'!M16 -> CUMPLE | E12: ='3'!M17 -> CUMPLE | F12: ='3'!N9+'3'!N10 -> #VALUE! | G12: ='3'!M9+'3'!M10 -> #VALUE! | H12: 10 | I12: =H12 -> 10 | J12: NO HABIL
A13: 4 | B13: ='PAG 2'!O6 -> INGENIERIA RH SAS | C13: ='4'!M15 -> CUMPLE | F13: ='4'!N9 -> 2333.1919 | G13: ='4'!M9 -> 39290.718 | H13: 10 | I13: =H13 -> 10 | J13: NO HABIL
A14: 5 | B14: ='PAG 2'!S6 -> ORGANIZACIÓN HAR SAS | C14: NO CUMPLE | D14: NO CUMPLE | E14: NO CUMPLE | H14: 10 | I14: 10 | J14: NO HABIL
A15: 6 | B15: ='PAG 2'!W6 -> USCOM SAS | C15: CUMPLE | F15: ='6'!N9 -> 381.44085 | G15: ='6'!M9 -> 2082.5424 | H15: 100 | I15: 10 | J15: NO HABIL
A16: 7 | B16: ='[1]7'!$D$6 -> ALCALA & ESPINOSA DISEÑO Y CONSTRUCCIÓN LTDA | C16: ='[1]7'!$M$14 -> CUMPLE | D16: ='[1]7'!$M$15 -> CUMPLE | E16: ='[1]7'!$M$16 -> CUMPLE | F16: ='[1]7'!$G$19 -> 284.08333 | G16: ='[1]7'!$E$19 -> 681.09613 | H16: 100 | I16: =+#REF!+H16 -> #REF! | J16: ='[1]7'!$K$22 -> HABIL
A17: 8 | B17: ='[1]8'!$D$6 -> WILBER FRANCINY RUSSY LADINO | C17: ='[1]8'!$M$14 -> CUMPLE | D17: ='[1]8'!$M$15 -> CUMPLE | F17: ='[1]8'!$G$19 -> 144.3017 | G17: ='[1]8'!$E$19 -> 1248.7792 | H17: 100 | I17: =+#REF!+H17 -> #REF! | J17: ='[1]8'!$K$22 -> HABIL
A18: 9 | B18: ='[1]9'!$D$6 -> CONSORCIO AEROPISTAS 2017 | C18: ='[1]9'!$M$14 -> CUMPLE | D18: ='[1]9'!$M$15 -> CUMPLE | E18: ='[1]9'!M16 -> CUMPLE | F18: ='[1]9'!$G$19 -> 273.0159 | G18: ='[1]9'!$E$19 -> 1255.2257 | H18: 100 | I18: =+#REF!+H18 -> #REF! | J18: ='[1]9'!K22:L22 -> #VALUE! | K18: Cuando en la verificación aritmética de las propuestas económicas presentadas por los proponentes. Se presenten correcciones aritméticas del ofrecimiento económico, mayor o igual al UNO por ciento (1%), por exceso o defecto, con respecto al valor registrado en el formulario No.1 el día del cierre del proceso. Presenta un error matematico de $24.363.407.
A19: 10 | B19: ='[1]10'!$D$6 -> FERNANDO ALVARO LOZANO M. | C19: ='[1]10'!$M$14 -> CUMPLE | D19: ='[1]10'!$M$15 -> CUMPLE | E19: ='[1]10'!$M$16 -> CUMPLE | F19: ='[1]10'!$G$19 -> 539.06875 | G19: ='[1]10'!$E$19 -> 818.86971 | H19: 100 | I19: =+#REF!+H19 -> #REF! | J19: ='[1]10'!$K$22 -> HABIL
A20: 11 | B20: ='[1]11'!$D$6 -> CONSORCIO PROYECTO PASTO SYF | C20: ='[1]11'!$M$14 -> CUMPLE | D20: ='[1]11'!$M$15 -> CUMPLE | E20: ='[1]11'!$M$16 -> CUMPLE | F20: ='[1]11'!$G$19 -> 2416.2561 | G20: ='[1]11'!$E$19 -> 1767.5102 | H20: 100 | I20: =+#REF!+H20 -> #REF! | J20: ='[1]11'!$K$22 -> HABIL
A21: 12 | B21: ='[1]12'!$D$6 -> CONSORCIO CCA AEROPUERTO PASTO | C21: ='[1]12'!$M$14 -> CUMPLE | D21: ='[1]12'!$M$15 -> CUMPLE | E21: ='[1]12'!$M$16 -> CUMPLE | F21: ='[1]12'!$G$19 -> 1229.3001 | G21: ='[1]12'!$E$19 -> 12804.209 | H21: 100 | I21: =+#REF!+H21 -> #REF! | J21: ='[1]12'!$K$22 -> HABIL
A22: 13 | B22: ='[1]13'!$D$6 -> CONSORCIO ALFA Y OMEGA | C22: ='[1]13'!$M$14 -> CUMPLE | D22: ='[1]13'!$M$15 -> CUMPLE | E22: ='[1]13'!$M$16 -> CUMPLE | F22: ='[1]13'!$G$19 -> 3249.4827 | G22: ='[1]13'!$E$19 -> 84006.571 | H22: 100 | I22: =+#REF!+H22 -> #REF! | J22: ='[1]13'!$K$22 -> HABIL
A23: 14 | B23: ='[1]14'!$D$6 -> RG INGENIERIA SAS | C23: ='[1]14'!$M$14 -> CUMPLE | D23: ='[1]14'!$M$15 -> CUMPLE | E23: ='[1]14'!$M$16 -> CUMPLE | F23: ='[1]14'!$G$19 -> 2926.6061 | G23: ='[1]14'!$E$19 -> 24545.341 | H23: 100 | I23: =+#REF!+H23 -> #REF! | J23: ='[1]14'!$K$22 -> HABIL
A24: 15 | B24: ='[1]15'!$D$6 -> CONSORCIO CYJ | C24: ='[1]15'!$M$14 -> CUMPLE | D24: ='[1]15'!$M$15 -> CUMPLE | E24: ='[1]15'!$M$16 -> CUMPLE | F24: ='[1]15'!$G$19 -> 2521.3943 | G24: ='[1]15'!$E$19 -> 7396.8647 | H24: 100 | I24: =+#REF!+H24 -> #REF! | J24: ='[1]15'!$K$22 -> HABIL
A25: 16 | B25: ='[1]16'!$D$6 -> CONSORCIO HH PASTO | C25: ='[1]16'!$M$14 -> CUMPLE | D25: ='[1]16'!$M$15 -> CUMPLE | E25: ='[1]16'!$M$16 -> CUMPLE | F25: ='[1]16'!$G$19 -> 696.52043 | G25: ='[1]16'!$E$19 -> 4309.8835 | H25: 100 | I25: =+#REF!+H25 -> #REF! | J25: ='[1]16'!$K$22 -> HABIL
A26: 17 | B26: ='[1]17'!$D$6 -> CONSORCIO JMD | C26: ='[1]17'!$M$14 -> CUMPLE | D26: ='[1]17'!$M$15 -> CUMPLE | E26: ='[1]17'!$M$16 -> CUMPLE | F26: ='[1]17'!$G$19 -> 1084.0355 | G26: ='[1]17'!$E$19 -> 5818.3039 | H26: 100 | I26: =+#REF!+H26 -> #REF! | J26: ='[1]17'!$K$22 -> HABIL
A27: 18 | B27: N/P | C27: N/P | D27: N/P | E27: N/P | F27: N/P | G27: N/P | H27: N/P | I27: N/P | J27: N/P
A28: 19 | B28: ='[1]19'!$D$6 -> VIAS Y CANALES SAS | C28: ='[1]19'!$M$14 -> CUMPLE | D28: ='[1]19'!$M$15 -> CUMPLE | E28: ='[1]19'!$M$16 -> CUMPLE | F28: ='[1]19'!$G$19 -> 3162.2103 | G28: ='[1]19'!$E$19 -> 18510.391 | H28: 100 | I28: =+#REF!+H28 -> #REF! | J28: ='[1]19'!$K$22 -> HABIL
A29: 20 | B29: ='[1]20'!$D$6 -> CONSORCIO MP PASTO II | C29: ='[1]20'!$M$14 -> CUMPLE | D29: NP | E29: NP | F29: ='[1]20'!$G$19 -> 734.78962 | G29: ='[1]20'!$E$19 -> 9660.3722 | H29: 100 | I29: =+#REF!+H29 -> #REF! | J29: ='[1]20'!$K$22 -> HABIL
A30: 21 | B30: ='[1]21'!$D$6 -> RP INGENIERIA SAS | C30: ='[1]21'!$M$14 -> CUMPLE | D30: ='[1]21'!$M$15 -> CUMPLE | E30: NP | F30: ='[1]21'!$G$19 -> 601.68976 | G30: ='[1]21'!$E$19 -> 3332.8233 | H30: 100 | I30: =+#REF!+H30 -> #REF! | J30: ='[1]21'!$K$22 -> HABIL
A31: 22 | B31: ='[1]22'!$D$6 -> CONSTRUCCIONES Y OBRAS DE INGENIERIA FENIX SAS | C31: ='[1]22'!$M$14 -> CUMPLE | D31: ='[1]22'!$M$15 -> - | E31: ='[1]22'!$M$16 -> - | F31: ='[1]22'!$G$19 -> 532.30223 | G31: ='[1]22'!$E$19 -> 3176.07 | H31: 100 | I31: =+#REF!+H31 -> #REF! | J31: ='[1]22'!$K$22 -> HABIL
A32: 23 | B32: ='[1]23'!$D$6 -> CONSORCIO ANTONIO NARIÑO | C32: ='[1]23'!$M$14 -> CUMPLE | D32: ='[1]23'!$M$15 -> CUMPLE | E32: ='[1]23'!$M$16 -> CUMPLE | F32: ='[1]23'!$G$19 -> 1392.364 | G32: ='[1]23'!$E$19 -> 4835.7252 | H32: 100 | I32: =+#REF!+H32 -> #REF! | J32: ='[1]23'!$K$22 -> HABIL

Sheet 1
C1: UNIDAD ADMINISTRATIVA ESPECIAL DE AERONAUTICA CIVIL DIRECCION DE REGIONAL ANTIOQUIA | M1: PROCESO 18000964 H4 A de 2018 | Q1: AÑO | R1: VALOR (COP)
A2: ='PAG 1'!B6 -> CONTRATAR EL MANTENIMIENTO Y MEJORAMIENTO DEL CERRAMIENTO PERIMETRAL DE LAS ESTACIONES VOR MARINILLA, OTU-REMEDIOS EN ANTIOQUIA Y QUIBDÓ EN CHOCÓ | H2: PRESUPUESTO OFICIAL (PO) | J2: 332797515 | M2: PO
H3: 2 veces el PRESUPUESTO OFICIAL (PO) | J3: =J2*2 -> 665595030
H4: PRESUPUESTO OFICIAL SMMLV | J4: =J3/R34 -> 851.97036 | M4: PO SMMLV | Q4: 1990 | R4: 41025
H5: TIEMPO DE EJECUCION | J5: 3 | K5: meses | L5: =J5*30 -> 90 | M5: DIAS | Q5: 1991 | R5: 51716
I6: POM en SMMLV/mes | J6: =J4/J5 -> 283.99012 | M6: SMMLV/MES | Q6: 1992 | R6: 65190
A7: PROPONENTE | C7: 1 | D7: ='PAG 2'!C6 -> COLOMBIANA DE LA INGENIERIA Y DE LA ARQUITECTURA S.A.S – COLINAR SAS | I7: 1 | J7: EL INTEGRANTE QUE APORTE LA EXPERIENCIA DEBERA TENER COMO MINIMO EL 50% DE PARTICIPACION EN EL CONSORCIO O UNION TEMPORAL | M7: VALOR REQUERIDO DE VTE (60%) | N7: VALOR REQUERIDO DE PFMT (60%) | O7: VTE | P7: PFMT | Q7: 1993 | R7: 81510
M8: =J4*60% -> 511.18222 | N8: =J6*60% -> 170.39407
A9: INTEGRANTES | C9: INTEGRANTE 1 | D9: =D7 -> COLOMBIANA DE LA INGENIERIA Y DE LA ARQUITECTURA S.A.S – COLINAR SAS | I9: 1 | J9: =IF(H15=D9,"APORTA EXP","NO APORTA EXP") -> APORTA EXP | K9: =IF(H16=D9,"APORTA EXP","NO APORTA EXP") -> APORTA EXP | L9: =IF(H17=D9,"APORTA EXP","NO APORTA EXP") -> NO APORTA EXP | M9: =IF(D9="","",(SUMIF(H15:H17,D9,$D21:$D23))) -> 1862.184 | N9: =IF(D9="","",(SUMIF(H15:H17,D9,$F21:$F23))) -> 306.39022 | O9: =IF(M9>M8,"CUMPLE","NO CUMPLE") -> CUMPLE | P9: =IF(N9>N8,"CUMPLE","NO CUMPLE") -> CUMPLE | Q9: 1994 | R9: 98700
C10: INTEGRANTE 2 | J10: =IF(H15=D10,"APORTA EXP","NO APORTA EXP") -> NO APORTA EXP | K10: =IF(H16=D10,"APORTA EXP","NO APORTA EXP") -> NO APORTA EXP | L10: =IF(H17=D10,"APORTA EXP","NO APORTA EXP") -> APORTA EXP | M10: =IF(D10="","",(SUMIF(H15:H17,D10,$D21))) | N10: =IF(D10="","",(SUMIF(H15:H17,D10,$F21))) | O10: =IF(M10>M8,"CUMPLE","NO CUMPLE") -> CUMPLE | P10: =IF(N10>N8,"CUMPLE","NO CUMPLE") -> CUMPLE | Q10: 1995 | R10: 118933.5
C11: INTEGRANTE 3 | J11: =IF(H15=D11,"APORTA EXP","NO APORTA EXP") -> NO APORTA EXP | K11: =IF(H16=D11,"APORTA EXP","NO APORTA EXP") -> NO APORTA EXP | L11: =IF(H17=D11,"APORTA EXP","NO APORTA EXP") -> APORTA EXP | M11: =IF(D11="","",(SUMIF(H15:H17,D11,$D21:$D23))) | N11: =IF(D11="","",(SUMIF(H15:H17,D11,$F21:$F23))) | O11: =IF(M11>M8,"CUMPLE","NO CUMPLE") -> CUMPLE | P11: =IF(N11>N8,"CUMPLE","NO CUMPLE") -> CUMPLE | Q11: 1996 | R11: 142125
C12: INTEGRANTE 4 | J12: =IF(H15=D12,"APORTA EXP","NO APORTA EXP") -> NO APORTA EXP | K12: =IF(H16=D12,"APORTA EXP","NO APORTA EXP") -> NO APORTA EXP | L12: =IF(H17=D12,"APORTA EXP","NO APORTA EXP") -> APORTA EXP | M12: =IF(D12="","",(SUMIF(H15:H17,D12,$D21:$D23))) | N12: =IF(D12="","",(SUMIF(H15:H17,D12,$F21:$F23))) | O12: =IF(M12>M8,"CUMPLE","NO CUMPLE") -> CUMPLE | P12: =IF(N12>N8,"CUMPLE","NO CUMPLE") -> CUMPLE | Q12: 1997 | R12: 172005
A13: EVALUACION DE LA EXPERIENCIA | G13: # INTEGRANTES | I13: =COUNTA(D9:H12) -> 1 | Q13: 1998 | R13: 203826
A14: CTO INSCRITO EN EL RUP SI/NO | B14: CTO | C14: ENTIDAD CONTRATANTE | D14: # CTO | E14: VALOR EJECUTADO EN SMMLV | F14: CUMPLE CON OBJETO - EXP CTO SI/NO | G14: % PARTICIPACION EN EL CTO | H14: INTEGRANTE QUE APORTA LA EXPERIENCIA | I14: Fecha de Iniciacion (DD-MM-AA) | J14: Tiempo de Suspensión (Meses) | K14: Fecha de Terminacion (DD-MM-AA) | L14: TIEMPO TOTAL | M14: CUMPLE/NO CUMPLE | Q14: 1999 | R14: 236460
A15: SI | B15: 1 | C15: MUNICIPIO DE RIONEGRO | D15: 041 DE 2014 | E15: =658467600/R30 -> 1068.9409 | F15: SI | G15: 1 | H15: =D9 -> COLOMBIANA DE LA INGENIERIA Y DE LA ARQUITECTURA S.A.S – COLINAR SAS | I15: 41694 | K15: 41978 | L15: =((K15-I15)/30)-J15 -> 9.4666667 | M15: CUMPLE | Q15: 2000 | R15: 260100 | S15: =(K15-I15)/30-(30+30+21) -> -71.533333
A16: SI | B16: 2 | C16: MUNICIPIO DE GIRALDO | D16: LP 003 de 2009 | E16: =408520206/R26 -> 793.24312 | F16: SI | G16: 1 | H16: =H15 -> COLOMBIANA DE LA INGENIERIA Y DE LA ARQUITECTURA S.A.S – COLINAR SAS | I16: 40113 | K16: 40236 | L16: =((K16-I16)/30)-J16 -> 4.1 | M16: CUMPLE | Q16: 2001 | R16: 286000
A17: SI | B17: 3 | M17: CUMPLE | Q17: 2002 | R17: 309000
Q18: 2003 | R18: 332000
A19: RESUMEN | C19: CTO | D19: VLR SEGÚN PARTICIPACION ACTUALIZADO VFA | E19: VTE | F19: PFM | G19: PFMT | H19: APOYO A LA INDUSTRIA NACIONAL | N19: 10 | Q19: 2004 | R19: 358000
C21: =D15 -> 041 DE 2014 | D21: =IF(M15="CUMPLE",(E15*G15),0) -> 1068.9409 | E21: =SUM(D21:D23) -> 1862.184 | F21: =D21/L15 -> 112.91629 | G21: =SUM(F21:F23) -> 306.39022 | Q21: 2005 | R21: 381500
C22: =D16 -> LP 003 de 2009 | D22: =IF(M16="CUMPLE",(E16*G16),0) -> 793.24312 | F22: =D22/L16 -> 193.47393 | Q22: 2006 | R22: 408000
C23: =D17 -> 0 | D23: =IF(M17="CUMPLE",(E17*G17),0) -> 0 | Q23: 2007 | R23: 433700
D24: EVALUACION VTE | E24: =IF(E21="","",IF(J4<=E21,"CUMPLE", "NO CUMPLE")) -> CUMPLE | F24: EVALUACION PFMT | G24: =IF(G21="","",IF(L6<=G21,"CUMPLE", "NO CUMPLE")) -> CUMPLE | H24: EVALUACION FINAL | K24: HABIL | M24: PUNTAJE | N24: =+N19+N20+N21 -> 10 | Q24: 2008 | R24: 461500
Q25: 2009 | R25: 496900
A26: CONDICIONES GENERALES | Q26: 2010 | R26: 515000
Q27: 2011 | R27: 535600
Q28: 2012 | R28: 566700
Q29: 2013 | R29: 589500
Q30: 2014 | R30: 616000
Q31: 2015 | R31: 644350
Q32: 2016 | R32: 689455
Q33: 2017 | R33: 737717
Q34: 2018 | R34: 781242

Sheet 2
C1: UNIDAD ADMINISTRATIVA ESPECIAL DE AERONAUTICA CIVIL DIRECCION DE REGIONAL ANTIOQUIA | M1: ='1'!M1:P1 -> PROCESO 18000964 H4 A de 2018 | Q1: AÑO | R1: VALOR (COP)
A2: ='1'!A2:G6 -> CONTRATAR EL MANTENIMIENTO Y MEJORAMIENTO DEL CERRAMIENTO PERIMETRAL DE LAS ESTACIONES VOR MARINILLA, OTU-REMEDIOS EN ANTIOQUIA Y QUIBDÓ EN CHOCÓ | H2: PRESUPUESTO OFICIAL (PO) | J2: ='1'!J2:L2 -> 332797515 | M2: PO
H3: 2 veces el PRESUPUESTO OFICIAL (PO) | J3: =J2*2 -> 665595030
H4: PRESUPUESTO OFICIAL SMMLV | J4: =J3/R36 -> 851.97036 | M4: PO SMMLV | Q4: 1990 | R4: 41025
H5: TIEMPO DE EJECUCION | J5: ='[1]1'!J5 -> 4 | K5: meses | L5: =J5*30 -> 120 | M5: DIAS | Q5: 1991 | R5: 51716
I6: POM en SMMLV/mes | J6: =J4/J5 -> 212.99259 | M6: SMMLV/MES | Q6: 1992 | R6: 65190
