Workbook

Sheet RESUMEN
B2: FORTALECIMIENTO DE LOS PROCESOS PRODUCTIVOS EN CULTIVOS DE CEREALES, FORRAJES Y HORTALIZAS PARA PEQUEÑOS PRODUCTORES DE LA SUBREGIÓN SABANA DEL DEPARTAMENTO DE NARIÑO.
B3: OBJETIVO ESPECIFICO | C3: PRODUCTO | D3: RESULTADOS | E3: N° | F3: ACTIVIDADES | G3: INSUMOS/ MAQUINARIA | H3: ACOMPAÑAMIENTO TECNICO | J3: ENCUENTROS Y ECA´s | K3: GASTOS ADMINISTRATIVOS | M3: CONT. PARTICIPANTES | N3: CONT. ALCALDIAS | O3: VALOR SOLICITADO A SGR | P3: VALOR TOTAL INVERSIÓN
B4: CONTRATACIÓN DE PERSONAL PARA LA EJECUCIÓN DEL PROYECTO | E4: 0.0 | F4: realización de contratación de personal calificado para la operación y supervisión del proyecto
B5: 1. Objetivo Especifico. Facilitar el acceso a herramientas y mecanismos agrícolas, que permitan la preparación de los suelos para 360 pequeños productores de la subregión Sabana. | C5: 1.1 Producto | D5: 4 municipios de la subregión Sabana beneficiados con dotación de bancos de maquinaria agrícola para alquiler a bajo costo y paquete tecnologico con 6 parcelas demostrativas para adelantar procesos productivos de cereales, forrajes y hortalizas. | E5: 1.1.1 | F5: socialización de ejecución del proyecto con las organizaciones participantes de los 4 municipios priorizados | H5: =+'PRESUPUESTO GENERAL'!E25*5.5% -> 4498163.6 | I5: =+H5/H24 -> 0.055 | J5: =+ECAS!G14 -> 1080000 | K5: =+('PRESUPUESTO GENERAL'!E28+'PRESUPUESTO GENERAL'!E6+'PRESUPUESTO GENERAL'!E30)*1.75% -> 1579510.9 | L5: =+K5/K24 -> 0.0175 | O5: =SUM(G5,H5,J5,K5) -> 7157674.6 | P5: =SUM(M5:O5) -> 7157674.6
E6: 1.1.2 | F6: Verificación de predios facilitados por asociaciones participantes para adelantar procesos productivos y demostrativos para las escuelas de campo (ECA´s), 6 Hectareas por Municipio. | H6: =+'PRESUPUESTO GENERAL'!E25*7% -> 5724935.5 | I6: =+H6/H24 -> 0.07 | K6: =+('PRESUPUESTO GENERAL'!E28+'PRESUPUESTO GENERAL'!E6+'PRESUPUESTO GENERAL'!E30)*0.65% -> 586675.49 | L6: =+K6/K24 -> 0.0065 | O6: =SUM(G6,H6,J6,K6) -> 6311611 | P6: =SUM(M6:O6) -> 6311611
E7: 1.1.3 | F7: verificación y adecuación depositos municipales para el resguardo de los bancos de maquinaria verde. | H7: =+'PRESUPUESTO GENERAL'!E25*7% -> 5724935.5 | I7: =+H7/H24 -> 0.07 | K7: =+('PRESUPUESTO GENERAL'!E28+'PRESUPUESTO GENERAL'!E6+'PRESUPUESTO GENERAL'!E30)*0.47% -> 424211.51 | L7: =+K7/K24 -> 0.0047 | O7: =SUM(G7,H7,J7,K7) -> 6149147.1 | P7: =SUM(M7:O7) -> 6149147.1
E8: 1.1.4 | F8: Dotación de maquinaria para la preparación de suelos agricolas en lineas productivas de cereales, forrajes y hortalizas, como rastrillo, surcadora, arado, remolque, corta pastos y silopack para cada uno de los 4 bancos de maquinaria agrícola. | G8: =+'PRESUPUESTO GENERAL'!E48 -> 0 | H8: =+'PRESUPUESTO GENERAL'!E25*5.5% -> 4498163.6 | I8: =+H8/H24 -> 0.055 | K8: 7220621.6 | L8: =+K8/K24 -> 0.080000001 | O8: =SUM(G8,H8,J8,K8) -> 11718785 | P8: =SUM(M8:O8) -> 11718785
E9: 1.1.5 | F9: Aporte de combustibles para el funcionamiento de la maquinaria durante los 3 primeros meses de ejecución por parte del proyecto | G9: =+'PRESUPUESTO GENERAL'!E5 -> 22058400 | H9: =+'PRESUPUESTO GENERAL'!E25*5.5% -> 4498163.6 | I9: =+H9/H24 -> 0.055 | K9: =+('PRESUPUESTO GENERAL'!E28+'PRESUPUESTO GENERAL'!E6+'PRESUPUESTO GENERAL'!E30)*2.3% -> 2075928.7 | L9: =+K9/K24 -> 0.023 | O9: =SUM(G9,H9,J9,K9) -> 28632492 | P9: =SUM(M9:O9) -> 28632492
E10: 1.1.6 | F10: Dotación de insumos y herramientas basicas para adelantar procesos productivos en las parcelas demostrativas de papa, cebolla de bulbo, maiz, cebada, trigo y forrajes. | G10: =+'PRESUPUESTO GENERAL'!E16 -> 1.2651042e+08 | H10: 6133859 | I10: =+H10/H24 -> 0.074999995 | K10: =+('PRESUPUESTO GENERAL'!E28+'PRESUPUESTO GENERAL'!E6+'PRESUPUESTO GENERAL'!E30)*9.95% -> 8980647.9 | L10: =+K10/K24 -> 0.0995 | O10: =SUM(G10,H10,J10,K10) -> 1.4162493e+08 | P10: =SUM(M10:O10) -> 1.4162493e+08
E11: 1.1.7 | F11: Apoyo a la supervision general. (producto 1: servicio de apoyo para acceso a maquinaria y equipos) | K11: 0 | O11: 37608368 | P11: =SUM(M11:O11) -> 37608368
B12: 2. Objetivo especifico. Implementar Prácticas Agronomicas para la preparación del suelo y el mantenimiento de los cultivos de cereales, forrajes y hortalizas, de 360 pequeños productores de la subregión Sabana del departamento de Nariño | C12: 2.1 Producto | D12: 360 pequeños productores con acceso a acompañamiento tecnico e instrucción profesional que les permitan implementar practicas agronomicas adecuadas para optimizar la producción de cereales, forrajes y hortalizas, en la subregión Sabana, del departamento de Nariño | E12: 2.1.1 | F12: Visita de campo a fincas de participantes, verificación de plan operativo y caracterización cultivos transitorios relacionados con Hortalizas, cereales y forrajes. | H12: =+'PRESUPUESTO GENERAL'!E17*6.5% -> 0 | I12: =+H12/H24 -> 0 | K12: =+('PRESUPUESTO GENERAL'!E28+'PRESUPUESTO GENERAL'!E6+'PRESUPUESTO GENERAL'!E30)*0.58% -> 523495.05 | L12: =+K12/K24 -> 0.0058 | O12: =SUM(G12,H12,J12,K12) -> 523495.05 | P12: =SUM(M12:O12) -> 523495.05
E13: 2.1.2 | F13: ECA´s demostrativa en manejo y aplicación de maquinaria verde para la preparación del suelo. | H13: =+'PRESUPUESTO GENERAL'!E25*6.5% -> 5316011.6 | I13: =+H13/H24 -> 0.065 | J13: =+ECAS!G54/4 -> 5019120 | K13: =+('PRESUPUESTO GENERAL'!E28+'PRESUPUESTO GENERAL'!E6+'PRESUPUESTO GENERAL'!E30)*13.3% -> 12004283 | L13: =+K13/K24 -> 0.133 | M13: =+'CONT. ORGANIZACIONES'!G8 -> 21200000 | O13: =SUM(G13,H13,J13,K13) -> 22339415 | P13: =SUM(M13:O13) -> 43539415
E14: 2.1.3 | F14: ECA´s demostrativa en manejo agronomico y MIPE (manejo integrado de plagas y enfermedades) del cultivo papa y cebolla de bulbo | H14: =+'PRESUPUESTO GENERAL'!E25*6.5% -> 5316011.6 | I14: =+H14/H24 -> 0.065 | J14: =+J13 -> 5019120 | K14: =+('PRESUPUESTO GENERAL'!E28+'PRESUPUESTO GENERAL'!E6+'PRESUPUESTO GENERAL'!E30)*13.3% -> 12004283 | L14: =+K14/K24 -> 0.133 | M14: =+M13 -> 21200000 | O14: =SUM(G14,H14,J14,K14) -> 22339415 | P14: =SUM(M14:O14) -> 43539415
E15: 2.1.4 | F15: ECA´s demostrativa en manejo agronomico y MIPE (manejo integrado de plagas y enfermedades) del cultivo cereales: Maiz, cebada y Trigo | H15: =+'PRESUPUESTO GENERAL'!E25*6.5% -> 5316011.6 | I15: =+H15/H24 -> 0.065 | J15: =+J13 -> 5019120 | K15: =+('PRESUPUESTO GENERAL'!E28+'PRESUPUESTO GENERAL'!E6+'PRESUPUESTO GENERAL'!E30)*13.3% -> 12004283 | L15: =+K15/K24 -> 0.133 | M15: ='[1]PRESUPUESTO GENERAL'!H17 -> 21200000 | O15: =SUM(G15,H15,J15,K15) -> 22339415 | P15: =SUM(M15:O15) -> 43539415
E16: 2.1.5 | F16: ECA´s demostrativa en manejo agronomico y MIPE (manejo integrado de plagas y enfermedades) en forrajes y practica de Ensilaje mecanico. | H16: =+'PRESUPUESTO GENERAL'!E25*6.5% -> 5316011.6 | I16: =+H16/H24 -> 0.065 | J16: =+J13 -> 5019120 | K16: =+('PRESUPUESTO GENERAL'!E28+'PRESUPUESTO GENERAL'!E6+'PRESUPUESTO GENERAL'!E30)*13.3% -> 12004283 | L16: =+K16/K24 -> 0.133 | M16: =+M13 -> 21200000 | O16: =SUM(G16,H16,J16,K16) -> 22339415 | P16: =SUM(M16:O16) -> 43539415
E17: 2.1.6 | F17: acompañamiento tecnico a las organizaciones, sobre labores de preparación del suelo para establecimiento de cultivos de hortalizas, cereales y forrajes | H17: =+'PRESUPUESTO GENERAL'!E25*6.5% -> 5316011.6 | I17: =+H17/H24 -> 0.065 | K17: =+('PRESUPUESTO GENERAL'!E28+'PRESUPUESTO GENERAL'!E6+'PRESUPUESTO GENERAL'!E30)*9.81% -> 8854287 | L17: =+K17/K24 -> 0.0981 | M17: =+M13 -> 21200000 | N17: =+'CONT. ALCALDIAS'!G27 -> 54471349 | O17: =SUM(G17,H17,J17,K17) -> 14170299 | P17: =SUM(M17:O17) -> 89841648
E18: 2.1.7 | F18: verificación de cumplimiento sobre planes de alquiler o arrendamiento de maquinaria | H18: =+'PRESUPUESTO GENERAL'!E25*6.5% -> 5316011.6 | I18: =+H18/H24 -> 0.065 | K18: =+('PRESUPUESTO GENERAL'!E28+'PRESUPUESTO GENERAL'!E6+'PRESUPUESTO GENERAL'!E30)*3.3% -> 2978506.3 | L18: =+K18/K24 -> 0.033 | M18: =+M13 -> 21200000 | O18: =SUM(G18,H18,J18,K18) -> 8294517.9 | P18: =SUM(M18:O18) -> 29494518
E19: 2.1.8 | F19: acompañamiento tecnico a las organizaciones, sobre labores mantenimiento y sanidad vegetal sobre cultivos de hortalizas (papa, cebolla de bulbo), cereales (maiz, trigo, cebada) y forrajes (pasturas) manejo de residuos solidos | H19: =+'PRESUPUESTO GENERAL'!E25*6.5% -> 5316011.6 | I19: =+H19/H24 -> 0.065 | K19: =+('PRESUPUESTO GENERAL'!E28+'PRESUPUESTO GENERAL'!E6+'PRESUPUESTO GENERAL'!E30)*0.75% -> 676933.26 | L19: =+K19/K24 -> 0.0075 | O19: =SUM(G19,H19,J19,K19) -> 5992944.8 | P19: =SUM(M19:O19) -> 5992944.8
E20: 2.1.9 | F20: acompañamiento tecnico para adelantar labores de cosecha y poscosecha de cultivos de hortalizas (papa, cebolla de bulbo), cereales (maiz, trigo, cebada) y forrajes (pasturas) | H20: =+'PRESUPUESTO GENERAL'!E25*6.5% -> 5316011.6 | I20: =+H20/H24 -> 0.065 | K20: =+('PRESUPUESTO GENERAL'!E28+'PRESUPUESTO GENERAL'!E6+'PRESUPUESTO GENERAL'!E30)*0.75% -> 676933.26 | L20: =+K20/K24 -> 0.0075 | O20: =SUM(G20,H20,J20,K20) -> 5992944.8 | P20: =SUM(M20:O20) -> 5992944.8
E21: 2.1.10 | F21: Taller para la asesoria tecnica en procesos de fortalecimiento socio empresarial, contabilidad basica. | H21: =+'PRESUPUESTO GENERAL'!E25*5% -> 4089239.7 | I21: =+H21/H24 -> 0.05 | J21: =+ECAS!G55 -> 3323520 | K21: =+('PRESUPUESTO GENERAL'!E28+'PRESUPUESTO GENERAL'!E6+'PRESUPUESTO GENERAL'!E30)*6.74% -> 6083373.6 | L21: =+K21/K24 -> 0.0674 | O21: =SUM(G21,H21,J21,K21) -> 13496133 | P21: =SUM(M21:O21) -> 13496133
E22: 2.1.11 | F22: socialización liquidación del proyecto con participantes de los 4 municipios priorizados | H22: =+'PRESUPUESTO GENERAL'!E25*5% -> 4089239.7 | I22: =+H22/H24 -> 0.05 | J22: =+ECAS!G57 -> 1080000 | K22: =+('PRESUPUESTO GENERAL'!E28+'PRESUPUESTO GENERAL'!E6+'PRESUPUESTO GENERAL'!E30)*1.75% -> 1579510.9 | L22: =+K22/K24 -> 0.0175 | O22: =SUM(G22,H22,J22,K22) -> 6748750.6 | P22: =SUM(M22:O22) -> 6748750.6
B23: APOYO A LA SUPERVISIÓN | E23: 2.1.12 | F23: apoyo a la supervisión general. (producto 2: servicio de asistencia tecnica agropecuaria dirigida a pequeños productores) | O23: 18030252 | P23: =SUM(M23:O23) -> 18030252
F24: TOTAL INVERSION | G24: =SUM(G4:G23) -> 1.4856882e+08 | H24: =SUM(H4:H23) -> 81784793 | I24: =SUM(I4:I23) -> 1 | J24: =SUM(J4:J22) -> 25560000 | K24: =SUM(K4:K23) -> 90257768 | L24: =SUM(L4:L23) -> 1 | M24: =SUM(M4:M22) -> 1.272e+08 | N24: =SUM(N4:N22) -> 54471349 | O24: =SUM(O4:O23) -> 4.0181e+08 | P24: =SUM(P4:P23) -> 5.8348135e+08
H26: =+'PRESUPUESTO GENERAL'!E25 -> 81784793 | J26: ok | K26: =+'PRESUPUESTO GENERAL'!E28 -> 86629577 | M26: ok | N26: ok | O26: =+'PRESUPUESTO GENERAL'!E44 -> 0 | P26: =+'PRESUPUESTO GENERAL'!E42 -> 0
H27: ok | K27: ok
O28: =+O26-O24 -> -4.0181e+08 | P28: =+P26-P24 -> -5.8348135e+08
K29: =+'PRESUPUESTO GENERAL'!E6 -> 1038000
K30: =+'PRESUPUESTO GENERAL'!E30 -> 2590191.2
K32: =+K26+K29+K30 -> 90257768
K33: OK
K34: =+K24-K32 -> 0.14400004

Sheet CROMOGRAMA
B1: CRONOGRAMA DE ACTIVIDADES | H1: FORTALECIMIENTO DE LOS PROCESOS PRODUCTIVOS EN CULTIVOS DE CEREALES, FORRAJES Y HORTALIZAS PARA PEQUEÑOS PRODUCTORES DE LA SUBREGIÓN SABANA DEL DEPARTAMENTO DE NARIÑO.
B2: OBJETIVO ESPECIFICO | C2: PRODUCTO | D2: RESULTADOS | E2: N° | F2: ACTIVIDADES | G2: MES 1 | H2: MES 2 | I2: MES 3 | J2: MES 4 | K2: MES 5 | L2: MES 6 | M2: MES 7 | N2: MES 8 | O2: MES 9 | P2: MES 10 | S2: El cronograma esta planteado para 12 meses y en los estudios previos en 2.5. PLAZO Y VIGENCIA DEL CONTRATO, Esta planteado para un término de 10 meses.
B3: CONTRATACIÓN DE PERSONAL PARA LA EJECUCIÓN DEL PROYECTO | E3: 0.0 | F3: realización de contratación de personal calificado para la operación y supervisión del proyecto
B4: 1. Objetivo Especifico. Facilitar el acceso a herramientas y mecanismos agrícolas, que permitan la preparación de los suelos para 360 pequeños productores de la subregión Sabana. | C4: 1.1 Producto | D4: 4 municipios de la subregión Sabana beneficiados con dotación de bancos de maquinaria agrícola para alquiler a bajo costo y paquete tecnologico con 6 parcelas demostrativas para adelantar procesos productivos de cereales, forrajes y hortalizas. | E4: 1.1.1 | F4: socialización de ejecución del proyecto con las organizaciones participantes de los 4 municipios priorizados
E5: 1.1.2 | F5: Verificación de predios facilitados por asociaciones participantes para adelantar procesos productivos y demostrativos para las escuelas de campo (ECA´s), 6 Hectareas por Municipio.
E6: 1.1.3 | F6: verificación y adecuación depositos municipales para el resguardo de los bancos de maquinaria verde.
E7: 1.1.4 | F7: Dotación de maquinaria para la preparación de suelos agricolas en lineas productivas de cereales, forrajes y hortalizas, como rastrillo, surcadora, arado, remolque, corta pastos y silopack para cada uno de los 4 bancos de maquinaria agrícola.
E8: 1.1.5 | F8: Aporte de combustibles para el funcionamiento de la maquinaria durante los 3 primeros meses de ejecución por parte del proyecto
E9: 1.1.6 | F9: Dotación de insumos y herramientas basicas para adelantar procesos productivos en las parcelas demostrativas de papa, cebolla de bulbo, maiz, cebada, trigo y forrajes.
E10: 1.1.7 | F10: Apoyo a la supervision general. (producto 1: servicio de apoyo para acceso a maquinaria y equipos)
B11: 2. Objetivo especifico. Implementar Prácticas Agronomicas para la preparación del suelo y el mantenimiento de los cultivos de cereales, forrajes y hortalizas, de 360 pequeños productores de la subregión Sabana del departamento de Nariño | C11: 2.1 Producto | D11: 360 pequeños productores con acceso a acompañamiento tecnico e instrucción profesional que les permitan implementar practicas agronomicas adecuadas para optimizar la producción de cereales, forrajes y hortalizas, en la subregión Sabana, del departamento de Nariño | E11: 2.1.1 | F11: Visita de campo a fincas de participantes, verificación de plan operativo y caracterización cultivos transitorios relacionados con Hortalizas, cereales y forrajes.
E12: 2.1.2 | F12: ECA´s demostrativa en manejo y aplicación de maquinaria verde para la preparación del suelo.
E13: 2.1.3 | F13: ECA´s demostrativa en manejo agronomico y MIPE (manejo integrado de plagas y enfermedades) del cultivo papa y cebolla de bulbo
E14: 2.1.4 | F14: ECA´s demostrativa en manejo agronomico y MIPE (manejo integrado de plagas y enfermedades) del cultivo cereales: Maiz, cebada y Trigo
E15: 2.1.5 | F15: ECA´s demostrativa en manejo agronomico y MIPE (manejo integrado de plagas y enfermedades) en forrajes y practica de Ensilaje mecanico.
E16: 2.1.6 | F16: acompañamiento tecnico a las organizaciones, sobre labores de preparación del suelo para establecimiento de cultivos de hortalizas, cereales y forrajes
E17: 2.1.7 | F17: verificación de cumplimiento sobre planes de alquiler o arrendamiento de maquinaria
E18: 2.1.8 | F18: acompañamiento tecnico a las organizaciones, sobre labores mantenimiento y sanidad vegetal sobre cultivos de hortalizas (papa, cebolla de bulbo), cereales (maiz, trigo, cebada) y forrajes (pasturas), manejo de residuos solidos
E19: 2.1.9 | F19: acompañamiento tecnico para adelantar labores de cosecha y poscosecha de cultivos de hortalizas (papa, cebolla de bulbo), cereales (maiz, trigo, cebada) y forrajes (pasturas)
E20: 2.1.10 | F20: Taller para la asesoria tecnica en procesos de fortalecimiento socio empresarial, contabilidad basica.
E21: 2.1.11 | F21: socialización liquidación del proyecto con participantes de los 4 municipios priorizados
E22: 2.1.12 | F22: apoyo a la supervisión general. (producto 2: servicio de asistencia tecnica agropecuaria dirigida a pequeños productores)

Sheet PRESUPUESTO GENERAL
A1: FORTALECIMIENTO DE LOS PROCESOS PRODUCTIVOS EN CULTIVOS DE CEREALES, FORRAJES Y HORTALIZAS PARA PEQUEÑOS PRODUCTORES DE LA SUBREGIÓN SABANA DEL DEPARTAMENTO DE NARIÑO.
B2: MAQUINARIA VERDE - COMBUSTIBLE
A3: DETALLE | B3: CANTIDAD | C3: VALOR UNIT | D3: VALOR PARCIAL | E3: VALOR SOLICITADO SGR | F3: % INVERSION | G3: VALOR CONTR. PARTICPANTES | H3: % INVERSION | I3: VALOR CONTR. ALCALDIAS | J3: % INVERSION
A5: COMBUSTIBLE (DIESEL*3MESES) | B5: 4 | C5: =+'CONT. ALCALDIAS'!G11 -> 5514600 | D5: =+B5*C5 -> 22058400 | E5: =+D5 -> 22058400 | F5: =(E5*100%)/E33 -> 0.063721039 | G5: 0 | H5: 0 | I5: 0 | J5: 0
A6: ANALISIS DE SUELOS: Teniendo en cuenta el tipo de cultivos a implementar el estudio de suelos deberá analizar: Propiedades Físicas y químicas del Suelo; Composición química, saturación de bases y relaciones iónicas; Fertilización Edáfica y foliar. | B6: 12 | C6: 86500 | D6: =+B6*C6 -> 1038000 | E6: =+D6 -> 1038000 | F6: =(E6*100%)/E33 -> 0.0029985148 | G6: 0 | H6: 0 | I6: 0 | J6: 0
A7: SUBTOTAL | C7: =SUM(C5:C6) -> 5601100 | D7: =SUM(D5:D6) -> 23096400 | E7: =SUM(E5:E6) -> 23096400 | F7: =SUM(F5:F6) -> 0.066719554 | G7: =SUM(G5:G6) -> 0 | H7: =SUM(H5:H6) -> 0 | I7: =SUM(I5:I6) -> 0 | J7: =SUM(J5:J6) -> 0
C8: INSUMOS PARCELAS DEMOSTRATIVAS
B9: CANTIDAD | C9: PARCELA (5.000m2) | D9: VALOR PARCIAL | E9: VALOR SOLICITADO SGR | F9: % INVERSION | G9: VALOR CONTR. ORGANIZACIONES | H9: % INVERSION | I9: VALOR CONTR. ALCALDIAS | J9: % INVERSION
A10: PARCELA PAPA (1/2has) | B10: 4 | C10: =+'IN. PAPA.'!G43 -> 8614766.7 | D10: =+'IN. PAPA.'!H43 -> 34459067 | E10: =+B10*C10 -> 34459067 | F10: =(E10*100%)/E33 -> 0.099543373 | G10: ='CONT. ORGANIZACIONES'!G8 -> 21200000 | H10: =(G10*100%)/G31 -> 0.16666667 | I10: 0 | J10: =(I10*100%)/I31 -> 0
A11: PARCELA CEBOLLA BULBO (1/2 has) | B11: 4 | C11: ='IN. CEBOLLA B. '!$G$53 -> 7505271.3 | D11: =+'IN. CEBOLLA B. '!H53 -> 30021085 | E11: =+B11*C11 -> 30021085 | F11: =(E11*100%)/E33 -> 0.086723187 | G11: ='CONT. ORGANIZACIONES'!G9 -> 21200000 | H11: =(G11*100%)/G31 -> 0.16666667 | I11: 0 | J11: =(I11*100%)/I31 -> 0
A12: PARCELA MAIZ (1/2) | B12: 4 | C12: ='IN. MAIZ.'!$G$45 -> 5292600 | D12: =+'IN. MAIZ.'!H45 -> 21170400 | E12: =+B12*C12 -> 21170400 | F12: =(E12*100%)/E33 -> 0.061155836 | G12: ='CONT. ORGANIZACIONES'!G10 -> 21200000 | H12: =(G12*100%)/G31 -> 0.16666667 | I12: 0 | J12: =(I12*100%)/I31 -> 0
A13: PARCELA CEBADA (1/2Has) | B13: 4 | C13: ='IN. CEBADA.'!$G$42 -> 4371033.3 | D13: =+'IN. CEBADA.'!H42 -> 17484133 | E13: =+B13*C13 -> 17484133 | F13: =(E13*100%)/E33 -> 0.05050716 | G13: ='CONT. ORGANIZACIONES'!G11 -> 21200000 | H13: =(G13*100%)/G31 -> 0.16666667 | I13: 0 | J13: =(I13*100%)/I31 -> 0
A14: PARCELA TRIGO (1/2Has) | B14: 4 | C14: ='IN. TRIGO.'!$G$43 -> 4135800 | D14: =+'IN. TRIGO.'!H43 -> 16543200 | E14: =+B14*C14 -> 16543200 | F14: =(E14*100%)/E33 -> 0.047789046 | G14: ='CONT. ORGANIZACIONES'!G12 -> 21200000 | H14: =(G14*100%)/G31 -> 0.16666667 | I14: 0 | J14: =(I14*100%)/I31 -> 0
A15: PARCELA FORRAJES (1/2Has) | B15: 4 | C15: ='IN. FORRAJE.'!$G$34 -> 1708133.3 | D15: =+'IN. FORRAJE.'!H34 -> 6832533.3 | E15: =+B15*C15 -> 6832533.3 | F15: =(E15*100%)/E33 -> 0.01973743 | G15: ='CONT. ORGANIZACIONES'!G13 -> 21200000 | H15: =(G15*100%)/G31 -> 0.16666667 | I15: 0 | J15: =(I15*100%)/I31 -> 0
A16: SUBTOTAL | E16: =SUM(E10:E15) -> 1.2651042e+08 | F16: =SUM(F10:F15) -> 0.36545603 | G16: =SUM(G10:G15) -> 127200000 | H16: =SUM(H10:H15) -> 1 | I16: =SUM(I10:I15) -> 0 | J16: =SUM(J10:J15) -> 0
B17: MANO DE OBRA CALIFICADA
B18: PROFESIONALES Y/O TECNICOS | C18: VALOR TOTAL/MES | D18: MESES | E18: VALOR SOLICITADO SGR | F18: % INVERSION | G18: VALOR CONTR. ORGANIZACIONES | H18: % INVERSION | I18: VALOR CONTR. ALCALDIAS | J18: % INVERSION
A19: ACOMPAÑAMIENTO TECNICO GUAITARILLA | B19: =+'MANO DE OBRA CALIFICADA'!C5 -> 1 | C19: ='MANO DE OBRA CALIFICADA'!G5 -> 3145569 | D19: =+'MANO DE OBRA CALIFICADA'!D5 -> 6 | E19: ='MANO DE OBRA CALIFICADA'!H5 -> 18873414 | F19: =(E19*100%)/E33 -> 0.054520434 | G19: 0 | H19: 0 | I19: =+'CONT. ALCALDIAS'!G12 -> 13617837 | J19: =(I19*100%)/E33 -> 0.039338426
A20: ACOMPAÑAMIENTO TECNICO IMUES | B20: =+'MANO DE OBRA CALIFICADA'!C6 -> 1 | C20: ='MANO DE OBRA CALIFICADA'!G6 -> 3145569 | D20: =+'MANO DE OBRA CALIFICADA'!D6 -> 6 | E20: ='MANO DE OBRA CALIFICADA'!H6 -> 18873414 | F20: =(E20*100%)/E33 -> 0.054520434 | G20: 0 | H20: 0 | I20: =+I19 -> 13617837 | J20: =(I20*100%)/E33 -> 0.039338426
A21: ACOMPAÑAMIENTO TECNICO OSPINA | B21: =+'MANO DE OBRA CALIFICADA'!C7 -> 1 | C21: ='MANO DE OBRA CALIFICADA'!G7 -> 3145569 | D21: =+'MANO DE OBRA CALIFICADA'!D7 -> 6 | E21: ='MANO DE OBRA CALIFICADA'!H7 -> 18873414 | F21: =(E21*100%)/E33 -> 0.054520434 | G21: 0 | H21: 0 | I21: =+I19 -> 13617837 | J21: =(I21*100%)/E33 -> 0.039338426
A22: ACOMPAÑAMIENTO TECNICO SAPUYES | B22: =+'MANO DE OBRA CALIFICADA'!C8 -> 1 | C22: ='MANO DE OBRA CALIFICADA'!G8 -> 3145569 | D22: =+'MANO DE OBRA CALIFICADA'!D8 -> 6 | E22: ='MANO DE OBRA CALIFICADA'!H8 -> 18873414 | F22: =(E22*100%)/E33 -> 0.054520434 | G22: 0 | H22: 0 | I22: =+I19 -> 13617837 | J22: =(I22*100%)/E33 -> 0.039338426
A23: ACOMPAÑAMIENTO SOCIO-EMPRESARIAL GUAITARILLA E IMUES | B23: =+'MANO DE OBRA CALIFICADA'!C17 -> 1 | C23: ='MANO DE OBRA CALIFICADA'!G17 -> 3145569 | D23: =+'MANO DE OBRA CALIFICADA'!D17 -> 1 | E23: =+'MANO DE OBRA CALIFICADA'!H17 -> 3145569 | F23: =(E23*100%)/E33 -> 0.009086739 | G23: 0 | H23: 0 | I23: 0 | J23: 0
A24: ACOMPAÑAMIENTO SOCIO-EMPRESARIAL OSPINA Y SAPUYES | B24: =+'MANO DE OBRA CALIFICADA'!C18 -> 1 | C24: ='MANO DE OBRA CALIFICADA'!G18 -> 3145569 | D24: =+'MANO DE OBRA CALIFICADA'!D18 -> 1 | E24: =+'MANO DE OBRA CALIFICADA'!H18 -> 3145569 | F24: =(E24*100%)/E33 -> 0.009086739 | G24: 0 | H24: 0 | I24: 0 | J24: 0
A25: SUBTOTAL | C25: =SUM(C19:C22) -> 12582276 | E25: =SUM(E19:E24) -> 81784793 | F25: =SUM(F19:F24) -> 0.23625521 | G25: =SUM(G19:G24) -> 0 | H25: =SUM(H19:H24) -> 0 | I25: =SUM(I19:I24) -> 54471349 | J25: =SUM(J19:J24) -> 0.1573537
B26: GASTOS ADMINISTRATIVOS Y OPERACIONALES
A27: ENCUENTROS CON PARTICIPANTES | E27: =+ECAS!G49 -> 25560000 | F27: =(E27*100%)/E33 -> 0.07383626 | G27: 0 | H27: 0 | I27: 0 | J27: 0
A28: CONTRATACIÓN PROFESIONALES A CARGO COORDINACIÓN Y OPERACIÓN PROYECTO | E28: =+GASTOS_ADMIN!H29 -> 86629577 | F28: =(E28*100%)/E33 -> 0.25025055 | G28: 0 | H28: 0 | I28: 0 | J28: 0
A29: SUBTOTAL | E29: =SUM(E27:E28) -> 1.1218958e+08 | F29: =SUM(F27:F28) -> 0.32408681 | G29: =SUM(G27:G28) -> 0 | H29: =SUM(H27:H28) -> 0 | I29: =SUM(I27:I28) -> 0 | J29: =SUM(J27:J28) -> 0
A30: Costos implementación protocolo de bioseguriad COVID - 19 | E30: =+'Protocolo de Bioseguridad'!F36 -> 2590191.2 | F30: =(E30*100%)/E33 -> 0.0074823956
A31: TOTAL DEL PROYECTO | E31: =SUM(E29,E25,E16,E30,E7) -> 3.4617138e+08 | F31: =SUM(F29,F25,F16,F7,F30) -> 1 | G31: =SUM(G29,G25,G16) -> 127200000 | H31: =SUM(H29,H25,H16) -> 1 | I31: =SUM(I29,I25,I16) -> 54471349 | J31: =SUM(J29,J25,J16) -> 0.1573537
A33: Valor a cofinanciar SGR | E33: =+E31 -> 3.4617138e+08 | F33: =SUM(F25,F29,F16,F7,F30) -> 1
A34: TOTAL DE LA OPERACIÓN | E34: =SUM(E31,G31,I31) -> 5.2784273e+08
L35: =+E25+E28 -> 1.6841437e+08
G37: 3.4617138e+08

Sheet Cuadro comparativo precios
A1: COMPARACIÓN PRECIOS INSUMOS
A3: INFORMACIÓN PROVEEDORES | E3: AGRICOLA SAN JOSE | F3: AGRINAR | G3: AGROTUQUERRES | H3: VALOR PROMEDIO
A4: ITEM | B4: DESCRIPCIÓN | C4: CANTIDAD | D4: UNIDAD | E4: VALOR UNITARIO | F4: VALOR UNITARIO | G4: VALOR UNITARIO
A5: 1 | B5: Carbonato de Calcio y oxido de magnesio,0-9-0-40(CaO) | C5: 424 | D5: bulto (50Kg) | E5: 35000 | F5: 42500 | G5: 47000 | H5: =(E5+F5+G5)/3 -> 41500
A6: 2 | B6: fertilizante compuesto (12-24-12-10-1,5) | C6: 28 | D6: bulto (50Kg) | E6: 152000 | F6: 147000 | G6: 139000 | H6: =(E6+F6+G6)/3 -> 146000
A7: 3 | B7: Fertilizante compuesto (10-11-29-2-5-3) | C7: 28 | D7: bulto (50Kg) | E7: 112000 | F7: 130000 | G7: 139000 | H7: =(E7+F7+G7)/3 -> 127000
A8: 4 | B8: Elementos menores | C8: 24 | D8: bulto (50Kg) | E8: 82000 | F8: 90000 | G8: 110000 | H8: =(E8+F8+G8)/3 -> 94000
A9: 5 | B9: Materia Organica | C9: 240 | D9: bulto (50Kg) | E9: 20000 | F9: 19000 | G9: 22000 | H9: =(E9+F9+G9)/3 -> 20333.333
A10: 6 | B10: fosfato Diamonico | C10: 28 | D10: bulto (50Kg) | E10: 155000 | F10: 166000 | G10: 180000 | H10: =(E10+F10+G10)/3 -> 167000
A11: 7 | B11: Cloruro de Potasio (0-0-60) | C11: 32 | D11: bulto (50Kg) | E11: 160000 | F11: 163000 | G11: 160000 | H11: =(E11+F11+G11)/3 -> 161000
A12: 8 | B12: Urea (39-0-0-5-3) | C12: 24 | D12: bulto (50Kg) | E12: 150000 | F12: 148000 | G12: 155000 | H12: =(E12+F12+G12)/3 -> 151000
A13: 9 | B13: Sulfato de Amonio (21-0-0-24) | C13: 12 | D13: bulto (50Kg) | E13: 80000 | F13: 97000 | G13: 108000 | H13: =(E13+F13+G13)/3 -> 95000
A14: 10 | B14: Elementos menores y secundarios | C14: 104 | D14: Kg | E14: 19500 | F14: 16000 | G14: 20000 | H14: =(E14+F14+G14)/3 -> 18500
A15: 11 | B15: Sulfato de magnesio | C15: 32 | D15: Kg | E15: 6000 | F15: 12000 | G15: 18000 | H15: =(E15+F15+G15)/3 -> 12000
A16: 12 | B16: Fosfito de potasio | C16: 52 | D16: Kg(litro) | E16: 38000 | F16: 40000 | G16: 45000 | H16: =(E16+F16+G16)/3 -> 41000
A17: 13 | B17: Boro | C17: 52 | D17: Kg | E17: 25000 | F17: 16000 | G17: 22000 | H17: =(E17+F17+G17)/3 -> 21000
A18: 14 | B18: Clorhidrato de Oxitetraciclina | C18: 8 | D18: Lb | E18: 47000 | F18: 55000 | G18: 0 | H18: =(E18+F18)/2 -> 51000
A19: 15 | B19: Penthyopirad | C19: 8 | D19: Litro | E19: 245000 | F19: 239000 | G19: 260000 | H19: =(E19+F19+G19)/3 -> 248000
A20: 16 | B20: Fluopicolide + Propineb | C20: 72 | D20: Kg | E20: 26000 | F20: 24000 | G20: 25000 | H20: =(E20+F20+G20)/3 -> 25000
A21: 17 | B21: Cymoxanil + Propineb | C21: 72 | D21: Kg | E21: 24000 | F21: 23000 | G21: 24000 | H21: =(E21+F21+G21)/3 -> 23666.667
A22: 18 | B22: Thiabendazole + Trifloxistrobin | C22: 24 | D22: L | E22: 130000 | F22: 128000 | G22: 0 | H22: =(E22+F22)/2 -> 129000
A23: 19 | B23: Pyraclostrobin + Epoxiconazole | C23: 8 | D23: L | E23: 168000 | F23: 155000 | G23: 170000 | H23: =(E23+F23+G23)/3 -> 164333.33
A24: 20 | B24: Clorothalonil | C24: 60 | D24: L | E24: 45000 | F24: 46000 | G24: 39000 | H24: =(E24+F24+G24)/3 -> 43333.333
A25: 21 | B25: Propiconazole | C25: 16 | D25: L | E25: 100000 | F25: 80000 | G25: 60000 | H25: =(E25+F25+G25)/3 -> 80000
A26: 22 | B26: Carboxim + thiram (vitavax) | C26: 8 | D26: KL | E26: 44000 | F26: 50000 | G26: 45000 | H26: =(E26+F26+G26)/3 -> 46333.333
A27: 23 | B27: Spinetoram (Exalt- mitipyr)) | C27: 28 | D27: L | E27: 295000 | F27: 300000 | G27: 340000 | H27: =(E27+F27+G27)/3 -> 311666.67
A28: 24 | B28: Cyanthraniliprole (preza - ciromazina) | C28: 28 | D28: L | E28: 400000 | F28: 388000 | G28: 415000 | H28: =(E28+F28+G28)/3 -> 401000
A29: 25 | B29: Cloranthraniliprole (Coragen - ampligo) | C29: 4 | D29: L | E29: 650000 | F29: 700000 | G29: 656000 | H29: =(E29+F29+G29)/3 -> 668666.67
A30: 26 | B30: Cloranthraniliprole (Coragen - ampligo) | C30: 4 | D30: 200 ML | E30: 125000 | F30: 148000 | G30: 169000 | H30: =(E30+F30+G30)/3 -> 147333.33
A31: 27 | B31: Thiodicarb-Larvin | C31: 12 | D31: 1/2L | E31: 109000 | F31: 120000 | G31: 119000 | H31: =(E31+F31+G31)/3 -> 116000
A32: 28 | B32: Fipronil | C32: 4 | D32: L | E32: 170000 | F32: 170000 | G32: 160000 | H32: =(E32+F32+G32)/3 -> 166666.67
A33: 29 | B33: Betacylfutrin | C33: 4 | D33: L | E33: 168000 | F33: 180000 | G33: 195000 | H33: =(E33+F33+G33)/3 -> 181000
A34: 30 | B34: Glifosato | C34: 24 | D34: Gal | E34: 70000 | F34: 70000 | G34: 77000 | H34: =(E34+F34+G34)/3 -> 72333.333
... A40: 42 | B40: KIT BIOSEGUIRIDAD incluye gafas, mascarilla, guantes, chaqueta antifluido, mascara respiradora | C40: 36 | D40: UND equipo de proteccion personal para aplicar agroquimicos | E40: 130000 | F40: 125000 | G40: 135000 | H40: =(E40+F40+G40)/3 -> 130000
A41: 43 | B41: SACAS PLASTICAS | C41: 4800 | D41: SACA 50Kg | E41: 700 | F41: 600 | G41: 0 | H41: =(E41+F41)/2 -> 650
A42: 44 | B42: MATRACA (CHUZO) para MAIZ | C42: 4 | D42: unidad | E42: 110000 | F42: 120000 | G42: 0 | H42: =(E42+F42)/2 -> 115000
A45: COMPARACIÓN PRECIOS MATERIALES
A46: INFORMACIÓN PROVEEDORES | E46: Sistemas Siglo XXI | F46: AGRINAR | G46: Prov 3 | H46: Valor Promedio
A47: ITEM | B47: DESCRIPCIÓN | C47: CANTIDAD | D47: UNIDAD | E47: VALOR UNITARIO | F47: VALOR UNITARIO | G47: VALOR UNITARIO
A48: 45 | B48: Polisombra | C48: 40 | D48: m lineal | E48: 12000 | F48: 9000 | G48: 0 | H48: =(E48+F48)/2 -> 10500
...

Sheet RESUMEN INSUMOS
C3: FERTILIZANTE EDAFICO
B4: Carbonato de Calcio y oxido de magnesio | C4: enmienda triple | D4: bulto (50Kg) | E4: 424 | F4: =+'Cuadro comparativo precios'!H5 -> 41500 | G4: =(F4*E4) -> 17596000
B5: fertilizante compuesto (12-24-12-10-1,5) | C5: fertilizante SIR | D5: bulto (50Kg) | E5: 28 | F5: =+'Cuadro comparativo precios'!H6 -> 146000 | G5: =(F5*E5) -> 4088000
B6: Fertilizante compuesto (10-11-29-2-5-3) | C6: fertilizante Reabone | D6: bulto (50Kg) | E6: 28 | F6: =+'Cuadro comparativo precios'!H7 -> 127000 | G6: =(F6*E6) -> 3556000
B7: Elementos menores | C7: cosmo R | D7: bulto (50Kg) | E7: 24 | F7: =+'Cuadro comparativo precios'!H8 -> 94000 | G7: =(F7*E7) -> 2256000
B8: Materia Organica | D8: bulto (50Kg) | E8: 240 | F8: =+'Cuadro comparativo precios'!H9 -> 20333.333 | G8: =(F8*E8) -> 4880000
B9: fosfato Diamonico | C9: DAP | D9: bulto (50Kg) | E9: 28 | F9: =+'Cuadro comparativo precios'!H10 -> 167000 | G9: =(F9*E9) -> 4676000
B10: Cloruro de Potasio (0-0-60) | C10: KCL | D10: bulto (50Kg) | E10: 32 | F10: =+'Cuadro comparativo precios'!H11 -> 161000 | G10: =(F10*E10) -> 5152000
B11: Urea (39-0-0-5-3) | C11: Nitro xtend | D11: bulto (50Kg) | E11: 24 | F11: =+'Cuadro comparativo precios'!H12 -> 151000 | G11: =(F11*E11) -> 3624000
B12: Sulfato de Amonio (21-0-0-24) | C12: Suflt | D12: bulto (50Kg) | E12: 12 | F12: =+'Cuadro comparativo precios'!H13 -> 95000 | G12: =(F12*E12) -> 1140000
C13: FERTILIZANTE FOLIAR
B14: Elementos menores y secundarios | C14: Cosmoquel balance menores | D14: Kg | E14: 104 | F14: =+'Cuadro comparativo precios'!H14 -> 18500 | G14: =(F14*E14) -> 1924000
B15: Sulfato de magnesio | C15: Kelatex magnesio | D15: Kg | E15: 32 | F15: =+'Cuadro comparativo precios'!H15 -> 12000 | G15: =(F15*E15) -> 384000
B16: Fosfito de potasio | C16: Prevenphos | D16: Kg | E16: 52 | F16: =+'Cuadro comparativo precios'!H16 -> 41000 | G16: =(F16*E16) -> 2132000
B17: Boro | C17: Cosmo ion Boro | D17: Kg | E17: 52 | F17: =+'Cuadro comparativo precios'!H17 -> 21000 | G17: =(F17*E17) -> 1092000
C18: FUNGICIDAS
B19: Clorhidrato de Oxitetraciclina | C19: cupricina | D19: Lb | E19: 8 | F19: =+'Cuadro comparativo precios'!H18 -> 51000 | G19: =(F19*E19) -> 408000
B20: Penthyopirad | C20: Fontelis | D20: Litro | E20: 8 | F20: =+'Cuadro comparativo precios'!H19 -> 248000 | G20: =(F20*E20) -> 1984000
B21: Fluopicolide + Propineb | C21: Trivia | D21: Kg | E21: 72 | F21: =+'Cuadro comparativo precios'!H20 -> 25000 | G21: =(F21*E21) -> 1800000
B22: Cymoxanil + Propineb | C22: Fitoraz | D22: Kg | E22: 72 | F22: =+'Cuadro comparativo precios'!H21 -> 23666.667 | G22: =(F22*E22) -> 1704000
B23: Thiabendazole + Trifloxistrobin | C23: Nativo | D23: L | E23: 24 | F23: =+'Cuadro comparativo precios'!H22 -> 129000 | G23: =(F23*E23) -> 3096000
B24: Pyraclostrobin + Epoxiconazole | C24: Opera | D24: L | E24: 8 | F24: =+'Cuadro comparativo precios'!H23 -> 164333.33 | G24: =(F24*E24) -> 1314666.7
B25: Clorothalonil | C25: Daconil | D25: L | E25: 60 | F25: =+'Cuadro comparativo precios'!H24 -> 43333.333 | G25: =(F25*E25) -> 2600000
B26: Propiconazole | C26: Tilt | D26: L | E26: 16 | F26: =+'Cuadro comparativo precios'!H25 -> 80000 | G26: =(F26*E26) -> 1280000
B27: Carboxim + thiram | C27: Vitavax | D27: Kg | E27: 8 | F27: =+'Cuadro comparativo precios'!H26 -> 46333.333 | G27: =(F27*E27) -> 370666.67
C28: INSECTICIDAS
B29: Spinetoram | C29: (Exalt)-mitipyr | D29: L | E29: 28 | F29: =+'Cuadro comparativo precios'!H27 -> 311666.67 | G29: =(F29*E29) -> 8726666.7
B30: Cyanthraniliprole | C30: (Preza)- ciromazina | D30: L | E30: 28 | F30: =+'Cuadro comparativo precios'!H28 -> 401000 | G30: =(F30*E30) -> 11228000
B31: Cloranthraniliprole | C31: (Coragen) - ampligo | D31: L | E31: 4 | F31: =+'Cuadro comparativo precios'!H29 -> 668666.67 | G31: =(F31*E31) -> 2674666.7
B32: Clorathraniliprole | C32: (Coragen) - ampligo | D32: 1/2L | E32: 4 | F32: =+'Cuadro comparativo precios'!H30 -> 147333.33 | G32: =(F32*E32) -> 589333.33
B33: Thiodicarb | C33: Larvin | D33: 1/2L | E33: 12 | F33: =+'Cuadro comparativo precios'!H31 -> 116000 | G33: =(F33*E33) -> 1392000
B34: Fipronil | C34: Regent | D34: L | E34: 4 | F34: =+'Cuadro comparativo precios'!H32 -> 166666.67 | G34: =(F34*E34) -> 666666.67
B35: Betacylfutrin | C35: Connect Duo | D35: L | E35: 4 | F35: =+'Cuadro comparativo precios'!H33 -> 181000 | G35: =(F35*E35) -> 724000
C36: ADICIONALES
B37: Glifosato | C37: Roundup | D37: Gal por 4 LT | E37: 24 | F37: =+'Cuadro comparativo precios'!H34 -> 72333.333 | G37: =(F37*E37) -> 1736000
B38: Quelatos y citratos | C38: Cosmo aguas | D38: kg | E38: 92 | F38: =+'Cuadro comparativo precios'!H35 -> 38333.333 | G38: =(F38*E38) -> 3526666.7
B39: Alcoholes lauricos y etioxilados | C39: Inex - A | D39: L | E39: 104 | F39: =+'Cuadro comparativo precios'!H36 -> 33333.333 | G39: =(F39*E39) -> 3466666.7
B40: Oxyfluorfen- | C40: (Goal) - Galigan | D40: L | E40: 4 | F40: =+'Cuadro comparativo precios'!H37 -> 74000 | G40: =(F40*E40) -> 296000
B41: Metsulfuron metil | C41: Eureka | D41: sobre (20g) | E41: 12 | F41: =+'Cuadro comparativo precios'!H38 -> 9333.3333 | G41: =(F41*E41) -> 112000
B42: SUBTOTAL | E42: =SUM(E37:E41,E29:E35,E19:E27,E14:E17,E4:E12) -> 1676 | F42: =SUM(F37:F41,F29:F35,F19:F27,F14:F17,F4:F12) -> 4125666.7 | G42: =SUM(G37:G41,G29:G35,G19:G27,G14:G17,G4:G12) -> 102196000
...

Sheet IN. PAPA.
B1: INSUMOS Y HERRAMIENTAS PARA ADELANTAR PROCESOS DEMOSTRATIVOS DE MANEJO AGRONÓMICO EN EL CULTIVO DE PAPA
B2: DETALLE | C2: NOMBRE COMERCIAL (GUIA) | D2: UNIDAD | E2: CANTIDAD / 1/2Has | F2: PRECIO UNITARIO | G2: PARCELA (5.000m2) | H2: 4 PARCELAS PROYECTO (40.000m2)
C3: SEMILLA
B4: Semilla certificada Capiro | C4: Papa Capiro Comercial | D4: bulto (50Kg) | E4: 12 | F4: =+'RESUMEN INSUMOS'!F45 -> 105000 | G4: =(F4*E4) -> 1260000 | H4: =(G4*4) -> 5040000
B5: SUBTOTAL | G5: =SUM(G4) -> 1260000 | H5: =SUM(H4) -> 5040000
C6: FERTILIZANTE EDAFICO
B7: Carbonato de Calcio y oxido de magnesio | C7: enmienda triple | D7: bulto (50Kg) | E7: 20 | F7: =+'RESUMEN INSUMOS'!F4 -> 41500 | G7: =(F7*E7) -> 830000 | H7: =(G7*4) -> 3320000
B8: fertilizante compuesto (12-24-12-10-1,5) | C8: fertilizante SIR | D8: bulto (50Kg) | E8: 7 | F8: =+'RESUMEN INSUMOS'!F5 -> 146000 | G8: =(F8*E8) -> 1022000 | H8: =(G8*4) -> 4088000
B9: Fertilizante compuesto (10-11-29-2-5-3) | C9: fertilizante Reabone | D9: bulto (50Kg) | E9: 7 | F9: =+'RESUMEN INSUMOS'!F6 -> 127000 | G9: =(F9*E9) -> 889000 | H9: =(G9*4) -> 3556000
B10: Elementos menores | C10: cosmo R | D10: bulto (50Kg) | E10: 2 | F10: =+'RESUMEN INSUMOS'!F7 -> 94000 | G10: =(F10*E10) -> 188000 | H10: =(G10*4) -> 752000
B11: Materia Organica | D11: bulto (50Kg) | E11: 20 | F11: =+'RESUMEN INSUMOS'!F8 -> 20333.333 | G11: =(F11*E11) -> 406666.67 | H11: =(G11*4) -> 1626666.7
B12: SUBTOTAL | G12: =SUM(G7:G11) -> 3335666.7 | H12: =SUM(H7:H11) -> 13342667
C13: FERTILIZANTE FOLIAR
B14: Elementos menores y secundarios | C14: Cosmoquel balance menores | D14: Kg | E14: 4 | F14: =+'RESUMEN INSUMOS'!F14 -> 18500 | G14: =(F14*E14) -> 74000 | H14: =(G14*4) -> 296000
B15: Sulfato de magnesio | C15: Kelatex magnesio | D15: Kg | E15: 8 | F15: =+'RESUMEN INSUMOS'!F15 -> 12000 | G15: =(F15*E15) -> 96000 | H15: =(G15*4) -> 384000
B16: Fosfito de potasio | C16: Prevenphos | D16: Kg | E16: 2 | F16: =+'RESUMEN INSUMOS'!F16 -> 41000 | G16: =(F16*E16) -> 82000 | H16: =(G16*4) -> 328000
B17: Boro | C17: Cosmo ion Boro | D17: Kg | E17: 2 | F17: =+'RESUMEN INSUMOS'!F17 -> 21000 | G17: =(F17*E17) -> 42000 | H17: =(G17*4) -> 168000
B18: SUBTOTAL | G18: =SUM(G14:G17) -> 294000 | H18: =SUM(H14:H17) -> 1176000
C19: FUNGICIDAS
B20: Clorhidrato de Oxitetraciclina | C20: cupricina | D20: Lb | E20: 2 | F20: =+'RESUMEN INSUMOS'!F19 -> 51000 | G20: =(F20*E20) -> 102000 | H20: =(G20*4) -> 408000
B21: Bacillus subtilis QST 173 | C21: serenade | D21: Lb | E21: 2 | F21: 39500 | G21: =(F21*E21) -> 79000 | H21: =(G21*4) -> 316000
B22: Fluopicolide + Propineb | C22: Trivia | D22: Kg | E22: 15 | F22: =+'RESUMEN INSUMOS'!F21 -> 25000 | G22: =(F22*E22) -> 375000 | H22: =(G22*4) -> 1500000
B23: Cymoxanil + Propineb | C23: Fitoraz | D23: Kg | E23: 15 | F23: =+'RESUMEN INSUMOS'!F22 -> 23666.667 | G23: =(F23*E23) -> 355000 | H23: =(G23*4) -> 1420000
B24: Thiabendazole + Trifloxistrobin | C24: Nativo | D24: L | E24: 2 | F24: =+'RESUMEN INSUMOS'!F23 -> 129000 | G24: =(F24*E24) -> 258000 | H24: =(G24*4) -> 1032000
B25: Pyraclostrobin + Epoxiconazole | C25: Opera | D25: L | E25: 2 | F25: =+'RESUMEN INSUMOS'!F24 -> 164333.33 | G25: =(F25*E25) -> 328666.67 | H25: =(G25*4) -> 1314666.7
B26: SUBTOTAL | G26: =SUM(G20:G25) -> 1497666.7 | H26: =SUM(H20:H25) -> 5990666.7
C27: INSECTICIDAS
B28: Beauveria bassiana cepa | C28: Senasa | D28: kg | E28: 1 | F28: 56000 | G28: =(F28*E28) -> 56000 | H28: =(G28*4) -> 224000
B29: Extracto de Neem (Azadiractina al 70%) | C29: natural neem | D29: L | E29: 1 | F29: 30000 | G29: =(F29*E29) -> 30000 | H29: =(G29*4) -> 120000
B30: Ruda Ruta graveolens | C30: rutinal | D30: L | E30: 1 | F30: 42100 | G30: =(F30*E30) -> 42100 | H30: =(G30*4) -> 168400
B31: Cloranthraniliprole | C31: Coragen | D31: L | E31: 1 | F31: =+'RESUMEN INSUMOS'!F31 -> 668666.67 | G31: =(F31*E31) -> 668666.67 | H31: =(G31*4) -> 2674666.7
B32: SUBTOTAL | G32: =SUM(G28:G31) -> 796766.67 | H32: =SUM(H28:H31) -> 3187066.7
C33: ADICIONALES
B34: Glifosato | C34: Roundup | D34: Gal | E34: 1 | F34: =+'RESUMEN INSUMOS'!F37 -> 72333.333 | G34: =(F34*E34) -> 72333.333 | H34: =(G34*4) -> 289333.33
B35: Quelatos y citratos | C35: Cosmo aguas | D35: L | E35: 5 | F35: =+'RESUMEN INSUMOS'!F38 -> 38333.333 | G35: =(F35*E35) -> 191666.67 | H35: =(G35*4) -> 766666.67
B36: Alcoholes lauricos y etioxilados | C36: Inex - A | D36: L | E36: 6 | F36: =+'RESUMEN INSUMOS'!F39 -> 33333.333 | G36: =(F36*E36) -> 200000 | H36: =(G36*4) -> 800000
B37: SUBTOTAL | G37: =SUM(G34:G36) -> 464000 | H37: =SUM(H34:H36) -> 1856000
C38: HERRAMIENTAS
B39: BOMBA DE ESPALDA | C39: Royal condor | D39: 20L | E39: 1 | F39: =+'RESUMEN INSUMOS'!F55 -> 316666.67 | G39: =(F39*E39) -> 316666.67 | H39: =(G39*4) -> 1266666.7
B40: KIT BIOSEGUIRIDAD | D40: mascarilla+guantes | E40: 3 | F40: =+'RESUMEN INSUMOS'!F56 -> 130000 | G40: =(F40*E40) -> 390000 | H40: =(G40*4) -> 1560000
...

Sheet IN. CEBOLLA B. 
B1: INSUMOS Y HERRAMIENTAS PARA ADELANTAR PROCESOS DEMOSTRATIVOS DE MANEJO AGRONÓMICO EN EL CULTIVO DE CEBOLLA DE BULBO
B2: DETALLE | C2: NOMBRE COMERCIAL | D2: UNIDAD | E2: CANTIDAD / 1/2Has | F2: PRECIO UNITARIO | G2: PARCELA (5.000m2) | H2: 4 PARCELAS PROYECTO (40.000m2)
C3: SEMILLA y SEMILLERO TEMPORAL
B4: Semilla certificada Cebolla | C4: Cebolla rexor o cristal White Comercial | D4: Lb | E4: 1 | F4: =+'RESUMEN INSUMOS'!F46 -> 419500 | G4: =(F4*E4) -> 419500 | H4: =(G4*4) -> 1678000
B5: Polisombra | D5: m lineal | E5: 10 | F5: =+'RESUMEN INSUMOS'!F63 -> 10500 | G5: =(F5*E5) -> 105000 | H5: =(G5*4) -> 420000
B6: plastico calibre 6 | D6: m lineal | E6: 20 | F6: =+'RESUMEN INSUMOS'!F64 -> 11500 | G6: =(F6*E6) -> 230000 | H6: =(G6*4) -> 920000
B7: postes Guadua | D7: unidad | E7: 20 | F7: =+'RESUMEN INSUMOS'!F65 -> 8000 | G7: =(F7*E7) -> 160000 | H7: =(G7*4) -> 640000
B8: grapadora industrial | D8: unidad | E8: 2 | F8: =+'RESUMEN INSUMOS'!F66 -> 64000 | G8: =(F8*E8) -> 128000 | H8: =(G8*4) -> 512000
B9: grapas | D9: Lb | E9: 2 | F9: =+'RESUMEN INSUMOS'!F67 -> 11500 | G9: =(F9*E9) -> 23000 | H9: =(G9*4) -> 92000
B10: puntillas (1¨) | D10: Lb | E10: 2 | F10: =+'RESUMEN INSUMOS'!F68 -> 8000 | G10: =(F10*E10) -> 16000 | H10: =(G10*4) -> 64000
B11: estimulador de crecimiento | C11: Proggib | D11: frasco (500g) | E11: 1 | F11: =+'RESUMEN INSUMOS'!F69 -> 6500 | G11: =(F11*E11) -> 6500 | H11: =(G11*4) -> 26000
B12: mano de obra no calificada | D12: jornal | E12: 6 | F12: 30723 | G12: =(F12*E12) -> 184338 | H12: =(G12*4) -> 737352
B13: SUBTOTAL | G13: =SUM(G4:G12) -> 1272338 | H13: =SUM(H4:H12) -> 5089352
C14: FERTILIZANTE EDAFICO
B15: Carbonato de Calcio y oxido de magnesio | C15: enmienda triple | D15: bulto (50Kg) | E15: 20 | F15: =+'RESUMEN INSUMOS'!F4 -> 41500 | G15: =(F15*E15) -> 830000 | H15: =(G15*4) -> 3320000
B16: fosfato Diamonico | C16: DAP | D16: bulto (50Kg) | E16: 2 | F16: =+'RESUMEN INSUMOS'!F9 -> 167000 | G16: =(F16*E16) -> 334000 | H16: =(G16*4) -> 1336000
B17: Cloruro de Potasio (0-0-60) | C17: KCL | D17: bulto (50Kg) | E17: 3 | F17: =+'RESUMEN INSUMOS'!F10 -> 161000 | G17: =(F17*E17) -> 483000 | H17: =(G17*4) -> 1932000
B18: Urea (39-0-0-5-3) | C18: Nitro xtend | D18: bulto (50Kg) | E18: 2 | F18: =+'RESUMEN INSUMOS'!F11 -> 151000 | G18: =(F18*E18) -> 302000 | H18: =(G18*4) -> 1208000
B19: Elementos menores | C19: cosmo R | D19: bulto (50Kg) | E19: 1 | F19: =+'RESUMEN INSUMOS'!F7 -> 94000 | G19: =(F19*E19) -> 94000 | H19: =(G19*4) -> 376000
B20: Materia Organica | D20: bulto (50Kg) | E20: 10 | F20: =+'RESUMEN INSUMOS'!F8 -> 20333.333 | G20: =(F20*E20) -> 203333.33 | H20: =(G20*4) -> 813333.33
B21: SUBTOTAL | G21: =SUM(G15:G20) -> 2246333.3 | H21: =SUM(H15:H20) -> 8985333.3
C22: FERTILIZANTE FOLIAR
B23: Elementos menores y secundarios | C23: Cosmoquel balance menores | D23: Kg | E23: 4 | F23: =+'RESUMEN INSUMOS'!F14 -> 18500 | G23: =(F23*E23) -> 74000 | H23: =(G23*4) -> 296000
B24: Sulfato de magnesio | C24: Kelatex magnesio | D24: Kg | E24: 8 | F24: =+'RESUMEN INSUMOS'!F15 -> 12000 | G24: =(F24*E24) -> 96000 | H24: =(G24*4) -> 384000
B25: Fosfito de potasio | C25: Prevenphos | D25: Kg | E25: 2 | F25: =+'RESUMEN INSUMOS'!F16 -> 41000 | G25: =(F25*E25) -> 82000 | H25: =(G25*4) -> 328000
B26: Boro | C26: Cosmo ion Boro | D26: Kg | E26: 2 | F26: =+'RESUMEN INSUMOS'!F17 -> 21000 | G26: =(F26*E26) -> 42000 | H26: =(G26*4) -> 168000
B27: SUBTOTAL | G27: =SUM(G23:G26) -> 294000 | H27: =SUM(H23:H26) -> 1176000
C28: FUNGICIDAS
B29: Boscalid | C29: Cantus | D29: Lb | E29: 2 | F29: 50000 | G29: =(F29*E29) -> 100000 | H29: =(G29*4) -> 400000
B30: Reynoutria sachalinensis | C30: regalia maxx | D30: kg | E30: 6 | F30: 43000 | G30: =(F30*E30) -> 258000 | H30: =(G30*4) -> 1032000
B31: Bacillus subtilis QST 173 | C31: serenade | D31: kg | E31: 1 | F31: 39500 | G31: =(F31*E31) -> 39500 | H31: =(G31*4) -> 158000
B32: Fluopicolide + Propineb | C32: Trivia | D32: Kg | E32: 15 | F32: =+'RESUMEN INSUMOS'!F21 -> 25000 | G32: =(F32*E32) -> 375000 | H32: =(G32*4) -> 1500000
B33: Cymoxanil + Propineb | C33: Fitoraz | D33: Kg | E33: 15 | F33: =+'RESUMEN INSUMOS'!F22 -> 23666.667 | G33: =(F33*E33) -> 355000 | H33: =(G33*4) -> 1420000
B34: Thiabendazole + Tebuconazole | C34: Nativo | D34: L | E34: 1 | F34: =+'RESUMEN INSUMOS'!F23 -> 129000 | G34: =(F34*E34) -> 129000 | H34: =(G34*4) -> 516000
B35: Pyraclostrobin + Epoxiconazole | C35: Opera | D35: L | E35: 1 | F35: =+'RESUMEN INSUMOS'!F24 -> 164333.33 | G35: =(F35*E35) -> 164333.33 | H35: =(G35*4) -> 657333.33
B36: SUBTOTAL | G36: =SUM(G29:G35) -> 1420833.3 | H36: =SUM(H29:H35) -> 5683333.3
C37: INSECTICIDAS
B38: Spinetoram | C38: Exalt | D38: L | E38: 2 | F38: =+'RESUMEN INSUMOS'!F29 -> 311666.67 | G38: =(F38*E38) -> 623333.33 | H38: =(G38*4) -> 2493333.3
B39: Extracto de Neem (Azadiractina al 70%) | C39: natural neem | D39: L | E39: 1 | F39: 30000 | G39: =(F39*E39) -> 30000 | H39: =(G39*4) -> 120000
B40: Ruda Ruta graveolens | C40: rutinal | D40: L | E40: 1 | F40: 42100 | G40: =(F40*E40) -> 42100 | H40: =(G40*4) -> 168400
...

Sheet IN. MAIZ.
B1: INSUMOS Y HERRAMIENTAS PARA ADELANTAR PROCESOS DEMOSTRATIVOS DE MANEJO AGRONÓMICO EN EL CULTIVO DE MAIZ
B2: DETALLE | C2: NOMBRE COMERCIAL | D2: UNIDAD | E2: CANTIDAD / 1/2Has | F2: PRECIO UNITARIO | G2: PARCELA (5.000m2) | H2: 4 PARCELAS PROYECTO (40.000m2)
C3: SEMILLA
B4: Semilla certificada Maiz Blanco semestral | C4: Maiz Blanco Comercial (UDENAR granizo 100) | D4: Kg | E4: 50 | F4: =+'RESUMEN INSUMOS'!F47 -> 7500 | G4: =(F4*E4) -> 375000 | H4: =(G4*4) -> 1500000
B5: SUBTOTAL | G5: =SUM(G4) -> 375000 | H5: =SUM(H4) -> 1500000
C6: FERTILIZANTE EDAFICO
B7: Carbonato de Calcio y oxido de magnesio | C7: enmienda triple | D7: bulto (50Kg) | E7: 20 | F7: =+'RESUMEN INSUMOS'!F4 -> 41500 | G7: =(F7*E7) -> 830000 | H7: =(G7*4) -> 3320000
B8: fosfato Diamonico | C8: DAP | D8: bulto (50Kg) | E8: 2 | F8: =+'RESUMEN INSUMOS'!F9 -> 167000 | G8: =(F8*E8) -> 334000 | H8: =(G8*4) -> 1336000
B9: Cloruro de Potasio (0-0-60) | C9: KCL | D9: bulto (50Kg) | E9: 2 | F9: =+'RESUMEN INSUMOS'!F10 -> 161000 | G9: =(F9*E9) -> 322000 | H9: =(G9*4) -> 1288000
B10: Urea (39-0-0-5-3) | C10: Nitro xtend | D10: bulto (50Kg) | E10: 1 | F10: =+'RESUMEN INSUMOS'!F11 -> 151000 | G10: =(F10*E10) -> 151000 | H10: =(G10*4) -> 604000
B11: Sulfato de Amonio (21-0-0-24) | C11: Suflt | D11: bulto (50Kg) | E11: 1 | F11: =+'RESUMEN INSUMOS'!F12 -> 95000 | G11: =(F11*E11) -> 95000 | H11: =(G11*4) -> 380000
B12: Elementos menores | C12: cosmo R | D12: bulto (50Kg) | E12: 1 | F12: =+'RESUMEN INSUMOS'!F7 -> 94000 | G12: =(F12*E12) -> 94000 | H12: =(G12*4) -> 376000
B13: Materia Organica | D13: bulto (50Kg) | E13: 10 | F13: =+'RESUMEN INSUMOS'!F8 -> 20333.333 | G13: =(F13*E13) -> 203333.33 | H13: =(G13*4) -> 813333.33
B14: SUBTOTAL | G14: =SUM(G7:G13) -> 2029333.3 | H14: =SUM(H7:H13) -> 8117333.3
C15: FERTILIZANTE FOLIAR
B16: Elementos menores y secundarios | C16: Cosmoquel balance menores | D16: Kg | E16: 4 | F16: =+'RESUMEN INSUMOS'!F14 -> 18500 | G16: =(F16*E16) -> 74000 | H16: =(G16*4) -> 296000
B17: Sulfato de magnesio | C17: Kelatex magnesio | D17: Kg | E17: 8 | F17: =+'RESUMEN INSUMOS'!F15 -> 12000 | G17: =(F17*E17) -> 96000 | H17: =(G17*4) -> 384000
B18: Fosfito de potasio | C18: Prevenphos | D18: Kg | E18: 2 | F18: =+'RESUMEN INSUMOS'!F16 -> 41000 | G18: =(F18*E18) -> 82000 | H18: =(G18*4) -> 328000
B19: Boro | C19: Cosmo ion Boro | D19: Kg | E19: 2 | F19: =+'RESUMEN INSUMOS'!F17 -> 21000 | G19: =(F19*E19) -> 42000 | H19: =(G19*4) -> 168000
B20: SUBTOTAL | G20: =SUM(G16:G19) -> 294000 | H20: =SUM(H16:H19) -> 1176000
C21: FUNGICIDAS
B22: Clorothalonil | C22: Daconil | D22: L | E22: 6 | F22: =+'RESUMEN INSUMOS'!F25 -> 43333.333 | G22: =(F22*E22) -> 260000 | H22: =(G22*4) -> 1040000
B23: Bacillus subtilis QST 173 | C23: serenade | D23: kg | E23: 1 | F23: 39900 | G23: =(F23*E23) -> 39900 | H23: =(G23*4) -> 159600
B24: Reynoutria sachalinensis | C24: regalia maxx | D24: Lb | E24: 1 | F24: 26700 | G24: =(F24*E24) -> 26700 | H24: =(G24*4) -> 106800
B25: Fluopicolide + Propineb | C25: Trivia | D25: Kg | E25: 3 | F25: =+'RESUMEN INSUMOS'!F21 -> 25000 | G25: =(F25*E25) -> 75000 | H25: =(G25*4) -> 300000
B26: Cymoxanil + Propineb | C26: Fitoraz | D26: Kg | E26: 3 | F26: =+'RESUMEN INSUMOS'!F22 -> 23666.667 | G26: =(F26*E26) -> 71000 | H26: =(G26*4) -> 284000
B27: SUBTOTAL | G27: =SUM(G22:G26) -> 472600 | H27: =SUM(H22:H26) -> 1890400
C28: INSECTICIDAS
B29: Clorathraniliprole | C29: Coragen | D29: 1/2L | E29: 1 | F29: =+'RESUMEN INSUMOS'!F31 -> 668666.67 | G29: =(F29*E29) -> 668666.67 | H29: =(G29*4) -> 2674666.7
B30: Bacillus thuringiensis | C30: flower BT | D30: 250g | E30: 3 | F30: 31000 | G30: =(F30*E30) -> 93000 | H30: =(G30*4) -> 372000
B31: Fipronil | C31: Regent | D31: L | E31: 1 | F31: =+'RESUMEN INSUMOS'!F34 -> 166666.67 | G31: =(F31*E31) -> 166666.67 | H31: =(G31*4) -> 666666.67
B32: Betacylfutrin | C32: Connect Duo | D32: L | E32: 1 | F32: =+'RESUMEN INSUMOS'!F35 -> 181000 | G32: =(F32*E32) -> 181000 | H32: =(G32*4) -> 724000
B33: SUBTOTAL | G33: =SUM(G29:G32) -> 1109333.3 | H33: =SUM(H29:H32) -> 4437333.3
C34: ADICIONALES
B35: Glifosato | C35: Roundup | D35: Gal | E35: 1 | F35: =+'RESUMEN INSUMOS'!F37 -> 72333.333 | G35: =(F35*E35) -> 72333.333 | H35: =(G35*4) -> 289333.33
B36: Quelatos y citratos | C36: Cosmo aguas | D36: L | E36: 3 | F36: =+'RESUMEN INSUMOS'!F38 -> 38333.333 | G36: =(F36*E36) -> 115000 | H36: =(G36*4) -> 460000
B37: Alcoholes lauricos y etioxilados | C37: Inex - A | D37: L | E37: 4 | F37: =+'RESUMEN INSUMOS'!F39 -> 33333.333 | G37: =(F37*E37) -> 133333.33 | H37: =(G37*4) -> 533333.33
B38: SUBTOTAL | G38: =SUM(G35:G37) -> 320666.67 | H38: =SUM(H35:H37) -> 1282666.7
C39: HERRAMIENTAS
B40: BOMBA DE ESPALDA | C40: Royal condor | D40: 20L | E40: 1 | F40: =+'RESUMEN INSUMOS'!F55 -> 316666.67 | G40: =(F40*E40) -> 316666.67 | H40: =(G40*4) -> 1266666.7
...

Sheet IN. CEBADA.
B1: INSUMOS Y HERRAMIENTAS PARA ADELANTAR PROCESOS DEMOSTRATIVOS DE MANEJO AGRONÓMICO EN EL CULTIVO DE CEBADA
B2: DETALLE | C2: NOMBRE COMERCIAL | D2: UNIDAD | E2: CANTIDAD / Kg por 1/2Has | F2: PRECIO UNITARIO | G2: PARCELA (5.000m2) | H2: 4 PARCELAS PROYECTO (40.000m2)
C3: SEMILLA
B4: Semilla certificada Cebada semestral CEBADA L-128 grano y forraje | C4: Fenalce L-128 | D4: (Kg) | E4: 90 | F4: =+'RESUMEN INSUMOS'!F48 -> 3000 | G4: =(F4*E4) -> 270000 | H4: =(G4*4) -> 1080000
B5: SUBTOTAL | G5: =SUM(G4) -> 270000 | H5: =SUM(H4) -> 1080000
C6: FERTILIZANTE EDAFICO
B7: Carbonato de Calcio y oxido de magnesio | C7: enmienda triple | D7: bulto (50Kg) | E7: 20 | F7: =+'RESUMEN INSUMOS'!F4 -> 41500 | G7: =(F7*E7) -> 830000 | H7: =(G7*4) -> 3320000
B8: fosfato Diamonico | C8: DAP | D8: bulto (50Kg) | E8: 1 | F8: =+'RESUMEN INSUMOS'!F9 -> 167000 | G8: =(F8*E8) -> 167000 | H8: =(G8*4) -> 668000
B9: Cloruro de Potasio (0-0-60) | C9: KCL | D9: bulto (50Kg) | E9: 1 | F9: =+'RESUMEN INSUMOS'!F10 -> 161000 | G9: =(F9*E9) -> 161000 | H9: =(G9*4) -> 644000
B10: Urea (39-0-0-5-3) | C10: Nitro xtend | D10: bulto (50Kg) | E10: 1 | F10: =+'RESUMEN INSUMOS'!F11 -> 151000 | G10: =(F10*E10) -> 151000 | H10: =(G10*4) -> 604000
B11: Sulfato de Amonio (21-0-0-24) | C11: Suflt | D11: bulto (50Kg) | E11: 1 | F11: =+'RESUMEN INSUMOS'!F12 -> 95000 | G11: =(F11*E11) -> 95000 | H11: =(G11*4) -> 380000
B12: Elementos menores | C12: cosmo R | D12: bulto (50Kg) | E12: 1 | F12: =+'RESUMEN INSUMOS'!F7 -> 94000 | G12: =(F12*E12) -> 94000 | H12: =(G12*4) -> 376000
B13: Materia Organica (compostada) | D13: bulto (50Kg) | E13: 10 | F13: =+'RESUMEN INSUMOS'!F8 -> 20333.333 | G13: =(F13*E13) -> 203333.33 | H13: =(G13*4) -> 813333.33
B14: SUBTOTAL | G14: =SUM(G7:G13) -> 1701333.3 | H14: =SUM(H7:H13) -> 6805333.3
C15: FERTILIZANTE FOLIAR
B16: Elementos menores y secundarios | C16: Cosmoquel balance menores | D16: Kg | E16: 4 | F16: =+'RESUMEN INSUMOS'!F14 -> 18500 | G16: =(F16*E16) -> 74000 | H16: =(G16*4) -> 296000
B17: Sulfato de magnesio | C17: Kelatex magnesio | D17: Kg | E17: 4 | F17: =+'RESUMEN INSUMOS'!F15 -> 12000 | G17: =(F17*E17) -> 48000 | H17: =(G17*4) -> 192000
B18: Fosfito de potasio | C18: Prevenphos | D18: Kg | E18: 2 | F18: =+'RESUMEN INSUMOS'!F16 -> 41000 | G18: =(F18*E18) -> 82000 | H18: =(G18*4) -> 328000
B19: Boro | C19: Cosmo ion Boro | D19: Kg | E19: 2 | F19: =+'RESUMEN INSUMOS'!F17 -> 21000 | G19: =(F19*E19) -> 42000 | H19: =(G19*4) -> 168000
B20: SUBTOTAL | G20: =SUM(G16:G19) -> 246000 | H20: =SUM(H16:H19) -> 984000
C21: FUNGICIDAS
B22: Clorothalonil | C22: Daconil | D22: L | E22: 4 | F22: =+'RESUMEN INSUMOS'!F25 -> 43333.333 | G22: =(F22*E22) -> 173333.33 | H22: =(G22*4) -> 693333.33
B23: Propiconazole | C23: Tilt | D23: L | E23: 1 | F23: =+'RESUMEN INSUMOS'!F26 -> 80000 | G23: =(F23*E23) -> 80000 | H23: =(G23*4) -> 320000
B24: Reynoutria sachalinensis | C24: regalia maxx | D24: Lb | E24: 1 | F24: 26700 | G24: =(F24*E24) -> 26700 | H24: =(G24*4) -> 106800
B25: Carboxim + thiram | C25: Vitavax | D25: Kg | E25: 1 | F25: =+'RESUMEN INSUMOS'!F27 -> 46333.333 | G25: =(F25*E25) -> 46333.333 | H25: =(G25*4) -> 185333.33
B26: SUBTOTAL | G26: =SUM(G22:G25) -> 326366.67 | H26: =SUM(H22:H25) -> 1305466.7
C27: INSECTICIDAS
B28: Bacillus thuringiensis | C28: flower BT | D28: 1/2L | E28: 2 | F28: 56000 | G28: =(F28*E28) -> 112000 | H28: =(G28*4) -> 448000
B29: Cyanthraniliprole | C29: Preza | D29: L | E29: 2 | F29: =+'RESUMEN INSUMOS'!F30 -> 401000 | G29: =(F29*E29) -> 802000 | H29: =(G29*4) -> 3208000
B30: SUBTOTAL | G30: =SUM(G28:G29) -> 914000 | H30: =SUM(H28:H29) -> 3656000
C31: ADICIONALES
B32: Glifosato | C32: Roundup | D32: Gal | E32: 1 | F32: =+'RESUMEN INSUMOS'!F37 -> 72333.333 | G32: =(F32*E32) -> 72333.333 | H32: =(G32*4) -> 289333.33
B33: Metsulfuron metil | C33: Eureka | D33: sobre (200g) | E33: 1 | F33: =+'RESUMEN INSUMOS'!F41 -> 9333.3333 | G33: =(F33*E33) -> 9333.3333 | H33: =(G33*4) -> 37333.333
B34: Quelatos y citratos | C34: Cosmo aguas | D34: L | E34: 4 | F34: =+'RESUMEN INSUMOS'!F38 -> 38333.333 | G34: =(F34*E34) -> 153333.33 | H34: =(G34*4) -> 613333.33
B35: Alcoholes lauricos y etioxilados | C35: Inex - A | D35: L | E35: 5 | F35: =+'RESUMEN INSUMOS'!F39 -> 33333.333 | G35: =(F35*E35) -> 166666.67 | H35: =(G35*4) -> 666666.67
B36: SUBTOTAL | G36: =SUM(G32:G35) -> 401666.67 | H36: =SUM(H32:H35) -> 1606666.7
C37: HERRAMIENTAS
B38: BOMBA DE ESPALDA | C38: Royal condor | D38: 20L | E38: 1 | F38: =+'RESUMEN INSUMOS'!F55 -> 316666.67 | G38: =(F38*E38) -> 316666.67 | H38: =(G38*4) -> 1266666.7
B39: KIT BIOSEGUIRIDAD | D39: mascarilla+guantes | E39: 1 | F39: =+'RESUMEN INSUMOS'!F56 -> 130000 | G39: =(F39*E39) -> 130000 | H39: =(G39*4) -> 520000
B40: SACAS PLASTICAS | D40: SACA 50Kg | E40: 100 | F40: =+'RESUMEN INSUMOS'!F57 -> 650 | G40: =(F40*E40) -> 65000 | H40: =(G40*4) -> 260000
...

Sheet IN. TRIGO.
B1: INSUMOS Y HERRAMIENTAS PARA ADELANTAR PROCESOS DEMOSTRATIVOS DE MANEJO AGRONÓMICO EN EL CULTIVO DE TRIGO
B2: DETALLE | C2: NOMBRE COMERCIAL | D2: UNIDAD | E2: CANTIDAD /Kg por 1/2Has | F2: PRECIO UNITARIO | G2: PARCELA (5.000m2) | H2: 4 PARCELAS PROYECTO (40.000m2)
C3: SEMILLA
B4: Semilla certificada Trigo semestral grano y forraje | C4: FNC FENIX Semilla | D4: (Kg) | E4: 100 | F4: =+'RESUMEN INSUMOS'!F49 -> 3200 | G4: =(F4*E4) -> 320000 | H4: =(G4*4) -> 1280000
B5: SUBTOTAL | G5: =SUM(G4) -> 320000 | H5: =SUM(H4) -> 1280000
C6: FERTILIZANTE EDAFICO
B7: Carbonato de Calcio y oxido de magnesio | C7: enmienda triple | D7: bulto (50Kg) | E7: 20 | F7: =+'RESUMEN INSUMOS'!F4 -> 41500 | G7: =(F7*E7) -> 830000 | H7: =(G7*4) -> 3320000
B8: fosfato Diamonico | C8: DAP | D8: bulto (50Kg) | E8: 1 | F8: =+'RESUMEN INSUMOS'!F9 -> 167000 | G8: =(F8*E8) -> 167000 | H8: =(G8*4) -> 668000
B9: Cloruro de Potasio (0-0-60) | C9: KCL | D9: bulto (50Kg) | E9: 1 | F9: =+'RESUMEN INSUMOS'!F10 -> 161000 | G9: =(F9*E9) -> 161000 | H9: =(G9*4) -> 644000
B10: Urea (39-0-0-5-3) | C10: Nitro xtend | D10: bulto (50Kg) | E10: 1 | F10: =+'RESUMEN INSUMOS'!F11 -> 151000 | G10: =(F10*E10) -> 151000 | H10: =(G10*4) -> 604000
B11: Sulfato de Amonio (21-0-0-24) | C11: Suflt | D11: bulto (50Kg) | E11: 1 | F11: =+'RESUMEN INSUMOS'!F12 -> 95000 | G11: =(F11*E11) -> 95000 | H11: =(G11*4) -> 380000
B12: Elementos menores | C12: cosmo R | D12: bulto (50Kg) | E12: 1 | F12: =+'RESUMEN INSUMOS'!F7 -> 94000 | G12: =(F12*E12) -> 94000 | H12: =(G12*4) -> 376000
B13: Materia Organica (compostada) | D13: bulto (50Kg) | E13: 10 | F13: =+'RESUMEN INSUMOS'!F8 -> 20333.333 | G13: =(F13*E13) -> 203333.33 | H13: =(G13*4) -> 813333.33
B14: SUBTOTAL | G14: =SUM(G7:G13) -> 1701333.3 | H14: =SUM(H7:H13) -> 6805333.3
C15: FERTILIZANTE FOLIAR
B16: Elementos menores y secundarios | C16: Cosmoquel balance menores | D16: Kg | E16: 4 | F16: =+'RESUMEN INSUMOS'!F14 -> 18500 | G16: =(F16*E16) -> 74000 | H16: =(G16*4) -> 296000
B17: Sulfato de magnesio | C17: Kelatex magnesio | D17: Kg | E17: 4 | F17: =+'RESUMEN INSUMOS'!F15 -> 12000 | G17: =(F17*E17) -> 48000 | H17: =(G17*4) -> 192000
B18: Fosfito de potasio | C18: Prevenphos | D18: Kg | E18: 2 | F18: =+'RESUMEN INSUMOS'!F16 -> 41000 | G18: =(F18*E18) -> 82000 | H18: =(G18*4) -> 328000
B19: Boro | C19: Cosmo ion Boro | D19: Kg | E19: 2 | F19: =+'RESUMEN INSUMOS'!F17 -> 21000 | G19: =(F19*E19) -> 42000 | H19: =(G19*4) -> 168000
B20: SUBTOTAL | G20: =SUM(G16:G19) -> 246000 | H20: =SUM(H16:H19) -> 984000
C21: FUNGICIDAS
B22: Clorothalonil | C22: Daconil | D22: L | E22: 4 | F22: =+'RESUMEN INSUMOS'!F25 -> 43333.333 | G22: =(F22*E22) -> 173333.33 | H22: =(G22*4) -> 693333.33
B23: Propiconazole | C23: Tilt | D23: L | E23: 1 | F23: =+'RESUMEN INSUMOS'!F26 -> 80000 | G23: =(F23*E23) -> 80000 | H23: =(G23*4) -> 320000
B24: Reynoutria sachalinensis | C24: regalia maxx | D24: Lb | E24: 1 | F24: 26700 | G24: =(F24*E24) -> 26700 | H24: =(G24*4) -> 106800
B25: Carboxim + thiram | C25: Vitavax | D25: Kg | E25: 1 | F25: =+'RESUMEN INSUMOS'!F27 -> 46333.333 | G25: =(F25*E25) -> 46333.333 | H25: =(G25*4) -> 185333.33
B26: SUBTOTAL | G26: =SUM(G22:G25) -> 326366.67 | H26: =SUM(H22:H25) -> 1305466.7
C27: INSECTICIDAS
B28: Spinetoram | C28: Exalt | D28: L | E28: 2 | F28: =+'RESUMEN INSUMOS'!F29 -> 311666.67 | G28: =(F28*E28) -> 623333.33 | H28: =(G28*4) -> 2493333.3
B29: Extracto de Neem (Azadiractina al 70%) | C29: natural neem | D29: L | E29: 1 | F29: 30000 | G29: =(F29*E29) -> 30000 | H29: =(G29*4) -> 120000
B30: Ruda Ruta graveolens | C30: rutinal | D30: L | E30: 1 | F30: 42100 | G30: =(F30*E30) -> 42100 | H30: =(G30*4) -> 168400
B31: SUBTOTAL | G31: =SUM(G28:G30) -> 695433.33 | H31: =SUM(H28:H30) -> 2781733.3
C32: ADICIONALES
B33: Glifosato | C33: Roundup | D33: Gal | E33: 1 | F33: =+'RESUMEN INSUMOS'!F37 -> 72333.333 | G33: =(F33*E33) -> 72333.333 | H33: =(G33*4) -> 289333.33
B34: Metsulfuron metil | C34: Eureka | D34: sobre (200g) | E34: 1 | F34: =+'RESUMEN INSUMOS'!F41 -> 9333.3333 | G34: =(F34*E34) -> 9333.3333 | H34: =(G34*4) -> 37333.333
B35: Quelatos y citratos | C35: Cosmo aguas | D35: L | E35: 4 | F35: =+'RESUMEN INSUMOS'!F38 -> 38333.333 | G35: =(F35*E35) -> 153333.33 | H35: =(G35*4) -> 613333.33
B36: Alcoholes lauricos y etioxilados | C36: Inex - A | D36: L | E36: 3 | F36: =+'RESUMEN INSUMOS'!F39 -> 33333.333 | G36: =(F36*E36) -> 100000 | H36: =(G36*4) -> 400000
B37: SUBTOTAL | G37: =SUM(G33:G36) -> 335000 | H37: =SUM(H33:H36) -> 1340000
C38: HERRAMIENTAS
B39: BOMBA DE ESPALDA | C39: Royal condor | D39: 20L | E39: 1 | F39: =+'RESUMEN INSUMOS'!F55 -> 316666.67 | G39: =(F39*E39) -> 316666.67 | H39: =(G39*4) -> 1266666.7
B40: KIT BIOSEGUIRIDAD | D40: mascarilla+guantes | E40: 1 | F40: =+'RESUMEN INSUMOS'!F56 -> 130000 | G40: =(F40*E40) -> 130000 | H40: =(G40*4) -> 520000
...

Sheet IN. FORRAJE.
B1: INSUMOS Y HERRAMIENTAS PARA ADELANTAR PROCESOS DEMOSTRATIVOS DE MANEJO AGRONÓMICO EN EL CULTIVO DE TRIGO
B2: DETALLE | C2: NOMBRE COMERCIAL | D2: UNIDAD | E2: CANTIDAD / 1/2Has | F2: PRECIO UNITARIO | G2: PARCELA (5.000m2) | H2: 4 PARCELAS PROYECTO (40.000m2)
C3: SEMILLA
B4: Semilla certificada Pasto Forrajero | C4: Pasto forrajero Rye grass | D4: kg | E4: 10 | F4: =+'RESUMEN INSUMOS'!F50 -> 10000 | G4: =(F4*E4) -> 100000 | H4: =(G4*4) -> 400000
B5: SUBTOTAL | G5: =SUM(G4) -> 100000 | H5: =SUM(H4) -> 400000
C6: FERTILIZANTE EDAFICO
B7: Carbonato de Calcio y oxido de magnesio | C7: enmienda triple | D7: bulto (50Kg) | E7: 6 | F7: =+'RESUMEN INSUMOS'!F4 -> 41500 | G7: =(F7*E7) -> 249000 | H7: =(G7*4) -> 996000
B8: fosfato Diamonico | C8: DAP | D8: bulto (50Kg) | E8: 1 | F8: =+'RESUMEN INSUMOS'!F9 -> 167000 | G8: =(F8*E8) -> 167000 | H8: =(G8*4) -> 668000
B9: Cloruro de Potasio (0-0-60) | C9: KCL | D9: bulto (50Kg) | E9: 1 | F9: =+'RESUMEN INSUMOS'!F10 -> 161000 | G9: =(F9*E9) -> 161000 | H9: =(G9*4) -> 644000
B10: Urea (39-0-0-5-3) | C10: Nitro xtend | D10: bulto (50Kg) | E10: 1 | F10: =+'RESUMEN INSUMOS'!F11 -> 151000 | G10: =(F10*E10) -> 151000 | H10: =(G10*4) -> 604000
B11: Elementos menores | C11: cosmo R | D11: bulto (50Kg) | E11: 1 | F11: =+'RESUMEN INSUMOS'!F7 -> 94000 | G11: =(F11*E11) -> 94000 | H11: =(G11*4) -> 376000
B12: SUBTOTAL | G12: =SUM(G7:G11) -> 822000 | H12: =SUM(H7:H11) -> 3288000
C13: FERTILIZANTE FOLIAR
B14: Elementos menores y secundarios | C14: Cosmoquel balance menores | D14: Kg | E14: 2 | F14: =+'RESUMEN INSUMOS'!F14 -> 18500 | G14: =(F14*E14) -> 37000 | H14: =(G14*4) -> 148000
B15: Fosfito de potasio | C15: Prevenphos | D15: Kg | E15: 1 | F15: =+'RESUMEN INSUMOS'!F16 -> 41000 | G15: =(F15*E15) -> 41000 | H15: =(G15*4) -> 164000
B16: Boro | C16: Cosmo ion Boro | D16: Kg | E16: 1 | F16: =+'RESUMEN INSUMOS'!F17 -> 21000 | G16: =(F16*E16) -> 21000 | H16: =(G16*4) -> 84000
B17: SUBTOTAL | G17: =SUM(G14:G16) -> 99000 | H17: =SUM(H14:H16) -> 396000
C18: FUNGICIDAS
