Workbook
Name __EST1: #REF!
Name __EST10: #REF!
Name __EST11: #REF!
Name __EST12: #REF!
Name __EST13: #REF!
Name __EST14: #REF!
Name __EST15: #REF!
Name __EST16: #REF!
Name __EST17: #REF!
Name __EST18: #REF!
Name __EST19: #REF!
Name __EST2: #REF!
Name __EST3: #REF!
Name __EST4: #REF!
Name __EST5: #REF!
Name __EST6: #REF!
Name __EST7: #REF!
Name __EST8: #REF!
Name __EST9: #REF!
Name __EXC1: #REF!
Name __EXC10: #REF!
Name __EXC11: #REF!
Name __EXC12: #REF!
Name __EXC2: #REF!
Name __EXC3: #REF!
Name __EXC4: #REF!
Name __EXC5: #REF!
Name __EXC6: #REF!
Name __EXC7: #REF!
Name __EXC8: #REF!
Name __EXC9: #REF!
Name __FC: #REF!
Name __FOR1: #REF!
Name _42C: #REF!
Name _42D: #REF!
Name _42E: #REF!
Name _44: #REF!
Name _6: #REF!
Name _AFC1: [1]INV!$A$25:$D$28
Name _AFC3: [1]INV!$F$25:$I$28
Name _AFC5: [1]INV!$K$25:$N$28
Name _aiu2: [2]AIU!$J$105
Name _BGC1: [1]INV!$A$5:$D$8
Name _BGC3: [1]INV!$F$5:$I$8
Name _BGC5: [1]INV!$K$5:$N$8
Name _CAC1: [1]INV!$A$19:$D$22
Name _CAC3: [1]INV!$F$19:$I$22
Name _CAC5: [1]INV!$K$19:$N$22
Name _EST1: #REF!
Name _EST10: #REF!
Name _EST11: #REF!
Name _EST12: #REF!
Name _EST13: #REF!
Name _EST14: #REF!
Name _EST15: #REF!
Name _EST16: #REF!
Name _EST17: #REF!
Name _EST18: #REF!
Name _EST19: #REF!
Name _EST2: #REF!

Sheet DUITAMA M
A1: LICITACIÓN PÚBLICA N°
A3: PE -02 OFICINA DE REGISTRO DE INSTRUMENTOS PUBLICOS EN GENERAL - DUITAMA / BOYACÁ
A4: ITEM | B4: DESCRIPCION | C4: UN | D4: CANT | E4: VR. UNITARIO | F4: VR. TOTAL | G4: VR. CAPITULO
A5: 1 | B5: MUEBLES | G5: =SUM(F6:F21) -> 133662000
A6: 1.01 | B6: SUMINISTRO E INSTALACION DE PUESTO DE TRABAJO PARA DIRECTOR O REGISTRADOR, EL PUESTO TENDRA UNA FORMA DE "U", CON TRES SUPERFICIES INDEPENDENTES ESPESOR 30MM, CON ACABADO EN FORMICA A DOS CARAS, CON DIMENSIONES DE 1,80M X 0.70M; DE 1,00 X 0.60 M Y UNA DETRÁS DE 1.80 X 0.60 M, CADA UNA CON BASES METALICAS INDEPENDIENTES, CON BORDES O CANTOS PROTEGIDOS CON BANDAS DE CAUCHO O PVC PLANAS O REBORDEADAS,CAJONERA METALICA CON DOS CAJONES ESTANDAR Y UNO PARA ARCHIVO DE CARPETAS CON CERRADURA, 2 SILLAS INTERLOCUTORAS, BASURERA METALICA, PAPELERA METALICA, SILLA GIRATORIA ERGONÓMICA, CON APOYO LUMBAR AJUSTABLE,CABECERO, APOYA BRAZOS NEUMÁTICA AJUSTABLES EN ALTURA Y SISTEMA ANTIVUELCO TIPO GERENTE , DESCANSA PIES. | C6: un | D6: 1 | E6: 2423925 | F6: =E6*D6 -> 2423925
A7: 1.02 | B7: SUMINISTRO E INSTALACIÓN DE PUESTOS DE TRABAJO PARA FUNCIONARIOS DE 1.50 X 1.50 EN L, SUPERFICIES ESPESOR 30 MM, CON ACABADO FORMICA A DOS CARAS, EL ANCHO DE LA SUPERFICIE SERA DE 60 CM , EL CHAFLAN QUE CONFORMA LA PARTE INTERNA DE LAS SUPERFICIES DEBERÁ IR CURVO, BORDES CANTOS PROTEGIDOS CON BANDAS DE CAUCHO O PVC PLANAS O REDORDEADAS. BASES METALICAS INDEPENDIENTES CON NIVELADORES, CAJONERA METALICA DE DOS CAJONES Y UNO DE ARCHIVADO PROVISTA DE CHAPA. INCLUYE SILLA GIRATORIA ERGONÓMICA, CON APOYO LUMBAR AJUSTABLE, APOYA BRAZOS NEUMÁTICA AJUSTABLES EN ALTURA Y SISTEMA ANTIVUELCO, BASURERA, PAPELERA Y DESCANZAPIES. | C7: un | D7: 14 | E7: 1562950 | F7: =E7*D7 -> 21881300
A8: 1.03 | B8: DIVISION EN VIDRIO LAMINADO 3+3 SOBRE MESON DE ATENCION AL PUBLICO DE 1.10 M DE ALTURA Y ANCHO 1.50 M.,INCLUYE PASAVOZ, PASADOCUMENTOS, MONTANTE DE 20 CENTIMETROS TERMINADO EN FORMICA A DOS CARAS Y ESTRUCTURA (DISEÑO SUMINISTRADO POR LA ENTIDAD) | C8: m2 | D8: 9 | E8: 420125 | F8: =E8*D8 -> 3781125
A9: 1.04 | B9: SUMINISTRO E INSTALACION DE SUPERFICIE DE TRABAJO ESPESOR 30MM CON ACABADO EN FÓRMICA A DOS CARAS Y BASES METÁLICAS DE 1,50 m DE LARGO POR 0,60 m DE ANCHO, REMATE PERIMETRAL CON CANTO EN CAUCHO U OTRO MATERIAL RESISTENTE A LOS IMPACTOS, EL ACABADO DEBE SER IGUAL AL DE LAS SUPERFICIES DE LOS PUESTOS DE TRABAJO, INCLUYE SILLA GIRATORIA ERGONÓMICA, CON APOYO LUMBAR AJUSTABLE, APOYA BRAZOS NEUMÁTICA AJUSTABLES EN ALTURA Y SISTEMA ANTIVUELCO, BASES METALICAS INDEPENDIENTES CON NIVELADORES, CAJONERA METALICA DE DOS CAJONES Y UNO DE ARCHIVADO PROVISTA DE CHAPA, DESCANSAPIES, BASURERA Y PAPELERA METALICA. | C9: un | D9: 1 | E9: 1116900 | F9: =E9*D9 -> 1116900
A10: 1.05 | B10: SUMINISTRO E INSTALACION DE SUPERFICIE DE TRABAJO ESPESOR 30MM CON ACABADO EN FÓRMICA A DOS CARAS Y BASES METÁLICAS DE 1,50 m DE LARGO POR 0,60 m DE ANCHO, REMATE PERIMETRAL CON CANTO EN CAUCHO U OTRO MATERIAL RESISTENTE A LOS IMPACTOS, EL ACABADO DEBE SER IGUAL AL DE LAS SUPERFICIES DE LOS PUESTOS DE TRABAJO. | C10: un | D10: 2 | E10: 478500 | F10: =E10*D10 -> 957000
A11: 1.06 | B11: SUMINISTRO E INSTALACION DE SUPERFICIE DE TRABAJO ESPESOR 30MM, CON ACABADO EN FÓRMICA A DOS CARAS Y BASES METÁLICAS DE 0,8 m DE LARGO POR 0,60 m DE ANCHO, CON ENTREPAÑO. REMATE PERIMETRAL CON CANTO EN CAUCHO U OTRO MATERIAL RESISTENTE A LOS IMPACTOS, EL ACABADO DEBE SER IGUAL AL DE LAS SUPERFICIES DE LOS PUESTOS DE TRABAJO | C11: un | D11: 2 | E11: 399150 | F11: =E11*D11 -> 798300
A12: 1.07 | B12: SUMINISTRO E INSTALACIONES DE DIVISIONES MODULARES PISO TECHO, ALTO 2,20 m, ESTRUCTURA EN LÁMNA, ACABADO PINTURA ELECTROSTATICA, PANELES EN MADERA CON ACABADO EN FÓRMICA, INCLUYE VIDRIO CON SANBLASTING , MONTANTE DE 0,20 MTS Y EMPAQUES, EL MATERIAL Y ACABADO SERÁ EL UTILIZADO INSTITUCIONALMENTE POR LA ENTIDAD. INCLUYE PUERTAS EN VIDRIO DE 6 MM CON ESTRUCTURA METALICA O ALUMINIO, CERRADURA, BISAGRAS, EN LOS SITIOS QUE SE REQUIERA. | C12: m2 | D12: 75 | E12: 399500 | F12: =E12*D12 -> 29962500
A13: 1.08 | B13: SUMINISTRO DE TAPETE ATRAPA POLVO PARA INGRESO A LA OFICINA DE REGISTRO DE 1,70 X 0,90 NEGRO Y PERFIL DE REMATE, INLCUYE LOGO DE LA ENTIDAD | C13: un | D13: 1 | E13: 519450 | F13: =E13*D13 -> 519450
A14: 1.09 | B14: MUEBLE AUXILIAR BAJO DE 0.90 X 0.50 X 0.70 m DE ALTO CON PUERTAS METALICAS CON PINTURA ELECTROSTATICA, ENTREPAÑO. INCLUYE SUPERFICIE ENCHAPADA EN FORMICA Y NIVELADORES. | C14: un | D14: 5 | E14: 548550 | F14: =E14*D14 -> 2742750
A15: 1.1 | B15: SUMINISTRO E INSTALACION MESA DE JUNTAS REDONDA EPESOR 30MM, DE 1,10 m DE DIAMETRO, ACABADO EN FÓRMICA A DOS CARAS Y BASE METÁLICA, REMATE PERIMETRAL CON CANTO EN CAUCHO U OTRO MATERIAL RESISTENTE A LOS IMPACTOS, EL ACABADO DEBE SER IGUAL AL DE LAS SUPERFICIES DE LOS PUESTOS DE TRABAJO, INCLUYE 4 SILLAS INTERLOCUTORAS | C15: un | D15: 1 | E15: 1224500 | F15: =E15*D15 -> 1224500
A16: 1.11 | B16: DIVISION A MEDIA ALTURA ENTRE 1,05 Y 1.10 m, ACABADO EN FORMICA A DOS CARAS Y VIDRIO TRANSPARENTE DE 5 mm SAMBLASTIADO, (DISEÑO SUMINISTRADO POR LA ENTIDAD) ESTRUCTURA EN ALUMINIO O METALICA CON PINTURA ELECTROESTATICA, INCLUYE NIVELADORES. | C16: m2 | D16: 1 | E16: 342000 | F16: =E16*D16 -> 342000
A17: 1.12 | B17: MUEBLE DE ALMACENAMIENTO DE 2 MTS DE ALTO CON PUERTAS Y ENTREPAÑOS FABRICADO EN LAMINA DE ACERO COLD ROLLED ACABADO CON PINTURA ELECTROSTATICA | C17: un | D17: 5 | E17: 1255000 | F17: =E17*D17 -> 6275000
... A21: 1.16 | B21: ARCHIVADOR VERTICAL TRES GAVETAS: ELABORADO EN LÁMINA COLD ROLLED DE CALIBRE 24 RECUBIERTO CON PINTURA ELECTROSTÁTICA. CUENTA CON NIVELADORES EN NYLON INYECTADO, CORREDERAS INDEPENDIENTES FULL EXTENSION, SISTEMA DE SEGURIDAD TIPO TRAMPA Y CHAPA DE ACCIÓN CON LLAVE. ESTÁ PROVISTO DE TRES (3) GAVETAS EXTRAÍBLES Y SISTEMA ANTI-VUELCO DE SEGURIDAD QUE IMPIDE LA APERTURA DE UN CAJÓN SI OTRO ESTÁ ABIERTO. ALTURA: 105 CM ANCHO: 47 CM, FONDO: 60 CM | C21: un | D21: 1 | E21: 766250 | F21: =E21*D21 -> 766250
A22: 2 | B22: OBRAS ADICIONALES | G22: =SUM(F23:F28) -> 9431500
A23: 2.01 | B23: DESMONTE DE DIVISION PISO TECHO, DIVISIONES A MEDIA ALTURA, MESON, DIVISIONES EN VIDRIO SOBRE MESON. INCLUYE RETIRO Y DISPISICIÓN FINAL. | C23: m2 | D23: 80 | E23: 19100 | F23: =E23*D23 -> 1528000
A24: 2.02 | B24: DESMONTE DE PUESTOS DE TRABAJO, INCLUYE DIVISION EN DONDE EXISTA | C24: un | D24: 5 | E24: 29250 | F24: =E24*D24 -> 146250
A25: 2.03 | B25: RETIRO Y ADECUACION DE MESON INTERNO, INCLUYE DEMOLICION, RESANE, PINTURA Y TRASCIEGO DE ESCOMBROS | C25: m2 | D25: 8 | E25: 198900 | F25: =E25*D25 -> 1591200
A26: 2.04 | B26: DESMONTE Y REINSTALACION DE CANALETA DE RED REGULADA Y LOGICA | C26: ml | D26: 13 | E26: 24750 | F26: =E26*D26 -> 321750
A27: 2.05 | B27: TRASLADO DE PUNTO DE RED LOGICA Y REGULADA | C27: pto | D27: 13 | E27: 165500 | F27: =E27*D27 -> 2151500
A28: 2.06 | B28: MANTENIMIENTO MODULO GENERAL Y PUESTA EN FUNCIONAMIENTO DE ARCHIVO RODANTE, INCLUYE HERRAJES,ANCLAJES, TENSORES, CADENAS, CHAPAS, TORNILLERÍA Y DEMAS ELEMENTOS QUE GARANTICEN EL CORRECTO FUNCIONAMIENTO. | C28: un | D28: 32 | E28: 115400 | F28: =E28*D28 -> 3692800
B29: TOTAL COSTOS DIRECTOS | G29: =SUM(G5:G28) -> 143093500
B30: IVA | C30: % | D30: 0.19 | G30: =+G29*D30 -> 27187765
B31: COSTO TOTAL DE MUEBLES | G31: =+G29+G30 -> 170281265

Sheet  RAMIRIQUI MUEBLES 
A1: LICITACIÓN PUBLICA N°
A3: OFICINA DE REGISTRO DE INSTRUMENTOS PUBLICOS DE RAMIRIQUI - BOYACA
A4: ITEM | B4: DESCRIPCION | C4: UN | D4: CANT | E4: VR. UNITARIO | F4: VR. TOTAL | G4: VR. CAPITULO
A5: 1 | B5: MUEBLES | G5: =SUM(F6:F8) -> 5882600
A6: 1.01 | B6: SUMINISTRO E INSTALACION SILLAS TANDEM 3 PUESTOS , ACABADO EN PLASTICO REFORZADO COLOR NEGRO EN ASIENTO Y ESPALDAR.ESTRUCTURA METALICA TUBO REDONDO MINIMO 22 MM CALIBRE 16CC O SIMILAR, PINTURA ELECTROSTATICA. | C6: un | D6: 4 | E6: 659900 | F6: =D6*E6 -> 2639600
A7: 1.02 | B7: SOFA DE DOS PUESTOS CON BRAZOS , TAPIZADO EN PRANAHA BASE CROMADA , SUAVISADO CON CAUCHO ESPUMA DE ALTA DENSIDAD , COJINES REMOVIBLES | C7: un | D7: 1 | E7: 2013000 | F7: =D7*E7 -> 2013000
A8: 1.03 | B8: POLTRONA DE UN PUESTO CON BRAZOS , TAPIZADO EN PRANAHA BASE CROMADA , SUAVISADO CON CAUCHO ESPUMA DE ALTA DENSIDAD , COJINES REMOVIBLES | C8: un | D8: 1 | E8: 1230000 | F8: =D8*E8 -> 1230000
A9: 2 | B9: OTROS | G9: =SUM(F10:F11) -> 328600
A10: 2.01 | B10: DESMONTE, TRASLADO Y REUBICACIÓN DE DOCUMENTOS, INCLUYE SUMINISTRO DE CAJAS PARA SU MANIPULACION. EL VALOR UNITARIO SE ESTABLECE POR ESTANTE LLENO DE SEIS ESPACIOS UTILES | C10: un | D10: 6 | E10: 22000 | F10: =+E10*D10 -> 132000
A11: 2.02 | B11: DESMONTE Y REINSTALACIÓN DE ESTANTE DE ARCHIVO RODANTE O FIJO, INCLUYE MANTENIMIENTO, HERRAJES,ANCLAJES, TENSORES,TORNILLERÍA Y DEMAS ELEMENTOS QUE GARANTICEN EL CORRECTO FUNCIONAMIENTO. | C11: un | D11: 4 | E11: 49150 | F11: =+E11*D11 -> 196600
B12: TOTAL COSTOS DIRECTOS | G12: =SUM(G5:G11) -> 6211200
B13: IVA | C13: % | D13: 0.19 | G13: =+G12*D13 -> 1180128
B14: COSTO TOTAL DE MUEBLES | G14: =SUM(G12:G13) -> 7391328

Sheet EL COCUY M
A1: LICITACIÓN PÚBLICA N°
A3: PE -02 OFICINA DE REGISTRO DE INSTRUMENTOS PUBLICOS EN GENERAL - EL COCUY - BOYACÁ
A4: ITEM | B4: DESCRIPCION | C4: UN | D4: CANT | E4: VR. UNITARIO | F4: VR. TOTAL | G4: VR CAPITULO
A5: 1 | B5: MUEBLES | G5: =SUM(F6:F20) -> 48777015
A6: 1.01 | B6: SUMINISTRO E INSTALACION DE PUESTO DE TRABAJO PARA DIRECTOR O REGISTRADOR, EL PUESTO TENDRA UNA FORMA DE "U", CON TRES SUPERFICIES INDEPENDENTES ESPESOR 30MM, CON ACABADO EN FORMICA A DOS CARAS, CON DIMENSIONES DE 1,80M X 0.70M; DE 1,00 X 0.60 M Y UNA DETRÁS DE 1.80 X 0.60 M, CADA UNA CON BASES METALICAS INDEPENDIENTES, CON BORDES O CANTOS PROTEGIDOS CON BANDAS DE CAUCHO O PVC PLANAS O REBORDEADAS,CAJONERA METALICA CON DOS CAJONES ESTANDAR Y UNO PARA ARCHIVO DE CARPETAS CON CERRADURA, 2 SILLAS INTERLOCUTORAS, BASURERA METALICA, PAPELERA METALICA, SILLA GIRATORIA ERGONÓMICA, CON APOYO LUMBAR AJUSTABLE,CABECERO, APOYA BRAZOS NEUMÁTICA AJUSTABLES EN ALTURA Y SISTEMA ANTIVUELCO TIPO GERENTE , DESCANSA PIES. | C6: un | D6: 1 | E6: 2423925 | F6: =E6*D6 -> 2423925
A7: 1.02 | B7: SUMINISTRO E INSTALACIÓN DE PUESTOS DE TRABAJO PARA FUNCIONARIOS DE 1.50 X 1.50 EN L, SUPERFICIES ESPESOR 30 MM, CON ACABADO FORMICA A DOS CARAS, EL ANCHO DE LA SUPERFICIE SERA DE 60 CM , EL CHAFLAN QUE CONFORMA LA PARTE INTERNA DE LAS SUPERFICIES DEBERÁ IR CURVO, BORDES CANTOS PROTEGIDOS CON BANDAS DE CAUCHO O PVC PLANAS O REDORDEADAS. BASES METALICAS INDEPENDIENTES CON NIVELADORES, CAJONERA METALICA DE DOS CAJONES Y UNO DE ARCHIVADO PROVISTA DE CHAPA. INCLUYE SILLA GIRATORIA ERGONÓMICA, CON APOYO LUMBAR AJUSTABLE, APOYA BRAZOS NEUMÁTICA AJUSTABLES EN ALTURA Y SISTEMA ANTIVUELCO, BASURERA, PAPELERA Y DESCANZAPIES. | C7: un | D7: 1 | E7: 1562950 | F7: =E7*D7 -> 1562950
A8: 1.03 | B8: DIVISION EN VIDRIO LAMINADO 3+3 SOBRE MESON DE ATENCION AL PUBLICO DE 1.10 M DE ALTURA Y ANCHO 1.50 M.,INCLUYE PASAVOZ, PASADOCUMENTOS, MONTANTE DE 20 CENTIMETROS TERMINADO EN FORMICA A DOS CARAS Y ESTRUCTURA (DISEÑO SUMINISTRADO POR LA ENTIDAD) | C8: m2 | D8: 4 | E8: 420125 | F8: =E8*D8 -> 1680500
A9: 1.04 | B9: SUMINISTRO E INSTALACION DE MESON TIPO MOSTRADOR DE ATENCION AL PUBLICO DE ALTURA ENTRE 0.90 A 1.10 m, ANCHO 1,50 m. INCLUYE MESON SUPERIOR DE 30 cm POSFORMADO EN FORMICA ESPERSOR 30MM A DOS CARAS Y FRONTAL SEGÚN DISEÑO SUMINISTRADO POR LA ENTIDAD. | C9: un | D9: 5 | E9: 677058 | F9: =E9*D9 -> 3385290
A10: 1.05 | B10: SUMINISTRO E INSTALACION DE SUPERFICIE DE TRABAJO ESPESOR 30MM CON ACABADO EN FÓRMICA A DOS CARAS Y BASES METÁLICAS DE 1,50 m DE LARGO POR 0,60 m DE ANCHO, REMATE PERIMETRAL CON CANTO EN CAUCHO U OTRO MATERIAL RESISTENTE A LOS IMPACTOS, EL ACABADO DEBE SER IGUAL AL DE LAS SUPERFICIES DE LOS PUESTOS DE TRABAJO. | C10: un | D10: 3 | E10: 478500 | F10: =E10*D10 -> 1435500
A11: 1.06 | B11: SUMINISTRO E INSTALACION DE SUPERFICIE DE TRABAJO ESPESOR 30MM, CON ACABADO EN FÓRMICA A DOS CARAS Y BASES METÁLICAS DE 0,8 m DE LARGO POR 0,60 m DE ANCHO, CON ENTREPAÑO. REMATE PERIMETRAL CON CANTO EN CAUCHO U OTRO MATERIAL RESISTENTE A LOS IMPACTOS, EL ACABADO DEBE SER IGUAL AL DE LAS SUPERFICIES DE LOS PUESTOS DE TRABAJO | C11: un | D11: 1 | E11: 399150 | F11: =E11*D11 -> 399150
A12: 1.07 | B12: SUMINISTRO DE TAPETE ATRAPA POLVO PARA INGRESO A LA OFICINA DE REGISTRO DE 1,70 X 0,90 NEGRO Y PERFIL DE REMATE, INLCUYE LOGO DE LA ENTIDAD | C12: un | D12: 1 | E12: 519450 | F12: =E12*D12 -> 519450
A13: 1.08 | B13: SUMINISTRO E INSTALACION DE PERSIANAS TIPO SHERT O SIMILAR | C13: m2 | D13: 15 | E13: 180300 | F13: =E13*D13 -> 2704500
A14: 1.09 | B14: MUEBLE AUXILIAR BAJO DE 0.90 X 0.50 X 0.70 m DE ALTO CON PUERTAS METALICAS CON PINTURA ELECTROSTATICA, ENTREPAÑO. INCLUYE SUPERFICIE ENCHAPADA EN FORMICA Y NIVELADORES. | C14: un | D14: 3 | E14: 548550 | F14: =E14*D14 -> 1645650
A15: 1.1 | B15: SUMINISTRO E INSTALACION MESA DE JUNTAS REDONDA EPESOR 30MM, DE 1,10 m DE DIAMETRO, ACABADO EN FÓRMICA A DOS CARAS Y BASE METÁLICA, REMATE PERIMETRAL CON CANTO EN CAUCHO U OTRO MATERIAL RESISTENTE A LOS IMPACTOS, EL ACABADO DEBE SER IGUAL AL DE LAS SUPERFICIES DE LOS PUESTOS DE TRABAJO, INCLUYE 4 SILLAS INTERLOCUTORAS | C15: un | D15: 1 | E15: 1224500 | F15: =E15*D15 -> 1224500
A16: 1.11 | B16: MUEBLE DE ALMACENAMIENTO DE 2 MTS DE ALTO CON PUERTAS Y ENTREPAÑOS FABRICADO EN LAMINA DE ACERO COLD ROLLED ACABADO CON PINTURA ELECTROSTATICA | C16: un | D16: 2 | E16: 1255000 | F16: =E16*D16 -> 2510000
A17: 1.12 | B17: SUMINISTRO E INSTALACIÓN DE BIBLIOTECA EN FORMICA ESPESOR 19MM AMBAS CARAS PARA OFICINA DOS MUEBLES INDEPENDIENTES CON DIMENSIONES: MUEBLE BAJO (1,20 DE LARGO, 0,52 DE ANCHO Y 0.94 DE ALTO INCLUIDO BASE CON ENTREPAÑO Y CUATRO CAJONES, CON ESPALDAR) MUEBLE ALTO (1,20 DE LARGO, 1,08 DE ALTO ,0.30 DE ANCHO CON ENTREPAÑOS VERTICALES Y HORIZONTALES, CON ESPALDAR). C | C17: un | D17: 1 | E17: 2913400 | F17: =E17*D17 -> 2913400
... A20: 1.15 | B20: ARCHIVADOR VERTICAL TRES GAVETAS: ELABORADO EN LÁMINA COLD ROLLED DE CALIBRE 24 RECUBIERTO CON PINTURA ELECTROSTÁTICA. CUENTA CON NIVELADORES EN NYLON INYECTADO, CORREDERAS INDEPENDIENTES FULL EXTENSION, SISTEMA DE SEGURIDAD TIPO TRAMPA Y CHAPA DE ACCIÓN CON LLAVE. ESTÁ PROVISTO DE TRES (3) GAVETAS EXTRAÍBLES Y SISTEMA ANTI-VUELCO DE SEGURIDAD QUE IMPIDE LA APERTURA DE UN CAJÓN SI OTRO ESTÁ ABIERTO. ALTURA: 105 CM ANCHO: 47 CM, FONDO: 60 CM | C20: un | D20: 2 | E20: 766250 | F20: =E20*D20 -> 1532500
A21: 2 | B21: OBRAS ADICIONALES | G21: =SUM(F22:F27) -> 1210528
A22: 2.01 | B22: DESMONTE, TRASLADO Y REUBICACIÓN DE DOCUMENTOS, INCLUYE SUMINISTRO DE CAJAS PARA SU MANIPULACION. EL VALOR UNITARIO SE ESTABLECE POR ESTANTE LLENO DE SEIS ESPACIOS UTILES | C22: un | D22: 12 | E22: 22000 | F22: =E22*D22 -> 264000
A23: 2.02 | B23: DESMONTE DE PUESTOS DE TRABAJO, INCLUYE DIVISION EN DONDE EXISTA | C23: un | D23: 2 | E23: 29250 | F23: =E23*D23 -> 58500
A24: 2.03 | B24: RETIRO Y ADECUACION DE MESON INTERNO, INCLUYE DEMOLICION, RESANE, PINTURA Y TRASCIEGO DE ESCOMBROS | C24: m2 | D24: 1 | E24: 198900 | F24: =E24*D24 -> 198900
A25: 2.04 | B25: ADECUACION DE MESON INCLUYE CORTE EN CONCRETO, RESANE DE PARED CON PINTURA, RETIRO Y DISPOSICION FINAL DE ESCOMBROS. | C25: un | D25: 1 | E25: 259375 | F25: =E25*D25 -> 259375
A26: 2.05 | B26: DESMONTE Y REINSTALACION DE CANALETA DE RED REGULADA Y LOGICA | C26: ml | D26: 3.99 | E26: 24750 | F26: =E26*D26 -> 98753
A27: 2.06 | B27: TRASLADO DE PUNTO DE RED LOGICA Y REGULADA | C27: pto | D27: 2 | E27: 165500 | F27: =E27*D27 -> 331000
B28: TOTAL COSTOS DIRECTOS | G28: =SUM(G5:G27) -> 49987543
B29: IVA | C29: % | D29: 0.19 | G29: =+G28*D29 -> 9497633
B30: COSTO TOTAL DE MUEBLES | G30: =+G28+G29 -> 59485176

Sheet MONIQUIRA MUEBLES
A1: LICITACIÓN PUBLICA N°
A3: PE -02 OFICINA DE REGISTRO DE INSTRUMENTOS PUBLICOS MONIQUIRA
A4: ITEM | B4: DESCRIPCION | C4: UN | D4: CANT | E4: VR. UNITARIO | F4: VR. TOTAL | G4: VR CAPITULO
A5: 1 | B5: MUEBLES | G5: =SUM(F6:F8) -> 65830100
A6: 1.01 | B6: SUMINISTRO E INSTALACION DE SUPERFICIE DE TRABAJO ESPESOR 30MM CON ACABADO EN FÓRMICA A DOS CARAS Y BASES METÁLICAS DE 1,50 m DE LARGO POR 0,60 m DE ANCHO, REMATE PERIMETRAL CON CANTO EN CAUCHO U OTRO MATERIAL RESISTENTE A LOS IMPACTOS, EL ACABADO DEBE SER IGUAL AL DE LAS SUPERFICIES DE LOS PUESTOS DE TRABAJO, INCLUYE SILLA GIRATORIA ERGONÓMICA, CON APOYO LUMBAR AJUSTABLE, APOYA BRAZOS NEUMÁTICA AJUSTABLES EN ALTURA Y SISTEMA ANTIVUELCO, BASES METALICAS INDEPENDIENTES CON NIVELADORES, CAJONERA METALICA DE DOS CAJONES Y UNO DE ARCHIVADO PROVISTA DE CHAPA, DESCANSAPIES, BASURERA Y PAPELERA METALICA. | C6: un | D6: 3 | E6: 1116900 | F6: =+D6*E6 -> 3350700
A7: 1.02 | B7: SUMINISTRO E INSTALACION DE SISTEMA DE ARCHIVO RODANTE METÁLICO Y MECÁNICO FABRICADO EN LAMINA COLD ROLLED. CADA CUERPO CON MEDIDAS LIBRES DE 1,10 X 0,45 X 2,10-2,20 M, CON 6 ESPACIOS UTILES Y 5 ENTREPAÑOS DE 0,45 M DE FONDO LIBRES EN LÁMINA COLD ROLLED CALIBRE 22. CONSTA DE PARALES EN "L" FABRICADO EN LÁMINA COLD ROLLED CALIBRE 14 CON TROQUELADO DE UÑA SOBRE SÍ MISMO PARA AJUSTAR A UNA ALTURA MODULAR DE 31 CM ENTRE CADA ENTREPAÑOS. LAS UNIDADES DE CONSULTA INCLUYEN TENSORES GRADUABLES DIAGONALES LATERALES EN PLATINA DE 3/4" X 1/8" Y DIAGONALES POSTERIORES EN PLATINA DE 3/4" X 1/4" CON TEMPLETE DE 1/4", CON EL FIN DE BRINDARLE MAYOR ESTABILIDAD Y RIGIDEZ A LA ESTRUCTURA. CADA ENTREPAÑO CONTARÁ CON DOS REFUERZOS EN LÁMINA CALIBRE 16 PARA SOPORTAR UNA CARGA UNIFORMEMENTE DISTRIBUIDA DE 100 KG/M, ASÍ MISMO CONSTARÁ CON TAPA SUPERIOR E INFERIOR DEL MISMO CALIBRE Y REFORZADOS PARA SOPORTAR UNA CARGA DE 100 KG/M. ACABADO EN PINTURA ELECTROSTÁTICA CON HORNEADO DE ALTA RESISTENCIA, PANELERÍA CON VISOR IDENTIFICADOR, ACABADOS FRONTALES Y LATERALES EN LÁMINA COLD ROLLED, LOS CUALES DEBEN CONTAR CON LA TOLERANCIA NECESARIA PARA QUE LOS ESTANTES NO QUEDEN PEGADOS AL ESTAR CERRADOS, QUE GARANTICE UN PERFECTO FUNCIONAMIENTO DEL SISTEMA. DEBE CONTAR CON SISTEMA ANTIVUELCO QUE GARANTICE LA INTEGRIDAD DEL MISMO, INCLUYE ELEMENTOS METÁLICOS PARA QUE LAS CARPETAS NO SE CAIGAN HACIA LOS LADOS DE CADA UNO DE LOS ENTREPAÑOS QUE CONFORMAN EL SISTEMA DE ARCHIVO RODANTE, INCLUYE MANIJAS PARA MOVERLO | C7: un | D7: 66 | E7: 938400 | F7: =+D7*E7 -> 61934400
A8: 1.03 | B8: SUMINISTRO E INSTALACION DE AVISO INSTITUCIONAL EN PANAFLEX IMPRESO PARA EXTERIOR, SEGÚN DISEÑO Y MEDIDA, CON CAJA EN ALUMNIO DE 0,10M DE ESPESOR SIN LUZ. | C8: m2 | D8: 1 | E8: 545000 | F8: =+D8*E8 -> 545000
A9: 2 | B9: OBRAS ADICIONALES | G9: =SUM(F10:F13) -> 2696500
A10: 2.01 | B10: DESMONTE, TRASLADO Y REUBICACIÓN DE DOCUMENTOS, INCLUYE SUMINISTRO DE CAJAS PARA SU MANIPULACION. EL VALOR UNITARIO SE ESTABLECE POR ESTANTE LLENO DE SEIS ESPACIOS UTILES | C10: un | D10: 44 | E10: 22000 | F10: =+D10*E10 -> 968000
A11: 2.02 | B11: DESMONTE DE ARCHIVO RODANTE O FIJO, INCLUYE HERRAJES,ANCLAJES, TENSORES,TORNILLERÍA, RIELES Y DEMAS ELEMENTOS DEJANDOLO EN EL LUGAR QUE INDIQUEN EN LA ORIP, DEBIDAMENTE EMBALADO Y PROTEGIDO | C11: un | D11: 46 | E11: 25000 | F11: =+D11*E11 -> 1150000
A12: 2.03 | B12: DESMONTE Y REINSTALACION DE CANALETA DE RED REGULADA Y LOGICA | C12: ml | D12: 10 | E12: 24750 | F12: =+D12*E12 -> 247500
A13: 2.04 | B13: TRASLADO DE PUNTO DE RED LOGICA Y REGULADA | C13: pto | D13: 2 | E13: 165500 | F13: =+D13*E13 -> 331000
B15: TOTAL COSTOS DIRECTOS | G15: =SUM(G5:G13) -> 68526600
B16: IVA | C16: % | D16: 0.19 | G16: =+G15*D16 -> 13020054
B17: COSTO TOTAL DE MUEBLES | G17: =+G15+G16 -> 81546654

Sheet FUSAGASUGA M
A1: LICITACIÓN PUBLICA N°
A3: PE -02 OFICINA DE REGISTRO DE INSTRUMENTOS PUBLICOS EN GENERAL / FUSAGASUGÁ - CUNDINAMARCA
A4: ITEM | B4: DESCRIPCION | C4: UN | D4: CANT | E4: VR. UNITARIO | F4: VR. TOTAL | G4: VR CAPITULO
A5: 1 | B5: MUEBLES | G5: =SUM(F6:F22) -> 188676682
A6: 1.01 | B6: SUMINISTRO E INSTALACION DE PUESTO DE TRABAJO PARA DIRECTOR O REGISTRADOR, EL PUESTO TENDRA UNA FORMA DE "U", CON TRES SUPERFICIES INDEPENDENTES ESPESOR 30MM, CON ACABADO EN FORMICA A DOS CARAS, CON DIMENSIONES DE 1,80M X 0.70M; DE 1,00 X 0.60 M Y UNA DETRÁS DE 1.80 X 0.60 M, CADA UNA CON BASES METALICAS INDEPENDIENTES, CON BORDES O CANTOS PROTEGIDOS CON BANDAS DE CAUCHO O PVC PLANAS O REBORDEADAS,CAJONERA METALICA CON DOS CAJONES ESTANDAR Y UNO PARA ARCHIVO DE CARPETAS CON CERRADURA, 2 SILLAS INTERLOCUTORAS, BASURERA METALICA, PAPELERA METALICA, SILLA GIRATORIA ERGONÓMICA, CON APOYO LUMBAR AJUSTABLE,CABECERO, APOYA BRAZOS NEUMÁTICA AJUSTABLES EN ALTURA Y SISTEMA ANTIVUELCO TIPO GERENTE , DESCANSA PIES. | C6: un | D6: 1 | E6: 2423925 | F6: =E6*D6 -> 2423925
A7: 1.02 | B7: SUMINISTRO E INSTALACIÓN DE PUESTOS DE TRABAJO PARA FUNCIONARIOS DE 1.50 X 1.50 EN L, SUPERFICIES ESPESOR 30 MM, CON ACABADO FORMICA A DOS CARAS, EL ANCHO DE LA SUPERFICIE SERA DE 60 CM , EL CHAFLAN QUE CONFORMA LA PARTE INTERNA DE LAS SUPERFICIES DEBERÁ IR CURVO, BORDES CANTOS PROTEGIDOS CON BANDAS DE CAUCHO O PVC PLANAS O REDORDEADAS. BASES METALICAS INDEPENDIENTES CON NIVELADORES, CAJONERA METALICA DE DOS CAJONES Y UNO DE ARCHIVADO PROVISTA DE CHAPA. INCLUYE SILLA GIRATORIA ERGONÓMICA, CON APOYO LUMBAR AJUSTABLE, APOYA BRAZOS NEUMÁTICA AJUSTABLES EN ALTURA Y SISTEMA ANTIVUELCO, BASURERA, PAPELERA Y DESCANZAPIES. | C7: un | D7: 19 | E7: 1562950 | F7: =E7*D7 -> 29696050
A8: 1.03 | B8: DIVISION EN VIDRIO LAMINADO 3+3 SOBRE MESON DE ATENCION AL PUBLICO DE 1.10 M DE ALTURA Y ANCHO 1.50 M.,INCLUYE PASAVOZ, PASADOCUMENTOS, MONTANTE DE 20 CENTIMETROS TERMINADO EN FORMICA A DOS CARAS Y ESTRUCTURA (DISEÑO SUMINISTRADO POR LA ENTIDAD) | C8: m2 | D8: 9 | E8: 420125 | F8: =E8*D8 -> 3781125
A9: 1.04 | B9: SUMINISTRO E INSTALACION DE MESON TIPO MOSTRADOR DE ATENCION AL PUBLICO DE ALTURA ENTRE 0.90 A 1.10 m, ANCHO 1,50 m. INCLUYE MESON SUPERIOR DE 30 cm POSFORMADO EN FORMICA ESPERSOR 30MM A DOS CARAS Y FRONTAL SEGÚN DISEÑO SUMINISTRADO POR LA ENTIDAD. | C9: un | D9: 4 | E9: 677058 | F9: =E9*D9 -> 2708232
A10: 1.05 | B10: SUMINISTRO E INSTALACION DE SUPERFICIE DE TRABAJO ESPESOR 30MM CON ACABADO EN FÓRMICA A DOS CARAS Y BASES METÁLICAS DE 1,50 m DE LARGO POR 0,60 m DE ANCHO, REMATE PERIMETRAL CON CANTO EN CAUCHO U OTRO MATERIAL RESISTENTE A LOS IMPACTOS, EL ACABADO DEBE SER IGUAL AL DE LAS SUPERFICIES DE LOS PUESTOS DE TRABAJO. | C10: un | D10: 2 | E10: 478500 | F10: =E10*D10 -> 957000
A11: 1.06 | B11: SUMINISTRO E INSTALACION DE SUPERFICIE DE TRABAJO ESPESOR 30MM, CON ACABADO EN FÓRMICA A DOS CARAS Y BASES METÁLICAS DE 0,8 m DE LARGO POR 0,60 m DE ANCHO, CON ENTREPAÑO. REMATE PERIMETRAL CON CANTO EN CAUCHO U OTRO MATERIAL RESISTENTE A LOS IMPACTOS, EL ACABADO DEBE SER IGUAL AL DE LAS SUPERFICIES DE LOS PUESTOS DE TRABAJO | C11: un | D11: 2 | E11: 399150 | F11: =E11*D11 -> 798300
A12: 1.07 | B12: SUMINISTRO E INSTALACIONES DE DIVISIONES MODULARES PISO TECHO, ALTO 2,20 m, ESTRUCTURA EN LÁMNA, ACABADO PINTURA ELECTROSTATICA, PANELES EN MADERA CON ACABADO EN FÓRMICA, INCLUYE VIDRIO CON SANBLASTING , MONTANTE DE 0,20 MTS Y EMPAQUES, EL MATERIAL Y ACABADO SERÁ EL UTILIZADO INSTITUCIONALMENTE POR LA ENTIDAD. INCLUYE PUERTAS EN VIDRIO DE 6 MM CON ESTRUCTURA METALICA O ALUMINIO, CERRADURA, BISAGRAS, EN LOS SITIOS QUE SE REQUIERA. | C12: m2 | D12: 5 | E12: 399500 | F12: =E12*D12 -> 1997500
A13: 1.08 | B13: SUMINISTRO DE TAPETE ATRAPA POLVO PARA INGRESO A LA OFICINA DE REGISTRO DE 1,70 X 0,90 NEGRO Y PERFIL DE REMATE, INLCUYE LOGO DE LA ENTIDAD | C13: un | D13: 1 | E13: 519450 | F13: =E13*D13 -> 519450
A14: 1.09 | B14: POLTRONA DE UN PUESTO CON BRAZOS , TAPIZADO EN PRANAHA BASE CROMADA , SUAVISADO CON CAUCHO ESPUMA DE ALTA DENSIDAD , COJINES REMOVIBLES | C14: un | D14: 1 | E14: 1230000 | F14: =E14*D14 -> 1230000
A15: 1.1 | B15: SUMINISTRO E INSTALACION DE PERSIANAS TIPO SHERT O SIMILAR | C15: m2 | D15: 70 | E15: 180300 | F15: =E15*D15 -> 12621000
A16: 1.11 | B16: MUEBLE AUXILIAR BAJO DE 0.90 X 0.50 X 0.70 m DE ALTO CON PUERTAS METALICAS CON PINTURA ELECTROSTATICA, ENTREPAÑO. INCLUYE SUPERFICIE ENCHAPADA EN FORMICA Y NIVELADORES. | C16: un | D16: 4 | E16: 548550 | F16: =E16*D16 -> 2194200
A17: 1.12 | B17: SUMINISTRO E INSTALACION MESA DE JUNTAS REDONDA EPESOR 30MM, DE 1,10 m DE DIAMETRO, ACABADO EN FÓRMICA A DOS CARAS Y BASE METÁLICA, REMATE PERIMETRAL CON CANTO EN CAUCHO U OTRO MATERIAL RESISTENTE A LOS IMPACTOS, EL ACABADO DEBE SER IGUAL AL DE LAS SUPERFICIES DE LOS PUESTOS DE TRABAJO, INCLUYE 4 SILLAS INTERLOCUTORAS | C17: un | D17: 1 | E17: 1224500 | F17: =E17*D17 -> 1224500
... A22: 1.17 | B22: ARCHIVADOR VERTICAL TRES GAVETAS: ELABORADO EN LÁMINA COLD ROLLED DE CALIBRE 24 RECUBIERTO CON PINTURA ELECTROSTÁTICA. CUENTA CON NIVELADORES EN NYLON INYECTADO, CORREDERAS INDEPENDIENTES FULL EXTENSION, SISTEMA DE SEGURIDAD TIPO TRAMPA Y CHAPA DE ACCIÓN CON LLAVE. ESTÁ PROVISTO DE TRES (3) GAVETAS EXTRAÍBLES Y SISTEMA ANTI-VUELCO DE SEGURIDAD QUE IMPIDE LA APERTURA DE UN CAJÓN SI OTRO ESTÁ ABIERTO. ALTURA: 105 CM ANCHO: 47 CM, FONDO: 60 CM | C22: un | D22: 8 | E22: 766250 | F22: =E22*D22 -> 6130000
A23: 2 | B23: OBRAS ADICIONALES | G23: =SUM(F24:F31) -> 10951449
A24: 2.01 | B24: DESMONTE, TRASLADO Y REUBICACIÓN DE DOCUMENTOS, INCLUYE SUMINISTRO DE CAJAS PARA SU MANIPULACION. EL VALOR UNITARIO SE ESTABLECE POR ESTANTE LLENO DE SEIS ESPACIOS UTILES | C24: un | D24: 106 | E24: 22000 | F24: =E24*D24 -> 2332000
A25: 2.02 | B25: DESMONTE DE DIVISION PISO TECHO, DIVISIONES A MEDIA ALTURA, MESON, DIVISIONES EN VIDRIO SOBRE MESON. INCLUYE RETIRO Y DISPISICIÓN FINAL. | C25: m2 | D25: 38.99 | E25: 19100 | F25: =E25*D25 -> 744709
A26: 2.03 | B26: DESMONTE DE PUESTOS DE TRABAJO, INCLUYE DIVISION EN DONDE EXISTA | C26: un | D26: 18 | E26: 29250 | F26: =E26*D26 -> 526500
A27: 2.04 | B27: ADECUACION DE MESON DE ATENCION A PUBLICO EXISTENTE, INCLUYE DEMOLICION DE MURO EN CONCRETO, RESANE DE PISO Y RESANE DE PARED CON PINTURA, INCLUYE RETIRO Y DISPOSICION FINAL DE ESCOMBROS | C27: m2 | D27: 5 | E27: 317340 | F27: =E27*D27 -> 1586700
A28: 2.05 | B28: RETIRO Y ADECUACION DE MESON INTERNO, INCLUYE DEMOLICION, RESANE, PINTURA Y TRASCIEGO DE ESCOMBROS | C28: m2 | D28: 7.6 | E28: 198900 | F28: =E28*D28 -> 1511640
A29: 2.06 | B29: DESMONTE Y REINSTALACION DE CANALETA DE RED REGULADA Y LOGICA | C29: ml | D29: 40 | E29: 24750 | F29: =E29*D29 -> 990000
A30: 2.07 | B30: TRASLADO DE PUNTO DE RED LOGICA Y REGULADA | C30: pto | D30: 19 | E30: 165500 | F30: =E30*D30 -> 3144500
A31: 2.08 | B31: MANTENIMIENTO MODULO GENERAL Y PUESTA EN FUNCIONAMIENTO DE ARCHIVO RODANTE, INCLUYE HERRAJES,ANCLAJES, TENSORES, CADENAS, CHAPAS, TORNILLERÍA Y DEMAS ELEMENTOS QUE GARANTICEN EL CORRECTO FUNCIONAMIENTO. | C31: un | D31: 1 | E31: 115400 | F31: =E31*D31 -> 115400
B32: TOTAL COSTOS DIRECTOS | G32: =SUM(G5:G31) -> 199628131
B33: IVA | C33: % | D33: 0.19 | G33: =+G32*D33 -> 37929345
B34: COSTO TOTAL DE MUEBLES | G34: =SUM(G32:G33) -> 237557476

Sheet GIRARDOT M
A1: LICITACIÓN PUBLICA N°
A3: PE -02 OFICINA DE REGISTRO DE INSTRUMENTOS PUBLICOS EN GENERAL / GIRARDOT CUNDINAMARCA
A4: ITEM | B4: DESCRIPCION | C4: UN | D4: CANT | E4: VR. UNITARIO | F4: VR. TOTAL | G4: VR CAPITULO
A5: 1 | B5: MUEBLES | G5: =SUM(F6:F22) -> 109115683
A6: 1.01 | B6: SUMINISTRO E INSTALACION DE PUESTO DE TRABAJO PARA DIRECTOR O REGISTRADOR, EL PUESTO TENDRA UNA FORMA DE "U", CON TRES SUPERFICIES INDEPENDENTES ESPESOR 30MM, CON ACABADO EN FORMICA A DOS CARAS, CON DIMENSIONES DE 1,80M X 0.70M; DE 1,00 X 0.60 M Y UNA DETRÁS DE 1.80 X 0.60 M, CADA UNA CON BASES METALICAS INDEPENDIENTES, CON BORDES O CANTOS PROTEGIDOS CON BANDAS DE CAUCHO O PVC PLANAS O REBORDEADAS,CAJONERA METALICA CON DOS CAJONES ESTANDAR Y UNO PARA ARCHIVO DE CARPETAS CON CERRADURA, 2 SILLAS INTERLOCUTORAS, BASURERA METALICA, PAPELERA METALICA, SILLA GIRATORIA ERGONÓMICA, CON APOYO LUMBAR AJUSTABLE,CABECERO, APOYA BRAZOS NEUMÁTICA AJUSTABLES EN ALTURA Y SISTEMA ANTIVUELCO TIPO GERENTE , DESCANSA PIES. | C6: un | D6: 1 | E6: 2423925 | F6: =E6*D6 -> 2423925
A7: 1.02 | B7: SUMINISTRO E INSTALACIÓN DE PUESTOS DE TRABAJO PARA FUNCIONARIOS DE 1.50 X 1.50 EN L, SUPERFICIES ESPESOR 30 MM, CON ACABADO FORMICA A DOS CARAS, EL ANCHO DE LA SUPERFICIE SERA DE 60 CM , EL CHAFLAN QUE CONFORMA LA PARTE INTERNA DE LAS SUPERFICIES DEBERÁ IR CURVO, BORDES CANTOS PROTEGIDOS CON BANDAS DE CAUCHO O PVC PLANAS O REDORDEADAS. BASES METALICAS INDEPENDIENTES CON NIVELADORES, CAJONERA METALICA DE DOS CAJONES Y UNO DE ARCHIVADO PROVISTA DE CHAPA. INCLUYE SILLA GIRATORIA ERGONÓMICA, CON APOYO LUMBAR AJUSTABLE, APOYA BRAZOS NEUMÁTICA AJUSTABLES EN ALTURA Y SISTEMA ANTIVUELCO, BASURERA, PAPELERA Y DESCANZAPIES. | C7: un | D7: 10 | E7: 1562950 | F7: =E7*D7 -> 15629500
A8: 1.03 | B8: DIVISION EN VIDRIO LAMINADO 3+3 SOBRE MESON DE ATENCION AL PUBLICO DE 1.10 M DE ALTURA Y ANCHO 1.50 M.,INCLUYE PASAVOZ, PASADOCUMENTOS, MONTANTE DE 20 CENTIMETROS TERMINADO EN FORMICA A DOS CARAS Y ESTRUCTURA (DISEÑO SUMINISTRADO POR LA ENTIDAD) | C8: m2 | D8: 4 | E8: 420125 | F8: =E8*D8 -> 1680500
A9: 1.04 | B9: SUMINISTRO E INSTALACION DE MESON TIPO MOSTRADOR DE ATENCION AL PUBLICO DE ALTURA ENTRE 0.90 A 1.10 m, ANCHO 1,50 m. INCLUYE MESON SUPERIOR DE 30 cm POSFORMADO EN FORMICA ESPERSOR 30MM A DOS CARAS Y FRONTAL SEGÚN DISEÑO SUMINISTRADO POR LA ENTIDAD. | C9: un | D9: 1 | E9: 677058 | F9: =E9*D9 -> 677058
A10: 1.05 | B10: SUMINISTRO E INSTALACION DE SUPERFICIE DE TRABAJO ESPESOR 30MM CON ACABADO EN FÓRMICA A DOS CARAS Y BASES METÁLICAS DE 1,50 m DE LARGO POR 0,60 m DE ANCHO, REMATE PERIMETRAL CON CANTO EN CAUCHO U OTRO MATERIAL RESISTENTE A LOS IMPACTOS, EL ACABADO DEBE SER IGUAL AL DE LAS SUPERFICIES DE LOS PUESTOS DE TRABAJO, INCLUYE SILLA GIRATORIA ERGONÓMICA, CON APOYO LUMBAR AJUSTABLE, APOYA BRAZOS NEUMÁTICA AJUSTABLES EN ALTURA Y SISTEMA ANTIVUELCO, BASES METALICAS INDEPENDIENTES CON NIVELADORES, CAJONERA METALICA DE DOS CAJONES Y UNO DE ARCHIVADO PROVISTA DE CHAPA, DESCANSAPIES, BASURERA Y PAPELERA METALICA. | C10: un | D10: 1 | E10: 1116900 | F10: =E10*D10 -> 1116900
A11: 1.06 | B11: SUMINISTRO E INSTALACION DE SUPERFICIE DE TRABAJO ESPESOR 30MM CON ACABADO EN FÓRMICA A DOS CARAS Y BASES METÁLICAS DE 1,50 m DE LARGO POR 0,60 m DE ANCHO, REMATE PERIMETRAL CON CANTO EN CAUCHO U OTRO MATERIAL RESISTENTE A LOS IMPACTOS, EL ACABADO DEBE SER IGUAL AL DE LAS SUPERFICIES DE LOS PUESTOS DE TRABAJO. | C11: un | D11: 4 | E11: 478500 | F11: =E11*D11 -> 1914000
A12: 1.07 | B12: SUMINISTRO E INSTALACIONES DE DIVISIONES MODULARES PISO TECHO, ALTO 2,20 m, ESTRUCTURA EN LÁMNA, ACABADO PINTURA ELECTROSTATICA, PANELES EN MADERA CON ACABADO EN FÓRMICA, INCLUYE VIDRIO CON SANBLASTING , MONTANTE DE 0,20 MTS Y EMPAQUES, EL MATERIAL Y ACABADO SERÁ EL UTILIZADO INSTITUCIONALMENTE POR LA ENTIDAD. INCLUYE PUERTAS EN VIDRIO DE 6 MM CON ESTRUCTURA METALICA O ALUMINIO, CERRADURA, BISAGRAS, EN LOS SITIOS QUE SE REQUIERA. | C12: m2 | D12: 35 | E12: 399500 | F12: =E12*D12 -> 13982500
A13: 1.08 | B13: SUMINISTRO E INSTALACION SILLAS TANDEM 3 PUESTOS , ACABADO EN PLASTICO REFORZADO COLOR NEGRO EN ASIENTO Y ESPALDAR.ESTRUCTURA METALICA TUBO REDONDO MINIMO 22 MM CALIBRE 16CC O SIMILAR, PINTURA ELECTROSTATICA. | C13: un | D13: 2 | E13: 659900 | F13: =E13*D13 -> 1319800
A14: 1.09 | B14: SUMINISTRO DE TAPETE ATRAPA POLVO PARA INGRESO A LA OFICINA DE REGISTRO DE 1,70 X 0,90 NEGRO Y PERFIL DE REMATE, INLCUYE LOGO DE LA ENTIDAD | C14: un | D14: 1 | E14: 519450 | F14: =E14*D14 -> 519450
A15: 1.1 | B15: SUMINISTRO E INSTALACION DE PERSIANAS TIPO SHERT O SIMILAR | C15: m2 | D15: 50 | E15: 180300 | F15: =E15*D15 -> 9015000
A16: 1.11 | B16: MUEBLE AUXILIAR BAJO DE 0.90 X 0.50 X 0.70 m DE ALTO CON PUERTAS METALICAS CON PINTURA ELECTROSTATICA, ENTREPAÑO. INCLUYE SUPERFICIE ENCHAPADA EN FORMICA Y NIVELADORES. | C16: un | D16: 9 | E16: 548550 | F16: =E16*D16 -> 4936950
A17: 1.12 | B17: SUMINISTRO E INSTALACION MESA DE JUNTAS REDONDA EPESOR 30MM, DE 1,10 m DE DIAMETRO, ACABADO EN FÓRMICA A DOS CARAS Y BASE METÁLICA, REMATE PERIMETRAL CON CANTO EN CAUCHO U OTRO MATERIAL RESISTENTE A LOS IMPACTOS, EL ACABADO DEBE SER IGUAL AL DE LAS SUPERFICIES DE LOS PUESTOS DE TRABAJO, INCLUYE 4 SILLAS INTERLOCUTORAS | C17: un | D17: 1 | E17: 1224500 | F17: =E17*D17 -> 1224500
... A22: 1.17 | B22: ARCHIVADOR VERTICAL TRES GAVETAS: ELABORADO EN LÁMINA COLD ROLLED DE CALIBRE 24 RECUBIERTO CON PINTURA ELECTROSTÁTICA. CUENTA CON NIVELADORES EN NYLON INYECTADO, CORREDERAS INDEPENDIENTES FULL EXTENSION, SISTEMA DE SEGURIDAD TIPO TRAMPA Y CHAPA DE ACCIÓN CON LLAVE. ESTÁ PROVISTO DE TRES (3) GAVETAS EXTRAÍBLES Y SISTEMA ANTI-VUELCO DE SEGURIDAD QUE IMPIDE LA APERTURA DE UN CAJÓN SI OTRO ESTÁ ABIERTO. ALTURA: 105 CM ANCHO: 47 CM, FONDO: 60 CM | C22: un | D22: 10 | E22: 766250 | F22: =E22*D22 -> 7662500
A23: 2 | B23: OBRAS ADICIONALES | G23: =SUM(F24:F30) -> 11992259
A24: 2.01 | B24: DESMONTE, TRASLADO Y REUBICACIÓN DE DOCUMENTOS, INCLUYE SUMINISTRO DE CAJAS PARA SU MANIPULACION. EL VALOR UNITARIO SE ESTABLECE POR ESTANTE LLENO DE SEIS ESPACIOS UTILES | C24: un | D24: 56 | E24: 22000 | F24: =E24*D24 -> 1232000
A25: 2.02 | B25: DESMONTE DE DIVISION PISO TECHO, DIVISIONES A MEDIA ALTURA, MESON, DIVISIONES EN VIDRIO SOBRE MESON. INCLUYE RETIRO Y DISPISICIÓN FINAL. | C25: m2 | D25: 2.99 | E25: 19100 | F25: =E25*D25 -> 57109
A26: 2.03 | B26: DESMONTE DE PUESTOS DE TRABAJO, INCLUYE DIVISION EN DONDE EXISTA | C26: un | D26: 12 | E26: 29250 | F26: =E26*D26 -> 351000
A27: 2.04 | B27: ADECUACION DE MESON INCLUYE CORTE EN CONCRETO, RESANE DE PARED CON PINTURA, RETIRO Y DISPOSICION FINAL DE ESCOMBROS. | C27: un | D27: 4 | E27: 259375 | F27: =E27*D27 -> 1037500
A28: 2.05 | B28: DESMONTE Y REINSTALACION DE CANALETA DE RED REGULADA Y LOGICA | C28: ml | D28: 35 | E28: 24750 | F28: =E28*D28 -> 866250
A29: 2.06 | B29: TRASLADO DE PUNTO DE RED LOGICA Y REGULADA | C29: pto | D29: 12 | E29: 165500 | F29: =E29*D29 -> 1986000
A30: 2.07 | B30: MANTENIMIENTO MODULO GENERAL Y PUESTA EN FUNCIONAMIENTO DE ARCHIVO RODANTE, INCLUYE HERRAJES,ANCLAJES, TENSORES, CADENAS, CHAPAS, TORNILLERÍA Y DEMAS ELEMENTOS QUE GARANTICEN EL CORRECTO FUNCIONAMIENTO. | C30: un | D30: 56 | E30: 115400 | F30: =E30*D30 -> 6462400
B31: TOTAL COSTOS DIRECTOS | G31: =SUM(G5:G30) -> 121107942
B32: IVA | C32: % | D32: 0.19 | G32: =+G31*D32 -> 23010509
B33: COSTO TOTAL DE MUEBLES | G33: =SUM(G31:G32) -> 144118451

Sheet CHINACOTA MUEBLES DF
A1: PRESUPUESTO DE MUEBLES CHINACOTA ( NORTE DE SANTANDER)
A3: OFICINA DE REGISTRO DE INSTRUMENTOS PUBLICOS EN GENERAL / CHINACOTA
A4: ITEM | B4: DESCRIPCION | C4: UN | D4: CANT | E4: VR. UNITARIO | F4: VR. TOTAL | G4: VR. CAPITULO
A5: 1 | B5: MUEBLES | G5: =SUM(F6:F9) -> 31659600
A6: 1.01 | B6: MUEBLE DE ALMACENAMIENTO DE 2 MTS DE ALTO CON PUERTAS Y ENTREPAÑOS FABRICADO EN LAMINA DE ACERO COLD ROLLED ACABADO CON PINTURA ELECTROSTATICA | C6: un | D6: 2 | E6: 1255000 | F6: =D6*E6 -> 2510000
A7: 1.02 | B7: ESTANTE METÁLICO DE 2.00M ALTO POR 0.50M DE PROFUNDIDAD POR 0.90 M DE ANCHO, DE 5 ESPACIOS UTILES, PARALES EN CAL 16, ENTREPAÑOS EN CAL 20 REFORZADO PARA RESISTIR CADA UNO UN PESO DE 150 Kg | C7: un | D7: 6 | E7: 772700 | F7: =D7*E7 -> 4636200
A8: 1.03 | B8: SUMINISTRO E INSTALACION DE SISTEMA DE ARCHIVO RODANTE METÁLICO Y MECÁNICO FABRICADO EN LAMINA COLD ROLLED. CADA CUERPO CON MEDIDAS LIBRES DE 1,10 X 0,45 X 2,10-2,20 M, CON 6 ESPACIOS UTILES Y 5 ENTREPAÑOS DE 0,45 M DE FONDO LIBRES EN LÁMINA COLD ROLLED CALIBRE 22. CONSTA DE PARALES EN "L" FABRICADO EN LÁMINA COLD ROLLED CALIBRE 14 CON TROQUELADO DE UÑA SOBRE SÍ MISMO PARA AJUSTAR A UNA ALTURA MODULAR DE 31 CM ENTRE CADA ENTREPAÑOS. LAS UNIDADES DE CONSULTA INCLUYEN TENSORES GRADUABLES DIAGONALES LATERALES EN PLATINA DE 3/4" X 1/8" Y DIAGONALES POSTERIORES EN PLATINA DE 3/4" X 1/4" CON TEMPLETE DE 1/4", CON EL FIN DE BRINDARLE MAYOR ESTABILIDAD Y RIGIDEZ A LA ESTRUCTURA. CADA ENTREPAÑO CONTARÁ CON DOS REFUERZOS EN LÁMINA CALIBRE 16 PARA SOPORTAR UNA CARGA UNIFORMEMENTE DISTRIBUIDA DE 100 KG/M, ASÍ MISMO CONSTARÁ CON TAPA SUPERIOR E INFERIOR DEL MISMO CALIBRE Y REFORZADOS PARA SOPORTAR UNA CARGA DE 100 KG/M. ACABADO EN PINTURA ELECTROSTÁTICA CON HORNEADO DE ALTA RESISTENCIA, PANELERÍA CON VISOR IDENTIFICADOR, ACABADOS FRONTALES Y LATERALES EN LÁMINA COLD ROLLED, LOS CUALES DEBEN CONTAR CON LA TOLERANCIA NECESARIA PARA QUE LOS ESTANTES NO QUEDEN PEGADOS AL ESTAR CERRADOS, QUE GARANTICE UN PERFECTO FUNCIONAMIENTO DEL SISTEMA. DEBE CONTAR CON SISTEMA ANTIVUELCO QUE GARANTICE LA INTEGRIDAD DEL MISMO, INCLUYE ELEMENTOS METÁLICOS PARA QUE LAS CARPETAS NO SE CAIGAN HACIA LOS LADOS DE CADA UNO DE LOS ENTREPAÑOS QUE CONFORMAN EL SISTEMA DE ARCHIVO RODANTE, INCLUYE MANIJAS PARA MOVERLO | C8: un | D8: 26 | E8: 938400 | F8: =D8*E8 -> 24398400
A9: 1.04 | B9: SILLAS INTERLOCUTORAS | C9: un | D9: 1 | E9: 115000 | F9: =D9*E9 -> 115000
B10: TOTAL COSTOS DIRECTOS | G10: =SUM(G5:G9) -> 31659600
B11: IVA | C11: % | D11: 0.19 | G11: =+G10*D11 -> 6015324
B12: COSTO TOTAL DE MUEBLES | G12: =SUM(G10:G11) -> 37674924

Sheet SALAZAR MUEBLES DF
A1: PRESUPUESTO DE MUEBLES SALAZAR ( NORTE SANTANDER)
A3: OFICINA DE REGISTRO DE INSTRUMENTOS PUBLICOS EN GENERAL / SALAZAR
A4: ITEM | B4: DESCRIPCION | C4: UN | D4: CANT | E4: VR. UNITARIO | F4: VR. TOTAL | G4: VR. CAPITULO
A5: 1 | B5: MUEBLES | G5: =SUM(F6:F21) -> 48843891
A6: 1.01 | B6: Desmonte de puesto de trabajo | C6: un | D6: 2 | E6: 29250 | F6: =D6*E6 -> 58500
A7: 1.02 | B7: DESMONTE Y REINSTALACIÓN DE ESTANTE DE ARCHIVO RODANTE O FIJO, INCLUYE MANTENIMIENTO, HERRAJES,ANCLAJES, TENSORES,TORNILLERÍA Y DEMAS ELEMENTOS QUE GARANTICEN EL CORRECTO FUNCIONAMIENTO. | C7: un | D7: 12 | E7: 49150 | F7: =D7*E7 -> 589800
A8: 1.03 | B8: SUMINISTRO E INSTALACION DE PUESTO DE TRABAJO PARA DIRECTOR O REGISTRADOR, EL PUESTO TENDRA UNA FORMA DE "U", CON TRES SUPERFICIES INDEPENDENTES ESPESOR 30MM, CON ACABADO EN FORMICA A DOS CARAS, CON DIMENSIONES DE 1,80M X 0.70M; DE 1,00 X 0.60 M Y UNA DETRÁS DE 1.80 X 0.60 M, CADA UNA CON BASES METALICAS INDEPENDIENTES, CON BORDES O CANTOS PROTEGIDOS CON BANDAS DE CAUCHO O PVC PLANAS O REBORDEADAS,CAJONERA METALICA CON DOS CAJONES ESTANDAR Y UNO PARA ARCHIVO DE CARPETAS CON CERRADURA, 2 SILLAS INTERLOCUTORAS, BASURERA METALICA, PAPELERA METALICA, SILLA GIRATORIA ERGONÓMICA, CON APOYO LUMBAR AJUSTABLE,CABECERO, APOYA BRAZOS NEUMÁTICA AJUSTABLES EN ALTURA Y SISTEMA ANTIVUELCO TIPO GERENTE , DESCANSA PIES. | C8: un | D8: 1 | E8: 2423925 | F8: =D8*E8 -> 2423925
A9: 1.04 | B9: SUMINISTRO E INSTALACIÓN DE PUESTOS DE TRABAJO PARA FUNCIONARIOS DE 1.50 X 1.50 EN L, SUPERFICIES CON ACABADO FORMICA A DOS CARAS, EL ANCHO DE LA SUPERFICIE SERA DE 60 CM , EL CHAFLAN QUE CONFORMA LA PARTE INTERNA DE LAS SUPERFICIES DEBERÁ IR CURVO, BORDES CANTOS PROTEGIDOS CON BANDAS DE CAUCHO O PVC PLANAS O REDORDEADAS. BASES METALICAS INDEPENDIENTES CON NIVELADORES, CAJONERA METALICA DE DOS CAJONES Y UNO DE ARCHIVADO PROVISTA DE CHAPA. INCLUYE SILLA GIRATORIA ERGONÓMICA, CON APOYO LUMBAR AJUSTABLE, APOYA BRAZOS NEUMÁTICA AJUSTABLES EN ALTURA Y SISTEMA ANTIVUELCO, BASURERA Y DESCANZAPIES. | C9: un | D9: 3 | E9: 1562950 | F9: =D9*E9 -> 4688850
A10: 1.05 | B10: DIVISION EN VIDRIO LAMINADO 3+3 SOBRE MESON DE ATENCION AL PUBLICO DE 1.10 M DE ALTURA Y ANCHO 1.50 M.,INCLUYE PASAVOZ, PASADOCUMENTOS, MONTANTE DE 20 CENTIMETROS TERMINADO EN FORMICA A DOS CARAS Y ESTRUCTURA (DISEÑO SUMINISTRADO POR LA ENTIDAD) | C10: m2 | D10: 8.8 | E10: 420125 | F10: =D10*E10 -> 3697100
A11: 1.06 | B11: SUMINISTRO E INSTALACION DE MESON TIPO MOSTRADOR DE ATENCION AL PUBLICO DE ALTURA ENTRE 0.90 A 1.10 m, ANCHO 1,50 m. INCLUYE MESON SUPERIOR DE 30 cm POSFORMADO EN FORMICA ESPERSOR 30MM A DOS CARAS Y FRONTAL SEGÚN DISEÑO SUMINISTRADO POR LA ENTIDAD. | C11: un | D11: 2 | E11: 677058 | F11: =D11*E11 -> 1354116
A12: 1.07 | B12: SUMINISTRO E INSTALACION DE SUPERFICIE DE TRABAJO ESPESOR 30MM CON ACABADO EN FÓRMICA A DOS CARAS Y BASES METÁLICAS DE 1,50 m DE LARGO POR 0,60 m DE ANCHO, REMATE PERIMETRAL CON CANTO EN CAUCHO U OTRO MATERIAL RESISTENTE A LOS IMPACTOS, EL ACABADO DEBE SER IGUAL AL DE LAS SUPERFICIES DE LOS PUESTOS DE TRABAJO. | C12: un | D12: 2 | E12: 478500 | F12: =D12*E12 -> 957000
A13: 1.08 | B13: SUMINISTRO E INSTALACION DE SUPERFICIE DE TRABAJO ESPESOR 30MM, CON ACABADO EN FÓRMICA A DOS CARAS Y BASES METÁLICAS DE 0,8 m DE LARGO POR 0,60 m DE ANCHO, CON ENTREPAÑO. REMATE PERIMETRAL CON CANTO EN CAUCHO U OTRO MATERIAL RESISTENTE A LOS IMPACTOS, EL ACABADO DEBE SER IGUAL AL DE LAS SUPERFICIES DE LOS PUESTOS DE TRABAJO | C13: un | D13: 2 | E13: 399150 | F13: =D13*E13 -> 798300
A14: 1.09 | B14: SUMINISTRO E INSTALACIONES DE DIVISIONES MODULARES PISO TECHO, ALTO 2,20 m, ESTRUCTURA EN LÁMNA, ACABADO PINTURA ELECTROSTATICA, PANELES EN MADERA CON ACABADO EN FÓRMICA, INCLUYE VIDRIO CON SANBLASTING , MONTANTE DE 0,20 MTS Y EMPAQUES, EL MATERIAL Y ACABADO SERÁ EL UTILIZADO INSTITUCIONALMENTE POR LA ENTIDAD. INCLUYE PUERTAS EN VIDRIO DE 6 MM CON ESTRUCTURA METALICA O ALUMINIO, CERRADURA, BISAGRAS, EN LOS SITIOS QUE SE REQUIERA. | C14: m2 | D14: 7.7 | E14: 399500 | F14: =D14*E14 -> 3076150
A15: 1.1 | B15: SUMINISTRO E INSTALACION DE PERSIANAS TIPO FLEXALUM O SIMILAR PARA VENTANAS. | C15: m2 | D15: 5 | E15: 264750 | F15: =D15*E15 -> 1323750
A16: 1.11 | B16: CAJONERA METALICA DE DOS CAJONES Y UNO DE ARCHIVADO PROVISTA DE CHAPA CON SISITEMA DETRAMPA EN EL CAJON PRINCIPAL PARA EL BLOQUEO DEL RESTO DE LOS CAJONES. | C16: un | D16: 4 | E16: 244250 | F16: =D16*E16 -> 977000
A17: 1.12 | B17: MUEBLE DE ALMACENAMIENTO DE 2 MTS DE ALTO CON PUERTAS Y ENTREPAÑOS FABRICADO EN LAMINA DE ACERO COLD ROLLED ACABADO CON PINTURA ELECTROSTATICA | C17: un | D17: 2 | E17: 1255000 | F17: =D17*E17 -> 2510000
... A21: 1.16 | B21: TRASLADO DE PUNTO DE RED LOGICA Y REGULADA | C21: un | D21: 4 | E21: 165500 | F21: =D21*E21 -> 662000
B22: TOTAL COSTOS DIRECTOS | G22: =SUM(G5:G21) -> 48843891
B23: IVA | C23: % | D23: 0.19 | G23: =+G22*D23 -> 9280339
B24: COSTO TOTAL DE MUEBLES | G24: =SUM(G22:G23) -> 58124230

Sheet CONCEPCION MUEBLES 
A1: LICITACIÓN PÚBLICA No.
A3: OFICINA DE REGISTRO DE INSTRUMENTOS PUBLICOS DE CONCEPCION-SANTANDER
A4: ITEM | B4: DESCRIPCION | C4: UN | D4: CANT | E4: VR. UNITARIO | F4: VR. TOTAL | G4: VR. CAPITULO
A5: 1 | B5: MUEBLES | G5: =SUM(F6:F15) -> 32930378
A6: 1.01 | B6: SUMINISTRO E INSTALACION DE PUESTO DE TRABAJO PARA DIRECTOR O REGISTRADOR, EL PUESTO TENDRA UNA FORMA DE "U", CON TRES SUPERFICIES INDEPENDENTES ESPESOR 30MM, CON ACABADO EN FORMICA A DOS CARAS, CON DIMENSIONES DE 1,80M X 0.70M; DE 1,00 X 0.60 M Y UNA DETRÁS DE 1.80 X 0.60 M, CADA UNA CON BASES METALICAS INDEPENDIENTES, CON BORDES O CANTOS PROTEGIDOS CON BANDAS DE CAUCHO O PVC PLANAS O REBORDEADAS,CAJONERA METALICA CON DOS CAJONES ESTANDAR Y UNO PARA ARCHIVO DE CARPETAS CON CERRADURA, 2 SILLAS INTERLOCUTORAS, BASURERA METALICA, PAPELERA METALICA, SILLA GIRATORIA ERGONÓMICA, CON APOYO LUMBAR AJUSTABLE,CABECERO, APOYA BRAZOS NEUMÁTICA AJUSTABLES EN ALTURA Y SISTEMA ANTIVUELCO TIPO GERENTE , DESCANSA PIES. | C6: un | D6: 1 | E6: 2423925 | F6: =D6*E6 -> 2423925
A7: 1.02 | B7: SUMINISTRO E INSTALACIÓN DE PUESTOS DE TRABAJO PARA FUNCIONARIOS DE 1.50 X 1.50 EN L, SUPERFICIES ESPESOR 30 MM, CON ACABADO FORMICA A DOS CARAS, EL ANCHO DE LA SUPERFICIE SERA DE 60 CM , EL CHAFLAN QUE CONFORMA LA PARTE INTERNA DE LAS SUPERFICIES DEBERÁ IR CURVO, BORDES CANTOS PROTEGIDOS CON BANDAS DE CAUCHO O PVC PLANAS O REDORDEADAS. BASES METALICAS INDEPENDIENTES CON NIVELADORES, CAJONERA METALICA DE DOS CAJONES Y UNO DE ARCHIVADO PROVISTA DE CHAPA. INCLUYE SILLA GIRATORIA ERGONÓMICA, CON APOYO LUMBAR AJUSTABLE, APOYA BRAZOS NEUMÁTICA AJUSTABLES EN ALTURA Y SISTEMA ANTIVUELCO, BASURERA, PAPELERA Y DESCANZAPIES. | C7: un | D7: 4 | E7: 1562950 | F7: =D7*E7 -> 6251800
A8: 1.03 | B8: DIVISION EN VIDRIO LAMINADO 3+3 SOBRE MESON DE ATENCION AL PUBLICO DE 1.10 M DE ALTURA Y ANCHO 1.50 M.,INCLUYE PASAVOZ, PASADOCUMENTOS, MONTANTE DE 20 CENTIMETROS TERMINADO EN FORMICA A DOS CARAS Y ESTRUCTURA (DISEÑO SUMINISTRADO POR LA ENTIDAD) | C8: m2 | D8: 8.5 | E8: 420125 | F8: =D8*E8 -> 3571063
A9: 1.04 | B9: SUMINISTRO E INSTALACIONES DE DIVISIONES MODULARES PISO TECHO, ALTO 2,20 m, ESTRUCTURA EN LÁMNA, ACABADO PINTURA ELECTROSTATICA, PANELES EN MADERA CON ACABADO EN FÓRMICA, INCLUYE VIDRIO CON SANBLASTING , MONTANTE DE 0,20 MTS Y EMPAQUES, EL MATERIAL Y ACABADO SERÁ EL UTILIZADO INSTITUCIONALMENTE POR LA ENTIDAD. INCLUYE PUERTAS EN VIDRIO DE 6 MM CON ESTRUCTURA METALICA O ALUMINIO, CERRADURA, BISAGRAS, EN LOS SITIOS QUE SE REQUIERA. | C9: m2 | D9: 15 | E9: 399500 | F9: =D9*E9 -> 5992500
A10: 1.05 | B10: SUMINISTRO E INSTALACION SILLAS TANDEM 3 PUESTOS , ACABADO EN PLASTICO REFORZADO COLOR NEGRO EN ASIENTO Y ESPALDAR.ESTRUCTURA METALICA TUBO REDONDO MINIMO 22 MM CALIBRE 16CC O SIMILAR, PINTURA ELECTROSTATICA. | C10: un | D10: 3 | E10: 659900 | F10: =D10*E10 -> 1979700
A11: 1.06 | B11: SUMINISTRO E INSTALACION DE PERSIANAS (SCREEN O BLACKOUT) | C11: m2 | D11: 22.68 | E11: 181750 | F11: =D11*E11 -> 4122090
A12: 1.07 | B12: MUEBLE AUXILIAR BAJO DE 0.90 X 0.50 X 0.70 m DE ALTO CON PUERTAS METALICAS CON PINTURA ELECTROSTATICA, ENTREPAÑO. INCLUYE SUPERFICIE ENCHAPADA EN FORMICA Y NIVELADORES. | C12: un | D12: 4 | E12: 548550 | F12: =D12*E12 -> 2194200
A13: 1.08 | B13: SUMINISTRO E INSTALACION MESA DE JUNTAS REDONDA EPESOR 30MM, DE 1,10 m DE DIAMETRO, ACABADO EN FÓRMICA A DOS CARAS Y BASE METÁLICA, REMATE PERIMETRAL CON CANTO EN CAUCHO U OTRO MATERIAL RESISTENTE A LOS IMPACTOS, EL ACABADO DEBE SER IGUAL AL DE LAS SUPERFICIES DE LOS PUESTOS DE TRABAJO, INCLUYE 4 SILLAS INTERLOCUTORAS | C13: un | D13: 1 | E13: 1224500 | F13: =D13*E13 -> 1224500
A14: 1.09 | B14: DIVISION A MEDIA ALTURA ENTRE 1,05 Y 1.10 m, ACABADO EN FORMICA A DOS CARAS Y VIDRIO TRANSPARENTE DE 5 mm SAMBLASTIADO, (DISEÑO SUMINISTRADO POR LA ENTIDAD) ESTRUCTURA EN ALUMINIO O METALICA CON PINTURA ELECTROESTATICA, INCLUYE NIVELADORES.. | C14: m2 | D14: 6.6 | E14: 342000 | F14: =D14*E14 -> 2257200
A15: 1.1 | B15: SUMINISTRO E INSTALACIÓN DE BIBLIOTECA EN FORMICA ESPESOR 19MM AMBAS CARAS PARA OFICINA DOS MUEBLES INDEPENDIENTES CON DIMENSIONES: MUEBLE BAJO (1,20 DE LARGO, 0,52 DE ANCHO Y 0.94 DE ALTO INCLUIDO BASE CON ENTREPAÑO Y CUATRO CAJONES, CON ESPALDAR) MUEBLE ALTO (1,20 DE LARGO, 1,08 DE ALTO ,0.30 DE ANCHO CON ENTREPAÑOS VERTICALES Y HORIZONTALES, CON ESPALDAR). C | C15: un | D15: 1 | E15: 2913400 | F15: =D15*E15 -> 2913400
A16: 2 | B16: ARCHIVO | G16: =SUM(F17:F17) -> 5408900
A17: 2.01 | B17: ESTANTE METÁLICO DE 2.00M ALTO POR 0.50M DE PROFUNDIDAD POR 0.90 M DE ANCHO, DE 5 ESPACIOS UTILES, PARALES EN CAL 16, ENTREPAÑOS EN CAL 20 REFORZADO PARA RESISTIR CADA UNO UN PESO DE 150 Kg | C17: un | D17: 7 | E17: 772700 | F17: =+E17*D17 -> 5408900
A18: 3 | B18: OTROS | G18: =SUM(F19:F19) -> 162159
A19: 3.01 | B19: DESMONTE DE DIVISION PISO TECHO, DIVISIONES A MEDIA ALTURA, MESON, DIVISIONES EN VIDRIO SOBRE MESON. INCLUYE RETIRO Y DISPISICIÓN FINAL. | C19: m2 | D19: 8.49 | E19: 19100 | F19: =+E19*D19 -> 162159
B20: TOTAL COSTOS DIRECTOS | G20: =SUM(G5:G19) -> 38501437
B21: IVA | C21: % | D21: 0.19 | G21: =+G20*D21 -> 7315273
B22: COSTO TOTAL DE MUEBLES | G22: =SUM(G20:G21) -> 45816710

Sheet SOCORRO MUEBLES DF 
A1: PRESUPUESTO DE MUEBLES SOCORRO ( SANTANDER)
A3: OFICINA DE REGISTRO DE INSTRUMENTOS PUBLICOS DE SOCORRO SANTANDER
A4: ITEM | B4: DESCRIPCION | C4: UN | D4: CANT | E4: VR. UNITARIO | F4: VR. TOTAL | G4: VR. CAPITULO
A5: 1 | B5: MUEBLES | G5: =SUM(F6:F20) -> 78893272
A6: 1 | B6: Desmonte de divisiones modulares piso techo o a media altura | C6: m2 | D6: 30 | E6: 19100 | F6: =D6*E6 -> 573000
A7: 1.02 | B7: SUMINISTRO E INSTALACION DE PUESTO DE TRABAJO PARA DIRECTOR O REGISTRADOR, EL PUESTO TENDRA UNA FORMA DE "U", CON TRES SUPERFICIES INDEPENDENTES ESPESOR 30MM, CON ACABADO EN FORMICA A DOS CARAS, CON DIMENSIONES DE 1,80M X 0.70M; DE 1,00 X 0.60 M Y UNA DETRÁS DE 1.80 X 0.60 M, CADA UNA CON BASES METALICAS INDEPENDIENTES, CON BORDES O CANTOS PROTEGIDOS CON BANDAS DE CAUCHO O PVC PLANAS O REBORDEADAS,CAJONERA METALICA CON DOS CAJONES ESTANDAR Y UNO PARA ARCHIVO DE CARPETAS CON CERRADURA, 2 SILLAS INTERLOCUTORAS, BASURERA METALICA, PAPELERA METALICA, SILLA GIRATORIA ERGONÓMICA, CON APOYO LUMBAR AJUSTABLE,CABECERO, APOYA BRAZOS NEUMÁTICA AJUSTABLES EN ALTURA Y SISTEMA ANTIVUELCO TIPO GERENTE , DESCANSA PIES. | C7: un | D7: 1 | E7: 2423925 | F7: =D7*E7 -> 2423925
A8: 1.03 | B8: SUMINISTRO E INSTALACIÓN DE PUESTOS DE TRABAJO PARA FUNCIONARIOS DE 1.50 X 1.50 EN L, SUPERFICIES CON ACABADO FORMICA A DOS CARAS, EL ANCHO DE LA SUPERFICIE SERA DE 60 CM , EL CHAFLAN QUE CONFORMA LA PARTE INTERNA DE LAS SUPERFICIES DEBERÁ IR CURVO, BORDES CANTOS PROTEGIDOS CON BANDAS DE CAUCHO O PVC PLANAS O REDORDEADAS. BASES METALICAS INDEPENDIENTES CON NIVELADORES, CAJONERA METALICA DE DOS CAJONES Y UNO DE ARCHIVADO PROVISTA DE CHAPA. INCLUYE SILLA GIRATORIA ERGONÓMICA, CON APOYO LUMBAR AJUSTABLE, APOYA BRAZOS NEUMÁTICA AJUSTABLES EN ALTURA Y SISTEMA ANTIVUELCO, BASURERA Y DESCANZAPIES. | C8: un | D8: 8 | E8: 1562950 | F8: =D8*E8 -> 12503600
A9: 1.04 | B9: DIVISION EN VIDRIO LAMINADO 3+3 SOBRE MESON DE ATENCION AL PUBLICO DE 1.10 M DE ALTURA Y ANCHO 1.50 M.,INCLUYE PASAVOZ, PASADOCUMENTOS, MONTANTE DE 20 CENTIMETROS TERMINADO EN FORMICA A DOS CARAS Y ESTRUCTURA (DISEÑO SUMINISTRADO POR LA ENTIDAD) | C9: m2 | D9: 5 | E9: 420125 | F9: =D9*E9 -> 2100625
A10: 1.05 | B10: SUMINISTRO E INSTALACION DE MESON TIPO MOSTRADOR DE ATENCION AL PUBLICO DE ALTURA ENTRE 0.90 A 1.10 m, ANCHO 1,50 m. INCLUYE MESON SUPERIOR DE 30 cm POSFORMADO EN FORMICA ESPERSOR 30MM A DOS CARAS Y FRONTAL SEGÚN DISEÑO SUMINISTRADO POR LA ENTIDAD. | C10: un | D10: 3 | E10: 677058 | F10: =D10*E10 -> 2031174
A11: 1.05 | B11: SUMINISTRO E INSTALACION DE SUPERFICIE DE TRABAJO ESPESOR 30MM CON ACABADO EN FÓRMICA A DOS CARAS Y BASES METÁLICAS DE 1,50 m DE LARGO POR 0,60 m DE ANCHO, REMATE PERIMETRAL CON CANTO EN CAUCHO U OTRO MATERIAL RESISTENTE A LOS IMPACTOS, EL ACABADO DEBE SER IGUAL AL DE LAS SUPERFICIES DE LOS PUESTOS DE TRABAJO. | C11: un | D11: 1 | E11: 478500 | F11: =D11*E11 -> 478500
A12: 1.06 | B12: SUMINISTRO E INSTALACIONES DE DIVISIONES MODULARES PISO TECHO, ALTO 2,20 m, ESTRUCTURA EN LÁMNA, ACABADO PINTURA ELECTROSTATICA, PANELES EN MADERA CON ACABADO EN FÓRMICA, INCLUYE VIDRIO CON SANBLASTING , MONTANTE DE 0,20 MTS Y EMPAQUES, EL MATERIAL Y ACABADO SERÁ EL UTILIZADO INSTITUCIONALMENTE POR LA ENTIDAD. INCLUYE PUERTAS EN VIDRIO DE 6 MM CON ESTRUCTURA METALICA O ALUMINIO, CERRADURA, BISAGRAS, EN LOS SITIOS QUE SE REQUIERA. | C12: m2 | D12: 28 | E12: 399500 | F12: =D12*E12 -> 11186000
A13: 1.07 | B13: SUMINISTRO E INSTALACION DE PERSIANAS TIPO FLEXALUM O SIMILAR PARA VENTANAS. | C13: m2 | D13: 34 | E13: 264750 | F13: =D13*E13 -> 9001500
A14: 1.08 | B14: CAJONERA METALICA DE DOS CAJONES Y UNO DE ARCHIVADO PROVISTA DE CHAPA CON SISITEMA DETRAMPA EN EL CAJON PRINCIPAL PARA EL BLOQUEO DEL RESTO DE LOS CAJONES. | C14: un | D14: 9 | E14: 244250 | F14: =D14*E14 -> 2198250
A15: 1.09 | B15: MUEBLE DE ALMACENAMIENTO DE 2 MTS DE ALTO CON PUERTAS Y ENTREPAÑOS FABRICADO EN LAMINA DE ACERO COLD ROLLED ACABADO CON PINTURA ELECTROSTATICA | C15: un | D15: 1 | E15: 1255000 | F15: =D15*E15 -> 1255000
A16: 1.1 | B16: SUMINISTRO E INSTALACION DE SISTEMA DE ARCHIVO RODANTE METÁLICO Y MECÁNICO FABRICADO EN LAMINA COLD ROLLED. CADA CUERPO CON MEDIDAS LIBRES DE 1,10 X 0,45 X 2,10-2,20 M, CON 6 ESPACIOS UTILES Y 5 ENTREPAÑOS DE 0,45 M DE FONDO LIBRES EN LÁMINA COLD ROLLED CALIBRE 22. CONSTA DE PARALES EN "L" FABRICADO EN LÁMINA COLD ROLLED CALIBRE 14 CON TROQUELADO DE UÑA SOBRE SÍ MISMO PARA AJUSTAR A UNA ALTURA MODULAR DE 31 CM ENTRE CADA ENTREPAÑOS. LAS UNIDADES DE CONSULTA INCLUYEN TENSORES GRADUABLES DIAGONALES LATERALES EN PLATINA DE 3/4" X 1/8" Y DIAGONALES POSTERIORES EN PLATINA DE 3/4" X 1/4" CON TEMPLETE DE 1/4", CON EL FIN DE BRINDARLE MAYOR ESTABILIDAD Y RIGIDEZ A LA ESTRUCTURA. CADA ENTREPAÑO CONTARÁ CON DOS REFUERZOS EN LÁMINA CALIBRE 16 PARA SOPORTAR UNA CARGA UNIFORMEMENTE DISTRIBUIDA DE 100 KG/M, ASÍ MISMO CONSTARÁ CON TAPA SUPERIOR E INFERIOR DEL MISMO CALIBRE Y REFORZADOS PARA SOPORTAR UNA CARGA DE 100 KG/M. ACABADO EN PINTURA ELECTROSTÁTICA CON HORNEADO DE ALTA RESISTENCIA, PANELERÍA CON VISOR IDENTIFICADOR, ACABADOS FRONTALES Y LATERALES EN LÁMINA COLD ROLLED, LOS CUALES DEBEN CONTAR CON LA TOLERANCIA NECESARIA PARA QUE LOS ESTANTES NO QUEDEN PEGADOS AL ESTAR CERRADOS, QUE GARANTICE UN PERFECTO FUNCIONAMIENTO DEL SISTEMA. DEBE CONTAR CON SISTEMA ANTIVUELCO QUE GARANTICE LA INTEGRIDAD DEL MISMO, INCLUYE ELEMENTOS METÁLICOS PARA QUE LAS CARPETAS NO SE CAIGAN HACIA LOS LADOS DE CADA UNO DE LOS ENTREPAÑOS QUE CONFORMAN EL SISTEMA DE ARCHIVO RODANTE, INCLUYE MANIJAS PARA MOVERLO | C16: un | D16: 36 | E16: 938400 | F16: =D16*E16 -> 33782400
A17: 1.3 | B17: SILLAS INTERLOCUTORAS | C17: un | D17: 1 | E17: 115000 | F17: =D17*E17 -> 115000
A18: 1.11 | B18: DESMONTE DE PUESTOS DE TRABAJO, INCLUYE DIVISION EN DONDE EXISTA | C18: un | D18: 7 | E18: 29250 | F18: =D18*E18 -> 204750
... A20: 1.13 | B20: Instalación de divisiones modulares piso techo o a media altura | C20: m2 | D20: 29.99 | E20: 23191 | F20: =D20*E20 -> 695498
B21: TOTAL COSTOS DIRECTOS | G21: =SUM(G5:G20) -> 78893272
B22: IVA | C22: % | D22: 0.19 | G22: =+G21*D22 -> 14989722
B23: COSTO TOTAL DE MUEBLES | G23: =SUM(G21:G22) -> 93882994

Sheet BARRANCABERMEJA MUEBLES 
A1: LICITACIÓN PÚBLICA No.
A3: OFICINA DE REGISTRO DE INSTRUMENTOS PUBLICOS DE BARRANCABERMEJA - SANTANDER
A4: ITEM | B4: DESCRIPCION | C4: UN | D4: CANT | E4: VR. UNITARIO | F4: VR. TOTAL | G4: VR. CAPITULO
A5: 1 | B5: MUEBLES | G5: =SUM(F6:F14) -> 28055550
A6: 1.01 | B6: SUMINISTRO E INSTALACIÓN DE PUESTOS DE TRABAJO PARA FUNCIONARIOS DE 1.50 X 1.50 EN L, SUPERFICIES ESPESOR 30 MM, CON ACABADO FORMICA A DOS CARAS, EL ANCHO DE LA SUPERFICIE SERA DE 60 CM , EL CHAFLAN QUE CONFORMA LA PARTE INTERNA DE LAS SUPERFICIES DEBERÁ IR CURVO, BORDES CANTOS PROTEGIDOS CON BANDAS DE CAUCHO O PVC PLANAS O REDORDEADAS. BASES METALICAS INDEPENDIENTES CON NIVELADORES, CAJONERA METALICA DE DOS CAJONES Y UNO DE ARCHIVADO PROVISTA DE CHAPA. INCLUYE SILLA GIRATORIA ERGONÓMICA, CON APOYO LUMBAR AJUSTABLE, APOYA BRAZOS NEUMÁTICA AJUSTABLES EN ALTURA Y SISTEMA ANTIVUELCO, BASURERA, PAPELERA Y DESCANZAPIES. | C6: un | D6: 3 | E6: 1562950 | F6: =D6*E6 -> 4688850
A7: 1.02 | B7: SUMINISTRO E INSTALACIONES DE DIVISIONES MODULARES PISO TECHO, ALTO 2,20 m, ESTRUCTURA EN LÁMNA, ACABADO PINTURA ELECTROSTATICA, PANELES EN MADERA CON ACABADO EN FÓRMICA, INCLUYE VIDRIO CON SANBLASTING , MONTANTE DE 0,20 MTS Y EMPAQUES, EL MATERIAL Y ACABADO SERÁ EL UTILIZADO INSTITUCIONALMENTE POR LA ENTIDAD. INCLUYE PUERTAS EN VIDRIO DE 6 MM CON ESTRUCTURA METALICA O ALUMINIO, CERRADURA, BISAGRAS, EN LOS SITIOS QUE SE REQUIERA. | C7: m2 | D7: 8.36 | E7: 320000 | F7: =D7*E7 -> 2675200
A8: 1.03 | B8: DIVISION A MEDIA ALTURA ENTRE 1,05 Y 1.10 m, ACABADO EN FORMICA A DOS CARAS Y VIDRIO TRANSPARENTE DE 5 mm SAMBLASTIADO, (DISEÑO SUMINISTRADO POR LA ENTIDAD) ESTRUCTURA EN ALUMINIO O METALICA CON PINTURA ELECTROESTATICA, INCLUYE NIVELADORES. | C8: m2 | D8: 6.6 | E8: 342000 | F8: =D8*E8 -> 2257200
A9: 1.04 | B9: SUMINISTRO E INSTALACION SILLAS TANDEM 3 PUESTOS , ACABADO EN PLASTICO REFORZADO COLOR NEGRO EN ASIENTO Y ESPALDAR.ESTRUCTURA METALICA TUBO REDONDO MINIMO 22 MM CALIBRE 16CC O SIMILAR, PINTURA ELECTROSTATICA. | C9: un | D9: 1 | E9: 659900 | F9: =D9*E9 -> 659900
A10: 1.05 | B10: SUMINISTRO E INSTALACION DE PERSIANAS (SCREEN O BLACKOUT) | C10: m2 | D10: 44 | E10: 181750 | F10: =D10*E10 -> 7997000
A11: 1.06 | B11: SUMINISTRO E INSTALACIÓN DE BIBLIOTECA EN FORMICA ESPESOR 19MM AMBAS CARAS PARA OFICINA DOS MUEBLES INDEPENDIENTES CON DIMENSIONES: MUEBLE BAJO (1,20 DE LARGO, 0,52 DE ANCHO Y 0.94 DE ALTO INCLUIDO BASE CON ENTREPAÑO Y CUATRO CAJONES, CON ESPALDAR) MUEBLE ALTO (1,20 DE LARGO, 1,08 DE ALTO ,0.30 DE ANCHO CON ENTREPAÑOS VERTICALES Y HORIZONTALES, CON ESPALDAR). C | C11: un | D11: 1 | E11: 2913400 | F11: =D11*E11 -> 2913400
A12: 1.07 | B12: SILLA GIRATORIA ERGONÓMICA, CON APOYO LUMBAR AJUSTABLE, APOYA BRAZOS NEUMÁTICA AJUSTABLES EN ALTURA Y SISTEMA ANTIVUELCO. | C12: un | D12: 10 | E12: 618300 | F12: =D12*E12 -> 6183000
A13: 1.08 | B13: SUMISNITRO E INSTALACION DE PELICULA POLARIZADA EN COLOR NEGRO MATE | C13: m2 | D13: 6 | E13: 40000 | F13: =D13*E13 -> 240000
B14: CARTELERA EN CORCHO MADERA DE 1,8 X 1 | C14: m2 | D14: 1.8 | E14: 245000 | F14: =D14*E14 -> 441000
A15: 2 | B15: ARCHIVO | G15: =SUM(F16:F16) -> 16999400
A16: 2.01 | B16: ESTANTE METÁLICO DE 2.00M ALTO POR 0.50M DE PROFUNDIDAD POR 0.90 M DE ANCHO, DE 5 ESPACIOS UTILES, PARALES EN CAL 16, ENTREPAÑOS EN CAL 20 REFORZADO PARA RESISTIR CADA UNO UN PESO DE 150 Kg | C16: un | D16: 22 | E16: 772700 | F16: =+E16*D16 -> 16999400
A17: 3 | B17: OTROS | G17: =SUM(F18:F19) -> 1524631
A18: 3.01 | B18: PLACA DE SEÑALIZACION DE 21 X 30 CM | C18: un | D18: 20 | E18: 71351 | F18: =+E18*D18 -> 1427020
A19: 3.02 | B19: PLACA DE SEÑALIZACION BRAILE | C19: un | D19: 1 | E19: 97611 | F19: =+E19*D19 -> 97611
B20: TOTAL COSTOS DIRECTOS | G20: =SUM(G5:G19) -> 46579581
B21: IVA | C21: % | D21: 0.19 | G21: =+G20*D21 -> 8850120
B22: COSTO TOTAL DE MUEBLES | G22: =SUM(G20:G21) -> 55429701

Sheet VELEZ M
A1: LICITACIÓN PÚBLICA No.
A3: OFICINA DE REGISTRO DE INSTRUMENTOS PUBLICOS DE VELEZ - SANTANDER
A4: ITEM | B4: DESCRIPCION | C4: UN | D4: CANT | E4: VR. UNITARIO | F4: VR. TOTAL | G4: V. CAPITULO
A5: 1 | B5: MUEBLES | G5: =SUM(F6:F10) -> 50464450
A6: 1.01 | B6: SUMINISTRO E INSTALACIÓN DE PUESTOS DE TRABAJO PARA FUNCIONARIOS DE 1.50 X 1.50 EN L, SUPERFICIES ESPESOR 30 MM, CON ACABADO FORMICA A DOS CARAS, EL ANCHO DE LA SUPERFICIE SERA DE 60 CM , EL CHAFLAN QUE CONFORMA LA PARTE INTERNA DE LAS SUPERFICIES DEBERÁ IR CURVO, BORDES CANTOS PROTEGIDOS CON BANDAS DE CAUCHO O PVC PLANAS O REDORDEADAS. BASES METALICAS INDEPENDIENTES CON NIVELADORES, CAJONERA METALICA DE DOS CAJONES Y UNO DE ARCHIVADO PROVISTA DE CHAPA. INCLUYE SILLA GIRATORIA ERGONÓMICA, CON APOYO LUMBAR AJUSTABLE, APOYA BRAZOS NEUMÁTICA AJUSTABLES EN ALTURA Y SISTEMA ANTIVUELCO, BASURERA, PAPELERA Y DESCANSAPIES. | C6: un | D6: 5 | E6: 1562950 | F6: =+D6*E6 -> 7814750
A7: 1.02 | B7: SUMINISTRO E INSTALACION DE SUPERFICIE DE TRABAJO ESPESOR 30MM CON ACABADO EN FÓRMICA A DOS CARAS Y BASES METÁLICAS DE 1,50 m DE LARGO POR 0,60 m DE ANCHO, REMATE PERIMETRAL CON CANTO EN CAUCHO U OTRO MATERIAL RESISTENTE A LOS IMPACTOS, EL ACABADO DEBE SER IGUAL AL DE LAS SUPERFICIES DE LOS PUESTOS DE TRABAJO, INCLUYE SILLA GIRATORIA ERGONÓMICA, CON APOYO LUMBAR AJUSTABLE, APOYA BRAZOS NEUMÁTICA AJUSTABLES EN ALTURA Y SISTEMA ANTIVUELCO, BASES METALICAS INDEPENDIENTES CON NIVELADORES, CAJONERA METALICA DE DOS CAJONES Y UNO DE ARCHIVADO PROVISTA DE CHAPA, DESCANSAPIES, BASURERA Y PAPELERA METALICA. | C7: un | D7: 3 | E7: 1116900 | F7: =+D7*E7 -> 3350700
