Workbook

Sheet PRE FASE 3
B2: PRESUPUESTO ESTIMADO CONSULTORIA - ESTUDIOS Y DISEÑOS DE VIAS
B3: FASE III
B4: 1. COSTOS DE PERSONAL
B5: Area | C5: Profesional | D5: VR. MES | E5: % DED | F5: Cant | G5: Total | H5: Mes | I5: Total General | J5: Costo x km | K5: Total Area
B6: Tecnica | C6: Ingeniero Director | D6: 8000000 | E6: 1 | F6: 1 | G6: =F6*E6*D6 -> 8000000 | H6: 6 | I6: =H6*G6 -> 48000000 | J6: =I6/$D$44 -> 4593301.4 | K6: =SUM(I6:I19) -> 313200000
C7: Arquitecto Diseñador | D7: 4500000 | E7: 0.5 | F7: 1 | G7: =F7*E7*D7 -> 2250000 | H7: 6 | I7: =H7*G7 -> 13500000 | J7: =I7/$D$44 -> 1291866
C8: Ingeniero Industrial | D8: 4500000 | E8: 0.5 | F8: 1 | G8: =F8*E8*D8 -> 2250000 | H8: 6 | I8: =H8*G8 -> 13500000 | J8: =I8/$D$44 -> 1291866
C9: Ingeniero Residente | D9: 4500000 | E9: 1 | F9: 2 | G9: =F9*E9*D9 -> 9000000 | H9: 6 | I9: =H9*G9 -> 54000000 | J9: =I9/$D$44 -> 5167464.1
C10: Especialista en Estructuras | D10: 6000000 | E10: 0.5 | F10: 1 | G10: =F10*E10*D10 -> 3000000 | H10: 4 | I10: =H10*G10 -> 12000000 | J10: =I10/$D$44 -> 1148325.4
C11: Geologo | D11: 6000000 | E11: 0.5 | F11: 1 | G11: =F11*E11*D11 -> 3000000 | H11: 4 | I11: =H11*G11 -> 12000000 | J11: =I11/$D$44 -> 1148325.4
C12: Especialista en Pavimentos | D12: 6000000 | E12: 0.5 | F12: 1 | G12: =F12*E12*D12 -> 3000000 | H12: 5 | I12: =H12*G12 -> 15000000 | J12: =I12/$D$44 -> 1435406.7
C13: Especialista en Geotecnia | D13: 6000000 | E13: 0.5 | F13: 1 | G13: =F13*E13*D13 -> 3000000 | H13: 5 | I13: =H13*G13 -> 15000000 | J13: =I13/$D$44 -> 1435406.7
C14: Especialista en Hidráulica e Hidrología | D14: 6000000 | E14: 0.5 | F14: 1 | G14: =F14*E14*D14 -> 3000000 | H14: 5 | I14: =H14*G14 -> 15000000 | J14: =I14/$D$44 -> 1435406.7
C15: Especialista en redes(electricas, secas) | D15: 6000000 | E15: 0.5 | F15: 1 | G15: =F15*E15*D15 -> 3000000 | H15: 2 | I15: =H15*G15 -> 6000000 | J15: =I15/$D$44 -> 574162.68
C16: Especialista en Vías | D16: 6000000 | E16: 1 | F16: 1 | G16: =F16*E16*D16 -> 6000000 | H16: 6 | I16: =H16*G16 -> 36000000 | J16: =I16/$D$44 -> 3444976.1
C17: Comision Topografica (incluye equipos de topografia) | D17: 8000000 | E17: 1 | F17: 2 | G17: =F17*E17*D17 -> 16000000 | H17: 3 | I17: =H17*G17 -> 48000000 | J17: =I17/$D$44 -> 4593301.4
C18: Auxiliares vias y transito | D18: 2800000 | E18: 0.5 | F18: 2 | G18: =F18*E18*D18 -> 2800000 | H18: 1 | I18: =H18*G18 -> 2800000 | J18: =I18/$D$44 -> 267942.58
C19: Dibujantes de Arquitectura e Ingenieria | D19: 2800000 | E19: 1 | F19: 2 | G19: =F19*E19*D19 -> 5600000 | H19: 4 | I19: =H19*G19 -> 22400000 | J19: =I19/$D$44 -> 2143540.7
B20: Ambiental | C20: Especialista Ambiental | D20: 6000000 | E20: 0.5 | F20: 1 | G20: =F20*E20*D20 -> 3000000 | H20: 6 | I20: =H20*G20 -> 18000000 | J20: =I20/$D$44 -> 1722488 | K20: =SUM(I20:I21) -> 25500000
C21: Auxiliar ambiental | D21: 2500000 | E21: 0.5 | F21: 1 | G21: =F21*E21*D21 -> 1250000 | H21: 6 | I21: =H21*G21 -> 7500000 | J21: =I21/$D$44 -> 717703.35
B22: Predial | C22: Abogado Especialista Gestion predial | D22: =D20 -> 6000000 | E22: 0.5 | F22: 1 | G22: =F22*E22*D22 -> 3000000 | H22: 6 | I22: =H22*G22 -> 18000000 | J22: =I22/$D$44 -> 1722488 | K22: =SUM(I22:I25) -> 106819000
C23: Ingeniero Catastral | D23: 4000000 | E23: 0.5 | F23: 1 | G23: =F23*E23*D23 -> 2000000 | H23: 6 | I23: =H23*G23 -> 12000000 | J23: =I23/$D$44 -> 1148325.4
C24: Informe General del Sector Urbano – Valor Cada 500 mts (sbana predial) | D24: =2460000+450000 -> 2910000 | E24: 1 | F24: =D44/0.5 -> 20.9 | G24: =F24*E24*D24 -> 60819000 | H24: 1 | I24: =H24*G24 -> 60819000 | J24: =I24/$D$44 -> 5820000
C25: Comision Topografica | D25: =D17 -> 8000000 | E25: 0.5 | F25: 1 | G25: =F25*E25*D25 -> 4000000 | H25: 4 | I25: =H25*G25 -> 16000000 | J25: =I25/$D$44 -> 1531100.5
B26: Social | C26: Profesional en Área Social | D26: 4000000 | E26: 0.5 | F26: 1 | G26: =F26*E26*D26 -> 2000000 | H26: 6 | I26: =H26*G26 -> 12000000 | J26: =I26/$D$44 -> 1148325.4 | K26: =I26 -> 12000000
E27: SUB TOTAL 1. COSTOS PERSONAL | I27: =SUM(I6:I26) -> 457519000 | J27: =SUM(J6:J26) -> 43781722 | K27: =SUM(K6:K26) -> 457519000
E28: FACTOR MULTIPLICARDOR | H28: 2.4
E29: TOTAL 1. COSTOS DE PERSONAL | I29: =I27*H28 -> 1098045600 | J29: =J27*H28 -> 1.0507613e+08 | K29: =K27*H28 -> 1098045600
B31: 2. COSTOS DE OFICINA, ALQUILER Y EQUIPOS
B32: Area | C32: Descripcion | D32: Costo Mes | E32: % DED | F32: Cant | G32: Total | H32: Mes | I32: Total General | J32: Costo x km | K32: Total Area
B33: Gastos Especializados | C33: Amojonamiento y referenciacion topografica | D33: =1000000+200000+300000 -> 1500000 | E33: 1 | F33: 7 | G33: =F33*E33*D33 -> 10500000 | H33: 1 | I33: =H33*G33 -> 10500000 | J33: =I33/$D$44 -> 1004784.7 | K33: =SUM(I33:I36) -> 107250000
C34: Laboratorio de suelos , geotecnia , ensayos | D34: 27000000 | E34: 1 | F34: 1 | G34: =F34*E34*D34 -> 27000000 | H34: 3 | I34: =D34*E34*F34*H34 -> 81000000 | J34: =I34/$D$44 -> 7751196.2
C35: Talleres de socializacion | D35: 450000 | E35: 1 | F35: 7 | G35: =F35*E35*D35 -> 3150000 | H35: 1 | I35: =D35*E35*F35*H35 -> 3150000 | J35: =I35/$D$44 -> 301435.41
C36: Imagenes aereas | D36: 1800000 | E36: 1 | F36: 7 | G36: =F36*E36*D36 -> 12600000 | H36: 1 | I36: =D36*E36*F36*H36 -> 12600000 | J36: =I36/$D$44 -> 1205741.6
B37: Administrativa | C37: Transporte personal campo | D37: 5800000 | E37: 1 | F37: 1 | G37: =F37*E37*D37 -> 5800000 | H37: 6 | I37: =D37*E37*F37*H37 -> 34800000 | J37: =I37/$D$44 -> 3330143.5 | K37: =SUM(I37:I42) -> 63900000
C38: Arriendo+ administracion oficina | D38: 1000000 | E38: 1 | F38: 1 | G38: =F38*E38*D38 -> 1000000 | H38: 6 | I38: =D38*E38*F38*H38 -> 6000000 | J38: =I38/$D$44 -> 574162.68
C39: Servicios publicos(energia,agua,telefono, internet) | D39: 650000 | E39: 1 | F39: 1 | G39: =F39*E39*D39 -> 650000 | H39: 6 | I39: =D39*E39*F39*H39 -> 3900000 | J39: =I39/$D$44 -> 373205.74
C40: Equipo electronico, computadores , impresoras, insumos | D40: 1500000 | E40: 1 | F40: 1 | G40: =F40*E40*D40 -> 1500000 | H40: 6 | I40: =D40*E40*F40*H40 -> 9000000 | J40: =I40/$D$44 -> 861244.02
C41: Impresión de planos | D41: 700000 | E41: 1 | F41: 1 | G41: =F41*E41*D41 -> 700000 | H41: 6 | I41: =D41*E41*F41*H41 -> 4200000 | J41: =I41/$D$44 -> 401913.88
C42: Edicion e impresión de informes y documentos | D42: 1000000 | E42: 1 | F42: 1 | G42: =F42*E42*D42 -> 1000000 | H42: 6 | I42: =D42*E42*F42*H42 -> 6000000 | J42: =I42/$D$44 -> 574162.68
...

Sheet PRE FASE 1
B2: PRESUPUESTO ESTIMADO CONSULTORIA - ESTUDIOS Y DISEÑOS DE VIAS
B3: FASE I
B4: 1. COSTOS DE PERSONAL
B5: Area | C5: Profesional | D5: VR. MES | E5: % DED | F5: Cant | G5: Total | H5: Mes | I5: Total General
B6: Tecnica | C6: Ingeniero Director | D6: 8000000 | E6: 0.5 | F6: 1 | G6: =F6*E6*D6 -> 4000000 | H6: 2 | I6: =H6*G6 -> 8000000
C7: Especialista en Geotecnia | D7: 6000000 | E7: 0.3 | F7: 1 | G7: =F7*E7*D7 -> 1800000 | H7: 1 | I7: =H7*G7 -> 1800000
C8: Especialista en Vías | D8: 6000000 | E8: 0.3 | F8: 1 | G8: =F8*E8*D8 -> 1800000 | H8: 1 | I8: =H8*G8 -> 1800000
C9: Especialista en Estructuras | D9: 6000000 | E9: 0.3 | F9: 1 | G9: =F9*E9*D9 -> 1800000 | H9: 1 | I9: =H9*G9 -> 1800000
C10: Especialista en Hidráulica e Hidrología | D10: 6000000 | E10: 0.3 | F10: 1 | G10: =F10*E10*D10 -> 1800000 | H10: 1 | I10: =H10*G10 -> 1800000
C11: Comision Topografica (incluye equipos de topografia) | D11: 8000000 | E11: 0.35 | F11: 1 | G11: =F11*E11*D11 -> 2800000 | H11: 1 | I11: =H11*G11 -> 2800000
C12: Dibujantes de Arquitectura e Ingenieria | D12: 2800000 | E12: 0.3 | F12: 1 | G12: =F12*E12*D12 -> 840000 | H12: 1 | I12: =H12*G12 -> 840000
E13: SUB TOTAL 1. COSTOS PERSONAL | I13: =SUM(I6:I12) -> 18840000
E14: FACTOR MULTIPLICARDOR | H14: 2.4
E15: TOTAL 1. COSTO DE PERSONAL | I15: =I13*H14 -> 45216000
B17: 2. COSTOS DE OFICINA, ALQUILER Y EQUIPOS
B18: Area | C18: Descripcion | D18: Costo Mes | E18: % DED | F18: Cant | G18: Total | H18: Mes | I18: Total General
B19: Gastos Especializados | C19: Laboratorio de suelos , geotecnia , ensayos | D19: 5000000 | E19: 1 | F19: 1 | G19: =F19*E19*D19 -> 5000000 | H19: 1 | I19: =D19*E19*F19*H19 -> 5000000
B20: Administrativa | C20: Transporte personal campo | D20: 5800000 | E20: 0.25 | F20: 1 | G20: =F20*E20*D20 -> 1450000 | H20: 2 | I20: =D20*E20*F20*H20 -> 2900000
C21: Equipo electronico, computadores , impresoras, insumos | D21: 1500000 | E21: 0.4 | F21: 1 | G21: =F21*E21*D21 -> 600000 | H21: 2 | I21: =D21*E21*F21*H21 -> 1200000
C22: Impresión de planos | D22: 768847.1 | E22: 1 | F22: 1 | G22: =F22*E22*D22 -> 768847.1 | H22: 2 | I22: =D22*E22*F22*H22 -> 1537694.2
C23: Edicion e impresión de informes y documentos | D23: 1000000 | E23: 1 | F23: 1 | G23: =F23*E23*D23 -> 1000000 | H23: 2 | I23: =D23*E23*F23*H23 -> 2000000
C25: TOTAL KM ATENDER | D25: 1.77 | F25: SUB TOTAL 2. OTROS COSTOS ADMINISTRATIVOS | I25: =SUM(I19:I24) -> 12637694
C26: VALOR TOTAL KM | D26: =D25*I30 -> 1.2185724e+08
F27: TOTAL 1+2 | I27: =+I15+I25 -> 57853694
F29: IVA 19% | I29: =I27*0.19 -> 10992202
F30: TOTAL 1+2 + IVA | I30: =+I27+I29 -> 68845896
C34: GUZMAN EDUARDO PEREZ GOMEZ
C35: Subsecretario de Infraestructura
C36: SECRETARÍA DE INFRAESTRUCTURA
B40: Elaboró | C40: Paola Ramírez Magín – Profesional Contratado SIM | E40: VoBo:

Sheet PRE ESTIMADO
B4: PROYECTO | C4: UND | D4: LONG | E4: VALOR KM | F4: VALOR TOTAL
B5: FASE III
B6: BELEN - LAS DELICIAS | C6: Km | D6: 1.5 | E6: =+'PRE FASE 3'!$J$49 -> 1.4453041e+08 | F6: =E6*D6 -> 2.1679561e+08
B7: MINUTO DE DIOS - RODEO | C7: Km | D7: 0.58 | E7: =+'PRE FASE 3'!$J$49 -> 1.4453041e+08 | F7: =E7*D7 -> 83827637
B8: PROLONGACION CANAL BOGOTA M-DE | C8: Km | D8: 1.32 | E8: =+'PRE FASE 3'!$J$49 -> 1.4453041e+08 | F8: =E8*D8 -> 1.9078014e+08
B9: PROLONGACION CANAL BOGOTA M-IZ | C9: Km | D9: 1.32 | E9: =+'PRE FASE 3'!$J$49 -> 1.4453041e+08 | F9: =E9*D9 -> 1.9078014e+08
B10: SABANA VERDE | C10: Km | D10: 0.5 | E10: =+'PRE FASE 3'!$J$49 -> 1.4453041e+08 | F10: =E10*D10 -> 72265204
B11: SANTANDER | C11: Km | D11: 1 | E11: =+'PRE FASE 3'!$J$49 -> 1.4453041e+08 | F11: =E11*D11 -> 1.4453041e+08
B12: VIA BATALLON | C12: Km | D12: 2.71 | E12: =+'PRE FASE 3'!$J$49 -> 1.4453041e+08 | F12: =E12*D12 -> 3.9167741e+08
B13: COMUNEROS AV 5 - CORMONARES | C13: Km | D13: 1 | E13: =+'PRE FASE 3'!$J$49 -> 1.4453041e+08 | F13: =E13*D13 -> 1.4453041e+08
B14: PARALEA AUTOPISTA ATALAYA | C14: Km | D14: 1.15 | E14: =+'PRE FASE 3'!$J$49 -> 1.4453041e+08 | F14: =+D14*E14 -> 1.6620997e+08
B15: FASE I
B16: REDOMA DE LOS PANCHES - SECTOR LA SILLA COJA | C16: Km | D16: 0.44 | E16: =+'PRE FASE 1'!I30 -> 68845896 | F16: =E16*D16 -> 30292194
B17: TOTAL KM VIAS | D17: =SUM(D6:D16) -> 11.52
B18: TOTAL KM VIAS PRIORIZADAS A FASE III | D18: =+D6+D7+D8+D9+D10+D11+D12+D13+D14 -> 11.08
B19: TOTAL KM VIAS PRIORIZADAS A FASE I | D19: =+D16 -> 0.44
B20: TOTAL DISEÑO VIAS | F20: =SUM(F6:F19) -> 1.6316891e+09
B21: DESCUENTO TASA DEL DEPORTE 2 % | F21: 33800000
B22: ASISTENCIA TECNICA Y ADMINISTRACION DE RECURSOS (6 meses) | D22: 6 | E22: 4085000 | F22: =D22*E22 -> 24510000
B23: TOTAL | F23: =+F20+F21+F22 -> 1.6899991e+09
B28: GUZMAN EDUARDO PEREZ GOMEZ
B29: Subsecretario de Infraestructura
B30: SECRETARÍA DE INFRAESTRUCTURA
B33: Elaboró | C33: Paola Ramírez Magín – Profesional Contratado SIM | E33: VoBo:
