Workbook

Sheet EXP DEL PROPONENTE
A1: INSTITUTO DE PLANIFICACIÓN Y PROMOCIÓN DE SOLUCIONES ENERGÉTICAS PARA LAS ZONAS NO INTERCONECTADAS | R1: SI | S1: CUMPLE | T1: SI | U1: CUMPLE
A2: CONCURSO DE MÉRITOS ABIERTO PARA AMPLIACIÓN DE COBERTURA VIGENCIAS 2021 - 2022 | R2: NO | S2: NO CUMPLE | T2: NO | U2: NO CUMPLE
R3: N.A. | T3: N.A.
A4: VERIFICACIÓN TÉCNICA
A5: EXPERIENCIA DEL PROPONENTE
B8: PROPONENTE:
B9: INTEGRANTE DEL PROPONENTE
B10: NIT
B12: Código de verificación RUP
B13: Fecha de inscripción RUP
B14: Fecha de expedición RUP
B16: PLIEGO | C16: - Mínimo dos (2) y máximo cinco (5) contratos o certificaciones que se encuentren registrados en el RUP en al menos uno de los siguientes códigos, no necesariamente coincidentes en un mismo contrato. - La sumatoria de estas certificaciones o contratos debe arrojar mínimo el 100% del valor del presupuesto estimado, en SMMLV, para cada zona. En caso de presentar propuesta para más de una zona (como máximo dos (2) Zonas), la sumatoria de los contratos o certificaciones deberá corresponder a la sumatoria de los presupuestos de dichas zonas. - El objeto o alcance de estas certificaciones o contratos deberán incluir actividades o versar sobre: i) Consultoría en proyectos de infraestructura de energía eléctrica. o ii) Suministro e instalación de infraestructura de energía eléctrica, o iii) Construcción de infraestructura de energía eléctrica. - El objeto o alcance de al menos dos (2) de estas certificaciones o contratos deberán incluir actividades o versar sobre consultoría o construcción o implementación o suministro e instalación de proyectos de generación de energía con Fuentes No Convencionales de Energías Renovables – FNCER. - Los contratos deben haber sido iniciados, ejecutados y terminados a partir del 1 de enero de 2010 hasta la fecha de cierre del proceso. Para el caso de contratos suscritos con entidades públicas, los contratos deben haber sido liquidados. | H16: CÓDIGOS | M16: ZONAS | N16: PRESUPUESTO (SMMLV) (Proponentes que se presentan a más de una zona pueden presentarse como máximo dos (2) Zonas) | P16: No MÍNIMO DE USUARIOS A ESTRUCTURAR
H17: 81101701 | I17: 81101501 | J17: 83101800 | K17: 80101601 | L17: 81101516 | M17: ZONA 1 | N17: 1492 | P17: 4491
M18: ZONA 2 | N18: 1632 | P18: 4914
M19: ZONA 3 | N19: 1669 | P19: 5025
M20: ZONA 4 | N20: 1893 | P20: 5700
C21: OBJETO DEL CONTRATO | M21: ZONA 1 + ZONA 2 | N21: 3124 | P21: 9405
C22: Formular, estructurar y diseñar proyectos energéticos sostenibles para la ampliación de la cobertura del servicio de energía eléctrica en las diferentes localidades de las Zonas No Interconectadas del País. | M22: ZONA 1 + ZONA 3 | N22: 3161 | P22: 9516
M23: ZONA 1 + ZONA 4 | N23: 3385 | P23: 10191
M24: ZONA 2 + ZONA 3 | N24: 3301 | P24: 9939
M25: ZONA 2 + ZONA 4 | N25: 3525 | P25: 10614
M26: ZONA 3 + ZONA 4 | N26: 3562 | P26: 10725
A28: EXPERIENCIA HABILITANTE
A29: carpeta y ubicación del contratos y sus soportes | B29: ID (No de contrato, si aplica) | C29: CONTRATISTA | D29: CONTRATANTE | E29: OBJETO DEL CONTRATO | G29: Objeto o alcance en i) Consultoría en proyectos de infraestructura de energía eléctrica. o ii) Suministro e instalación de infraestructura de energía eléctrica, o iii) Construcción de infraestructura de energía eléctrica. (identificar, según sea el caso con i, ii, o iii.) | H29: Corresponde a consultoría o construcción o implementación o suministro e instalación de proyectos de generación de energía con Fuentes No Convencionales de Energías Renovables – FNCER (indicar SI o NO) | I29: INSCRITOS EN EL RUP | K29: No. DE SMMLV RUP | L29: PORCENTAJE DE PARTICIPACIÓN (deberá ser igual o superior al 30%) | M29: No. DE SMMLV | N29: OBSERVACIONES | P29: Se encuentra finalizado y terminado (Para entidades públicas liquidado) (SI / NO / NA) | Q29: CUMPLE/NO CUMPLE (Según requisitos) SE DILIGENCIA POR EL IPSE
I31: No consecutivo en RUP | J31: Código RUP de acuerdo al pliego (pueden incluirse los cinco) | K31: Indicar de acuerdo a lo consignado en RUP
M32: =+K32*L32 -> 0
M33: =+K33*L33 -> 0
M34: =+K34*L34 -> 0
M35: =+K35*L35 -> 0
M36: =+K36*L36 -> 0
L37: SUMATORIA | M37: =+SUM(M32:M36) -> 0
G38: En todos los casos, la información sumisnistrada se verificará en los documentos soporte. En caso de no evidanciarse en ellos, la información será tenida por no valida
K39: HABILITA (SI / NO) SE DILIGENCIA POR EL IPSE
B41: REQUISITOS DE LAS CERTIFICACIONES | D41: CHECK LIST
D42: 1 | E42: 2 | F42: 3 | G42: 4 | H42: 5
B43: CONTRATANTE | D43: =+D32 -> 0 | E43: =+D33 -> 0 | F43: =+D34 -> 0 | G43: =+D35 -> 0 | H43: =+D36 -> 0
B44: Nombre del Contratante.
B45: Nombre del Contratista (Oferente o miembro del oferente)
B46: ¿El contratista es un proponente plural?
B47: ¿Porcentaje de participación
...

Sheet DIRECTOR DE PROYECTO
A1: =+'EXP DEL PROPONENTE'!A1 -> INSTITUTO DE PLANIFICACIÓN Y PROMOCIÓN DE SOLUCIONES ENERGÉTICAS PARA LAS ZONAS NO INTERCONECTADAS | R1: SI | S1: CUMPLE
B2: =+'EXP DEL PROPONENTE'!A2 -> CONCURSO DE MÉRITOS ABIERTO PARA AMPLIACIÓN DE COBERTURA VIGENCIAS 2021 - 2022 | R2: NO | S2: NO CUMPLE
R3: N.A.
B4: =+'EXP DEL PROPONENTE'!A4 -> VERIFICACIÓN TÉCNICA
B5: EQUIPO MÍNIMO HABILITANTE
B8: DIRECTOR DE PROYECTO
B9: PROPONENTE | C9: =+'EXP DEL PROPONENTE'!$C$8 -> 0 | G9: NIT | H9: =+'EXP DEL PROPONENTE'!$C$10 -> 0
B10: NOMBRE DEL PROFESIONAL | G10: NÚMERO DE IDENTIFICACIÓN
B12: PREGRADO | E12: Tarjeta Profesional T.P. (FECHA) | F12: POSTGRADO
B13: Ingeniero electricista o eléctrico o electromecánico o en energías o en distribución y redes, de conformidad con lo establecido en el RETIE, o ingeniero electrónico, para lo cual deberá adjuntar: i) copia de su matrícula profesional, la cual deberá tener expedición superior a 8 años, y; ii) Certificado de vigencia de la matrícula profesional, expedida por el órgano competente. Deberá acreditar experiencia profesional relacionada superior a 5 años en dirección o gerencia de proyectos de consultoría de infraestructura eléctrica, o implementación de proyectos u obras de infraestructura eléctrica. | F13: Estudios de posgrado en: gerencia de proyectos o dirección de proyectos, o en Fuentes No Convencionales de Energía o en energías alternativas o ingeniería eléctrica, o gerencia de recursos energéticos o Administración de Empresas o en Gerencia de construcciones o en ingeniería con énfasis en ingeniería eléctrica. (6 puntos)
B14: TÍTULO (FECHA) | C14: UNIVERSIDAD | D14: CONVALIDACIÓN | F14: TÍTULO | G14: UNIVERSIDAD | H14: CONVALIDACIÓN
B18: EXPERIENCIA PROFESIONAL RELACIONADA (AÑOS) | D18: FECHA DE EXPEDICIÓN MATRICULA SUPERIOR A 8 AÑOS | E18: CERTIFICADO VIGENCIA MATRÍCULA | F18: CARTA DE COMPROMISO (DEDICACIÓN 50% durante la totalidad del contrato)
B19: 5
B20: =+F31 -> 0
B21: Para cada certificación, se verificará el contenido exigido en el Pliego de Condiciones Definitivo y sus Adendas.
A23: EXPERIENCIA PROFESIONAL RELACIONADA CERTIFICADA
A24: ID | B24: ENTIDAD | C24: CONTRATO NÚMERO | D24: FECHA DE INICIO (dd/mm/aaaa) | E24: FECHA DE TERMINACIÓN (dd/mm/aaaa) | F24: TIEMPO EN DÍAS | G24: OBJETO DEL CONTRATO O PROYECTO O CARGO DESEMPEÑADO | H24: CARGO / DESCRIPCIÓN DE LAS ACTIVIDADES O TAREAS DESARROLLADAS SEGÚN LA CERTIFICACIÓN | J24: EXPERIENCIA PROFESIONAL RELACIONADA Deberá acreditar experiencia profesional relacionada superior a 5 años en dirección o gerencia de proyectos de consultoría o implementación de proyectos u obras de infraestructura eléctrica. | L24: OBSERVACIONES SE DILIGENCIA POR EL IPSE
A25: 1 | F25: =+E25-D25 -> 0
A26: =+A25+1 -> 2 | F26: =+E26-D26 -> 0
A27: =+A26+1 -> 3 | F27: =+E27-D27 -> 0
A28: =+A27+1 -> 4 | F28: =+E28-D28 -> 0
A29: =+A28+1 -> 5 | F29: =+E29-D29 -> 0
A30: =+A29+1 -> 6 | F30: =+E30-D30 -> 0
B31: TOTAL AÑOS | F31: =+SUM(F25:F30)/365 -> 0
A33: REQUISITOS DE LAS CERTIFICACIONES | C33: CHECK LIST
C34: 1 | D34: 2 | E34: 3 | F34: 4 | G34: 5 | H34: 6
A35: CONTRATANTE | C35: =+B25 -> 0 | D35: =+B26 -> 0 | E35: =+B27 -> 0 | F35: =+B28 -> 0 | G35: =+B29 -> 0 | H35: =+B30 -> 0
A36: Nombre del Contratante.
A37: Nombre del Contratista (Oferente o miembro del oferente)
A38: Fecha de inicio
A39: Fecha terminación
A40: Actividad o funciones
A41: Persona de contacto para verificación
A42: Teléfono y celular
A43: Dirección
A44: e-mail o página web
A45: Firma de quien certifica
A46: Documento soporte: (indicar si es contrato, acta de liquidación, otros)
A47: NOMBRE DE LA CARPETA EN LA QUE SE UBICA EL DOCUMENTO
... A52: EXPERIENCIA PROFESIONAL RELACIONADA CERTIFICADA ADICIONAL A LA MÍNIMA HABILITANTE EN ZONAS RURALES O ZNI (PARA CALIFICACIÓN DE PUNTAJE)
...

Sheet ING ELECTRICISTA RESIDENTE
A1: =+'EXP DEL PROPONENTE'!A1 -> INSTITUTO DE PLANIFICACIÓN Y PROMOCIÓN DE SOLUCIONES ENERGÉTICAS PARA LAS ZONAS NO INTERCONECTADAS | R1: SI | S1: CUMPLE
B2: =+'EXP DEL PROPONENTE'!A2 -> CONCURSO DE MÉRITOS ABIERTO PARA AMPLIACIÓN DE COBERTURA VIGENCIAS 2021 - 2022 | R2: NO | S2: NO CUMPLE
R3: N.A.
B4: =+'EXP DEL PROPONENTE'!A4 -> VERIFICACIÓN TÉCNICA
B5: EQUIPO MÍNIMO HABILITANTE
B8: INGENIERO ELECTRICISTA RESIDENTE
B9: PROPONENTE | C9: =+'EXP DEL PROPONENTE'!$C$8 -> 0 | G9: NIT | H9: =+'EXP DEL PROPONENTE'!$C$10 -> 0
B10: NOMBRE DEL PROFESIONAL | G10: NÚMERO DE IDENTIFICACIÓN
B12: PREGRADO | E12: Tarjeta Profesional T.P. (FECHA)
B13: Un Ingeniero electricista o eléctrico o electromecánico o en energías o en distribución y redes, para ser ingeniero electricista residente del proyecto, de conformidad con lo establecido en el RETIE, para lo cual, deberá adjuntar: i) copia de su matrícula profesional, la cual deberá tener expedición superior a 6 años, y; ii) Certificado de vigencia de la matrícula profesional, expedida por el órgano competente. Dentro de su experiencia profesional, deberá acreditar al menos tres (3) años de experiencia profesional relacionada en consultoría o construcción de proyectos de generación de energía eléctrica, con fuentes convencionales o no convencionales de energía; Adicionalmente deberá acreditar su participación en la consultoría o construcción de proyectos de generación de energía con FNCER centralizados o híbridos con una potencia en dicho componente igual o superior a 20 kW
B14: TÍTULO (FECHA) | C14: UNIVERSIDAD | D14: CONVALIDACIÓN
B18: EXPERIENCIA PROFESIONAL RELACIONADA (AÑOS) | D18: FECHA DE EXPEDICIÓN MATRICULA SUPERIOR A 6 AÑOS | E18: CERTIFICADO VIGENCIA MATRÍCULA | F18: CARTA DE COMPROMISO (DEDICACIÓN 100% durante la totalidad del contrato)
B19: 3
B20: =+F31 -> 0
B21: Para cada certificación, se verificará el contenido exigido en el Pliego de Condiciones Definitivo y sus Adendas.
A23: EXPERIENCIA PROFESIONAL RELACIONADA CERTIFICADA
A24: ID | B24: ENTIDAD | C24: CONTRATO NÚMERO | D24: FECHA DE INICIO (dd/mm/aaaa) | E24: FECHA DE TERMINACIÓN (dd/mm/aaaa) | F24: TIEMPO EN DÍAS | G24: OBJETO DEL CONTRATO O PROYECTO O CARGO DESEMPEÑADO | H24: CARGO / DESCRIPCIÓN DE LAS ACTIVIDADES O TAREAS DESARROLLADAS SEGÚN LA CERTIFICACIÓN | J24: EXPERIENCIA PROFESIONAL RELACIONADA deberá acreditar al menos tres (3) años de experiencia profesional relacionada en consultoría o construcción de proyectos de generación de energía eléctrica, con fuentes convencionales o no convencionales de energía; Adicionalmente deberá acreditar su participación en la consultoría o construcción de proyectos de generación de energía con FNCER centralizados o híbridos con una potencia en dicho componente igual o superior a 20 kW | L24: Potencia proyectos de generación de energía con FNCER centralizados o híbridos igual o superior a 20 kW (kW) | M24: OBSERVACIONES SE DILIGENCIA POR EL IPSE
A25: 1 | F25: =+E25-D25 -> 0
A26: =+A25+1 -> 2 | F26: =+E26-D26 -> 0
A27: =+A26+1 -> 3 | F27: =+E27-D27 -> 0
A28: =+A27+1 -> 4 | F28: =+E28-D28 -> 0
A29: =+A28+1 -> 5 | F29: =+E29-D29 -> 0
A30: =+A29+1 -> 6 | F30: =+E30-D30 -> 0
B31: TOTAL AÑOS | F31: =+SUM(F25:F30)/365 -> 0
A33: REQUISITOS DE LAS CERTIFICACIONES | C33: CHECK LIST
C34: 1 | D34: 2 | E34: 3 | F34: 4 | G34: 5 | H34: 6
A35: CONTRATANTE | C35: =+B25 -> 0 | D35: =+B26 -> 0 | E35: =+B27 -> 0 | F35: =+B28 -> 0 | G35: =+B29 -> 0 | H35: =+B30 -> 0
A36: Nombre del Contratante.
A37: Nombre del Contratista (Oferente o miembro del oferente)
A38: Fecha de inicio
A39: Fecha terminación
A40: Actividad o funciones
A41: Persona de contacto para verificación
A42: Teléfono y celular
A43: Dirección
A44: e-mail o página web
A45: Firma de quien certifica
A46: Documento soporte: (indicar si es contrato, acta de liquidación, otros)
A47: NOMBRE DE LA CARPETA EN LA QUE SE UBICA EL DOCUMENTO
... A52: EXPERIENCIA PROFESIONAL RELACIONADA CERTIFICADA ADICIONAL A LA MÍNIMA HABILITANTE EN ZONAS RURALES O ZNI (PARA CALIFICACIÓN DE PUNTAJE)
...

Sheet ING CIVIL
A1: =+'EXP DEL PROPONENTE'!A1 -> INSTITUTO DE PLANIFICACIÓN Y PROMOCIÓN DE SOLUCIONES ENERGÉTICAS PARA LAS ZONAS NO INTERCONECTADAS | R1: SI | S1: CUMPLE
B2: =+'EXP DEL PROPONENTE'!A2 -> CONCURSO DE MÉRITOS ABIERTO PARA AMPLIACIÓN DE COBERTURA VIGENCIAS 2021 - 2022 | R2: NO | S2: NO CUMPLE
R3: N.A.
B4: =+'EXP DEL PROPONENTE'!A4 -> VERIFICACIÓN TÉCNICA
B5: EQUIPO MÍNIMO HABILITANTE
B8: INGENIERO CIVIL
B9: PROPONENTE | C9: =+'EXP DEL PROPONENTE'!$C$8 -> 0 | G9: NIT | H9: =+'EXP DEL PROPONENTE'!$C$10 -> 0
B10: NOMBRE DEL PROFESIONAL | G10: NÚMERO DE IDENTIFICACIÓN
B12: PREGRADO | E12: Tarjeta Profesional T.P. (FECHA) | F12: POSTGRADO
B13: Un ingeniero civil con matrícula profesional vigente, expedida por el órgano competente, para lo cual, deberá adjuntar: i) copia de su matrícula profesional, la cual deberá tener expedición superior a 6 años, y; ii) Certificado de vigencia de la matrícula profesional, expedida por el órgano competente. Dentro de su experiencia profesional, deberá acreditar al menos tres (3) años de experiencia profesional relacionada en: i) cimentaciones, o ii) estudios de suelos, o iii) obras civiles, o iv) Cálculos estructurales | F13: Estudios a nivel de postgrado en las especialidades de geotecnia o ingeniería estructural, o en estructuras. (4 puntos)
B14: TÍTULO (FECHA) | C14: UNIVERSIDAD | D14: CONVALIDACIÓN | F14: TÍTULO | G14: UNIVERSIDAD | H14: CONVALIDACIÓN
B18: EXPERIENCIA PROFESIONAL RELACIONADA (AÑOS) | D18: FECHA DE EXPEDICIÓN MATRICULA SUPERIOR A 6 AÑOS | E18: CERTIFICADO VIGENCIA MATRÍCULA | F18: CARTA DE COMPROMISO (DEDICACIÓN 100% durante la fase 2 del contrato)
B19: 3
B20: =+F31 -> 0
B21: Para cada certificación, se verificará el contenido exigido en el Pliego de Condiciones Definitivo y sus Adendas.
A23: EXPERIENCIA PROFESIONAL RELACIONADA CERTIFICADA
A24: ID | B24: ENTIDAD | C24: CONTRATO NÚMERO | D24: FECHA DE INICIO (dd/mm/aaaa) | E24: FECHA DE TERMINACIÓN (dd/mm/aaaa) | F24: TIEMPO EN DÍAS | G24: OBJETO DEL CONTRATO O PROYECTO O CARGO DESEMPEÑADO | H24: CARGO / DESCRIPCIÓN DE LAS ACTIVIDADES O TAREAS DESARROLLADAS SEGÚN LA CERTIFICACIÓN | J24: EXPERIENCIA PROFESIONAL RELACIONADA deberá acreditar al menos tres (3) años de experiencia profesional relacionada en: i) cimentaciones, o ii) estudios de suelos, o iii) obras civiles, o iv) Cálculos estructurales | L24: OBSERVACIONES SE DILIGENCIA POR EL IPSE
A25: 1 | F25: =+E25-D25 -> 0
A26: =+A25+1 -> 2 | F26: =+E26-D26 -> 0
A27: =+A26+1 -> 3 | F27: =+E27-D27 -> 0
A28: =+A27+1 -> 4 | F28: =+E28-D28 -> 0
A29: =+A28+1 -> 5 | F29: =+E29-D29 -> 0
A30: =+A29+1 -> 6 | F30: =+E30-D30 -> 0
B31: TOTAL AÑOS | F31: =+SUM(F25:F30)/365 -> 0
A33: REQUISITOS DE LAS CERTIFICACIONES | C33: CHECK LIST
C34: 1 | D34: 2 | E34: 3 | F34: 4 | G34: 5 | H34: 6
A35: CONTRATANTE | C35: =+B25 -> 0 | D35: =+B26 -> 0 | E35: =+B27 -> 0 | F35: =+B28 -> 0 | G35: =+B29 -> 0 | H35: =+B30 -> 0
A36: Nombre del Contratante.
A37: Nombre del Contratista (Oferente o miembro del oferente)
A38: Fecha de inicio
A39: Fecha terminación
A40: Actividad o funciones
A41: Persona de contacto para verificación
A42: Teléfono y celular
A43: Dirección
A44: e-mail o página web
A45: Firma de quien certifica
A46: Documento soporte: (indicar si es contrato, acta de liquidación, otros)
A47: NOMBRE DE LA CARPETA EN LA QUE SE UBICA EL DOCUMENTO
... A52: EXPERIENCIA PROFESIONAL RELACIONADA CERTIFICADA ADICIONAL A LA MÍNIMA HABILITANTE (PARA CALIFICACIÓN DE PUNTAJE)
...

Sheet PROFESIONAL AMBIENTAL
A1: =+'EXP DEL PROPONENTE'!A1 -> INSTITUTO DE PLANIFICACIÓN Y PROMOCIÓN DE SOLUCIONES ENERGÉTICAS PARA LAS ZONAS NO INTERCONECTADAS | R1: SI | S1: CUMPLE
B2: =+'EXP DEL PROPONENTE'!A2 -> CONCURSO DE MÉRITOS ABIERTO PARA AMPLIACIÓN DE COBERTURA VIGENCIAS 2021 - 2022 | R2: NO | S2: NO CUMPLE
R3: N.A.
B4: =+'EXP DEL PROPONENTE'!A4 -> VERIFICACIÓN TÉCNICA
B5: EQUIPO MÍNIMO HABILITANTE
B8: PROFESIONAL AMBIENTAL
B9: PROPONENTE | C9: =+'EXP DEL PROPONENTE'!$C$8 -> 0 | G9: NIT | H9: =+'EXP DEL PROPONENTE'!$C$10 -> 0
B10: NOMBRE DEL PROFESIONAL | G10: NÚMERO DE IDENTIFICACIÓN
B12: PREGRADO | E12: Tarjeta Profesional T.P. (FECHA)
B13: Un Ingeniero o Administrador Ambiental o Forestal o profesional en ciencias biológicas, o Ecólogo quien deberá adjuntar copia del diploma o acta de grado respectiva para acreditar su profesión, (en los casos de ingenieros, deberá adjuntar copia de la matrícula profesional), la cual deberá tener expedición superior a 3 años. Deberá acreditar experiencia profesional relacionada en elaboración de estudios ambientales para proyectos de infraestructura o gestión para la obtención de viabilidad ambiental en proyectos de infraestructura de al menos un (1) año.
B14: TÍTULO (FECHA) | C14: UNIVERSIDAD | D14: CONVALIDACIÓN
B18: EXPERIENCIA PROFESIONAL RELACIONADA (AÑOS) | D18: FECHA DE EXPEDICIÓN MATRICULA SUPERIOR A 3 AÑOS (para ingenieros) | E18: CERTIFICADO VIGENCIA MATRÍCULA (para ingenieros) | F18: CARTA DE COMPROMISO (DEDICACIÓN 100% durante la fase 2 del contrato)
B19: 1
B20: =+F31 -> 0
B21: Para cada certificación, se verificará el contenido exigido en el Pliego de Condiciones Definitivo y sus Adendas.
A23: EXPERIENCIA PROFESIONAL RELACIONADA CERTIFICADA
A24: ID | B24: ENTIDAD | C24: CONTRATO NÚMERO | D24: FECHA DE INICIO (dd/mm/aaaa) | E24: FECHA DE TERMINACIÓN (dd/mm/aaaa) | F24: TIEMPO EN DÍAS | G24: OBJETO DEL CONTRATO O PROYECTO O CARGO DESEMPEÑADO | H24: CARGO / DESCRIPCIÓN DE LAS ACTIVIDADES O TAREAS DESARROLLADAS SEGÚN LA CERTIFICACIÓN | J24: EXPERIENCIA PROFESIONAL RELACIONADA Deberá acreditar experiencia profesional relacionada en elaboración de estudios ambientales para proyectos de infraestructura o gestión para la obtención de viabilidad ambiental en proyectos de infraestructura de al menos un (1) año. | L24: OBSERVACIONES SE DILIGENCIA POR EL IPSE
A25: 1 | F25: =+E25-D25 -> 0
A26: =+A25+1 -> 2 | F26: =+E26-D26 -> 0
A27: =+A26+1 -> 3 | F27: =+E27-D27 -> 0
A28: =+A27+1 -> 4 | F28: =+E28-D28 -> 0
A29: =+A28+1 -> 5 | F29: =+E29-D29 -> 0
A30: =+A29+1 -> 6 | F30: =+E30-D30 -> 0
B31: TOTAL AÑOS | F31: =+SUM(F25:F30)/365 -> 0
A33: REQUISITOS DE LAS CERTIFICACIONES | C33: CHECK LIST
C34: 1 | D34: 2 | E34: 3 | F34: 4 | G34: 5 | H34: 6
A35: CONTRATANTE | C35: =+B25 -> 0 | D35: =+B26 -> 0 | E35: =+B27 -> 0 | F35: =+B28 -> 0 | G35: =+B29 -> 0 | H35: =+B30 -> 0
A36: Nombre del Contratante.
A37: Nombre del Contratista (Oferente o miembro del oferente)
A38: Fecha de inicio
A39: Fecha terminación
A40: Actividad o funciones
A41: Persona de contacto para verificación
A42: Teléfono y celular
A43: Dirección
A44: e-mail o página web
A45: Firma de quien certifica
A46: Documento soporte: (indicar si es contrato, acta de liquidación, otros)
A47: NOMBRE DE LA CARPETA EN LA QUE SE UBICA EL DOCUMENTO
... A52: EXPERIENCIA PROFESIONAL RELACIONADA CERTIFICADA ADICIONAL A LA MÍNIMA HABILITANTE (PARA CALIFICACIÓN DE PUNTAJE)
...
