Workbook

Sheet Anexo Oferta Economica
A1: CUADRO CANTIDADES DE OBRA
A2: ADECUACION Y MANTENIMIENTO OVS POPAYAN
A3: ANEXO PROPUESTA ECONÓMICA
A5: ITEMS | B5: DESCRIPCIÓN | C5: UND | D5: CANTIDAD | E5: PRECIOS UNITARIOS MAXIMOS | F5: VR. UNITARIO | G5: VR. TOTAL
A6: 1 | B6: Retiro de manto asfaltico existente, incluye disposición final | C6: m2 | D6: 302 | E6: 8933 | G6: =+D6*F6 -> 0
A7: 2 | B7: Suministro e instalación de manto asfaltico con foil de aluminio | C7: m2 | D7: 302 | E7: 32400 | G7: =+D7*F7 -> 0
A8: 9 | B8: Pintura vinilo tipo 1 sobre muros interiores | C8: m2 | D8: 370 | E8: 8333 | G8: =+D8*F8 -> 0
A9: 6 | B9: Pintura puerta principal con acabado en laca similar al existente | C9: und | D9: 2 | E9: 140000 | G9: =+D9*F9 -> 0
A10: 7 | B10: Demolición de piso existente y colocación nuevamente de piso en gravilla mona con pendientado | C10: m2 | D10: 4 | E10: 163333 | G10: =+D10*F10 -> 0
A11: 8 | B11: Arreglo de canal existente, adecuación de bajantes, cambios de elementos en mal estado, impermeabilización total de la canal con manto | C11: ml | D11: 116 | E11: 13160 | G11: =+D11*F11 -> 0
A12: 9 | B12: Reparación de ventanas tragaluces existentes | C12: und | D12: 10 | E12: 134267 | G12: =+D12*F12 -> 0
F14: COSTO DIRECTO TOTAL | G14: =SUM(G6:G13) -> 0
D15: Administración | F15: 0.17 | G15: =+F15*$G$14 -> 0
D16: Imprevistos | F16: 0.03 | G16: =+F16*$G$14 -> 0
D17: Utilidad | F17: 0.05 | G17: =+F17*$G$14 -> 0
D18: IVA/Utilidad | F18: 0.19 | G18: =+F18*G17 -> 0
F19: COSTO TOTAL | G19: =SUM(G14:G18) -> 0
A21: NOTA | B21: No se tendrán en cuenta propuesta que se presenten superando los Precios Unitarios previstos por la entidad en el presente
B22: proceso de contratación; así mismo, el proponente no podrá modificar los porcentajes de AIU establecidos, los cuales son:
B23: Administración 17%, Imprevistos 3%, Utilidad 5% e IVA sobre la utilidad 19%, so pena de rechazo de la propuesta.
A25: NOTA 2 | B25: PARA EL CORRECTO DILIGENCIAMIENTO DEL PRESENTE ANEXO, EL PROPONENTE DEBERÁ DILIGENCIAR UNICAMENTE LAS CELDAS DE COLOR AZUL

Sheet HISTORICOS EN CONTRATACIÓN SGC
A1: Numero de Proceso | B1: Objeto | C1: Valor | D1: Empresa - Contratista
A2: LIC 002 DE 2010 | B2: SELECCIONAR EN IGUALDAD DE OPORTUNIDADES AL PROPONENTE QUE OFREZCA LAS MEJORES CONDICIONES TÉCNICAS Y COMERCIALES PARA REALIZAR LAS LABORES DE MANTENIMIENTO Y ADECUACION DE INFRAESTRUCTURA EN LA SEDE DEL INSTITUTO COLOMBIANO DE GEOLOGIA Y MINERIA - INGEOMINAS PARA EL OBSERVATORIO VULCANOLOGICO Y SISMOLOGICO DE LA CIUDAD DE MANIZALES. | C2: $ 241,000,000 | D2: CONSORCIO ANDES 2010
A3: SMC 054 DE 2013 | B3: SELECCIONAR EN IGUALDAD DE OPORTUNIDADES AL PROPONENTE QUE OFREZCA LAS MEJORES DE CONDICIONES TECNICAS Y COMERCIALES PARA REALIZAR LAS LABORES DE MANTENIMIENTO DE LA SEDE DEL OBSERVATORIO VULCANOLOGICO Y SISMOLOGICO DE MANIZALES DEL SERVICIO GEOLOGICO COLOMBIANO | C3: $ 22,525,000 | D3: DANIEL HORACIO LESMES OSORIO
A4: SMC 076 DE 2014 | B4: CONTRATAR EN IGUALDAD DE OPORTUNIDADES AL PROPONENTE QUE OFREZCA LAS MEJORES CONDICIONES PARA EFECTUAR EL MANTENIMIENTO DE LA SEDE DEL OBSERVATORIO VULCANOLÓGICO Y SISMOLÓGICO DE MANIZALES | C4: $ 23,935,858 | D4: SIPCO LTDA.
A5: SMC 075 DE 2015 | B5: EFECTUAR LAS OBRAS DE MANTENIMIENTO DEL OBSERVATORIO VULCANOLOGICO Y SISMOLOGICO DE MANIZALES DEL SERVICIO GEOLOGICO COLOMBIANO | C5: $ 17,292,409 | D5: INGENIERIA & DISEÑOS INTEGRALES S.A.S.
A6: SMC 033 DE 2018 | B6: CONTRATAR EN IGUALDAD DE OPORTUNIDADES AL PROPONENTE QUE OFREZCA LAS MEJORES CONDICIONES PARA EFECTUAR LAS OBRAS DE MANTENIMIENTO Y ADECUACIÓN DEL OBSERVATORIO VULCANOLÓGICO Y SISMOLÓGICO DE POPAYÁN DEL SERVICIO GEOLÓGICO COLOMBIANO | C6: 14908484 | D6: ARQ. RAIMUR AGUIRRE ZAPATA

Sheet DEMANDA
A1: Concepto | B1: Detalle
A2: Objeto a Contratar | B2: “MANTENIMIENTO CONSISTENTE EN ACTIVIDADES DE IMPERMEABILIZACION DE LA CUBIERTA DE LAS INSTALACIONES DE LA ESE CENTRO DE SALUD DE USIACURI JOSE MARIA FEREZ FARAH”
A3: Modalidad de selección | B3: Contratación Mínima Cuantía
A4: Detalle del proceso No de invitación | B4: MC-030-2020
A5: Cuantía a contratar | B5: 24.161.033 COP
A6: Entidad contratante | B6: DEPARTAMENTO DEL ATLANTICO
A7: Nombre del contratista | B7: LEODEGAR RAFAEL ROYS MEJIA
A8: Fecha de Inicio de ejecución del contrato | B8: 6 de octubre de 2020
A9: Plazo de ejecución del contrato | B9: 1 mes
A11: Concepto | B11: Detalle
A12: Objeto a Contratar | B12: MANTENIMIENTO E IMPERMEABILIZACION DE VENTANAS
A13: Modalidad de selección | B13: Contratación régimen especial
... A19: Plazo de ejecución del contrato | B19: 2 meses

Sheet PRESUPUESTO
A1: PRESUPUESTO OBRAS DE MANTENIMIENTO CUBIERTAS SEDE PRINCIPAL - LABORATORIO DE AGUAS
A3: ITEMS | B3: DESCRIPCIÓN | C3: UND | D3: CANTIDAD | E3: VR. UNITARIO | F3: VR. TOTAL
A4: 1 | B4: Retiro de manto asfaltico existente, incluye disposición final | C4: m2 | D4: 640 | E4: =+COMPARATIVO!E4 -> 8933 | F4: =+D4*E4 -> 5717120
A5: 2 | B5: Suministro e instalación de manto asfaltico con foil de aluminio | C5: m2 | D5: 640 | E5: =+COMPARATIVO!E5 -> 32400 | F5: =+D5*E5 -> 20736000
A6: 3 | B6: Pintura vinilo tipo 1 sobre muros | C6: m2 | D6: 200 | E6: =+COMPARATIVO!E6 -> 8333 | F6: =+D6*E6 -> 1666600
A7: 4 | B7: Pintura puerta principal con acabado en laca similar al existente | C7: und | D7: 2 | E7: =+COMPARATIVO!E7 -> 140000 | F7: =+D7*E7 -> 280000
A8: 5 | B8: Demolición de piso existente y colocación nuevamente de piso en gravilla mona con pendientado | C8: m2 | D8: 4 | E8: =+COMPARATIVO!E8 -> 163333 | F8: =+D8*E8 -> 653332
A9: 6 | B9: Arreglo de canal existente, adecuación de bajantes, cambios de elementos en mal estado, impermeabilización total de la canal con manto | C9: ml | D9: =45+45+8+8+10 -> 116 | E9: =+COMPARATIVO!E9 -> 13160 | F9: =+D9*E9 -> 1526560
A10: 7 | B10: Reparación de ventanas tragaluces existentes | C10: und | D10: 10 | E10: =+COMPARATIVO!E10 -> 134267 | F10: =+D10*E10 -> 1342670
E12: COSTO DIRECTO TOTAL | F12: =SUM(F4:F11) -> 31922282
D13: Administración | E13: 0.18 | F13: =+E13*$F$12 -> 5746010.8
D14: Imprevistos | E14: 0.03 | F14: =+E14*$F$12 -> 957668.46
D15: Utilidad | E15: 0.05 | F15: =+E15*$F$12 -> 1596114.1
D16: IVA/Utilidad | E16: 0.19 | F16: =+E16*F15 -> 303261.68
E17: Ajuste al peso
E18: COSTO TOTAL | F18: =SUM(F12:F16)+F17 -> 40525337
A20: NOTA | B20: No se tendrán en cuenta propuesta que se presenten superando los Precios Unitarios previstos por la entidad en el presente
B21: proceso de contratación; así mismo, el proponente no podrá modificar los porcentajes de AIU establecidos, los cuales son:
B22: Administración 18%, Imprevistos 3%, Utilidad 5% e IVA sobre la utilidad 19%, so pena de rechazo de la propuesta.

Sheet PRESUPUESTO _
B2: Presupuesto Oficial mantenimiento y adecuación de las cubiertas de la sede principal y las instalaciones del Laboratorio de Aguas de la sede Edificio Químico Químico del Servicio Geológico Colombiano
B3: Item | C3: Descripción | D3: UND | F3: APUS | H3: Cotizacion Nº1 | J3: Cotizacion Nº2 | L3: Cotizacion Nº3 | N3: Promedio Presupuesto Oficial
E4: Cantidad | F4: Valor Unitario | G4: Valor Total | H4: Valor Unitario | I4: Valor Total | J4: Valor Unitario | K4: Valor Total | L4: Valor Unitario | M4: Valor Total
B5: 1 | C5: Retiro de manto asfaltico existente, incluye disposición final | D5: m2 | E5: 640 | F5: 8933 | G5: 5717120 | H5: 8700 | I5: 5568000 | J5: 9100 | K5: 5824000 | L5: 9000 | M5: 5760000 | N5: =+AVERAGE(G5,I5,K5,M5) -> 5717280
B6: 2 | C6: Suministro e instalación de manto asfaltico con foil de aluminio | D6: m2 | E6: 640 | F6: 32400 | G6: 20736000 | H6: 30000 | I6: 19200000 | J6: 32200 | K6: 20608000 | L6: 35000 | M6: 22400000 | N6: =+AVERAGE(G6,I6,K6,M6) -> 20736000
B7: 3 | C7: Pintura vinilo tipo 1 sobre muros | D7: m2 | E7: 200 | F7: 8333 | G7: 1666600 | H7: 7000 | I7: 1400000 | J7: 8000 | K7: 1600000 | L7: 10000 | M7: 2000000 | N7: =+AVERAGE(G7,I7,K7,M7) -> 1666650
B8: 4 | C8: Pintura puerta principal con acabado en laca similar al existente | D8: und | E8: 2 | F8: 140000 | G8: 280000 | H8: 125000 | I8: 250000 | J8: 145000 | K8: 290000 | L8: 150000 | M8: 300000 | N8: =+AVERAGE(G8,I8,K8,M8) -> 280000
B9: 5 | C9: Demolición de piso existente y colocación nuevamente de piso en gravilla mona con pendientado | D9: m2 | E9: 4 | F9: 163333 | G9: 653332 | H9: 160000 | I9: 640000 | J9: 150000 | K9: 600000 | L9: 180000 | M9: 720000 | N9: =+AVERAGE(G9,I9,K9,M9) -> 653333
B10: 6 | C10: Arreglo de canal existente, adecuación de bajantes, cambios de elementos en mal estado, impermeabilización total de la canal con manto | D10: ml | E10: =45+45+8+8+10 -> 116 | F10: 13160 | G10: 1526560 | H10: 12500 | I10: 1450000 | J10: 14000 | K10: 1624000 | L10: 12980 | M10: 1505680 | N10: =+AVERAGE(G10,I10,K10,M10) -> 1526560
B11: 7 | C11: Reparación de ventanas tragaluces existentes | D11: und | E11: 10 | F11: 134267 | G11: 1342670 | H11: 97800 | I11: 978000 | J11: 145000 | K11: 1450000 | L11: 160000 | M11: 1600000 | N11: =+AVERAGE(G11,I11,K11,M11) -> 1342667.5
D12: Costos Directos | G12: =SUM(G5:G11) -> 31922282 | I12: =SUM(I5:I11) -> 29486000 | K12: =SUM(K5:K11) -> 31996000 | M12: =SUM(M5:M11) -> 34285680 | N12: =SUM(N5:N11) -> 31922490
B13: No se tendrán en cuenta propuesta que se presenten superando los Precios Unitarios previstos por la entidad en el presente proceso de contratación; así mismo, el proponente no podrá modificar los porcentajes de AIU establecidos, los cuales son: Administración 17%, Imprevistos 3%, Utilidad 5% e IVA del 19% sobre la utilidad, so pena de rechazo de la propuesta. | F13: Administración 17 % | G13: =+G12*17% -> 5426787.9 | I13: =+I12*17% -> 5012620 | K13: =+K12*17% -> 5439320 | M13: =+M12*17% -> 5828565.6 | N13: 5426823 | O13: =+ROUND(N13,0) -> 5426823
F14: Imprevistos 3% | G14: =+G12*3% -> 957668.46 | I14: =+I12*3% -> 884580 | K14: =+K12*3% -> 959880 | M14: =+M12*3% -> 1028570.4 | N14: 957675 | O14: =+ROUND(N14,0) -> 957675
F15: Utilidad 5 % | G15: =+G12*5% -> 1596114.1 | I15: =+I12*5% -> 1474300 | K15: =+K12*5% -> 1599800 | M15: =+M12*5% -> 1714284 | N15: 1596125 | O15: =+ROUND(N15,0) -> 1596125
F16: Iva 19% Sobre Utilidad | G16: =+G15*19% -> 303261.68 | I16: =+I15*19% -> 280117 | K16: =+K15*19% -> 303962 | M16: =+M15*19% -> 325713.96 | N16: 303264 | O16: =+ROUND(N16,0) -> 303264
B17: Valor Total Proceso Incluido Iva. | G17: =SUM(G12:G16) -> 40206114 | I17: =SUM(I12:I16) -> 37137617 | K17: =SUM(K12:K16) -> 40298962 | M17: =SUM(M12:M16) -> 43182814 | N17: =SUM(N12:N16) -> 40206378 | O17: =+ROUND(N17,0) -> 40206378
I26: 292611856 | J26: 1
I27: 0.2 | J27: =+I27*J26/I26 -> 6.834993e-10 | L27: =+AVERAGE(G13,I13,K13,M13) -> 5426823.4
L29: =+ROUND(L27,0) -> 5426823

Sheet COMPARATIVO
A1: PRESUPUESTO OBRAS DE MANTENIMIENTO CUBIERTAS SEDE PRINCIPAL - LABORATORIO DE AGUAS
G2: Cotización 1 Servicios Generales | I2: Cotización 2 Construasociados | K2: Cotización 3 M&C Urban Solution
A3: ITEMS | B3: DESCRIPCIÓN | C3: UND | D3: CANTIDAD | E3: VR. UNITARIO | F3: VR. TOTAL | G3: VR. UNITARIO | H3: VR. TOTAL | I3: VR. UNITARIO | J3: VR. TOTAL | K3: VR. UNITARIO | L3: VR. TOTAL
A4: 1 | B4: Retiro de manto asfaltico existente, incluye disposición final | C4: m2 | D4: 640 | E4: =+ROUND(AVERAGE(G4,I4,K4),0) -> 8933 | F4: =+D4*E4 -> 5717120 | G4: 8700 | H4: =+G4*D4 -> 5568000 | I4: 9100 | J4: =+I4*D4 -> 5824000 | K4: 9000 | L4: =+K4*D4 -> 5760000
A5: 2 | B5: Suministro e instalación de manto asfaltico con foil de aluminio | C5: m2 | D5: 640 | E5: =+ROUND(AVERAGE(G5,I5,K5),0) -> 32400 | F5: =+D5*E5 -> 20736000 | G5: 30000 | H5: =+G5*D5 -> 19200000 | I5: 32200 | J5: =+I5*D5 -> 20608000 | K5: 35000 | L5: =+K5*D5 -> 22400000
A6: 9 | B6: Pintura vinilo tipo 1 sobre muros | C6: m2 | D6: 200 | E6: =+ROUND(AVERAGE(G6,I6,K6),0) -> 8333 | F6: =+D6*E6 -> 1666600 | G6: 7000 | H6: =+G6*D6 -> 1400000 | I6: 8000 | J6: =+I6*D6 -> 1600000 | K6: 10000 | L6: =+K6*D6 -> 2000000
A7: 6 | B7: Pintura puerta principal con acabado en laca similar al existente | C7: und | D7: 2 | E7: =+ROUND(AVERAGE(G7,I7,K7),0) -> 140000 | F7: =+D7*E7 -> 280000 | G7: 125000 | H7: =+G7*D7 -> 250000 | I7: 145000 | J7: =+I7*D7 -> 290000 | K7: 150000 | L7: =+K7*D7 -> 300000
A8: 7 | B8: Demolición de piso existente y colocación nuevamente de piso en gravilla mona con pendientado | C8: m2 | D8: 4 | E8: =+ROUND(AVERAGE(G8,I8,K8),0) -> 163333 | F8: =+D8*E8 -> 653332 | G8: 160000 | H8: =+G8*D8 -> 640000 | I8: 150000 | J8: =+I8*D8 -> 600000 | K8: 180000 | L8: =+K8*D8 -> 720000
A9: 8 | B9: Arreglo de canal existente, adecuación de bajantes, cambios de elementos en mal estado, impermeabilización total de la canal con manto | C9: ml | D9: =45+45+8+8+10 -> 116 | E9: =+ROUND(AVERAGE(G9,I9,K9),0) -> 13160 | F9: =+D9*E9 -> 1526560 | G9: 12500 | H9: =+G9*D9 -> 1450000 | I9: 14000 | J9: =+I9*D9 -> 1624000 | K9: 12980 | L9: =+K9*D9 -> 1505680
A10: 9 | B10: Reparación de ventanas tragaluces existentes | C10: und | D10: 10 | E10: =+ROUND(AVERAGE(G10,I10,K10),0) -> 134267 | F10: =+D10*E10 -> 1342670 | G10: 97800 | H10: =+G10*D10 -> 978000 | I10: 145000 | J10: =+I10*D10 -> 1450000 | K10: 160000 | L10: =+K10*D10 -> 1600000
E11: COSTO DIRECTO TOTAL | F11: =SUM(F4:F10) -> 31922282 | G11: COSTO DIRECTO | H11: =SUM(H4:H10) -> 29486000 | J11: =SUM(J4:J10) -> 31996000 | L11: =SUM(L4:L10) -> 34285680
D12: Administración | E12: 0.18 | F12: =+E12*$F$11 -> 5746010.8
D13: Imprevistos | E13: 0.03 | F13: =+E13*$F$11 -> 957668.46
D14: Utilidad | E14: 0.05 | F14: =+E14*$F$11 -> 1596114.1
D15: IVA/Utilidad | E15: 0.19 | F15: =+E15*F14 -> 303261.68
E16: COSTO TOTAL | F16: =+F11+F12+F13+F14+F15 -> 40525337
A18: NOTA | B18: No se tendrán en cuenta propuesta que se presenten superando los Precios Unitarios previstos por la entidad en el presente proceso de contratación; así mismo, el proponente no podrá modificar los porcentajes de AIU establecidos, los cuales son:
B19: Administración 18%, Imprevisots 3%, Utilidad 5% e IVA sobre la utilidad 19%, so pena de rechazo de la propuesta.

Sheet Cotización 1

Sheet Cotización 2

Sheet Cotización 3

Sheet AIU
F2: Valor Obra Directa | H2: =+COMPARATIVO!F11 -> 31922282
F3: Valor Obra | H3: =+H2 -> 31922282
F4: Plazo de ejecución | H4: 1
B6: Descripcion | C6: Cantidad | D6: % Participación en el Proyecto | E6: Sueldo | F6: % Prestacional | G6: Plazo (meses) | H6: Vr. Total
B7: Personal
A8: 2 | B8: Ingeniero Residente de Obra Civil | C8: 1 | D8: 0.25 | E8: 1800000 | F8: 1.65 | G8: =$H$4 -> 1 | H8: =+C8*E8*F8*G8*D8 -> 742500 | K8: Personal
B9: Profesional STT | C9: 1 | D9: 0.5 | E9: 1500000 | F9: 1.65 | G9: 1 | H9: =+C9*E9*F9*G9*D9 -> 1237500
B10: Papeleria y Equipos de Oficina | J10: 5 | K10: Ingeniero eléctro mecánico | L10: 0.007 | M10: =+L10*$H$2 -> 223455.97
A11: 7 | B11: Oficina Central | C11: 1 | E11: 40000 | F11: 1 | G11: =$H$4 -> 1 | H11: =+C11*E11*G11 -> 40000 | J11: 6 | K11: Laboratorios | L11: 0.004 | M11: =+L11*$H$2 -> 127689.13
A12: 8 | B12: Papeleria, fotocopias y otros | C12: 1 | E12: 40000 | F12: 1 | G12: =$H$4 -> 1 | H12: =+C12*E12*G12 -> 40000 | K12: Papeleria y Equipos de Oficina
A13: 9 | B13: Computadores e Impresora | C13: 1 | E13: 80000 | F13: 1 | G13: =$H$4 -> 1 | H13: =+C13*E13*G13 -> 80000 | J13: 7 | K13: Oficina Central | L13: 0.0014 | M13: =+L13*$H$2 -> 44691.195
A14: 10 | B14: Equipos de comunicación | C14: 1 | E14: 70000 | F14: 1 | G14: =$H$4 -> 1 | H14: =+C14*E14*G14 -> 70000 | J14: 8 | K14: Papeleria, fotocopias y otros | L14: 0.0014 | M14: =+L14*$H$2 -> 44691.195
A15: 11 | B15: Transportes varios | C15: 1 | E15: 20000 | F15: 1 | G15: 1 | H15: =+C15*E15*G15 -> 20000 | J15: 9 | K15: Computadores e Impresora | L15: 0.0021 | M15: =+L15*$H$2 -> 67036.792
A16: 12 | B16: Laboratorios | C16: 1 | F16: 1 | G16: 1 | H16: =+C16*E16*G16 -> 0 | J16: 10 | K16: Equipos de comunicación | L16: 0.0025 | M16: =+L16*$H$2 -> 79805.705
A17: 13 | B17: Elementos de Protección y Bioseguridad | C17: 1 | E17: 250000 | F17: 1 | G17: 1 | H17: =+C17*E17*G17 -> 250000 | J17: 11 | K17: Transporte | L17: 0.002 | M17: =+L17*$H$2 -> 63844.564
B18: Bancarios | K18: Gastos Financieros
A19: 14 | B19: Transferencias | C19: 1 | E19: 20000 | F19: 1 | G19: =$H$4 -> 1 | H19: =+C19*E19*F19*G19 -> 20000 | J19: 12 | K19: Transferencias | L19: 0.0014 | M19: =+L19*$H$2 -> 44691.195
B20: Legalizacion del contrato | J20: 13 | K20: Manejo del Anticipo | L20: 0.0002 | M20: =+L20*$H$2 -> 6384.4564
A21: 15 | B21: Polizas | H21: =+H3*0.01 -> 319222.82 | I21: 1% valor contrato | K21: Legalizacion del contrato
J22: 14 | K22: Garantías | L22: 0.01 | M22: =+L22*$H$2 -> 319222.82
B23: Subtotal Costos Administracion | H23: =SUM(H8:H21) -> 2819222.8 | J23: 15 | K23: Campamento y otros | L23: 0.004 | M23: =+L23*$H$2 -> 127689.13
B24: Costo Directo de obra | H24: =+H2 -> 31922282 | J24: 16 | K24: Vigilancia de obra | L24: 0.0132 | M24: =+L24*$H$2 -> 421374.12
B25: Porcentaje Administracion | G25: =H23/H24 -> 0.088315203 | H25: =+H24*G25 -> 2819222.8 | K25: Impuestos
B26: Utilidad | G26: 0.05 | H26: =+H24*G26 -> 1596114.1 | J26: 17 | K26: Impuesto (IVA/Utilidad ) | L26: 0.0067165465 | M26: =+L26*$H$2 -> 214407.49
B27: Imprevistos | G27: 0.01 | H27: =+H24*G27 -> 319222.82 | J27: 18 | K27: Impuesto (4/1000) | L27: 0.005 | M27: =+L27*$H$2 -> 159611.41
B28: SUBTOTAL A.I.U. | G28: =SUM(G25:G27) -> 0.1483152 | H28: =+H27+H26+H25 -> 4734559.7 | J28: 19 | K28: Imp. Industria y Comercio (6/1000) | L28: 0.006 | M28: =+L28*$H$2 -> 191533.69
B29: SUBTOTAL COSTO DE OBRA | H29: =+H27+H26+H25+H24 -> 36656842 | J29: 20 | K29: Retefuente | L29: 0.02 | M29: =+L29*$H$2 -> 638445.64
B30: Impuestos | J30: 21 | K30: Reteica (6*1000) | L30: 0.006 | M30: =+L30*$H$2 -> 191533.69
A31: 16 | B31: Impuesto (IVA/Utilidad ) | G31: =+H31/H29 -> 0.0069667283 | H31: =+H26*0.16 -> 255378.26 | J31: 22 | K31: Estampilla Pro Universidad de Nariño | L31: 0.005 | M31: =+L31*$H$2 -> 159611.41
A32: 17 | B32: Impuesto (4/1000) | G32: 0.005 | H32: =+G32*H$29 -> 183284.21 | J32: 23 | K32: SENA y FIC | L32: 0.0025 | M32: =+L32*$H$2 -> 79805.705
A33: 18 | B33: Imp. Industria y Comercio (6/1000) | G33: 0.007 | H33: =+G33*H$29 -> 256597.89 | J33: 24 | K33: Salud y Pensión del contratista | L33: 0.0059 | M33: =+L33*$H$2 -> 188341.46
A34: 19 | B34: Contribucion Especial (5%) | G34: 0.059 | H34: =+G34*H$29 -> 2162753.7 | J34: UTILIDAD
A35: 20 | B35: Contribucion Especial UNAL | G35: =+E53 -> 0.005 | H35: =+G35*H$29 -> 183284.21 | K35: Utilidad | L35: 0.05
A36: 21 | B36: Reteica (6*1000) | C36: 0.006 | G36: 0.006 | H36: =+G36*H$29 -> 219941.05 | J36: IMPREVISTOS
B37: SUBTOTAL IMPUESTOS | G37: =SUM(G31:G35) -> 0.082966728 | H37: =SUM(H31:H36) -> 3261239.3 | K37: Imprevistos | L37: 0.02
K38: TOTAL AIU | L38: =SUM(L10:L37) -> 0.17631655
B39: TOTAL AIU | G39: =+G28+G37 -> 0.23128193 | H39: =+G39 -> 0.23128193
H40: =+H29+H37 -> 39918081
F41: Administracion | G41: =+G25 -> 0.088315203 | H41: =+G41+G44 -> 0.17728193
F42: Imprevistos | G42: 0.03 | H42: 0.03
...
