Workbook

Sheet GRUPO 1
A1: GRUPO 1. MICROBIOLOGÍA (LABORATORIOS MEDIANA COMPLEJIDAD-ADJUDICACIÓN PARCIAL POR GRUPO)
A2: ITEM | B2: DESCRIPCIÓN | C2: UNIDAD DE MEDIDA | D2: PRECIO SECOP II | E2: INSTITUCIÓN PRECIO SECOP | F2: PRECIO HISTÓRICO 2021 | G2: PROYECCIÓN HISTORICO MAS 2020 IPC(1.61%) | H2: ANÁLISIS TÉCNICOS | I2: PRECIO ESTIMADO | J2: EXENTO, EXCLUIDO CON IVA | K2: CANTIDAD MES | L2: MESES | M2: TOTAL | N2: VALOR TOTAL 6 MESES | O2: VIGENCIA 2021 | P2: VIGENCIA 2022
A3: 1 | B3: PRUEBA PARA IDENTIFICACIÓN DE GÉRMENES GRAM NEGATIVOS | C3: PRUEBA COMPLETA | D3: 21032 | E3: CONTRATO No. 111-02-MDN-COGFM-DIGSA-JEFSA-FAC-2020 | F3: 18035 | G3: =F3+793.54 -> 18828.54 | H3: 20200 | I3: 20200 | J3: EXENTO | K3: =500 -> 500 | L3: 6 | M3: =K3*L3 -> 3000 | N3: =M3*I3 -> 60600000 | O3: =R3 -> 5050000 | P3: =Q3*5+O3 -> 55550000 | Q3: =N3/6 -> 10100000 | R3: =Q3/2 -> 5050000 | U3: =T3*I3 -> 0
A4: 2 | B4: PRUEBA PARA IDENTIFICACIÓN DE GÉRMENES GRAM POSITIVOS | C4: PRUEBA COMPLETA | D4: 21032 | E4: CONTRATO No. 111-02-MDN-COGFM-DIGSA-JEFSA-FAC-2020 | F4: 18035 | G4: =F4+793.54 -> 18828.54 | H4: 20200 | I4: 20200 | J4: EXENTO | K4: =300 -> 300 | L4: 6 | M4: =K4*L4 -> 1800 | N4: =M4*I4 -> 36360000 | O4: =R4 -> 3030000 | P4: =Q4*5+O4 -> 33330000 | Q4: =N4/6 -> 6060000 | R4: =Q4/2 -> 3030000
A5: 3 | B5: PRUEBA PARA DETERMINACIÓN DE SUSCEPTIBILIDAD DE GERMENES GRAM NEGATIVOS | C5: PRUEBA COMPLETA | D5: 21032 | E5: CONTRATO No. 111-02-MDN-COGFM-DIGSA-JEFSA-FAC-2020 | F5: 18035 | G5: =F5+793.54 -> 18828.54 | H5: 20200 | I5: 20200 | J5: EXENTO | K5: =300 -> 300 | L5: 6 | M5: =K5*L5 -> 1800 | N5: =M5*I5 -> 36360000 | O5: =R5 -> 3030000 | P5: =Q5*5+O5 -> 33330000 | Q5: =N5/6 -> 6060000 | R5: =Q5/2 -> 3030000
A6: 4 | B6: PRUEBA PARA DETERMINACIÓN DE SUSCEPTIBILIDAD DE GERMENES GRAM POSITIVOS | C6: PRUEBA COMPLETA | D6: - | E6: - | F6: 18035 | G6: =F6+793.54 -> 18828.54 | H6: 20200 | I6: 20200 | J6: EXENTO | K6: =200 -> 200 | L6: 6 | M6: =K6*L6 -> 1200 | N6: =M6*I6 -> 24240000 | O6: =R6 -> 2020000 | P6: =Q6*5+O6 -> 22220000 | Q6: =N6/6 -> 4040000 | R6: =Q6/2 -> 2020000
A7: VALOR TOTAL SUBGRUPO 1.2 MICROBIOLOGÍA MEDIANA COMPLEJIDAD | N7: =SUM(N3:N6) -> 157560000 | O7: =SUM(O3:O6) -> 13130000 | P7: =SUM(P3:P6) -> 144430000
A9: NOTA: no se tiene en cuenta el valor historico, teniendo en cuenta el aumento del precio del dólar.

Sheet GRUPO 2
A1: GRUPO 2 MICROBIOLOGÍA MANUAL (ADJUDICACIÓN PARCIAL POR GRUPO)
A2: ITEM | B2: DESCRIPCIÓN | C2: UNIDAD DE MEDIDA | D2: PRECIO SECOP II | E2: INSTITUCIÓN PRECIO SECOP | F2: PRECIO HISTÓRICO 2021 | G2: PROYECCIÓN HISTORICO MAS 2020 Y 2021 IPC(1.61% Y 4,4%) | H2: PRECIO HISTORICO MÀS IPC | I2: BIOMERIEUX | J2: LABCARE | K2: ANNAR | L2: BYOSISTEMS | M2: QUINBERLAB | N2: MENOR VALOR COTIZADO | O2: PRECIO ESTIMADO | P2: EXENTO, EXCLUIDO CON IVA | Q2: CANTIDAD POR MES | R2: Nº MESES | S2: CANTIDAD TOTAL | T2: VALOR TOTAL | U2: VIGENCIA 2021 | V2: VIGENCIA 2022
A3: 1 | B3: TEST INMUNOCROMATOGRÁFICO PARA LA DETECCIÓN DE CARBAPENEMASAS | C3: PRUEBA COMPLETA | D3: - | E3: - | F3: ITEM NUEVO, NO TIENE PRECIO HISTÓRICO | L3: 87500 | N3: =MIN(F3:M3) -> 87500 | O3: 87500 | P3: EXENTO | Q3: 25 | R3: 5 | S3: =Q3*R3 -> 125 | T3: =O3*S3 -> 10937500 | U3: =T3/5 -> 2187500 | V3: =U3*4 -> 8750000
A4: 2 | B4: TARJETA, PANEL, O GALERIA PARA DETERMINAR SUSCEPTIBILIDAD DE GERMENES EXIGENTES COMO NEISSERIA Y HAEMOPHILUS | C4: PRUEBA COMPLETA | D4: - | E4: - | F4: ITEM NUEVO, NO TIENE PRECIO HISTÓRICO | I4: 24978 | N4: 24978 | O4: 24978 | P4: EXCLUIDO | Q4: 45 | R4: 5 | S4: =Q4*R4 -> 225 | T4: =O4*S4 -> 5620050 | U4: =T4/5 -> 1124010 | V4: =U4*4 -> 4496040
A5: 3 | B5: ASA DE 1UL | C5: UNIDAD | D5: - | E5: - | F5: 177.84 | G5: =F5*6.01% -> 10.688184 | H5: =SUM(F5:G5) -> 188.52818 | J5: 817 | K5: 287 | N5: =K5 -> 287 | O5: 287 | P5: 0.19 | Q5: 5000 | R5: 5 | S5: =Q5*R5 -> 25000 | T5: =O5*S5 -> 7175000 | U5: =T5/5 -> 1435000 | V5: =U5*4 -> 5740000
A6: 4 | B6: ASA DE 10 UL | C6: UNIDAD | D6: - | E6: - | F6: 177.84 | G6: =F6*6.01% -> 10.688184 | H6: =SUM(F6:G6) -> 188.52818 | J6: 817 | K6: 287 | N6: =K6 -> 287 | O6: 287 | P6: 0.19 | Q6: 5000 | R6: 5 | S6: =Q6*R6 -> 25000 | T6: =O6*S6 -> 7175000 | U6: =T6/5 -> 1435000 | V6: =U6*4 -> 5740000
A7: 5 | B7: ASA METÁLICA CURVA | C7: UNIDAD | D7: - | E7: - | F7: 2113.24 | G7: =F7*6.01% -> 127.00572 | H7: =SUM(F7:G7) -> 2240.2457 | N7: =2240.25*140 -> 313635 | O7: 2240.25 | P7: 0.19 | Q7: 20 | R7: 5 | S7: =Q7*R7 -> 100 | T7: =O7*S7 -> 224025 | U7: =T7/5 -> 44805 | V7: =U7*4 -> 179220
A8: 6 | B8: ASA METÁLICA RECTA | C8: UNIDAD | D8: - | E8: - | F8: 2113.24 | G8: =F8*6.01% -> 127.00572 | H8: =SUM(F8:G8) -> 2240.2457 | O8: 2240.25 | P8: 0.19 | Q8: 20 | R8: 5 | S8: =Q8*R8 -> 100 | T8: =O8*S8 -> 224025 | U8: =T8/5 -> 44805 | V8: =U8*4 -> 179220
A9: 7 | B9: ASA METÁLICA MICOLÓGICA | C9: UNIDAD | D9: - | E9: - | F9: 1820.54 | G9: =F9*6.01% -> 109.41445 | H9: =SUM(F9:G9) -> 1929.9545 | O9: 1929.95 | P9: 0.19 | Q9: 5 | R9: 5 | S9: =Q9*R9 -> 25 | T9: =O9*S9 -> 48248.75 | U9: =T9/5 -> 9649.75 | V9: =U9*4 -> 38599
A10: 8 | B10: BACTERIURITEST X 200 | C10: FRASCO POR 200 TIRAS | D10: - | E10: - | F10: 148649.34 | G10: =F10*6.01% -> 8933.8253 | H10: =SUM(F10:G10) -> 157583.17 | M10: 254660 | N10: =M10 -> 254660 | O10: 206121.58 | P10: 0.19 | Q10: 5 | R10: 5 | S10: =Q10*R10 -> 25 | T10: =O10*S10 -> 5153039.5 | U10: =T10/5 -> 1030607.9 | V10: =U10*4 -> 4122431.6
A11: 9 | B11: PRUEBA DE SENSIDISCO PARA OXIDASA | C11: VIAL POR 50 unidades | D11: - | E11: - | F11: 43906.97 | G11: =F11*6.01% -> 2638.8089 | H11: =SUM(F11:G11) -> 46545.779 | K11: 54000 | N11: =K11 -> 54000 | O11: 50272.89 | P11: EXENTO | Q11: 2 | R11: 5 | S11: =Q11*R11 -> 10 | T11: =O11*S11 -> 502728.9 | U11: =T11/5 -> 100545.78 | V11: =U11*4 -> 402183.12
A12: 10 | B12: PRUEBA DE SENSIDISCO PARA ERTAPENEM | C12: VIAL POR 50 unidades | D12: - | E12: - | F12: 37328.57 | G12: =F12*6.01% -> 2243.4471 | H12: =SUM(F12:G12) -> 39572.017 | K12: 19000 | N12: =K12 -> 19000 | O12: 29286.01 | P12: EXENTO | Q12: 2 | R12: 5 | S12: =Q12*R12 -> 10 | T12: =O12*S12 -> 292860.1 | U12: =T12/5 -> 58572.02 | V12: =U12*4 -> 234288.08
A13: 11 | B13: PRUEBA DE SENSIDISCO PARA ÁCIDO BORÓNICO | C13: VIAL POR 50 unidades | D13: - | E13: - | F13: 9383.13 | G13: =F13*6.01% -> 563.92611 | H13: =SUM(F13:G13) -> 9947.0561 | K13: 70000 | N13: =K13 -> 70000 | O13: 70000 | P13: EXENTO | Q13: 1 | R13: 5 | S13: =Q13*R13 -> 5 | T13: =O13*S13 -> 350000 | U13: =T13/5 -> 70000 | V13: =U13*4 -> 280000
A14: 12 | B14: PRUEBA DE SENSIDISCO DE AMOXACILINA | C14: VIAL POR 50 unidades | D14: - | E14: - | F14: 17338.41 | G14: =F14*6.01% -> 1042.0384 | H14: =SUM(F14:G14) -> 18380.448 | K14: 19000 | N14: =K14 -> 19000 | O14: 18690.22 | P14: EXENTO | Q14: 1 | R14: 5 | S14: =Q14*R14 -> 5 | T14: =O14*S14 -> 93451.1 | U14: =T14/5 -> 18690.22 | V14: =U14*4 -> 74760.88
A15: 13 | B15: PRUEBA DE SENSIDISCO DE CEFRADINE | C15: VIAL POR 50 unidades | D15: - | E15: - | F15: 17338.41 | G15: =F15*6.01% -> 1042.0384 | H15: =SUM(F15:G15) -> 18380.448 | O15: 18380.44 | P15: EXENTO | Q15: 1 | R15: 5 | S15: =Q15*R15 -> 5 | T15: =O15*S15 -> 91902.2 | U15: =T15/5 -> 18380.44 | V15: =U15*4 -> 73521.76
A16: 14 | B16: REACTIVO DE KOVACS (INDOL) | C16: FRASCO POR 100 mL | D16: - | E16: - | F16: 3832.81 | G16: =F16*6.01% -> 230.35188 | H16: =SUM(F16:G16) -> 4063.1619 | M16: 77900 | O16: 77900 | P16: EXENTO | Q16: 3 | R16: 5 | S16: =Q16*R16 -> 15 | T16: =O16*S16 -> 1168500 | U16: =T16/5 -> 233700 | V16: =U16*4 -> 934800
A17: 15 | B17: CATALASA | C17: FRASCO POR 100 TEST | D17: - | E17: - | F17: 214180.33 | G17: =F17*6.01% -> 12872.238 | H17: =SUM(F17:G17) -> 227052.57 | M17: 203200 | N17: =M17 -> 203200 | O17: 215126.28 | P17: EXENTO | Q17: 3 | R17: 5 | S17: =Q17*R17 -> 15 | T17: =O17*S17 -> 3226894.2 | U17: =T17/5 -> 645378.84 | V17: =U17*4 -> 2581515.4
T18: =SUM(T3:T17) -> 42283225 | U18: =SUM(U3:U17) -> 8456645 | V18: =SUM(V3:V17) -> 33826580
N27: 87500
N28: 24978
N29: 287
N30: 287
N31: 2240.25
N32: 2240.25
N33: 1929.95 | T33: 2187500 | U33: 8750000 | V33: 10937500
N34: 206121.58 | T34: 1124010 | U34: 4496040 | V34: 5620050
N35: 50272.89 | T35: 1435000 | U35: 5740000 | V35: 7175000
N36: 29286.01 | T36: 1435000 | U36: 5740000 | V36: 7175000
N37: 70000 | T37: 44805 | U37: 179220 | V37: 224025
N38: 18690.22 | T38: 44805 | U38: 179220 | V38: 224025
N39: 18380.44 | T39: 9649.75 | U39: 38599 | V39: 48248.75
N40: 77900 | T40: 1030607.9 | U40: 4122431.6 | V40: 5153039.5
N41: 215126.28 | T41: 100545.78 | U41: 402183.12 | V41: 502728.9
T42: 58572.02 | U42: 234288.08 | V42: 292860.1
T43: 70000 | U43: 280000 | V43: 350000
T44: 18690.22 | U44: 74760.88 | V44: 93451.1
T45: 18380.44 | U45: 73521.76 | V45: 91902.2
T46: 233700 | U46: 934800 | V46: 1168500
T47: 645378.84 | U47: 2581515.4 | V47: 3226894.2
T48: 8456645 | U48: 33826580 | V48: 42283225

Sheet GRUPO 3
A1: GRUPO No.3 TAMIZAJE NEONATAL AMPLIADO (LABORATORIO CLÍNICO DE REFERENCIA NACIONAL - ADJUDICACIÓN PARCIAL POR GRUPO)
A2: ÍTEM | B2: DESCRIPCIÓN | C2: UNIDAD DE MEDIDA | D2: PRECIO SECOP II | E2: INSTITUCIÓN PRECIO SECOP | F2: PRECIO HISTÓRICO 2021 | G2: ROPSOHN | H2: PRECIO ESTIMADO | I2: EXENTO, EXCLUIDO CON IVA | J2: CANTIDAD mes | K2: MESES | L2: CANTIDAD | M2: VALOR TOTAL | N2: VIGENCIA 2021 | O2: VIGENCIA 2022
L3: TOTAL
A4: 1 | B4: TSH NEONATAL | C4: PRUEBA COMPLETA | D4: - | E4: - | F4: 8172 | G4: 8417 | H4: 8417 | I4: EXENTO | J4: 192 | K4: 6 | L4: =J4*K4 -> 1152 | M4: =L4*H4 -> 9696384 | N4: =M4/6 -> 1616064 | O4: =N4*5 -> 8080320 | P4: =J4*H4 -> 1616064
A5: 2 | B5: FENILALANINA | C5: PRUEBA COMPLETA | D5: - | E5: - | F5: 5438 | G5: 5601 | H5: 5601 | I5: EXENTO | J5: 160 | K5: 6 | L5: =J5*K5 -> 960 | M5: =L5*H5 -> 5376960 | N5: =M5/6 -> 896160 | O5: =N5*5 -> 4480800 | P5: =J5*H5 -> 896160
A6: 3 | B6: GLUCOSA 6 FOSFATO DESHIDROGENASA (G6PD) | C6: PRUEBA COMPLETA | D6: - | E6: - | F6: 6090 | G6: 6272 | H6: 6272 | I6: EXENTO | J6: 160 | K6: 6 | L6: =J6*K6 -> 960 | M6: =L6*H6 -> 6021120 | N6: =M6/6 -> 1003520 | O6: =N6*5 -> 5017600 | P6: =J6*H6 -> 1003520
A7: 4 | B7: 17-HIDROXIPROGESTERONA | C7: PRUEBA COMPLETA | D7: - | E7: - | F7: 11665 | G7: 12014 | H7: 12014 | I7: EXENTO | J7: 160 | K7: 6 | L7: 1120 | M7: =L7*H7 -> 13455680 | N7: =M7/6 -> 2242613.3 | O7: =N7*5 -> 11213067 | P7: =J7*H7 -> 1922240
A8: 5 | B8: GALACTOSA | C8: PRUEBA COMPLETA | D8: - | E8: - | F8: 5041 | G8: 5192 | H8: 5192 | I8: EXENTO | J8: 160 | K8: 6 | L8: =J8*K8 -> 960 | M8: =L8*H8 -> 4984320 | N8: =M8/6 -> 830720 | O8: =N8*5 -> 4153600 | P8: =J8*H8 -> 830720
A9: 6 | B9: TRIPSINA INMUNOREACTIVA (IRT) | C9: PRUEBA COMPLETA | D9: - | E9: - | F9: 11591 | G9: 11938 | H9: 11938 | I9: EXENTO | J9: 160 | K9: 6 | L9: =J9*K9 -> 960 | M9: =L9*H9 -> 11460480 | N9: =M9/6 -> 1910080 | O9: =N9*5 -> 9550400 | P9: =J9*H9 -> 1910080
A10: 7 | B10: BIOTINIDASA (BTD) | C10: PRUEBA COMPLETA | D10: - | E10: - | F10: 5273 | G10: 5431 | H10: 5431 | I10: EXENTO | J10: 160 | K10: 6 | L10: =J10*K10 -> 960 | M10: =L10*H10 -> 5213760 | N10: =M10/6 -> 868960 | O10: =N10*5 -> 4344800 | P10: =J10*H10 -> 868960
A11: VALOR TOTAL GRUPO No.3 TAMIZAJE NEONATAL AMPLIADO | M11: =SUM(M4:M10) -> 56208704 | N11: =SUM(N4:N10) -> 9368117.3 | O11: =SUM(O4:O10) -> 46840587 | P11: =J11*H11 -> 0
M17: =M11/7 -> 8029814.9
O22: 1616064 | P22: 8080320 | Q22: 9696384
O23: 896160 | P23: 4480800 | Q23: 5376960
O24: 1003520 | P24: 5017600 | Q24: 6021120
O25: 2242613.3 | P25: 11213067 | Q25: 13455680
O26: 830720 | P26: 4153600 | Q26: 4984320
O27: 1910080 | P27: 9550400 | Q27: 11460480
O28: 868960 | P28: 4344800 | Q28: 5213760
O29: 9368117.3 | P29: 46840587 | Q29: 56208704
F51: 3250 | G51: 20200 | H51: =+F51*G51 -> 65650000

Sheet GRUPO 4
A1: GRUPO 4. OTROS INSUMOS Y REACTIVOS (ADJUDICACIÓN PARCIAL POR GRUPO)
A2: ÍTEM | B2: DESCRIPCIÓN | C2: UNIDAD DE MEDIDA | D2: PRECIO SECOP II | E2: INSTITUCIÓN PRECIO SECOP | F2: PRECIO HISTÓRICO 2021 | G2: BD | H2: QUINBERLAB | I2: LABCARE | J2: MENOR VALOR COTIZADO | K2: PRECIO ESTIMADO | L2: EXENTO, EXCLUIDO CON IVA | M2: CANTIDAD MES | N2: N MES | P2: VALOR TOTAL | Q2: VIGENCIA 2021 | R2: VIGENCIA 2022
A3: 1 | B3: DETERGENTE BIODEGRADABLE NEUTRO | C3: GALÓN | D3: 36998.29 | E3: CONTRATO No. 111-02-MDN-COGFM-DIGSA-JEFSA-FAC-2020 | F3: 52360.38 | H3: 54264 | J3: =H3 -> 54264 | K3: =J3 -> 54264 | L3: 0.19 | M3: 15 | N3: 5 | O3: =N3*M3 -> 75 | P3: =O3*K3 -> 4069800 | Q3: =T3 -> 406980 | R3: =S3*4+T3 -> 3662820 | S3: =P3/5 -> 813960 | T3: =S3/2 -> 406980 | U3: =K3*M3 -> 813960 | V3: =U3*6 -> 4883760 | W3: =T3+V3 -> 5290740
A4: 2 | B4: ACEITE DE INMERSIÓN | C4: FRASCO POR 500 ML | D4: - | E4: - | F4: 240421.67 | H4: 253470 | J4: =H4 -> 253470 | K4: =J4 -> 253470 | L4: 0.19 | M4: 5 | N4: 5 | O4: =N4*M4 -> 25 | P4: =O4*K4 -> 6336750 | Q4: =T4 -> 633675 | R4: =S4*4+T4 -> 5703075 | S4: =P4/5 -> 1267350 | T4: =S4/2 -> 633675
A5: 3 | B5: PAPEL PARAFILM | C5: ROLLO | D5: 214789 | E5: CONTRATO N° 108-2019 HOSPITAL MILITAR CENTRAL | F5: 187634.71 | H5: 198730 | J5: =H5 -> 198730 | K5: =J5 -> 198730 | L5: 0.19 | M5: 40 | N5: 5 | O5: =N5*M5 -> 200 | P5: =O5*K5 -> 39746000 | Q5: =T5 -> 3974600 | R5: =S5*4+T5 -> 35771400 | S5: =P5/5 -> 7949200 | T5: =S5/2 -> 3974600
A6: 4 | B6: PAPEL FILTRO | C6: CAJA X 100 UNIDADES | D6: 32606 | E6: CONTRATO 265-DIGSA/CENACYOPAL-2020 | F6: 20103.57 | H6: 52836 | J6: =H6 -> 52836 | K6: =J6 -> 52836 | L6: 0.19 | M6: 2 | N6: 5 | O6: =N6*M6 -> 10 | P6: =O6*K6 -> 528360 | Q6: =T6 -> 52836 | R6: =S6*4+T6 -> 475524 | S6: =P6/5 -> 105672 | T6: =S6/2 -> 52836
A7: 5 | B7: TIRA INDICADOR E PH X 100 | C7: CAJA POR 100 VARILLAS | D7: - | E7: - | F7: 99930.54 | H7: 105910 | J7: =H7 -> 105910 | K7: =J7 -> 105910 | L7: 0.19 | M7: 50 | N7: 5 | O7: =N7*M7 -> 250 | P7: =O7*K7 -> 26477500 | Q7: =T7 -> 2647750 | R7: =S7*4+T7 -> 23829750 | S7: =P7/5 -> 5295500 | T7: =S7/2 -> 2647750
A8: 6 | B8: PUNTAS AMARILLAS DESECHABLES | C8: UNIDAD | D8: =(40460/1000) -> 40.46 | E8: CONTRATO 265-DIGSA/CENACYOPAL-2020 | F8: 31.62 | H8: 33.32 | I8: 50 | J8: =H8 -> 33.32 | K8: =J8 -> 33.32 | L8: 0.19 | M8: 15000 | N8: 5 | O8: =N8*M8 -> 75000 | P8: =O8*K8 -> 2499000 | Q8: =T8 -> 249900 | R8: =S8*4+T8 -> 2249100 | S8: =P8/5 -> 499800 | T8: =S8/2 -> 249900
A9: 7 | B9: PUNTAS AMARILLAS CON FILTRO DESECHABLES | C9: UNIDAD | D9: - | F9: 48.96 | H9: 749 | I9: 373 | J9: =I9 -> 373 | K9: =J9 -> 373 | L9: 0.19 | M9: 2000 | N9: 5 | O9: =N9*M9 -> 10000 | P9: =O9*K9 -> 3730000 | Q9: =T9 -> 373000 | R9: =S9*4+T9 -> 3357000 | S9: =P9/5 -> 746000 | T9: =S9/2 -> 373000
A10: 8 | B10: RECIPIENTE RECOLECTOR PARA ORINA DE 24 HORAS | C10: UNIDAD | D10: - | E10: - | F10: 5662.02 | G10: 7800 | H10: 7973 | J10: =G10 -> 7800 | K10: =J10 -> 7800 | L10: 0.19 | M10: 1000 | N10: 5 | O10: =N10*M10 -> 5000 | P10: =O10*K10 -> 39000000 | Q10: =T10 -> 3900000 | R10: =S10*4+T10 -> 35100000 | S10: =P10/5 -> 7800000 | T10: =S10/2 -> 3900000
A11: 9 | B11: PUNTAS PLÁSTICAS AZULES | C11: UNIDAD | D11: =(46529/1000) -> 46.529 | E11: CONTRATO 265-DIGSA/CENACYOPAL-2020 | F11: 33.58 | H11: 33.32 | I11: 71 | J11: =H11 -> 33.32 | K11: =AVERAGE(F11:H11) -> 33.45 | L11: 0.19 | M11: 15000 | N11: 5 | O11: =N11*M11 -> 75000 | P11: =O11*K11 -> 2508750 | Q11: =T11 -> 250875 | R11: =S11*4+T11 -> 2257875 | S11: =P11/5 -> 501750 | T11: =S11/2 -> 250875
A12: 10 | B12: PUNTAS PLÁSTICAS AZULES CON FILTRO | C12: UNIDAD | D12: - | E12: - | F12: 53.03 | H12: 749.7 | J12: =H12 -> 749.7 | K12: =J12 -> 749.7 | L12: 0.19 | M12: 2000 | N12: 5 | O12: =N12*M12 -> 10000 | P12: =O12*K12 -> 7497000 | Q12: =T12 -> 749700 | R12: =S12*4+T12 -> 6747300 | S12: =P12/5 -> 1499400 | T12: =S12/2 -> 749700
A13: 11 | B13: ANTÍGENOS FEBRILES | C13: KIT 6 X 5 ML | D13: - | E13: - | F13: 186721.42 | H13: 196900 | J13: =H13 -> 196900 | K13: =J13 -> 196900 | L13: EXENTO | M13: 6 | N13: 5 | O13: =N13*M13 -> 30 | P13: =O13*K13 -> 5907000 | Q13: =T13 -> 590700 | R13: =S13*4+T13 -> 5316300 | S13: =P13/5 -> 1181400 | T13: =S13/2 -> 590700
A14: 12 | B14: RPR | C14: PRUEBA | D14: =(4800) -> 4800 | E14: CONTRATO 265-DIGSA/CENACYOPAL-2020 | F14: 247.28 | H14: 1200 | J14: =H14 -> 1200 | K14: =J14 -> 1200 | L14: EXENTO | M14: 2000 | N14: 5 | O14: =N14*M14 -> 10000 | P14: =O14*K14 -> 12000000 | Q14: =T14 -> 1200000 | R14: =S14*4+T14 -> 10800000 | S14: =P14/5 -> 2400000 | T14: =S14/2 -> 1200000
A15: 13 | B15: VDRL | C15: PRUEBA | D15: =(105000) -> 105000 | E15: CONTRATO 265-DIGSA/CENACYOPAL-2020 | F15: 312.08 | H15: 440 | J15: =H15 -> 440 | K15: =J15 -> 440 | L15: EXENTO | M15: 500 | N15: 5 | O15: =N15*M15 -> 2500 | P15: =O15*K15 -> 1100000 | Q15: =T15 -> 110000 | R15: =S15*4+T15 -> 990000 | S15: =P15/5 -> 220000 | T15: =S15/2 -> 110000
A16: 14 | B16: PIPETAS VSG (MANUAL) | C16: UNIDAD | D16: - | E16: - | F16: 877.12 | H16: 922.25 | I16: 886 | J16: =H16 -> 922.25 | K16: =J16 -> 922.25 | L16: 0.19 | M16: 1000 | N16: 5 | O16: =N16*M16 -> 5000 | P16: =O16*K16 -> 4611250 | Q16: =T16 -> 461125 | R16: =S16*4+T16 -> 4150125 | S16: =P16/5 -> 922250 | T16: =S16/2 -> 461125
A17: 15 | B17: DETERMINACIÓN DE ANTICUERPOS HETEROFILOS | C17: PRUEBA | D17: - | E17: - | F17: 5489.68 | H17: 5770 | J17: =H17 -> 5770 | K17: =J17 -> 5770 | L17: 0.19 | M17: 2 | N17: 5 | O17: =N17*M17 -> 10 | P17: =O17*K17 -> 57700 | Q17: =T17 -> 5770 | R17: =S17*4+T17 -> 51930 | S17: =P17/5 -> 11540 | T17: =S17/2 -> 5770
A18: 16 | B18: LANCETA AUTOMÁTICA PARA TIEMPO DE SANGRÍA | C18: UNIDAD | D18: - | E18: - | F18: 3526.95 | H18: 9996 | J18: =H18 -> 9996 | K18: =J18 -> 9996 | L18: 0.19 | M18: 10 | N18: 5 | O18: =N18*M18 -> 50 | P18: =O18*K18 -> 499800 | Q18: =T18 -> 49980 | R18: =S18*4+T18 -> 449820 | S18: =P18/5 -> 99960 | T18: =S18/2 -> 49980
A19: 17 | B19: EQUIPO ALADO | C19: UNIDAD | D19: 592 | E19: CONTRATO No. 111-02-MDN-COGFM-DIGSA-JEFSA-FAC-2020 | F19: 1841.97 | G19: 1550 | H19: 2261 | J19: =H19 -> 2261 | K19: =J19 -> 2261 | L19: 0.19 | M19: 20 | N19: 5 | O19: =N19*M19 -> 100 | P19: =O19*K19 -> 226100 | Q19: =T19 -> 22610 | R19: =S19*4+T19 -> 203490 | S19: =P19/5 -> 45220 | T19: =S19/2 -> 22610
A20: 18 | B20: ACIDO HIPOCLOROSO | C20: GALON | D20: - | E20: - | F20: 21958.8 | H20: 19992 | J20: =H20 -> 19992 | K20: =J20 -> 19992 | L20: 0.19 | M20: 20 | N20: 5 | O20: =N20*M20 -> 100 | P20: =O20*K20 -> 1999200 | Q20: =T20 -> 199920 | R20: =S20*4+T20 -> 1799280 | S20: =P20/5 -> 399840 | T20: =S20/2 -> 199920
A21: 19 | B21: GLUCOSA ANHÍDRIDA | C21: MILILITRO | D21: - | E21: - | F21: 12.87 | H21: 30 | J21: =H21 -> 30 | K21: =J21 -> 30 | L21: EXENTO | M21: 120000 | N21: 5 | O21: =N21*M21 -> 600000 | P21: =O21*K21 -> 18000000 | Q21: =T21 -> 1800000 | R21: =S21*4+T21 -> 16200000 | S21: =P21/5 -> 3600000 | T21: =S21/2 -> 1800000
A22: 20 | B22: ALCOHOL ETÍLICO 99% | C22: FRASCO POR 500 ML | D22: - | E22: - | F22: 21540.48 | H22: 22610 | J22: =H22 -> 22610 | K22: =J22 -> 22610 | L22: 0.19 | M22: 2 | N22: 5 | O22: =N22*M22 -> 10 | P22: =O22*K22 -> 226100 | Q22: =T22 -> 22610 | R22: =S22*4+T22 -> 203490 | S22: =P22/5 -> 45220 | T22: =S22/2 -> 22610
A23: 21 | B23: FOSFATO TRISÓDICO | C23: FRASCO POR 500 ML | D23: - | E23: - | F23: 32795.36 | H23: 44030 | J23: =H23 -> 44030 | K23: =J23 -> 44030 | L23: EXENTO | M23: 1 | N23: 5 | O23: =N23*M23 -> 5 | P23: =O23*K23 -> 220150 | Q23: =T23 -> 22015 | R23: =S23*4+T23 -> 198135 | S23: =P23/5 -> 44030 | T23: =S23/2 -> 22015
A24: 22 | B24: TUBO CÓNICO GRADUADO PARA CENTRÍFUGA | C24: UNIDAD | D24: - | E24: - | F24: 8859.92 | H24: 595 | J24: =H24 -> 595 | K24: =J24 -> 595 | L24: 0.19 | M24: 1000 | N24: 5 | O24: =N24*M24 -> 5000 | P24: =O24*K24 -> 2975000 | Q24: =T24 -> 297500 | R24: =S24*4+T24 -> 2677500 | S24: =P24/5 -> 595000 | T24: =S24/2 -> 297500
A25: 23 | B25: HIDRÓXIDO DE POTASIO AL 10% | C25: FRASCO X 100 MILILITROS | D25: 26894 | E25: CONTRATO 265-DIGSA/CENACYOPAL-2020 | F25: 12544.69 | H25: 14161 | J25: =H25 -> 14161 | K25: =J25 -> 14161 | L25: 0.19 | M25: 2 | N25: 5 | O25: =N25*M25 -> 10 | P25: =O25*K25 -> 141610 | Q25: =T25 -> 14161 | R25: =S25*4+T25 -> 127449 | S25: =P25/5 -> 28322 | T25: =S25/2 -> 14161
A26: 24 | B26: HIDRÓXIDO DE POTASIO AL 20% | C26: FRASCO X 100 MILILITROS | D26: =(22723*2) -> 45446 | E26: CONTRATO N° 108-2019 HOSPITAL MILITAR CENTRAL | F26: 23694.18 | H26: 25585 | J26: =H26 -> 25585 | K26: =J26 -> 25585 | L26: 0.19 | M26: 2 | N26: 5 | O26: =N26*M26 -> 10 | P26: =O26*K26 -> 255850 | Q26: =T26 -> 25585 | R26: =S26*4+T26 -> 230265 | S26: =P26/5 -> 51170 | T26: =S26/2 -> 25585
A27: 25 | B27: HIDRÓXIDO DE POTASIO AL 40% | C27: FRASCO 100 ML | D27: 50575 | E27: CONTRATO 265-DIGSA/CENACYOPAL-2020 | F27: 25192.57 | H27: 30940 | J27: =H27 -> 30940 | K27: =J27 -> 30940 | L27: 0.19 | M27: 5 | N27: 5 | O27: =N27*M27 -> 25 | P27: =O27*K27 -> 773500 | Q27: =T27 -> 77350 | R27: =S27*4+T27 -> 696150 | S27: =P27/5 -> 154700 | T27: =S27/2 -> 77350
A28: 26 | B28: HIDRÓXIDO DE SODIO AL 4% | C28: FRASCO X 100 MILILITROS | D28: =(15702/5) -> 3140.4 | E28: CONTRATO N° 108-2019 HOSPITAL MILITAR CENTRAL | F28: 9689.11 | H28: 14161 | J28: =H28 -> 14161 | K28: =J28 -> 14161 | L28: 0.19 | M28: 2 | N28: 5 | O28: =N28*M28 -> 10 | P28: =O28*K28 -> 141610 | Q28: =T28 -> 14161 | R28: =S28*4+T28 -> 127449 | S28: =P28/5 -> 28322 | T28: =S28/2 -> 14161
A29: 27 | B29: TABLETA PARA DETERMINACIÓN DE AZUCARES REDUCTORES | C29: PRUEBA | D29: - | E29: - | F29: 3263.7 | H29: 4480 | J29: =H29 -> 4480 | K29: =J29 -> 4480 | L29: EXENTO | M29: 1000 | N29: 5 | O29: =N29*M29 -> 5000 | P29: =O29*K29 -> 22400000 | Q29: =T29 -> 2240000 | R29: =S29*4+T29 -> 20160000 | S29: =P29/5 -> 4480000 | T29: =S29/2 -> 2240000
A30: 28 | B30: METABISULFITO DE SODIO | C30: FRASCO X 50 MILILITROS | D30: - | E30: - | F30: 5099.53 | H30: 52717 | J30: =H30 -> 52717 | K30: =J30 -> 52717 | L30: 0.19 | M30: 1 | N30: 5 | O30: =N30*M30 -> 5 | P30: =O30*K30 -> 263585 | Q30: =T30 -> 26358.5 | R30: =S30*4+T30 -> 237226.5 | S30: =P30/5 -> 52717 | T30: =S30/2 -> 26358.5
A31: 29 | B31: SUERO HEMOCLASIFICADOR ANTI A | C31: FRASCO X 10 ml | D31: 17000 | E31: CONTRATO 265-DIGSA/CENACYOPAL-2020 | F31: 11218.97 | H31: 11900 | J31: =H31 -> 11900 | K31: =J31 -> 11900 | L31: EXENTO | M31: 10 | N31: 5 | O31: =N31*M31 -> 50 | P31: =O31*K31 -> 595000 | Q31: =T31 -> 59500 | R31: =S31*4+T31 -> 535500 | S31: =P31/5 -> 119000 | T31: =S31/2 -> 59500
A32: 30 | B32: SUERO HEMOCLASIFICADOR ANTI B | C32: FRASCO X 10 ml | D32: 17000 | E32: CONTRATO 265-DIGSA/CENACYOPAL-2020 | F32: 11218.97 | H32: 11900 | J32: =H32 -> 11900 | K32: =J32 -> 11900 | L32: EXENTO | M32: 10 | N32: 5 | O32: =N32*M32 -> 50 | P32: =O32*K32 -> 595000 | Q32: =T32 -> 59500 | R32: =S32*4+T32 -> 535500 | S32: =P32/5 -> 119000 | T32: =S32/2 -> 59500
A33: 31 | B33: SUERO HEMOCLASIFICADOR ANTI D | C33: FRASCO X 10 ml | D33: 32500 | E33: CONTRATO 265-DIGSA/CENACYOPAL-2020 | F33: 19378.22 | H33: 21000 | J33: =H33 -> 21000 | K33: =J33 -> 21000 | L33: EXENTO | M33: 10 | N33: 5 | O33: =N33*M33 -> 50 | P33: =O33*K33 -> 1050000 | Q33: =T33 -> 105000 | R33: =S33*4+T33 -> 945000 | S33: =P33/5 -> 210000 | T33: =S33/2 -> 105000
A34: 32 | B34: LÁMINAS | C34: CAJA X 100 | D34: =(4641*2) -> 9282 | E34: CONTRATO 265-DIGSA/CENACYOPAL-2020 | F34: 1325.88 | H34: 3570 | J34: =H34 -> 3570 | K34: =J34 -> 3570 | L34: 0.19 | M34: 2500 | N34: 5 | O34: =N34*M34 -> 12500 | P34: =O34*K34 -> 44625000 | Q34: =T34 -> 4462500 | R34: =S34*4+T34 -> 40162500 | S34: =P34/5 -> 8925000 | T34: =S34/2 -> 4462500
A35: 33 | B35: LAMINILLAS | C35: CAJA X 50 | D35: =(2213/50) -> 44.26 | E35: CONTRATO 265-DIGSA/CENACYOPAL-2020 | F35: 3161.71 | H35: 3332 | J35: =H35 -> 3332 | K35: =J35 -> 3332 | L35: 0.19 | M35: 1000 | N35: 5 | O35: =N35*M35 -> 5000 | P35: =O35*K35 -> 16660000 | Q35: =T35 -> 1666000 | R35: =S35*4+T35 -> 14994000 | S35: =P35/5 -> 3332000 | T35: =S35/2 -> 1666000
A36: 34 | B36: FACTOR REUMATOIDEO SEMICUANTITATIVA POR LATEX | C36: PRUEBA | D36: =(63700/50) -> 1274 | E36: CONTRATO 265-DIGSA/CENACYOPAL-2020 | F36: 968.91 | H36: 1016 | J36: =H36 -> 1016 | K36: =J36 -> 1016 | L36: EXENTO | M36: 1000 | N36: 5 | O36: =N36*M36 -> 5000 | P36: =O36*K36 -> 5080000 | Q36: =T36 -> 508000 | R36: =S36*4+T36 -> 4572000 | S36: =P36/5 -> 1016000 | T36: =S36/2 -> 508000
A37: 35 | B37: ANTIESTREPTOLISINA O SEMICUANTITATIVA POR LÁTEX | C37: PRUEBA | D37: =(67200/50) -> 1344 | E37: CONTRATO 265-DIGSA/CENACYOPAL-2020 | F37: 1499.27 | H37: 1574 | J37: =H37 -> 1574 | K37: =J37 -> 1574 | L37: EXENTO | M37: 1000 | N37: 5 | O37: =N37*M37 -> 5000 | P37: =O37*K37 -> 7870000 | Q37: =T37 -> 787000 | R37: =S37*4+T37 -> 7083000 | S37: =P37/5 -> 1574000 | T37: =S37/2 -> 787000
A38: 36 | B38: PROTEÍNA C REACTIVA SEMICUANTITATIVA POR LÁTEX | C38: PRUEBA | D38: =(63700/50) -> 1274 | E38: CONTRATO 265-DIGSA/CENACYOPAL-2020 | F38: 1213.69 | H38: 1274 | J38: =H38 -> 1274 | K38: =J38 -> 1274 | L38: EXENTO | M38: 1000 | N38: 5 | O38: =N38*M38 -> 5000 | P38: =O38*K38 -> 6370000 | Q38: =T38 -> 637000 | R38: =S38*4+T38 -> 5733000 | S38: =P38/5 -> 1274000 | T38: =S38/2 -> 637000
A39: 37 | B39: COOMBS DIRECTO E INDIRECTO PRUEBA CUALITATIVA | C39: PRUEBA | D39: - | E39: - | F39: 34676.81 | H39: 42900 | J39: =H39 -> 42900 | K39: =J39 -> 42900 | L39: EXENTO | M39: 10 | N39: 5 | O39: =N39*M39 -> 50 | P39: =O39*K39 -> 2145000 | Q39: =T39 -> 214500 | R39: =S39*4+T39 -> 1930500 | S39: =P39/5 -> 429000 | T39: =S39/2 -> 214500
A40: 38 | B40: ALBÚMINA O LISS AL 30% | C40: FRASCO X 10ML | D40: - | E40: - | F40: ITEM NUEVO, NO TIENE PRECIO HISTÓRICO | H40: 35800 | J40: =H40 -> 35800 | K40: =J40 -> 35800 | L40: EXENTO | M40: 10 | N40: 5 | O40: =N40*M40 -> 50 | P40: =O40*K40 -> 1790000 | Q40: =T40 -> 179000 | R40: =S40*4+T40 -> 1611000 | S40: =P40/5 -> 358000 | T40: =S40/2 -> 179000
...

Sheet GRUPO 5
A1: GRUPO 5 . MARCADORES DE INSUFICIENCIA CARDIACA, TROMBOSIS, GASES ARTERIALES, ELECTROLITOS Y METABOLITOS (LABORATORIOS MEDIANA COMPLEJIDAD-ADJUDICACIÓN PARCIAL POR GRUPO)
A2: ÍTEM | B2: DESCRIPCIÓN | C2: UNIDAD DE MEDIDA | D2: PRECIO SECOP II | E2: INSTITUCIÓN PRECIO SECOP | F2: PRECIO HISTÓRICO 2021 | G2: ANÁLISIS TÉCNICOS | H2: ANNAR DIAGNOSTICA | I2: MENOR VALOR COTIZADO MERCADO | J2: PRECIO ESTIMADO | K2: EXENTO, EXCLUIDO CON IVA | L2: CANTIDAD POR MES | M2: N MES | N2: CANTIDAD TOTAL | O2: VALOR TOTAL | P2: VIGENCIA 2021 | Q2: VIGENCIA 2022
A3: 1 | B3: TROPONINA I | C3: PRUEBA COMPLETA | D3: - | E3: - | F3: 24680 | G3: 27640 | H3: 20760 | I3: =H3 -> 20760 | J3: 22720 | K3: EXENTO | L3: 550 | M3: 6 | N3: =L3*M3 -> 3300 | O3: =N3*J3 -> 74976000 | P3: =S3 -> 6248000 | Q3: =R3*5+S3 -> 68728000 | R3: =O3/6 -> 12496000 | S3: =R3/2 -> 6248000
A4: 2 | B4: GASES ARTERIALES | C4: PRUEBA COMPLETA | D4: - | E4: - | F4: 19087 | G4: 21375 | H4: 21190 | I4: =H4 -> 21190 | J4: 20138.5 | K4: EXENTO | L4: 1450 | M4: 6 | N4: =L4*M4 -> 8700 | O4: =N4*J4 -> 175204950 | P4: =S4 -> 14600412 | Q4: =R4*5+S4 -> 1.6060454e+08 | R4: =O4/6 -> 29200825 | S4: =R4/2 -> 14600412
A5: 3 | B5: ELECTROLITOS (SODIO, POTASIO, CLORO) Y METABOLITOS (LACTOSA Y GLUCOSA) | C5: PRUEBA COMPLETA | D5: - | E5: - | F5: 18510 | G5: 20730 | H5: 19751 | I5: =H5 -> 19751 | J5: 19130.5 | K5: EXENTO | L5: 600 | M5: 6 | N5: =L5*M5 -> 3600 | O5: =N5*J5 -> 68869800 | P5: =S5 -> 5739150 | Q5: =R5*5+S5 -> 63130650 | R5: =O5/6 -> 11478300 | S5: =R5/2 -> 5739150
A6: 4 | B6: DIMERO D | C6: PRUEBA COMPLETA | D6: - | E6: - | F6: 25629 | G6: 28705 | H6: 19800 | I6: =H6 -> 19800 | J6: 22714.5 | K6: EXENTO | L6: 30 | M6: 6 | N6: =L6*M6 -> 180 | O6: =N6*J6 -> 4088610 | P6: =S6 -> 340717.5 | Q6: =R6*5+S6 -> 3747892.5 | R6: =O6/6 -> 681435 | S6: =R6/2 -> 340717.5
A7: VALOR TOTAL GRUPO No. 8 MARCADORES DE INSUFICIENCIA CARDIACA, TROMBOSIS, GASES ARTERIALES | O7: =P7+Q7 -> 323139360 | P7: =SUM(P3:P6) -> 26928280 | Q7: =SUM(Q3:Q6) -> 296211080 | R7: =O7/7 -> 46162766 | S7: =R7/2 -> 23081383

Sheet PRESUPUESTO PROCESO INSUMOS 
A1: PRESUPUESTO PROCESO INSUMOS Y REACTIVOS LABORATORIOS DIRECCIÓN DE SANIDAD 2021
A2: GRUPO | B2: DESCRIPCIÓN | C2: VIGENCIA 2021 | D2: VIGENCIA 2022 | E2: VALOR GRUPO
A3: 1 | B3: MICROBIOLOGIA MEDIANA COMPLEJIDAD | C3: ='GRUPO 1'!O7 -> 13130000 | D3: ='GRUPO 1'!P7 -> 144430000 | E3: =SUM(C3:D3) -> 157560000
A4: 2 | B4: MICROBIOLOGÍA MANUAL | C4: ='GRUPO 2'!U18 -> 8456645 | D4: ='GRUPO 2'!V18 -> 33826580 | E4: =SUM(C4:D4) -> 42283225
A5: 3 | B5: TAMIZAJE NEONATAL AMPLIADO | C5: ='GRUPO 3'!N11 -> 9368117.3 | D5: ='GRUPO 3'!O11 -> 46840587 | E5: =SUM(C5:D5) -> 56208704
A6: 5 | B6: OTROS INSUMOS Y REACTIVOS | C6: ='GRUPO 4'!Q53 -> 33295075 | D6: ='GRUPO 4'!R53 -> 299655675 | E6: =SUM(C6:D6) -> 332950750
A7: 8 | B7: MARCADORES DE INSUFICIENCIA CARDIACA, TROMBOSIS Y GASES ARTERIALES | C7: ='GRUPO 5'!P7 -> 26928280 | D7: ='GRUPO 5'!Q7 -> 296211080 | E7: =SUM(C7:D7) -> 323139360
A8: VALOR TOTAL PROCESO | C8: =SUM(C3:C7) -> 91178117 | D8: =SUM(D3:D7) -> 8.2096392e+08 | E8: =SUM(C8:D8) -> 9.1214204e+08
