Workbook
Name \a: #REF!
Name \a: #REF!
Name \b: #REF!
Name \b: #REF!
Name \eliminar: [1]RESUM96!#REF!
Name \eliminar: [1]RESUM96!#REF!
Name \eliminar1: [1]RESUM96!#REF!
Name \eliminar1: [1]RESUM96!#REF!
Name \f: #REF!
Name \f: #REF!
Name \q: #REF!
Name \q: #REF!
Name \X: [2]!ERR
Name \X: [2]!ERR
Name \Z: [2]!ERR
Name \Z: [2]!ERR
Name _________________________________________\a: #REF!
Name _________________________________________\a: #REF!
Name _________________________________________\b: #REF!
Name _________________________________________\b: #REF!
Name _________________________________________\eliminar: [1]RESUM96!#REF!
Name _________________________________________\eliminar: [1]RESUM96!#REF!
Name _________________________________________\eliminar1: [1]RESUM96!#REF!
Name _________________________________________\eliminar1: [1]RESUM96!#REF!
Name _________________________________________\q: #REF!
Name _________________________________________\q: #REF!
Name ______________________i1: #REF!
Name ______________________i1: #REF!
Name _____________________i1: #REF!
Name _____________________i1: #REF!
Name ____________________i1: #REF!
Name ____________________i1: #REF!
Name ___________________i1: #REF!
Name ___________________i1: #REF!
Name __________________i1: #REF!
Name __________________i1: #REF!
Name _________________i1: #REF!
Name _________________i1: #REF!
Name ________________EST10: #REF!
Name ________________EST10: #REF!
Name ________________EST11: #REF!
Name ________________EST11: #REF!
Name ________________EST12: #REF!
Name ________________EST12: #REF!
Name ________________EST13: #REF!
Name ________________EST13: #REF!
Name ________________EST14: #REF!
Name ________________EST14: #REF!
Name ________________EST16: #REF!
Name ________________EST16: #REF!
Name ________________EST17: #REF!
Name ________________EST17: #REF!
Name ________________EST18: #REF!
Name ________________EST18: #REF!
Name ________________EST19: #REF!
Name ________________EST19: #REF!
Name ________________EST2: #REF!
Name ________________EST2: #REF!
Name ________________EST3: #REF!
Name ________________EST3: #REF!

Sheet 5.5 AIU
B1: =+[140]PMT!C2 -> CONTRATO No. 221 – 2020 – PR. 169 “ESTUDIOS Y DISEÑOS DE ELEMENTOS DE INFRAESTRUCTURA DEL SETP - POPAYÁN: ESTACIÓN DE INTEGRACIÓN NORTE, ESTACIÓN DE INTEGRACIÓN OCCIDENTE, PARADERO CON ESPACIO PÚBLICO DEL SUR Y CONEXIONES VIALES ASOCIADAS, QUE PERMITIRÁN MEDIANTE LA INFRAESTRUCTURA ADECUADA LA INTERACCIÓN DE LOS DIFERENTES MODOS DE TRANSPORTE EN LA CIUDAD, EN PUNTOS ESTRATÉGICOS” | G1: =+[140]PMT!H2 -> MOVILIDAD FUTURA S.A.S NIT 900323358-2 Carrera 5 No. 2 - 11 Popayán, Cauca www.movilidadfutura.gov.co
B3: GASTOS DEL CONTRATO ANÁLISIS DEL AIU ESTACION NORTE
B7: COSTO DIRECTO TOTAL | H7: =[141]PRESUPUESTO!$H$610 -> 10611671730
B9: COSTOS DE ADMINISTRACION DE OBRA | G9: =+(H9/H7)-1 -> 0.3 | H9: =ROUND(H7*1.3,0) -> 13795173249
B11: Descripción | C11: un | D11: cantidad | E11: meses | F11: % de participación | G11: Valor unitario | H11: Valor total
A12: 1.0 | B12: COSTO PERSONAL DE OBRA
A13: 1.1 | B13: Personal de obra incluye factor prestacional | H13: =SUM(H14:H26)*H27 -> 4.4416802e+08
A14: 1.1.1 | B14: DIRECTOR DE PROYECTO (CATEGORÍA 1) | C14: mes | D14: 1 | E14: 12 | F14: 0.5 | G14: 6959411.8 | H14: =E14*F14*G14*D14 -> 41756471
A15: 1.1.2 | B15: RESIDENTE DE OBRA - ARQUITECTO (CATEGORÍA 4) | C15: mes | D15: 1 | E15: 10 | F15: 1 | G15: 3812941.2 | H15: =E15*F15*G15*D15 -> 38129412
A16: 1.1.3 | B16: RESIDENTE DE OBRA (CATEGORÍA 4) | C16: mes | D16: 1 | E16: 10 | F16: 1 | G16: 3812941.2 | H16: =E16*F16*G16*D16 -> 38129412
A17: 1.1.10 | B17: RESIDENTE AMBIENTAL (CATEGORÍA 5) | C17: mes | D17: 1 | E17: 12 | F17: 1 | G17: 3438235.3 | H17: =E17*F17*G17*D17 -> 41258824
A18: 1.1.11 | B18: RESIDENTE SOCIAL (CATEGORÍA 6) | C18: mes | D18: 1 | E18: 12 | F18: 1 | G18: 3066470.6 | H18: =E18*F18*G18*D18 -> 36797647
A19: 1.1.12 | B19: RESIDENTE SST (CATEGORÍA 7) | C19: mes | D19: 1 | E19: 10 | F19: 1 | G19: 2319411.8 | H19: =E19*F19*G19*D19 -> 23194118
A20: 1.1.13 | B20: RESIDENTE FORESTAL (CATEGORÍA 5) | C20: mes | D20: 1 | E20: 10 | F20: 0.5 | G20: 3438235.3 | H20: =E20*F20*G20*D20 -> 17191176
A21: 1.1.4 | B21: ESPECIALISTA ESTRUCTURAL (CATEGORÍA 2) | C21: mes | D21: 1 | E21: 10 | F21: 0.2 | G21: 5304705.9 | H21: =E21*F21*G21*D21 -> 10609412
A22: 1.1.5 | B22: ESPECIALISTA EN PAVIMENTOS (CATEGORÍA 2) | C22: mes | D22: 1 | E22: 10 | F22: 0.2 | G22: 5304705.9 | H22: =E22*F22*G22*D22 -> 10609412
A23: 1.1.6 | B23: ESPECIALISTA EN GEOTÉCNIA (CATEGORÍA 2) | C23: mes | D23: 1 | E23: 10 | F23: 0.2 | G23: 5304705.9 | H23: =E23*F23*G23*D23 -> 10609412
A24: 1.1.7 | B24: ESPECIALISTA EN TRANSITO Y TRANSPORTES (CATEGORÍA 2) | C24: mes | D24: 1 | E24: 10 | F24: 0.2 | G24: 5304705.9 | H24: =E24*F24*G24*D24 -> 10609412
A25: 1.1.8 | B25: ESPECIALISTA HIDRÁULICO (CATEGORÍA 2) | C25: mes | D25: 1 | E25: 10 | F25: 0.2 | G25: 5304705.9 | H25: =E25*F25*G25*D25 -> 10609412
A26: 1.1.9 | B26: ESPECIALISTA ELECTRICO | C26: mes | D26: 1 | E26: 10 | F26: 0.2 | G26: 5304705.9 | H26: =E26*F26*G26*D26 -> 10609412
C27: FACTOR PRESTACIONAL (%) | H27: 1.48
A28: 1.2 | B28: Personal administrativo incluye factor prestacional | H28: =SUM(H29:H30)*H31 -> 42563000
A29: 1.2.1 | B29: contador | C29: mes | D29: 1 | E29: 10 | F29: 0.25 | G29: 3732000 | H29: =E29*F29*G29*D29 -> 9330000
A30: 1.2.2 | B30: secretaria 2 | C30: mes | D30: 1 | E30: 10 | F30: 1 | G30: =+G36 -> 1813000 | H30: =E30*F30*G30*D30 -> 18130000
C31: FACTOR PRESTACIONAL (%) | H31: 1.55
A32: 1.3 | B32: Personal tecnico y auxiliar tecnico incluye factor prestacional | H32: =SUM(H33:H38)*H39 -> 153306470
A33: 1.3.1 | B33: auxiliar de ingeniería | C33: mes | D33: 1 | E33: 10 | F33: 1 | H33: =E33*F33*G33*D33 -> 0
A34: 1.3.2 | B34: topógrafo | C34: mes | D34: 1 | E34: 10 | F34: 1 | G34: 2638740 | H34: =E34*F34*G34*D34 -> 26387400
A35: 1.3.3 | B35: laboratorista | C35: mes | D35: 1 | E35: 10 | F35: 1 | G35: 1813000 | H35: =E35*F35*G35*D35 -> 18130000
A36: 1.3.4 | B36: conductor | C36: mes | D36: 1 | E36: 10 | F36: 1 | G36: 1813000 | H36: =E36*F36*G36*D36 -> 18130000
A37: 1.3.5 | B37: cadenero 1 | C37: mes | D37: 1 | E37: 10 | F37: 1 | G37: 1813000 | H37: =E37*F37*G37*D37 -> 18130000
A38: 1.3.6 | B38: almacenista | C38: mes | D38: 1 | E38: 10 | F38: 1 | G38: 1813000 | H38: =E38*F38*G38*D38 -> 18130000
C39: FACTOR PRESTACIONAL (%) | H39: 1.55
B40: TOTAL COSTO PERSONAL DE OBRA | H40: =+H32+H28+H13 -> 6.4003749e+08
A42: 2 | B42: COSTOS DE SERVICIOS PUBLICOS
A43: 2.1 | B43: Energía incluye acometida | C43: und | E43: 12 | G43: 250000 | H43: =E43*G43 -> 3000000
A44: 2.2 | B44: Agua incluye acometida | C44: und | E44: 12 | G44: 250000 | H44: =E44*G44 -> 3000000
A45: 2.3 | B45: Internet y telefonia | C45: und | E45: 12 | G45: =164054 -> 164054 | H45: =E45*G45 -> 1968648
B46: TOTAL COSTOS DE SERVICIOS PUBLICOS | H46: =SUM(H43:H45) -> 7968648
A48: 3 | B48: COSTO DE DOTACION CAMPAMENTO E INSTALACIONES PROVISIONALES
...

Sheet 5.6 INTERVENTORIA 
C1: =+[142]AIU!B1 -> CONTRATO No. 221 – 2020 – PR. 169 “ESTUDIOS Y DISEÑOS DE ELEMENTOS DE INFRAESTRUCTURA DEL SETP - POPAYÁN: ESTACIÓN DE INTEGRACIÓN NORTE, ESTACIÓN DE INTEGRACIÓN OCCIDENTE, PARADERO CON ESPACIO PÚBLICO DEL SUR Y CONEXIONES VIALES ASOCIADAS, QUE PERMITIRÁN MEDIANTE LA INFRAESTRUCTURA ADECUADA LA INTERACCIÓN DE LOS DIFERENTES MODOS DE TRANSPORTE EN LA CIUDAD, EN PUNTOS ESTRATÉGICOS” | U1: =+[142]AIU!G1 -> MOVILIDAD FUTURA S.A.S NIT 900323358-2 Carrera 5 No. 2 - 11 Popayán, Cauca www.movilidadfutura.gov.co
C2: PRESUPUESTO DE INTERVENTORÍA ESTACION NORTE
A5: ÍTEM | B5: CONCEPTO | C5: CANTIDAD | D5: CATEGORÍA | E5: COSTO MES | F5: F.M. | G5: COSTO TOTAL MENSUAL | H5: DEDICACIÓN | V5: VALOR PARCIAL
H6: 1 | I6: 2 | J6: 3 | K6: 4 | L6: 5 | M6: 6 | N6: 7 | O6: 8 | P6: 9 | Q6: 10 | R6: 11 | S6: 12 | T6: 13 | U6: TOTAL MES
A7: A | B7: PERSONAL PROFESIONAL
A8: 1 | B8: DIRECTOR DE PROYECTO (CATEGORÍA 1) | C8: 1 | D8: 1 | E8: 6959411.8 | F8: =+'FACTOR MULTIPLICADOR '!$D$54 -> 2.38 | G8: =E8*F8 -> 16563400 | H8: 0.5 | I8: 0.5 | J8: 0.5 | K8: 0.5 | L8: 0.5 | M8: 0.5 | N8: 0.5 | O8: 0.5 | P8: 0.5 | Q8: 0.5 | R8: 0.5 | S8: 0.5 | T8: 0.5 | U8: =SUM(H8:T8) -> 6.5 | V8: =U8*G8*C8 -> 107662100
A9: 2 | B9: RESIDENTE DE OBRA (CATEGORÍA 3) | C9: 1 | D9: 4 | E9: 3812941.2 | F9: =+'FACTOR MULTIPLICADOR '!$D$54 -> 2.38 | G9: =E9*F9 -> 9074800 | H9: 1 | I9: 1 | J9: 1 | K9: 1 | L9: 1 | M9: 1 | N9: 1 | O9: 1 | P9: 1 | Q9: 1 | R9: 1 | S9: 1 | T9: 1 | U9: =SUM(H9:T9) -> 13 | V9: =U9*G9*C9 -> 117972400
A10: 3 | B10: RESIDENTE ARQUITECTONICO (CATEGORÍA 3) | C10: 1 | D10: 4 | E10: 3812941.2 | F10: =+'FACTOR MULTIPLICADOR '!$D$54 -> 2.38 | G10: =E10*F10 -> 9074800 | H10: 1 | I10: 1 | J10: 1 | K10: 1 | L10: 1 | M10: 1 | N10: 1 | O10: 1 | P10: 1 | Q10: 1 | R10: 1 | S10: 1 | T10: 1 | U10: =SUM(H10:T10) -> 13 | V10: =U10*G10*C10 -> 117972400
A11: 4 | B11: RESIDENTE AMBIENTAL (CATEGORÍA 5) | C11: 1 | D11: 5 | E11: 3438235.3 | F11: =+'FACTOR MULTIPLICADOR '!$D$54 -> 2.38 | G11: =E11*F11 -> 8183000 | H11: 1 | I11: 1 | J11: 1 | K11: 1 | L11: 1 | M11: 1 | N11: 1 | O11: 1 | P11: 1 | Q11: 1 | R11: 1 | S11: 1 | T11: 1 | U11: =SUM(H11:T11) -> 13 | V11: =U11*G11*C11 -> 106379000
A12: 5 | B12: RESIDENTE SOCIAL (CATEGORÍA 6) | C12: 1 | D12: 6 | E12: 3066470.6 | F12: =+'FACTOR MULTIPLICADOR '!$D$54 -> 2.38 | G12: =E12*F12 -> 7298200 | H12: 1 | I12: 1 | J12: 1 | K12: 1 | L12: 1 | M12: 1 | N12: 1 | O12: 1 | P12: 1 | Q12: 1 | R12: 1 | S12: 1 | T12: 1 | U12: =SUM(H12:T12) -> 13 | V12: =U12*G12*C12 -> 94876600
A13: 6 | B13: RESIDENTE SISOMA (CATEGORÍA 6) | C13: 1 | D13: 7 | E13: =+'[143]TABLA SALARIAL'!$K$16 -> 2319411.8 | F13: =+'FACTOR MULTIPLICADOR '!$D$54 -> 2.38 | G13: =E13*F13 -> 5520200 | H13: 1 | I13: 1 | J13: 1 | K13: 1 | L13: 1 | M13: 1 | N13: 1 | O13: 1 | P13: 1 | Q13: 1 | R13: 1 | S13: 1 | U13: =SUM(H13:T13) -> 12 | V13: =U13*G13*C13 -> 66242400
A14: 7 | B14: RESIDENTE FORESTAL (CATEGORÍA 6) | C14: 1 | D14: 5 | E14: =+E11 -> 3438235.3 | F14: =+'FACTOR MULTIPLICADOR '!$D$54 -> 2.38 | G14: =E14*F14 -> 8183000 | H14: 0.5 | I14: 0.5 | J14: 0.5 | K14: 0.5 | L14: 0.5 | M14: 0.5 | N14: 0.5 | O14: 0.5 | P14: 0.5 | Q14: 0.5 | R14: 0.5 | S14: 0.5 | U14: =SUM(H14:T14) -> 6 | V14: =U14*G14*C14 -> 49098000
A15: 8 | B15: ESPECIALISTA ESTRUCTURAL (CATEGORÍA 4) | C15: 1 | D15: 2 | E15: 5304705.9 | F15: =+'FACTOR MULTIPLICADOR '!$D$54 -> 2.38 | G15: =E15*F15 -> 12625200 | H15: 0.25 | I15: 0.25 | J15: 0.25 | K15: 0.25 | L15: 0.25 | M15: 0.25 | N15: 0.25 | O15: 0.25 | P15: 0.25 | Q15: 0.25 | R15: 0.25 | S15: 0.25 | U15: =SUM(H15:T15) -> 3 | V15: =U15*G15*C15 -> 37875600
A16: 9 | B16: ESPECIALISTA EN PAVIMENTOS (CATEGORÍA 4) | C16: 1 | D16: 2 | E16: 5304705.9 | F16: =+'FACTOR MULTIPLICADOR '!$D$54 -> 2.38 | G16: =E16*F16 -> 12625200 | H16: 0.25 | I16: 0.25 | J16: 0.25 | K16: 0.25 | L16: 0.25 | M16: 0.25 | N16: 0.25 | O16: 0.25 | P16: 0.25 | Q16: 0.25 | R16: 0.25 | S16: 0.25 | U16: =SUM(H16:T16) -> 3 | V16: =U16*G16*C16 -> 37875600
A17: 10 | B17: ESPECIALISTA EN GEOTÉCNIA (CATEGORÍA 4) | C17: 1 | D17: 2 | E17: 5304705.9 | F17: =+'FACTOR MULTIPLICADOR '!$D$54 -> 2.38 | G17: =E17*F17 -> 12625200 | H17: 0.25 | I17: 0.25 | J17: 0.25 | K17: 0.25 | L17: 0.25 | M17: 0.25 | N17: 0.25 | O17: 0.25 | P17: 0.25 | Q17: 0.25 | R17: 0.25 | S17: 0.25 | U17: =SUM(H17:T17) -> 3 | V17: =U17*G17*C17 -> 37875600
A18: 11 | B18: ESPECIALISTA ELECTRICO (CATEGORÍA 4) | C18: 1 | D18: 2 | E18: 5304705.9 | F18: =+'FACTOR MULTIPLICADOR '!$D$54 -> 2.38 | G18: =E18*F18 -> 12625200 | H18: 0.25 | I18: 0.25 | J18: 0.25 | K18: 0.25 | L18: 0.25 | M18: 0.25 | N18: 0.25 | O18: 0.25 | P18: 0.25 | Q18: 0.25 | R18: 0.25 | S18: 0.25 | U18: =SUM(H18:T18) -> 3 | V18: =U18*G18*C18 -> 37875600
A19: 12 | B19: ESPECIALISTA HIDRÁULICO (CATEGORÍA 4) | C19: 1 | D19: 2 | E19: 5304705.9 | F19: =+'FACTOR MULTIPLICADOR '!$D$54 -> 2.38 | G19: =E19*F19 -> 12625200 | H19: 0.25 | I19: 0.25 | J19: 0.25 | K19: 0.25 | L19: 0.25 | M19: 0.25 | N19: 0.25 | O19: 0.25 | P19: 0.25 | Q19: 0.25 | R19: 0.25 | S19: 0.25 | U19: =SUM(H19:T19) -> 3 | V19: =U19*G19*C19 -> 37875600
A20: SUBTOTAL A. COSTOS DE PERSONAL PROFESIONAL | V20: =SUM(V8:V19) -> 849580900
A22: ÍTEM | B22: CONCEPTO | C22: CANTIDAD | E22: =+E5 -> COSTO MES | F22: =+F5 -> F.M. | G22: =+G5 -> COSTO TOTAL MENSUAL | H22: 1 | I22: 2 | J22: 3 | K22: 4 | L22: 5 | M22: 6 | N22: 7 | O22: 8 | P22: 9 | Q22: 10 | R22: 11 | S22: 12 | T22: 13 | U22: TOTAL MES | V22: VALOR PARCIAL
A24: B | B24: PERSONAL TÉCNICO AUXILIAR
A25: 1 | B25: SECRETARIA | C25: 1 | E25: 1562480 | F25: =+'FACTOR MULTIPLICADOR '!$D$54 -> 2.38 | G25: =+E25*F25 -> 3718702.4 | H25: 1 | I25: 1 | J25: 1 | K25: 1 | L25: 1 | M25: 1 | N25: 1 | O25: 1 | P25: 1 | Q25: 1 | R25: 1 | S25: 1 | T25: 1 | U25: =SUM(H25:T25) -> 13 | V25: =+C25*U25*G25 -> 48343131
A26: 2 | B26: MENSAJERO | C26: 1 | E26: 975000 | F26: =+'FACTOR MULTIPLICADOR '!$D$54 -> 2.38 | G26: =+E26*F26 -> 2320500 | H26: 1 | I26: 1 | J26: 1 | K26: 1 | L26: 1 | M26: 1 | N26: 1 | O26: 1 | P26: 1 | Q26: 1 | R26: 1 | S26: 1 | T26: 1 | U26: =SUM(H26:T26) -> 13 | V26: =+C26*U26*G26 -> 30166500
A27: 3 | B27: INSPECTOR | C27: 1 | E27: 1282000 | F27: =+'FACTOR MULTIPLICADOR '!$D$54 -> 2.38 | G27: =+E27*F27 -> 3051160 | H27: 1 | I27: 1 | J27: 1 | K27: 1 | L27: 1 | M27: 1 | N27: 1 | O27: 1 | P27: 1 | Q27: 1 | R27: 1 | S27: 1 | U27: =SUM(H27:T27) -> 12 | V27: =+C27*U27*G27 -> 36613920
A28: 4 | B28: TOPÓGRAFO | C28: 1 | E28: 1534000 | F28: =+'FACTOR MULTIPLICADOR '!$D$54 -> 2.38 | G28: =+E28*F28 -> 3650920 | H28: 1 | I28: 1 | J28: 1 | K28: 1 | L28: 1 | M28: 1 | N28: 1 | O28: 1 | P28: 1 | Q28: 1 | R28: 1 | S28: 1 | T28: 1 | U28: =SUM(H28:T28) -> 13 | V28: =+C28*U28*G28 -> 47461960
A29: 5 | B29: CADENEROS | C29: 2 | E29: 1367173 | F29: =+'FACTOR MULTIPLICADOR '!$D$54 -> 2.38 | G29: =+E29*F29 -> 3253871.7 | H29: 1 | I29: 1 | J29: 1 | K29: 1 | L29: 1 | M29: 1 | N29: 1 | O29: 1 | P29: 1 | Q29: 1 | R29: 1 | S29: 1 | U29: =SUM(H29:T29) -> 12 | V29: =+C29*U29*G29 -> 78092922
A30: 6 | B30: PROFESIONAL DE CONTADURIA | C30: 1 | E30: 2974000 | F30: =+'FACTOR MULTIPLICADOR '!$D$54 -> 2.38 | G30: =+E30*F30 -> 7078120 | H30: 0.3 | I30: 0.3 | J30: 0.3 | K30: 0.3 | L30: 0.3 | M30: 0.3 | N30: 0.3 | O30: 0.3 | P30: 0.3 | Q30: 0.3 | R30: 0.3 | S30: 0.3 | T30: 0.3 | U30: =SUM(H30:T30) -> 3.9 | V30: =+C30*U30*G30 -> 27604668
A31: SUBTOTAL B. PERSONAL TÉCNICO AUXILIAR | V31: =SUM(V25:V30) -> 2.682831e+08
A33: TOTAL COSTOS DE PERSONAL A+B (PROFESIONAL + TÉCNICO AUXILIAR) | V33: =+V20+V31 -> 1.117864e+09
A35: ITEM | B35: CONCEPTO | C35: CANTIDAD | E35: UNIDAD | G35: COSTO X UNIDAD | H35: 1 | I35: 2 | J35: 3 | K35: 4 | L35: 5 | M35: 6 | N35: 7 | O35: 8 | P35: 9 | Q35: 10 | R35: 11 | S35: 12 | T35: 13 | U35: TOTAL MES | V35: VALOR PARCIAL
A37: C | B37: INSUMOS (OTROS COSTOS ADMINISTRATIVOS)
A38: 1 | B38: ARRIENDO OFICINA INCL. ADMINISTRACIÓN, SERVICIOS PÚBLICOS, COMUNICACIONES | C38: 1 | E38: MES | G38: 1564054 | H38: 1 | I38: 1 | J38: 1 | K38: 1 | L38: 1 | M38: 1 | N38: 1 | O38: 1 | P38: 1 | Q38: 1 | R38: 1 | S38: 1 | T38: 1 | U38: =SUM(H38:T38) -> 13 | V38: =C38*U38*G38 -> 20332702
A39: 2 | B39: Transportes (Terrestres vehiculo campero 4*4 >= 2000 cc , aereos, etc., combustible, conductor y peajes) | C39: 1 | E39: MES | G39: 6313000 | H39: 1 | I39: 1 | J39: 1 | K39: 1 | L39: 1 | M39: 1 | N39: 1 | O39: 1 | P39: 1 | Q39: 1 | R39: 1 | S39: 1 | T39: 1 | U39: =SUM(H39:T39) -> 13 | V39: =C39*U39*G39 -> 82069000
A40: 3 | B40: EDICIÓN DE INFORMES, PAPELERÍA, IMPRESIONES | C40: 1 | E40: MES | G40: 1500000 | H40: 1 | I40: 1 | J40: 1 | K40: 1 | L40: 1 | M40: 1 | N40: 1 | O40: 1 | P40: 1 | Q40: 1 | R40: 1 | S40: 1 | T40: 1 | U40: =SUM(H40:T40) -> 13 | V40: =C40*U40*G40 -> 19500000
A41: 4 | B41: EQUIPO DE TOPOGRAFÍA | C41: 1 | E41: MES | G41: 2612640 | H41: 1 | I41: 1 | J41: 1 | K41: 1 | L41: 1 | M41: 1 | N41: 1 | O41: 1 | P41: 1 | Q41: 1 | R41: 1 | S41: 1 | U41: =SUM(H41:T41) -> 12 | V41: =C41*U41*G41 -> 31351680
A42: 5 | B42: Ensayos de Laboratorio de Granulometria, Límites de Atterberg, proctor, CBR, Gradación de agregados, contenido de asfalto, contenido de agua, densidad de la mezcla, porcentaje de vacios de aire, estabilidad y flujo, prueba de carga, Resistencia a la compresión de cilindros y núcleos de concreto) | C42: 24 | E42: MES | G42: 200000 | I42: 1 | J42: 1 | K42: 1 | L42: 1 | M42: 1 | N42: 1 | O42: 1 | P42: 1 | Q42: 1 | R42: 1 | U42: =SUM(H42:T42) -> 10 | V42: =C42*U42*G42 -> 48000000
A43: 6 | B43: Implementación protocolos de bioseguridad | C43: 1 | E43: MES | G43: ='PAPSO INTERVENTORIA'!H18/10 -> 815725 | H43: 1 | I43: 1 | J43: 1 | K43: 1 | L43: 1 | M43: 1 | N43: 1 | O43: 1 | P43: 1 | Q43: 1 | R43: 1 | S43: 0.8 | T43: 0.2 | U43: =SUM(H43:T43) -> 12 | V43: =C43*U43*G43 -> 9788700
A44: SUBTOTAL C. INSUMOS (OTROS COSTOS ADMINISTRATIVOS) | V44: =SUM(V38:V43) -> 211042082
A46: TOTAL COSTOS PERSONAL PROFESIONAL + COSTOS PERSONAL TÉCNICO AUXILIAR + OTROS COSTOS ADMINISTRATIVOS | V46: =V33+V44 -> 1.3289061e+09
A47: IVA 19% | V47: =V46*0.19 -> 2.5249216e+08
A48: VALOR TOTAL INTERVENTORÍA | V48: =SUM(V46:V47) -> 1.5813982e+09 | X48: ='[144]RESUMEN '!$F$65 -> 1.4486372e+10
...

Sheet FACTOR MULTIPLICADOR 
A1: FACTOR MULTIPLICADOR
C2: PRESUPUESTO DE INTERVENTORÍA ESTACION NORTE
A3: OBRA: | B3: OBJETO: CONTRATO No. 221 – 2020 – PR. 169 “ESTUDIOS Y DISEÑOS DE ELEMENTOS DE INFRAESTRUCTURA DEL SETP - POPAYÁN: ESTACIÓN DE INTEGRACIÓN NORTE, ESTACIÓN DE INTEGRACIÓN OCCIDENTE, PARADERO CON ESPACIO PÚBLICO DEL SUR Y CONEXIONES VIALES ASOCIADAS, QUE PERMITIRÁN MEDIANTE LA INFRAESTRUCTURA ADECUADA LA INTERACCIÓN DE LOS DIFERENTES MODOS DE TRANSPORTE EN LA CIUDAD, EN PUNTOS ESTRATÉGICOS
A7: 1 | B7: SALARIOS | D7: 1
A9: 2 | B9: PRESTACIONES SOCIALES | D9: =SUM(C10:C22) -> 0.64793333
B10: Cesantia | C10: =30/360 -> 0.083333333
B11: Interes de cesantias | C11: =12%*C10 -> 0.01
B12: Prima | C12: 0.083333333
B13: Vacaciones anuales | C13: =1/24 -> 0.041666667
B14: Seguridad Social (salud) | C14: 0.085
B15: Seguridad Social (pensión) | C15: 0.12
B16: Aseguradora de Riesgos Profesionales | C16: 0.0696
B17: Subsidio Familiar | C17: 0.04
B18: ICBF | C18: 0.03
B19: SENA | C19: 0.02
B20: Seguros de ley | C20: 0.005
B21: Implementos de seguridad y dotación | C21: 0.05
B22: Otros (Auxilios varios, prestaciones extralegales, Incapacidades no cubiertas) | C22: 0.01
A25: 3 | B25: COSTOS OFICINA DEL CONSULTOR | D25: =SUM(C26:C38) -> 0.2551
B27: Preparación de Propuesta | C27: 0.015
B28: Equipos y mantenimiento Oficina (Aseo) | C28: 0.02
B29: Depreciación de muebles y equipos | C29: 0.003
B30: Licenciamiento de software | C30: 0.0371
B31: Correo y otros | C31: 0.005
B32: Personal Administrativo no facturado | C32: 0.01
B33: Personal Profesional no facturado | C33: 0.01
B34: Documentación Técnica | C34: 0.055
B35: Asesoria legal, tributaria y médica | C35: 0.02
B36: Gastos de representación | C36: 0.02
B37: Gastos e intereses bancarios por financiación | C37: 0.05
B38: Seguros de oficina del consultor | C38: 0.01
A40: 4 | B40: COSTOS DIRECTOS NO REEMBOLSABLES | D40: =SUM(C41:C50) -> 0.2223
B42: Poliza de Calidad | C42: 0.006
B43: Póliza Cumplimiento | C43: 0.008
B44: Póliza Salarios y prestaciones Sociales | C44: 0.0265
B45: Retefuente | C45: 0.1
B46: ReteICA | C46: 0.006
B47: FIC | C47: 0.0308
B48: Estampilla Unicauca | C48: 0.005
B49: Estampilla Adulto Mayor | C49: 0.03
...

Sheet PAPSO INTERVENTORIA
C1: CONTRATO No. 221 – 2020 – PR. 169 “ESTUDIOS Y DISEÑOS DE ELEMENTOS DE INFRAESTRUCTURA DEL SETP - POPAYÁN: ESTACIÓN DE INTEGRACIÓN NORTE, ESTACIÓN DE INTEGRACIÓN OCCIDENTE, PARADERO CON ESPACIO PÚBLICO DEL SUR Y CONEXIONES VIALES ASOCIADAS, QUE PERMITIRÁN MEDIANTE LA INFRAESTRUCTURA ADECUADA LA INTERACCIÓN DE LOS DIFERENTES MODOS DE TRANSPORTE EN LA CIUDAD, EN PUNTOS ESTRATÉGICOS” | J1: MOVILIDAD FUTURA S.A.S NIT 900323358-2 Carrera 5 No. 2 - 11 Popayán, Cauca www.movilidadfutura.gov.co
C2: PLAN DE APLICACIÓN DEL PROTOCOLO DE SEGURIDAD EN LA OBRA - PAPSO ESTACIÓN NORTE
B4: PROGRAMA | C4: ACTIVIDAD | D4: UNIDAD | E4: TIEMPO TOTAL DE OBRA (MESES) | F4: CANTIDAD | G4: VR. UNITARIO | H4: VR. TOTAL | I4: MATERIALES Y EQUIPOS | J4: OBSERVACIONES
B5: NUMERO DE TRABAJADORES | D5: UND | F5: 100
B6: Plan de Bioseguridad para Mitigar y Controlar el Contagio del Virus SARS COVID 19 | C6: Personal de aseo dedicado a la desinfección | D6: MES | E6: 12 | G6: =1014980*1.85 -> 1877713 | H6: =+E6*F6*G6 -> 0 | I6: DEDICACION 100% | J6: Se contemplara la actividad con personal de la brigada Ola
C7: Dispensador metálico de jabón liquido y de alcohol glicerinado al 70%) | D7: UND | E7: 12 | F7: =0.5/3 -> 0.16666667 | G7: 80000 | H7: =+E7*F7*G7 -> 160000 | J7: Estación de lavado de manos.
C8: Jabón liquido 20 Lt. | D8: UND/MES | E8: 12 | F8: =(((0.05*30*$F$5)/20)*1.1)/3 -> 2.75 | G8: 38450 | H8: =+E8*F8*G8 -> 1268850 | J8: Estación de lavado de manos: Se realizó una cotización de 20 litros (1 garrafa) por $ 38450. según circular externa No. 003 del INVIAS, se requieren 0.05 L por dia por persona. 0.05L/dia*trabajador x 100 trabajadores x 30 dias= 150 litros 150 lts/20 lts= 7.5 lts
C9: Alcohol glicerinado al 70% para limpieza de manos. | D9: UND/mes | E9: 12 | F9: =(((0.003*30*$F$5)/20)*1.1)/3 -> 0.165 | G9: 137200 | H9: =+E9*F9*G9 -> 271656 | J9: Estación de lavado de manos: Se realizó una cotización de 20 litros (1 garrafa) por $ 137.200 según circular externa No. 003 del INVIAS, se requieren 0.003 L por dia por persona. 0.003L/dia*trabajador x 100 trabajadores x 30 dias= 9 litros 9lts*8 meses= 72 lts*mes se debe contar con 4 garrafas (20 lts) para 8 meses
C10: Alcohol antiseptico al 70% para limpieza de manos. | D10: und/mes | E10: 12 | F10: =(((0.006*30*$F$5)/20)*1.1)/3 -> 0.33 | G10: 75400 | H10: =+E10*F10*G10 -> 298584 | J10: Estación de lavado de manos: Se realizó una cotización de 20 litros (1 garrafa) por $ 75.400 según circular externa No. 003 del INVIAS, se requieren 0.006 L por dia por persona. 0.006L/dia*trabajador x 100 trabajadores x 30 dias= 18 litros 18lts*8 meses= 144 lts*8mes se debe contar con 8 garrafas (20 lts) para 8 meses
C11: Toallas de un solo uso en Z (24 paquetes) (150 hojas cada paquete). | D11: Paquete | E11: 12 | F11: =60/3 -> 20 | G11: 120000 | H11: =+F11*G11 -> 2400000 | J11: Estación de lavado de manos: Cada paquete trae 150 toallas y la cotización realizada detalla que son 24 paquetes por $120.000, para un total de 3.600 toallas. Se tiene en consideración que serán aproximadamente 100 trabajadores y cada trabajador utilizará 6 toallas diarias en promedio durante los 12 meses de obra, para un total 216,000 toallas. De esta manera, se requiere comprar 60 paquetes bajo está cotización.
C12: Hipoclorito de sodio al 5% (Garrafa por 20 litros). | D12: UND/Garrafa | E12: 12 | F12: =3.3/3 -> 1.1 | G12: 23800 | H12: =+F12*G12*E12 -> 314160 | J12: Para limpieza general y de zonas específicas como las de descargue de insumos, equipos y material. Según la Circular Conjunta 001 del 11 de abril de 2020 se deberá realizar una dilución 1:50 si se usa cloro doméstico a una concentración inicial de 5%. Lo anterior, equivale a que por cada litro de agua se deben agregar 20 cc de cloro a una concentración de un 5%. El cálculo se realizó teniendo en cuenta está dilución 1:50, para lo cuál se supone un gasto de 100 litros diarios de preparación. Se realizó una cotización de $23800 de una garrafa de Hipoclorito de Sodio al 5% por 20 litros. Dilución de 1:50 = 20 cc 1 Lt agua, 20 L = 20.000 cc, 20000 cc / 20 Litros = 1000 dosis de 20cc para diluir. 1 garrafa (20 Lt de hipoclorito) sirve para diluir 1000 Lt de agua. 1000 Lt de preparación al 1:50 / 20 Lt = 50 garrafas diluidas al 1:50. 1 garrafa de hipoclorito de sodio alcanzará para 50 garrafas diluidas al 1:50. 50 garrafas diluidas al 1:50 * 20 Litros = 1000 litros de preparación diluida al 1:50.100 litros de preparación por día * 30 días = 3000 litros. Entonces: En el mes se requieren 3 garrafas (20 Lt) de hipoclorito de sodio al 5%. 3 garrafas/mes * 8 meses = 24 garrafas de hipoclorito de sodio al 5%.
C13: Basurero plastico con pedal amarillo 240 Litros 100x100cm | D13: UND | E13: 12 | G13: 319900 | H13: =+F13*G13 -> 0 | J13: Se deja por PIPMA
C14: Señalización de distanciamiento (2 metros) Señal Franja Distanciamiento Piso 120x10cm x5 Unidades. | D14: UND | E14: 1 | F14: 5 | G14: 167900 | H14: =+F14*G14 -> 839500 | J14: Diseñar en el área de ingreso a la obra un área de limpieza con un espacio de transición.
C15: Señalización de distanciamiento (2 metros) Señal Distanciamiento Mínimo 2Mts 60x30cm x3 Unidades. | D15: UND | E15: 1 | F15: 5 | G15: 112900 | H15: =+F15*G15*E15 -> 564500 | J15: Diseñar en el área de ingreso a la obra un área de recepción de insumos, equipos y material con las características ajustadas al tamaño de estos. Esta área debe tener 2 espacios: #Zona de descargue y de limpieza” y “Zona de preparación para almacenaje”, claramente diferenciados y con un espacio de transición.
C16: Bombas de fumigación con hipoclorito 20 Lt. | D16: UND | E16: 12 | F16: 0 | G16: 219000 | H16: =+F16*G16 -> 0 | J16: según circular externa No. 003 del INVIAS
C17: Tapabocas. | D17: Caja/mes | E17: 12 | F17: =60/3 -> 20 | G17: 8500 | H17: =+F17*G17*E17 -> 2040000 | J17: SE CONTEMPLA 1 TAPABOCAS DESECHABLE POR DIA PARA CADA TRABAJADOR = (30*100) = 3000 UND /MES
G18: TOTAL | H18: =SUM(H6:H17) -> 8157250
