Workbook
Name contratación: 'IDENTIFICACION Y ANALISIS'!$B$39:$B$43
Name ejecución: 'IDENTIFICACION Y ANALISIS'!$B$45:$B$68
Name planeación: 'IDENTIFICACION Y ANALISIS'!$B$19:$B$29
Name selección: 'IDENTIFICACION Y ANALISIS'!$B$31:$B$37

Sheet CONTEXTO
C2: FORMATO ANÁLISIS DE RIESGOS CONTRACTUALES
C3: CÓDIGO: CON-FM-089 | D3: VERSIÓN: 1
C4: FECHA DE APLICACIÓN: DICIEMBRE DE 2015
B6: ESTABLECER EL CONTEXTO
B7: El punto inicial es identificar el contexto en el cual interactúa la Entidad Estatal para conocer el ambiente social, económico y político, e identificar (i) sus propios Riesgos; (ii) los Riesgos comunes a sus Procesos de Contratación; y (iii) los Riesgos del Proceso de Contratación en particular. (Aplica igual para contratos interadministrativos) En este paso la Entidad Estatal debe identificar los aspectos que se mencionan a continuación y los posibles efectos adversos que estos pueden generar.
B8: Objeto del Proceso de Contratación: “ADQUISICIÓN DE REPUESTOS PARA EQUIPOS DE ATENCIÓN DE EMERGENCIAS CARDIO-PULMONARES UBICADOS EN LAS DIFERENTES SEDES DE LA UAERMV”
B9: Partícipes del Proceso de Contratación: Agentes externos (Organismos de control, veedurías ciudadanas), agentes internos (supervisores, funcionarios y demás usuarios).
B10: Ciudadanía que se beneficia del Proceso de Contratación: Agentes internos (funcionarios, pasantes) y externos (contratistas, visitantes y usuarios externos en general)
B11: Capacidad de la Entidad Estatal entendida como la disponibilidad de recursos y conocimientos para el Proceso de Contratación: La disponibilidad de la Entidad de sus recursos y el conocimiento de su equipo humano se refleja en los diferentes funcionarios que participarán en las diversas etapas del proceso de selección: participan las áreas que requieren los procesos de contratación (Etapa de Estudios previos), el área de Contratos de la Secretaría General (Etapa contractual), los evaluadores designados, idóneos y con experiencia en el tema.
B12: Suficiencia del presupuesto oficial del Proceso de Contratación: De acuerdo al Plan de contratación para la vigencia 2021, se estimaron los recursos necesarios para el desarrollo del proceso de la contratación, el cual tendrá el soporte presupuestal suficiente para su desarrollo.
B13: Condiciones geográficas y de acceso del lugar en el cual se debe cumplir el objeto del Proceso de Contratación: El lugar de ejecución del contrato es en la ciudad de Bogotá D.C., y cada uno de los ítems del presente proceso serán suministrados por el contratista en las siguientes sedes de la UAERMV: • Sedes Operativa: ubicada en la Calle 22 D # 120-40 en Fontibón • Sede de Producción: ubicada en Parque Minero Industrial “El Mochuelo”. Km 3 vía a Pasquilla de la localidad Ciudad Bolívar. • Frentes de Obra urbanos y rurales de la UAERMV y/o donde el supervisor lo designe
B14: Entorno socio ambiental: NO APLICA
B15: Condiciones políticas: NO APLICA
B16: Factores ambientales: El contratista debe manejar normas ambientales para el destino final de algunos repuestos que se retiran cuando se hace mantenimiento correctivo al sistema.
B17: Sector del objeto del Proceso de Contratación y su mercado: Todos los clientes (entidades privadas, Estatales y Gubernamentales), alrededor en todo el Territorio Nacional Colombiano y el exterior, quienes solicitan equipos y servicios de seguridad y control de acceso, con niveles elevados de flujo peatonal.
... B19: Experiencia propia y de otras Entidades Estatales en Procesos de Contratación del mismo tipo: -Explicar brevemente la experiencia de la Entidad en el tipo de contratación que se va a adelantar-, " La Entidad contrata periodicamente la "ADQUISICIÓN DE REPUESTOS PARA EQUIPOS DE ATENCIÓN DE EMERGENCIAS CARDIO-PULMONARES UBICADOS EN LAS DIFERENTES SEDES DE LA UAERMV”., para el cumplimiento de la misionalidad, por lo cual es un proceso que ha sido adelantado de manera permanente; así las cosas se cuenta con la experiencia adquirida en el adelantamiento de este tipo de procesos que ha sido la necesaria para prevenir circunstancias inesperadas y lograr el cumplimiento de los fines de la contratación".

Sheet IDENTIFICACION Y ANALISIS
C2: FORMATO ANÁLISIS DE RIESGOS CONTRACTUALES
C3: CÓDIGO: CON-FM-089 | D3: VERSIÓN: 1
C4: FECHA DE APLICACIÓN: DICIEMBRE DE 2015
B6: DEFINICIONES
B7: RIESGO: evento que puede generar efectos adversos y de distinta magnitud en el logro de los objetivos del Proceso de Contratación o en la ejecución de un contrato
B8: RIESGOS PREVISIBLES: Son los posibles hechos o circunstancias que por la naturaleza del contrato y de la actividad a ejecutar es factible su ocurrencia.
B9: ETAPA DE PLANEACIÓN: Está comprendida entre la elaboración del Plan Anual de Adquisiciones y la fecha en la cual decide continuar o no con el Proceso de Contratación
B10: ETAPA DE SELECCIÓN: Está comprendida entre el acto de Apertura del Proceso de Contratación y la Adjudicación o la declaración de desierto del Proceso de Contratación
B11: ETAPA DE CONTRATACIÓN: Una vez adjudicado el contrato objeto del Proceso de Contratación, inicia la etapa de contratación en la cual se debe cumplir con el cronograma previsto para la celebración del contrato, el registro presupuestal, la publicación en el SECOP y el cumplimiento de los requisitos para el perfeccionamiento, ejecución y pago.
B12: ETAPA DE EJECUCIÓN: Inicia una vez cumplidos los requisitos previstos para iniciar la ejecución del contrato respectivo y termina con el vencimiento del plazo del contrato o la fecha de liquidación si hay lugar a ella.
B13: RIESGO GENERAL: Es un riesgo de todos los procesos de contratación adelantados por la Entidad Estatal, por lo cual está presente en toda su actividad contractual.
B14: RIEGO ESPECIFICO: Es un riesgo propio delproceso de contratación objeto de análisis.
B15: INSTRUCCIONES PARA LA IDENTIFICACIÓN, ANALISIS, EVALUACIÓN , ASIGNACIÓN Y TRATAMIENTO DE RIESGOS EN LA CONTRATACIÓN
B16: 1) Identifique los riesgos previsibles que le apliquen al objeto contractual que se adelante; En caso de identificar otro riesgo inclúyalo en la proforma e informe al Área de Contratos de la Secretaría General para que sea actualizada en el SIG.
C17: ETAPAS | D17: CLASE | E17: FUENTE | F17: TIPO
C18: PLANEACIÓN
B19: Inadecuada escogencia de la modalidad de contratación | D19: General | E19: Interno | F19: Operacionales
B20: Requisitos habilitantes inapropiados para el proceso de selección | D20: General | E20: Interno | F20: Operacionales
B21: Inadecuado análisis económico estimativo del valor del contrato | D21: Especifico | E21: Interno | F21: Economicos
B22: Inadecuada descripción del bien o servicio requerido | D22: Especifico | E22: Interno | F22: Operacionales
B23: Inadecuada elaboración de estudios y diseños | D23: Especifico | E23: Interno | F23: Operacionales
B24: Requisitos habilitantes que impidan la selección objetiva | D24: General | E24: Interno | F24: Operacionales
B25: Falta de profundidad en el estudio de sector no identificandose claramente aspectos de oferta y demanda | D25: Especifico | E25: Interno | F25: Economicos
B26: Ausencia de fundamentación de la justificación y conveniencia de la contratación | D26: General | E26: Interno | F26: Operacionales
B27: Inadecuada identificación de las condiciones contractuales | D27: General | E27: Interno | F27: Operacionales
B28: No aprobación o demoras en la expedición vigencias futuras | F28: Operacionales
B29: Apertura de procesos sin disponibilidad presupuestal | D29: Especifico | E29: Interno | F29: Operacionales
C30: SELECCIÓN
B31: Inadecuada evaluación de las ofertas y/o verificación de requisitos habilitantes | D31: Especifico | E31: Interno | F31: Operacionales
B32: Inadecuado manejo administrativo del proceso contractual | D32: Especifico | E32: Interno | F32: Operacionales
B33: Falta de claridad en la elaboración de los actos administrativos | D33: Especifico | E33: Interno | F33: Operacionales
B34: Contestación inoportuna a todas las observaciones formuladas a los documentos de la contratación | D34: Especifico | E34: Interno | F34: Operacionales
B35: No publicación de la documentación del proceso de selección en el SECOP | D35: Especifico | E35: Interno | F35: Operacionales
B36: Confabulacion de los proponentes (Colusión) | D36: General | E36: Externo | F36: Operacionales
B37: Selección de ofertas con precios artificialmente bajos. | D37: Especifico | E37: Interno | F37: Operacionales
C38: CONTRATACIÓN
B39: Riesgo de que no se firme el contrato. | D39: Especifico | E39: Externo | F39: Operacionales
B40: Falta de constitución o constitución tardía de la garantía única. Aceptación de garantías que no se ajustan a lo contemplado en el contrato | D40: Especifico | E40: Externo | F40: Operacionales
B41: Falta de solicitud o solicitud tardía del registro presupuestal | D41: Especifico | E41: Interno | F41: Operacionales
B42: No publicación de la documentación del proceso de selección en el SECOP | D42: Especifico | E42: Interno | F42: Operacionales
...

Sheet EVALUACION
C2: FORMATO ANÁLISIS DE RIESGOS CONTRACTUALES
C3: CÓDIGO: CON-FM-089 | H3: VERSIÓN: 1
C4: FECHA DE APLICACIÓN: DICIEMBRE DE 2015
B6: Objeto Contractual: "ADQUISICIÓN DE REPUESTOS PARA EQUIPOS DE ATENCIÓN DE EMERGENCIAS CARDIO-PULMONARES UBICADOS EN LAS DIFERENTES SEDES DE LA UAERMV”
B7: INSTRUCCIONES PARA LA IDENTIFICACIÓN, ANALISIS, EVALUACIÓN , ASIGNACIÓN Y TRATAMIENTO DE RIESGOS EN LA CONTRATACIÓN
B8: 1) Seleccione el tipo de calificación (Cualitativa ó Monetaria)
B9: 2) Seleccione la(s) etapas y los riesgos que aplican al objeto contractual
B10: 3) Asigne la probabilidad de ocurrencia del riesgo, de conformidad con la tabla de probabilidad
B11: 4) Asigne el impacto que generaría la materialización del riesgo, de conformidad con la tabla de impacto
B12: 5) Al realizar las anteriores actividades se obtendrá la calificación total y la valoración del riesgo (prioridad) , traslde al formato evaluación con controles, los que tengan un nivel de criticidad diferente a bajo.
B13: 6) Continúe en la hoja de evaluación de controles
B15: CALIFICACIÓN | H15: Cualitativa
B16: ETAPA | C16: Descripción (Que puede pasar y, cómo puede ocurrir) | H16: Consecuencias de la ocurrencia del evento | I16: Probabilidad de Ocurrencia | J16: Impacto | K16: Calificación Total | L16: Prioridad
B17: PLANEACIÓN | C17: Errores que hayan quedado en el Estudio Previo, en los pliegos de condiciones y sus documentos Anexos (presupuesto, Anexo Técnico, Estudio del Sector, etc.) | H17: Inconvenientes para la ejecucion del contrato que impidan su normal desarrollo y que pueden llegar a generar modificaciones en las obligaciones contractuales. | I17: 3 | J17: 2 | K17: 5 | L17: =IF(K17<=4,"BAJO",IF(K17=5,"MEDIO",IF(K17=6,"ALTO",IF(K17=7,"ALTO","EXTREMO")))) -> MEDIO
B18: PLANEACIÓN | C18: Inadecuada Valoración del presupuesto | H18: Posible desequilbrio econcomico del contrato | I18: 2 | J18: 3 | K18: 5 | L18: =IF(K18<=4,"BAJO",IF(K18=5,"MEDIO",IF(K18=6,"ALTO",IF(K18=7,"ALTO","EXTREMO")))) -> MEDIO
B19: EJECUCIÓN | C19: Cambios en las regulaciones financieras, tributarias, regulaciones políticas y/o sociales, que afecten las condiciones iniciales del contrato | H19: Posible variación de las condiciones del contrato, asociadas a sobrecostos en la ejecución contractual. Modificaciones o adiciones contractuales. Rompimiento del equilibrio económico. | I19: 2 | J19: 3 | K19: 5 | L19: =IF(K19<=4,"BAJO",IF(K19=5,"MEDIO",IF(K19=6,"ALTO",IF(K19=7,"ALTO","EXTREMO")))) -> MEDIO
B20: EJECUCIÓN | C20: Afectaciónen el precio pactado por ítem, ocasionado por variaciones en el entorno. | H20: * Sobrecostos que afecta el precio ofertado y adjudicado Desequilibrio económico | I20: 2 | J20: 5 | K20: 7 | L20: =IF(K20<=4,"BAJO",IF(K20=5,"MEDIO",IF(K20=6,"ALTO",IF(K20=7,"ALTO","EXTREMO")))) -> ALTO
B21: EJECUCIÓN | C21: Demoras en la entrega de los elementos solicitados | H21: Afectacion en la ejecucion de actividades operativas asociadas con el elemento solicitado | I21: 2 | J21: 3 | K21: 5 | L21: =IF(K21<=4,"BAJO",IF(K21=5,"MEDIO",IF(K21=6,"ALTO",IF(K21=7,"ALTO","EXTREMO")))) -> MEDIO
B22: EJECUCIÓN | C22: Eventos naturales tales como lluvias, inundaciones y sequias entre otros | H22: Riesgo alto de contagio ocacionado por pandemia del personal del contratista y de los servidores de la entidad que tengan contacto directo con ellos. | I22: 3 | J22: 4 | K22: 7 | L22: =IF(K22<=4,"BAJO",IF(K22=5,"MEDIO",IF(K22=6,"ALTO",IF(K22=7,"ALTO","EXTREMO")))) -> ALTO
B23: EJECUCIÓN | C23: Que el contratista no tenga la disponibilidad o cantidad de elementos requeridos | H23: Afectacion en la ejecucion de actividades operativas asociadas con el insumo solicitado | I23: 1 | J23: 4 | K23: 5 | L23: =IF(K23<=4,"BAJO",IF(K23=5,"MEDIO",IF(K23=6,"ALTO",IF(K23=7,"ALTO","EXTREMO")))) -> MEDIO
B24: SELECCIÓN | C24: No publicación de la documentación del proceso de selección en el SECOP | H24: Falta al principio de publicidad, vicio en el procedimiento. Puede generar investigaciones disciplinarias | I24: 2 | J24: 3 | K24: 5 | L24: =IF(K24<=4,"BAJO",IF(K24=5,"MEDIO",IF(K24=6,"ALTO",IF(K24=7,"ALTO","EXTREMO")))) -> MEDIO
B25: SELECCIÓN | C25: Confabulacion de los proponentes (Colusión) | H25: Adjudicación viciada por error. Investigaciones disciplinarias y fiscales | I25: 2 | J25: 3 | K25: 5 | L25: =IF(K25<=4,"BAJO",IF(K25=5,"MEDIO",IF(K25=6,"ALTO",IF(K25=7,"ALTO","EXTREMO")))) -> MEDIO
B26: CONTRATACIÓN | C26: Falta de constitución o constitución tardía de la garantía única. Aceptación de garantías que no se ajustan a lo contemplado en el contrato | H26: retraso en el inicio de la ejecución contractual, parálisis en la misionalidad de la entidad por falta de elementos necesarios. Imposibilidad de hacer exigibles garantías por no cumplir con condiciones exigidas | I26: 2 | J26: 3 | K26: 5 | L26: =IF(K26<=4,"BAJO",IF(K26=5,"MEDIO",IF(K26=6,"ALTO",IF(K26=7,"ALTO","EXTREMO")))) -> MEDIO
B39: Probabilidad | C39: Catagoria | E39: Valoración | G39: Impacto | H39: Categoria | I39: Valoración
C40: Raro (puede ocurrir excepcionalmente) | E40: 1 | H40: Insignificante | I40: 1
C41: Improbable (puede ocurrir ocasionalmente) | E41: 2 | H41: Menor | I41: 2
C42: Posible (puede ocurrir en cualquier momento futuro) | E42: 3 | H42: Moderado | I42: 3
C43: Probable (probablemente va a ocurrir) | E43: 4 | H43: Mayor | I43: 4
C44: Casi cierto (ocurre en la mayoria de circunstancias) | E44: 5 | H44: Catastrófico | I44: 5
C46: Valoración del Riesgo
C47: Calificación Cualitativa | F47: Obstruye la ejecución del contrato de manera intrascendente. | G47: Dificulta la ejecución del contrato de manera baja, aplicando medidas mínimas se pueden lograr el objeto contractual | H47: Afecta la ejecución del contrato sin alterar el beneficio para las partes | I47: Obstruye la ejecución del contrato sustancialmente pero aun así permite la consecución del objeto contractual | K47: Perturba la ejecución del contrato de manera grave imposibilitando la consecución del objeto contractual.
C48: Calificación Monetaria | F48: Los sobrecostos no representan más del uno por ciento (1%) del valor del contrato. | G48: Los sobrecostos no representan más del cinco por ciento (5%) del valor del contrato. | H48: Genera un impacto sobre el valor del contrato entre el cinco (5%) y el quince por ciento (15%). | I48: Incrementa el valor del contrato entre el quince (15%) y el treinta por ciento (30%). | K48: Impacto sobre el valor del contrato en más del treinta por ciento (30%).
C49: Categoría | E49: Valoración | F49: Insignificante | G49: Menor | H49: Moderado | I49: Mayor | K49: Catastrófico
F50: 1 | G50: 2 | H50: 3 | I50: 4 | K50: 5
C51: Raro (puede ocurrir excepcionalmente) | E51: 1 | F51: 2 | G51: 3 | H51: 4 | I51: 5 | K51: 6
C52: Improbable (puede ocurrir ocasionalmente) | E52: 2 | F52: 3 | G52: 4 | H52: 5 | I52: 6 | K52: 7
C53: Posible (puede ocurrir en cualquier momento futuro) | E53: 3 | F53: 4 | G53: 5 | H53: 6 | I53: 7 | K53: 8
C54: Probable (probablemente va a ocurrir) | E54: 4 | F54: 5 | G54: 6 | H54: 7 | I54: 8 | K54: 9
C55: Casi cierto (ocurre en la mayoria de circunstancias) | E55: 5 | F55: 6 | G55: 7 | H55: 8 | I55: 9 | K55: 10
G57: Categoria del Riesgo
...

Sheet EVALUACION CON CONTROLES
C2: FORMATO ANÁLISIS DE RIESGOS CONTRACTUALES
C3: CÓDIGO: CON-FM-089 | J3: VERSIÓN: 1
C4: FECHA DE APLICACIÓN: DICIEMBRE DE 2015
B6: =+EVALUACION!B6 -> Objeto Contractual: "ADQUISICIÓN DE REPUESTOS PARA EQUIPOS DE ATENCIÓN DE EMERGENCIAS CARDIO-PULMONARES UBICADOS EN LAS DIFERENTES SEDES DE LA UAERMV”
B7: INSTRUCCIONES PARA LA IDENTIFICACIÓN, ANALISIS, EVALUACIÓN , ASIGNACIÓN Y TRATAMIENTO DE RIESGOS EN LA CONTRATACIÓN
B8: 1) Describa el tratamiento/controles a ser implementados
B9: 2) Teniendo en cuenta el tratamiento descrito, asigne la probabilidad de ocurrencia del riesgo, de conformidad con la tabla de probabilidad
B10: 3) Teniendo en cuenta el tratamiento descrito, asigne el impacto que generaría la materialización del riesgo, de conformidad con la tabla de impacto
B11: 4) Al realizar las anteriores actividades se obtendrá la calificación total y la valoración del riesgo (prioridad)
B12: 5) Diligencie la información de las démas columnas
B13: 7) Continúe en la hoja de asignación y tratamiento
B15: ETAPA | C15: Descripción (Que puede pasar y, cómo puede ocurrir) | G15: Tratamiento/Controles a ser implementados | I15: Probabilidad de Ocurrencia | J15: Impacto | K15: Calificación Total | L15: Prioridad | M15: ¿Afecta el equilibrio económico del contrato? | N15: Persona responsable por implementar el tratamiento | O15: Fecha estimada en que se inicia el tratamiento | P15: Fecha estimada en que se completa el tratamiento | Q15: ¿Cómo se realiza el monitoreo? | R15: Periodicidad ¿Cuándo?
B16: =+EVALUACION!B17 -> PLANEACIÓN | C16: =+EVALUACION!C17 -> Errores que hayan quedado en el Estudio Previo, en los pliegos de condiciones y sus documentos Anexos (presupuesto, Anexo Técnico, Estudio del Sector, etc.) | G16: Verificar la coherencia y consistencia de todos los documentos que hagan parte del proceso precontractual y su estructuración de acuerdo con el alcance del proyecto. | I16: 2 | J16: 2 | K16: =+I16+J16 -> 4 | L16: =IF(K16<=4,"BAJO",IF(K16=5,"MEDIO",IF(K16=6,"ALTO",IF(K16=7,"ALTO","EXTREMO")))) -> BAJO | M16: no | N16: GASA/ Grupo de estructuración del procesos de Gestión Contractual | O16: Durante la estructuración de los estudios previos | P16: Firma de estudios previos y revision de documentos precontractuales | Q16: A través de la revisión de los Estudios Previos y sus documentos anexos que realice GASA | R16: Dentro de las actividades de estructuración y revisión de los documentos del proceso
B17: =+EVALUACION!B18 -> PLANEACIÓN | C17: =+EVALUACION!C18 -> Inadecuada Valoración del presupuesto | G17: Estructurar el presupuesto en función del alcance del contrato y las obligaciones del futuro contratista, de modo que se puedan prever todas las posibles variables que puedan incidir en la estructura de costos. De igual forma, tener en cuenta el análisis realizado en el estudio del sector. | I17: 1 | J17: 1 | K17: =+I17+J17 -> 2 | L17: =IF(K17<=4,"BAJO",IF(K17=5,"MEDIO",IF(K17=6,"ALTO",IF(K17=7,"ALTO","EXTREMO")))) -> BAJO | M17: SI | N17: GASA / GESTIÓN CONTRACTUAL | O17: Durante la estructuración de los estudios previos y la invitación pública | P17: Firma de estudios previos y revision de documentos precontractuales | Q17: A través de la revisión de los Estudios Previos y sus documentos anexos que realice GASA y el equipo estructurador. | R17: Dentro de las actividades de estructuración y revisión de los documentos del proceso.
B18: =+EVALUACION!B19 -> EJECUCIÓN | C18: =+EVALUACION!C19 -> Cambios en las regulaciones financieras, tributarias, regulaciones políticas y/o sociales, que afecten las condiciones iniciales del contrato | G18: Verificar la inclusión de normativas a nivel nacional que puedan afectar el normal desarrollo del contrato | I18: 1 | J18: 2 | K18: =+I18+J18 -> 3 | L18: =IF(K18<=4,"BAJO",IF(K18=5,"MEDIO",IF(K18=6,"ALTO",IF(K18=7,"ALTO","EXTREMO")))) -> BAJO | M18: Si | N18: Supervisor | O18: Durante la estructuración de los documentos previos | P18: Liquidación del contrato. | Q18: Analizar si la modificación en temas financieras, tributarias, regulaciones políticas y/o sociales, afecta directamente los aspectos financieros, jurídicos o técnicos en el contrato | R18: Desde la suscripción del contrato hasta la liquidación del mismo.
B19: =+EVALUACION!B20 -> EJECUCIÓN | C19: =+EVALUACION!C20 -> Afectaciónen el precio pactado por ítem, ocasionado por variaciones en el entorno. | G19: * El contratista deberá prever la posible fluctuación de precios durante la etapa precontractual para definir la oferta económica ya que deberá mantener el precio durante toda la ejecución del contrato. * Verificar y solicitar que el contratista mantenga el precio ofertado - adjudicado de acuerdo a lo establecido en la invitacion publica, revisión de clausulas de multas y/o sanciones por incumplimiento en el precio pactado. | I19: 1 | J19: 2 | K19: =+I19+J19 -> 3 | L19: =IF(K19<=4,"BAJO",IF(K19=5,"MEDIO",IF(K19=6,"ALTO",IF(K19=7,"ALTO","EXTREMO")))) -> BAJO | M19: Si | N19: Supervisor | O19: Durante la ejecución del contrato | P19: Acta de Terminación | Q19: Seguimiento permanente de precios | R19: Mensual
B20: =+EVALUACION!B21 -> EJECUCIÓN | C20: =+EVALUACION!C21 -> Demoras en la entrega de los elementos solicitados | G20: Existen plazos máximos de entrega estblecidos en las obligaciones, solicitud por escrito por parte del supervisor. | I20: 1 | J20: 2 | K20: =+I20+J20 -> 3 | L20: =IF(K20<=4,"BAJO",IF(K20=5,"MEDIO",IF(K20=6,"ALTO",IF(K20=7,"ALTO","EXTREMO")))) -> BAJO | M20: No | N20: Supervisor del contrato | O20: Cuando el supervisor envìa comunicado al contratista para que cumpla con el plazo contractual | P20: Cuando se reciben a satisfaccion los bienes adquiridos | Q20: Confirmar la entrega de los bienes contratados. | R20: Por cada suministro solicitado , de acuerdo al cronograma de entregas fijado por el supervisor del contrato
B21: =+EVALUACION!B22 -> EJECUCIÓN | C21: =+EVALUACION!C22 -> Eventos naturales tales como lluvias, inundaciones y sequias entre otros | G21: Aplicar el protocolo de Bioseguridad de la UAERMV y del Contratista para evitar contagios. | I21: 1 | J21: 2 | K21: =+I21+J21 -> 3 | L21: =IF(K21<=4,"BAJO",IF(K21=5,"MEDIO",IF(K21=6,"ALTO",IF(K21=7,"ALTO","EXTREMO")))) -> BAJO | M21: No | N21: Contratista y supervisor del contrato | O21: Desde el inicio de la ejecución del contrato | P21: Hasta el plazo fianl del contrato | Q21: Monitoreando periódicamente el estado de salud de todo el personal involucrado en la ejecución del contrato. | R21: Permanentemente
B22: =+EVALUACION!B23 -> EJECUCIÓN | C22: =+EVALUACION!C23 -> Que el contratista no tenga la disponibilidad o cantidad de elementos requeridos | G22: Solicitar formalmente al contratista, el cumplimiento de las obligaciones contractuales. Si el contratista no da cumplimiento a lo contractual, se iniciara el proceso sancionatorio | I22: 1 | J22: 2 | K22: =+I22+J22 -> 3 | L22: =IF(K22<=4,"BAJO",IF(K22=5,"MEDIO",IF(K22=6,"ALTO",IF(K22=7,"ALTO","EXTREMO")))) -> BAJO | M22: No | N22: Supervisor del contrato | O22: Cuando el supervisor detecte alguna demora con respecto a los plazos contractuales | P22: Cuando se reciben a satisfaccion los bienes adquiridos. | Q22: seguimiento permanente a los despachos de los bienes requeridos. | R22: cuando el supervisor lo requiera.
B23: =+EVALUACION!B24 -> SELECCIÓN | C23: =+EVALUACION!C24 -> No publicación de la documentación del proceso de selección en el SECOP | G23: Publicar los documentos una vez sean formalizados y sin superar los 3 días hábiles permitidos para su publicación, así como cumplir con los plazos previstos en el cronograma | I23: =+EVALUACION!I24 -> 2 | J23: =+EVALUACION!J24 -> 3 | K23: =+I23+J23 -> 5 | L23: =IF(K23<=4,"BAJO",IF(K23=5,"MEDIO",IF(K23=6,"ALTO",IF(K23=7,"ALTO","EXTREMO")))) -> MEDIO | M23: NO | N23: Abogado responsable del proceso del Grupo de Procesos Selectivos | O23: desde la publicación de la convocatoria pública | P23: hasta la adjudicación del proceso | Q23: Revsión periódica del cronograma y publicaciones | R23: Permanentemente
B24: =+EVALUACION!B25 -> SELECCIÓN | C24: =+EVALUACION!C25 -> Confabulacion de los proponentes (Colusión) | G24: Adjudicación viciada por error. Investigaciones disciplinarias y fiscales | I24: =+EVALUACION!I25 -> 2 | J24: =+EVALUACION!J25 -> 3 | K24: =+I24+J24 -> 5 | L24: =IF(K24<=4,"BAJO",IF(K24=5,"MEDIO",IF(K24=6,"ALTO",IF(K24=7,"ALTO","EXTREMO")))) -> MEDIO | M24: NO | N24: Abogado responsable del proceso del Grupo de Procesos Selectivos | O24: Desde el perfeccionamiento del contrato | P24: Hasta cumplido el plazo fijado para la entrega de la garantía | Q24: Revisión cronograma entrega de garantías | R24: Permanentemente
B25: =+EVALUACION!B26 -> CONTRATACIÓN | C25: =+EVALUACION!C26 -> Falta de constitución o constitución tardía de la garantía única. Aceptación de garantías que no se ajustan a lo contemplado en el contrato | G25: Se establecen plazos perentorios para el cumplimiento de requisitos de ejecución del contrato. | I25: =+EVALUACION!I26 -> 2 | J25: =+EVALUACION!J26 -> 3 | K25: =+I25+J25 -> 5 | L25: =IF(K25<=4,"BAJO",IF(K25=5,"MEDIO",IF(K25=6,"ALTO",IF(K25=7,"ALTO","EXTREMO")))) -> MEDIO | M25: NO | N25: Abogado responsable del proceso | O25: desde la publicación de la convocatoria pública | P25: hasta la adjudicación del proceso | Q25: Revsión periódica del cronograma y publicaciones | R25: Permanentemente
B26: =+EVALUACION!B27 -> 0 | C26: =+EVALUACION!C27 -> 0 | I26: =+EVALUACION!I27 -> 0 | J26: =+EVALUACION!J27 -> 0 | K26: =+I26+J26 -> 0 | L26: =IF(K26<=4,"BAJO",IF(K26=5,"MEDIO",IF(K26=6,"ALTO",IF(K26=7,"ALTO","EXTREMO")))) -> BAJO
B27: =+EVALUACION!B28 -> 0 | C27: =+EVALUACION!C28 -> 0 | I27: =+EVALUACION!I28 -> 0 | J27: =+EVALUACION!J28 -> 0 | K27: =+I27+J27 -> 0 | L27: =IF(K27<=4,"BAJO",IF(K27=5,"MEDIO",IF(K27=6,"ALTO",IF(K27=7,"ALTO","EXTREMO")))) -> BAJO
B28: =+EVALUACION!B29 -> 0 | C28: =+EVALUACION!C29 -> 0 | I28: =+EVALUACION!I29 -> 0 | J28: =+EVALUACION!J29 -> 0 | K28: =+I28+J28 -> 0 | L28: =IF(K28<=4,"BAJO",IF(K28=5,"MEDIO",IF(K28=6,"ALTO",IF(K28=7,"ALTO","EXTREMO")))) -> BAJO
B29: =+EVALUACION!B30 -> 0 | C29: =+EVALUACION!C30 -> 0 | I29: =+EVALUACION!I30 -> 0 | J29: =+EVALUACION!J30 -> 0 | K29: =+I29+J29 -> 0 | L29: =IF(K29<=4,"BAJO",IF(K29=5,"MEDIO",IF(K29=6,"ALTO",IF(K29=7,"ALTO","EXTREMO")))) -> BAJO
B30: =+EVALUACION!B31 -> 0 | C30: =+EVALUACION!C31 -> 0 | I30: =+EVALUACION!I31 -> 0 | J30: =+EVALUACION!J31 -> 0 | K30: =+I30+J30 -> 0 | L30: =IF(K30<=4,"BAJO",IF(K30=5,"MEDIO",IF(K30=6,"ALTO",IF(K30=7,"ALTO","EXTREMO")))) -> BAJO
B31: =+EVALUACION!B32 -> 0 | C31: =+EVALUACION!C32 -> 0 | I31: =+EVALUACION!I32 -> 0 | J31: =+EVALUACION!J32 -> 0 | K31: =+I31+J31 -> 0 | L31: =IF(K31<=4,"BAJO",IF(K31=5,"MEDIO",IF(K31=6,"ALTO",IF(K31=7,"ALTO","EXTREMO")))) -> BAJO
B32: =+EVALUACION!B33 -> 0 | C32: =+EVALUACION!C33 -> 0 | I32: =+EVALUACION!I33 -> 0 | J32: =+EVALUACION!J33 -> 0 | K32: =+I32+J32 -> 0 | L32: =IF(K32<=4,"BAJO",IF(K32=5,"MEDIO",IF(K32=6,"ALTO",IF(K32=7,"ALTO","EXTREMO")))) -> BAJO
B33: =+EVALUACION!B34 -> 0 | C33: =+EVALUACION!C34 -> 0 | I33: =+EVALUACION!I34 -> 0 | J33: =+EVALUACION!J34 -> 0 | K33: =+I33+J33 -> 0 | L33: =IF(K33<=4,"BAJO",IF(K33=5,"MEDIO",IF(K33=6,"ALTO",IF(K33=7,"ALTO","EXTREMO")))) -> BAJO
B34: =+EVALUACION!B35 -> 0 | C34: =+EVALUACION!C35 -> 0 | I34: =+EVALUACION!I35 -> 0 | J34: =+EVALUACION!J35 -> 0 | K34: =+I34+J34 -> 0 | L34: =IF(K34<=4,"BAJO",IF(K34=5,"MEDIO",IF(K34=6,"ALTO",IF(K34=7,"ALTO","EXTREMO")))) -> BAJO
B35: =+EVALUACION!B36 -> 0 | C35: =+EVALUACION!C36 -> 0 | I35: =+EVALUACION!I36 -> 0 | J35: =+EVALUACION!J36 -> 0 | K35: =+I35+J35 -> 0 | L35: =IF(K35<=4,"BAJO",IF(K35=5,"MEDIO",IF(K35=6,"ALTO",IF(K35=7,"ALTO","EXTREMO")))) -> BAJO
C37: Categoria del Riesgo | H37: Impacto del Riesgo
B38: Probabilidad | C38: Catagoria | F38: Valoración | H38: Categoria | J38: Valoración | N38: Categoria del Riesgo
C39: Raro (puede ocurrir excepcionalmente) | F39: 1 | H39: Insignificante | J39: 1 | N39: Valoración del Riesgo | P39: Categoría
C40: Improbable (puede ocurrir ocasionalmente) | F40: 2 | H40: Menor | J40: 2 | N40: 8, 9 y 10 | P40: Riesgo extremo
C41: Posible (puede ocurrir en cualquier momento futuro) | F41: 3 | H41: Moderado | J41: 3 | N41: 6 y 7 | P41: Riesgo alto
C42: Probable (probablemente va a ocurrir) | F42: 4 | H42: Mayor | J42: 4 | N42: 5 | P42: Riesgo medio
C43: Casi cierto (ocurre en la mayoria de circunstancias) | F43: 5 | H43: Catastrófico | J43: 5 | N43: 2, 3 y 4 | P43: Riesgo bajo
C45: Valoración del Riesgo
...

Sheet ASIGNACION Y TRATAMIETO
E1: RIESGOS PREVISIBLES INVOLUCRADOS EN LA CONTRATACIÓN
A4: Objeto Contractual: “SUMINISTRO DE ELEMENTOS PREFABRICADOS EN CONCRETO, PARA LAS INTERVENCIONES DE LA CICLO INFRAESTRUCTURA DEL DISTRITO CAPITAL A CARGO DE LA UAERMV”
A5: INSTRUCCIONES PARA LA IDENTIFICACIÓN, ANALISIS, EVALUACIÓN , ASIGNACIÓN Y TRATAMIENTO DE RIESGOS EN LA CONTRATACIÓN
C8: OBJETO: ADQUISICIÓN DE REPUESTOS PARA EQUIPOS DE ATENCIÓN DE EMERGENCIAS CARDIO-PULMONARES UBICADOS EN LAS DIFERENTES SEDES DE LA UAERMV
A10: No | B10: Clase | C10: Fuente | D10: Etapa | E10: Descripción (Que puede pasar y, cómo puede ocurrir) | F10: Consecuencias de la ocurrencia del evento | G10: Probabilidad | H10: Impacto | I10: Calificación total | J10: Prioridad | K10: ¿A quien se le asigna? | L10: % | M10: Tratamiento/Controles a ser implementados | N10: Probabilidad | O10: Impacto | P10: Calificación total | Q10: Prioridad | R10: ¿Afecta el equilibrio económico del contrato? | S10: Persona responsable por implementar el tratamiento | T10: Fecha estimada en que se inicia el tratamiento | U10: Fecha estimada en que se completa el tratamiento | V10: ¿Cómo se realiza el monitoreo | W10: Periodicidad ¿Cuándo?
A11: 1 | B11: General | C11: INTERNO | D11: PLANEACIÓN | E11: Errores que hayan quedado en el Estudio Previo, y sus documentos Anexos (presupuesto, Anexo Técnico, Estudio del Sector, etc.) | F11: Inconvenientes para la ejecucion del contrato que impidan su normal desarrollo y que pueden llegar a generar modificaciones en las obligaciones contractuales. | G11: 3 | H11: 2 | I11: 5 | J11: MEDIO | K11: Unidad Administrativa Especial de Rehabilitación y Mantenimiento Vial | L11: 100 | M11: Verificar la coherencia y consistencia de todos los documentos que hagan parte del proceso precontractual y su estructuración de acuerdo con el alcance del proyecto. | N11: 2 | O11: 2 | P11: 4 | Q11: BAJO | R11: no | S11: Proceso de Talento Humano/ Grupo de estructuración del procesos de Gestión Contractual | T11: Durante la estructuración de los estudios previos | U11: Firma de estudios previos y revision de documentos precontractuales | V11: A través de la revisión de los Estudios Previos y sus documentos anexos que realice Talento Humano | W11: Dentro de las actividades de estructuración y revisión de los documentos del proceso
A12: 2 | B12: =+'[1]IDENTIFICACION Y ANALISIS'!C20 -> General | C12: Externo | D12: PLANEACIÓN | E12: Cambios en las regulaciones financieras, tributarias, regulaciones políticas y/o sociales, que afecten las condiciones iniciales del contrato | F12: Posible variación de las condiciones del contrato, asociadas a sobrecostos en la ejecución contractual. Modificaciones o adiciones contractuales. Rompimiento del equilibrio económico. | G12: =+[1]EVALUACION!H16 -> 2 | H12: 3 | I12: 5 | J12: MEDIO | K12: Unidad Administrativa Especial de Rehabilitacion y mantenimiento vial y Contratista | L12: 50/50 | M12: Verificar la inclusión de normativas a nivel nacional que puedan afectar el normal desarrollo del contrato | N12: =+'[1]EVALUACION CON CONTROLES'!H15 -> 1 | O12: 2 | P12: 3 | Q12: =+'[1]EVALUACION CON CONTROLES'!K15 -> BAJO | R12: Si | S12: Supervisor | T12: Durante la estructuración de los documentos previos | U12: Liquidación del contrato. | V12: Analizar si la modificación en temas financieras, tributarias, regulaciones políticas y/o sociales, afecta directamente los aspectos financieros, jurídicos o técnicos en el contrato | W12: Desde la suscripción del contrato hasta la liquidación del mismo.
A13: 3 | B13: General | C13: Externo | D13: EJECUCIÓN | E13: Afectación en el precio pactado por ítem, ocasionado por variaciones en el entorno. | F13: • Sobrecostos que afecta el precio ofertado Desequilibrio económico | G13: =+[1]EVALUACION!H16 -> 2 | H13: 5 | I13: 7 | J13: ALTO | K13: Contratista | L13: 100 | M13: * El contratista deberá prever la posible fluctuación de precios durante la etapa precontractual para definir la oferta económica ya que deberá mantener el precio durante toda la ejecución del contrato. * Verificar y solicitar que el contratista mantenga el precio ofertado - adjudicado de acuerdo a lo establecido en lel pliego de condiciones a, revisión de clausulas de multas y/o sanciones por incumplimiento en el precio pactado. | N13: =+'[1]EVALUACION CON CONTROLES'!H15 -> 1 | O13: 2 | P13: 3 | Q13: =+'[1]EVALUACION CON CONTROLES'!K15 -> BAJO | R13: Si | S13: Supervisor | T13: Durante la ejecución del contrato | U13: Acta de Terminación | V13: Seguimiento permanente de precios ofertados durante la ejecución del contrato | W13: Mensual
A14: 4 | B14: Especifico | C14: Externo | D14: EJECUCIÓN | E14: Demoras en la entrega de los elementos solicitados | F14: Afectacion en la ejecucion de actividades operativas asociadas con los elementos solicitados | G14: 2 | H14: 3 | I14: 5 | J14: MEDIO | K14: Contratista | L14: 100 | M14: Existen plazos máximos de entrega estblecidos en las obligaciones, solicitud por escrito por parte del supervisor. | N14: 1 | O14: 2 | P14: 3 | Q14: BAJO | R14: No | S14: Supervisor del contrato | T14: Cuando el supervisor envìa comunicado al contratista para que cumpla con el plazo contractual | U14: Cuando se reciben a satisfaccion los bienes adquiridos | V14: Confirmar la entrega de los bienes contratados. | W14: Por cada suministro solicitado , de acuerdo al cronograma de entregas fijado por el supervisor del contrato
A15: 5 | B15: Especifico | C15: Externo | D15: EJECUCIÓN | E15: Eventos naturales tales como lluvias, inundaciones y sequias entre otros | F15: Riesgo alto de contagio del personal del contratista y de los servidores de la entidad que tengan contacto directo con ellos. | G15: 3 | H15: 4 | I15: 7 | J15: ALTO | K15: Contratista | L15: 100 | M15: Aplicar el protocolo de Bioseguridad de la UAERMV y del Contratista para evitar contagios. | N15: 1 | O15: 2 | P15: 3 | Q15: BAJO | R15: No | S15: Contratista y supervisor del contrato | T15: Desde el inicio de la ejecución del contrato | U15: Hasta el plazo fianl del contrato | V15: Monitoreando periódicamente el estado de salud de todo el personal involucrado en la ejecución del contrato. | W15: Permanentemente
A16: 6 | B16: Especifico | C16: Externo | D16: EJECUCIÓN | E16: Que el contratista no tenga la disponibilidad o cantidad de elementos requeridos | F16: No poder atender las emergencias que se puedan presentar por falta de elementos para la atención de emergencias | G16: 1 | H16: 4 | I16: 5 | J16: MEDIO | K16: Contratista | L16: 100 | M16: Solicitar formalmente al contratista, el cumplimiento de las obligaciones contractuales. Si el contratista no da cumplimiento a lo contractual, se iniciara el proceso sancionatorio | N16: 1 | O16: 2 | P16: 3 | Q16: BAJO | R16: No | S16: Supervisor del contrato | T16: Cuando el supervisor detecte alguna demora con respecto a los plazos contractuales | U16: Cuando se reciben a satisfaccion los bienes adquiridos. | V16: seguimiento permanente a los despachos de los bienes requeridos. | W16: cuando el supervisor lo requiera.
A17: 7 | B17: Geneal | C17: Interno | D17: SELECCIÓN | E17: No publicación de la documentación del proceso de selección en el SECOP | F17: Falta al principio de publicidad, vicio en el procedimiento. Puede generar investigaciones disciplinarias | G17: 2 | H17: 3 | I17: 5 | J17: MEDIO | K17: Unidad Administrativa Especial de Rehabilitacion y mantenimiento vial | L17: 100 | M17: Publicar los documentos una vez sean formalizados y sin superar los 3 días hábiles permitidos para su publicación, así como cumplir con los plazos previstos en el cronograma | N17: 2 | O17: 3 | P17: 5 | Q17: MEDIO | R17: NO | S17: Abogado responsable del proceso del Grupo de Procesos Selectivos | T17: desde la publicación de la convocatoria pública | U17: hasta la adjudicación del proceso | V17: Revsión periódica del cronograma y publicaciones | W17: Permanentemente
A18: 8 | B18: General | C18: externo | D18: CONTRATACIÓN | E18: Falta de constitución o constitución tardía de la garantía única. Aceptación de garantías que no se ajustan a lo contemplado en el contrato | F18: retraso en el inicio de la ejecución contractual, por la falta de los elemenntos para la atención de emergencias de la entidad por falta de elementos necesarios. Imposibilidad de hacer exigibles garantías por no cumplir con condiciones exigidas | G18: 2 | H18: 3 | I18: 5 | J18: MEDIO | K18: Contratista | L18: 100 | M18: Se establecen plazos perentorios para el cumplimiento de requisitos de perfeccionamiento del contrato. | N18: 2 | O18: 3 | P18: 5 | Q18: MEDIO | R18: NO | S18: Abogado responsable del proceso del Grupo de Procesos Selectivos | T18: Desde el perfeccionamiento del contrato | U18: Hasta cumplido el plazo fijado para la entrega de la garantía | V18: Revisión cronograma entrega de garantías | W18: Permanentemente
C20: Categoria | I20: Impacto del Riesgo
B21: Probabilidad | C21: Catagoria | F21: Valoración | I21: Categoria | K21: Valoración
C22: Raro (puede ocurrir excepcionalmente) | F22: 1 | I22: Insignificante | K22: 1
C23: Improbable (puede ocurrir ocasionalmente) | F23: 2 | I23: Menor | K23: 2
C24: Posible (puede ocurrir en cualquier momento futuro) | F24: 3 | I24: Moderado | K24: 3
C25: Probable (probablemente va a ocurrir) | F25: 4 | I25: Mayor | K25: 4
C26: Casi cierto (ocurre en la mayoria de circunstancias) | F26: 5 | I26: Catastrófico | K26: 5
C28: Valoración del Riesgo
C29: Catagoria | F29: Valoración | G29: Insignificante | I29: Menor | K29: Moderado | L29: Mayor | M29: Catastrófico | Q29: Categoria del Riesgo
G30: 1 | I30: 2 | K30: 3 | L30: 4 | M30: 5 | Q30: Valoración del Riesgo | T30: Categoría
C31: Raro (puede ocurrir excepcionalmente) | F31: 1 | G31: 2 | I31: 3 | K31: 4 | L31: 5 | M31: 6 | Q31: 8, 9 y 10 | T31: Riesgo extremo
C32: Improbable (puede ocurrir ocasionalmente) | F32: 2 | G32: 3 | I32: 4 | K32: 5 | L32: 6 | M32: 7 | Q32: 6 y 7 | T32: Riesgo alto
C33: Posible (puede ocurrir en cualquier momento futuro) | F33: 3 | G33: 4 | I33: 5 | K33: 6 | L33: 7 | M33: 8 | Q33: 5 | T33: Riesgo medio
C34: Probable (probablemente va a ocurrir) | F34: 4 | G34: 5 | I34: 6 | K34: 7 | L34: 8 | M34: 9 | Q34: 2, 3 y 4 | T34: Riesgo bajo
C35: Casi cierto (ocurre en la mayoria de circunstancias) | F35: 5 | G35: 6 | I35: 7 | K35: 8 | L35: 9 | M35: 10
A41: Unidad Administrativa Especial de Rehabilitacion y mantenimiento vial
