Workbook

Sheet lista
A2: ITEM | B2: 1 | C2: 2 | D2: 3 | E2: 4 | F2: 5 | G2: 6 | H2: 7 | I2: 8 | J2: 9 | K2: 10 | L2: 11 | M2: 12 | N2: 13 | O2: 14 | P2: 15 | Q2: 16 | R2: 17 | S2: 18 | T2: 19 | U2: 20 | V2: 21 | W2: 22 | X2: 23 | Y2: 24 | Z2: 25 | AA2: 26 | AB2: 27 | AC2: 28
A3: NOMBRE | B3: ALFA TRADING S.A.S. | C3: ALLERS S.A. | D3: AMAREY NOVA MEDICAL S.A. | E3: BECTON DICKINSON DE COLOMBIA LTDA | F3: BIOPLAST S.A.S. | G3: COMPANY MEDIQBOY SAS | H3: DISTRIBUIDORA COLOMBIANA DE MEDICAMENTOS S.A.S. – DISCOLMEDICA S.A.S | I3: FRIDEN DE COLOMBIA HOSPITALARIA S.A. | J3: HOSPITECNICA SAS | K3: IMCOLMEDICA S.A. | L3: INVERSIONES DRILLTEX S.A.S. | M3: LABORATORIOS GOTHAPLAST LTDA | N3: LIFE SUMINISTROS MEDICOS SAS | O3: M&M EQUIPOS MEDICOS S.A.S. | P3: MEDICOX LTDA | Q3: MEDTRONIC COLOMBIA S.A. | R3: NIPRO MEDICAL CORPORATION | S3: POLIMEDIC'S FARMACEUTICA SAS "POLIFARMA SAS" | T3: ASEPSIS PRODUCTS DE COLOMBIA S.A.S. | U3: QUIRURGICOS LTDA | V3: RAFAEL ANTONIO SALAMANCA | W3: RP MEDICAS S.A. | X3: SMITH & NEPHEW COLOMBIA S.A.S | Y3: TECNICA ELECTRO MEDICA S.A. | Z3: TECNOLOGIAS MEDICAS COLOMBIA S.A.S. | AA3: TWITY S.A.S. | AB3: UCIPHARMA S.A | AC3: VYGON COLOMBIA S.A.
A6: ÍTEM | B6: PROVEEDDOR | C6: EVALUACION JURIDICA | D6: FINANCIERA
A7: 1 | B7: ALFA TRADING SAS | C7: CUMPLE | D7: CUMPLE
A8: =+A7+1 -> 2 | B8: ALLERS S. A. | C8: NO CUMPLE | D8: CUMPLE
A9: =+A8+1 -> 3 | B9: AMAREY NOVA MEDICAL SA | C9: CUMPLE | D9: CUMPLE
A10: =+A9+1 -> 4 | B10: BECTON DICKINSON DE COLOMBIA LTDA | C10: CUMPLE | D10: NO CUMPLE
A11: =+A10+1 -> 5 | B11: BIOPLAST S.A.S | C11: CUMPLE | D11: CUMPLE
A12: =+A11+1 -> 6 | B12: DISCOLMEDICA S.A.S | C12: NO CUMPLE | D12: NO CUMPLE
A13: =+A12+1 -> 7 | B13: COMPANY MEDIQBOY OC S.A.S. | C13: CUMPLE | D13: CUMPLE
A14: =+A13+1 -> 8 | B14: FRIDEN DE COLOMBIA HOSPITALARIA LTDA | C14: CUMPLE | D14: CUMPLE
A15: =+A14+1 -> 9 | B15: HOSPITECNICA S.A.S. | C15: NO CUMPLE | D15: CUMPLE
A16: =+A15+1 -> 10 | B16: IMCOLMEDICA S.A | C16: NO CUMPLE | D16: NO CUMPLE
A17: =+A16+1 -> 11 | B17: INVERSIONES DRILLTEX S A S | C17: NO CUMPLE | D17: CUMPLE
A18: =+A17+1 -> 12 | B18: LABORATORIOS GOTHAPLAST LTDA. | C18: NO CUMPLE | D18: CUMPLE
A19: =+A18+1 -> 13 | B19: LIFE SUMINISTROS MEDICOS S.A.S. | C19: NO CUMPLE | D19: CUMPLE
... A34: =+A33+1 -> 28 | B34: VYGON COLOMBIA S.A. | C34: NO CUMPLE | D34: CUMPLE

Sheet EV TECNICA
B1: EVALUACION ECONOMICA
A5: 1. INVITACION CP-003-2021
A7: ='OFERTAS ECONOMICAS'!A7:BC7 -> 2. OBJETO: SUMINISTRO DE INSUMOS Y DISPOSITIVOS MÉDICO QUIRÚRGICOS DE ACUERDO CON LA DESCRIPCIÓN DEL ANEXO TÉCNICO PARA LAS DIFERENTES ESPECIALIDADES, CON EL APOYO TECNOLÓGICO REQUERIDO, PARA LAS UNIDADES DE PRESTACIÓN DE SERVICIOS DE SALUD DE LA SUBRED INTEGRADA DE SERVICIOS DE SALUD SUR OCCIDENTE E.S.E INTEGRADA DE SERVICIOS DE SALUD SUR OCCIDENTE E.S.E.
A8: 3. ITEM | B8: 4. ELEMENTO | C8: 4. CARACTERISTICAS | D8: CANTIDAD | E8: UNIDAD | F8: VALOR DE REFERENCIA | G8: =lista!B3 -> ALFA TRADING S.A.S. | H8: =lista!D3 -> AMAREY NOVA MEDICAL S.A. | I8: =lista!F3 -> BIOPLAST S.A.S. | J8: =lista!G3 -> COMPANY MEDIQBOY SAS | K8: =lista!I3 -> FRIDEN DE COLOMBIA HOSPITALARIA S.A. | L8: =lista!O3 -> M&M EQUIPOS MEDICOS S.A.S. | M8: =lista!R3 -> NIPRO MEDICAL CORPORATION | N8: =lista!U3 -> QUIRURGICOS LTDA | O8: =lista!V3 -> RAFAEL ANTONIO SALAMANCA | P8: =lista!W3 -> RP MEDICAS S.A. | Q8: =lista!X3 -> SMITH & NEPHEW COLOMBIA S.A.S | R8: =lista!AA3 -> TWITY S.A.S.
G9: RESULTADO | H9: RESULTADO | I9: RESULTADO | J9: RESULTADO | K9: RESULTADO | L9: RESULTADO | M9: RESULTADO | N9: RESULTADO | O9: RESULTADO | P9: RESULTADO | Q9: RESULTADO | R9: RESULTADO
A10: 1 | B10: APOSITO "NO TEJIDO", CON ADHESIVO HIPOALERGÉNICO PARA HERIDAS POSOPERATORIAS 30 A 35 X 9 A 10CM. | C10: 1 UNIDAD DE APOSITO | D10: 1 | E10: UN | F10: 6000 | O10: NO CUMPLE EV. TECNICA | Q10: CUMPLE
A11: 2 | B11: APOSITO 6 X 7 MAS O MENOS 2CM CON REFUERZO INCORPORADO, Y CON TIRILLAS DE FIJACIÓN Y MARCACIÓN-USO PEDIATRICO | C11: 1 UNIDAD DE APOSITO | D11: 1 | E11: UN | F11: 1300 | G11: NO CUMPLE EV. TECNICA | K11: NO CUMPLE EV. TECNICA | O11: CUMPLE | Q11: NO CUMPLE EV. TECNICA
A12: 3 | B12: APOSITO DE CARBON TRILAMINADO 10*10 | C12: 1 UNIDAD DE APOSITO | D12: 1 | E12: UN | F12: 12000 | O12: NO CUMPLE EV. TECNICA
A13: 4 | B13: APOSITO DE GASA 15X20 CON BASE DE PARAFINA BLANDA + CLORHEXIDINA 0.5% | C13: 1 UNIDAD DE APOSITO | D13: 1 | E13: UN | F13: 4800 | O13: NO CUMPLE EV. TECNICA | Q13: CUMPLE
A14: 5 | B14: APOSITO ESTERIL TRANSPARENTE 7X9 MAS O MENOS 2 CM CON REFUERZO INCORPORADO, Y CON TIRILLAS DE FIJACIÓN Y MARCACIÓN - USO ADULTO | C14: 1 UNIDAD DE APOSITO | D14: 1 | E14: UN | F14: 1477 | G14: NO CUMPLE EV. TECNICA | K14: CUMPLE | O14: CUMPLE | Q14: NO CUMPLE EV. TECNICA
A15: 6 | B15: APOSITO TRANSPARENTE 15 X 25 CM POSQUIRURGICO CON ALMOHADILLA ABSORBENTE | C15: 1 UNIDAD DE APOSITO | D15: 1 | E15: UN | F15: 7500 | O15: NO CUMPLE EV. TECNICA | Q15: CUMPLE
A16: 7 | B16: APOSITO TRASPARENTE ESTERIL CON ALMOHADILLA ABSORVENTE 7 HASTA 9 X 5 HASTA 7 CM | C16: 1 UNIDAD DE APOSITO | D16: 1 | E16: UN | F16: 858.875 | K16: CUMPLE | O16: CUMPLE | Q16: NO CUMPLE EV. TECNICA
A17: 8 | B17: CREMA PROTECTORA CUTANEA CON OXIDO DE ZINC PARA PREVENCION LESIONES POR PRESION. 10% | C17: 1 UNIDAD DE CREMA | D17: 1 | E17: UN | F17: 41650 | H17: NO CUMPLE EV. TECNICA
A18: 9 | B18: DETERGENTE POLIENZIMATICO BIODEGRADABLE EN GEL O ESPUMA COMO PRETRATAMIENTO DE TRANSPORTE INSTRUMENTAL PARA LA DEGRADACION DE MATERIA ORGANICA | C18: 1 UNIDAD DE DETERGENTE X 500 ML PRESENTACION FRASCO EN SPRAY | D18: 1 | E18: UN | F18: 41650 | J18: NO CUMPLE EV. TECNICA
A19: 10 | B19: ESPARADRAPO TELA SIN TEJER AUTOADHESIVO-10 CM X 10 M | C19: 1 UNIDAD DE ESPARADRAPO | D19: 1 | E19: UN | F19: 12460 | G19: CUMPLE | H19: CUMPLE | I19: CUMPLE | J19: CUMPLE | K19: CUMPLE | O19: NO CUMPLE EV. TECNICA | Q19: CUMPLE
A20: 11 | B20: PROTECTOR CUTANEO EMOLIENTE CON OXIDO DE ZINC CALAMINA Y ALANTOINA 30%(ULTRA) | C20: 1 UNIDAD DE PROTECTOR CUTANEO | D20: 1 | E20: UN | F20: 26000 | O20: NO CUMPLE EV. TECNICA
A21: 12 | B21: PROTECTOR EN ESPUMA PARA CODO Y TALON | C21: 1 UNIDAD DE PROTECTOR EN ESPUMA | D21: 1 | E21: UN | F21: 18034 | O21: NO CUMPLE EV. TECNICA
A22: 13 | B22: ROLLO DE GASA IMPREGNADA EN PARAFINA DE 1 METRO POR 15 CM DE ANCHO ESTERIL | C22: 1 UNIDAD DE ROLLO DE GASA IMPREGNADA EN PARAFINA. PRESENTACION ROLLO | D22: 1 | E22: UN | F22: 20000 | K22: CUMPLE | O22: NO CUMPLE EV. TECNICA
A23: 14 | B23: CONECTOR LIBRE DE AGUJA | C23: 1 UNIDAD CONECTOR | D23: 1 | E23: UN | F23: 1100 | G23: CUMPLE | I23: NO CUMPLE EV. TECNICA | J23: CUMPLE | O23: CUMPLE
A24: 15 | B24: ESPARADRAPO ANTIALERGICO 1 PULGADA | C24: 1 ROLLO DE ESPARADRAPO | D24: 1 | E24: UN | F24: 1373 | G24: CUMPLE | I24: CUMPLE | J24: CUMPLE | K24: CUMPLE | O24: CUMPLE
A25: 16 | B25: ESPARADRAPO DE RAYON MICROPOROSO HIPOALERGENICO 2 X 10 YARDAS | C25: 1 ROLLO DE ESPARADRAPO | D25: 1 | E25: UN | F25: 2747 | G25: CUMPLE | I25: CUMPLE | J25: CUMPLE | K25: CUMPLE | O25: CUMPLE
A26: 17 | B26: GASA 100% ALGODON TEJIDA 8 PLIEGUES ESTERIL SIN INDICADOR RADIOPACO 7.5 * 7.5 cm (SOBRE X 5) | C26: 1 SOBRE DE 5 UNIDADES | D26: 1 | E26: UN | F26: 300 | G26: CUMPLE | J26: CUMPLE
A27: 18 | B27: JERINGA DE TRES PARTES DE 3 CM 23G X 1´´ 25 X 0.62 MM. | C27: 1 UNIDAD DE JERINGA | D27: 1 | E27: UN | F27: 189.21 | G27: CUMPLE | I27: CUMPLE | J27: CUMPLE | M27: CUMPLE
A28: 19 | B28: PAÑO IMPREGNADO CON CLORHEXIDINA AL 2 % Y ALCOHOL ISOPROPILICO AL 70% | C28: 1 UNIDAD DE PAÑO | D28: 1 | E28: UN | F28: 52 | G28: CUMPLE | J28: CUMPLE | O28: NO CUMPLE EV. TECNICA
A29: 20 | B29: COMPRESA TEJIDA EN GASA 100% ALGODON DE 4 PLIEGUES NO ESTERIL 45CM X 45CM CON INDICADOR RADIOPACO LIBRE DE LATEX | C29: Una Unidad de compresa | D29: 1 | E29: UN | F29: 950 | G29: CUMPLE | I29: CUMPLE
A30: 21 | B30: JERINGA DESECHABLE DE 60 ML PUNTA DE CATETER TRESPAR | C30: 1 UNIDAD DE JERINGA | D30: 1 | E30: UN | F30: 830 | G30: CUMPLE | I30: CUMPLE | J30: CUMPLE
A31: 22 | B31: GASA TEJIDA NO ESTERIL TIPO HOSPITALARIO ROLLO 0.90 X 90 MTRS ANCHO 45 CM | C31: 1 UNIDAD DE ROLLO DE GASA | D31: 1 | E31: UN | F31: 44000 | G31: CUMPLE | I31: CUMPLE | J31: NO CUMPLE EV. TECNICA | O31: NO CUMPLE EV. TECNICA
A32: 23 | B32: AGUJA BLOQUEO NERVIOSO 22X50MM | C32: 1 UNIDAD DE AGUJA | D32: 1 | E32: UN | F32: 10824 | J32: NO CUMPLE EV. TECNICA
A33: 24 | B33: AGUJA PARA BLOQUEO DE NERVIO 20 - 21 G X 120MM VISIBLES ECOGRÁFICAMENTE | C33: 1 UNIDAD DE AGUJA | D33: 1 | E33: UN | F33: 41075 | J33: NO CUMPLE EV. TECNICA
A34: 25 | B34: AGUJA PARA BLOQUEO DE NERVIO 21- 22 G X 50MM VISIBLES ECOGRÁFICAMENTE | C34: 1 UNIDAD DE AGUJA | D34: 1 | E34: UN | F34: 38123.19 | J34: NO CUMPLE EV. TECNICA
A35: 26 | B35: AGUJA PARA BLOQUEO DE NERVIO 21 G X 90-110MM | C35: 1 UNIDAD DE AGUJA | D35: 1 | E35: UN | F35: 43977.19 | J35: NO CUMPLE EV. TECNICA
A36: 27 | B36: AGUJA PARA BLOQUEO DE NERVIO NO. 20G X 150MM USO CON NEUROESTIMULADOR | C36: 1 UNIDAD DE AGUJA | D36: 1 | E36: UN | F36: 43182.19 | J36: NO CUMPLE EV. TECNICA
A37: 28 | B37: AGUJA PARA BLOQUEO DE NERVIO NO. 22G X 80MM USO CON NEUROESTIMULADOR | C37: 1 UNIDAD DE AGUJA | D37: 1 | E37: UN | F37: 35875.19 | J37: NO CUMPLE EV. TECNICA
A38: 29 | B38: AGUJA PARA BLOQUEO DE NERVIO NO. 24G X 25MM USO CON NEUROESTIMULADOR | C38: 1 UNIDAD DE AGUJA | D38: 1 | E38: UN | F38: 42008.19 | J38: NO CUMPLE EV. TECNICA
A39: 30 | B39: AGUJA PARA PUNCION LUMBAR N. 20 | C39: 1 UNIDAD DE AGUJA | D39: 1 | E39: UN | F39: 4000 | I39: NO CUMPLE EV. TECNICA | J39: CUMPLE | N39: NO CUMPLE EV. TECNICA | O39: CUMPLE
A40: 31 | B40: AGUJA PARA PUNCION LUMBAR N. 22 | C40: 1 UNIDAD DE AGUJA | D40: 1 | E40: UN | F40: 4000 | I40: NO CUMPLE EV. TECNICA | J40: CUMPLE | N40: NO CUMPLE EV. TECNICA | O40: CUMPLE
A41: 32 | B41: AGUJA PARA PUNCION LUMBAR NO. 25 | C41: 1 UNIDAD DE AGUJA | D41: 1 | E41: UN | F41: 4023 | I41: NO CUMPLE EV. TECNICA | J41: CUMPLE | N41: NO CUMPLE EV. TECNICA | O41: CUMPLE
A42: 33 | B42: ASA POLIPECTOMIA OVALADA | C42: 1 UNIDAD DE ASA | D42: 1 | E42: UN | F42: 101534 | J42: NO CUMPLE EV. TECNICA
A43: 34 | B43: BOQUILLA PLASTICA PARA ENDOSCOPIA ADULTO REUSABLE | C43: 1 UNIDAD DE BOQUILLA | D43: 1 | E43: UN | F43: 64387 | L43: CUMPLE
A44: 35 | B44: BOQUILLA PLASTICA PARA ENDOSCOPIA PEDIATRICA REUSABLE | C44: 1 UNIDAD DE BOQUILLA | D44: 1 | E44: UN | L44: CUMPLE
A45: 36 | B45: BOQUILLAS DESECHABLES ADULTO 48 F BANDA DE CAUCHO INTERNA CON VELCRO | C45: 1 UNIDAD DE BOQUILLA | D45: 1 | E45: UN | F45: 15827 | L45: CUMPLE
A46: 37 | B46: CANULA DE TRAQUEOSTOMIA 2.5 SIN BALON TERMOSENSIBLE QUE PERMITA MAYOR ADAPTACION | C46: 1 UNIDAD DE CANULA | D46: 1 | E46: UN | F46: 421872 | J46: NO CUMPLE EV. TECNICA
A47: 38 | B47: CANULA DE TRAQUEOSTOMIA 5 FENESTRADA | C47: 1 UNIDAD DE CANULA | D47: 1 | E47: UN | F47: 390978 | J47: NO CUMPLE EV. TECNICA
A48: 39 | B48: CATETER VENOSO CENTRAL 1 LUMEN N 18 AD. | C48: 1 UNIDAD DE CATETER | D48: 1 | E48: UN | F48: 60930
A49: 40 | B49: CEPILLO PARA LAVADO DE COLONOSCOPIA DESECHABLE | C49: 1 UNIDAD DE CEPILLO | D49: 1 | E49: UN | F49: 8645 | L49: CUMPLE
A50: 41 | B50: CEPILLO PARA LAVADO PARA GASTROSCOPIA DESECHABLE | C50: 1 UNIDAD DE CEPILLO | D50: 1 | E50: UN | F50: 8645 | L50: CUMPLE
A51: 42 | B51: CIRCUITO DESECHABLE PARA SISTEMA DE REANIMACIÓN NEONATAL QUE INCLUYE MANGUERA LISA PARA OXIGENO Y MASCARA DE (50MM) | C51: 1 UNIDAD DE CIRCUITO INCLUYE MANGUERA Y MASCARA | D51: 1 | E51: UN | F51: 62500 | J51: CUMPLE | O51: CUMPLE
A52: 43 | B52: CIRCUITO DESECHABLE PARA SISTEMA DE REANIMACIÓN NEONATAL QUE INCLUYE MANGUERA LISA PARA OXIGENO Y MASCARA DE (60MM) | C52: 1 UNIDAD DE CIRCUITO INCLUYE MANGUERA Y MASCARA | D52: 1 | E52: UN | F52: 62500 | J52: CUMPLE | O52: CUMPLE
A53: 44 | B53: CIRCUITO DESECHABLE PARA SISTEMA DE REANIMACIÓN NEONATAL QUE INCLUYE MANGUERA LISA PARA OXIGENO Y MASCARA DE (42MM) | C53: 1 UNIDAD DE CIRCUITO INCLUYE MANGUERA Y MASCARA | D53: 1 | E53: UN | F53: 62500 | J53: CUMPLE | O53: CUMPLE
A54: 45 | B54: DREN DE BLAKE NO. 7 CON RESERVORIO | C54: 1 UNIDAD DE DREN | D54: 1 | E54: UN | F54: 89083 | K54: NO CUMPLE EV. TECNICA
A55: 46 | B55: ELECTRODO LAPAROSCOPICO TIPO GANCHO DE HOOK ANGULACION 90 GRADOS (CAMISA E INSERTO ) REUSABLE PARA SISTEMA MONOPOLAR | C55: 1 UNIDAD DE ELECTRODO | D55: 1 | E55: UN | F55: 451603
A56: 47 | B56: ELECTRODO LAPAROSCOPICO TIPO ESPATULA (CAMISA E INSERTO ) REUSABLE PARA SISTEMA MONOPOLAR | C56: 1 UNIDAD DE ELECTRODO | D56: 1 | E56: UN | F56: 470368
A57: 48 | B57: INHALOCAMARA PARA VENTILACIÓN MECANICA ADULTO CON ADAPTACION A CIRCUITO UNIVERSAL | C57: 1 UNIDAD DE INHALOCAMARA | D57: 1 | E57: UN | F57: 3648
A58: 49 | B58: JERINGA ASEPTO PLASTICA ESTERIL | C58: 1 UNIDAD DE JERINGA | D58: 1 | E58: UN | F58: 4252 | J58: CUMPLE
A59: 50 | B59: JUEGO PARA ADMINISTRACION DE LIQUIDOS PARA BOMBA DE DOLOR | C59: 1 UNIDAD DE JUEGO ADMINISTRACION DE LIQUIDOS PARA BOMBA DE DOLOR | D59: 1 | E59: UN | F59: 37400
A60: 51 | B60: KIT DE TRAQUEOSTOMIA PERCUTANEO ( GUIA, AGUJA, CAMISA, BISTURY, JERINGA, CANULA DE PUNCION CON CASTETER DE TEFLON, DILATADOR CORTO 14, CATETER GUIA CON BLOQUEO DE SEGURIDAD, DILATADOR HIDROFILICO Y CANULA DE TRAQUEOSTOMIA N 7 ) | C60: 1 KIT DE TRAQUEOSTOMIA PRESENTACION KIT | D60: 1 | E60: UN | F60: 1398527 | J60: CUMPLE
A61: 52 | B61: KIT DE TRAQUEOSTOMIA PERCUTANEO ( GUIA, AGUJA, CAMISA, BISTURY, JERINGA, CANULA DE PUNCION CON CASTETER DE TEFLON, DILATADOR CORTO 14, CATETER GUIA CON BLOQUEO DE SEGURIDAD, DILATADOR HIDROFILICO Y CANULA DE TRAQUEOSTOMIA N 8 FENESTRADA) | C61: 1 KIT DE TRAQUEOSTOMIA PRESENTACION KIT | D61: 1 | E61: UN | F61: 1398527 | J61: NO CUMPLE EV. TECNICA
A62: 53 | B62: PAPILOTOMO DE PUNTA O PRECORTE | C62: 1 UNIDAD DE PAPILOTOMO | D62: 1 | E62: UN | F62: 546912 | L62: CUMPLE
A63: 54 | B63: PINZA PARA EXTRACCION DE CUERPO EXTRAÑO REUSABLE PARA ENDOSCOPIA | C63: 1 UNIDAD DE PINZA | D63: 1 | E63: UN | F63: 2606903 | L63: CUMPLE
A64: 55 | B64: SET DE CATETER EPIDURAL CON AGUJA No.16 | C64: 1 UNIDAD DE KIT DE ANESTESIA. INCLUYE (TODOS LOS INSUMOS RELACIONADOS EN LA DESCRIPCION DEL INSUMO) PRESENTACION KIT | D64: 1 | E64: UN | F64: 33702 | J64: NO CUMPLE EV. TECNICA
A65: 56 | B65: SET DE CATETER EPIDURAL CON AGUJA No.18 | C65: 1 UNIDAD DE SET DE CATETER | D65: 1 | E65: UN | F65: 36900 | J65: NO CUMPLE EV. TECNICA
A66: 57 | B66: SISTEMA DE DRENAJE TORACICO PEDIATRICO | C66: 1 UNIDAD DE SISTEMA DE DRENAJE TORAXICO | D66: 1 | E66: UN | F66: 33210 | J66: NO CUMPLE EV. TECNICA
A67: 58 | B67: SONDA DE SUCCION CERRADA N° 12 FR | C67: 1 UNIDAD DE SONDA | D67: 1 | E67: UN | F67: 53167.5 | J67: NO CUMPLE EV. TECNICA
A68: 59 | B68: SONDA DE SUCCION CERRADA N° 5 FR | C68: 1 UNIDAD DE SONDA | D68: 1 | E68: UN | F68: 54000
A69: 60 | B69: SONDA DE SUCCION CERRADA NO 14 CON PUERTO PARA INHALADOR | C69: 1 UNIDAD DE SONDA | D69: 1 | E69: UN | F69: 54068.75 | J69: NO CUMPLE EV. TECNICA
A70: 61 | B70: VALVULA DE SUCCION DESECHABLE | C70: 1 UNIDAD DE VALVULA DE SUCCION | D70: 1 | E70: UN | F70: 996934
A71: 62 | B71: BOLSA DE DRENAJE URINARIO ADULTO CON SISTEMA CERRRADO, SIN PUERTO PARA TOMA DE MUESTRA Y SIN VALVULA ANTIREFLUJO Y CONECTOR UNIVERSAL. | C71: 1 UNIDAD DE BOLSA DRENAJE URINARIO | D71: 1 | E71: UN | F71: 4046 | I71: NO CUMPLE EV. TECNICA | J71: CUMPLE | N71: NO CUMPLE EV. TECNICA | O71: NO CUMPLE EV. TECNICA
A72: 63 | B72: CANULA DE GUEDELL N. 0 | C72: 1 UNIDAD DE CANULA | D72: 1 | E72: UN | F72: 759 | I72: CUMPLE | J72: CUMPLE | K72: CUMPLE | N72: CUMPLE | O72: CUMPLE
A73: 64 | B73: CANULA DE GUEDELL N. 1 | C73: 1 UNIDAD DE CANULA | D73: 1 | E73: UN | F73: 759 | I73: CUMPLE | J73: CUMPLE | K73: CUMPLE | N73: CUMPLE | O73: CUMPLE
A74: 65 | B74: CANULA DE GUEDELL N. 2 | C74: 1 UNIDAD DE CANULA | D74: 1 | E74: UN | F74: 759 | I74: CUMPLE | J74: CUMPLE | K74: CUMPLE | N74: CUMPLE | O74: CUMPLE
A75: 66 | B75: CANULA DE GUEDELL N. 3 | C75: 1 UNIDAD DE CANULA | D75: 1 | E75: UN | F75: 759 | I75: CUMPLE | J75: CUMPLE | K75: CUMPLE | N75: CUMPLE | O75: CUMPLE
A76: 67 | B76: CANULA DE GUEDELL N. 4 | C76: 1 UNIDAD DE CANULA | D76: 1 | E76: UN | F76: 759 | I76: CUMPLE | J76: CUMPLE | K76: CUMPLE | N76: CUMPLE | O76: CUMPLE
A77: 68 | B77: CANULA DE GUEDELL N. 5 | C77: 1 UNIDAD DE CANULA | D77: 1 | E77: UN | F77: 759 | I77: CUMPLE | J77: CUMPLE | K77: CUMPLE | N77: CUMPLE | O77: CUMPLE
A78: 69 | B78: CANULA DE TRAQUEOSTOMIA 5 CON BALON | C78: 1 UNIDAD DE CANULA | D78: 1 | E78: UN | F78: 15466 | I78: CUMPLE | J78: CUMPLE | N78: CUMPLE
A79: 70 | B79: CANULA DE TRAQUEOSTOMIA 5 SIN BALON | C79: 1 UNIDAD DE CANULA | D79: 1 | E79: UN | F79: 10875 | I79: NO CUMPLE EV. TECNICA | J79: CUMPLE | N79: CUMPLE
A80: 71 | B80: CANULA DE TRAQUEOSTOMIA 5.5 CON BALON | C80: 1 UNIDAD DE CANULA | D80: 1 | E80: UN | F80: 15466 | I80: CUMPLE | J80: CUMPLE | N80: CUMPLE
A81: 72 | B81: CANULA DE TRAQUEOSTOMIA 7 CON BALON | C81: 1 UNIDAD DE CANULA | D81: 1 | E81: UN | F81: 15466 | I81: CUMPLE | J81: CUMPLE | N81: CUMPLE | O81: CUMPLE
A82: 73 | B82: CANULA DE TRAQUEOSTOMIA 7.5 CON BALON | C82: 1 UNIDAD DE CANULA | D82: 1 | E82: UN | F82: 15466 | I82: CUMPLE | J82: CUMPLE | N82: CUMPLE | O82: CUMPLE
A83: 74 | B83: CANULA DE TRAQUEOSTOMIA 8 CON BALON | C83: 1 UNIDAD DE CANULA | D83: 1 | E83: UN | F83: 15466 | I83: CUMPLE | J83: CUMPLE | N83: CUMPLE | O83: CUMPLE
A84: 75 | B84: ELECTRODO PEDIATRICO CON GEL SOLIDO BASE MICROPOROSO SUAVE DURABLES, ADHESIVO HIPOALERGENIGO | C84: 1 UNIDAD DE ELECTRODO | D84: 1 | E84: UN | F84: 243.75 | I84: CUMPLE | J84: CUMPLE | N84: CUMPLE
A85: 76 | B85: FILTRO BACTERIANO VIRICO ADULTO PARA VENTILADOR MECANICO | C85: 1 UNIDAD DE FILTRO | D85: 1 | E85: UN | F85: 2795 | I85: CUMPLE | J85: CUMPLE | N85: CUMPLE | O85: CUMPLE
A86: 77 | B86: FILTRO HIDROFOBICO DESECAHBLE para su uso en equipos respiratorios y concentradores de oxígeno | C86: 1 UNIDAD DE FILTRO | D86: 1 | E86: UN | F86: 6069 | I86: CUMPLE | J86: CUMPLE | O86: NO CUMPLE EV. TECNICA
A87: 78 | B87: FILTRO INTERCAMBIADOR DE CALOR Y HUMEDAD PEDIATRICO | C87: 1 UNIDAD DE FILTRO | D87: 1 | E87: UN | F87: 4050 | N87: NO CUMPLE EV. TECNICA | O87: CUMPLE
A88: 79 | B88: FILTROS HIDROFOBICOS PARA MAQUINAS DE ANESTESIA | C88: 1 UNIDAD DE FILTRO | D88: 1 | E88: UN | F88: 2650 | I88: NO CUMPLE EV. TECNICA | J88: CUMPLE | N88: CUMPLE | O88: CUMPLE
A89: 80 | B89: GUIA DE INTUBACION 10 FR PEDIATRICA DESECHABLE | C89: 1 UNIDAD DE GUIA | D89: 1 | E89: UN | F89: 3901.25 | I89: CUMPLE | J89: CUMPLE | N89: CUMPLE | O89: CUMPLE
A90: 81 | B90: GUIA DE INTUBACION 14 FR | C90: 1 UNIDAD DE GUIA | D90: 1 | E90: UN | F90: 3540 | I90: CUMPLE | J90: CUMPLE | N90: CUMPLE | O90: CUMPLE
A91: 82 | B91: GUIA DE INTUBACION 6 FR | C91: 1 UNIDAD DE GUIA | D91: 1 | E91: UN | F91: 3863.75 | I91: CUMPLE | J91: CUMPLE | N91: CUMPLE | O91: CUMPLE
A92: 83 | B92: LAPIZ PARA ELECTROBISTURI ESTERIL | C92: 1 UNIDAD DE LAPIZ ELECTROBISTURI | D92: 1 | E92: UN | F92: 4943 | I92: CUMPLE | J92: CUMPLE | K92: CUMPLE | N92: CUMPLE
A93: 84 | B93: MALLA DE POLIPROPILENO DE ALTA DENSIDAD PESO DE 95 GR, MICROPOROSA PORO DE 0,75 X 0.75 A 0,8 MM NO ABSORBIBLE 15 X 15CM | C93: 1 UNIDAD DE MALLA | D93: 1 | E93: UN | F93: 75000 | I93: CUMPLE | J93: NO CUMPLE EV. TECNICA | N93: NO CUMPLE EV. TECNICA | R93: CUMPLE
A94: 85 | B94: MALLA DE POLIPROPILENO PARA LA REPARACION DE LA PARED ABDOMINAL 30CM X 30CM | C94: 1 UNIDAD DE MALLA | D94: 1 | E94: UN | F94: 99000 | I94: CUMPLE | J94: NO CUMPLE EV. TECNICA | N94: CUMPLE | R94: CUMPLE
A95: 86 | B95: MALLA DE POLIPROPILENO SUAVE DE MEDIANA DENSIDAD CON PESO DE 45 A 90G/M2, MACROPOROSA PORO DE 2,38 A 3.6 X 2,38 A 3.6 MM, NO ABSORBIBLE. 10CM A 8CM X 15CM | C95: 1 UNIDAD DE MALLA | D95: 1 | E95: UN | F95: 38000 | I95: CUMPLE | N95: CUMPLE | R95: CUMPLE
A96: 87 | B96: MALLA MACROPOROSA MONOFILAMENTO LIGERA ULTRAFINA PARA PROLAPSO DE CUPULA VAGINAL | C96: 1 UNIDAD DE MALLA | D96: 1 | E96: UN | F96: 2654800 | I96: NO CUMPLE EV. TECNICA | N96: CUMPLE | P96: CUMPLE
A97: 88 | B97: MALLA QUIRURGICA DE ALTA DENSIDAD DE 15 X 15 CM - 20 X 20 CM | C97: 1 UNIDAD DE MALLA | D97: 1 | E97: UN | F97: 75000 | N97: NO CUMPLE EV. TECNICA | R97: CUMPLE
A98: 89 | B98: MALLA QUIRURGICA PARA REPARACION DE HERNIA VENTRAL/INCISIONAL CUANDO EXISTE LA NECESIDAD DE QUE LA MALLA ENTRE EN CONTACTO CON CON LOS ORGANOS DE LA CAVIDADABDOMINAL 18 A 20 X 30 A 35CM | C98: 1 UNIDAD DE MALLA | D98: 1 | E98: UN | F98: 189262 | N98: CUMPLE
A99: 90 | B99: MASCARA FACIAL 0 PARA ANESTESIA | C99: 1 UNIDAD DE MASCARA | D99: 1 | E99: UN | F99: 3574 | I99: CUMPLE | J99: CUMPLE | N99: CUMPLE | O99: CUMPLE
A100: 91 | B100: MASCARA FACIAL 1 PARA ANESTESIA | C100: 1 UNIDAD DE MASCARA | D100: 1 | E100: UN | F100: 3574 | I100: CUMPLE | J100: CUMPLE | N100: CUMPLE | O100: CUMPLE
A101: 92 | B101: MASCARA FACIAL 2 PARA ANESTESIA | C101: 1 UNIDAD DE MASCARA | D101: 1 | E101: UN | F101: 3574 | I101: CUMPLE | J101: CUMPLE | N101: CUMPLE | O101: CUMPLE
A102: 93 | B102: MASCARA FACIAL 3 PARA ANESTESIA | C102: 1 UNIDAD DE MASCARA | D102: 1 | E102: UN | F102: 3523 | I102: CUMPLE | J102: CUMPLE | N102: CUMPLE | O102: CUMPLE
A103: 94 | B103: MASCARA FACIAL 4 PARA ANESTESIA | C103: 1 UNIDAD DE MASCARA | D103: 1 | E103: UN | F103: 3523 | I103: CUMPLE | J103: CUMPLE | N103: CUMPLE | O103: CUMPLE
A104: 95 | B104: MASCARA FACIAL 5 PARA ANESTESIA | C104: 1 UNIDAD DE MASCARA | D104: 1 | E104: UN | F104: 3523 | I104: CUMPLE | J104: CUMPLE | N104: CUMPLE | O104: CUMPLE
...

Sheet OFERTAS ECONOMICAS
A1: EVALUACION ECONOMICA | BA1: Versión: | BB1: 2
BA2: Fecha de aprobación: | BB2: 43326
BA3: Código: | BB3: 15-00-FO-0009
A5: 1. INVITACION IC-364-2021
A7: 2. OBJETO: SUMINISTRO DE INSUMOS Y DISPOSITIVOS MÉDICO QUIRÚRGICOS DE ACUERDO CON LA DESCRIPCIÓN DEL ANEXO TÉCNICO PARA LAS DIFERENTES ESPECIALIDADES, CON EL APOYO TECNOLÓGICO REQUERIDO, PARA LAS UNIDADES DE PRESTACIÓN DE SERVICIOS DE SALUD DE LA SUBRED INTEGRADA DE SERVICIOS DE SALUD SUR OCCIDENTE E.S.E INTEGRADA DE SERVICIOS DE SALUD SUR OCCIDENTE E.S.E.
A8: 3. ITEM | B8: DESCRIPCIÓN | C8: CARACTERISTICAS | D8: CANTIDAD | E8: UNDIDAD | F8: VALOR DE REFERENCIA | G8: CONSUMO PROMEDIO MES | H8: =lista!B3 -> ALFA TRADING S.A.S. | L8: =lista!D3 -> AMAREY NOVA MEDICAL S.A. | P8: =lista!F3 -> BIOPLAST S.A.S. | T8: =lista!G3 -> COMPANY MEDIQBOY SAS | X8: =lista!I3 -> FRIDEN DE COLOMBIA HOSPITALARIA S.A. | AB8: =lista!O3 -> M&M EQUIPOS MEDICOS S.A.S. | AF8: =lista!R3 -> NIPRO MEDICAL CORPORATION | AJ8: =lista!U3 -> QUIRURGICOS LTDA | AN8: =lista!V3 -> RAFAEL ANTONIO SALAMANCA | AR8: =lista!W3 -> RP MEDICAS S.A. | AV8: =lista!X3 -> SMITH & NEPHEW COLOMBIA S.A.S | AZ8: =lista!AA3 -> TWITY S.A.S.
H9: 7.VALOR UNITARIO | I9: 8.IVA | J9: 9. VALOR UNITARIO + IVA | K9: 10.VALOR TOTAL | L9: 7.VALOR UNITARIO | M9: 8.IVA | N9: 9. VALOR UNITARIO + IVA | O9: 10.VALOR TOTAL | P9: 7.VALOR UNITARIO | Q9: 8.IVA | R9: 9. VALOR UNITARIO + IVA | S9: 10.VALOR TOTAL | T9: 7.VALOR UNITARIO | U9: 8.IVA | V9: 9. VALOR UNITARIO + IVA | W9: 10.VALOR TOTAL | X9: 7.VALOR UNITARIO | Y9: 8.IVA | Z9: 9. VALOR UNITARIO + IVA | AA9: 10.VALOR TOTAL | AB9: 7.VALOR UNITARIO | AC9: 8.IVA | AD9: 9. VALOR UNITARIO + IVA | AE9: 10.VALOR TOTAL | AF9: 7.VALOR UNITARIO | AG9: 8.IVA | AH9: 9. VALOR UNITARIO + IVA | AI9: 10.VALOR TOTAL | AJ9: 7.VALOR UNITARIO | AK9: 8.IVA | AL9: 9. VALOR UNITARIO + IVA | AM9: 10.VALOR TOTAL | AN9: 7.VALOR UNITARIO | AO9: 8.IVA | AP9: 9. VALOR UNITARIO + IVA | AQ9: 10.VALOR TOTAL | AR9: 7.VALOR UNITARIO | AS9: 8.IVA | AT9: 9. VALOR UNITARIO + IVA | AU9: 10.VALOR TOTAL | AV9: 7.VALOR UNITARIO | AW9: 8.IVA | AX9: 9. VALOR UNITARIO + IVA | AY9: 10.VALOR TOTAL | AZ9: 7.VALOR UNITARIO | BA9: 8.IVA | BB9: 9. VALOR UNITARIO + IVA | BC9: 10.VALOR TOTAL | BD9: MENOR VR OFERTADO | BE9: DIF | BF9: PROVEEDOR CON MENOR VALOR | BI9: PRECIO MIN | BJ9: DIF | BK9: NOMBRE PROVEEDOR
A10: 1 | B10: APOSITO "NO TEJIDO", CON ADHESIVO HIPOALERGÉNICO PARA HERIDAS POSOPERATORIAS 30 A 35 X 9 A 10CM. | C10: 1 UNIDAD DE APOSITO | D10: 1 | E10: UN | F10: 6000 | G10: 266.66667 | H10: =VLOOKUP($A10,[1]Hoja1!$A$3:$G$271,6,0) -> 0 | I10: =VLOOKUP($A10,[1]Hoja1!$A$3:$G$271,7,0) -> 0 | J10: =H10+I10 -> 0 | K10: =$D10*J10 -> 0 | L10: =VLOOKUP($A10,[2]Hoja1!$A$3:$G$271,6,0) -> 0 | M10: =VLOOKUP($A10,[2]Hoja1!$A$3:$G$271,7,0) -> 0 | N10: =L10+M10 -> 0 | O10: =$D10*N10 -> 0 | P10: =VLOOKUP($A10,[3]Hoja1!$A$3:$M$271,12,0) -> 0 | Q10: =VLOOKUP($A10,[3]Hoja1!$A$3:$M$271,13,0) -> 0 | R10: =P10+Q10 -> 0 | S10: =$D10*R10 -> 0 | T10: =VLOOKUP($A10,[4]Hoja1!$A$3:$G$271,6,0) -> 0 | U10: =VLOOKUP($A10,[4]Hoja1!$A$3:$G$271,7,0) -> 0 | V10: =T10+U10 -> 0 | W10: =$D10*V10 -> 0 | X10: =VLOOKUP($A10,[5]Hoja1!$A$3:$G$271,6,0) -> 0 | Y10: =VLOOKUP($A10,[5]Hoja1!$A$3:$G$271,7,0) -> 0 | Z10: =X10+Y10 -> 0 | AA10: =$D10*Z10 -> 0 | AB10: =VLOOKUP($A10,[6]Hoja1!$A$3:$G$271,6,0) -> 0 | AC10: =VLOOKUP($A10,[6]Hoja1!$A$3:$G$271,7,0) -> 0 | AD10: =AB10+AC10 -> 0 | AE10: =$D10*AD10 -> 0 | AF10: =VLOOKUP($A10,[7]Hoja1!$A$3:$M$271,12,0) -> 0 | AG10: =VLOOKUP($A10,[7]Hoja1!$A$3:$M$271,13,0) -> 0 | AH10: =AF10+AG10 -> 0 | AI10: =$D10*AH10 -> 0 | AJ10: =VLOOKUP($A10,[8]Hoja1!$A$3:$G$271,6,0) -> 0 | AK10: =VLOOKUP($A10,[8]Hoja1!$A$3:$G$271,7,0) -> 0 | AL10: =AJ10+AK10 -> 0 | AM10: =$D10*AL10 -> 0 | AN10: =VLOOKUP($A10,[9]Hoja1!$A$5:$G$273,6,0) -> 104682 | AO10: =VLOOKUP($A10,[9]Hoja1!$A$5:$G$273,7,0) -> 0 | AP10: =AN10+AO10 -> 104682 | AQ10: =$D10*AP10 -> 104682 | AR10: =VLOOKUP($A10,[10]Hoja1!$A$3:$M$271,12,0) -> 0 | AS10: =VLOOKUP($A10,[10]Hoja1!$A$3:$M$271,13,0) -> 0 | AT10: =AR10+AS10 -> 0 | AU10: =$D10*AT10 -> 0 | AV10: =VLOOKUP($A10,[11]Hoja1!$A$3:$M$271,12,0) -> 3400 | AW10: =VLOOKUP($A10,[11]Hoja1!$A$3:$M$271,13,0) -> 0 | AX10: =AV10+AW10 -> 3400 | AY10: =$D10*AX10 -> 3400 | AZ10: =VLOOKUP($A10,[12]Hoja1!$A$3:$M$271,12,0) -> 0 | BA10: =VLOOKUP($A10,[12]Hoja1!$A$3:$M$271,13,0) -> 0 | BB10: =AZ10+BA10 -> 0 | BC10: =$D10*BB10 -> 0 | BD10: =MIN(#REF!,#REF!) -> #REF! | BE10: =BD10-#REF! -> #REF! | BF10: IME IMPORTMEDICAL COLOMBIA SAS | BI10: =MIN(#REF!,#REF!) -> #REF! | BJ10: =BI10-#REF! -> #REF! | BK10: IME IMPORTMEDICAL COLOMBIA SAS
A11: 2 | B11: APOSITO 6 X 7 MAS O MENOS 2CM CON REFUERZO INCORPORADO, Y CON TIRILLAS DE FIJACIÓN Y MARCACIÓN-USO PEDIATRICO | C11: 1 UNIDAD DE APOSITO | D11: 1 | E11: UN | F11: 1300 | G11: 1622 | H11: =VLOOKUP($A11,[1]Hoja1!$A$3:$G$271,6,0) -> 1299 | J11: =H11+I11 -> 1299 | K11: =$D11*J11 -> 1299 | L11: =VLOOKUP($A11,[2]Hoja1!$A$3:$G$271,6,0) -> 0 | M11: =VLOOKUP($A11,[2]Hoja1!$A$3:$G$271,7,0) -> 0 | N11: =L11+M11 -> 0 | O11: =$D11*N11 -> 0 | P11: =VLOOKUP($A11,[3]Hoja1!$A$3:$M$271,12,0) -> 0 | Q11: =VLOOKUP($A11,[3]Hoja1!$A$3:$M$271,13,0) -> 0 | R11: =P11+Q11 -> 0 | S11: =$D11*R11 -> 0 | T11: =VLOOKUP($A11,[4]Hoja1!$A$3:$G$271,6,0) -> 0 | U11: =VLOOKUP($A11,[4]Hoja1!$A$3:$G$271,7,0) -> 0 | V11: =T11+U11 -> 0 | W11: =$D11*V11 -> 0 | X11: =VLOOKUP($A11,[5]Hoja1!$A$3:$G$271,6,0) -> 1809 | Y11: =VLOOKUP($A11,[5]Hoja1!$A$3:$G$271,7,0) -> 0 | Z11: =X11+Y11 -> 1809 | AA11: =$D11*Z11 -> 1809 | AB11: =VLOOKUP($A11,[6]Hoja1!$A$3:$G$271,6,0) -> 0 | AC11: =VLOOKUP($A11,[6]Hoja1!$A$3:$G$271,7,0) -> 0 | AD11: =AB11+AC11 -> 0 | AE11: =$D11*AD11 -> 0 | AF11: =VLOOKUP($A11,[7]Hoja1!$A$3:$M$271,12,0) -> 0 | AG11: =VLOOKUP($A11,[7]Hoja1!$A$3:$M$271,13,0) -> 0 | AH11: =AF11+AG11 -> 0 | AI11: =$D11*AH11 -> 0 | AJ11: =VLOOKUP($A11,[8]Hoja1!$A$3:$G$271,6,0) -> 0 | AK11: =VLOOKUP($A11,[8]Hoja1!$A$3:$G$271,7,0) -> 0 | AL11: =AJ11+AK11 -> 0 | AM11: =$D11*AL11 -> 0 | AN11: =VLOOKUP($A11,[9]Hoja1!$A$5:$G$273,6,0) -> 1364 | AO11: =VLOOKUP($A11,[9]Hoja1!$A$5:$G$273,7,0) -> 0 | AP11: =AN11+AO11 -> 1364 | AQ11: =$D11*AP11 -> 1364 | AR11: =VLOOKUP($A11,[10]Hoja1!$A$3:$M$271,12,0) -> 0 | AS11: =VLOOKUP($A11,[10]Hoja1!$A$3:$M$271,13,0) -> 0 | AT11: =AR11+AS11 -> 0 | AU11: =$D11*AT11 -> 0 | AV11: =VLOOKUP($A11,[11]Hoja1!$A$3:$M$271,12,0) -> 1280 | AW11: =VLOOKUP($A11,[11]Hoja1!$A$3:$M$271,13,0) -> 0 | AX11: =AV11+AW11 -> 1280 | AY11: =$D11*AX11 -> 1280 | AZ11: =VLOOKUP($A11,[12]Hoja1!$A$3:$M$271,12,0) -> 0 | BA11: =VLOOKUP($A11,[12]Hoja1!$A$3:$M$271,13,0) -> 0 | BB11: =AZ11+BA11 -> 0 | BC11: =$D11*BB11 -> 0 | BD11: =MIN(#REF!,#REF!) -> #REF! | BE11: =BD11-#REF! -> #REF! | BF11: IME IMPORTMEDICAL COLOMBIA SAS | BI11: =MIN(#REF!,#REF!) -> #REF! | BJ11: =BI11-#REF! -> #REF! | BK11: IME IMPORTMEDICAL COLOMBIA SAS
A12: 3 | B12: APOSITO DE CARBON TRILAMINADO 10*10 | C12: 1 UNIDAD DE APOSITO | D12: 1 | E12: UN | F12: 12000 | G12: 1 | H12: =VLOOKUP($A12,[1]Hoja1!$A$3:$G$271,6,0) -> 0 | I12: =VLOOKUP($A12,[1]Hoja1!$A$3:$G$271,7,0) -> 0 | J12: =H12+I12 -> 0 | K12: =$D12*J12 -> 0 | L12: =VLOOKUP($A12,[2]Hoja1!$A$3:$G$271,6,0) -> 0 | M12: =VLOOKUP($A12,[2]Hoja1!$A$3:$G$271,7,0) -> 0 | N12: =L12+M12 -> 0 | O12: =$D12*N12 -> 0 | P12: =VLOOKUP($A12,[3]Hoja1!$A$3:$M$271,12,0) -> 0 | Q12: =VLOOKUP($A12,[3]Hoja1!$A$3:$M$271,13,0) -> 0 | R12: =P12+Q12 -> 0 | S12: =$D12*R12 -> 0 | T12: =VLOOKUP($A12,[4]Hoja1!$A$3:$G$271,6,0) -> 0 | U12: =VLOOKUP($A12,[4]Hoja1!$A$3:$G$271,7,0) -> 0 | V12: =T12+U12 -> 0 | W12: =$D12*V12 -> 0 | X12: =VLOOKUP($A12,[5]Hoja1!$A$3:$G$271,6,0) -> 0 | Y12: =VLOOKUP($A12,[5]Hoja1!$A$3:$G$271,7,0) -> 0 | Z12: =X12+Y12 -> 0 | AA12: =$D12*Z12 -> 0 | AB12: =VLOOKUP($A12,[6]Hoja1!$A$3:$G$271,6,0) -> 0 | AC12: =VLOOKUP($A12,[6]Hoja1!$A$3:$G$271,7,0) -> 0 | AD12: =AB12+AC12 -> 0 | AE12: =$D12*AD12 -> 0 | AF12: =VLOOKUP($A12,[7]Hoja1!$A$3:$M$271,12,0) -> 0 | AG12: =VLOOKUP($A12,[7]Hoja1!$A$3:$M$271,13,0) -> 0 | AH12: =AF12+AG12 -> 0 | AI12: =$D12*AH12 -> 0 | AJ12: =VLOOKUP($A12,[8]Hoja1!$A$3:$G$271,6,0) -> 0 | AK12: =VLOOKUP($A12,[8]Hoja1!$A$3:$G$271,7,0) -> 0 | AL12: =AJ12+AK12 -> 0 | AM12: =$D12*AL12 -> 0 | AN12: =VLOOKUP($A12,[9]Hoja1!$A$5:$G$273,6,0) -> 29989 | AO12: =VLOOKUP($A12,[9]Hoja1!$A$5:$G$273,7,0) -> 0 | AP12: =AN12+AO12 -> 29989 | AQ12: =$D12*AP12 -> 29989 | AR12: =VLOOKUP($A12,[10]Hoja1!$A$3:$M$271,12,0) -> 0 | AS12: =VLOOKUP($A12,[10]Hoja1!$A$3:$M$271,13,0) -> 0 | AT12: =AR12+AS12 -> 0 | AU12: =$D12*AT12 -> 0 | AV12: =VLOOKUP($A12,[11]Hoja1!$A$3:$M$271,12,0) -> 0 | AW12: =VLOOKUP($A12,[11]Hoja1!$A$3:$M$271,13,0) -> 0 | AX12: =AV12+AW12 -> 0 | AY12: =$D12*AX12 -> 0 | AZ12: =VLOOKUP($A12,[12]Hoja1!$A$3:$M$271,12,0) -> 0 | BA12: =VLOOKUP($A12,[12]Hoja1!$A$3:$M$271,13,0) -> 0 | BB12: =AZ12+BA12 -> 0 | BC12: =$D12*BB12 -> 0 | BD12: =MIN(#REF!,#REF!) -> #REF! | BE12: =BD12-#REF! -> #REF! | BF12: IME IMPORTMEDICAL COLOMBIA SAS | BI12: =MIN(#REF!,#REF!) -> #REF! | BJ12: =BI12-#REF! -> #REF! | BK12: IME IMPORTMEDICAL COLOMBIA SAS
A13: 4 | B13: APOSITO DE GASA 15X20 CON BASE DE PARAFINA BLANDA + CLORHEXIDINA 0.5% | C13: 1 UNIDAD DE APOSITO | D13: 1 | E13: UN | F13: 4800 | G13: 17.333333 | H13: =VLOOKUP($A13,[1]Hoja1!$A$3:$G$271,6,0) -> 0 | I13: =VLOOKUP($A13,[1]Hoja1!$A$3:$G$271,7,0) -> 0 | J13: =H13+I13 -> 0 | K13: =$D13*J13 -> 0 | L13: =VLOOKUP($A13,[2]Hoja1!$A$3:$G$271,6,0) -> 0 | M13: =VLOOKUP($A13,[2]Hoja1!$A$3:$G$271,7,0) -> 0 | N13: =L13+M13 -> 0 | O13: =$D13*N13 -> 0 | P13: =VLOOKUP($A13,[3]Hoja1!$A$3:$M$271,12,0) -> 0 | Q13: =VLOOKUP($A13,[3]Hoja1!$A$3:$M$271,13,0) -> 0 | R13: =P13+Q13 -> 0 | S13: =$D13*R13 -> 0 | T13: =VLOOKUP($A13,[4]Hoja1!$A$3:$G$271,6,0) -> 0 | U13: =VLOOKUP($A13,[4]Hoja1!$A$3:$G$271,7,0) -> 0 | V13: =T13+U13 -> 0 | W13: =$D13*V13 -> 0 | X13: =VLOOKUP($A13,[5]Hoja1!$A$3:$G$271,6,0) -> 0 | Y13: =VLOOKUP($A13,[5]Hoja1!$A$3:$G$271,7,0) -> 0 | Z13: =X13+Y13 -> 0 | AA13: =$D13*Z13 -> 0 | AB13: =VLOOKUP($A13,[6]Hoja1!$A$3:$G$271,6,0) -> 0 | AC13: =VLOOKUP($A13,[6]Hoja1!$A$3:$G$271,7,0) -> 0 | AD13: =AB13+AC13 -> 0 | AE13: =$D13*AD13 -> 0 | AF13: =VLOOKUP($A13,[7]Hoja1!$A$3:$M$271,12,0) -> 0 | AG13: =VLOOKUP($A13,[7]Hoja1!$A$3:$M$271,13,0) -> 0 | AH13: =AF13+AG13 -> 0 | AI13: =$D13*AH13 -> 0 | AJ13: =VLOOKUP($A13,[8]Hoja1!$A$3:$G$271,6,0) -> 0 | AK13: =VLOOKUP($A13,[8]Hoja1!$A$3:$G$271,7,0) -> 0 | AL13: =AJ13+AK13 -> 0 | AM13: =$D13*AL13 -> 0 | AN13: =VLOOKUP($A13,[9]Hoja1!$A$5:$G$273,6,0) -> 6349 | AO13: =VLOOKUP($A13,[9]Hoja1!$A$5:$G$273,7,0) -> 0 | AP13: =AN13+AO13 -> 6349 | AQ13: =$D13*AP13 -> 6349 | AR13: =VLOOKUP($A13,[10]Hoja1!$A$3:$M$271,12,0) -> 0 | AS13: =VLOOKUP($A13,[10]Hoja1!$A$3:$M$271,13,0) -> 0 | AT13: =AR13+AS13 -> 0 | AU13: =$D13*AT13 -> 0 | AV13: =VLOOKUP($A13,[11]Hoja1!$A$3:$M$271,12,0) -> 8000 | AW13: =VLOOKUP($A13,[11]Hoja1!$A$3:$M$271,13,0) -> 0 | AX13: =AV13+AW13 -> 8000 | AY13: =$D13*AX13 -> 8000 | AZ13: =VLOOKUP($A13,[12]Hoja1!$A$3:$M$271,12,0) -> 0 | BA13: =VLOOKUP($A13,[12]Hoja1!$A$3:$M$271,13,0) -> 0 | BB13: =AZ13+BA13 -> 0 | BC13: =$D13*BB13 -> 0 | BD13: =MIN(#REF!,#REF!) -> #REF! | BE13: =BD13-#REF! -> #REF! | BF13: IME IMPORTMEDICAL COLOMBIA SAS | BI13: =MIN(#REF!,#REF!) -> #REF! | BJ13: =BI13-#REF! -> #REF! | BK13: IME IMPORTMEDICAL COLOMBIA SAS
A14: 5 | B14: APOSITO ESTERIL TRANSPARENTE 7X9 MAS O MENOS 2 CM CON REFUERZO INCORPORADO, Y CON TIRILLAS DE FIJACIÓN Y MARCACIÓN - USO ADULTO | C14: 1 UNIDAD DE APOSITO | D14: 1 | E14: UN | F14: 1477 | G14: 6946.3333 | H14: =VLOOKUP($A14,[1]Hoja1!$A$3:$G$271,6,0) -> 2800 | J14: =H14+I14 -> 2800 | K14: =$D14*J14 -> 2800 | L14: =VLOOKUP($A14,[2]Hoja1!$A$3:$G$271,6,0) -> 0 | M14: =VLOOKUP($A14,[2]Hoja1!$A$3:$G$271,7,0) -> 0 | N14: =L14+M14 -> 0 | O14: =$D14*N14 -> 0 | P14: =VLOOKUP($A14,[3]Hoja1!$A$3:$M$271,12,0) -> 0 | Q14: =VLOOKUP($A14,[3]Hoja1!$A$3:$M$271,13,0) -> 0 | R14: =P14+Q14 -> 0 | S14: =$D14*R14 -> 0 | T14: =VLOOKUP($A14,[4]Hoja1!$A$3:$G$271,6,0) -> 0 | U14: =VLOOKUP($A14,[4]Hoja1!$A$3:$G$271,7,0) -> 0 | V14: =T14+U14 -> 0 | W14: =$D14*V14 -> 0 | X14: =VLOOKUP($A14,[5]Hoja1!$A$3:$G$271,6,0) -> 2553 | Y14: =VLOOKUP($A14,[5]Hoja1!$A$3:$G$271,7,0) -> 0 | Z14: =X14+Y14 -> 2553 | AA14: =$D14*Z14 -> 2553 | AB14: =VLOOKUP($A14,[6]Hoja1!$A$3:$G$271,6,0) -> 0 | AC14: =VLOOKUP($A14,[6]Hoja1!$A$3:$G$271,7,0) -> 0 | AD14: =AB14+AC14 -> 0 | AE14: =$D14*AD14 -> 0 | AF14: =VLOOKUP($A14,[7]Hoja1!$A$3:$M$271,12,0) -> 0 | AG14: =VLOOKUP($A14,[7]Hoja1!$A$3:$M$271,13,0) -> 0 | AH14: =AF14+AG14 -> 0 | AI14: =$D14*AH14 -> 0 | AJ14: =VLOOKUP($A14,[8]Hoja1!$A$3:$G$271,6,0) -> 0 | AK14: =VLOOKUP($A14,[8]Hoja1!$A$3:$G$271,7,0) -> 0 | AL14: =AJ14+AK14 -> 0 | AM14: =$D14*AL14 -> 0 | AN14: =VLOOKUP($A14,[9]Hoja1!$A$5:$G$273,6,0) -> 1477 | AO14: =VLOOKUP($A14,[9]Hoja1!$A$5:$G$273,7,0) -> 0 | AP14: =AN14+AO14 -> 1477 | AQ14: =$D14*AP14 -> 1477 | AR14: =VLOOKUP($A14,[10]Hoja1!$A$3:$M$271,12,0) -> 0 | AS14: =VLOOKUP($A14,[10]Hoja1!$A$3:$M$271,13,0) -> 0 | AT14: =AR14+AS14 -> 0 | AU14: =$D14*AT14 -> 0 | AV14: =VLOOKUP($A14,[11]Hoja1!$A$3:$M$271,12,0) -> 1480 | AW14: =VLOOKUP($A14,[11]Hoja1!$A$3:$M$271,13,0) -> 0 | AX14: =AV14+AW14 -> 1480 | AY14: =$D14*AX14 -> 1480 | AZ14: =VLOOKUP($A14,[12]Hoja1!$A$3:$M$271,12,0) -> 0 | BA14: =VLOOKUP($A14,[12]Hoja1!$A$3:$M$271,13,0) -> 0 | BB14: =AZ14+BA14 -> 0 | BC14: =$D14*BB14 -> 0 | BD14: =MIN(#REF!,#REF!) -> #REF! | BE14: =BD14-#REF! -> #REF! | BF14: IME IMPORTMEDICAL COLOMBIA SAS | BI14: =MIN(#REF!,#REF!) -> #REF! | BJ14: =BI14-#REF! -> #REF! | BK14: IME IMPORTMEDICAL COLOMBIA SAS
A15: 6 | B15: APOSITO TRANSPARENTE 15 X 25 CM POSQUIRURGICO CON ALMOHADILLA ABSORBENTE | C15: 1 UNIDAD DE APOSITO | D15: 1 | E15: UN | F15: 7500 | G15: 1 | H15: =VLOOKUP($A15,[1]Hoja1!$A$3:$G$271,6,0) -> 0 | I15: =VLOOKUP($A15,[1]Hoja1!$A$3:$G$271,7,0) -> 0 | J15: =H15+I15 -> 0 | K15: =$D15*J15 -> 0 | L15: =VLOOKUP($A15,[2]Hoja1!$A$3:$G$271,6,0) -> 0 | M15: =VLOOKUP($A15,[2]Hoja1!$A$3:$G$271,7,0) -> 0 | N15: =L15+M15 -> 0 | O15: =$D15*N15 -> 0 | P15: =VLOOKUP($A15,[3]Hoja1!$A$3:$M$271,12,0) -> 0 | Q15: =VLOOKUP($A15,[3]Hoja1!$A$3:$M$271,13,0) -> 0 | R15: =P15+Q15 -> 0 | S15: =$D15*R15 -> 0 | T15: =VLOOKUP($A15,[4]Hoja1!$A$3:$G$271,6,0) -> 0 | U15: =VLOOKUP($A15,[4]Hoja1!$A$3:$G$271,7,0) -> 0 | V15: =T15+U15 -> 0 | W15: =$D15*V15 -> 0 | X15: =VLOOKUP($A15,[5]Hoja1!$A$3:$G$271,6,0) -> 0 | Y15: =VLOOKUP($A15,[5]Hoja1!$A$3:$G$271,7,0) -> 0 | Z15: =X15+Y15 -> 0 | AA15: =$D15*Z15 -> 0 | AB15: =VLOOKUP($A15,[6]Hoja1!$A$3:$G$271,6,0) -> 0 | AC15: =VLOOKUP($A15,[6]Hoja1!$A$3:$G$271,7,0) -> 0 | AD15: =AB15+AC15 -> 0 | AE15: =$D15*AD15 -> 0 | AF15: =VLOOKUP($A15,[7]Hoja1!$A$3:$M$271,12,0) -> 0 | AG15: =VLOOKUP($A15,[7]Hoja1!$A$3:$M$271,13,0) -> 0 | AH15: =AF15+AG15 -> 0 | AI15: =$D15*AH15 -> 0 | AJ15: =VLOOKUP($A15,[8]Hoja1!$A$3:$G$271,6,0) -> 0 | AK15: =VLOOKUP($A15,[8]Hoja1!$A$3:$G$271,7,0) -> 0 | AL15: =AJ15+AK15 -> 0 | AM15: =$D15*AL15 -> 0 | AN15: =VLOOKUP($A15,[9]Hoja1!$A$5:$G$273,6,0) -> 11295 | AO15: =VLOOKUP($A15,[9]Hoja1!$A$5:$G$273,7,0) -> 0 | AP15: =AN15+AO15 -> 11295 | AQ15: =$D15*AP15 -> 11295 | AR15: =VLOOKUP($A15,[10]Hoja1!$A$3:$M$271,12,0) -> 0 | AS15: =VLOOKUP($A15,[10]Hoja1!$A$3:$M$271,13,0) -> 0 | AT15: =AR15+AS15 -> 0 | AU15: =$D15*AT15 -> 0 | AV15: =VLOOKUP($A15,[11]Hoja1!$A$3:$M$271,12,0) -> 11700 | AW15: =VLOOKUP($A15,[11]Hoja1!$A$3:$M$271,13,0) -> 0 | AX15: =AV15+AW15 -> 11700 | AY15: =$D15*AX15 -> 11700 | AZ15: =VLOOKUP($A15,[12]Hoja1!$A$3:$M$271,12,0) -> 0 | BA15: =VLOOKUP($A15,[12]Hoja1!$A$3:$M$271,13,0) -> 0 | BB15: =AZ15+BA15 -> 0 | BC15: =$D15*BB15 -> 0 | BD15: =MIN(#REF!,#REF!) -> #REF! | BE15: =BD15-#REF! -> #REF! | BF15: IME IMPORTMEDICAL COLOMBIA SAS | BI15: =MIN(#REF!,#REF!) -> #REF! | BJ15: =BI15-#REF! -> #REF! | BK15: IME IMPORTMEDICAL COLOMBIA SAS
A16: 7 | B16: APOSITO TRASPARENTE ESTERIL CON ALMOHADILLA ABSORVENTE 7 HASTA 9 X 5 HASTA 7 CM | C16: 1 UNIDAD DE APOSITO | D16: 1 | E16: UN | F16: 858.875 | G16: 1 | H16: =VLOOKUP($A16,[1]Hoja1!$A$3:$G$271,6,0) -> 0 | I16: =VLOOKUP($A16,[1]Hoja1!$A$3:$G$271,7,0) -> 0 | J16: =H16+I16 -> 0 | K16: =$D16*J16 -> 0 | L16: =VLOOKUP($A16,[2]Hoja1!$A$3:$G$271,6,0) -> 0 | M16: =VLOOKUP($A16,[2]Hoja1!$A$3:$G$271,7,0) -> 0 | N16: =L16+M16 -> 0 | O16: =$D16*N16 -> 0 | P16: =VLOOKUP($A16,[3]Hoja1!$A$3:$M$271,12,0) -> 0 | Q16: =VLOOKUP($A16,[3]Hoja1!$A$3:$M$271,13,0) -> 0 | R16: =P16+Q16 -> 0 | S16: =$D16*R16 -> 0 | T16: =VLOOKUP($A16,[4]Hoja1!$A$3:$G$271,6,0) -> 0 | U16: =VLOOKUP($A16,[4]Hoja1!$A$3:$G$271,7,0) -> 0 | V16: =T16+U16 -> 0 | W16: =$D16*V16 -> 0 | X16: =VLOOKUP($A16,[5]Hoja1!$A$3:$G$271,6,0) -> 26009 | Y16: =VLOOKUP($A16,[5]Hoja1!$A$3:$G$271,7,0) -> 0 | Z16: =X16+Y16 -> 26009 | AA16: =$D16*Z16 -> 26009 | AB16: =VLOOKUP($A16,[6]Hoja1!$A$3:$G$271,6,0) -> 0 | AC16: =VLOOKUP($A16,[6]Hoja1!$A$3:$G$271,7,0) -> 0 | AD16: =AB16+AC16 -> 0 | AE16: =$D16*AD16 -> 0 | AF16: =VLOOKUP($A16,[7]Hoja1!$A$3:$M$271,12,0) -> 0 | AG16: =VLOOKUP($A16,[7]Hoja1!$A$3:$M$271,13,0) -> 0 | AH16: =AF16+AG16 -> 0 | AI16: =$D16*AH16 -> 0 | AJ16: =VLOOKUP($A16,[8]Hoja1!$A$3:$G$271,6,0) -> 0 | AK16: =VLOOKUP($A16,[8]Hoja1!$A$3:$G$271,7,0) -> 0 | AL16: =AJ16+AK16 -> 0 | AM16: =$D16*AL16 -> 0 | AN16: =VLOOKUP($A16,[9]Hoja1!$A$5:$G$273,6,0) -> 1932 | AO16: =VLOOKUP($A16,[9]Hoja1!$A$5:$G$273,7,0) -> 0 | AP16: =AN16+AO16 -> 1932 | AQ16: =$D16*AP16 -> 1932 | AR16: =VLOOKUP($A16,[10]Hoja1!$A$3:$M$271,12,0) -> 0 | AS16: =VLOOKUP($A16,[10]Hoja1!$A$3:$M$271,13,0) -> 0 | AT16: =AR16+AS16 -> 0 | AU16: =$D16*AT16 -> 0 | AV16: =VLOOKUP($A16,[11]Hoja1!$A$3:$M$271,12,0) -> 2400 | AW16: =VLOOKUP($A16,[11]Hoja1!$A$3:$M$271,13,0) -> 0 | AX16: =AV16+AW16 -> 2400 | AY16: =$D16*AX16 -> 2400 | AZ16: =VLOOKUP($A16,[12]Hoja1!$A$3:$M$271,12,0) -> 0 | BA16: =VLOOKUP($A16,[12]Hoja1!$A$3:$M$271,13,0) -> 0 | BB16: =AZ16+BA16 -> 0 | BC16: =$D16*BB16 -> 0 | BD16: =MIN(#REF!,#REF!) -> #REF! | BE16: =BD16-#REF! -> #REF! | BF16: IME IMPORTMEDICAL COLOMBIA SAS | BI16: =MIN(#REF!,#REF!) -> #REF! | BJ16: =BI16-#REF! -> #REF! | BK16: IME IMPORTMEDICAL COLOMBIA SAS
A17: 8 | B17: CREMA PROTECTORA CUTANEA CON OXIDO DE ZINC PARA PREVENCION LESIONES POR PRESION. 10% | C17: 1 UNIDAD DE CREMA | D17: 1 | E17: UN | F17: 41650 | G17: 1 | H17: =VLOOKUP($A17,[1]Hoja1!$A$3:$G$271,6,0) -> 0 | I17: =VLOOKUP($A17,[1]Hoja1!$A$3:$G$271,7,0) -> 0 | J17: =H17+I17 -> 0 | K17: =$D17*J17 -> 0 | L17: =VLOOKUP($A17,[2]Hoja1!$A$3:$G$271,6,0) -> 53508 | M17: =VLOOKUP($A17,[2]Hoja1!$A$3:$G$271,7,0) -> 0 | N17: =L17+M17 -> 53508 | O17: =$D17*N17 -> 53508 | P17: =VLOOKUP($A17,[3]Hoja1!$A$3:$M$271,12,0) -> 0 | Q17: =VLOOKUP($A17,[3]Hoja1!$A$3:$M$271,13,0) -> 0 | R17: =P17+Q17 -> 0 | S17: =$D17*R17 -> 0 | T17: =VLOOKUP($A17,[4]Hoja1!$A$3:$G$271,6,0) -> 0 | U17: =VLOOKUP($A17,[4]Hoja1!$A$3:$G$271,7,0) -> 0 | V17: =T17+U17 -> 0 | W17: =$D17*V17 -> 0 | X17: =VLOOKUP($A17,[5]Hoja1!$A$3:$G$271,6,0) -> 0 | Y17: =VLOOKUP($A17,[5]Hoja1!$A$3:$G$271,7,0) -> 0 | Z17: =X17+Y17 -> 0 | AA17: =$D17*Z17 -> 0 | AB17: =VLOOKUP($A17,[6]Hoja1!$A$3:$G$271,6,0) -> 0 | AC17: =VLOOKUP($A17,[6]Hoja1!$A$3:$G$271,7,0) -> 0 | AD17: =AB17+AC17 -> 0 | AE17: =$D17*AD17 -> 0 | AF17: =VLOOKUP($A17,[7]Hoja1!$A$3:$M$271,12,0) -> 0 | AG17: =VLOOKUP($A17,[7]Hoja1!$A$3:$M$271,13,0) -> 0 | AH17: =AF17+AG17 -> 0 | AI17: =$D17*AH17 -> 0 | AJ17: =VLOOKUP($A17,[8]Hoja1!$A$3:$G$271,6,0) -> 0 | AK17: =VLOOKUP($A17,[8]Hoja1!$A$3:$G$271,7,0) -> 0 | AL17: =AJ17+AK17 -> 0 | AM17: =$D17*AL17 -> 0 | AN17: =VLOOKUP($A17,[9]Hoja1!$A$5:$G$273,6,0) -> 0 | AO17: =VLOOKUP($A17,[9]Hoja1!$A$5:$G$273,7,0) -> 0 | AP17: =AN17+AO17 -> 0 | AQ17: =$D17*AP17 -> 0 | AR17: =VLOOKUP($A17,[10]Hoja1!$A$3:$M$271,12,0) -> 0 | AS17: =VLOOKUP($A17,[10]Hoja1!$A$3:$M$271,13,0) -> 0 | AT17: =AR17+AS17 -> 0 | AU17: =$D17*AT17 -> 0 | AV17: =VLOOKUP($A17,[11]Hoja1!$A$3:$M$271,12,0) -> 0 | AW17: =VLOOKUP($A17,[11]Hoja1!$A$3:$M$271,13,0) -> 0 | AX17: =AV17+AW17 -> 0 | AY17: =$D17*AX17 -> 0 | AZ17: =VLOOKUP($A17,[12]Hoja1!$A$3:$M$271,12,0) -> 0 | BA17: =VLOOKUP($A17,[12]Hoja1!$A$3:$M$271,13,0) -> 0 | BB17: =AZ17+BA17 -> 0 | BC17: =$D17*BB17 -> 0 | BD17: =MIN(#REF!,#REF!) -> #REF! | BE17: =BD17-#REF! -> #REF! | BF17: IME IMPORTMEDICAL COLOMBIA SAS | BI17: =MIN(#REF!,#REF!) -> #REF! | BJ17: =#REF!-BI17 -> #REF! | BK17: IME IMPORTMEDICAL COLOMBIA SAS
A18: 9 | B18: DETERGENTE POLIENZIMATICO BIODEGRADABLE EN GEL O ESPUMA COMO PRETRATAMIENTO DE TRANSPORTE INSTRUMENTAL PARA LA DEGRADACION DE MATERIA ORGANICA | C18: 1 UNIDAD DE DETERGENTE X 500 ML PRESENTACION FRASCO EN SPRAY | D18: 1 | E18: UN | F18: 41650 | G18: 32.333333 | H18: =VLOOKUP($A18,[1]Hoja1!$A$3:$G$271,6,0) -> 0 | I18: =VLOOKUP($A18,[1]Hoja1!$A$3:$G$271,7,0) -> 0 | J18: =H18+I18 -> 0 | K18: =$D18*J18 -> 0 | L18: =VLOOKUP($A18,[2]Hoja1!$A$3:$G$271,6,0) -> 0 | M18: =VLOOKUP($A18,[2]Hoja1!$A$3:$G$271,7,0) -> 0 | N18: =L18+M18 -> 0 | O18: =$D18*N18 -> 0 | P18: =VLOOKUP($A18,[3]Hoja1!$A$3:$M$271,12,0) -> 0 | Q18: =VLOOKUP($A18,[3]Hoja1!$A$3:$M$271,13,0) -> 0 | R18: =P18+Q18 -> 0 | S18: =$D18*R18 -> 0 | T18: =VLOOKUP($A18,[4]Hoja1!$A$3:$G$271,6,0) -> 70568 | U18: =VLOOKUP($A18,[4]Hoja1!$A$3:$G$271,7,0) -> 0 | V18: =T18+U18 -> 70568 | W18: =$D18*V18 -> 70568 | X18: =VLOOKUP($A18,[5]Hoja1!$A$3:$G$271,6,0) -> 0 | Y18: =VLOOKUP($A18,[5]Hoja1!$A$3:$G$271,7,0) -> 0 | Z18: =X18+Y18 -> 0 | AA18: =$D18*Z18 -> 0 | AB18: =VLOOKUP($A18,[6]Hoja1!$A$3:$G$271,6,0) -> 0 | AC18: =VLOOKUP($A18,[6]Hoja1!$A$3:$G$271,7,0) -> 0 | AD18: =AB18+AC18 -> 0 | AE18: =$D18*AD18 -> 0 | AF18: =VLOOKUP($A18,[7]Hoja1!$A$3:$M$271,12,0) -> 0 | AG18: =VLOOKUP($A18,[7]Hoja1!$A$3:$M$271,13,0) -> 0 | AH18: =AF18+AG18 -> 0 | AI18: =$D18*AH18 -> 0 | AJ18: =VLOOKUP($A18,[8]Hoja1!$A$3:$G$271,6,0) -> 0 | AK18: =VLOOKUP($A18,[8]Hoja1!$A$3:$G$271,7,0) -> 0 | AL18: =AJ18+AK18 -> 0 | AM18: =$D18*AL18 -> 0 | AN18: =VLOOKUP($A18,[9]Hoja1!$A$5:$G$273,6,0) -> 0 | AO18: =VLOOKUP($A18,[9]Hoja1!$A$5:$G$273,7,0) -> 0 | AP18: =AN18+AO18 -> 0 | AQ18: =$D18*AP18 -> 0 | AR18: =VLOOKUP($A18,[10]Hoja1!$A$3:$M$271,12,0) -> 0 | AS18: =VLOOKUP($A18,[10]Hoja1!$A$3:$M$271,13,0) -> 0 | AT18: =AR18+AS18 -> 0 | AU18: =$D18*AT18 -> 0 | AV18: =VLOOKUP($A18,[11]Hoja1!$A$3:$M$271,12,0) -> 0 | AW18: =VLOOKUP($A18,[11]Hoja1!$A$3:$M$271,13,0) -> 0 | AX18: =AV18+AW18 -> 0 | AY18: =$D18*AX18 -> 0 | AZ18: =VLOOKUP($A18,[12]Hoja1!$A$3:$M$271,12,0) -> 0 | BA18: =VLOOKUP($A18,[12]Hoja1!$A$3:$M$271,13,0) -> 0 | BB18: =AZ18+BA18 -> 0 | BC18: =$D18*BB18 -> 0 | BD18: =MIN(#REF!,#REF!) -> #REF! | BE18: =BD18-#REF! -> #REF! | BF18: IME IMPORTMEDICAL COLOMBIA SAS | BI18: =MIN(#REF!,#REF!) -> #REF! | BJ18: =BI18-#REF! -> #REF! | BK18: IME IMPORTMEDICAL COLOMBIA SAS
A19: 10 | B19: ESPARADRAPO TELA SIN TEJER AUTOADHESIVO-10 CM X 10 M | C19: 1 UNIDAD DE ESPARADRAPO | D19: 1 | E19: UN | F19: 12460 | G19: 120.66667 | H19: =VLOOKUP($A19,[1]Hoja1!$A$3:$G$271,6,0) -> 21000 | J19: =H19+I19 -> 21000 | K19: =$D19*J19 -> 21000 | L19: =VLOOKUP($A19,[2]Hoja1!$A$3:$G$271,6,0) -> 23500 | M19: =VLOOKUP($A19,[2]Hoja1!$A$3:$G$271,7,0) -> 0 | N19: =L19+M19 -> 23500 | O19: =$D19*N19 -> 23500 | P19: =VLOOKUP($A19,[3]Hoja1!$A$3:$M$271,12,0) -> 27835 | Q19: =VLOOKUP($A19,[3]Hoja1!$A$3:$M$271,13,0) -> 0 | R19: =P19+Q19 -> 27835 | S19: =$D19*R19 -> 27835 | T19: =VLOOKUP($A19,[4]Hoja1!$A$3:$G$271,6,0) -> 25714 | U19: =VLOOKUP($A19,[4]Hoja1!$A$3:$G$271,7,0) -> 0 | V19: =T19+U19 -> 25714 | W19: =$D19*V19 -> 25714 | X19: =VLOOKUP($A19,[5]Hoja1!$A$3:$G$271,6,0) -> 34472 | Y19: =VLOOKUP($A19,[5]Hoja1!$A$3:$G$271,7,0) -> 0 | Z19: =X19+Y19 -> 34472 | AA19: =$D19*Z19 -> 34472 | AB19: =VLOOKUP($A19,[6]Hoja1!$A$3:$G$271,6,0) -> 0 | AC19: =VLOOKUP($A19,[6]Hoja1!$A$3:$G$271,7,0) -> 0 | AD19: =AB19+AC19 -> 0 | AE19: =$D19*AD19 -> 0 | AF19: =VLOOKUP($A19,[7]Hoja1!$A$3:$M$271,12,0) -> 0 | AG19: =VLOOKUP($A19,[7]Hoja1!$A$3:$M$271,13,0) -> 0 | AH19: =AF19+AG19 -> 0 | AI19: =$D19*AH19 -> 0 | AJ19: =VLOOKUP($A19,[8]Hoja1!$A$3:$G$271,6,0) -> 0 | AK19: =VLOOKUP($A19,[8]Hoja1!$A$3:$G$271,7,0) -> 0 | AL19: =AJ19+AK19 -> 0 | AM19: =$D19*AL19 -> 0 | AN19: =VLOOKUP($A19,[9]Hoja1!$A$5:$G$273,6,0) -> 17045 | AO19: =VLOOKUP($A19,[9]Hoja1!$A$5:$G$273,7,0) -> 0 | AP19: =AN19+AO19 -> 17045 | AQ19: =$D19*AP19 -> 17045 | AR19: =VLOOKUP($A19,[10]Hoja1!$A$3:$M$271,12,0) -> 0 | AS19: =VLOOKUP($A19,[10]Hoja1!$A$3:$M$271,13,0) -> 0 | AT19: =AR19+AS19 -> 0 | AU19: =$D19*AT19 -> 0 | AV19: =VLOOKUP($A19,[11]Hoja1!$A$3:$M$271,12,0) -> 18000 | AW19: =VLOOKUP($A19,[11]Hoja1!$A$3:$M$271,13,0) -> 0 | AX19: =AV19+AW19 -> 18000 | AY19: =$D19*AX19 -> 18000 | AZ19: =VLOOKUP($A19,[12]Hoja1!$A$3:$M$271,12,0) -> 0 | BA19: =VLOOKUP($A19,[12]Hoja1!$A$3:$M$271,13,0) -> 0 | BB19: =AZ19+BA19 -> 0 | BC19: =$D19*BB19 -> 0 | BD19: =MIN(#REF!,#REF!) -> #REF! | BE19: =BD19-#REF! -> #REF! | BF19: IME IMPORTMEDICAL COLOMBIA SAS | BI19: =MIN(#REF!,#REF!) -> #REF! | BJ19: =BI19-#REF! -> #REF! | BK19: IME IMPORTMEDICAL COLOMBIA SAS
A20: 11 | B20: PROTECTOR CUTANEO EMOLIENTE CON OXIDO DE ZINC CALAMINA Y ALANTOINA 30%(ULTRA) | C20: 1 UNIDAD DE PROTECTOR CUTANEO | D20: 1 | E20: UN | F20: 26000 | G20: 13 | H20: =VLOOKUP($A20,[1]Hoja1!$A$3:$G$271,6,0) -> 0 | I20: =VLOOKUP($A20,[1]Hoja1!$A$3:$G$271,7,0) -> 0 | J20: =H20+I20 -> 0 | K20: =$D20*J20 -> 0 | L20: =VLOOKUP($A20,[2]Hoja1!$A$3:$G$271,6,0) -> 0 | M20: =VLOOKUP($A20,[2]Hoja1!$A$3:$G$271,7,0) -> 0 | N20: =L20+M20 -> 0 | O20: =$D20*N20 -> 0 | P20: =VLOOKUP($A20,[3]Hoja1!$A$3:$M$271,12,0) -> 0 | Q20: =VLOOKUP($A20,[3]Hoja1!$A$3:$M$271,13,0) -> 0 | R20: =P20+Q20 -> 0 | S20: =$D20*R20 -> 0 | T20: =VLOOKUP($A20,[4]Hoja1!$A$3:$G$271,6,0) -> 0 | U20: =VLOOKUP($A20,[4]Hoja1!$A$3:$G$271,7,0) -> 0 | V20: =T20+U20 -> 0 | W20: =$D20*V20 -> 0 | X20: =VLOOKUP($A20,[5]Hoja1!$A$3:$G$271,6,0) -> 0 | Y20: =VLOOKUP($A20,[5]Hoja1!$A$3:$G$271,7,0) -> 0 | Z20: =X20+Y20 -> 0 | AA20: =$D20*Z20 -> 0 | AB20: =VLOOKUP($A20,[6]Hoja1!$A$3:$G$271,6,0) -> 0 | AC20: =VLOOKUP($A20,[6]Hoja1!$A$3:$G$271,7,0) -> 0 | AD20: =AB20+AC20 -> 0 | AE20: =$D20*AD20 -> 0 | AF20: =VLOOKUP($A20,[7]Hoja1!$A$3:$M$271,12,0) -> 0 | AG20: =VLOOKUP($A20,[7]Hoja1!$A$3:$M$271,13,0) -> 0 | AH20: =AF20+AG20 -> 0 | AI20: =$D20*AH20 -> 0 | AJ20: =VLOOKUP($A20,[8]Hoja1!$A$3:$G$271,6,0) -> 0 | AK20: =VLOOKUP($A20,[8]Hoja1!$A$3:$G$271,7,0) -> 0 | AL20: =AJ20+AK20 -> 0 | AM20: =$D20*AL20 -> 0 | AN20: =VLOOKUP($A20,[9]Hoja1!$A$5:$G$273,6,0) -> 47773 | AO20: =VLOOKUP($A20,[9]Hoja1!$A$5:$G$273,7,0) -> 0 | AP20: =AN20+AO20 -> 47773 | AQ20: =$D20*AP20 -> 47773 | AR20: =VLOOKUP($A20,[10]Hoja1!$A$3:$M$271,12,0) -> 0 | AS20: =VLOOKUP($A20,[10]Hoja1!$A$3:$M$271,13,0) -> 0 | AT20: =AR20+AS20 -> 0 | AU20: =$D20*AT20 -> 0 | AV20: =VLOOKUP($A20,[11]Hoja1!$A$3:$M$271,12,0) -> 0 | AW20: =VLOOKUP($A20,[11]Hoja1!$A$3:$M$271,13,0) -> 0 | AX20: =AV20+AW20 -> 0 | AY20: =$D20*AX20 -> 0 | AZ20: =VLOOKUP($A20,[12]Hoja1!$A$3:$M$271,12,0) -> 0 | BA20: =VLOOKUP($A20,[12]Hoja1!$A$3:$M$271,13,0) -> 0 | BB20: =AZ20+BA20 -> 0 | BC20: =$D20*BB20 -> 0 | BD20: =MIN(#REF!,#REF!) -> #REF! | BE20: =BD20-#REF! -> #REF! | BF20: IME IMPORTMEDICAL COLOMBIA SAS | BI20: =MIN(#REF!,#REF!) -> #REF! | BJ20: =BI20-#REF! -> #REF! | BK20: IME IMPORTMEDICAL COLOMBIA SAS
A21: 12 | B21: PROTECTOR EN ESPUMA PARA CODO Y TALON | C21: 1 UNIDAD DE PROTECTOR EN ESPUMA | D21: 1 | E21: UN | F21: 18034 | G21: 1 | H21: =VLOOKUP($A21,[1]Hoja1!$A$3:$G$271,6,0) -> 0 | I21: =VLOOKUP($A21,[1]Hoja1!$A$3:$G$271,7,0) -> 0 | J21: =H21+I21 -> 0 | K21: =$D21*J21 -> 0 | L21: =VLOOKUP($A21,[2]Hoja1!$A$3:$G$271,6,0) -> 0 | M21: =VLOOKUP($A21,[2]Hoja1!$A$3:$G$271,7,0) -> 0 | N21: =L21+M21 -> 0 | O21: =$D21*N21 -> 0 | P21: =VLOOKUP($A21,[3]Hoja1!$A$3:$M$271,12,0) -> 0 | Q21: =VLOOKUP($A21,[3]Hoja1!$A$3:$M$271,13,0) -> 0 | R21: =P21+Q21 -> 0 | S21: =$D21*R21 -> 0 | T21: =VLOOKUP($A21,[4]Hoja1!$A$3:$G$271,6,0) -> 0 | U21: =VLOOKUP($A21,[4]Hoja1!$A$3:$G$271,7,0) -> 0 | V21: =T21+U21 -> 0 | W21: =$D21*V21 -> 0 | X21: =VLOOKUP($A21,[5]Hoja1!$A$3:$G$271,6,0) -> 0 | Y21: =VLOOKUP($A21,[5]Hoja1!$A$3:$G$271,7,0) -> 0 | Z21: =X21+Y21 -> 0 | AA21: =$D21*Z21 -> 0 | AB21: =VLOOKUP($A21,[6]Hoja1!$A$3:$G$271,6,0) -> 0 | AC21: =VLOOKUP($A21,[6]Hoja1!$A$3:$G$271,7,0) -> 0 | AD21: =AB21+AC21 -> 0 | AE21: =$D21*AD21 -> 0 | AF21: =VLOOKUP($A21,[7]Hoja1!$A$3:$M$271,12,0) -> 0 | AG21: =VLOOKUP($A21,[7]Hoja1!$A$3:$M$271,13,0) -> 0 | AH21: =AF21+AG21 -> 0 | AI21: =$D21*AH21 -> 0 | AJ21: =VLOOKUP($A21,[8]Hoja1!$A$3:$G$271,6,0) -> 0 | AK21: =VLOOKUP($A21,[8]Hoja1!$A$3:$G$271,7,0) -> 0 | AL21: =AJ21+AK21 -> 0 | AM21: =$D21*AL21 -> 0 | AN21: =VLOOKUP($A21,[9]Hoja1!$A$5:$G$273,6,0) -> 54420 | AO21: =VLOOKUP($A21,[9]Hoja1!$A$5:$G$273,7,0) -> 0 | AP21: =AN21+AO21 -> 54420 | AQ21: =$D21*AP21 -> 54420 | AR21: =VLOOKUP($A21,[10]Hoja1!$A$3:$M$271,12,0) -> 0 | AS21: =VLOOKUP($A21,[10]Hoja1!$A$3:$M$271,13,0) -> 0 | AT21: =AR21+AS21 -> 0 | AU21: =$D21*AT21 -> 0 | AV21: =VLOOKUP($A21,[11]Hoja1!$A$3:$M$271,12,0) -> 0 | AW21: =VLOOKUP($A21,[11]Hoja1!$A$3:$M$271,13,0) -> 0 | AX21: =AV21+AW21 -> 0 | AY21: =$D21*AX21 -> 0 | AZ21: =VLOOKUP($A21,[12]Hoja1!$A$3:$M$271,12,0) -> 0 | BA21: =VLOOKUP($A21,[12]Hoja1!$A$3:$M$271,13,0) -> 0 | BB21: =AZ21+BA21 -> 0 | BC21: =$D21*BB21 -> 0 | BD21: =MIN(#REF!,#REF!) -> #REF! | BE21: =BD21-#REF! -> #REF! | BF21: IME IMPORTMEDICAL COLOMBIA SAS | BI21: =MIN(#REF!,#REF!) -> #REF! | BJ21: =BI21-#REF! -> #REF! | BK21: IME IMPORTMEDICAL COLOMBIA SAS
A22: 13 | B22: ROLLO DE GASA IMPREGNADA EN PARAFINA DE 1 METRO POR 15 CM DE ANCHO ESTERIL | C22: 1 UNIDAD DE ROLLO DE GASA IMPREGNADA EN PARAFINA. PRESENTACION ROLLO | D22: 1 | E22: UN | F22: 20000 | G22: 1 | H22: =VLOOKUP($A22,[1]Hoja1!$A$3:$G$271,6,0) -> 0 | I22: =VLOOKUP($A22,[1]Hoja1!$A$3:$G$271,7,0) -> 0 | J22: =H22+I22 -> 0 | K22: =$D22*J22 -> 0 | L22: =VLOOKUP($A22,[2]Hoja1!$A$3:$G$271,6,0) -> 0 | M22: =VLOOKUP($A22,[2]Hoja1!$A$3:$G$271,7,0) -> 0 | N22: =L22+M22 -> 0 | O22: =$D22*N22 -> 0 | P22: =VLOOKUP($A22,[3]Hoja1!$A$3:$M$271,12,0) -> 0 | Q22: =VLOOKUP($A22,[3]Hoja1!$A$3:$M$271,13,0) -> 0 | R22: =P22+Q22 -> 0 | S22: =$D22*R22 -> 0 | T22: =VLOOKUP($A22,[4]Hoja1!$A$3:$G$271,6,0) -> 0 | U22: =VLOOKUP($A22,[4]Hoja1!$A$3:$G$271,7,0) -> 0 | V22: =T22+U22 -> 0 | W22: =$D22*V22 -> 0 | X22: =VLOOKUP($A22,[5]Hoja1!$A$3:$G$271,6,0) -> 52164 | Y22: =VLOOKUP($A22,[5]Hoja1!$A$3:$G$271,7,0) -> 0 | Z22: =X22+Y22 -> 52164 | AA22: =$D22*Z22 -> 52164 | AB22: =VLOOKUP($A22,[6]Hoja1!$A$3:$G$271,6,0) -> 0 | AC22: =VLOOKUP($A22,[6]Hoja1!$A$3:$G$271,7,0) -> 0 | AD22: =AB22+AC22 -> 0 | AE22: =$D22*AD22 -> 0 | AF22: =VLOOKUP($A22,[7]Hoja1!$A$3:$M$271,12,0) -> 0 | AG22: =VLOOKUP($A22,[7]Hoja1!$A$3:$M$271,13,0) -> 0 | AH22: =AF22+AG22 -> 0 | AI22: =$D22*AH22 -> 0 | AJ22: =VLOOKUP($A22,[8]Hoja1!$A$3:$G$271,6,0) -> 0 | AK22: =VLOOKUP($A22,[8]Hoja1!$A$3:$G$271,7,0) -> 0 | AL22: =AJ22+AK22 -> 0 | AM22: =$D22*AL22 -> 0 | AN22: =VLOOKUP($A22,[9]Hoja1!$A$5:$G$273,6,0) -> 48194 | AO22: =VLOOKUP($A22,[9]Hoja1!$A$5:$G$273,7,0) -> 0 | AP22: =AN22+AO22 -> 48194 | AQ22: =$D22*AP22 -> 48194 | AR22: =VLOOKUP($A22,[10]Hoja1!$A$3:$M$271,12,0) -> 0 | AS22: =VLOOKUP($A22,[10]Hoja1!$A$3:$M$271,13,0) -> 0 | AT22: =AR22+AS22 -> 0 | AU22: =$D22*AT22 -> 0 | AV22: =VLOOKUP($A22,[11]Hoja1!$A$3:$M$271,12,0) -> 0 | AW22: =VLOOKUP($A22,[11]Hoja1!$A$3:$M$271,13,0) -> 0 | AX22: =AV22+AW22 -> 0 | AY22: =$D22*AX22 -> 0 | AZ22: =VLOOKUP($A22,[12]Hoja1!$A$3:$M$271,12,0) -> 0 | BA22: =VLOOKUP($A22,[12]Hoja1!$A$3:$M$271,13,0) -> 0 | BB22: =AZ22+BA22 -> 0 | BC22: =$D22*BB22 -> 0 | BD22: =MIN(#REF!,#REF!) -> #REF! | BE22: =BD22-#REF! -> #REF! | BF22: IME IMPORTMEDICAL COLOMBIA SAS | BI22: =MIN(#REF!,#REF!) -> #REF! | BJ22: =#REF!-BI22 -> #REF! | BK22: IME IMPORTMEDICAL COLOMBIA SAS
A23: 14 | B23: CONECTOR LIBRE DE AGUJA | C23: 1 UNIDAD CONECTOR | D23: 1 | E23: UN | F23: 1100 | G23: 5067 | H23: =VLOOKUP($A23,[1]Hoja1!$A$3:$G$271,6,0) -> 1080 | J23: =H23+I23 -> 1080 | K23: =$D23*J23 -> 1080 | L23: =VLOOKUP($A23,[2]Hoja1!$A$3:$G$271,6,0) -> 0 | M23: =VLOOKUP($A23,[2]Hoja1!$A$3:$G$271,7,0) -> 0 | N23: =L23+M23 -> 0 | O23: =$D23*N23 -> 0 | P23: =VLOOKUP($A23,[3]Hoja1!$A$3:$M$271,12,0) -> 1595 | Q23: =VLOOKUP($A23,[3]Hoja1!$A$3:$M$271,13,0) -> 0 | R23: =P23+Q23 -> 1595 | S23: =$D23*R23 -> 1595 | T23: =VLOOKUP($A23,[4]Hoja1!$A$3:$G$271,6,0) -> 1364 | U23: =VLOOKUP($A23,[4]Hoja1!$A$3:$G$271,7,0) -> 0 | V23: =T23+U23 -> 1364 | W23: =$D23*V23 -> 1364 | X23: =VLOOKUP($A23,[5]Hoja1!$A$3:$G$271,6,0) -> 0 | Y23: =VLOOKUP($A23,[5]Hoja1!$A$3:$G$271,7,0) -> 0 | Z23: =X23+Y23 -> 0 | AA23: =$D23*Z23 -> 0 | AB23: =VLOOKUP($A23,[6]Hoja1!$A$3:$G$271,6,0) -> 0 | AC23: =VLOOKUP($A23,[6]Hoja1!$A$3:$G$271,7,0) -> 0 | AD23: =AB23+AC23 -> 0 | AE23: =$D23*AD23 -> 0 | AF23: =VLOOKUP($A23,[7]Hoja1!$A$3:$M$271,12,0) -> 0 | AG23: =VLOOKUP($A23,[7]Hoja1!$A$3:$M$271,13,0) -> 0 | AH23: =AF23+AG23 -> 0 | AI23: =$D23*AH23 -> 0 | AJ23: =VLOOKUP($A23,[8]Hoja1!$A$3:$G$271,6,0) -> 0 | AK23: =VLOOKUP($A23,[8]Hoja1!$A$3:$G$271,7,0) -> 0 | AL23: =AJ23+AK23 -> 0 | AM23: =$D23*AL23 -> 0 | AN23: =VLOOKUP($A23,[9]Hoja1!$A$5:$G$273,6,0) -> 1250 | AO23: =VLOOKUP($A23,[9]Hoja1!$A$5:$G$273,7,0) -> 0 | AP23: =AN23+AO23 -> 1250 | AQ23: =$D23*AP23 -> 1250 | AR23: =VLOOKUP($A23,[10]Hoja1!$A$3:$M$271,12,0) -> 0 | AS23: =VLOOKUP($A23,[10]Hoja1!$A$3:$M$271,13,0) -> 0 | AT23: =AR23+AS23 -> 0 | AU23: =$D23*AT23 -> 0 | AV23: =VLOOKUP($A23,[11]Hoja1!$A$3:$M$271,12,0) -> 0 | AW23: =VLOOKUP($A23,[11]Hoja1!$A$3:$M$271,13,0) -> 0 | AX23: =AV23+AW23 -> 0 | AY23: =$D23*AX23 -> 0 | AZ23: =VLOOKUP($A23,[12]Hoja1!$A$3:$M$271,12,0) -> 0 | BA23: =VLOOKUP($A23,[12]Hoja1!$A$3:$M$271,13,0) -> 0 | BB23: =AZ23+BA23 -> 0 | BC23: =$D23*BB23 -> 0 | BD23: =MIN(#REF!,#REF!) -> #REF! | BE23: =BD23-#REF! -> #REF! | BF23: IME IMPORTMEDICAL COLOMBIA SAS | BI23: =MIN(#REF!,#REF!) -> #REF! | BJ23: =#REF!-BI23 -> #REF! | BK23: IME IMPORTMEDICAL COLOMBIA SAS
A24: 15 | B24: ESPARADRAPO ANTIALERGICO 1 PULGADA | C24: 1 ROLLO DE ESPARADRAPO | D24: 1 | E24: UN | F24: 1373 | G24: 3 | H24: =VLOOKUP($A24,[1]Hoja1!$A$3:$G$271,6,0) -> 1497 | J24: =H24+I24 -> 1497 | K24: =$D24*J24 -> 1497 | L24: =VLOOKUP($A24,[2]Hoja1!$A$3:$G$271,6,0) -> 0 | M24: =VLOOKUP($A24,[2]Hoja1!$A$3:$G$271,7,0) -> 0 | N24: =L24+M24 -> 0 | O24: =$D24*N24 -> 0 | P24: =VLOOKUP($A24,[3]Hoja1!$A$3:$M$271,12,0) -> 2085 | Q24: =VLOOKUP($A24,[3]Hoja1!$A$3:$M$271,13,0) -> 0 | R24: =P24+Q24 -> 2085 | S24: =$D24*R24 -> 2085 | T24: =VLOOKUP($A24,[4]Hoja1!$A$3:$G$271,6,0) -> 1921 | U24: =VLOOKUP($A24,[4]Hoja1!$A$3:$G$271,7,0) -> 0 | V24: =T24+U24 -> 1921 | W24: =$D24*V24 -> 1921 | X24: =VLOOKUP($A24,[5]Hoja1!$A$3:$G$271,6,0) -> 2144 | Y24: =VLOOKUP($A24,[5]Hoja1!$A$3:$G$271,7,0) -> 0 | Z24: =X24+Y24 -> 2144 | AA24: =$D24*Z24 -> 2144 | AB24: =VLOOKUP($A24,[6]Hoja1!$A$3:$G$271,6,0) -> 0 | AC24: =VLOOKUP($A24,[6]Hoja1!$A$3:$G$271,7,0) -> 0 | AD24: =AB24+AC24 -> 0 | AE24: =$D24*AD24 -> 0 | AF24: =VLOOKUP($A24,[7]Hoja1!$A$3:$M$271,12,0) -> 0 | AG24: =VLOOKUP($A24,[7]Hoja1!$A$3:$M$271,13,0) -> 0 | AH24: =AF24+AG24 -> 0 | AI24: =$D24*AH24 -> 0 | AJ24: =VLOOKUP($A24,[8]Hoja1!$A$3:$G$271,6,0) -> 0 | AK24: =VLOOKUP($A24,[8]Hoja1!$A$3:$G$271,7,0) -> 0 | AL24: =AJ24+AK24 -> 0 | AM24: =$D24*AL24 -> 0 | AN24: =VLOOKUP($A24,[9]Hoja1!$A$5:$G$273,6,0) -> 1373 | AO24: =VLOOKUP($A24,[9]Hoja1!$A$5:$G$273,7,0) -> 0 | AP24: =AN24+AO24 -> 1373 | AQ24: =$D24*AP24 -> 1373 | AR24: =VLOOKUP($A24,[10]Hoja1!$A$3:$M$271,12,0) -> 0 | AS24: =VLOOKUP($A24,[10]Hoja1!$A$3:$M$271,13,0) -> 0 | AT24: =AR24+AS24 -> 0 | AU24: =$D24*AT24 -> 0 | AV24: =VLOOKUP($A24,[11]Hoja1!$A$3:$M$271,12,0) -> 0 | AW24: =VLOOKUP($A24,[11]Hoja1!$A$3:$M$271,13,0) -> 0 | AX24: =AV24+AW24 -> 0 | AY24: =$D24*AX24 -> 0 | AZ24: =VLOOKUP($A24,[12]Hoja1!$A$3:$M$271,12,0) -> 0 | BA24: =VLOOKUP($A24,[12]Hoja1!$A$3:$M$271,13,0) -> 0 | BB24: =AZ24+BA24 -> 0 | BC24: =$D24*BB24 -> 0 | BD24: =MIN(#REF!,#REF!) -> #REF! | BE24: =BD24-#REF! -> #REF! | BF24: IME IMPORTMEDICAL COLOMBIA SAS | BI24: =MIN(#REF!,#REF!) -> #REF! | BJ24: =BI24-#REF! -> #REF! | BK24: IME IMPORTMEDICAL COLOMBIA SAS
A25: 16 | B25: ESPARADRAPO DE RAYON MICROPOROSO HIPOALERGENICO 2 X 10 YARDAS | C25: 1 ROLLO DE ESPARADRAPO | D25: 1 | E25: UN | F25: 2747 | G25: 223.66667 | H25: =VLOOKUP($A25,[1]Hoja1!$A$3:$G$271,6,0) -> 2994 | J25: =H25+I25 -> 2994 | K25: =$D25*J25 -> 2994 | L25: =VLOOKUP($A25,[2]Hoja1!$A$3:$G$271,6,0) -> 0 | M25: =VLOOKUP($A25,[2]Hoja1!$A$3:$G$271,7,0) -> 0 | N25: =L25+M25 -> 0 | O25: =$D25*N25 -> 0 | P25: =VLOOKUP($A25,[3]Hoja1!$A$3:$M$271,12,0) -> 4170 | Q25: =VLOOKUP($A25,[3]Hoja1!$A$3:$M$271,13,0) -> 0 | R25: =P25+Q25 -> 4170 | S25: =$D25*R25 -> 4170 | T25: =VLOOKUP($A25,[4]Hoja1!$A$3:$G$271,6,0) -> 3842 | U25: =VLOOKUP($A25,[4]Hoja1!$A$3:$G$271,7,0) -> 0 | V25: =T25+U25 -> 3842 | W25: =$D25*V25 -> 3842 | X25: =VLOOKUP($A25,[5]Hoja1!$A$3:$G$271,6,0) -> 4288 | Y25: =VLOOKUP($A25,[5]Hoja1!$A$3:$G$271,7,0) -> 0 | Z25: =X25+Y25 -> 4288 | AA25: =$D25*Z25 -> 4288 | AB25: =VLOOKUP($A25,[6]Hoja1!$A$3:$G$271,6,0) -> 0 | AC25: =VLOOKUP($A25,[6]Hoja1!$A$3:$G$271,7,0) -> 0 | AD25: =AB25+AC25 -> 0 | AE25: =$D25*AD25 -> 0 | AF25: =VLOOKUP($A25,[7]Hoja1!$A$3:$M$271,12,0) -> 0 | AG25: =VLOOKUP($A25,[7]Hoja1!$A$3:$M$271,13,0) -> 0 | AH25: =AF25+AG25 -> 0 | AI25: =$D25*AH25 -> 0 | AJ25: =VLOOKUP($A25,[8]Hoja1!$A$3:$G$271,6,0) -> 0 | AK25: =VLOOKUP($A25,[8]Hoja1!$A$3:$G$271,7,0) -> 0 | AL25: =AJ25+AK25 -> 0 | AM25: =$D25*AL25 -> 0 | AN25: =VLOOKUP($A25,[9]Hoja1!$A$5:$G$273,6,0) -> 2745 | AO25: =VLOOKUP($A25,[9]Hoja1!$A$5:$G$273,7,0) -> 0 | AP25: =AN25+AO25 -> 2745 | AQ25: =$D25*AP25 -> 2745 | AR25: =VLOOKUP($A25,[10]Hoja1!$A$3:$M$271,12,0) -> 0 | AS25: =VLOOKUP($A25,[10]Hoja1!$A$3:$M$271,13,0) -> 0 | AT25: =AR25+AS25 -> 0 | AU25: =$D25*AT25 -> 0 | AV25: =VLOOKUP($A25,[11]Hoja1!$A$3:$M$271,12,0) -> 0 | AW25: =VLOOKUP($A25,[11]Hoja1!$A$3:$M$271,13,0) -> 0 | AX25: =AV25+AW25 -> 0 | AY25: =$D25*AX25 -> 0 | AZ25: =VLOOKUP($A25,[12]Hoja1!$A$3:$M$271,12,0) -> 0 | BA25: =VLOOKUP($A25,[12]Hoja1!$A$3:$M$271,13,0) -> 0 | BB25: =AZ25+BA25 -> 0 | BC25: =$D25*BB25 -> 0 | BD25: =MIN(#REF!,#REF!) -> #REF! | BE25: =BD25-#REF! -> #REF! | BF25: IME IMPORTMEDICAL COLOMBIA SAS | BI25: =MIN(#REF!,#REF!) -> #REF! | BJ25: =#REF!-BI25 -> #REF! | BK25: IME IMPORTMEDICAL COLOMBIA SAS
A26: 17 | B26: GASA 100% ALGODON TEJIDA 8 PLIEGUES ESTERIL SIN INDICADOR RADIOPACO 7.5 * 7.5 cm (SOBRE X 5) | C26: 1 SOBRE DE 5 UNIDADES | D26: 1 | E26: UN | F26: 300 | G26: 158542.33 | H26: =VLOOKUP($A26,[1]Hoja1!$A$3:$G$271,6,0) -> 295 | J26: =H26+I26 -> 295 | K26: =$D26*J26 -> 295 | L26: =VLOOKUP($A26,[2]Hoja1!$A$3:$G$271,6,0) -> 0 | M26: =VLOOKUP($A26,[2]Hoja1!$A$3:$G$271,7,0) -> 0 | N26: =L26+M26 -> 0 | O26: =$D26*N26 -> 0 | P26: =VLOOKUP($A26,[3]Hoja1!$A$3:$M$271,12,0) -> 0 | Q26: =VLOOKUP($A26,[3]Hoja1!$A$3:$M$271,13,0) -> 0 | R26: =P26+Q26 -> 0 | S26: =$D26*R26 -> 0 | T26: =VLOOKUP($A26,[4]Hoja1!$A$3:$G$271,6,0) -> 344 | U26: =VLOOKUP($A26,[4]Hoja1!$A$3:$G$271,7,0) -> 0 | V26: =T26+U26 -> 344 | W26: =$D26*V26 -> 344 | X26: =VLOOKUP($A26,[5]Hoja1!$A$3:$G$271,6,0) -> 0 | Y26: =VLOOKUP($A26,[5]Hoja1!$A$3:$G$271,7,0) -> 0 | Z26: =X26+Y26 -> 0 | AA26: =$D26*Z26 -> 0 | AB26: =VLOOKUP($A26,[6]Hoja1!$A$3:$G$271,6,0) -> 0 | AC26: =VLOOKUP($A26,[6]Hoja1!$A$3:$G$271,7,0) -> 0 | AD26: =AB26+AC26 -> 0 | AE26: =$D26*AD26 -> 0 | AF26: =VLOOKUP($A26,[7]Hoja1!$A$3:$M$271,12,0) -> 0 | AG26: =VLOOKUP($A26,[7]Hoja1!$A$3:$M$271,13,0) -> 0 | AH26: =AF26+AG26 -> 0 | AI26: =$D26*AH26 -> 0 | AJ26: =VLOOKUP($A26,[8]Hoja1!$A$3:$G$271,6,0) -> 0 | AK26: =VLOOKUP($A26,[8]Hoja1!$A$3:$G$271,7,0) -> 0 | AL26: =AJ26+AK26 -> 0 | AM26: =$D26*AL26 -> 0 | AN26: =VLOOKUP($A26,[9]Hoja1!$A$5:$G$273,6,0) -> 0 | AO26: =VLOOKUP($A26,[9]Hoja1!$A$5:$G$273,7,0) -> 0 | AP26: =AN26+AO26 -> 0 | AQ26: =$D26*AP26 -> 0 | AR26: =VLOOKUP($A26,[10]Hoja1!$A$3:$M$271,12,0) -> 0 | AS26: =VLOOKUP($A26,[10]Hoja1!$A$3:$M$271,13,0) -> 0 | AT26: =AR26+AS26 -> 0 | AU26: =$D26*AT26 -> 0 | AV26: =VLOOKUP($A26,[11]Hoja1!$A$3:$M$271,12,0) -> 0 | AW26: =VLOOKUP($A26,[11]Hoja1!$A$3:$M$271,13,0) -> 0 | AX26: =AV26+AW26 -> 0 | AY26: =$D26*AX26 -> 0 | AZ26: =VLOOKUP($A26,[12]Hoja1!$A$3:$M$271,12,0) -> 0 | BA26: =VLOOKUP($A26,[12]Hoja1!$A$3:$M$271,13,0) -> 0 | BB26: =AZ26+BA26 -> 0 | BC26: =$D26*BB26 -> 0 | BD26: =MIN(#REF!,#REF!) -> #REF! | BE26: =BD26-#REF! -> #REF! | BF26: IME IMPORTMEDICAL COLOMBIA SAS | BI26: =MIN(#REF!,#REF!) -> #REF! | BJ26: =#REF!-BI26 -> #REF! | BK26: IME IMPORTMEDICAL COLOMBIA SAS
A27: 18 | B27: JERINGA DE TRES PARTES DE 3 CM 23G X 1´´ 25 X 0.62 MM. | C27: 1 UNIDAD DE JERINGA | D27: 1 | E27: UN | F27: 189.21 | G27: 6647 | H27: =VLOOKUP($A27,[1]Hoja1!$A$3:$G$271,6,0) -> 169 | J27: =H27+I27 -> 169 | K27: =$D27*J27 -> 169 | L27: =VLOOKUP($A27,[2]Hoja1!$A$3:$G$271,6,0) -> 0 | M27: =VLOOKUP($A27,[2]Hoja1!$A$3:$G$271,7,0) -> 0 | N27: =L27+M27 -> 0 | O27: =$D27*N27 -> 0 | P27: =VLOOKUP($A27,[3]Hoja1!$A$3:$M$271,12,0) -> 198 | Q27: =VLOOKUP($A27,[3]Hoja1!$A$3:$M$271,13,0) -> 0 | R27: =P27+Q27 -> 198 | S27: =$D27*R27 -> 198 | T27: =VLOOKUP($A27,[4]Hoja1!$A$3:$G$271,6,0) -> 189 | U27: =VLOOKUP($A27,[4]Hoja1!$A$3:$G$271,7,0) -> 0 | V27: =T27+U27 -> 189 | W27: =$D27*V27 -> 189 | X27: =VLOOKUP($A27,[5]Hoja1!$A$3:$G$271,6,0) -> 0 | Y27: =VLOOKUP($A27,[5]Hoja1!$A$3:$G$271,7,0) -> 0 | Z27: =X27+Y27 -> 0 | AA27: =$D27*Z27 -> 0 | AB27: =VLOOKUP($A27,[6]Hoja1!$A$3:$G$271,6,0) -> 0 | AC27: =VLOOKUP($A27,[6]Hoja1!$A$3:$G$271,7,0) -> 0 | AD27: =AB27+AC27 -> 0 | AE27: =$D27*AD27 -> 0 | AF27: =VLOOKUP($A27,[7]Hoja1!$A$3:$M$271,12,0) -> 168 | AG27: =VLOOKUP($A27,[7]Hoja1!$A$3:$M$271,13,0) -> 0 | AH27: =AF27+AG27 -> 168 | AI27: =$D27*AH27 -> 168 | AJ27: =VLOOKUP($A27,[8]Hoja1!$A$3:$G$271,6,0) -> 0 | AK27: =VLOOKUP($A27,[8]Hoja1!$A$3:$G$271,7,0) -> 0 | AL27: =AJ27+AK27 -> 0 | AM27: =$D27*AL27 -> 0 | AN27: =VLOOKUP($A27,[9]Hoja1!$A$5:$G$273,6,0) -> 0 | AO27: =VLOOKUP($A27,[9]Hoja1!$A$5:$G$273,7,0) -> 0 | AP27: =AN27+AO27 -> 0 | AQ27: =$D27*AP27 -> 0 | AR27: =VLOOKUP($A27,[10]Hoja1!$A$3:$M$271,12,0) -> 0 | AS27: =VLOOKUP($A27,[10]Hoja1!$A$3:$M$271,13,0) -> 0 | AT27: =AR27+AS27 -> 0 | AU27: =$D27*AT27 -> 0 | AV27: =VLOOKUP($A27,[11]Hoja1!$A$3:$M$271,12,0) -> 0 | AW27: =VLOOKUP($A27,[11]Hoja1!$A$3:$M$271,13,0) -> 0 | AX27: =AV27+AW27 -> 0 | AY27: =$D27*AX27 -> 0 | AZ27: =VLOOKUP($A27,[12]Hoja1!$A$3:$M$271,12,0) -> 0 | BA27: =VLOOKUP($A27,[12]Hoja1!$A$3:$M$271,13,0) -> 0 | BB27: =AZ27+BA27 -> 0 | BC27: =$D27*BB27 -> 0 | BF27: NO CUMPLE PRECIO MINIMO DE REFERENCIA | BI27: =MIN(#REF!,#REF!) -> #REF! | BJ27: =BI27-#REF! -> #REF! | BK27: BIOCLINICOS DE COLOMBIA SAS
A28: 19 | B28: PAÑO IMPREGNADO CON CLORHEXIDINA AL 2 % Y ALCOHOL ISOPROPILICO AL 70% | C28: 1 UNIDAD DE PAÑO | D28: 1 | E28: UN | F28: 52 | G28: 83766.667 | H28: =VLOOKUP($A28,[1]Hoja1!$A$3:$G$271,6,0) -> 63 | J28: =H28+I28 -> 63 | K28: =$D28*J28 -> 63 | L28: =VLOOKUP($A28,[2]Hoja1!$A$3:$G$271,6,0) -> 0 | M28: =VLOOKUP($A28,[2]Hoja1!$A$3:$G$271,7,0) -> 0 | N28: =L28+M28 -> 0 | O28: =$D28*N28 -> 0 | P28: =VLOOKUP($A28,[3]Hoja1!$A$3:$M$271,12,0) -> 0 | Q28: =VLOOKUP($A28,[3]Hoja1!$A$3:$M$271,13,0) -> 0 | R28: =P28+Q28 -> 0 | S28: =$D28*R28 -> 0 | T28: =VLOOKUP($A28,[4]Hoja1!$A$3:$G$271,6,0) -> 74 | U28: =VLOOKUP($A28,[4]Hoja1!$A$3:$G$271,7,0) -> 0 | V28: =T28+U28 -> 74 | W28: =$D28*V28 -> 74 | X28: =VLOOKUP($A28,[5]Hoja1!$A$3:$G$271,6,0) -> 0 | Y28: =VLOOKUP($A28,[5]Hoja1!$A$3:$G$271,7,0) -> 0 | Z28: =X28+Y28 -> 0 | AA28: =$D28*Z28 -> 0 | AB28: =VLOOKUP($A28,[6]Hoja1!$A$3:$G$271,6,0) -> 0 | AC28: =VLOOKUP($A28,[6]Hoja1!$A$3:$G$271,7,0) -> 0 | AD28: =AB28+AC28 -> 0 | AE28: =$D28*AD28 -> 0 | AF28: =VLOOKUP($A28,[7]Hoja1!$A$3:$M$271,12,0) -> 0 | AG28: =VLOOKUP($A28,[7]Hoja1!$A$3:$M$271,13,0) -> 0 | AH28: =AF28+AG28 -> 0 | AI28: =$D28*AH28 -> 0 | AJ28: =VLOOKUP($A28,[8]Hoja1!$A$3:$G$271,6,0) -> 0 | AK28: =VLOOKUP($A28,[8]Hoja1!$A$3:$G$271,7,0) -> 0 | AL28: =AJ28+AK28 -> 0 | AM28: =$D28*AL28 -> 0 | AN28: =VLOOKUP($A28,[9]Hoja1!$A$5:$G$273,6,0) -> 55 | AO28: =VLOOKUP($A28,[9]Hoja1!$A$5:$G$273,7,0) -> 0 | AP28: =AN28+AO28 -> 55 | AQ28: =$D28*AP28 -> 55 | AR28: =VLOOKUP($A28,[10]Hoja1!$A$3:$M$271,12,0) -> 0 | AS28: =VLOOKUP($A28,[10]Hoja1!$A$3:$M$271,13,0) -> 0 | AT28: =AR28+AS28 -> 0 | AU28: =$D28*AT28 -> 0 | AV28: =VLOOKUP($A28,[11]Hoja1!$A$3:$M$271,12,0) -> 0 | AW28: =VLOOKUP($A28,[11]Hoja1!$A$3:$M$271,13,0) -> 0 | AX28: =AV28+AW28 -> 0 | AY28: =$D28*AX28 -> 0 | AZ28: =VLOOKUP($A28,[12]Hoja1!$A$3:$M$271,12,0) -> 0 | BA28: =VLOOKUP($A28,[12]Hoja1!$A$3:$M$271,13,0) -> 0 | BB28: =AZ28+BA28 -> 0 | BC28: =$D28*BB28 -> 0 | BF28: NO CUMPLE PRECIO MINIMO DE REFERENCIA | BI28: =#REF! -> #REF! | BJ28: =BI28-#REF! -> #REF! | BK28: BIOCLINICOS DE COLOMBIA SAS
A29: 20 | B29: COMPRESA TEJIDA EN GASA 100% ALGODON DE 4 PLIEGUES NO ESTERIL 45CM X 45CM CON INDICADOR RADIOPACO LIBRE DE LATEX | C29: Una Unidad de compresa | D29: 1 | E29: UN | F29: 950 | G29: 10453.333 | H29: =VLOOKUP($A29,[1]Hoja1!$A$3:$G$271,6,0) -> 915 | J29: =H29+I29 -> 915 | K29: =$D29*J29 -> 915 | L29: =VLOOKUP($A29,[2]Hoja1!$A$3:$G$271,6,0) -> 0 | M29: =VLOOKUP($A29,[2]Hoja1!$A$3:$G$271,7,0) -> 0 | N29: =L29+M29 -> 0 | O29: =$D29*N29 -> 0 | P29: =VLOOKUP($A29,[3]Hoja1!$A$3:$M$271,12,0) -> 1120 | Q29: =VLOOKUP($A29,[3]Hoja1!$A$3:$M$271,13,0) -> 0 | R29: =P29+Q29 -> 1120 | S29: =$D29*R29 -> 1120 | T29: =VLOOKUP($A29,[4]Hoja1!$A$3:$G$271,6,0) -> 0 | U29: =VLOOKUP($A29,[4]Hoja1!$A$3:$G$271,7,0) -> 0 | V29: =T29+U29 -> 0 | W29: =$D29*V29 -> 0 | X29: =VLOOKUP($A29,[5]Hoja1!$A$3:$G$271,6,0) -> 0 | Y29: =VLOOKUP($A29,[5]Hoja1!$A$3:$G$271,7,0) -> 0 | Z29: =X29+Y29 -> 0 | AA29: =$D29*Z29 -> 0 | AB29: =VLOOKUP($A29,[6]Hoja1!$A$3:$G$271,6,0) -> 0 | AC29: =VLOOKUP($A29,[6]Hoja1!$A$3:$G$271,7,0) -> 0 | AD29: =AB29+AC29 -> 0 | AE29: =$D29*AD29 -> 0 | AF29: =VLOOKUP($A29,[7]Hoja1!$A$3:$M$271,12,0) -> 0 | AG29: =VLOOKUP($A29,[7]Hoja1!$A$3:$M$271,13,0) -> 0 | AH29: =AF29+AG29 -> 0 | AI29: =$D29*AH29 -> 0 | AJ29: =VLOOKUP($A29,[8]Hoja1!$A$3:$G$271,6,0) -> 0 | AK29: =VLOOKUP($A29,[8]Hoja1!$A$3:$G$271,7,0) -> 0 | AL29: =AJ29+AK29 -> 0 | AM29: =$D29*AL29 -> 0 | AN29: =VLOOKUP($A29,[9]Hoja1!$A$5:$G$273,6,0) -> 0 | AO29: =VLOOKUP($A29,[9]Hoja1!$A$5:$G$273,7,0) -> 0 | AP29: =AN29+AO29 -> 0 | AQ29: =$D29*AP29 -> 0 | AR29: =VLOOKUP($A29,[10]Hoja1!$A$3:$M$271,12,0) -> 0 | AS29: =VLOOKUP($A29,[10]Hoja1!$A$3:$M$271,13,0) -> 0 | AT29: =AR29+AS29 -> 0 | AU29: =$D29*AT29 -> 0 | AV29: =VLOOKUP($A29,[11]Hoja1!$A$3:$M$271,12,0) -> 0 | AW29: =VLOOKUP($A29,[11]Hoja1!$A$3:$M$271,13,0) -> 0 | AX29: =AV29+AW29 -> 0 | AY29: =$D29*AX29 -> 0 | AZ29: =VLOOKUP($A29,[12]Hoja1!$A$3:$M$271,12,0) -> 0 | BA29: =VLOOKUP($A29,[12]Hoja1!$A$3:$M$271,13,0) -> 0 | BB29: =AZ29+BA29 -> 0 | BC29: =$D29*BB29 -> 0 | BD29: =MIN(#REF!,#REF!) -> #REF! | BE29: =BD29-#REF! -> #REF! | BF29: IME IMPORTMEDICAL COLOMBIA SAS | BI29: =MIN(#REF!,#REF!) -> #REF! | BJ29: =BI29-#REF! -> #REF! | BK29: IME IMPORTMEDICAL COLOMBIA SAS
A30: 21 | B30: JERINGA DESECHABLE DE 60 ML PUNTA DE CATETER TRESPAR | C30: 1 UNIDAD DE JERINGA | D30: 1 | E30: UN | F30: 830 | G30: 1 | H30: =VLOOKUP($A30,[1]Hoja1!$A$3:$G$271,6,0) -> 890 | J30: =H30+I30 -> 890 | K30: =$D30*J30 -> 890 | L30: =VLOOKUP($A30,[2]Hoja1!$A$3:$G$271,6,0) -> 0 | M30: =VLOOKUP($A30,[2]Hoja1!$A$3:$G$271,7,0) -> 0 | N30: =L30+M30 -> 0 | O30: =$D30*N30 -> 0 | P30: =VLOOKUP($A30,[3]Hoja1!$A$3:$M$271,12,0) -> 844 | Q30: =VLOOKUP($A30,[3]Hoja1!$A$3:$M$271,13,0) -> 0 | R30: =P30+Q30 -> 844 | S30: =$D30*R30 -> 844 | T30: =VLOOKUP($A30,[4]Hoja1!$A$3:$G$271,6,0) -> 1014 | U30: =VLOOKUP($A30,[4]Hoja1!$A$3:$G$271,7,0) -> 0 | V30: =T30+U30 -> 1014 | W30: =$D30*V30 -> 1014 | X30: =VLOOKUP($A30,[5]Hoja1!$A$3:$G$271,6,0) -> 0 | Y30: =VLOOKUP($A30,[5]Hoja1!$A$3:$G$271,7,0) -> 0 | Z30: =X30+Y30 -> 0 | AA30: =$D30*Z30 -> 0 | AB30: =VLOOKUP($A30,[6]Hoja1!$A$3:$G$271,6,0) -> 0 | AC30: =VLOOKUP($A30,[6]Hoja1!$A$3:$G$271,7,0) -> 0 | AD30: =AB30+AC30 -> 0 | AE30: =$D30*AD30 -> 0 | AF30: =VLOOKUP($A30,[7]Hoja1!$A$3:$M$271,12,0) -> 0 | AG30: =VLOOKUP($A30,[7]Hoja1!$A$3:$M$271,13,0) -> 0 | AH30: =AF30+AG30 -> 0 | AI30: =$D30*AH30 -> 0 | AJ30: =VLOOKUP($A30,[8]Hoja1!$A$3:$G$271,6,0) -> 0 | AK30: =VLOOKUP($A30,[8]Hoja1!$A$3:$G$271,7,0) -> 0 | AL30: =AJ30+AK30 -> 0 | AM30: =$D30*AL30 -> 0 | AN30: =VLOOKUP($A30,[9]Hoja1!$A$5:$G$273,6,0) -> 0 | AO30: =VLOOKUP($A30,[9]Hoja1!$A$5:$G$273,7,0) -> 0 | AP30: =AN30+AO30 -> 0 | AQ30: =$D30*AP30 -> 0 | AR30: =VLOOKUP($A30,[10]Hoja1!$A$3:$M$271,12,0) -> 0 | AS30: =VLOOKUP($A30,[10]Hoja1!$A$3:$M$271,13,0) -> 0 | AT30: =AR30+AS30 -> 0 | AU30: =$D30*AT30 -> 0 | AV30: =VLOOKUP($A30,[11]Hoja1!$A$3:$M$271,12,0) -> 0 | AW30: =VLOOKUP($A30,[11]Hoja1!$A$3:$M$271,13,0) -> 0 | AX30: =AV30+AW30 -> 0 | AY30: =$D30*AX30 -> 0 | AZ30: =VLOOKUP($A30,[12]Hoja1!$A$3:$M$271,12,0) -> 0 | BA30: =VLOOKUP($A30,[12]Hoja1!$A$3:$M$271,13,0) -> 0 | BB30: =AZ30+BA30 -> 0 | BC30: =$D30*BB30 -> 0 | BD30: =MIN(#REF!,#REF!) -> #REF! | BE30: =BD30-#REF! -> #REF! | BF30: IME IMPORTMEDICAL COLOMBIA SAS | BI30: =MIN(#REF!,#REF!) -> #REF! | BJ30: =BI30-#REF! -> #REF! | BK30: IME IMPORTMEDICAL COLOMBIA SAS
A31: 22 | B31: GASA TEJIDA NO ESTERIL TIPO HOSPITALARIO ROLLO 0.90 X 90 MTRS ANCHO 45 CM | C31: 1 UNIDAD DE ROLLO DE GASA | D31: 1 | E31: UN | F31: 44000 | G31: 1.6666667 | H31: =VLOOKUP($A31,[1]Hoja1!$A$3:$G$271,6,0) -> 40000 | J31: =H31+I31 -> 40000 | K31: =$D31*J31 -> 40000 | L31: =VLOOKUP($A31,[2]Hoja1!$A$3:$G$271,6,0) -> 0 | M31: =VLOOKUP($A31,[2]Hoja1!$A$3:$G$271,7,0) -> 0 | N31: =L31+M31 -> 0 | O31: =$D31*N31 -> 0 | P31: =VLOOKUP($A31,[3]Hoja1!$A$3:$M$271,12,0) -> 57100 | Q31: =VLOOKUP($A31,[3]Hoja1!$A$3:$M$271,13,0) -> 0 | R31: =P31+Q31 -> 57100 | S31: =$D31*R31 -> 57100 | T31: =VLOOKUP($A31,[4]Hoja1!$A$3:$G$271,6,0) -> 45455 | U31: =VLOOKUP($A31,[4]Hoja1!$A$3:$G$271,7,0) -> 0 | V31: =T31+U31 -> 45455 | W31: =$D31*V31 -> 45455 | X31: =VLOOKUP($A31,[5]Hoja1!$A$3:$G$271,6,0) -> 0 | Y31: =VLOOKUP($A31,[5]Hoja1!$A$3:$G$271,7,0) -> 0 | Z31: =X31+Y31 -> 0 | AA31: =$D31*Z31 -> 0 | AB31: =VLOOKUP($A31,[6]Hoja1!$A$3:$G$271,6,0) -> 0 | AC31: =VLOOKUP($A31,[6]Hoja1!$A$3:$G$271,7,0) -> 0 | AD31: =AB31+AC31 -> 0 | AE31: =$D31*AD31 -> 0 | AF31: =VLOOKUP($A31,[7]Hoja1!$A$3:$M$271,12,0) -> 0 | AG31: =VLOOKUP($A31,[7]Hoja1!$A$3:$M$271,13,0) -> 0 | AH31: =AF31+AG31 -> 0 | AI31: =$D31*AH31 -> 0 | AJ31: =VLOOKUP($A31,[8]Hoja1!$A$3:$G$271,6,0) -> 0 | AK31: =VLOOKUP($A31,[8]Hoja1!$A$3:$G$271,7,0) -> 0 | AL31: =AJ31+AK31 -> 0 | AM31: =$D31*AL31 -> 0 | AN31: =VLOOKUP($A31,[9]Hoja1!$A$5:$G$273,6,0) -> 45455 | AO31: =VLOOKUP($A31,[9]Hoja1!$A$5:$G$273,7,0) -> 0 | AP31: =AN31+AO31 -> 45455 | AQ31: =$D31*AP31 -> 45455 | AR31: =VLOOKUP($A31,[10]Hoja1!$A$3:$M$271,12,0) -> 0 | AS31: =VLOOKUP($A31,[10]Hoja1!$A$3:$M$271,13,0) -> 0 | AT31: =AR31+AS31 -> 0 | AU31: =$D31*AT31 -> 0 | AV31: =VLOOKUP($A31,[11]Hoja1!$A$3:$M$271,12,0) -> 0 | AW31: =VLOOKUP($A31,[11]Hoja1!$A$3:$M$271,13,0) -> 0 | AX31: =AV31+AW31 -> 0 | AY31: =$D31*AX31 -> 0 | AZ31: =VLOOKUP($A31,[12]Hoja1!$A$3:$M$271,12,0) -> 0 | BA31: =VLOOKUP($A31,[12]Hoja1!$A$3:$M$271,13,0) -> 0 | BB31: =AZ31+BA31 -> 0 | BC31: =$D31*BB31 -> 0 | BD31: =MIN(#REF!,#REF!) -> #REF! | BE31: =BD31-#REF! -> #REF! | BF31: IME IMPORTMEDICAL COLOMBIA SAS | BI31: =MIN(#REF!,#REF!) -> #REF! | BJ31: =BI31-#REF! -> #REF! | BK31: IME IMPORTMEDICAL COLOMBIA SAS
A32: 23 | B32: AGUJA BLOQUEO NERVIOSO 22X50MM | C32: 1 UNIDAD DE AGUJA | D32: 1 | E32: UN | F32: 10824 | G32: 31.666667 | H32: =VLOOKUP($A32,[1]Hoja1!$A$3:$G$271,6,0) -> 0 | I32: =VLOOKUP($A32,[1]Hoja1!$A$3:$G$271,7,0) -> 0 | J32: =H32+I32 -> 0 | K32: =$D32*J32 -> 0 | L32: =VLOOKUP($A32,[2]Hoja1!$A$3:$G$271,6,0) -> 0 | M32: =VLOOKUP($A32,[2]Hoja1!$A$3:$G$271,7,0) -> 0 | N32: =L32+M32 -> 0 | O32: =$D32*N32 -> 0 | P32: =VLOOKUP($A32,[3]Hoja1!$A$3:$M$271,12,0) -> 0 | Q32: =VLOOKUP($A32,[3]Hoja1!$A$3:$M$271,13,0) -> 0 | R32: =P32+Q32 -> 0 | S32: =$D32*R32 -> 0 | T32: =VLOOKUP($A32,[4]Hoja1!$A$3:$G$271,6,0) -> 43977 | U32: =VLOOKUP($A32,[4]Hoja1!$A$3:$G$271,7,0) -> 0 | V32: =T32+U32 -> 43977 | W32: =$D32*V32 -> 43977 | X32: =VLOOKUP($A32,[5]Hoja1!$A$3:$G$271,6,0) -> 0 | Y32: =VLOOKUP($A32,[5]Hoja1!$A$3:$G$271,7,0) -> 0 | Z32: =X32+Y32 -> 0 | AA32: =$D32*Z32 -> 0 | AB32: =VLOOKUP($A32,[6]Hoja1!$A$3:$G$271,6,0) -> 0 | AC32: =VLOOKUP($A32,[6]Hoja1!$A$3:$G$271,7,0) -> 0 | AD32: =AB32+AC32 -> 0 | AE32: =$D32*AD32 -> 0 | AF32: =VLOOKUP($A32,[7]Hoja1!$A$3:$M$271,12,0) -> 0 | AG32: =VLOOKUP($A32,[7]Hoja1!$A$3:$M$271,13,0) -> 0 | AH32: =AF32+AG32 -> 0 | AI32: =$D32*AH32 -> 0 | AJ32: =VLOOKUP($A32,[8]Hoja1!$A$3:$G$271,6,0) -> 0 | AK32: =VLOOKUP($A32,[8]Hoja1!$A$3:$G$271,7,0) -> 0 | AL32: =AJ32+AK32 -> 0 | AM32: =$D32*AL32 -> 0 | AN32: =VLOOKUP($A32,[9]Hoja1!$A$5:$G$273,6,0) -> 0 | AO32: =VLOOKUP($A32,[9]Hoja1!$A$5:$G$273,7,0) -> 0 | AP32: =AN32+AO32 -> 0 | AQ32: =$D32*AP32 -> 0 | AR32: =VLOOKUP($A32,[10]Hoja1!$A$3:$M$271,12,0) -> 0 | AS32: =VLOOKUP($A32,[10]Hoja1!$A$3:$M$271,13,0) -> 0 | AT32: =AR32+AS32 -> 0 | AU32: =$D32*AT32 -> 0 | AV32: =VLOOKUP($A32,[11]Hoja1!$A$3:$M$271,12,0) -> 0 | AW32: =VLOOKUP($A32,[11]Hoja1!$A$3:$M$271,13,0) -> 0 | AX32: =AV32+AW32 -> 0 | AY32: =$D32*AX32 -> 0 | AZ32: =VLOOKUP($A32,[12]Hoja1!$A$3:$M$271,12,0) -> 0 | BA32: =VLOOKUP($A32,[12]Hoja1!$A$3:$M$271,13,0) -> 0 | BB32: =AZ32+BA32 -> 0 | BC32: =$D32*BB32 -> 0 | BD32: =MIN(#REF!,#REF!) -> #REF! | BE32: =BD32-#REF! -> #REF! | BF32: IME IMPORTMEDICAL COLOMBIA SAS | BI32: =MIN(#REF!,#REF!) -> #REF! | BJ32: =BI32-#REF! -> #REF! | BK32: IME IMPORTMEDICAL COLOMBIA SAS
A33: 24 | B33: AGUJA PARA BLOQUEO DE NERVIO 20 - 21 G X 120MM VISIBLES ECOGRÁFICAMENTE | C33: 1 UNIDAD DE AGUJA | D33: 1 | E33: UN | F33: 41075 | G33: 1 | H33: =VLOOKUP($A33,[1]Hoja1!$A$3:$G$271,6,0) -> 0 | I33: =VLOOKUP($A33,[1]Hoja1!$A$3:$G$271,7,0) -> 0 | J33: =H33+I33 -> 0 | K33: =$D33*J33 -> 0 | L33: =VLOOKUP($A33,[2]Hoja1!$A$3:$G$271,6,0) -> 0 | M33: =VLOOKUP($A33,[2]Hoja1!$A$3:$G$271,7,0) -> 0 | N33: =L33+M33 -> 0 | O33: =$D33*N33 -> 0 | P33: =VLOOKUP($A33,[3]Hoja1!$A$3:$M$271,12,0) -> 0 | Q33: =VLOOKUP($A33,[3]Hoja1!$A$3:$M$271,13,0) -> 0 | R33: =P33+Q33 -> 0 | S33: =$D33*R33 -> 0 | T33: =VLOOKUP($A33,[4]Hoja1!$A$3:$G$271,6,0) -> 43977 | U33: =T33*0.19 -> 8355.63 | V33: =T33+U33 -> 52332.63 | W33: =$D33*V33 -> 52332.63 | X33: =VLOOKUP($A33,[5]Hoja1!$A$3:$G$271,6,0) -> 0 | Y33: =VLOOKUP($A33,[5]Hoja1!$A$3:$G$271,7,0) -> 0 | Z33: =X33+Y33 -> 0 | AA33: =$D33*Z33 -> 0 | AB33: =VLOOKUP($A33,[6]Hoja1!$A$3:$G$271,6,0) -> 0 | AC33: =VLOOKUP($A33,[6]Hoja1!$A$3:$G$271,7,0) -> 0 | AD33: =AB33+AC33 -> 0 | AE33: =$D33*AD33 -> 0 | AF33: =VLOOKUP($A33,[7]Hoja1!$A$3:$M$271,12,0) -> 0 | AG33: =VLOOKUP($A33,[7]Hoja1!$A$3:$M$271,13,0) -> 0 | AH33: =AF33+AG33 -> 0 | AI33: =$D33*AH33 -> 0 | AJ33: =VLOOKUP($A33,[8]Hoja1!$A$3:$G$271,6,0) -> 0 | AK33: =VLOOKUP($A33,[8]Hoja1!$A$3:$G$271,7,0) -> 0 | AL33: =AJ33+AK33 -> 0 | AM33: =$D33*AL33 -> 0 | AN33: =VLOOKUP($A33,[9]Hoja1!$A$5:$G$273,6,0) -> 0 | AO33: =VLOOKUP($A33,[9]Hoja1!$A$5:$G$273,7,0) -> 0 | AP33: =AN33+AO33 -> 0 | AQ33: =$D33*AP33 -> 0 | AR33: =VLOOKUP($A33,[10]Hoja1!$A$3:$M$271,12,0) -> 0 | AS33: =VLOOKUP($A33,[10]Hoja1!$A$3:$M$271,13,0) -> 0 | AT33: =AR33+AS33 -> 0 | AU33: =$D33*AT33 -> 0 | AV33: =VLOOKUP($A33,[11]Hoja1!$A$3:$M$271,12,0) -> 0 | AW33: =VLOOKUP($A33,[11]Hoja1!$A$3:$M$271,13,0) -> 0 | AX33: =AV33+AW33 -> 0 | AY33: =$D33*AX33 -> 0 | AZ33: =VLOOKUP($A33,[12]Hoja1!$A$3:$M$271,12,0) -> 0 | BA33: =VLOOKUP($A33,[12]Hoja1!$A$3:$M$271,13,0) -> 0 | BB33: =AZ33+BA33 -> 0 | BC33: =$D33*BB33 -> 0 | BD33: =MIN(#REF!,#REF!) -> #REF! | BE33: =BD33-#REF! -> #REF! | BF33: IME IMPORTMEDICAL COLOMBIA SAS | BI33: =MIN(#REF!,#REF!) -> #REF! | BJ33: =BI33-#REF! -> #REF! | BK33: IME IMPORTMEDICAL COLOMBIA SAS
A34: 25 | B34: AGUJA PARA BLOQUEO DE NERVIO 21- 22 G X 50MM VISIBLES ECOGRÁFICAMENTE | C34: 1 UNIDAD DE AGUJA | D34: 1 | E34: UN | F34: 38123.19 | G34: 1 | H34: =VLOOKUP($A34,[1]Hoja1!$A$3:$G$271,6,0) -> 0 | I34: =VLOOKUP($A34,[1]Hoja1!$A$3:$G$271,7,0) -> 0 | J34: =H34+I34 -> 0 | K34: =$D34*J34 -> 0 | L34: =VLOOKUP($A34,[2]Hoja1!$A$3:$G$271,6,0) -> 0 | M34: =VLOOKUP($A34,[2]Hoja1!$A$3:$G$271,7,0) -> 0 | N34: =L34+M34 -> 0 | O34: =$D34*N34 -> 0 | P34: =VLOOKUP($A34,[3]Hoja1!$A$3:$M$271,12,0) -> 0 | Q34: =VLOOKUP($A34,[3]Hoja1!$A$3:$M$271,13,0) -> 0 | R34: =P34+Q34 -> 0 | S34: =$D34*R34 -> 0 | T34: =VLOOKUP($A34,[4]Hoja1!$A$3:$G$271,6,0) -> 43977 | U34: =VLOOKUP($A34,[4]Hoja1!$A$3:$G$271,7,0) -> 0 | V34: =T34+U34 -> 43977 | W34: =$D34*V34 -> 43977 | X34: =VLOOKUP($A34,[5]Hoja1!$A$3:$G$271,6,0) -> 0 | Y34: =VLOOKUP($A34,[5]Hoja1!$A$3:$G$271,7,0) -> 0 | Z34: =X34+Y34 -> 0 | AA34: =$D34*Z34 -> 0 | AB34: =VLOOKUP($A34,[6]Hoja1!$A$3:$G$271,6,0) -> 0 | AC34: =VLOOKUP($A34,[6]Hoja1!$A$3:$G$271,7,0) -> 0 | AD34: =AB34+AC34 -> 0 | AE34: =$D34*AD34 -> 0 | AF34: =VLOOKUP($A34,[7]Hoja1!$A$3:$M$271,12,0) -> 0 | AG34: =VLOOKUP($A34,[7]Hoja1!$A$3:$M$271,13,0) -> 0 | AH34: =AF34+AG34 -> 0 | AI34: =$D34*AH34 -> 0 | AJ34: =VLOOKUP($A34,[8]Hoja1!$A$3:$G$271,6,0) -> 0 | AK34: =VLOOKUP($A34,[8]Hoja1!$A$3:$G$271,7,0) -> 0 | AL34: =AJ34+AK34 -> 0 | AM34: =$D34*AL34 -> 0 | AN34: =VLOOKUP($A34,[9]Hoja1!$A$5:$G$273,6,0) -> 0 | AO34: =VLOOKUP($A34,[9]Hoja1!$A$5:$G$273,7,0) -> 0 | AP34: =AN34+AO34 -> 0 | AQ34: =$D34*AP34 -> 0 | AR34: =VLOOKUP($A34,[10]Hoja1!$A$3:$M$271,12,0) -> 0 | AS34: =VLOOKUP($A34,[10]Hoja1!$A$3:$M$271,13,0) -> 0 | AT34: =AR34+AS34 -> 0 | AU34: =$D34*AT34 -> 0 | AV34: =VLOOKUP($A34,[11]Hoja1!$A$3:$M$271,12,0) -> 0 | AW34: =VLOOKUP($A34,[11]Hoja1!$A$3:$M$271,13,0) -> 0 | AX34: =AV34+AW34 -> 0 | AY34: =$D34*AX34 -> 0 | AZ34: =VLOOKUP($A34,[12]Hoja1!$A$3:$M$271,12,0) -> 0 | BA34: =VLOOKUP($A34,[12]Hoja1!$A$3:$M$271,13,0) -> 0 | BB34: =AZ34+BA34 -> 0 | BC34: =$D34*BB34 -> 0 | BD34: =MIN(#REF!,#REF!) -> #REF! | BE34: =BD34-#REF! -> #REF! | BF34: IME IMPORTMEDICAL COLOMBIA SAS | BI34: =MIN(#REF!,#REF!) -> #REF! | BJ34: =BI34-#REF! -> #REF! | BK34: IME IMPORTMEDICAL COLOMBIA SAS
A35: 26 | B35: AGUJA PARA BLOQUEO DE NERVIO 21 G X 90-110MM | C35: 1 UNIDAD DE AGUJA | D35: 1 | E35: UN | F35: 43977.19 | G35: 9.6666667 | H35: =VLOOKUP($A35,[1]Hoja1!$A$3:$G$271,6,0) -> 0 | I35: =VLOOKUP($A35,[1]Hoja1!$A$3:$G$271,7,0) -> 0 | J35: =H35+I35 -> 0 | K35: =$D35*J35 -> 0 | L35: =VLOOKUP($A35,[2]Hoja1!$A$3:$G$271,6,0) -> 0 | M35: =VLOOKUP($A35,[2]Hoja1!$A$3:$G$271,7,0) -> 0 | N35: =L35+M35 -> 0 | O35: =$D35*N35 -> 0 | P35: =VLOOKUP($A35,[3]Hoja1!$A$3:$M$271,12,0) -> 0 | Q35: =VLOOKUP($A35,[3]Hoja1!$A$3:$M$271,13,0) -> 0 | R35: =P35+Q35 -> 0 | S35: =$D35*R35 -> 0 | T35: =VLOOKUP($A35,[4]Hoja1!$A$3:$G$271,6,0) -> 43977 | U35: =T35*0.19 -> 8355.63 | V35: =T35+U35 -> 52332.63 | W35: =$D35*V35 -> 52332.63 | X35: =VLOOKUP($A35,[5]Hoja1!$A$3:$G$271,6,0) -> 0 | Y35: =VLOOKUP($A35,[5]Hoja1!$A$3:$G$271,7,0) -> 0 | Z35: =X35+Y35 -> 0 | AA35: =$D35*Z35 -> 0 | AB35: =VLOOKUP($A35,[6]Hoja1!$A$3:$G$271,6,0) -> 0 | AC35: =VLOOKUP($A35,[6]Hoja1!$A$3:$G$271,7,0) -> 0 | AD35: =AB35+AC35 -> 0 | AE35: =$D35*AD35 -> 0 | AF35: =VLOOKUP($A35,[7]Hoja1!$A$3:$M$271,12,0) -> 0 | AG35: =VLOOKUP($A35,[7]Hoja1!$A$3:$M$271,13,0) -> 0 | AH35: =AF35+AG35 -> 0 | AI35: =$D35*AH35 -> 0 | AJ35: =VLOOKUP($A35,[8]Hoja1!$A$3:$G$271,6,0) -> 0 | AK35: =VLOOKUP($A35,[8]Hoja1!$A$3:$G$271,7,0) -> 0 | AL35: =AJ35+AK35 -> 0 | AM35: =$D35*AL35 -> 0 | AN35: =VLOOKUP($A35,[9]Hoja1!$A$5:$G$273,6,0) -> 0 | AO35: =VLOOKUP($A35,[9]Hoja1!$A$5:$G$273,7,0) -> 0 | AP35: =AN35+AO35 -> 0 | AQ35: =$D35*AP35 -> 0 | AR35: =VLOOKUP($A35,[10]Hoja1!$A$3:$M$271,12,0) -> 0 | AS35: =VLOOKUP($A35,[10]Hoja1!$A$3:$M$271,13,0) -> 0 | AT35: =AR35+AS35 -> 0 | AU35: =$D35*AT35 -> 0 | AV35: =VLOOKUP($A35,[11]Hoja1!$A$3:$M$271,12,0) -> 0 | AW35: =VLOOKUP($A35,[11]Hoja1!$A$3:$M$271,13,0) -> 0 | AX35: =AV35+AW35 -> 0 | AY35: =$D35*AX35 -> 0 | AZ35: =VLOOKUP($A35,[12]Hoja1!$A$3:$M$271,12,0) -> 0 | BA35: =VLOOKUP($A35,[12]Hoja1!$A$3:$M$271,13,0) -> 0 | BB35: =AZ35+BA35 -> 0 | BC35: =$D35*BB35 -> 0 | BD35: =MIN(#REF!,#REF!) -> #REF! | BE35: =BD35-#REF! -> #REF! | BF35: IME IMPORTMEDICAL COLOMBIA SAS | BI35: =MIN(#REF!,#REF!) -> #REF! | BJ35: =BI35-#REF! -> #REF! | BK35: IME IMPORTMEDICAL COLOMBIA SAS
A36: 27 | B36: AGUJA PARA BLOQUEO DE NERVIO NO. 20G X 150MM USO CON NEUROESTIMULADOR | C36: 1 UNIDAD DE AGUJA | D36: 1 | E36: UN | F36: 43182.19 | G36: 0.33333333 | H36: =VLOOKUP($A36,[1]Hoja1!$A$3:$G$271,6,0) -> 0 | I36: =VLOOKUP($A36,[1]Hoja1!$A$3:$G$271,7,0) -> 0 | J36: =H36+I36 -> 0 | K36: =$D36*J36 -> 0 | L36: =VLOOKUP($A36,[2]Hoja1!$A$3:$G$271,6,0) -> 0 | M36: =VLOOKUP($A36,[2]Hoja1!$A$3:$G$271,7,0) -> 0 | N36: =L36+M36 -> 0 | O36: =$D36*N36 -> 0 | P36: =VLOOKUP($A36,[3]Hoja1!$A$3:$M$271,12,0) -> 0 | Q36: =VLOOKUP($A36,[3]Hoja1!$A$3:$M$271,13,0) -> 0 | R36: =P36+Q36 -> 0 | S36: =$D36*R36 -> 0 | T36: =VLOOKUP($A36,[4]Hoja1!$A$3:$G$271,6,0) -> 32614 | U36: =T36*0.19 -> 6196.66 | V36: =T36+U36 -> 38810.66 | W36: =$D36*V36 -> 38810.66 | X36: =VLOOKUP($A36,[5]Hoja1!$A$3:$G$271,6,0) -> 0 | Y36: =VLOOKUP($A36,[5]Hoja1!$A$3:$G$271,7,0) -> 0 | Z36: =X36+Y36 -> 0 | AA36: =$D36*Z36 -> 0 | AB36: =VLOOKUP($A36,[6]Hoja1!$A$3:$G$271,6,0) -> 0 | AC36: =VLOOKUP($A36,[6]Hoja1!$A$3:$G$271,7,0) -> 0 | AD36: =AB36+AC36 -> 0 | AE36: =$D36*AD36 -> 0 | AF36: =VLOOKUP($A36,[7]Hoja1!$A$3:$M$271,12,0) -> 0 | AG36: =VLOOKUP($A36,[7]Hoja1!$A$3:$M$271,13,0) -> 0 | AH36: =AF36+AG36 -> 0 | AI36: =$D36*AH36 -> 0 | AJ36: =VLOOKUP($A36,[8]Hoja1!$A$3:$G$271,6,0) -> 0 | AK36: =VLOOKUP($A36,[8]Hoja1!$A$3:$G$271,7,0) -> 0 | AL36: =AJ36+AK36 -> 0 | AM36: =$D36*AL36 -> 0 | AN36: =VLOOKUP($A36,[9]Hoja1!$A$5:$G$273,6,0) -> 0 | AO36: =VLOOKUP($A36,[9]Hoja1!$A$5:$G$273,7,0) -> 0 | AP36: =AN36+AO36 -> 0 | AQ36: =$D36*AP36 -> 0 | AR36: =VLOOKUP($A36,[10]Hoja1!$A$3:$M$271,12,0) -> 0 | AS36: =VLOOKUP($A36,[10]Hoja1!$A$3:$M$271,13,0) -> 0 | AT36: =AR36+AS36 -> 0 | AU36: =$D36*AT36 -> 0 | AV36: =VLOOKUP($A36,[11]Hoja1!$A$3:$M$271,12,0) -> 0 | AW36: =VLOOKUP($A36,[11]Hoja1!$A$3:$M$271,13,0) -> 0 | AX36: =AV36+AW36 -> 0 | AY36: =$D36*AX36 -> 0 | AZ36: =VLOOKUP($A36,[12]Hoja1!$A$3:$M$271,12,0) -> 0 | BA36: =VLOOKUP($A36,[12]Hoja1!$A$3:$M$271,13,0) -> 0 | BB36: =AZ36+BA36 -> 0 | BC36: =$D36*BB36 -> 0 | BD36: =MIN(#REF!,#REF!) -> #REF! | BE36: =BD36-#REF! -> #REF! | BF36: IME IMPORTMEDICAL COLOMBIA SAS | BI36: =MIN(#REF!,#REF!) -> #REF! | BJ36: =BI36-#REF! -> #REF! | BK36: IME IMPORTMEDICAL COLOMBIA SAS
A37: 28 | B37: AGUJA PARA BLOQUEO DE NERVIO NO. 22G X 80MM USO CON NEUROESTIMULADOR | C37: 1 UNIDAD DE AGUJA | D37: 1 | E37: UN | F37: 35875.19 | G37: 10.666667 | H37: =VLOOKUP($A37,[1]Hoja1!$A$3:$G$271,6,0) -> 0 | I37: =VLOOKUP($A37,[1]Hoja1!$A$3:$G$271,7,0) -> 0 | J37: =H37+I37 -> 0 | K37: =$D37*J37 -> 0 | L37: =VLOOKUP($A37,[2]Hoja1!$A$3:$G$271,6,0) -> 0 | M37: =VLOOKUP($A37,[2]Hoja1!$A$3:$G$271,7,0) -> 0 | N37: =L37+M37 -> 0 | O37: =$D37*N37 -> 0 | P37: =VLOOKUP($A37,[3]Hoja1!$A$3:$M$271,12,0) -> 0 | Q37: =VLOOKUP($A37,[3]Hoja1!$A$3:$M$271,13,0) -> 0 | R37: =P37+Q37 -> 0 | S37: =$D37*R37 -> 0 | T37: =VLOOKUP($A37,[4]Hoja1!$A$3:$G$271,6,0) -> 35875 | U37: =T37*0.19 -> 6816.25 | V37: =T37+U37 -> 42691.25 | W37: =$D37*V37 -> 42691.25 | X37: =VLOOKUP($A37,[5]Hoja1!$A$3:$G$271,6,0) -> 0 | Y37: =VLOOKUP($A37,[5]Hoja1!$A$3:$G$271,7,0) -> 0 | Z37: =X37+Y37 -> 0 | AA37: =$D37*Z37 -> 0 | AB37: =VLOOKUP($A37,[6]Hoja1!$A$3:$G$271,6,0) -> 0 | AC37: =VLOOKUP($A37,[6]Hoja1!$A$3:$G$271,7,0) -> 0 | AD37: =AB37+AC37 -> 0 | AE37: =$D37*AD37 -> 0 | AF37: =VLOOKUP($A37,[7]Hoja1!$A$3:$M$271,12,0) -> 0 | AG37: =VLOOKUP($A37,[7]Hoja1!$A$3:$M$271,13,0) -> 0 | AH37: =AF37+AG37 -> 0 | AI37: =$D37*AH37 -> 0 | AJ37: =VLOOKUP($A37,[8]Hoja1!$A$3:$G$271,6,0) -> 0 | AK37: =VLOOKUP($A37,[8]Hoja1!$A$3:$G$271,7,0) -> 0 | AL37: =AJ37+AK37 -> 0 | AM37: =$D37*AL37 -> 0 | AN37: =VLOOKUP($A37,[9]Hoja1!$A$5:$G$273,6,0) -> 0 | AO37: =VLOOKUP($A37,[9]Hoja1!$A$5:$G$273,7,0) -> 0 | AP37: =AN37+AO37 -> 0 | AQ37: =$D37*AP37 -> 0 | AR37: =VLOOKUP($A37,[10]Hoja1!$A$3:$M$271,12,0) -> 0 | AS37: =VLOOKUP($A37,[10]Hoja1!$A$3:$M$271,13,0) -> 0 | AT37: =AR37+AS37 -> 0 | AU37: =$D37*AT37 -> 0 | AV37: =VLOOKUP($A37,[11]Hoja1!$A$3:$M$271,12,0) -> 0 | AW37: =VLOOKUP($A37,[11]Hoja1!$A$3:$M$271,13,0) -> 0 | AX37: =AV37+AW37 -> 0 | AY37: =$D37*AX37 -> 0 | AZ37: =VLOOKUP($A37,[12]Hoja1!$A$3:$M$271,12,0) -> 0 | BA37: =VLOOKUP($A37,[12]Hoja1!$A$3:$M$271,13,0) -> 0 | BB37: =AZ37+BA37 -> 0 | BC37: =$D37*BB37 -> 0 | BD37: =MIN(#REF!,#REF!) -> #REF! | BE37: =BD37-#REF! -> #REF! | BF37: IME IMPORTMEDICAL COLOMBIA SAS | BI37: =MIN(#REF!,#REF!) -> #REF! | BJ37: =BI37-#REF! -> #REF! | BK37: IME IMPORTMEDICAL COLOMBIA SAS
A38: 29 | B38: AGUJA PARA BLOQUEO DE NERVIO NO. 24G X 25MM USO CON NEUROESTIMULADOR | C38: 1 UNIDAD DE AGUJA | D38: 1 | E38: UN | F38: 42008.19 | G38: 0 | H38: =VLOOKUP($A38,[1]Hoja1!$A$3:$G$271,6,0) -> 0 | I38: =VLOOKUP($A38,[1]Hoja1!$A$3:$G$271,7,0) -> 0 | J38: =H38+I38 -> 0 | K38: =$D38*J38 -> 0 | L38: =VLOOKUP($A38,[2]Hoja1!$A$3:$G$271,6,0) -> 0 | M38: =VLOOKUP($A38,[2]Hoja1!$A$3:$G$271,7,0) -> 0 | N38: =L38+M38 -> 0 | O38: =$D38*N38 -> 0 | P38: =VLOOKUP($A38,[3]Hoja1!$A$3:$M$271,12,0) -> 0 | Q38: =VLOOKUP($A38,[3]Hoja1!$A$3:$M$271,13,0) -> 0 | R38: =P38+Q38 -> 0 | S38: =$D38*R38 -> 0 | T38: =VLOOKUP($A38,[4]Hoja1!$A$3:$G$271,6,0) -> 43977 | U38: =T38*0.19 -> 8355.63 | V38: =T38+U38 -> 52332.63 | W38: =$D38*V38 -> 52332.63 | X38: =VLOOKUP($A38,[5]Hoja1!$A$3:$G$271,6,0) -> 0 | Y38: =VLOOKUP($A38,[5]Hoja1!$A$3:$G$271,7,0) -> 0 | Z38: =X38+Y38 -> 0 | AA38: =$D38*Z38 -> 0 | AB38: =VLOOKUP($A38,[6]Hoja1!$A$3:$G$271,6,0) -> 0 | AC38: =VLOOKUP($A38,[6]Hoja1!$A$3:$G$271,7,0) -> 0 | AD38: =AB38+AC38 -> 0 | AE38: =$D38*AD38 -> 0 | AF38: =VLOOKUP($A38,[7]Hoja1!$A$3:$M$271,12,0) -> 0 | AG38: =VLOOKUP($A38,[7]Hoja1!$A$3:$M$271,13,0) -> 0 | AH38: =AF38+AG38 -> 0 | AI38: =$D38*AH38 -> 0 | AJ38: =VLOOKUP($A38,[8]Hoja1!$A$3:$G$271,6,0) -> 0 | AK38: =VLOOKUP($A38,[8]Hoja1!$A$3:$G$271,7,0) -> 0 | AL38: =AJ38+AK38 -> 0 | AM38: =$D38*AL38 -> 0 | AN38: =VLOOKUP($A38,[9]Hoja1!$A$5:$G$273,6,0) -> 0 | AO38: =VLOOKUP($A38,[9]Hoja1!$A$5:$G$273,7,0) -> 0 | AP38: =AN38+AO38 -> 0 | AQ38: =$D38*AP38 -> 0 | AR38: =VLOOKUP($A38,[10]Hoja1!$A$3:$M$271,12,0) -> 0 | AS38: =VLOOKUP($A38,[10]Hoja1!$A$3:$M$271,13,0) -> 0 | AT38: =AR38+AS38 -> 0 | AU38: =$D38*AT38 -> 0 | AV38: =VLOOKUP($A38,[11]Hoja1!$A$3:$M$271,12,0) -> 0 | AW38: =VLOOKUP($A38,[11]Hoja1!$A$3:$M$271,13,0) -> 0 | AX38: =AV38+AW38 -> 0 | AY38: =$D38*AX38 -> 0 | AZ38: =VLOOKUP($A38,[12]Hoja1!$A$3:$M$271,12,0) -> 0 | BA38: =VLOOKUP($A38,[12]Hoja1!$A$3:$M$271,13,0) -> 0 | BB38: =AZ38+BA38 -> 0 | BC38: =$D38*BB38 -> 0 | BD38: =MIN(#REF!,#REF!) -> #REF! | BE38: =BD38-#REF! -> #REF! | BF38: IME IMPORTMEDICAL COLOMBIA SAS | BI38: =MIN(#REF!,#REF!) -> #REF! | BJ38: =#REF!-BI38 -> #REF! | BK38: IME IMPORTMEDICAL COLOMBIA SAS
A39: 30 | B39: AGUJA PARA PUNCION LUMBAR N. 20 | C39: 1 UNIDAD DE AGUJA | D39: 1 | E39: UN | F39: 4000 | G39: 63.666667 | H39: =VLOOKUP($A39,[1]Hoja1!$A$3:$G$271,6,0) -> 0 | I39: =VLOOKUP($A39,[1]Hoja1!$A$3:$G$271,7,0) -> 0 | J39: =H39+I39 -> 0 | K39: =$D39*J39 -> 0 | L39: =VLOOKUP($A39,[2]Hoja1!$A$3:$G$271,6,0) -> 0 | M39: =VLOOKUP($A39,[2]Hoja1!$A$3:$G$271,7,0) -> 0 | N39: =L39+M39 -> 0 | O39: =$D39*N39 -> 0 | P39: =VLOOKUP($A39,[3]Hoja1!$A$3:$M$271,12,0) -> 4175 | Q39: =VLOOKUP($A39,[3]Hoja1!$A$3:$M$271,13,0) -> 0 | R39: =P39+Q39 -> 4175 | S39: =$D39*R39 -> 4175 | T39: =VLOOKUP($A39,[4]Hoja1!$A$3:$G$271,6,0) -> 10886 | U39: =VLOOKUP($A39,[4]Hoja1!$A$3:$G$271,7,0) -> 0 | V39: =T39+U39 -> 10886 | W39: =$D39*V39 -> 10886 | X39: =VLOOKUP($A39,[5]Hoja1!$A$3:$G$271,6,0) -> 0 | Y39: =VLOOKUP($A39,[5]Hoja1!$A$3:$G$271,7,0) -> 0 | Z39: =X39+Y39 -> 0 | AA39: =$D39*Z39 -> 0 | AB39: =VLOOKUP($A39,[6]Hoja1!$A$3:$G$271,6,0) -> 0 | AC39: =VLOOKUP($A39,[6]Hoja1!$A$3:$G$271,7,0) -> 0 | AD39: =AB39+AC39 -> 0 | AE39: =$D39*AD39 -> 0 | AF39: =VLOOKUP($A39,[7]Hoja1!$A$3:$M$271,12,0) -> 0 | AG39: =VLOOKUP($A39,[7]Hoja1!$A$3:$M$271,13,0) -> 0 | AH39: =AF39+AG39 -> 0 | AI39: =$D39*AH39 -> 0 | AJ39: =VLOOKUP($A39,[8]Hoja1!$A$3:$G$271,6,0) -> 4610 | AK39: =VLOOKUP($A39,[8]Hoja1!$A$3:$G$271,7,0) -> 0 | AL39: =AJ39+AK39 -> 4610 | AM39: =$D39*AL39 -> 4610 | AN39: =VLOOKUP($A39,[9]Hoja1!$A$5:$G$273,6,0) -> 10989 | AO39: =VLOOKUP($A39,[9]Hoja1!$A$5:$G$273,7,0) -> 0 | AP39: =AN39+AO39 -> 10989 | AQ39: =$D39*AP39 -> 10989 | AR39: =VLOOKUP($A39,[10]Hoja1!$A$3:$M$271,12,0) -> 0 | AS39: =VLOOKUP($A39,[10]Hoja1!$A$3:$M$271,13,0) -> 0 | AT39: =AR39+AS39 -> 0 | AU39: =$D39*AT39 -> 0 | AV39: =VLOOKUP($A39,[11]Hoja1!$A$3:$M$271,12,0) -> 0 | AW39: =VLOOKUP($A39,[11]Hoja1!$A$3:$M$271,13,0) -> 0 | AX39: =AV39+AW39 -> 0 | AY39: =$D39*AX39 -> 0 | AZ39: =VLOOKUP($A39,[12]Hoja1!$A$3:$M$271,12,0) -> 0 | BA39: =VLOOKUP($A39,[12]Hoja1!$A$3:$M$271,13,0) -> 0 | BB39: =AZ39+BA39 -> 0 | BC39: =$D39*BB39 -> 0 | BF39: NO CUMPLE PRECIO MINIMO DE REFERENCIA | BI39: =#REF! -> #REF! | BJ39: =BI39-#REF! -> #REF! | BK39: IME IMPORTMEDICAL COLOMBIA SAS
A40: 31 | B40: AGUJA PARA PUNCION LUMBAR N. 22 | C40: 1 UNIDAD DE AGUJA | D40: 1 | E40: UN | F40: 4000 | G40: 45.666667 | H40: =VLOOKUP($A40,[1]Hoja1!$A$3:$G$271,6,0) -> 0 | I40: =VLOOKUP($A40,[1]Hoja1!$A$3:$G$271,7,0) -> 0 | J40: =H40+I40 -> 0 | K40: =$D40*J40 -> 0 | L40: =VLOOKUP($A40,[2]Hoja1!$A$3:$G$271,6,0) -> 0 | M40: =VLOOKUP($A40,[2]Hoja1!$A$3:$G$271,7,0) -> 0 | N40: =L40+M40 -> 0 | O40: =$D40*N40 -> 0 | P40: =VLOOKUP($A40,[3]Hoja1!$A$3:$M$271,12,0) -> 4175 | Q40: =VLOOKUP($A40,[3]Hoja1!$A$3:$M$271,13,0) -> 0 | R40: =P40+Q40 -> 4175 | S40: =$D40*R40 -> 4175 | T40: =VLOOKUP($A40,[4]Hoja1!$A$3:$G$271,6,0) -> 10886 | U40: =VLOOKUP($A40,[4]Hoja1!$A$3:$G$271,7,0) -> 0 | V40: =T40+U40 -> 10886 | W40: =$D40*V40 -> 10886 | X40: =VLOOKUP($A40,[5]Hoja1!$A$3:$G$271,6,0) -> 0 | Y40: =VLOOKUP($A40,[5]Hoja1!$A$3:$G$271,7,0) -> 0 | Z40: =X40+Y40 -> 0 | AA40: =$D40*Z40 -> 0 | AB40: =VLOOKUP($A40,[6]Hoja1!$A$3:$G$271,6,0) -> 0 | AC40: =VLOOKUP($A40,[6]Hoja1!$A$3:$G$271,7,0) -> 0 | AD40: =AB40+AC40 -> 0 | AE40: =$D40*AD40 -> 0 | AF40: =VLOOKUP($A40,[7]Hoja1!$A$3:$M$271,12,0) -> 0 | AG40: =VLOOKUP($A40,[7]Hoja1!$A$3:$M$271,13,0) -> 0 | AH40: =AF40+AG40 -> 0 | AI40: =$D40*AH40 -> 0 | AJ40: =VLOOKUP($A40,[8]Hoja1!$A$3:$G$271,6,0) -> 4610 | AK40: =VLOOKUP($A40,[8]Hoja1!$A$3:$G$271,7,0) -> 0 | AL40: =AJ40+AK40 -> 4610 | AM40: =$D40*AL40 -> 4610 | AN40: =VLOOKUP($A40,[9]Hoja1!$A$5:$G$273,6,0) -> 10989 | AO40: =VLOOKUP($A40,[9]Hoja1!$A$5:$G$273,7,0) -> 0 | AP40: =AN40+AO40 -> 10989 | AQ40: =$D40*AP40 -> 10989 | AR40: =VLOOKUP($A40,[10]Hoja1!$A$3:$M$271,12,0) -> 0 | AS40: =VLOOKUP($A40,[10]Hoja1!$A$3:$M$271,13,0) -> 0 | AT40: =AR40+AS40 -> 0 | AU40: =$D40*AT40 -> 0 | AV40: =VLOOKUP($A40,[11]Hoja1!$A$3:$M$271,12,0) -> 0 | AW40: =VLOOKUP($A40,[11]Hoja1!$A$3:$M$271,13,0) -> 0 | AX40: =AV40+AW40 -> 0 | AY40: =$D40*AX40 -> 0 | AZ40: =VLOOKUP($A40,[12]Hoja1!$A$3:$M$271,12,0) -> 0 | BA40: =VLOOKUP($A40,[12]Hoja1!$A$3:$M$271,13,0) -> 0 | BB40: =AZ40+BA40 -> 0 | BC40: =$D40*BB40 -> 0 | BD40: =MIN(#REF!,#REF!) -> #REF! | BE40: =BD40-#REF! -> #REF! | BF40: IME IMPORTMEDICAL COLOMBIA SAS | BI40: =MIN(#REF!,#REF!) -> #REF! | BJ40: =BI40-#REF! -> #REF! | BK40: IME IMPORTMEDICAL COLOMBIA SAS
A41: 32 | B41: AGUJA PARA PUNCION LUMBAR NO. 25 | C41: 1 UNIDAD DE AGUJA | D41: 1 | E41: UN | F41: 4023 | G41: 54 | H41: =VLOOKUP($A41,[1]Hoja1!$A$3:$G$271,6,0) -> 0 | I41: =VLOOKUP($A41,[1]Hoja1!$A$3:$G$271,7,0) -> 0 | J41: =H41+I41 -> 0 | K41: =$D41*J41 -> 0 | L41: =VLOOKUP($A41,[2]Hoja1!$A$3:$G$271,6,0) -> 0 | M41: =VLOOKUP($A41,[2]Hoja1!$A$3:$G$271,7,0) -> 0 | N41: =L41+M41 -> 0 | O41: =$D41*N41 -> 0 | P41: =VLOOKUP($A41,[3]Hoja1!$A$3:$M$271,12,0) -> 4175 | Q41: =VLOOKUP($A41,[3]Hoja1!$A$3:$M$271,13,0) -> 0 | R41: =P41+Q41 -> 4175 | S41: =$D41*R41 -> 4175 | T41: =VLOOKUP($A41,[4]Hoja1!$A$3:$G$271,6,0) -> 9227 | U41: =VLOOKUP($A41,[4]Hoja1!$A$3:$G$271,7,0) -> 0 | V41: =T41+U41 -> 9227 | W41: =$D41*V41 -> 9227 | X41: =VLOOKUP($A41,[5]Hoja1!$A$3:$G$271,6,0) -> 0 | Y41: =VLOOKUP($A41,[5]Hoja1!$A$3:$G$271,7,0) -> 0 | Z41: =X41+Y41 -> 0 | AA41: =$D41*Z41 -> 0 | AB41: =VLOOKUP($A41,[6]Hoja1!$A$3:$G$271,6,0) -> 0 | AC41: =VLOOKUP($A41,[6]Hoja1!$A$3:$G$271,7,0) -> 0 | AD41: =AB41+AC41 -> 0 | AE41: =$D41*AD41 -> 0 | AF41: =VLOOKUP($A41,[7]Hoja1!$A$3:$M$271,12,0) -> 0 | AG41: =VLOOKUP($A41,[7]Hoja1!$A$3:$M$271,13,0) -> 0 | AH41: =AF41+AG41 -> 0 | AI41: =$D41*AH41 -> 0 | AJ41: =VLOOKUP($A41,[8]Hoja1!$A$3:$G$271,6,0) -> 4610 | AK41: =VLOOKUP($A41,[8]Hoja1!$A$3:$G$271,7,0) -> 0 | AL41: =AJ41+AK41 -> 4610 | AM41: =$D41*AL41 -> 4610 | AN41: =VLOOKUP($A41,[9]Hoja1!$A$5:$G$273,6,0) -> 9227 | AO41: =VLOOKUP($A41,[9]Hoja1!$A$5:$G$273,7,0) -> 0 | AP41: =AN41+AO41 -> 9227 | AQ41: =$D41*AP41 -> 9227 | AR41: =VLOOKUP($A41,[10]Hoja1!$A$3:$M$271,12,0) -> 0 | AS41: =VLOOKUP($A41,[10]Hoja1!$A$3:$M$271,13,0) -> 0 | AT41: =AR41+AS41 -> 0 | AU41: =$D41*AT41 -> 0 | AV41: =VLOOKUP($A41,[11]Hoja1!$A$3:$M$271,12,0) -> 0 | AW41: =VLOOKUP($A41,[11]Hoja1!$A$3:$M$271,13,0) -> 0 | AX41: =AV41+AW41 -> 0 | AY41: =$D41*AX41 -> 0 | AZ41: =VLOOKUP($A41,[12]Hoja1!$A$3:$M$271,12,0) -> 0 | BA41: =VLOOKUP($A41,[12]Hoja1!$A$3:$M$271,13,0) -> 0 | BB41: =AZ41+BA41 -> 0 | BC41: =$D41*BB41 -> 0 | BD41: =MIN(#REF!,#REF!) -> #REF! | BE41: =BD41-#REF! -> #REF! | BF41: IME IMPORTMEDICAL COLOMBIA SAS | BI41: =MIN(#REF!,#REF!) -> #REF! | BJ41: =BI41-#REF! -> #REF! | BK41: IME IMPORTMEDICAL COLOMBIA SAS
A42: 33 | B42: ASA POLIPECTOMIA OVALADA | C42: 1 UNIDAD DE ASA | D42: 1 | E42: UN | F42: 101534 | G42: 0.33333333 | H42: =VLOOKUP($A42,[1]Hoja1!$A$3:$G$271,6,0) -> 0 | I42: =VLOOKUP($A42,[1]Hoja1!$A$3:$G$271,7,0) -> 0 | J42: =H42+I42 -> 0 | K42: =$D42*J42 -> 0 | L42: =VLOOKUP($A42,[2]Hoja1!$A$3:$G$271,6,0) -> 0 | M42: =VLOOKUP($A42,[2]Hoja1!$A$3:$G$271,7,0) -> 0 | N42: =L42+M42 -> 0 | O42: =$D42*N42 -> 0 | P42: =VLOOKUP($A42,[3]Hoja1!$A$3:$M$271,12,0) -> 0 | Q42: =VLOOKUP($A42,[3]Hoja1!$A$3:$M$271,13,0) -> 0 | R42: =P42+Q42 -> 0 | S42: =$D42*R42 -> 0 | T42: =VLOOKUP($A42,[4]Hoja1!$A$3:$G$271,6,0) -> 105682 | U42: =T42*0.19 -> 20079.58 | V42: =T42+U42 -> 125761.58 | W42: =$D42*V42 -> 125761.58 | X42: =VLOOKUP($A42,[5]Hoja1!$A$3:$G$271,6,0) -> 0 | Y42: =VLOOKUP($A42,[5]Hoja1!$A$3:$G$271,7,0) -> 0 | Z42: =X42+Y42 -> 0 | AA42: =$D42*Z42 -> 0 | AB42: =VLOOKUP($A42,[6]Hoja1!$A$3:$G$271,6,0) -> 0 | AC42: =VLOOKUP($A42,[6]Hoja1!$A$3:$G$271,7,0) -> 0 | AD42: =AB42+AC42 -> 0 | AE42: =$D42*AD42 -> 0 | AF42: =VLOOKUP($A42,[7]Hoja1!$A$3:$M$271,12,0) -> 0 | AG42: =VLOOKUP($A42,[7]Hoja1!$A$3:$M$271,13,0) -> 0 | AH42: =AF42+AG42 -> 0 | AI42: =$D42*AH42 -> 0 | AJ42: =VLOOKUP($A42,[8]Hoja1!$A$3:$G$271,6,0) -> 0 | AK42: =VLOOKUP($A42,[8]Hoja1!$A$3:$G$271,7,0) -> 0 | AL42: =AJ42+AK42 -> 0 | AM42: =$D42*AL42 -> 0 | AN42: =VLOOKUP($A42,[9]Hoja1!$A$5:$G$273,6,0) -> 0 | AO42: =VLOOKUP($A42,[9]Hoja1!$A$5:$G$273,7,0) -> 0 | AP42: =AN42+AO42 -> 0 | AQ42: =$D42*AP42 -> 0 | AR42: =VLOOKUP($A42,[10]Hoja1!$A$3:$M$271,12,0) -> 0 | AS42: =VLOOKUP($A42,[10]Hoja1!$A$3:$M$271,13,0) -> 0 | AT42: =AR42+AS42 -> 0 | AU42: =$D42*AT42 -> 0 | AV42: =VLOOKUP($A42,[11]Hoja1!$A$3:$M$271,12,0) -> 0 | AW42: =VLOOKUP($A42,[11]Hoja1!$A$3:$M$271,13,0) -> 0 | AX42: =AV42+AW42 -> 0 | AY42: =$D42*AX42 -> 0 | AZ42: =VLOOKUP($A42,[12]Hoja1!$A$3:$M$271,12,0) -> 0 | BA42: =VLOOKUP($A42,[12]Hoja1!$A$3:$M$271,13,0) -> 0 | BB42: =AZ42+BA42 -> 0 | BC42: =$D42*BB42 -> 0 | BD42: =MIN(#REF!,#REF!) -> #REF! | BE42: =BD42-#REF! -> #REF! | BF42: IME IMPORTMEDICAL COLOMBIA SAS | BI42: =MIN(#REF!,#REF!) -> #REF! | BJ42: =BI42-#REF! -> #REF! | BK42: IME IMPORTMEDICAL COLOMBIA SAS
A43: 34 | B43: BOQUILLA PLASTICA PARA ENDOSCOPIA ADULTO REUSABLE | C43: 1 UNIDAD DE BOQUILLA | D43: 1 | E43: UN | F43: 64387 | G43: 1 | H43: =VLOOKUP($A43,[1]Hoja1!$A$3:$G$271,6,0) -> 0 | I43: =VLOOKUP($A43,[1]Hoja1!$A$3:$G$271,7,0) -> 0 | J43: =H43+I43 -> 0 | K43: =$D43*J43 -> 0 | L43: =VLOOKUP($A43,[2]Hoja1!$A$3:$G$271,6,0) -> 0 | M43: =VLOOKUP($A43,[2]Hoja1!$A$3:$G$271,7,0) -> 0 | N43: =L43+M43 -> 0 | O43: =$D43*N43 -> 0 | P43: =VLOOKUP($A43,[3]Hoja1!$A$3:$M$271,12,0) -> 0 | Q43: =VLOOKUP($A43,[3]Hoja1!$A$3:$M$271,13,0) -> 0 | R43: =P43+Q43 -> 0 | S43: =$D43*R43 -> 0 | T43: =VLOOKUP($A43,[4]Hoja1!$A$3:$G$271,6,0) -> 0 | U43: =VLOOKUP($A43,[4]Hoja1!$A$3:$G$271,7,0) -> 0 | V43: =T43+U43 -> 0 | W43: =$D43*V43 -> 0 | X43: =VLOOKUP($A43,[5]Hoja1!$A$3:$G$271,6,0) -> 0 | Y43: =VLOOKUP($A43,[5]Hoja1!$A$3:$G$271,7,0) -> 0 | Z43: =X43+Y43 -> 0 | AA43: =$D43*Z43 -> 0 | AB43: =VLOOKUP($A43,[6]Hoja1!$A$3:$G$271,6,0) -> 24700 | AC43: =AB43*0.19 -> 4693 | AD43: =AB43+AC43 -> 29393 | AE43: =$D43*AD43 -> 29393 | AF43: =VLOOKUP($A43,[7]Hoja1!$A$3:$M$271,12,0) -> 0 | AG43: =VLOOKUP($A43,[7]Hoja1!$A$3:$M$271,13,0) -> 0 | AH43: =AF43+AG43 -> 0 | AI43: =$D43*AH43 -> 0 | AJ43: =VLOOKUP($A43,[8]Hoja1!$A$3:$G$271,6,0) -> 0 | AK43: =VLOOKUP($A43,[8]Hoja1!$A$3:$G$271,7,0) -> 0 | AL43: =AJ43+AK43 -> 0 | AM43: =$D43*AL43 -> 0 | AN43: =VLOOKUP($A43,[9]Hoja1!$A$5:$G$273,6,0) -> 0 | AO43: =VLOOKUP($A43,[9]Hoja1!$A$5:$G$273,7,0) -> 0 | AP43: =AN43+AO43 -> 0 | AQ43: =$D43*AP43 -> 0 | AR43: =VLOOKUP($A43,[10]Hoja1!$A$3:$M$271,12,0) -> 0 | AS43: =VLOOKUP($A43,[10]Hoja1!$A$3:$M$271,13,0) -> 0 | AT43: =AR43+AS43 -> 0 | AU43: =$D43*AT43 -> 0 | AV43: =VLOOKUP($A43,[11]Hoja1!$A$3:$M$271,12,0) -> 0 | AW43: =VLOOKUP($A43,[11]Hoja1!$A$3:$M$271,13,0) -> 0 | AX43: =AV43+AW43 -> 0 | AY43: =$D43*AX43 -> 0 | AZ43: =VLOOKUP($A43,[12]Hoja1!$A$3:$M$271,12,0) -> 0 | BA43: =VLOOKUP($A43,[12]Hoja1!$A$3:$M$271,13,0) -> 0 | BB43: =AZ43+BA43 -> 0 | BC43: =$D43*BB43 -> 0 | BD43: =MIN(#REF!,#REF!) -> #REF! | BE43: =BD43-#REF! -> #REF! | BF43: IME IMPORTMEDICAL COLOMBIA SAS | BI43: =MIN(#REF!,#REF!) -> #REF! | BJ43: =BI43-#REF! -> #REF! | BK43: IME IMPORTMEDICAL COLOMBIA SAS
A44: 35 | B44: BOQUILLA PLASTICA PARA ENDOSCOPIA PEDIATRICA REUSABLE | C44: 1 UNIDAD DE BOQUILLA | D44: 1 | E44: UN | G44: 1 | H44: =VLOOKUP($A44,[1]Hoja1!$A$3:$G$271,6,0) -> 0 | I44: =VLOOKUP($A44,[1]Hoja1!$A$3:$G$271,7,0) -> 0 | J44: =H44+I44 -> 0 | K44: =$D44*J44 -> 0 | L44: =VLOOKUP($A44,[2]Hoja1!$A$3:$G$271,6,0) -> 0 | M44: =VLOOKUP($A44,[2]Hoja1!$A$3:$G$271,7,0) -> 0 | N44: =L44+M44 -> 0 | O44: =$D44*N44 -> 0 | P44: =VLOOKUP($A44,[3]Hoja1!$A$3:$M$271,12,0) -> 0 | Q44: =VLOOKUP($A44,[3]Hoja1!$A$3:$M$271,13,0) -> 0 | R44: =P44+Q44 -> 0 | S44: =$D44*R44 -> 0 | T44: =VLOOKUP($A44,[4]Hoja1!$A$3:$G$271,6,0) -> 0 | U44: =VLOOKUP($A44,[4]Hoja1!$A$3:$G$271,7,0) -> 0 | V44: =T44+U44 -> 0 | W44: =$D44*V44 -> 0 | X44: =VLOOKUP($A44,[5]Hoja1!$A$3:$G$271,6,0) -> 0 | Y44: =VLOOKUP($A44,[5]Hoja1!$A$3:$G$271,7,0) -> 0 | Z44: =X44+Y44 -> 0 | AA44: =$D44*Z44 -> 0 | AB44: =VLOOKUP($A44,[6]Hoja1!$A$3:$G$271,6,0) -> 37000 | AC44: =AB44*0.19 -> 7030 | AD44: =AB44+AC44 -> 44030 | AE44: =$D44*AD44 -> 44030 | AF44: =VLOOKUP($A44,[7]Hoja1!$A$3:$M$271,12,0) -> 0 | AG44: =VLOOKUP($A44,[7]Hoja1!$A$3:$M$271,13,0) -> 0 | AH44: =AF44+AG44 -> 0 | AI44: =$D44*AH44 -> 0 | AJ44: =VLOOKUP($A44,[8]Hoja1!$A$3:$G$271,6,0) -> 0 | AK44: =VLOOKUP($A44,[8]Hoja1!$A$3:$G$271,7,0) -> 0 | AL44: =AJ44+AK44 -> 0 | AM44: =$D44*AL44 -> 0 | AN44: =VLOOKUP($A44,[9]Hoja1!$A$5:$G$273,6,0) -> 0 | AO44: =VLOOKUP($A44,[9]Hoja1!$A$5:$G$273,7,0) -> 0 | AP44: =AN44+AO44 -> 0 | AQ44: =$D44*AP44 -> 0 | AR44: =VLOOKUP($A44,[10]Hoja1!$A$3:$M$271,12,0) -> 0 | AS44: =VLOOKUP($A44,[10]Hoja1!$A$3:$M$271,13,0) -> 0 | AT44: =AR44+AS44 -> 0 | AU44: =$D44*AT44 -> 0 | AV44: =VLOOKUP($A44,[11]Hoja1!$A$3:$M$271,12,0) -> 0 | AW44: =VLOOKUP($A44,[11]Hoja1!$A$3:$M$271,13,0) -> 0 | AX44: =AV44+AW44 -> 0 | AY44: =$D44*AX44 -> 0 | AZ44: =VLOOKUP($A44,[12]Hoja1!$A$3:$M$271,12,0) -> 0 | BA44: =VLOOKUP($A44,[12]Hoja1!$A$3:$M$271,13,0) -> 0 | BB44: =AZ44+BA44 -> 0 | BC44: =$D44*BB44 -> 0 | BD44: =MIN(#REF!,#REF!) -> #REF! | BE44: =BD44-#REF! -> #REF! | BF44: IME IMPORTMEDICAL COLOMBIA SAS | BI44: =MIN(#REF!,#REF!) -> #REF! | BJ44: =BI44-#REF! -> #REF! | BK44: IME IMPORTMEDICAL COLOMBIA SAS
A45: 36 | B45: BOQUILLAS DESECHABLES ADULTO 48 F BANDA DE CAUCHO INTERNA CON VELCRO | C45: 1 UNIDAD DE BOQUILLA | D45: 1 | E45: UN | F45: 15827 | G45: 1 | H45: =VLOOKUP($A45,[1]Hoja1!$A$3:$G$271,6,0) -> 0 | I45: =VLOOKUP($A45,[1]Hoja1!$A$3:$G$271,7,0) -> 0 | J45: =H45+I45 -> 0 | K45: =$D45*J45 -> 0 | L45: =VLOOKUP($A45,[2]Hoja1!$A$3:$G$271,6,0) -> 0 | M45: =VLOOKUP($A45,[2]Hoja1!$A$3:$G$271,7,0) -> 0 | N45: =L45+M45 -> 0 | O45: =$D45*N45 -> 0 | P45: =VLOOKUP($A45,[3]Hoja1!$A$3:$M$271,12,0) -> 0 | Q45: =VLOOKUP($A45,[3]Hoja1!$A$3:$M$271,13,0) -> 0 | R45: =P45+Q45 -> 0 | S45: =$D45*R45 -> 0 | T45: =VLOOKUP($A45,[4]Hoja1!$A$3:$G$271,6,0) -> 0 | U45: =VLOOKUP($A45,[4]Hoja1!$A$3:$G$271,7,0) -> 0 | V45: =T45+U45 -> 0 | W45: =$D45*V45 -> 0 | X45: =VLOOKUP($A45,[5]Hoja1!$A$3:$G$271,6,0) -> 0 | Y45: =VLOOKUP($A45,[5]Hoja1!$A$3:$G$271,7,0) -> 0 | Z45: =X45+Y45 -> 0 | AA45: =$D45*Z45 -> 0 | AB45: =VLOOKUP($A45,[6]Hoja1!$A$3:$G$271,6,0) -> 28000 | AC45: =AB45*0.19 -> 5320 | AD45: =AB45+AC45 -> 33320 | AE45: =$D45*AD45 -> 33320 | AF45: =VLOOKUP($A45,[7]Hoja1!$A$3:$M$271,12,0) -> 0 | AG45: =VLOOKUP($A45,[7]Hoja1!$A$3:$M$271,13,0) -> 0 | AH45: =AF45+AG45 -> 0 | AI45: =$D45*AH45 -> 0 | AJ45: =VLOOKUP($A45,[8]Hoja1!$A$3:$G$271,6,0) -> 0 | AK45: =VLOOKUP($A45,[8]Hoja1!$A$3:$G$271,7,0) -> 0 | AL45: =AJ45+AK45 -> 0 | AM45: =$D45*AL45 -> 0 | AN45: =VLOOKUP($A45,[9]Hoja1!$A$5:$G$273,6,0) -> 0 | AO45: =VLOOKUP($A45,[9]Hoja1!$A$5:$G$273,7,0) -> 0 | AP45: =AN45+AO45 -> 0 | AQ45: =$D45*AP45 -> 0 | AR45: =VLOOKUP($A45,[10]Hoja1!$A$3:$M$271,12,0) -> 0 | AS45: =VLOOKUP($A45,[10]Hoja1!$A$3:$M$271,13,0) -> 0 | AT45: =AR45+AS45 -> 0 | AU45: =$D45*AT45 -> 0 | AV45: =VLOOKUP($A45,[11]Hoja1!$A$3:$M$271,12,0) -> 0 | AW45: =VLOOKUP($A45,[11]Hoja1!$A$3:$M$271,13,0) -> 0 | AX45: =AV45+AW45 -> 0 | AY45: =$D45*AX45 -> 0 | AZ45: =VLOOKUP($A45,[12]Hoja1!$A$3:$M$271,12,0) -> 0 | BA45: =VLOOKUP($A45,[12]Hoja1!$A$3:$M$271,13,0) -> 0 | BB45: =AZ45+BA45 -> 0 | BC45: =$D45*BB45 -> 0 | BD45: =MIN(#REF!,#REF!) -> #REF! | BE45: =BD45-#REF! -> #REF! | BF45: IME IMPORTMEDICAL COLOMBIA SAS | BI45: =MIN(#REF!,#REF!) -> #REF! | BJ45: =BI45-#REF! -> #REF! | BK45: IME IMPORTMEDICAL COLOMBIA SAS
A46: 37 | B46: CANULA DE TRAQUEOSTOMIA 2.5 SIN BALON TERMOSENSIBLE QUE PERMITA MAYOR ADAPTACION | C46: 1 UNIDAD DE CANULA | D46: 1 | E46: UN | F46: 421872 | G46: 1 | H46: =VLOOKUP($A46,[1]Hoja1!$A$3:$G$271,6,0) -> 0 | I46: =VLOOKUP($A46,[1]Hoja1!$A$3:$G$271,7,0) -> 0 | J46: =H46+I46 -> 0 | K46: =$D46*J46 -> 0 | L46: =VLOOKUP($A46,[2]Hoja1!$A$3:$G$271,6,0) -> 0 | M46: =VLOOKUP($A46,[2]Hoja1!$A$3:$G$271,7,0) -> 0 | N46: =L46+M46 -> 0 | O46: =$D46*N46 -> 0 | P46: =VLOOKUP($A46,[3]Hoja1!$A$3:$M$271,12,0) -> 0 | Q46: =VLOOKUP($A46,[3]Hoja1!$A$3:$M$271,13,0) -> 0 | R46: =P46+Q46 -> 0 | S46: =$D46*R46 -> 0 | T46: =VLOOKUP($A46,[4]Hoja1!$A$3:$G$271,6,0) -> 117045 | U46: =VLOOKUP($A46,[4]Hoja1!$A$3:$G$271,7,0) -> 0 | V46: =T46+U46 -> 117045 | W46: =$D46*V46 -> 117045 | X46: =VLOOKUP($A46,[5]Hoja1!$A$3:$G$271,6,0) -> 0 | Y46: =VLOOKUP($A46,[5]Hoja1!$A$3:$G$271,7,0) -> 0 | Z46: =X46+Y46 -> 0 | AA46: =$D46*Z46 -> 0 | AB46: =VLOOKUP($A46,[6]Hoja1!$A$3:$G$271,6,0) -> 0 | AC46: =VLOOKUP($A46,[6]Hoja1!$A$3:$G$271,7,0) -> 0 | AD46: =AB46+AC46 -> 0 | AE46: =$D46*AD46 -> 0 | AF46: =VLOOKUP($A46,[7]Hoja1!$A$3:$M$271,12,0) -> 0 | AG46: =VLOOKUP($A46,[7]Hoja1!$A$3:$M$271,13,0) -> 0 | AH46: =AF46+AG46 -> 0 | AI46: =$D46*AH46 -> 0 | AJ46: =VLOOKUP($A46,[8]Hoja1!$A$3:$G$271,6,0) -> 0 | AK46: =VLOOKUP($A46,[8]Hoja1!$A$3:$G$271,7,0) -> 0 | AL46: =AJ46+AK46 -> 0 | AM46: =$D46*AL46 -> 0 | AN46: =VLOOKUP($A46,[9]Hoja1!$A$5:$G$273,6,0) -> 0 | AO46: =VLOOKUP($A46,[9]Hoja1!$A$5:$G$273,7,0) -> 0 | AP46: =AN46+AO46 -> 0 | AQ46: =$D46*AP46 -> 0 | AR46: =VLOOKUP($A46,[10]Hoja1!$A$3:$M$271,12,0) -> 0 | AS46: =VLOOKUP($A46,[10]Hoja1!$A$3:$M$271,13,0) -> 0 | AT46: =AR46+AS46 -> 0 | AU46: =$D46*AT46 -> 0 | AV46: =VLOOKUP($A46,[11]Hoja1!$A$3:$M$271,12,0) -> 0 | AW46: =VLOOKUP($A46,[11]Hoja1!$A$3:$M$271,13,0) -> 0 | AX46: =AV46+AW46 -> 0 | AY46: =$D46*AX46 -> 0 | AZ46: =VLOOKUP($A46,[12]Hoja1!$A$3:$M$271,12,0) -> 0 | BA46: =VLOOKUP($A46,[12]Hoja1!$A$3:$M$271,13,0) -> 0 | BB46: =AZ46+BA46 -> 0 | BC46: =$D46*BB46 -> 0 | BD46: =MIN(#REF!,#REF!) -> #REF! | BE46: =BD46-#REF! -> #REF! | BF46: IME IMPORTMEDICAL COLOMBIA SAS | BI46: =MIN(#REF!,#REF!) -> #REF! | BJ46: =BI46-#REF! -> #REF! | BK46: IME IMPORTMEDICAL COLOMBIA SAS
A47: 38 | B47: CANULA DE TRAQUEOSTOMIA 5 FENESTRADA | C47: 1 UNIDAD DE CANULA | D47: 1 | E47: UN | F47: 390978 | G47: 1 | H47: =VLOOKUP($A47,[1]Hoja1!$A$3:$G$271,6,0) -> 0 | I47: =VLOOKUP($A47,[1]Hoja1!$A$3:$G$271,7,0) -> 0 | J47: =H47+I47 -> 0 | K47: =$D47*J47 -> 0 | L47: =VLOOKUP($A47,[2]Hoja1!$A$3:$G$271,6,0) -> 0 | M47: =VLOOKUP($A47,[2]Hoja1!$A$3:$G$271,7,0) -> 0 | N47: =L47+M47 -> 0 | O47: =$D47*N47 -> 0 | P47: =VLOOKUP($A47,[3]Hoja1!$A$3:$M$271,12,0) -> 0 | Q47: =VLOOKUP($A47,[3]Hoja1!$A$3:$M$271,13,0) -> 0 | R47: =P47+Q47 -> 0 | S47: =$D47*R47 -> 0 | T47: =VLOOKUP($A47,[4]Hoja1!$A$3:$G$271,6,0) -> 109785 | U47: =VLOOKUP($A47,[4]Hoja1!$A$3:$G$271,7,0) -> 0 | V47: =T47+U47 -> 109785 | W47: =$D47*V47 -> 109785 | X47: =VLOOKUP($A47,[5]Hoja1!$A$3:$G$271,6,0) -> 0 | Y47: =VLOOKUP($A47,[5]Hoja1!$A$3:$G$271,7,0) -> 0 | Z47: =X47+Y47 -> 0 | AA47: =$D47*Z47 -> 0 | AB47: =VLOOKUP($A47,[6]Hoja1!$A$3:$G$271,6,0) -> 0 | AC47: =VLOOKUP($A47,[6]Hoja1!$A$3:$G$271,7,0) -> 0 | AD47: =AB47+AC47 -> 0 | AE47: =$D47*AD47 -> 0 | AF47: =VLOOKUP($A47,[7]Hoja1!$A$3:$M$271,12,0) -> 0 | AG47: =VLOOKUP($A47,[7]Hoja1!$A$3:$M$271,13,0) -> 0 | AH47: =AF47+AG47 -> 0 | AI47: =$D47*AH47 -> 0 | AJ47: =VLOOKUP($A47,[8]Hoja1!$A$3:$G$271,6,0) -> 0 | AK47: =VLOOKUP($A47,[8]Hoja1!$A$3:$G$271,7,0) -> 0 | AL47: =AJ47+AK47 -> 0 | AM47: =$D47*AL47 -> 0 | AN47: =VLOOKUP($A47,[9]Hoja1!$A$5:$G$273,6,0) -> 0 | AO47: =VLOOKUP($A47,[9]Hoja1!$A$5:$G$273,7,0) -> 0 | AP47: =AN47+AO47 -> 0 | AQ47: =$D47*AP47 -> 0 | AR47: =VLOOKUP($A47,[10]Hoja1!$A$3:$M$271,12,0) -> 0 | AS47: =VLOOKUP($A47,[10]Hoja1!$A$3:$M$271,13,0) -> 0 | AT47: =AR47+AS47 -> 0 | AU47: =$D47*AT47 -> 0 | AV47: =VLOOKUP($A47,[11]Hoja1!$A$3:$M$271,12,0) -> 0 | AW47: =VLOOKUP($A47,[11]Hoja1!$A$3:$M$271,13,0) -> 0 | AX47: =AV47+AW47 -> 0 | AY47: =$D47*AX47 -> 0 | AZ47: =VLOOKUP($A47,[12]Hoja1!$A$3:$M$271,12,0) -> 0 | BA47: =VLOOKUP($A47,[12]Hoja1!$A$3:$M$271,13,0) -> 0 | BB47: =AZ47+BA47 -> 0 | BC47: =$D47*BB47 -> 0 | BF47: NO CUMPLE PRECIO MINIMO DE REFERENCIA | BI47: =MIN(#REF!,#REF!) -> #REF! | BJ47: =BI47-#REF! -> #REF! | BK47: BIOCLINICOS DE COLOMBIA SAS
A48: 39 | B48: CATETER VENOSO CENTRAL 1 LUMEN N 18 AD. | C48: 1 UNIDAD DE CATETER | D48: 1 | E48: UN | F48: 60930 | G48: 5 | H48: =VLOOKUP($A48,[1]Hoja1!$A$3:$G$271,6,0) -> 0 | I48: =VLOOKUP($A48,[1]Hoja1!$A$3:$G$271,7,0) -> 0 | J48: =H48+I48 -> 0 | K48: =$D48*J48 -> 0 | L48: =VLOOKUP($A48,[2]Hoja1!$A$3:$G$271,6,0) -> 0 | M48: =VLOOKUP($A48,[2]Hoja1!$A$3:$G$271,7,0) -> 0 | N48: =L48+M48 -> 0 | O48: =$D48*N48 -> 0 | P48: =VLOOKUP($A48,[3]Hoja1!$A$3:$M$271,12,0) -> 0 | Q48: =VLOOKUP($A48,[3]Hoja1!$A$3:$M$271,13,0) -> 0 | R48: =P48+Q48 -> 0 | S48: =$D48*R48 -> 0 | T48: =VLOOKUP($A48,[4]Hoja1!$A$3:$G$271,6,0) -> 0 | U48: =VLOOKUP($A48,[4]Hoja1!$A$3:$G$271,7,0) -> 0 | V48: =T48+U48 -> 0 | W48: =$D48*V48 -> 0 | X48: =VLOOKUP($A48,[5]Hoja1!$A$3:$G$271,6,0) -> 0 | Y48: =VLOOKUP($A48,[5]Hoja1!$A$3:$G$271,7,0) -> 0 | Z48: =X48+Y48 -> 0 | AA48: =$D48*Z48 -> 0 | AB48: =VLOOKUP($A48,[6]Hoja1!$A$3:$G$271,6,0) -> 0 | AC48: =VLOOKUP($A48,[6]Hoja1!$A$3:$G$271,7,0) -> 0 | AD48: =AB48+AC48 -> 0 | AE48: =$D48*AD48 -> 0 | AF48: =VLOOKUP($A48,[7]Hoja1!$A$3:$M$271,12,0) -> 0 | AG48: =VLOOKUP($A48,[7]Hoja1!$A$3:$M$271,13,0) -> 0 | AH48: =AF48+AG48 -> 0 | AI48: =$D48*AH48 -> 0 | AJ48: =VLOOKUP($A48,[8]Hoja1!$A$3:$G$271,6,0) -> 0 | AK48: =VLOOKUP($A48,[8]Hoja1!$A$3:$G$271,7,0) -> 0 | AL48: =AJ48+AK48 -> 0 | AM48: =$D48*AL48 -> 0 | AN48: =VLOOKUP($A48,[9]Hoja1!$A$5:$G$273,6,0) -> 0 | AO48: =VLOOKUP($A48,[9]Hoja1!$A$5:$G$273,7,0) -> 0 | AP48: =AN48+AO48 -> 0 | AQ48: =$D48*AP48 -> 0 | AR48: =VLOOKUP($A48,[10]Hoja1!$A$3:$M$271,12,0) -> 0 | AS48: =VLOOKUP($A48,[10]Hoja1!$A$3:$M$271,13,0) -> 0 | AT48: =AR48+AS48 -> 0 | AU48: =$D48*AT48 -> 0 | AV48: =VLOOKUP($A48,[11]Hoja1!$A$3:$M$271,12,0) -> 0 | AW48: =VLOOKUP($A48,[11]Hoja1!$A$3:$M$271,13,0) -> 0 | AX48: =AV48+AW48 -> 0 | AY48: =$D48*AX48 -> 0 | AZ48: =VLOOKUP($A48,[12]Hoja1!$A$3:$M$271,12,0) -> 0 | BA48: =VLOOKUP($A48,[12]Hoja1!$A$3:$M$271,13,0) -> 0 | BB48: =AZ48+BA48 -> 0 | BC48: =$D48*BB48 -> 0 | BD48: =MIN(#REF!,#REF!) -> #REF! | BE48: =BD48-#REF! -> #REF! | BF48: IME IMPORTMEDICAL COLOMBIA SAS | BI48: =MIN(#REF!,#REF!) -> #REF! | BJ48: =BI48-#REF! -> #REF! | BK48: IME IMPORTMEDICAL COLOMBIA SAS
A49: 40 | B49: CEPILLO PARA LAVADO DE COLONOSCOPIA DESECHABLE | C49: 1 UNIDAD DE CEPILLO | D49: 1 | E49: UN | F49: 8645 | G49: 23.666667 | H49: =VLOOKUP($A49,[1]Hoja1!$A$3:$G$271,6,0) -> 0 | I49: =VLOOKUP($A49,[1]Hoja1!$A$3:$G$271,7,0) -> 0 | J49: =H49+I49 -> 0 | K49: =$D49*J49 -> 0 | L49: =VLOOKUP($A49,[2]Hoja1!$A$3:$G$271,6,0) -> 0 | M49: =VLOOKUP($A49,[2]Hoja1!$A$3:$G$271,7,0) -> 0 | N49: =L49+M49 -> 0 | O49: =$D49*N49 -> 0 | P49: =VLOOKUP($A49,[3]Hoja1!$A$3:$M$271,12,0) -> 0 | Q49: =VLOOKUP($A49,[3]Hoja1!$A$3:$M$271,13,0) -> 0 | R49: =P49+Q49 -> 0 | S49: =$D49*R49 -> 0 | T49: =VLOOKUP($A49,[4]Hoja1!$A$3:$G$271,6,0) -> 0 | U49: =VLOOKUP($A49,[4]Hoja1!$A$3:$G$271,7,0) -> 0 | V49: =T49+U49 -> 0 | W49: =$D49*V49 -> 0 | X49: =VLOOKUP($A49,[5]Hoja1!$A$3:$G$271,6,0) -> 0 | Y49: =VLOOKUP($A49,[5]Hoja1!$A$3:$G$271,7,0) -> 0 | Z49: =X49+Y49 -> 0 | AA49: =$D49*Z49 -> 0 | AB49: =VLOOKUP($A49,[6]Hoja1!$A$3:$G$271,6,0) -> 24672 | AC49: =AB49*0.19 -> 4687.68 | AD49: =AB49+AC49 -> 29359.68 | AE49: =$D49*AD49 -> 29359.68 | AF49: =VLOOKUP($A49,[7]Hoja1!$A$3:$M$271,12,0) -> 0 | AG49: =VLOOKUP($A49,[7]Hoja1!$A$3:$M$271,13,0) -> 0 | AH49: =AF49+AG49 -> 0 | AI49: =$D49*AH49 -> 0 | AJ49: =VLOOKUP($A49,[8]Hoja1!$A$3:$G$271,6,0) -> 0 | AK49: =VLOOKUP($A49,[8]Hoja1!$A$3:$G$271,7,0) -> 0 | AL49: =AJ49+AK49 -> 0 | AM49: =$D49*AL49 -> 0 | AN49: =VLOOKUP($A49,[9]Hoja1!$A$5:$G$273,6,0) -> 0 | AO49: =VLOOKUP($A49,[9]Hoja1!$A$5:$G$273,7,0) -> 0 | AP49: =AN49+AO49 -> 0 | AQ49: =$D49*AP49 -> 0 | AR49: =VLOOKUP($A49,[10]Hoja1!$A$3:$M$271,12,0) -> 0 | AS49: =VLOOKUP($A49,[10]Hoja1!$A$3:$M$271,13,0) -> 0 | AT49: =AR49+AS49 -> 0 | AU49: =$D49*AT49 -> 0 | AV49: =VLOOKUP($A49,[11]Hoja1!$A$3:$M$271,12,0) -> 0 | AW49: =VLOOKUP($A49,[11]Hoja1!$A$3:$M$271,13,0) -> 0 | AX49: =AV49+AW49 -> 0 | AY49: =$D49*AX49 -> 0 | AZ49: =VLOOKUP($A49,[12]Hoja1!$A$3:$M$271,12,0) -> 0 | BA49: =VLOOKUP($A49,[12]Hoja1!$A$3:$M$271,13,0) -> 0 | BB49: =AZ49+BA49 -> 0 | BC49: =$D49*BB49 -> 0
A50: 41 | B50: CEPILLO PARA LAVADO PARA GASTROSCOPIA DESECHABLE | C50: 1 UNIDAD DE CEPILLO | D50: 1 | E50: UN | F50: 8645 | G50: 1 | H50: =VLOOKUP($A50,[1]Hoja1!$A$3:$G$271,6,0) -> 0 | I50: =VLOOKUP($A50,[1]Hoja1!$A$3:$G$271,7,0) -> 0 | J50: =H50+I50 -> 0 | K50: =$D50*J50 -> 0 | L50: =VLOOKUP($A50,[2]Hoja1!$A$3:$G$271,6,0) -> 0 | M50: =VLOOKUP($A50,[2]Hoja1!$A$3:$G$271,7,0) -> 0 | N50: =L50+M50 -> 0 | O50: =$D50*N50 -> 0 | P50: =VLOOKUP($A50,[3]Hoja1!$A$3:$M$271,12,0) -> 0 | Q50: =VLOOKUP($A50,[3]Hoja1!$A$3:$M$271,13,0) -> 0 | R50: =P50+Q50 -> 0 | S50: =$D50*R50 -> 0 | T50: =VLOOKUP($A50,[4]Hoja1!$A$3:$G$271,6,0) -> 0 | U50: =VLOOKUP($A50,[4]Hoja1!$A$3:$G$271,7,0) -> 0 | V50: =T50+U50 -> 0 | W50: =$D50*V50 -> 0 | X50: =VLOOKUP($A50,[5]Hoja1!$A$3:$G$271,6,0) -> 0 | Y50: =VLOOKUP($A50,[5]Hoja1!$A$3:$G$271,7,0) -> 0 | Z50: =X50+Y50 -> 0 | AA50: =$D50*Z50 -> 0 | AB50: =VLOOKUP($A50,[6]Hoja1!$A$3:$G$271,6,0) -> 29400 | AC50: =AB50*0.19 -> 5586 | AD50: =AB50+AC50 -> 34986 | AE50: =$D50*AD50 -> 34986 | AF50: =VLOOKUP($A50,[7]Hoja1!$A$3:$M$271,12,0) -> 0 | AG50: =VLOOKUP($A50,[7]Hoja1!$A$3:$M$271,13,0) -> 0 | AH50: =AF50+AG50 -> 0 | AI50: =$D50*AH50 -> 0 | AJ50: =VLOOKUP($A50,[8]Hoja1!$A$3:$G$271,6,0) -> 0 | AK50: =VLOOKUP($A50,[8]Hoja1!$A$3:$G$271,7,0) -> 0 | AL50: =AJ50+AK50 -> 0 | AM50: =$D50*AL50 -> 0 | AN50: =VLOOKUP($A50,[9]Hoja1!$A$5:$G$273,6,0) -> 0 | AO50: =VLOOKUP($A50,[9]Hoja1!$A$5:$G$273,7,0) -> 0 | AP50: =AN50+AO50 -> 0 | AQ50: =$D50*AP50 -> 0 | AR50: =VLOOKUP($A50,[10]Hoja1!$A$3:$M$271,12,0) -> 0 | AS50: =VLOOKUP($A50,[10]Hoja1!$A$3:$M$271,13,0) -> 0 | AT50: =AR50+AS50 -> 0 | AU50: =$D50*AT50 -> 0 | AV50: =VLOOKUP($A50,[11]Hoja1!$A$3:$M$271,12,0) -> 0 | AW50: =VLOOKUP($A50,[11]Hoja1!$A$3:$M$271,13,0) -> 0 | AX50: =AV50+AW50 -> 0 | AY50: =$D50*AX50 -> 0 | AZ50: =VLOOKUP($A50,[12]Hoja1!$A$3:$M$271,12,0) -> 0 | BA50: =VLOOKUP($A50,[12]Hoja1!$A$3:$M$271,13,0) -> 0 | BB50: =AZ50+BA50 -> 0 | BC50: =$D50*BB50 -> 0
A51: 42 | B51: CIRCUITO DESECHABLE PARA SISTEMA DE REANIMACIÓN NEONATAL QUE INCLUYE MANGUERA LISA PARA OXIGENO Y MASCARA DE (50MM) | C51: 1 UNIDAD DE CIRCUITO INCLUYE MANGUERA Y MASCARA | D51: 1 | E51: UN | F51: 62500 | G51: 0 | H51: =VLOOKUP($A51,[1]Hoja1!$A$3:$G$271,6,0) -> 0 | I51: =VLOOKUP($A51,[1]Hoja1!$A$3:$G$271,7,0) -> 0 | J51: =H51+I51 -> 0 | K51: =$D51*J51 -> 0 | L51: =VLOOKUP($A51,[2]Hoja1!$A$3:$G$271,6,0) -> 0 | M51: =VLOOKUP($A51,[2]Hoja1!$A$3:$G$271,7,0) -> 0 | N51: =L51+M51 -> 0 | O51: =$D51*N51 -> 0 | P51: =VLOOKUP($A51,[3]Hoja1!$A$3:$M$271,12,0) -> 0 | Q51: =VLOOKUP($A51,[3]Hoja1!$A$3:$M$271,13,0) -> 0 | R51: =P51+Q51 -> 0 | S51: =$D51*R51 -> 0 | T51: =VLOOKUP($A51,[4]Hoja1!$A$3:$G$271,6,0) -> 42375 | U51: =VLOOKUP($A51,[4]Hoja1!$A$3:$G$271,7,0) -> 0 | V51: =T51+U51 -> 42375 | W51: =$D51*V51 -> 42375 | X51: =VLOOKUP($A51,[5]Hoja1!$A$3:$G$271,6,0) -> 0 | Y51: =VLOOKUP($A51,[5]Hoja1!$A$3:$G$271,7,0) -> 0 | Z51: =X51+Y51 -> 0 | AA51: =$D51*Z51 -> 0 | AB51: =VLOOKUP($A51,[6]Hoja1!$A$3:$G$271,6,0) -> 0 | AC51: =VLOOKUP($A51,[6]Hoja1!$A$3:$G$271,7,0) -> 0 | AD51: =AB51+AC51 -> 0 | AE51: =$D51*AD51 -> 0 | AF51: =VLOOKUP($A51,[7]Hoja1!$A$3:$M$271,12,0) -> 0 | AG51: =VLOOKUP($A51,[7]Hoja1!$A$3:$M$271,13,0) -> 0 | AH51: =AF51+AG51 -> 0 | AI51: =$D51*AH51 -> 0 | AJ51: =VLOOKUP($A51,[8]Hoja1!$A$3:$G$271,6,0) -> 0 | AK51: =VLOOKUP($A51,[8]Hoja1!$A$3:$G$271,7,0) -> 0 | AL51: =AJ51+AK51 -> 0 | AM51: =$D51*AL51 -> 0 | AN51: =VLOOKUP($A51,[9]Hoja1!$A$5:$G$273,6,0) -> 108936 | AO51: =VLOOKUP($A51,[9]Hoja1!$A$5:$G$273,7,0) -> 0 | AP51: =AN51+AO51 -> 108936 | AQ51: =$D51*AP51 -> 108936 | AR51: =VLOOKUP($A51,[10]Hoja1!$A$3:$M$271,12,0) -> 0 | AS51: =VLOOKUP($A51,[10]Hoja1!$A$3:$M$271,13,0) -> 0 | AT51: =AR51+AS51 -> 0 | AU51: =$D51*AT51 -> 0 | AV51: =VLOOKUP($A51,[11]Hoja1!$A$3:$M$271,12,0) -> 0 | AW51: =VLOOKUP($A51,[11]Hoja1!$A$3:$M$271,13,0) -> 0 | AX51: =AV51+AW51 -> 0 | AY51: =$D51*AX51 -> 0 | AZ51: =VLOOKUP($A51,[12]Hoja1!$A$3:$M$271,12,0) -> 0 | BA51: =VLOOKUP($A51,[12]Hoja1!$A$3:$M$271,13,0) -> 0 | BB51: =AZ51+BA51 -> 0 | BC51: =$D51*BB51 -> 0
A52: 43 | B52: CIRCUITO DESECHABLE PARA SISTEMA DE REANIMACIÓN NEONATAL QUE INCLUYE MANGUERA LISA PARA OXIGENO Y MASCARA DE (60MM) | C52: 1 UNIDAD DE CIRCUITO INCLUYE MANGUERA Y MASCARA | D52: 1 | E52: UN | F52: 62500 | G52: 0 | H52: =VLOOKUP($A52,[1]Hoja1!$A$3:$G$271,6,0) -> 0 | I52: =VLOOKUP($A52,[1]Hoja1!$A$3:$G$271,7,0) -> 0 | J52: =H52+I52 -> 0 | K52: =$D52*J52 -> 0 | L52: =VLOOKUP($A52,[2]Hoja1!$A$3:$G$271,6,0) -> 0 | M52: =VLOOKUP($A52,[2]Hoja1!$A$3:$G$271,7,0) -> 0 | N52: =L52+M52 -> 0 | O52: =$D52*N52 -> 0 | P52: =VLOOKUP($A52,[3]Hoja1!$A$3:$M$271,12,0) -> 0 | Q52: =VLOOKUP($A52,[3]Hoja1!$A$3:$M$271,13,0) -> 0 | R52: =P52+Q52 -> 0 | S52: =$D52*R52 -> 0 | T52: =VLOOKUP($A52,[4]Hoja1!$A$3:$G$271,6,0) -> 48330 | U52: =VLOOKUP($A52,[4]Hoja1!$A$3:$G$271,7,0) -> 0 | V52: =T52+U52 -> 48330 | W52: =$D52*V52 -> 48330 | X52: =VLOOKUP($A52,[5]Hoja1!$A$3:$G$271,6,0) -> 0 | Y52: =VLOOKUP($A52,[5]Hoja1!$A$3:$G$271,7,0) -> 0 | Z52: =X52+Y52 -> 0 | AA52: =$D52*Z52 -> 0 | AB52: =VLOOKUP($A52,[6]Hoja1!$A$3:$G$271,6,0) -> 0 | AC52: =VLOOKUP($A52,[6]Hoja1!$A$3:$G$271,7,0) -> 0 | AD52: =AB52+AC52 -> 0 | AE52: =$D52*AD52 -> 0 | AF52: =VLOOKUP($A52,[7]Hoja1!$A$3:$M$271,12,0) -> 0 | AG52: =VLOOKUP($A52,[7]Hoja1!$A$3:$M$271,13,0) -> 0 | AH52: =AF52+AG52 -> 0 | AI52: =$D52*AH52 -> 0 | AJ52: =VLOOKUP($A52,[8]Hoja1!$A$3:$G$271,6,0) -> 0 | AK52: =VLOOKUP($A52,[8]Hoja1!$A$3:$G$271,7,0) -> 0 | AL52: =AJ52+AK52 -> 0 | AM52: =$D52*AL52 -> 0 | AN52: =VLOOKUP($A52,[9]Hoja1!$A$5:$G$273,6,0) -> 114833 | AO52: =VLOOKUP($A52,[9]Hoja1!$A$5:$G$273,7,0) -> 0 | AP52: =AN52+AO52 -> 114833 | AQ52: =$D52*AP52 -> 114833 | AR52: =VLOOKUP($A52,[10]Hoja1!$A$3:$M$271,12,0) -> 0 | AS52: =VLOOKUP($A52,[10]Hoja1!$A$3:$M$271,13,0) -> 0 | AT52: =AR52+AS52 -> 0 | AU52: =$D52*AT52 -> 0 | AV52: =VLOOKUP($A52,[11]Hoja1!$A$3:$M$271,12,0) -> 0 | AW52: =VLOOKUP($A52,[11]Hoja1!$A$3:$M$271,13,0) -> 0 | AX52: =AV52+AW52 -> 0 | AY52: =$D52*AX52 -> 0 | AZ52: =VLOOKUP($A52,[12]Hoja1!$A$3:$M$271,12,0) -> 0 | BA52: =VLOOKUP($A52,[12]Hoja1!$A$3:$M$271,13,0) -> 0 | BB52: =AZ52+BA52 -> 0 | BC52: =$D52*BB52 -> 0
A53: 44 | B53: CIRCUITO DESECHABLE PARA SISTEMA DE REANIMACIÓN NEONATAL QUE INCLUYE MANGUERA LISA PARA OXIGENO Y MASCARA DE (42MM) | C53: 1 UNIDAD DE CIRCUITO INCLUYE MANGUERA Y MASCARA | D53: 1 | E53: UN | F53: 62500 | G53: 1 | H53: =VLOOKUP($A53,[1]Hoja1!$A$3:$G$271,6,0) -> 0 | I53: =VLOOKUP($A53,[1]Hoja1!$A$3:$G$271,7,0) -> 0 | J53: =H53+I53 -> 0 | K53: =$D53*J53 -> 0 | L53: =VLOOKUP($A53,[2]Hoja1!$A$3:$G$271,6,0) -> 0 | M53: =VLOOKUP($A53,[2]Hoja1!$A$3:$G$271,7,0) -> 0 | N53: =L53+M53 -> 0 | O53: =$D53*N53 -> 0 | P53: =VLOOKUP($A53,[3]Hoja1!$A$3:$M$271,12,0) -> 0 | Q53: =VLOOKUP($A53,[3]Hoja1!$A$3:$M$271,13,0) -> 0 | R53: =P53+Q53 -> 0 | S53: =$D53*R53 -> 0 | T53: =VLOOKUP($A53,[4]Hoja1!$A$3:$G$271,6,0) -> 42375 | U53: =VLOOKUP($A53,[4]Hoja1!$A$3:$G$271,7,0) -> 0 | V53: =T53+U53 -> 42375 | W53: =$D53*V53 -> 42375 | X53: =VLOOKUP($A53,[5]Hoja1!$A$3:$G$271,6,0) -> 0 | Y53: =VLOOKUP($A53,[5]Hoja1!$A$3:$G$271,7,0) -> 0 | Z53: =X53+Y53 -> 0 | AA53: =$D53*Z53 -> 0 | AB53: =VLOOKUP($A53,[6]Hoja1!$A$3:$G$271,6,0) -> 0 | AC53: =VLOOKUP($A53,[6]Hoja1!$A$3:$G$271,7,0) -> 0 | AD53: =AB53+AC53 -> 0 | AE53: =$D53*AD53 -> 0 | AF53: =VLOOKUP($A53,[7]Hoja1!$A$3:$M$271,12,0) -> 0 | AG53: =VLOOKUP($A53,[7]Hoja1!$A$3:$M$271,13,0) -> 0 | AH53: =AF53+AG53 -> 0 | AI53: =$D53*AH53 -> 0 | AJ53: =VLOOKUP($A53,[8]Hoja1!$A$3:$G$271,6,0) -> 0 | AK53: =VLOOKUP($A53,[8]Hoja1!$A$3:$G$271,7,0) -> 0 | AL53: =AJ53+AK53 -> 0 | AM53: =$D53*AL53 -> 0 | AN53: =VLOOKUP($A53,[9]Hoja1!$A$5:$G$273,6,0) -> 108936 | AO53: =VLOOKUP($A53,[9]Hoja1!$A$5:$G$273,7,0) -> 0 | AP53: =AN53+AO53 -> 108936 | AQ53: =$D53*AP53 -> 108936 | AR53: =VLOOKUP($A53,[10]Hoja1!$A$3:$M$271,12,0) -> 0 | AS53: =VLOOKUP($A53,[10]Hoja1!$A$3:$M$271,13,0) -> 0 | AT53: =AR53+AS53 -> 0 | AU53: =$D53*AT53 -> 0 | AV53: =VLOOKUP($A53,[11]Hoja1!$A$3:$M$271,12,0) -> 0 | AW53: =VLOOKUP($A53,[11]Hoja1!$A$3:$M$271,13,0) -> 0 | AX53: =AV53+AW53 -> 0 | AY53: =$D53*AX53 -> 0 | AZ53: =VLOOKUP($A53,[12]Hoja1!$A$3:$M$271,12,0) -> 0 | BA53: =VLOOKUP($A53,[12]Hoja1!$A$3:$M$271,13,0) -> 0 | BB53: =AZ53+BA53 -> 0 | BC53: =$D53*BB53 -> 0
A54: 45 | B54: DREN DE BLAKE NO. 7 CON RESERVORIO | C54: 1 UNIDAD DE DREN | D54: 1 | E54: UN | F54: 89083 | G54: 0 | H54: =VLOOKUP($A54,[1]Hoja1!$A$3:$G$271,6,0) -> 0 | I54: =VLOOKUP($A54,[1]Hoja1!$A$3:$G$271,7,0) -> 0 | J54: =H54+I54 -> 0 | K54: =$D54*J54 -> 0 | L54: =VLOOKUP($A54,[2]Hoja1!$A$3:$G$271,6,0) -> 0 | M54: =VLOOKUP($A54,[2]Hoja1!$A$3:$G$271,7,0) -> 0 | N54: =L54+M54 -> 0 | O54: =$D54*N54 -> 0 | P54: =VLOOKUP($A54,[3]Hoja1!$A$3:$M$271,12,0) -> 0 | Q54: =VLOOKUP($A54,[3]Hoja1!$A$3:$M$271,13,0) -> 0 | R54: =P54+Q54 -> 0 | S54: =$D54*R54 -> 0 | T54: =VLOOKUP($A54,[4]Hoja1!$A$3:$G$271,6,0) -> 0 | U54: =VLOOKUP($A54,[4]Hoja1!$A$3:$G$271,7,0) -> 0 | V54: =T54+U54 -> 0 | W54: =$D54*V54 -> 0 | X54: =VLOOKUP($A54,[5]Hoja1!$A$3:$G$271,6,0) -> 84563 | Y54: 0 | Z54: =X54+Y54 -> 84563 | AA54: =$D54*Z54 -> 84563 | AB54: =VLOOKUP($A54,[6]Hoja1!$A$3:$G$271,6,0) -> 0 | AC54: =VLOOKUP($A54,[6]Hoja1!$A$3:$G$271,7,0) -> 0 | AD54: =AB54+AC54 -> 0 | AE54: =$D54*AD54 -> 0 | AF54: =VLOOKUP($A54,[7]Hoja1!$A$3:$M$271,12,0) -> 0 | AG54: =VLOOKUP($A54,[7]Hoja1!$A$3:$M$271,13,0) -> 0 | AH54: =AF54+AG54 -> 0 | AI54: =$D54*AH54 -> 0 | AJ54: =VLOOKUP($A54,[8]Hoja1!$A$3:$G$271,6,0) -> 0 | AK54: =VLOOKUP($A54,[8]Hoja1!$A$3:$G$271,7,0) -> 0 | AL54: =AJ54+AK54 -> 0 | AM54: =$D54*AL54 -> 0 | AN54: =VLOOKUP($A54,[9]Hoja1!$A$5:$G$273,6,0) -> 0 | AO54: =VLOOKUP($A54,[9]Hoja1!$A$5:$G$273,7,0) -> 0 | AP54: =AN54+AO54 -> 0 | AQ54: =$D54*AP54 -> 0 | AR54: =VLOOKUP($A54,[10]Hoja1!$A$3:$M$271,12,0) -> 0 | AS54: =VLOOKUP($A54,[10]Hoja1!$A$3:$M$271,13,0) -> 0 | AT54: =AR54+AS54 -> 0 | AU54: =$D54*AT54 -> 0 | AV54: =VLOOKUP($A54,[11]Hoja1!$A$3:$M$271,12,0) -> 0 | AW54: =VLOOKUP($A54,[11]Hoja1!$A$3:$M$271,13,0) -> 0 | AX54: =AV54+AW54 -> 0 | AY54: =$D54*AX54 -> 0 | AZ54: =VLOOKUP($A54,[12]Hoja1!$A$3:$M$271,12,0) -> 0 | BA54: =VLOOKUP($A54,[12]Hoja1!$A$3:$M$271,13,0) -> 0 | BB54: =AZ54+BA54 -> 0 | BC54: =$D54*BB54 -> 0
A55: 46 | B55: ELECTRODO LAPAROSCOPICO TIPO GANCHO DE HOOK ANGULACION 90 GRADOS (CAMISA E INSERTO ) REUSABLE PARA SISTEMA MONOPOLAR | C55: 1 UNIDAD DE ELECTRODO | D55: 1 | E55: UN | F55: 451603 | G55: 0 | H55: =VLOOKUP($A55,[1]Hoja1!$A$3:$G$271,6,0) -> 0 | I55: =VLOOKUP($A55,[1]Hoja1!$A$3:$G$271,7,0) -> 0 | J55: =H55+I55 -> 0 | K55: =$D55*J55 -> 0 | L55: =VLOOKUP($A55,[2]Hoja1!$A$3:$G$271,6,0) -> 0 | M55: =VLOOKUP($A55,[2]Hoja1!$A$3:$G$271,7,0) -> 0 | N55: =L55+M55 -> 0 | O55: =$D55*N55 -> 0 | P55: =VLOOKUP($A55,[3]Hoja1!$A$3:$M$271,12,0) -> 0 | Q55: =VLOOKUP($A55,[3]Hoja1!$A$3:$M$271,13,0) -> 0 | R55: =P55+Q55 -> 0 | S55: =$D55*R55 -> 0 | T55: =VLOOKUP($A55,[4]Hoja1!$A$3:$G$271,6,0) -> 0 | U55: =VLOOKUP($A55,[4]Hoja1!$A$3:$G$271,7,0) -> 0 | V55: =T55+U55 -> 0 | W55: =$D55*V55 -> 0 | X55: =VLOOKUP($A55,[5]Hoja1!$A$3:$G$271,6,0) -> 0 | Y55: =VLOOKUP($A55,[5]Hoja1!$A$3:$G$271,7,0) -> 0 | Z55: =X55+Y55 -> 0 | AA55: =$D55*Z55 -> 0 | AB55: =VLOOKUP($A55,[6]Hoja1!$A$3:$G$271,6,0) -> 0 | AC55: =VLOOKUP($A55,[6]Hoja1!$A$3:$G$271,7,0) -> 0 | AD55: =AB55+AC55 -> 0 | AE55: =$D55*AD55 -> 0 | AF55: =VLOOKUP($A55,[7]Hoja1!$A$3:$M$271,12,0) -> 0 | AG55: =VLOOKUP($A55,[7]Hoja1!$A$3:$M$271,13,0) -> 0 | AH55: =AF55+AG55 -> 0 | AI55: =$D55*AH55 -> 0 | AJ55: =VLOOKUP($A55,[8]Hoja1!$A$3:$G$271,6,0) -> 0 | AK55: =VLOOKUP($A55,[8]Hoja1!$A$3:$G$271,7,0) -> 0 | AL55: =AJ55+AK55 -> 0 | AM55: =$D55*AL55 -> 0 | AN55: =VLOOKUP($A55,[9]Hoja1!$A$5:$G$273,6,0) -> 0 | AO55: =VLOOKUP($A55,[9]Hoja1!$A$5:$G$273,7,0) -> 0 | AP55: =AN55+AO55 -> 0 | AQ55: =$D55*AP55 -> 0 | AR55: =VLOOKUP($A55,[10]Hoja1!$A$3:$M$271,12,0) -> 0 | AS55: =VLOOKUP($A55,[10]Hoja1!$A$3:$M$271,13,0) -> 0 | AT55: =AR55+AS55 -> 0 | AU55: =$D55*AT55 -> 0 | AV55: =VLOOKUP($A55,[11]Hoja1!$A$3:$M$271,12,0) -> 0 | AW55: =VLOOKUP($A55,[11]Hoja1!$A$3:$M$271,13,0) -> 0 | AX55: =AV55+AW55 -> 0 | AY55: =$D55*AX55 -> 0 | AZ55: =VLOOKUP($A55,[12]Hoja1!$A$3:$M$271,12,0) -> 0 | BA55: =VLOOKUP($A55,[12]Hoja1!$A$3:$M$271,13,0) -> 0 | BB55: =AZ55+BA55 -> 0 | BC55: =$D55*BB55 -> 0
A56: 47 | B56: ELECTRODO LAPAROSCOPICO TIPO ESPATULA (CAMISA E INSERTO ) REUSABLE PARA SISTEMA MONOPOLAR | C56: 1 UNIDAD DE ELECTRODO | D56: 1 | E56: UN | F56: 470368 | G56: 1 | H56: =VLOOKUP($A56,[1]Hoja1!$A$3:$G$271,6,0) -> 0 | I56: =VLOOKUP($A56,[1]Hoja1!$A$3:$G$271,7,0) -> 0 | J56: =H56+I56 -> 0 | K56: =$D56*J56 -> 0 | L56: =VLOOKUP($A56,[2]Hoja1!$A$3:$G$271,6,0) -> 0 | M56: =VLOOKUP($A56,[2]Hoja1!$A$3:$G$271,7,0) -> 0 | N56: =L56+M56 -> 0 | O56: =$D56*N56 -> 0 | P56: =VLOOKUP($A56,[3]Hoja1!$A$3:$M$271,12,0) -> 0 | Q56: =VLOOKUP($A56,[3]Hoja1!$A$3:$M$271,13,0) -> 0 | R56: =P56+Q56 -> 0 | S56: =$D56*R56 -> 0 | T56: =VLOOKUP($A56,[4]Hoja1!$A$3:$G$271,6,0) -> 0 | U56: =VLOOKUP($A56,[4]Hoja1!$A$3:$G$271,7,0) -> 0 | V56: =T56+U56 -> 0 | W56: =$D56*V56 -> 0 | X56: =VLOOKUP($A56,[5]Hoja1!$A$3:$G$271,6,0) -> 0 | Y56: =VLOOKUP($A56,[5]Hoja1!$A$3:$G$271,7,0) -> 0 | Z56: =X56+Y56 -> 0 | AA56: =$D56*Z56 -> 0 | AB56: =VLOOKUP($A56,[6]Hoja1!$A$3:$G$271,6,0) -> 0 | AC56: =VLOOKUP($A56,[6]Hoja1!$A$3:$G$271,7,0) -> 0 | AD56: =AB56+AC56 -> 0 | AE56: =$D56*AD56 -> 0 | AF56: =VLOOKUP($A56,[7]Hoja1!$A$3:$M$271,12,0) -> 0 | AG56: =VLOOKUP($A56,[7]Hoja1!$A$3:$M$271,13,0) -> 0 | AH56: =AF56+AG56 -> 0 | AI56: =$D56*AH56 -> 0 | AJ56: =VLOOKUP($A56,[8]Hoja1!$A$3:$G$271,6,0) -> 0 | AK56: =VLOOKUP($A56,[8]Hoja1!$A$3:$G$271,7,0) -> 0 | AL56: =AJ56+AK56 -> 0 | AM56: =$D56*AL56 -> 0 | AN56: =VLOOKUP($A56,[9]Hoja1!$A$5:$G$273,6,0) -> 0 | AO56: =VLOOKUP($A56,[9]Hoja1!$A$5:$G$273,7,0) -> 0 | AP56: =AN56+AO56 -> 0 | AQ56: =$D56*AP56 -> 0 | AR56: =VLOOKUP($A56,[10]Hoja1!$A$3:$M$271,12,0) -> 0 | AS56: =VLOOKUP($A56,[10]Hoja1!$A$3:$M$271,13,0) -> 0 | AT56: =AR56+AS56 -> 0 | AU56: =$D56*AT56 -> 0 | AV56: =VLOOKUP($A56,[11]Hoja1!$A$3:$M$271,12,0) -> 0 | AW56: =VLOOKUP($A56,[11]Hoja1!$A$3:$M$271,13,0) -> 0 | AX56: =AV56+AW56 -> 0 | AY56: =$D56*AX56 -> 0 | AZ56: =VLOOKUP($A56,[12]Hoja1!$A$3:$M$271,12,0) -> 0 | BA56: =VLOOKUP($A56,[12]Hoja1!$A$3:$M$271,13,0) -> 0 | BB56: =AZ56+BA56 -> 0 | BC56: =$D56*BB56 -> 0
A57: 48 | B57: INHALOCAMARA PARA VENTILACIÓN MECANICA ADULTO CON ADAPTACION A CIRCUITO UNIVERSAL | C57: 1 UNIDAD DE INHALOCAMARA | D57: 1 | E57: UN | F57: 3648 | G57: 3.6666667 | H57: =VLOOKUP($A57,[1]Hoja1!$A$3:$G$271,6,0) -> 0 | I57: =VLOOKUP($A57,[1]Hoja1!$A$3:$G$271,7,0) -> 0 | J57: =H57+I57 -> 0 | K57: =$D57*J57 -> 0 | L57: =VLOOKUP($A57,[2]Hoja1!$A$3:$G$271,6,0) -> 0 | M57: =VLOOKUP($A57,[2]Hoja1!$A$3:$G$271,7,0) -> 0 | N57: =L57+M57 -> 0 | O57: =$D57*N57 -> 0 | P57: =VLOOKUP($A57,[3]Hoja1!$A$3:$M$271,12,0) -> 0 | Q57: =VLOOKUP($A57,[3]Hoja1!$A$3:$M$271,13,0) -> 0 | R57: =P57+Q57 -> 0 | S57: =$D57*R57 -> 0 | T57: =VLOOKUP($A57,[4]Hoja1!$A$3:$G$271,6,0) -> 0 | U57: =VLOOKUP($A57,[4]Hoja1!$A$3:$G$271,7,0) -> 0 | V57: =T57+U57 -> 0 | W57: =$D57*V57 -> 0 | X57: =VLOOKUP($A57,[5]Hoja1!$A$3:$G$271,6,0) -> 0 | Y57: =VLOOKUP($A57,[5]Hoja1!$A$3:$G$271,7,0) -> 0 | Z57: =X57+Y57 -> 0 | AA57: =$D57*Z57 -> 0 | AB57: =VLOOKUP($A57,[6]Hoja1!$A$3:$G$271,6,0) -> 0 | AC57: =VLOOKUP($A57,[6]Hoja1!$A$3:$G$271,7,0) -> 0 | AD57: =AB57+AC57 -> 0 | AE57: =$D57*AD57 -> 0 | AF57: =VLOOKUP($A57,[7]Hoja1!$A$3:$M$271,12,0) -> 0 | AG57: =VLOOKUP($A57,[7]Hoja1!$A$3:$M$271,13,0) -> 0 | AH57: =AF57+AG57 -> 0 | AI57: =$D57*AH57 -> 0 | AJ57: =VLOOKUP($A57,[8]Hoja1!$A$3:$G$271,6,0) -> 0 | AK57: =VLOOKUP($A57,[8]Hoja1!$A$3:$G$271,7,0) -> 0 | AL57: =AJ57+AK57 -> 0 | AM57: =$D57*AL57 -> 0 | AN57: =VLOOKUP($A57,[9]Hoja1!$A$5:$G$273,6,0) -> 0 | AO57: =VLOOKUP($A57,[9]Hoja1!$A$5:$G$273,7,0) -> 0 | AP57: =AN57+AO57 -> 0 | AQ57: =$D57*AP57 -> 0 | AR57: =VLOOKUP($A57,[10]Hoja1!$A$3:$M$271,12,0) -> 0 | AS57: =VLOOKUP($A57,[10]Hoja1!$A$3:$M$271,13,0) -> 0 | AT57: =AR57+AS57 -> 0 | AU57: =$D57*AT57 -> 0 | AV57: =VLOOKUP($A57,[11]Hoja1!$A$3:$M$271,12,0) -> 0 | AW57: =VLOOKUP($A57,[11]Hoja1!$A$3:$M$271,13,0) -> 0 | AX57: =AV57+AW57 -> 0 | AY57: =$D57*AX57 -> 0 | AZ57: =VLOOKUP($A57,[12]Hoja1!$A$3:$M$271,12,0) -> 0 | BA57: =VLOOKUP($A57,[12]Hoja1!$A$3:$M$271,13,0) -> 0 | BB57: =AZ57+BA57 -> 0 | BC57: =$D57*BB57 -> 0
A58: 49 | B58: JERINGA ASEPTO PLASTICA ESTERIL | C58: 1 UNIDAD DE JERINGA | D58: 1 | E58: UN | F58: 4252 | G58: 1 | H58: =VLOOKUP($A58,[1]Hoja1!$A$3:$G$271,6,0) -> 0 | I58: =VLOOKUP($A58,[1]Hoja1!$A$3:$G$271,7,0) -> 0 | J58: =H58+I58 -> 0 | K58: =$D58*J58 -> 0 | L58: =VLOOKUP($A58,[2]Hoja1!$A$3:$G$271,6,0) -> 0 | M58: =VLOOKUP($A58,[2]Hoja1!$A$3:$G$271,7,0) -> 0 | N58: =L58+M58 -> 0 | O58: =$D58*N58 -> 0 | P58: =VLOOKUP($A58,[3]Hoja1!$A$3:$M$271,12,0) -> 0 | Q58: =VLOOKUP($A58,[3]Hoja1!$A$3:$M$271,13,0) -> 0 | R58: =P58+Q58 -> 0 | S58: =$D58*R58 -> 0 | T58: =VLOOKUP($A58,[4]Hoja1!$A$3:$G$271,6,0) -> 4252 | U58: =VLOOKUP($A58,[4]Hoja1!$A$3:$G$271,7,0) -> 0 | V58: =T58+U58 -> 4252 | W58: =$D58*V58 -> 4252 | X58: =VLOOKUP($A58,[5]Hoja1!$A$3:$G$271,6,0) -> 0 | Y58: =VLOOKUP($A58,[5]Hoja1!$A$3:$G$271,7,0) -> 0 | Z58: =X58+Y58 -> 0 | AA58: =$D58*Z58 -> 0 | AB58: =VLOOKUP($A58,[6]Hoja1!$A$3:$G$271,6,0) -> 0 | AC58: =VLOOKUP($A58,[6]Hoja1!$A$3:$G$271,7,0) -> 0 | AD58: =AB58+AC58 -> 0 | AE58: =$D58*AD58 -> 0 | AF58: =VLOOKUP($A58,[7]Hoja1!$A$3:$M$271,12,0) -> 0 | AG58: =VLOOKUP($A58,[7]Hoja1!$A$3:$M$271,13,0) -> 0 | AH58: =AF58+AG58 -> 0 | AI58: =$D58*AH58 -> 0 | AJ58: =VLOOKUP($A58,[8]Hoja1!$A$3:$G$271,6,0) -> 0 | AK58: =VLOOKUP($A58,[8]Hoja1!$A$3:$G$271,7,0) -> 0 | AL58: =AJ58+AK58 -> 0 | AM58: =$D58*AL58 -> 0 | AN58: =VLOOKUP($A58,[9]Hoja1!$A$5:$G$273,6,0) -> 0 | AO58: =VLOOKUP($A58,[9]Hoja1!$A$5:$G$273,7,0) -> 0 | AP58: =AN58+AO58 -> 0 | AQ58: =$D58*AP58 -> 0 | AR58: =VLOOKUP($A58,[10]Hoja1!$A$3:$M$271,12,0) -> 0 | AS58: =VLOOKUP($A58,[10]Hoja1!$A$3:$M$271,13,0) -> 0 | AT58: =AR58+AS58 -> 0 | AU58: =$D58*AT58 -> 0 | AV58: =VLOOKUP($A58,[11]Hoja1!$A$3:$M$271,12,0) -> 0 | AW58: =VLOOKUP($A58,[11]Hoja1!$A$3:$M$271,13,0) -> 0 | AX58: =AV58+AW58 -> 0 | AY58: =$D58*AX58 -> 0 | AZ58: =VLOOKUP($A58,[12]Hoja1!$A$3:$M$271,12,0) -> 0 | BA58: =VLOOKUP($A58,[12]Hoja1!$A$3:$M$271,13,0) -> 0 | BB58: =AZ58+BA58 -> 0 | BC58: =$D58*BB58 -> 0
A59: 50 | B59: JUEGO PARA ADMINISTRACION DE LIQUIDOS PARA BOMBA DE DOLOR | C59: 1 UNIDAD DE JUEGO ADMINISTRACION DE LIQUIDOS PARA BOMBA DE DOLOR | D59: 1 | E59: UN | F59: 37400 | G59: 1 | H59: =VLOOKUP($A59,[1]Hoja1!$A$3:$G$271,6,0) -> 0 | I59: =VLOOKUP($A59,[1]Hoja1!$A$3:$G$271,7,0) -> 0 | J59: =H59+I59 -> 0 | K59: =$D59*J59 -> 0 | L59: =VLOOKUP($A59,[2]Hoja1!$A$3:$G$271,6,0) -> 0 | M59: =VLOOKUP($A59,[2]Hoja1!$A$3:$G$271,7,0) -> 0 | N59: =L59+M59 -> 0 | O59: =$D59*N59 -> 0 | P59: =VLOOKUP($A59,[3]Hoja1!$A$3:$M$271,12,0) -> 0 | Q59: =VLOOKUP($A59,[3]Hoja1!$A$3:$M$271,13,0) -> 0 | R59: =P59+Q59 -> 0 | S59: =$D59*R59 -> 0 | T59: =VLOOKUP($A59,[4]Hoja1!$A$3:$G$271,6,0) -> 0 | U59: =VLOOKUP($A59,[4]Hoja1!$A$3:$G$271,7,0) -> 0 | V59: =T59+U59 -> 0 | W59: =$D59*V59 -> 0 | X59: =VLOOKUP($A59,[5]Hoja1!$A$3:$G$271,6,0) -> 0 | Y59: =VLOOKUP($A59,[5]Hoja1!$A$3:$G$271,7,0) -> 0 | Z59: =X59+Y59 -> 0 | AA59: =$D59*Z59 -> 0 | AB59: =VLOOKUP($A59,[6]Hoja1!$A$3:$G$271,6,0) -> 0 | AC59: =VLOOKUP($A59,[6]Hoja1!$A$3:$G$271,7,0) -> 0 | AD59: =AB59+AC59 -> 0 | AE59: =$D59*AD59 -> 0 | AF59: =VLOOKUP($A59,[7]Hoja1!$A$3:$M$271,12,0) -> 0 | AG59: =VLOOKUP($A59,[7]Hoja1!$A$3:$M$271,13,0) -> 0 | AH59: =AF59+AG59 -> 0 | AI59: =$D59*AH59 -> 0 | AJ59: =VLOOKUP($A59,[8]Hoja1!$A$3:$G$271,6,0) -> 0 | AK59: =VLOOKUP($A59,[8]Hoja1!$A$3:$G$271,7,0) -> 0 | AL59: =AJ59+AK59 -> 0 | AM59: =$D59*AL59 -> 0 | AN59: =VLOOKUP($A59,[9]Hoja1!$A$5:$G$273,6,0) -> 0 | AO59: =VLOOKUP($A59,[9]Hoja1!$A$5:$G$273,7,0) -> 0 | AP59: =AN59+AO59 -> 0 | AQ59: =$D59*AP59 -> 0 | AR59: =VLOOKUP($A59,[10]Hoja1!$A$3:$M$271,12,0) -> 0 | AS59: =VLOOKUP($A59,[10]Hoja1!$A$3:$M$271,13,0) -> 0 | AT59: =AR59+AS59 -> 0 | AU59: =$D59*AT59 -> 0 | AV59: =VLOOKUP($A59,[11]Hoja1!$A$3:$M$271,12,0) -> 0 | AW59: =VLOOKUP($A59,[11]Hoja1!$A$3:$M$271,13,0) -> 0 | AX59: =AV59+AW59 -> 0 | AY59: =$D59*AX59 -> 0 | AZ59: =VLOOKUP($A59,[12]Hoja1!$A$3:$M$271,12,0) -> 0 | BA59: =VLOOKUP($A59,[12]Hoja1!$A$3:$M$271,13,0) -> 0 | BB59: =AZ59+BA59 -> 0 | BC59: =$D59*BB59 -> 0
A60: 51 | B60: KIT DE TRAQUEOSTOMIA PERCUTANEO ( GUIA, AGUJA, CAMISA, BISTURY, JERINGA, CANULA DE PUNCION CON CASTETER DE TEFLON, DILATADOR CORTO 14, CATETER GUIA CON BLOQUEO DE SEGURIDAD, DILATADOR HIDROFILICO Y CANULA DE TRAQUEOSTOMIA N 7 ) | C60: 1 KIT DE TRAQUEOSTOMIA PRESENTACION KIT | D60: 1 | E60: UN | F60: 1398527 | G60: 2 | H60: =VLOOKUP($A60,[1]Hoja1!$A$3:$G$271,6,0) -> 0 | I60: =VLOOKUP($A60,[1]Hoja1!$A$3:$G$271,7,0) -> 0 | J60: =H60+I60 -> 0 | K60: =$D60*J60 -> 0 | L60: =VLOOKUP($A60,[2]Hoja1!$A$3:$G$271,6,0) -> 0 | M60: =VLOOKUP($A60,[2]Hoja1!$A$3:$G$271,7,0) -> 0 | N60: =L60+M60 -> 0 | O60: =$D60*N60 -> 0 | P60: =VLOOKUP($A60,[3]Hoja1!$A$3:$M$271,12,0) -> 0 | Q60: =VLOOKUP($A60,[3]Hoja1!$A$3:$M$271,13,0) -> 0 | R60: =P60+Q60 -> 0 | S60: =$D60*R60 -> 0 | T60: =VLOOKUP($A60,[4]Hoja1!$A$3:$G$271,6,0) -> 988636 | U60: =VLOOKUP($A60,[4]Hoja1!$A$3:$G$271,7,0) -> 0 | V60: =T60+U60 -> 988636 | W60: =$D60*V60 -> 988636 | X60: =VLOOKUP($A60,[5]Hoja1!$A$3:$G$271,6,0) -> 0 | Y60: =VLOOKUP($A60,[5]Hoja1!$A$3:$G$271,7,0) -> 0 | Z60: =X60+Y60 -> 0 | AA60: =$D60*Z60 -> 0 | AB60: =VLOOKUP($A60,[6]Hoja1!$A$3:$G$271,6,0) -> 0 | AC60: =VLOOKUP($A60,[6]Hoja1!$A$3:$G$271,7,0) -> 0 | AD60: =AB60+AC60 -> 0 | AE60: =$D60*AD60 -> 0 | AF60: =VLOOKUP($A60,[7]Hoja1!$A$3:$M$271,12,0) -> 0 | AG60: =VLOOKUP($A60,[7]Hoja1!$A$3:$M$271,13,0) -> 0 | AH60: =AF60+AG60 -> 0 | AI60: =$D60*AH60 -> 0 | AJ60: =VLOOKUP($A60,[8]Hoja1!$A$3:$G$271,6,0) -> 0 | AK60: =VLOOKUP($A60,[8]Hoja1!$A$3:$G$271,7,0) -> 0 | AL60: =AJ60+AK60 -> 0 | AM60: =$D60*AL60 -> 0 | AN60: =VLOOKUP($A60,[9]Hoja1!$A$5:$G$273,6,0) -> 0 | AO60: =VLOOKUP($A60,[9]Hoja1!$A$5:$G$273,7,0) -> 0 | AP60: =AN60+AO60 -> 0 | AQ60: =$D60*AP60 -> 0 | AR60: =VLOOKUP($A60,[10]Hoja1!$A$3:$M$271,12,0) -> 0 | AS60: =VLOOKUP($A60,[10]Hoja1!$A$3:$M$271,13,0) -> 0 | AT60: =AR60+AS60 -> 0 | AU60: =$D60*AT60 -> 0 | AV60: =VLOOKUP($A60,[11]Hoja1!$A$3:$M$271,12,0) -> 0 | AW60: =VLOOKUP($A60,[11]Hoja1!$A$3:$M$271,13,0) -> 0 | AX60: =AV60+AW60 -> 0 | AY60: =$D60*AX60 -> 0 | AZ60: =VLOOKUP($A60,[12]Hoja1!$A$3:$M$271,12,0) -> 0 | BA60: =VLOOKUP($A60,[12]Hoja1!$A$3:$M$271,13,0) -> 0 | BB60: =AZ60+BA60 -> 0 | BC60: =$D60*BB60 -> 0
A61: 52 | B61: KIT DE TRAQUEOSTOMIA PERCUTANEO ( GUIA, AGUJA, CAMISA, BISTURY, JERINGA, CANULA DE PUNCION CON CASTETER DE TEFLON, DILATADOR CORTO 14, CATETER GUIA CON BLOQUEO DE SEGURIDAD, DILATADOR HIDROFILICO Y CANULA DE TRAQUEOSTOMIA N 8 FENESTRADA) | C61: 1 KIT DE TRAQUEOSTOMIA PRESENTACION KIT | D61: 1 | E61: UN | F61: 1398527 | G61: 7 | H61: =VLOOKUP($A61,[1]Hoja1!$A$3:$G$271,6,0) -> 0 | I61: =VLOOKUP($A61,[1]Hoja1!$A$3:$G$271,7,0) -> 0 | J61: =H61+I61 -> 0 | K61: =$D61*J61 -> 0 | L61: =VLOOKUP($A61,[2]Hoja1!$A$3:$G$271,6,0) -> 0 | M61: =VLOOKUP($A61,[2]Hoja1!$A$3:$G$271,7,0) -> 0 | N61: =L61+M61 -> 0 | O61: =$D61*N61 -> 0 | P61: =VLOOKUP($A61,[3]Hoja1!$A$3:$M$271,12,0) -> 0 | Q61: =VLOOKUP($A61,[3]Hoja1!$A$3:$M$271,13,0) -> 0 | R61: =P61+Q61 -> 0 | S61: =$D61*R61 -> 0 | T61: =VLOOKUP($A61,[4]Hoja1!$A$3:$G$271,6,0) -> 1772727 | U61: =VLOOKUP($A61,[4]Hoja1!$A$3:$G$271,7,0) -> 0 | V61: =T61+U61 -> 1772727 | W61: =$D61*V61 -> 1772727 | X61: =VLOOKUP($A61,[5]Hoja1!$A$3:$G$271,6,0) -> 0 | Y61: =VLOOKUP($A61,[5]Hoja1!$A$3:$G$271,7,0) -> 0 | Z61: =X61+Y61 -> 0 | AA61: =$D61*Z61 -> 0 | AB61: =VLOOKUP($A61,[6]Hoja1!$A$3:$G$271,6,0) -> 0 | AC61: =VLOOKUP($A61,[6]Hoja1!$A$3:$G$271,7,0) -> 0 | AD61: =AB61+AC61 -> 0 | AE61: =$D61*AD61 -> 0 | AF61: =VLOOKUP($A61,[7]Hoja1!$A$3:$M$271,12,0) -> 0 | AG61: =VLOOKUP($A61,[7]Hoja1!$A$3:$M$271,13,0) -> 0 | AH61: =AF61+AG61 -> 0 | AI61: =$D61*AH61 -> 0 | AJ61: =VLOOKUP($A61,[8]Hoja1!$A$3:$G$271,6,0) -> 0 | AK61: =VLOOKUP($A61,[8]Hoja1!$A$3:$G$271,7,0) -> 0 | AL61: =AJ61+AK61 -> 0 | AM61: =$D61*AL61 -> 0 | AN61: =VLOOKUP($A61,[9]Hoja1!$A$5:$G$273,6,0) -> 0 | AO61: =VLOOKUP($A61,[9]Hoja1!$A$5:$G$273,7,0) -> 0 | AP61: =AN61+AO61 -> 0 | AQ61: =$D61*AP61 -> 0 | AR61: =VLOOKUP($A61,[10]Hoja1!$A$3:$M$271,12,0) -> 0 | AS61: =VLOOKUP($A61,[10]Hoja1!$A$3:$M$271,13,0) -> 0 | AT61: =AR61+AS61 -> 0 | AU61: =$D61*AT61 -> 0 | AV61: =VLOOKUP($A61,[11]Hoja1!$A$3:$M$271,12,0) -> 0 | AW61: =VLOOKUP($A61,[11]Hoja1!$A$3:$M$271,13,0) -> 0 | AX61: =AV61+AW61 -> 0 | AY61: =$D61*AX61 -> 0 | AZ61: =VLOOKUP($A61,[12]Hoja1!$A$3:$M$271,12,0) -> 0 | BA61: =VLOOKUP($A61,[12]Hoja1!$A$3:$M$271,13,0) -> 0 | BB61: =AZ61+BA61 -> 0 | BC61: =$D61*BB61 -> 0
A62: 53 | B62: PAPILOTOMO DE PUNTA O PRECORTE | C62: 1 UNIDAD DE PAPILOTOMO | D62: 1 | E62: UN | F62: 546912 | G62: 4 | H62: =VLOOKUP($A62,[1]Hoja1!$A$3:$G$271,6,0) -> 0 | I62: =VLOOKUP($A62,[1]Hoja1!$A$3:$G$271,7,0) -> 0 | J62: =H62+I62 -> 0 | K62: =$D62*J62 -> 0 | L62: =VLOOKUP($A62,[2]Hoja1!$A$3:$G$271,6,0) -> 0 | M62: =VLOOKUP($A62,[2]Hoja1!$A$3:$G$271,7,0) -> 0 | N62: =L62+M62 -> 0 | O62: =$D62*N62 -> 0 | P62: =VLOOKUP($A62,[3]Hoja1!$A$3:$M$271,12,0) -> 0 | Q62: =VLOOKUP($A62,[3]Hoja1!$A$3:$M$271,13,0) -> 0 | R62: =P62+Q62 -> 0 | S62: =$D62*R62 -> 0 | T62: =VLOOKUP($A62,[4]Hoja1!$A$3:$G$271,6,0) -> 0 | U62: =VLOOKUP($A62,[4]Hoja1!$A$3:$G$271,7,0) -> 0 | V62: =T62+U62 -> 0 | W62: =$D62*V62 -> 0 | X62: =VLOOKUP($A62,[5]Hoja1!$A$3:$G$271,6,0) -> 0 | Y62: =VLOOKUP($A62,[5]Hoja1!$A$3:$G$271,7,0) -> 0 | Z62: =X62+Y62 -> 0 | AA62: =$D62*Z62 -> 0 | AB62: =VLOOKUP($A62,[6]Hoja1!$A$3:$G$271,6,0) -> 579000 | AC62: =AB62*0.19 -> 110010 | AD62: =AB62+AC62 -> 689010 | AE62: =$D62*AD62 -> 689010 | AF62: =VLOOKUP($A62,[7]Hoja1!$A$3:$M$271,12,0) -> 0 | AG62: =VLOOKUP($A62,[7]Hoja1!$A$3:$M$271,13,0) -> 0 | AH62: =AF62+AG62 -> 0 | AI62: =$D62*AH62 -> 0 | AJ62: =VLOOKUP($A62,[8]Hoja1!$A$3:$G$271,6,0) -> 0 | AK62: =VLOOKUP($A62,[8]Hoja1!$A$3:$G$271,7,0) -> 0 | AL62: =AJ62+AK62 -> 0 | AM62: =$D62*AL62 -> 0 | AN62: =VLOOKUP($A62,[9]Hoja1!$A$5:$G$273,6,0) -> 0 | AO62: =VLOOKUP($A62,[9]Hoja1!$A$5:$G$273,7,0) -> 0 | AP62: =AN62+AO62 -> 0 | AQ62: =$D62*AP62 -> 0 | AR62: =VLOOKUP($A62,[10]Hoja1!$A$3:$M$271,12,0) -> 0 | AS62: =VLOOKUP($A62,[10]Hoja1!$A$3:$M$271,13,0) -> 0 | AT62: =AR62+AS62 -> 0 | AU62: =$D62*AT62 -> 0 | AV62: =VLOOKUP($A62,[11]Hoja1!$A$3:$M$271,12,0) -> 0 | AW62: =VLOOKUP($A62,[11]Hoja1!$A$3:$M$271,13,0) -> 0 | AX62: =AV62+AW62 -> 0 | AY62: =$D62*AX62 -> 0 | AZ62: =VLOOKUP($A62,[12]Hoja1!$A$3:$M$271,12,0) -> 0 | BA62: =VLOOKUP($A62,[12]Hoja1!$A$3:$M$271,13,0) -> 0 | BB62: =AZ62+BA62 -> 0 | BC62: =$D62*BB62 -> 0
A63: 54 | B63: PINZA PARA EXTRACCION DE CUERPO EXTRAÑO REUSABLE PARA ENDOSCOPIA | C63: 1 UNIDAD DE PINZA | D63: 1 | E63: UN | F63: 2606903 | G63: 1 | H63: =VLOOKUP($A63,[1]Hoja1!$A$3:$G$271,6,0) -> 0 | I63: =VLOOKUP($A63,[1]Hoja1!$A$3:$G$271,7,0) -> 0 | J63: =H63+I63 -> 0 | K63: =$D63*J63 -> 0 | L63: =VLOOKUP($A63,[2]Hoja1!$A$3:$G$271,6,0) -> 0 | M63: =VLOOKUP($A63,[2]Hoja1!$A$3:$G$271,7,0) -> 0 | N63: =L63+M63 -> 0 | O63: =$D63*N63 -> 0 | P63: =VLOOKUP($A63,[3]Hoja1!$A$3:$M$271,12,0) -> 0 | Q63: =VLOOKUP($A63,[3]Hoja1!$A$3:$M$271,13,0) -> 0 | R63: =P63+Q63 -> 0 | S63: =$D63*R63 -> 0 | T63: =VLOOKUP($A63,[4]Hoja1!$A$3:$G$271,6,0) -> 0 | U63: =VLOOKUP($A63,[4]Hoja1!$A$3:$G$271,7,0) -> 0 | V63: =T63+U63 -> 0 | W63: =$D63*V63 -> 0 | X63: =VLOOKUP($A63,[5]Hoja1!$A$3:$G$271,6,0) -> 0 | Y63: =VLOOKUP($A63,[5]Hoja1!$A$3:$G$271,7,0) -> 0 | Z63: =X63+Y63 -> 0 | AA63: =$D63*Z63 -> 0 | AB63: =VLOOKUP($A63,[6]Hoja1!$A$3:$G$271,6,0) -> 1400000 | AC63: =AB63*0.19 -> 266000 | AD63: =AB63+AC63 -> 1666000 | AE63: =$D63*AD63 -> 1666000 | AF63: =VLOOKUP($A63,[7]Hoja1!$A$3:$M$271,12,0) -> 0 | AG63: =VLOOKUP($A63,[7]Hoja1!$A$3:$M$271,13,0) -> 0 | AH63: =AF63+AG63 -> 0 | AI63: =$D63*AH63 -> 0 | AJ63: =VLOOKUP($A63,[8]Hoja1!$A$3:$G$271,6,0) -> 0 | AK63: =VLOOKUP($A63,[8]Hoja1!$A$3:$G$271,7,0) -> 0 | AL63: =AJ63+AK63 -> 0 | AM63: =$D63*AL63 -> 0 | AN63: =VLOOKUP($A63,[9]Hoja1!$A$5:$G$273,6,0) -> 0 | AO63: =VLOOKUP($A63,[9]Hoja1!$A$5:$G$273,7,0) -> 0 | AP63: =AN63+AO63 -> 0 | AQ63: =$D63*AP63 -> 0 | AR63: =VLOOKUP($A63,[10]Hoja1!$A$3:$M$271,12,0) -> 0 | AS63: =VLOOKUP($A63,[10]Hoja1!$A$3:$M$271,13,0) -> 0 | AT63: =AR63+AS63 -> 0 | AU63: =$D63*AT63 -> 0 | AV63: =VLOOKUP($A63,[11]Hoja1!$A$3:$M$271,12,0) -> 0 | AW63: =VLOOKUP($A63,[11]Hoja1!$A$3:$M$271,13,0) -> 0 | AX63: =AV63+AW63 -> 0 | AY63: =$D63*AX63 -> 0 | AZ63: =VLOOKUP($A63,[12]Hoja1!$A$3:$M$271,12,0) -> 0 | BA63: =VLOOKUP($A63,[12]Hoja1!$A$3:$M$271,13,0) -> 0 | BB63: =AZ63+BA63 -> 0 | BC63: =$D63*BB63 -> 0
A64: 55 | B64: SET DE CATETER EPIDURAL CON AGUJA No.16 | C64: 1 UNIDAD DE KIT DE ANESTESIA. INCLUYE (TODOS LOS INSUMOS RELACIONADOS EN LA DESCRIPCION DEL INSUMO) PRESENTACION KIT | D64: 1 | E64: UN | F64: 33702 | G64: 1 | H64: =VLOOKUP($A64,[1]Hoja1!$A$3:$G$271,6,0) -> 0 | I64: =VLOOKUP($A64,[1]Hoja1!$A$3:$G$271,7,0) -> 0 | J64: =H64+I64 -> 0 | K64: =$D64*J64 -> 0 | L64: =VLOOKUP($A64,[2]Hoja1!$A$3:$G$271,6,0) -> 0 | M64: =VLOOKUP($A64,[2]Hoja1!$A$3:$G$271,7,0) -> 0 | N64: =L64+M64 -> 0 | O64: =$D64*N64 -> 0 | P64: =VLOOKUP($A64,[3]Hoja1!$A$3:$M$271,12,0) -> 0 | Q64: =VLOOKUP($A64,[3]Hoja1!$A$3:$M$271,13,0) -> 0 | R64: =P64+Q64 -> 0 | S64: =$D64*R64 -> 0 | T64: =VLOOKUP($A64,[4]Hoja1!$A$3:$G$271,6,0) -> 45889 | U64: =VLOOKUP($A64,[4]Hoja1!$A$3:$G$271,7,0) -> 0 | V64: =T64+U64 -> 45889 | W64: =$D64*V64 -> 45889 | X64: =VLOOKUP($A64,[5]Hoja1!$A$3:$G$271,6,0) -> 0 | Y64: =VLOOKUP($A64,[5]Hoja1!$A$3:$G$271,7,0) -> 0 | Z64: =X64+Y64 -> 0 | AA64: =$D64*Z64 -> 0 | AB64: =VLOOKUP($A64,[6]Hoja1!$A$3:$G$271,6,0) -> 0 | AC64: =VLOOKUP($A64,[6]Hoja1!$A$3:$G$271,7,0) -> 0 | AD64: =AB64+AC64 -> 0 | AE64: =$D64*AD64 -> 0 | AF64: =VLOOKUP($A64,[7]Hoja1!$A$3:$M$271,12,0) -> 0 | AG64: =VLOOKUP($A64,[7]Hoja1!$A$3:$M$271,13,0) -> 0 | AH64: =AF64+AG64 -> 0 | AI64: =$D64*AH64 -> 0 | AJ64: =VLOOKUP($A64,[8]Hoja1!$A$3:$G$271,6,0) -> 0 | AK64: =VLOOKUP($A64,[8]Hoja1!$A$3:$G$271,7,0) -> 0 | AL64: =AJ64+AK64 -> 0 | AM64: =$D64*AL64 -> 0 | AN64: =VLOOKUP($A64,[9]Hoja1!$A$5:$G$273,6,0) -> 0 | AO64: =VLOOKUP($A64,[9]Hoja1!$A$5:$G$273,7,0) -> 0 | AP64: =AN64+AO64 -> 0 | AQ64: =$D64*AP64 -> 0 | AR64: =VLOOKUP($A64,[10]Hoja1!$A$3:$M$271,12,0) -> 0 | AS64: =VLOOKUP($A64,[10]Hoja1!$A$3:$M$271,13,0) -> 0 | AT64: =AR64+AS64 -> 0 | AU64: =$D64*AT64 -> 0 | AV64: =VLOOKUP($A64,[11]Hoja1!$A$3:$M$271,12,0) -> 0 | AW64: =VLOOKUP($A64,[11]Hoja1!$A$3:$M$271,13,0) -> 0 | AX64: =AV64+AW64 -> 0 | AY64: =$D64*AX64 -> 0 | AZ64: =VLOOKUP($A64,[12]Hoja1!$A$3:$M$271,12,0) -> 0 | BA64: =VLOOKUP($A64,[12]Hoja1!$A$3:$M$271,13,0) -> 0 | BB64: =AZ64+BA64 -> 0 | BC64: =$D64*BB64 -> 0
A65: 56 | B65: SET DE CATETER EPIDURAL CON AGUJA No.18 | C65: 1 UNIDAD DE SET DE CATETER | D65: 1 | E65: UN | F65: 36900 | G65: 3.6666667 | H65: =VLOOKUP($A65,[1]Hoja1!$A$3:$G$271,6,0) -> 0 | I65: =VLOOKUP($A65,[1]Hoja1!$A$3:$G$271,7,0) -> 0 | J65: =H65+I65 -> 0 | K65: =$D65*J65 -> 0 | L65: =VLOOKUP($A65,[2]Hoja1!$A$3:$G$271,6,0) -> 0 | M65: =VLOOKUP($A65,[2]Hoja1!$A$3:$G$271,7,0) -> 0 | N65: =L65+M65 -> 0 | O65: =$D65*N65 -> 0 | P65: =VLOOKUP($A65,[3]Hoja1!$A$3:$M$271,12,0) -> 0 | Q65: =VLOOKUP($A65,[3]Hoja1!$A$3:$M$271,13,0) -> 0 | R65: =P65+Q65 -> 0 | S65: =$D65*R65 -> 0 | T65: =VLOOKUP($A65,[4]Hoja1!$A$3:$G$271,6,0) -> 50011 | U65: =VLOOKUP($A65,[4]Hoja1!$A$3:$G$271,7,0) -> 0 | V65: =T65+U65 -> 50011 | W65: =$D65*V65 -> 50011 | X65: =VLOOKUP($A65,[5]Hoja1!$A$3:$G$271,6,0) -> 0 | Y65: =VLOOKUP($A65,[5]Hoja1!$A$3:$G$271,7,0) -> 0 | Z65: =X65+Y65 -> 0 | AA65: =$D65*Z65 -> 0 | AB65: =VLOOKUP($A65,[6]Hoja1!$A$3:$G$271,6,0) -> 0 | AC65: =VLOOKUP($A65,[6]Hoja1!$A$3:$G$271,7,0) -> 0 | AD65: =AB65+AC65 -> 0 | AE65: =$D65*AD65 -> 0 | AF65: =VLOOKUP($A65,[7]Hoja1!$A$3:$M$271,12,0) -> 0 | AG65: =VLOOKUP($A65,[7]Hoja1!$A$3:$M$271,13,0) -> 0 | AH65: =AF65+AG65 -> 0 | AI65: =$D65*AH65 -> 0 | AJ65: =VLOOKUP($A65,[8]Hoja1!$A$3:$G$271,6,0) -> 0 | AK65: =VLOOKUP($A65,[8]Hoja1!$A$3:$G$271,7,0) -> 0 | AL65: =AJ65+AK65 -> 0 | AM65: =$D65*AL65 -> 0 | AN65: =VLOOKUP($A65,[9]Hoja1!$A$5:$G$273,6,0) -> 0 | AO65: =VLOOKUP($A65,[9]Hoja1!$A$5:$G$273,7,0) -> 0 | AP65: =AN65+AO65 -> 0 | AQ65: =$D65*AP65 -> 0 | AR65: =VLOOKUP($A65,[10]Hoja1!$A$3:$M$271,12,0) -> 0 | AS65: =VLOOKUP($A65,[10]Hoja1!$A$3:$M$271,13,0) -> 0 | AT65: =AR65+AS65 -> 0 | AU65: =$D65*AT65 -> 0 | AV65: =VLOOKUP($A65,[11]Hoja1!$A$3:$M$271,12,0) -> 0 | AW65: =VLOOKUP($A65,[11]Hoja1!$A$3:$M$271,13,0) -> 0 | AX65: =AV65+AW65 -> 0 | AY65: =$D65*AX65 -> 0 | AZ65: =VLOOKUP($A65,[12]Hoja1!$A$3:$M$271,12,0) -> 0 | BA65: =VLOOKUP($A65,[12]Hoja1!$A$3:$M$271,13,0) -> 0 | BB65: =AZ65+BA65 -> 0 | BC65: =$D65*BB65 -> 0
A66: 57 | B66: SISTEMA DE DRENAJE TORACICO PEDIATRICO | C66: 1 UNIDAD DE SISTEMA DE DRENAJE TORAXICO | D66: 1 | E66: UN | F66: 33210 | G66: 1 | H66: =VLOOKUP($A66,[1]Hoja1!$A$3:$G$271,6,0) -> 0 | I66: =VLOOKUP($A66,[1]Hoja1!$A$3:$G$271,7,0) -> 0 | J66: =H66+I66 -> 0 | K66: =$D66*J66 -> 0 | L66: =VLOOKUP($A66,[2]Hoja1!$A$3:$G$271,6,0) -> 0 | M66: =VLOOKUP($A66,[2]Hoja1!$A$3:$G$271,7,0) -> 0 | N66: =L66+M66 -> 0 | O66: =$D66*N66 -> 0 | P66: =VLOOKUP($A66,[3]Hoja1!$A$3:$M$271,12,0) -> 0 | Q66: =VLOOKUP($A66,[3]Hoja1!$A$3:$M$271,13,0) -> 0 | R66: =P66+Q66 -> 0 | S66: =$D66*R66 -> 0 | T66: =VLOOKUP($A66,[4]Hoja1!$A$3:$G$271,6,0) -> 148864 | U66: =VLOOKUP($A66,[4]Hoja1!$A$3:$G$271,7,0) -> 0 | V66: =T66+U66 -> 148864 | W66: =$D66*V66 -> 148864 | X66: =VLOOKUP($A66,[5]Hoja1!$A$3:$G$271,6,0) -> 0 | Y66: =VLOOKUP($A66,[5]Hoja1!$A$3:$G$271,7,0) -> 0 | Z66: =X66+Y66 -> 0 | AA66: =$D66*Z66 -> 0 | AB66: =VLOOKUP($A66,[6]Hoja1!$A$3:$G$271,6,0) -> 0 | AC66: =VLOOKUP($A66,[6]Hoja1!$A$3:$G$271,7,0) -> 0 | AD66: =AB66+AC66 -> 0 | AE66: =$D66*AD66 -> 0 | AF66: =VLOOKUP($A66,[7]Hoja1!$A$3:$M$271,12,0) -> 0 | AG66: =VLOOKUP($A66,[7]Hoja1!$A$3:$M$271,13,0) -> 0 | AH66: =AF66+AG66 -> 0 | AI66: =$D66*AH66 -> 0 | AJ66: =VLOOKUP($A66,[8]Hoja1!$A$3:$G$271,6,0) -> 0 | AK66: =VLOOKUP($A66,[8]Hoja1!$A$3:$G$271,7,0) -> 0 | AL66: =AJ66+AK66 -> 0 | AM66: =$D66*AL66 -> 0 | AN66: =VLOOKUP($A66,[9]Hoja1!$A$5:$G$273,6,0) -> 0 | AO66: =VLOOKUP($A66,[9]Hoja1!$A$5:$G$273,7,0) -> 0 | AP66: =AN66+AO66 -> 0 | AQ66: =$D66*AP66 -> 0 | AR66: =VLOOKUP($A66,[10]Hoja1!$A$3:$M$271,12,0) -> 0 | AS66: =VLOOKUP($A66,[10]Hoja1!$A$3:$M$271,13,0) -> 0 | AT66: =AR66+AS66 -> 0 | AU66: =$D66*AT66 -> 0 | AV66: =VLOOKUP($A66,[11]Hoja1!$A$3:$M$271,12,0) -> 0 | AW66: =VLOOKUP($A66,[11]Hoja1!$A$3:$M$271,13,0) -> 0 | AX66: =AV66+AW66 -> 0 | AY66: =$D66*AX66 -> 0 | AZ66: =VLOOKUP($A66,[12]Hoja1!$A$3:$M$271,12,0) -> 0 | BA66: =VLOOKUP($A66,[12]Hoja1!$A$3:$M$271,13,0) -> 0 | BB66: =AZ66+BA66 -> 0 | BC66: =$D66*BB66 -> 0
A67: 58 | B67: SONDA DE SUCCION CERRADA N° 12 FR | C67: 1 UNIDAD DE SONDA | D67: 1 | E67: UN | F67: 53167.5 | G67: 0.33333333 | H67: =VLOOKUP($A67,[1]Hoja1!$A$3:$G$271,6,0) -> 0 | I67: =VLOOKUP($A67,[1]Hoja1!$A$3:$G$271,7,0) -> 0 | J67: =H67+I67 -> 0 | K67: =$D67*J67 -> 0 | L67: =VLOOKUP($A67,[2]Hoja1!$A$3:$G$271,6,0) -> 0 | M67: =VLOOKUP($A67,[2]Hoja1!$A$3:$G$271,7,0) -> 0 | N67: =L67+M67 -> 0 | O67: =$D67*N67 -> 0 | P67: =VLOOKUP($A67,[3]Hoja1!$A$3:$M$271,12,0) -> 0 | Q67: =VLOOKUP($A67,[3]Hoja1!$A$3:$M$271,13,0) -> 0 | R67: =P67+Q67 -> 0 | S67: =$D67*R67 -> 0 | T67: =VLOOKUP($A67,[4]Hoja1!$A$3:$G$271,6,0) -> 62338 | U67: =VLOOKUP($A67,[4]Hoja1!$A$3:$G$271,7,0) -> 0 | V67: =T67+U67 -> 62338 | W67: =$D67*V67 -> 62338 | X67: =VLOOKUP($A67,[5]Hoja1!$A$3:$G$271,6,0) -> 0 | Y67: =VLOOKUP($A67,[5]Hoja1!$A$3:$G$271,7,0) -> 0 | Z67: =X67+Y67 -> 0 | AA67: =$D67*Z67 -> 0 | AB67: =VLOOKUP($A67,[6]Hoja1!$A$3:$G$271,6,0) -> 0 | AC67: =VLOOKUP($A67,[6]Hoja1!$A$3:$G$271,7,0) -> 0 | AD67: =AB67+AC67 -> 0 | AE67: =$D67*AD67 -> 0 | AF67: =VLOOKUP($A67,[7]Hoja1!$A$3:$M$271,12,0) -> 0 | AG67: =VLOOKUP($A67,[7]Hoja1!$A$3:$M$271,13,0) -> 0 | AH67: =AF67+AG67 -> 0 | AI67: =$D67*AH67 -> 0 | AJ67: =VLOOKUP($A67,[8]Hoja1!$A$3:$G$271,6,0) -> 0 | AK67: =VLOOKUP($A67,[8]Hoja1!$A$3:$G$271,7,0) -> 0 | AL67: =AJ67+AK67 -> 0 | AM67: =$D67*AL67 -> 0 | AN67: =VLOOKUP($A67,[9]Hoja1!$A$5:$G$273,6,0) -> 0 | AO67: =VLOOKUP($A67,[9]Hoja1!$A$5:$G$273,7,0) -> 0 | AP67: =AN67+AO67 -> 0 | AQ67: =$D67*AP67 -> 0 | AR67: =VLOOKUP($A67,[10]Hoja1!$A$3:$M$271,12,0) -> 0 | AS67: =VLOOKUP($A67,[10]Hoja1!$A$3:$M$271,13,0) -> 0 | AT67: =AR67+AS67 -> 0 | AU67: =$D67*AT67 -> 0 | AV67: =VLOOKUP($A67,[11]Hoja1!$A$3:$M$271,12,0) -> 0 | AW67: =VLOOKUP($A67,[11]Hoja1!$A$3:$M$271,13,0) -> 0 | AX67: =AV67+AW67 -> 0 | AY67: =$D67*AX67 -> 0 | AZ67: =VLOOKUP($A67,[12]Hoja1!$A$3:$M$271,12,0) -> 0 | BA67: =VLOOKUP($A67,[12]Hoja1!$A$3:$M$271,13,0) -> 0 | BB67: =AZ67+BA67 -> 0 | BC67: =$D67*BB67 -> 0
A68: 59 | B68: SONDA DE SUCCION CERRADA N° 5 FR | C68: 1 UNIDAD DE SONDA | D68: 1 | E68: UN | F68: 54000 | G68: 1.6666667 | H68: =VLOOKUP($A68,[1]Hoja1!$A$3:$G$271,6,0) -> 0 | I68: =VLOOKUP($A68,[1]Hoja1!$A$3:$G$271,7,0) -> 0 | J68: =H68+I68 -> 0 | K68: =$D68*J68 -> 0 | L68: =VLOOKUP($A68,[2]Hoja1!$A$3:$G$271,6,0) -> 0 | M68: =VLOOKUP($A68,[2]Hoja1!$A$3:$G$271,7,0) -> 0 | N68: =L68+M68 -> 0 | O68: =$D68*N68 -> 0 | P68: =VLOOKUP($A68,[3]Hoja1!$A$3:$M$271,12,0) -> 0 | Q68: =VLOOKUP($A68,[3]Hoja1!$A$3:$M$271,13,0) -> 0 | R68: =P68+Q68 -> 0 | S68: =$D68*R68 -> 0 | T68: =VLOOKUP($A68,[4]Hoja1!$A$3:$G$271,6,0) -> 0 | U68: =VLOOKUP($A68,[4]Hoja1!$A$3:$G$271,7,0) -> 0 | V68: =T68+U68 -> 0 | W68: =$D68*V68 -> 0 | X68: =VLOOKUP($A68,[5]Hoja1!$A$3:$G$271,6,0) -> 0 | Y68: =VLOOKUP($A68,[5]Hoja1!$A$3:$G$271,7,0) -> 0 | Z68: =X68+Y68 -> 0 | AA68: =$D68*Z68 -> 0 | AB68: =VLOOKUP($A68,[6]Hoja1!$A$3:$G$271,6,0) -> 0 | AC68: =VLOOKUP($A68,[6]Hoja1!$A$3:$G$271,7,0) -> 0 | AD68: =AB68+AC68 -> 0 | AE68: =$D68*AD68 -> 0 | AF68: =VLOOKUP($A68,[7]Hoja1!$A$3:$M$271,12,0) -> 0 | AG68: =VLOOKUP($A68,[7]Hoja1!$A$3:$M$271,13,0) -> 0 | AH68: =AF68+AG68 -> 0 | AI68: =$D68*AH68 -> 0 | AJ68: =VLOOKUP($A68,[8]Hoja1!$A$3:$G$271,6,0) -> 0 | AK68: =VLOOKUP($A68,[8]Hoja1!$A$3:$G$271,7,0) -> 0 | AL68: =AJ68+AK68 -> 0 | AM68: =$D68*AL68 -> 0 | AN68: =VLOOKUP($A68,[9]Hoja1!$A$5:$G$273,6,0) -> 0 | AO68: =VLOOKUP($A68,[9]Hoja1!$A$5:$G$273,7,0) -> 0 | AP68: =AN68+AO68 -> 0 | AQ68: =$D68*AP68 -> 0 | AR68: =VLOOKUP($A68,[10]Hoja1!$A$3:$M$271,12,0) -> 0 | AS68: =VLOOKUP($A68,[10]Hoja1!$A$3:$M$271,13,0) -> 0 | AT68: =AR68+AS68 -> 0 | AU68: =$D68*AT68 -> 0 | AV68: =VLOOKUP($A68,[11]Hoja1!$A$3:$M$271,12,0) -> 0 | AW68: =VLOOKUP($A68,[11]Hoja1!$A$3:$M$271,13,0) -> 0 | AX68: =AV68+AW68 -> 0 | AY68: =$D68*AX68 -> 0 | AZ68: =VLOOKUP($A68,[12]Hoja1!$A$3:$M$271,12,0) -> 0 | BA68: =VLOOKUP($A68,[12]Hoja1!$A$3:$M$271,13,0) -> 0 | BB68: =AZ68+BA68 -> 0 | BC68: =$D68*BB68 -> 0
A69: 60 | B69: SONDA DE SUCCION CERRADA NO 14 CON PUERTO PARA INHALADOR | C69: 1 UNIDAD DE SONDA | D69: 1 | E69: UN | F69: 54068.75 | G69: 263.33333 | H69: =VLOOKUP($A69,[1]Hoja1!$A$3:$G$271,6,0) -> 0 | I69: =VLOOKUP($A69,[1]Hoja1!$A$3:$G$271,7,0) -> 0 | J69: =H69+I69 -> 0 | K69: =$D69*J69 -> 0 | L69: =VLOOKUP($A69,[2]Hoja1!$A$3:$G$271,6,0) -> 0 | M69: =VLOOKUP($A69,[2]Hoja1!$A$3:$G$271,7,0) -> 0 | N69: =L69+M69 -> 0 | O69: =$D69*N69 -> 0 | P69: =VLOOKUP($A69,[3]Hoja1!$A$3:$M$271,12,0) -> 0 | Q69: =VLOOKUP($A69,[3]Hoja1!$A$3:$M$271,13,0) -> 0 | R69: =P69+Q69 -> 0 | S69: =$D69*R69 -> 0 | T69: =VLOOKUP($A69,[4]Hoja1!$A$3:$G$271,6,0) -> 68182 | U69: =VLOOKUP($A69,[4]Hoja1!$A$3:$G$271,7,0) -> 0 | V69: =T69+U69 -> 68182 | W69: =$D69*V69 -> 68182 | X69: =VLOOKUP($A69,[5]Hoja1!$A$3:$G$271,6,0) -> 0 | Y69: =VLOOKUP($A69,[5]Hoja1!$A$3:$G$271,7,0) -> 0 | Z69: =X69+Y69 -> 0 | AA69: =$D69*Z69 -> 0 | AB69: =VLOOKUP($A69,[6]Hoja1!$A$3:$G$271,6,0) -> 0 | AC69: =VLOOKUP($A69,[6]Hoja1!$A$3:$G$271,7,0) -> 0 | AD69: =AB69+AC69 -> 0 | AE69: =$D69*AD69 -> 0 | AF69: =VLOOKUP($A69,[7]Hoja1!$A$3:$M$271,12,0) -> 0 | AG69: =VLOOKUP($A69,[7]Hoja1!$A$3:$M$271,13,0) -> 0 | AH69: =AF69+AG69 -> 0 | AI69: =$D69*AH69 -> 0 | AJ69: =VLOOKUP($A69,[8]Hoja1!$A$3:$G$271,6,0) -> 0 | AK69: =VLOOKUP($A69,[8]Hoja1!$A$3:$G$271,7,0) -> 0 | AL69: =AJ69+AK69 -> 0 | AM69: =$D69*AL69 -> 0 | AN69: =VLOOKUP($A69,[9]Hoja1!$A$5:$G$273,6,0) -> 0 | AO69: =VLOOKUP($A69,[9]Hoja1!$A$5:$G$273,7,0) -> 0 | AP69: =AN69+AO69 -> 0 | AQ69: =$D69*AP69 -> 0 | AR69: =VLOOKUP($A69,[10]Hoja1!$A$3:$M$271,12,0) -> 0 | AS69: =VLOOKUP($A69,[10]Hoja1!$A$3:$M$271,13,0) -> 0 | AT69: =AR69+AS69 -> 0 | AU69: =$D69*AT69 -> 0 | AV69: =VLOOKUP($A69,[11]Hoja1!$A$3:$M$271,12,0) -> 0 | AW69: =VLOOKUP($A69,[11]Hoja1!$A$3:$M$271,13,0) -> 0 | AX69: =AV69+AW69 -> 0 | AY69: =$D69*AX69 -> 0 | AZ69: =VLOOKUP($A69,[12]Hoja1!$A$3:$M$271,12,0) -> 0 | BA69: =VLOOKUP($A69,[12]Hoja1!$A$3:$M$271,13,0) -> 0 | BB69: =AZ69+BA69 -> 0 | BC69: =$D69*BB69 -> 0
A70: 61 | B70: VALVULA DE SUCCION DESECHABLE | C70: 1 UNIDAD DE VALVULA DE SUCCION | D70: 1 | E70: UN | F70: 996934 | G70: 3.6666667 | H70: =VLOOKUP($A70,[1]Hoja1!$A$3:$G$271,6,0) -> 0 | I70: =VLOOKUP($A70,[1]Hoja1!$A$3:$G$271,7,0) -> 0 | J70: =H70+I70 -> 0 | K70: =$D70*J70 -> 0 | L70: =VLOOKUP($A70,[2]Hoja1!$A$3:$G$271,6,0) -> 0 | M70: =VLOOKUP($A70,[2]Hoja1!$A$3:$G$271,7,0) -> 0 | N70: =L70+M70 -> 0 | O70: =$D70*N70 -> 0 | P70: =VLOOKUP($A70,[3]Hoja1!$A$3:$M$271,12,0) -> 0 | Q70: =VLOOKUP($A70,[3]Hoja1!$A$3:$M$271,13,0) -> 0 | R70: =P70+Q70 -> 0 | S70: =$D70*R70 -> 0 | T70: =VLOOKUP($A70,[4]Hoja1!$A$3:$G$271,6,0) -> 0 | U70: =VLOOKUP($A70,[4]Hoja1!$A$3:$G$271,7,0) -> 0 | V70: =T70+U70 -> 0 | W70: =$D70*V70 -> 0 | X70: =VLOOKUP($A70,[5]Hoja1!$A$3:$G$271,6,0) -> 0 | Y70: =VLOOKUP($A70,[5]Hoja1!$A$3:$G$271,7,0) -> 0 | Z70: =X70+Y70 -> 0 | AA70: =$D70*Z70 -> 0 | AB70: =VLOOKUP($A70,[6]Hoja1!$A$3:$G$271,6,0) -> 0 | AC70: =VLOOKUP($A70,[6]Hoja1!$A$3:$G$271,7,0) -> 0 | AD70: =AB70+AC70 -> 0 | AE70: =$D70*AD70 -> 0 | AF70: =VLOOKUP($A70,[7]Hoja1!$A$3:$M$271,12,0) -> 0 | AG70: =VLOOKUP($A70,[7]Hoja1!$A$3:$M$271,13,0) -> 0 | AH70: =AF70+AG70 -> 0 | AI70: =$D70*AH70 -> 0 | AJ70: =VLOOKUP($A70,[8]Hoja1!$A$3:$G$271,6,0) -> 0 | AK70: =VLOOKUP($A70,[8]Hoja1!$A$3:$G$271,7,0) -> 0 | AL70: =AJ70+AK70 -> 0 | AM70: =$D70*AL70 -> 0 | AN70: =VLOOKUP($A70,[9]Hoja1!$A$5:$G$273,6,0) -> 0 | AO70: =VLOOKUP($A70,[9]Hoja1!$A$5:$G$273,7,0) -> 0 | AP70: =AN70+AO70 -> 0 | AQ70: =$D70*AP70 -> 0 | AR70: =VLOOKUP($A70,[10]Hoja1!$A$3:$M$271,12,0) -> 0 | AS70: =VLOOKUP($A70,[10]Hoja1!$A$3:$M$271,13,0) -> 0 | AT70: =AR70+AS70 -> 0 | AU70: =$D70*AT70 -> 0 | AV70: =VLOOKUP($A70,[11]Hoja1!$A$3:$M$271,12,0) -> 0 | AW70: =VLOOKUP($A70,[11]Hoja1!$A$3:$M$271,13,0) -> 0 | AX70: =AV70+AW70 -> 0 | AY70: =$D70*AX70 -> 0 | AZ70: =VLOOKUP($A70,[12]Hoja1!$A$3:$M$271,12,0) -> 0 | BA70: =VLOOKUP($A70,[12]Hoja1!$A$3:$M$271,13,0) -> 0 | BB70: =AZ70+BA70 -> 0 | BC70: =$D70*BB70 -> 0
A71: 62 | B71: BOLSA DE DRENAJE URINARIO ADULTO CON SISTEMA CERRRADO, SIN PUERTO PARA TOMA DE MUESTRA Y SIN VALVULA ANTIREFLUJO Y CONECTOR UNIVERSAL. | C71: 1 UNIDAD DE BOLSA DRENAJE URINARIO | D71: 1 | E71: UN | F71: 4046 | G71: 1288.7 | H71: =VLOOKUP($A71,[1]Hoja1!$A$3:$G$271,6,0) -> 0 | I71: =VLOOKUP($A71,[1]Hoja1!$A$3:$G$271,7,0) -> 0 | J71: =H71+I71 -> 0 | K71: =$D71*J71 -> 0 | L71: =VLOOKUP($A71,[2]Hoja1!$A$3:$G$271,6,0) -> 0 | M71: =VLOOKUP($A71,[2]Hoja1!$A$3:$G$271,7,0) -> 0 | N71: =L71+M71 -> 0 | O71: =$D71*N71 -> 0 | P71: =VLOOKUP($A71,[3]Hoja1!$A$3:$M$271,12,0) -> 3245 | Q71: =VLOOKUP($A71,[3]Hoja1!$A$3:$M$271,13,0) -> 0 | R71: =P71+Q71 -> 3245 | S71: =$D71*R71 -> 3245 | T71: =VLOOKUP($A71,[4]Hoja1!$A$3:$G$271,6,0) -> 4545 | U71: =VLOOKUP($A71,[4]Hoja1!$A$3:$G$271,7,0) -> 0 | V71: =T71+U71 -> 4545 | W71: =$D71*V71 -> 4545 | X71: =VLOOKUP($A71,[5]Hoja1!$A$3:$G$271,6,0) -> 0 | Y71: =VLOOKUP($A71,[5]Hoja1!$A$3:$G$271,7,0) -> 0 | Z71: =X71+Y71 -> 0 | AA71: =$D71*Z71 -> 0 | AB71: =VLOOKUP($A71,[6]Hoja1!$A$3:$G$271,6,0) -> 0 | AC71: =VLOOKUP($A71,[6]Hoja1!$A$3:$G$271,7,0) -> 0 | AD71: =AB71+AC71 -> 0 | AE71: =$D71*AD71 -> 0 | AF71: =VLOOKUP($A71,[7]Hoja1!$A$3:$M$271,12,0) -> 0 | AG71: =VLOOKUP($A71,[7]Hoja1!$A$3:$M$271,13,0) -> 0 | AH71: =AF71+AG71 -> 0 | AI71: =$D71*AH71 -> 0 | AJ71: =VLOOKUP($A71,[8]Hoja1!$A$3:$G$271,6,0) -> 4620 | AK71: =VLOOKUP($A71,[8]Hoja1!$A$3:$G$271,7,0) -> 0 | AL71: =AJ71+AK71 -> 4620 | AM71: =$D71*AL71 -> 4620 | AN71: =VLOOKUP($A71,[9]Hoja1!$A$5:$G$273,6,0) -> 3347 | AO71: =VLOOKUP($A71,[9]Hoja1!$A$5:$G$273,7,0) -> 0 | AP71: =AN71+AO71 -> 3347 | AQ71: =$D71*AP71 -> 3347 | AR71: =VLOOKUP($A71,[10]Hoja1!$A$3:$M$271,12,0) -> 0 | AS71: =VLOOKUP($A71,[10]Hoja1!$A$3:$M$271,13,0) -> 0 | AT71: =AR71+AS71 -> 0 | AU71: =$D71*AT71 -> 0 | AV71: =VLOOKUP($A71,[11]Hoja1!$A$3:$M$271,12,0) -> 0 | AW71: =VLOOKUP($A71,[11]Hoja1!$A$3:$M$271,13,0) -> 0 | AX71: =AV71+AW71 -> 0 | AY71: =$D71*AX71 -> 0 | AZ71: =VLOOKUP($A71,[12]Hoja1!$A$3:$M$271,12,0) -> 0 | BA71: =VLOOKUP($A71,[12]Hoja1!$A$3:$M$271,13,0) -> 0 | BB71: =AZ71+BA71 -> 0 | BC71: =$D71*BB71 -> 0
A72: 63 | B72: CANULA DE GUEDELL N. 0 | C72: 1 UNIDAD DE CANULA | D72: 1 | E72: UN | F72: 759 | G72: 1.3333333 | H72: =VLOOKUP($A72,[1]Hoja1!$A$3:$G$271,6,0) -> 0 | I72: =VLOOKUP($A72,[1]Hoja1!$A$3:$G$271,7,0) -> 0 | J72: =H72+I72 -> 0 | K72: =$D72*J72 -> 0 | L72: =VLOOKUP($A72,[2]Hoja1!$A$3:$G$271,6,0) -> 0 | M72: =VLOOKUP($A72,[2]Hoja1!$A$3:$G$271,7,0) -> 0 | N72: =L72+M72 -> 0 | O72: =$D72*N72 -> 0 | P72: =VLOOKUP($A72,[3]Hoja1!$A$3:$M$271,12,0) -> 714 | Q72: =VLOOKUP($A72,[3]Hoja1!$A$3:$M$271,13,0) -> 0 | R72: =P72+Q72 -> 714 | S72: =$D72*R72 -> 714 | T72: =VLOOKUP($A72,[4]Hoja1!$A$3:$G$271,6,0) -> 793 | U72: =VLOOKUP($A72,[4]Hoja1!$A$3:$G$271,7,0) -> 0 | V72: =T72+U72 -> 793 | W72: =$D72*V72 -> 793 | X72: =VLOOKUP($A72,[5]Hoja1!$A$3:$G$271,6,0) -> 841 | Z72: =X72+Y72 -> 841 | AA72: =$D72*Z72 -> 841 | AB72: =VLOOKUP($A72,[6]Hoja1!$A$3:$G$271,6,0) -> 0 | AC72: =VLOOKUP($A72,[6]Hoja1!$A$3:$G$271,7,0) -> 0 | AD72: =AB72+AC72 -> 0 | AE72: =$D72*AD72 -> 0 | AF72: =VLOOKUP($A72,[7]Hoja1!$A$3:$M$271,12,0) -> 0 | AG72: =VLOOKUP($A72,[7]Hoja1!$A$3:$M$271,13,0) -> 0 | AH72: =AF72+AG72 -> 0 | AI72: =$D72*AH72 -> 0 | AJ72: =VLOOKUP($A72,[8]Hoja1!$A$3:$G$271,6,0) -> 850 | AK72: =VLOOKUP($A72,[8]Hoja1!$A$3:$G$271,7,0) -> 0 | AL72: =AJ72+AK72 -> 850 | AM72: =$D72*AL72 -> 850 | AN72: =VLOOKUP($A72,[9]Hoja1!$A$5:$G$273,6,0) -> 759 | AO72: =VLOOKUP($A72,[9]Hoja1!$A$5:$G$273,7,0) -> 0 | AP72: =AN72+AO72 -> 759 | AQ72: =$D72*AP72 -> 759 | AR72: =VLOOKUP($A72,[10]Hoja1!$A$3:$M$271,12,0) -> 0 | AS72: =VLOOKUP($A72,[10]Hoja1!$A$3:$M$271,13,0) -> 0 | AT72: =AR72+AS72 -> 0 | AU72: =$D72*AT72 -> 0 | AV72: =VLOOKUP($A72,[11]Hoja1!$A$3:$M$271,12,0) -> 0 | AW72: =VLOOKUP($A72,[11]Hoja1!$A$3:$M$271,13,0) -> 0 | AX72: =AV72+AW72 -> 0 | AY72: =$D72*AX72 -> 0 | AZ72: =VLOOKUP($A72,[12]Hoja1!$A$3:$M$271,12,0) -> 0 | BA72: =VLOOKUP($A72,[12]Hoja1!$A$3:$M$271,13,0) -> 0 | BB72: =AZ72+BA72 -> 0 | BC72: =$D72*BB72 -> 0
A73: 64 | B73: CANULA DE GUEDELL N. 1 | C73: 1 UNIDAD DE CANULA | D73: 1 | E73: UN | F73: 759 | G73: 8.3333333 | H73: =VLOOKUP($A73,[1]Hoja1!$A$3:$G$271,6,0) -> 0 | I73: =VLOOKUP($A73,[1]Hoja1!$A$3:$G$271,7,0) -> 0 | J73: =H73+I73 -> 0 | K73: =$D73*J73 -> 0 | L73: =VLOOKUP($A73,[2]Hoja1!$A$3:$G$271,6,0) -> 0 | M73: =VLOOKUP($A73,[2]Hoja1!$A$3:$G$271,7,0) -> 0 | N73: =L73+M73 -> 0 | O73: =$D73*N73 -> 0 | P73: =VLOOKUP($A73,[3]Hoja1!$A$3:$M$271,12,0) -> 714 | Q73: =VLOOKUP($A73,[3]Hoja1!$A$3:$M$271,13,0) -> 0 | R73: =P73+Q73 -> 714 | S73: =$D73*R73 -> 714 | T73: =VLOOKUP($A73,[4]Hoja1!$A$3:$G$271,6,0) -> 793 | U73: =VLOOKUP($A73,[4]Hoja1!$A$3:$G$271,7,0) -> 0 | V73: =T73+U73 -> 793 | W73: =$D73*V73 -> 793 | X73: =VLOOKUP($A73,[5]Hoja1!$A$3:$G$271,6,0) -> 1496 | Z73: =X73+Y73 -> 1496 | AA73: =$D73*Z73 -> 1496 | AB73: =VLOOKUP($A73,[6]Hoja1!$A$3:$G$271,6,0) -> 0 | AC73: =VLOOKUP($A73,[6]Hoja1!$A$3:$G$271,7,0) -> 0 | AD73: =AB73+AC73 -> 0 | AE73: =$D73*AD73 -> 0 | AF73: =VLOOKUP($A73,[7]Hoja1!$A$3:$M$271,12,0) -> 0 | AG73: =VLOOKUP($A73,[7]Hoja1!$A$3:$M$271,13,0) -> 0 | AH73: =AF73+AG73 -> 0 | AI73: =$D73*AH73 -> 0 | AJ73: =VLOOKUP($A73,[8]Hoja1!$A$3:$G$271,6,0) -> 850 | AK73: =VLOOKUP($A73,[8]Hoja1!$A$3:$G$271,7,0) -> 0 | AL73: =AJ73+AK73 -> 850 | AM73: =$D73*AL73 -> 850 | AN73: =VLOOKUP($A73,[9]Hoja1!$A$5:$G$273,6,0) -> 759 | AO73: =VLOOKUP($A73,[9]Hoja1!$A$5:$G$273,7,0) -> 0 | AP73: =AN73+AO73 -> 759 | AQ73: =$D73*AP73 -> 759 | AR73: =VLOOKUP($A73,[10]Hoja1!$A$3:$M$271,12,0) -> 0 | AS73: =VLOOKUP($A73,[10]Hoja1!$A$3:$M$271,13,0) -> 0 | AT73: =AR73+AS73 -> 0 | AU73: =$D73*AT73 -> 0 | AV73: =VLOOKUP($A73,[11]Hoja1!$A$3:$M$271,12,0) -> 0 | AW73: =VLOOKUP($A73,[11]Hoja1!$A$3:$M$271,13,0) -> 0 | AX73: =AV73+AW73 -> 0 | AY73: =$D73*AX73 -> 0 | AZ73: =VLOOKUP($A73,[12]Hoja1!$A$3:$M$271,12,0) -> 0 | BA73: =VLOOKUP($A73,[12]Hoja1!$A$3:$M$271,13,0) -> 0 | BB73: =AZ73+BA73 -> 0 | BC73: =$D73*BB73 -> 0
A74: 65 | B74: CANULA DE GUEDELL N. 2 | C74: 1 UNIDAD DE CANULA | D74: 1 | E74: UN | F74: 759 | G74: 12.333333 | H74: =VLOOKUP($A74,[1]Hoja1!$A$3:$G$271,6,0) -> 0 | I74: =VLOOKUP($A74,[1]Hoja1!$A$3:$G$271,7,0) -> 0 | J74: =H74+I74 -> 0 | K74: =$D74*J74 -> 0 | L74: =VLOOKUP($A74,[2]Hoja1!$A$3:$G$271,6,0) -> 0 | M74: =VLOOKUP($A74,[2]Hoja1!$A$3:$G$271,7,0) -> 0 | N74: =L74+M74 -> 0 | O74: =$D74*N74 -> 0 | P74: =VLOOKUP($A74,[3]Hoja1!$A$3:$M$271,12,0) -> 714 | Q74: =VLOOKUP($A74,[3]Hoja1!$A$3:$M$271,13,0) -> 0 | R74: =P74+Q74 -> 714 | S74: =$D74*R74 -> 714 | T74: =VLOOKUP($A74,[4]Hoja1!$A$3:$G$271,6,0) -> 793 | U74: =VLOOKUP($A74,[4]Hoja1!$A$3:$G$271,7,0) -> 0 | V74: =T74+U74 -> 793 | W74: =$D74*V74 -> 793 | X74: =VLOOKUP($A74,[5]Hoja1!$A$3:$G$271,6,0) -> 1151 | Z74: =X74+Y74 -> 1151 | AA74: =$D74*Z74 -> 1151 | AB74: =VLOOKUP($A74,[6]Hoja1!$A$3:$G$271,6,0) -> 0 | AC74: =VLOOKUP($A74,[6]Hoja1!$A$3:$G$271,7,0) -> 0 | AD74: =AB74+AC74 -> 0 | AE74: =$D74*AD74 -> 0 | AF74: =VLOOKUP($A74,[7]Hoja1!$A$3:$M$271,12,0) -> 0 | AG74: =VLOOKUP($A74,[7]Hoja1!$A$3:$M$271,13,0) -> 0 | AH74: =AF74+AG74 -> 0 | AI74: =$D74*AH74 -> 0 | AJ74: =VLOOKUP($A74,[8]Hoja1!$A$3:$G$271,6,0) -> 850 | AK74: =VLOOKUP($A74,[8]Hoja1!$A$3:$G$271,7,0) -> 0 | AL74: =AJ74+AK74 -> 850 | AM74: =$D74*AL74 -> 850 | AN74: =VLOOKUP($A74,[9]Hoja1!$A$5:$G$273,6,0) -> 759 | AO74: =VLOOKUP($A74,[9]Hoja1!$A$5:$G$273,7,0) -> 0 | AP74: =AN74+AO74 -> 759 | AQ74: =$D74*AP74 -> 759 | AR74: =VLOOKUP($A74,[10]Hoja1!$A$3:$M$271,12,0) -> 0 | AS74: =VLOOKUP($A74,[10]Hoja1!$A$3:$M$271,13,0) -> 0 | AT74: =AR74+AS74 -> 0 | AU74: =$D74*AT74 -> 0 | AV74: =VLOOKUP($A74,[11]Hoja1!$A$3:$M$271,12,0) -> 0 | AW74: =VLOOKUP($A74,[11]Hoja1!$A$3:$M$271,13,0) -> 0 | AX74: =AV74+AW74 -> 0 | AY74: =$D74*AX74 -> 0 | AZ74: =VLOOKUP($A74,[12]Hoja1!$A$3:$M$271,12,0) -> 0 | BA74: =VLOOKUP($A74,[12]Hoja1!$A$3:$M$271,13,0) -> 0 | BB74: =AZ74+BA74 -> 0 | BC74: =$D74*BB74 -> 0
A75: 66 | B75: CANULA DE GUEDELL N. 3 | C75: 1 UNIDAD DE CANULA | D75: 1 | E75: UN | F75: 759 | G75: 17 | H75: =VLOOKUP($A75,[1]Hoja1!$A$3:$G$271,6,0) -> 0 | I75: =VLOOKUP($A75,[1]Hoja1!$A$3:$G$271,7,0) -> 0 | J75: =H75+I75 -> 0 | K75: =$D75*J75 -> 0 | L75: =VLOOKUP($A75,[2]Hoja1!$A$3:$G$271,6,0) -> 0 | M75: =VLOOKUP($A75,[2]Hoja1!$A$3:$G$271,7,0) -> 0 | N75: =L75+M75 -> 0 | O75: =$D75*N75 -> 0 | P75: =VLOOKUP($A75,[3]Hoja1!$A$3:$M$271,12,0) -> 714 | Q75: =VLOOKUP($A75,[3]Hoja1!$A$3:$M$271,13,0) -> 0 | R75: =P75+Q75 -> 714 | S75: =$D75*R75 -> 714 | T75: =VLOOKUP($A75,[4]Hoja1!$A$3:$G$271,6,0) -> 793 | U75: =VLOOKUP($A75,[4]Hoja1!$A$3:$G$271,7,0) -> 0 | V75: =T75+U75 -> 793 | W75: =$D75*V75 -> 793 | X75: =VLOOKUP($A75,[5]Hoja1!$A$3:$G$271,6,0) -> 2049 | Z75: =X75+Y75 -> 2049 | AA75: =$D75*Z75 -> 2049 | AB75: =VLOOKUP($A75,[6]Hoja1!$A$3:$G$271,6,0) -> 0 | AC75: =VLOOKUP($A75,[6]Hoja1!$A$3:$G$271,7,0) -> 0 | AD75: =AB75+AC75 -> 0 | AE75: =$D75*AD75 -> 0 | AF75: =VLOOKUP($A75,[7]Hoja1!$A$3:$M$271,12,0) -> 0 | AG75: =VLOOKUP($A75,[7]Hoja1!$A$3:$M$271,13,0) -> 0 | AH75: =AF75+AG75 -> 0 | AI75: =$D75*AH75 -> 0 | AJ75: =VLOOKUP($A75,[8]Hoja1!$A$3:$G$271,6,0) -> 850 | AK75: =VLOOKUP($A75,[8]Hoja1!$A$3:$G$271,7,0) -> 0 | AL75: =AJ75+AK75 -> 850 | AM75: =$D75*AL75 -> 850 | AN75: =VLOOKUP($A75,[9]Hoja1!$A$5:$G$273,6,0) -> 759 | AO75: =VLOOKUP($A75,[9]Hoja1!$A$5:$G$273,7,0) -> 0 | AP75: =AN75+AO75 -> 759 | AQ75: =$D75*AP75 -> 759 | AR75: =VLOOKUP($A75,[10]Hoja1!$A$3:$M$271,12,0) -> 0 | AS75: =VLOOKUP($A75,[10]Hoja1!$A$3:$M$271,13,0) -> 0 | AT75: =AR75+AS75 -> 0 | AU75: =$D75*AT75 -> 0 | AV75: =VLOOKUP($A75,[11]Hoja1!$A$3:$M$271,12,0) -> 0 | AW75: =VLOOKUP($A75,[11]Hoja1!$A$3:$M$271,13,0) -> 0 | AX75: =AV75+AW75 -> 0 | AY75: =$D75*AX75 -> 0 | AZ75: =VLOOKUP($A75,[12]Hoja1!$A$3:$M$271,12,0) -> 0 | BA75: =VLOOKUP($A75,[12]Hoja1!$A$3:$M$271,13,0) -> 0 | BB75: =AZ75+BA75 -> 0 | BC75: =$D75*BB75 -> 0
A76: 67 | B76: CANULA DE GUEDELL N. 4 | C76: 1 UNIDAD DE CANULA | D76: 1 | E76: UN | F76: 759 | G76: 57 | H76: =VLOOKUP($A76,[1]Hoja1!$A$3:$G$271,6,0) -> 0 | I76: =VLOOKUP($A76,[1]Hoja1!$A$3:$G$271,7,0) -> 0 | J76: =H76+I76 -> 0 | K76: =$D76*J76 -> 0 | L76: =VLOOKUP($A76,[2]Hoja1!$A$3:$G$271,6,0) -> 0 | M76: =VLOOKUP($A76,[2]Hoja1!$A$3:$G$271,7,0) -> 0 | N76: =L76+M76 -> 0 | O76: =$D76*N76 -> 0 | P76: =VLOOKUP($A76,[3]Hoja1!$A$3:$M$271,12,0) -> 714 | Q76: =VLOOKUP($A76,[3]Hoja1!$A$3:$M$271,13,0) -> 0 | R76: =P76+Q76 -> 714 | S76: =$D76*R76 -> 714 | T76: =VLOOKUP($A76,[4]Hoja1!$A$3:$G$271,6,0) -> 793 | U76: =VLOOKUP($A76,[4]Hoja1!$A$3:$G$271,7,0) -> 0 | V76: =T76+U76 -> 793 | W76: =$D76*V76 -> 793 | X76: =VLOOKUP($A76,[5]Hoja1!$A$3:$G$271,6,0) -> 2049 | Z76: =X76+Y76 -> 2049 | AA76: =$D76*Z76 -> 2049 | AB76: =VLOOKUP($A76,[6]Hoja1!$A$3:$G$271,6,0) -> 0 | AC76: =VLOOKUP($A76,[6]Hoja1!$A$3:$G$271,7,0) -> 0 | AD76: =AB76+AC76 -> 0 | AE76: =$D76*AD76 -> 0 | AF76: =VLOOKUP($A76,[7]Hoja1!$A$3:$M$271,12,0) -> 0 | AG76: =VLOOKUP($A76,[7]Hoja1!$A$3:$M$271,13,0) -> 0 | AH76: =AF76+AG76 -> 0 | AI76: =$D76*AH76 -> 0 | AJ76: =VLOOKUP($A76,[8]Hoja1!$A$3:$G$271,6,0) -> 850 | AK76: =VLOOKUP($A76,[8]Hoja1!$A$3:$G$271,7,0) -> 0 | AL76: =AJ76+AK76 -> 850 | AM76: =$D76*AL76 -> 850 | AN76: =VLOOKUP($A76,[9]Hoja1!$A$5:$G$273,6,0) -> 759 | AO76: =VLOOKUP($A76,[9]Hoja1!$A$5:$G$273,7,0) -> 0 | AP76: =AN76+AO76 -> 759 | AQ76: =$D76*AP76 -> 759 | AR76: =VLOOKUP($A76,[10]Hoja1!$A$3:$M$271,12,0) -> 0 | AS76: =VLOOKUP($A76,[10]Hoja1!$A$3:$M$271,13,0) -> 0 | AT76: =AR76+AS76 -> 0 | AU76: =$D76*AT76 -> 0 | AV76: =VLOOKUP($A76,[11]Hoja1!$A$3:$M$271,12,0) -> 0 | AW76: =VLOOKUP($A76,[11]Hoja1!$A$3:$M$271,13,0) -> 0 | AX76: =AV76+AW76 -> 0 | AY76: =$D76*AX76 -> 0 | AZ76: =VLOOKUP($A76,[12]Hoja1!$A$3:$M$271,12,0) -> 0 | BA76: =VLOOKUP($A76,[12]Hoja1!$A$3:$M$271,13,0) -> 0 | BB76: =AZ76+BA76 -> 0 | BC76: =$D76*BB76 -> 0
A77: 68 | B77: CANULA DE GUEDELL N. 5 | C77: 1 UNIDAD DE CANULA | D77: 1 | E77: UN | F77: 759 | G77: 84 | H77: =VLOOKUP($A77,[1]Hoja1!$A$3:$G$271,6,0) -> 0 | I77: =VLOOKUP($A77,[1]Hoja1!$A$3:$G$271,7,0) -> 0 | J77: =H77+I77 -> 0 | K77: =$D77*J77 -> 0 | L77: =VLOOKUP($A77,[2]Hoja1!$A$3:$G$271,6,0) -> 0 | M77: =VLOOKUP($A77,[2]Hoja1!$A$3:$G$271,7,0) -> 0 | N77: =L77+M77 -> 0 | O77: =$D77*N77 -> 0 | P77: =VLOOKUP($A77,[3]Hoja1!$A$3:$M$271,12,0) -> 714 | Q77: =VLOOKUP($A77,[3]Hoja1!$A$3:$M$271,13,0) -> 0 | R77: =P77+Q77 -> 714 | S77: =$D77*R77 -> 714 | T77: =VLOOKUP($A77,[4]Hoja1!$A$3:$G$271,6,0) -> 793 | U77: =VLOOKUP($A77,[4]Hoja1!$A$3:$G$271,7,0) -> 0 | V77: =T77+U77 -> 793 | W77: =$D77*V77 -> 793 | X77: =VLOOKUP($A77,[5]Hoja1!$A$3:$G$271,6,0) -> 1574 | Z77: =X77+Y77 -> 1574 | AA77: =$D77*Z77 -> 1574 | AB77: =VLOOKUP($A77,[6]Hoja1!$A$3:$G$271,6,0) -> 0 | AC77: =VLOOKUP($A77,[6]Hoja1!$A$3:$G$271,7,0) -> 0 | AD77: =AB77+AC77 -> 0 | AE77: =$D77*AD77 -> 0 | AF77: =VLOOKUP($A77,[7]Hoja1!$A$3:$M$271,12,0) -> 0 | AG77: =VLOOKUP($A77,[7]Hoja1!$A$3:$M$271,13,0) -> 0 | AH77: =AF77+AG77 -> 0 | AI77: =$D77*AH77 -> 0 | AJ77: =VLOOKUP($A77,[8]Hoja1!$A$3:$G$271,6,0) -> 850 | AK77: =VLOOKUP($A77,[8]Hoja1!$A$3:$G$271,7,0) -> 0 | AL77: =AJ77+AK77 -> 850 | AM77: =$D77*AL77 -> 850 | AN77: =VLOOKUP($A77,[9]Hoja1!$A$5:$G$273,6,0) -> 759 | AO77: =VLOOKUP($A77,[9]Hoja1!$A$5:$G$273,7,0) -> 0 | AP77: =AN77+AO77 -> 759 | AQ77: =$D77*AP77 -> 759 | AR77: =VLOOKUP($A77,[10]Hoja1!$A$3:$M$271,12,0) -> 0 | AS77: =VLOOKUP($A77,[10]Hoja1!$A$3:$M$271,13,0) -> 0 | AT77: =AR77+AS77 -> 0 | AU77: =$D77*AT77 -> 0 | AV77: =VLOOKUP($A77,[11]Hoja1!$A$3:$M$271,12,0) -> 0 | AW77: =VLOOKUP($A77,[11]Hoja1!$A$3:$M$271,13,0) -> 0 | AX77: =AV77+AW77 -> 0 | AY77: =$D77*AX77 -> 0 | AZ77: =VLOOKUP($A77,[12]Hoja1!$A$3:$M$271,12,0) -> 0 | BA77: =VLOOKUP($A77,[12]Hoja1!$A$3:$M$271,13,0) -> 0 | BB77: =AZ77+BA77 -> 0 | BC77: =$D77*BB77 -> 0
A78: 69 | B78: CANULA DE TRAQUEOSTOMIA 5 CON BALON | C78: 1 UNIDAD DE CANULA | D78: 1 | E78: UN | F78: 15466 | G78: 1 | H78: =VLOOKUP($A78,[1]Hoja1!$A$3:$G$271,6,0) -> 0 | I78: =VLOOKUP($A78,[1]Hoja1!$A$3:$G$271,7,0) -> 0 | J78: =H78+I78 -> 0 | K78: =$D78*J78 -> 0 | L78: =VLOOKUP($A78,[2]Hoja1!$A$3:$G$271,6,0) -> 0 | M78: =VLOOKUP($A78,[2]Hoja1!$A$3:$G$271,7,0) -> 0 | N78: =L78+M78 -> 0 | O78: =$D78*N78 -> 0 | P78: =VLOOKUP($A78,[3]Hoja1!$A$3:$M$271,12,0) -> 14945 | Q78: =VLOOKUP($A78,[3]Hoja1!$A$3:$M$271,13,0) -> 0 | R78: =P78+Q78 -> 14945 | S78: =$D78*R78 -> 14945 | T78: =VLOOKUP($A78,[4]Hoja1!$A$3:$G$271,6,0) -> 16443 | U78: =VLOOKUP($A78,[4]Hoja1!$A$3:$G$271,7,0) -> 0 | V78: =T78+U78 -> 16443 | W78: =$D78*V78 -> 16443 | X78: =VLOOKUP($A78,[5]Hoja1!$A$3:$G$271,6,0) -> 0 | Y78: =VLOOKUP($A78,[5]Hoja1!$A$3:$G$271,7,0) -> 0 | Z78: =X78+Y78 -> 0 | AA78: =$D78*Z78 -> 0 | AB78: =VLOOKUP($A78,[6]Hoja1!$A$3:$G$271,6,0) -> 0 | AC78: =VLOOKUP($A78,[6]Hoja1!$A$3:$G$271,7,0) -> 0 | AD78: =AB78+AC78 -> 0 | AE78: =$D78*AD78 -> 0 | AF78: =VLOOKUP($A78,[7]Hoja1!$A$3:$M$271,12,0) -> 0 | AG78: =VLOOKUP($A78,[7]Hoja1!$A$3:$M$271,13,0) -> 0 | AH78: =AF78+AG78 -> 0 | AI78: =$D78*AH78 -> 0 | AJ78: =VLOOKUP($A78,[8]Hoja1!$A$3:$G$271,6,0) -> 13750 | AK78: =VLOOKUP($A78,[8]Hoja1!$A$3:$G$271,7,0) -> 0 | AL78: =AJ78+AK78 -> 13750 | AM78: =$D78*AL78 -> 13750 | AN78: =VLOOKUP($A78,[9]Hoja1!$A$5:$G$273,6,0) -> 0 | AO78: =VLOOKUP($A78,[9]Hoja1!$A$5:$G$273,7,0) -> 0 | AP78: =AN78+AO78 -> 0 | AQ78: =$D78*AP78 -> 0 | AR78: =VLOOKUP($A78,[10]Hoja1!$A$3:$M$271,12,0) -> 0 | AS78: =VLOOKUP($A78,[10]Hoja1!$A$3:$M$271,13,0) -> 0 | AT78: =AR78+AS78 -> 0 | AU78: =$D78*AT78 -> 0 | AV78: =VLOOKUP($A78,[11]Hoja1!$A$3:$M$271,12,0) -> 0 | AW78: =VLOOKUP($A78,[11]Hoja1!$A$3:$M$271,13,0) -> 0 | AX78: =AV78+AW78 -> 0 | AY78: =$D78*AX78 -> 0 | AZ78: =VLOOKUP($A78,[12]Hoja1!$A$3:$M$271,12,0) -> 0 | BA78: =VLOOKUP($A78,[12]Hoja1!$A$3:$M$271,13,0) -> 0 | BB78: =AZ78+BA78 -> 0 | BC78: =$D78*BB78 -> 0
A79: 70 | B79: CANULA DE TRAQUEOSTOMIA 5 SIN BALON | C79: 1 UNIDAD DE CANULA | D79: 1 | E79: UN | F79: 10875 | G79: 1 | H79: =VLOOKUP($A79,[1]Hoja1!$A$3:$G$271,6,0) -> 0 | I79: =VLOOKUP($A79,[1]Hoja1!$A$3:$G$271,7,0) -> 0 | J79: =H79+I79 -> 0 | K79: =$D79*J79 -> 0 | L79: =VLOOKUP($A79,[2]Hoja1!$A$3:$G$271,6,0) -> 0 | M79: =VLOOKUP($A79,[2]Hoja1!$A$3:$G$271,7,0) -> 0 | N79: =L79+M79 -> 0 | O79: =$D79*N79 -> 0 | P79: =VLOOKUP($A79,[3]Hoja1!$A$3:$M$271,12,0) -> 13860 | Q79: =VLOOKUP($A79,[3]Hoja1!$A$3:$M$271,13,0) -> 0 | R79: =P79+Q79 -> 13860 | S79: =$D79*R79 -> 13860 | T79: =VLOOKUP($A79,[4]Hoja1!$A$3:$G$271,6,0) -> 15216 | U79: =T79*0.19 -> 2891.04 | V79: =T79+U79 -> 18107.04 | W79: =$D79*V79 -> 18107.04 | X79: =VLOOKUP($A79,[5]Hoja1!$A$3:$G$271,6,0) -> 0 | Y79: =VLOOKUP($A79,[5]Hoja1!$A$3:$G$271,7,0) -> 0 | Z79: =X79+Y79 -> 0 | AA79: =$D79*Z79 -> 0 | AB79: =VLOOKUP($A79,[6]Hoja1!$A$3:$G$271,6,0) -> 0 | AC79: =VLOOKUP($A79,[6]Hoja1!$A$3:$G$271,7,0) -> 0 | AD79: =AB79+AC79 -> 0 | AE79: =$D79*AD79 -> 0 | AF79: =VLOOKUP($A79,[7]Hoja1!$A$3:$M$271,12,0) -> 0 | AG79: =VLOOKUP($A79,[7]Hoja1!$A$3:$M$271,13,0) -> 0 | AH79: =AF79+AG79 -> 0 | AI79: =$D79*AH79 -> 0 | AJ79: =VLOOKUP($A79,[8]Hoja1!$A$3:$G$271,6,0) -> 9020 | AK79: =VLOOKUP($A79,[8]Hoja1!$A$3:$G$271,7,0) -> 0 | AL79: =AJ79+AK79 -> 9020 | AM79: =$D79*AL79 -> 9020 | AN79: =VLOOKUP($A79,[9]Hoja1!$A$5:$G$273,6,0) -> 0 | AO79: =VLOOKUP($A79,[9]Hoja1!$A$5:$G$273,7,0) -> 0 | AP79: =AN79+AO79 -> 0 | AQ79: =$D79*AP79 -> 0 | AR79: =VLOOKUP($A79,[10]Hoja1!$A$3:$M$271,12,0) -> 0 | AS79: =VLOOKUP($A79,[10]Hoja1!$A$3:$M$271,13,0) -> 0 | AT79: =AR79+AS79 -> 0 | AU79: =$D79*AT79 -> 0 | AV79: =VLOOKUP($A79,[11]Hoja1!$A$3:$M$271,12,0) -> 0 | AW79: =VLOOKUP($A79,[11]Hoja1!$A$3:$M$271,13,0) -> 0 | AX79: =AV79+AW79 -> 0 | AY79: =$D79*AX79 -> 0 | AZ79: =VLOOKUP($A79,[12]Hoja1!$A$3:$M$271,12,0) -> 0 | BA79: =VLOOKUP($A79,[12]Hoja1!$A$3:$M$271,13,0) -> 0 | BB79: =AZ79+BA79 -> 0 | BC79: =$D79*BB79 -> 0
A80: 71 | B80: CANULA DE TRAQUEOSTOMIA 5.5 CON BALON | C80: 1 UNIDAD DE CANULA | D80: 1 | E80: UN | F80: 15466 | G80: 0.33333333 | H80: =VLOOKUP($A80,[1]Hoja1!$A$3:$G$271,6,0) -> 0 | I80: =VLOOKUP($A80,[1]Hoja1!$A$3:$G$271,7,0) -> 0 | J80: =H80+I80 -> 0 | K80: =$D80*J80 -> 0 | L80: =VLOOKUP($A80,[2]Hoja1!$A$3:$G$271,6,0) -> 0 | M80: =VLOOKUP($A80,[2]Hoja1!$A$3:$G$271,7,0) -> 0 | N80: =L80+M80 -> 0 | O80: =$D80*N80 -> 0 | P80: =VLOOKUP($A80,[3]Hoja1!$A$3:$M$271,12,0) -> 14945 | Q80: =VLOOKUP($A80,[3]Hoja1!$A$3:$M$271,13,0) -> 0 | R80: =P80+Q80 -> 14945 | S80: =$D80*R80 -> 14945 | T80: =VLOOKUP($A80,[4]Hoja1!$A$3:$G$271,6,0) -> 16443 | U80: =T80*0.19 -> 3124.17 | V80: =T80+U80 -> 19567.17 | W80: =$D80*V80 -> 19567.17 | X80: =VLOOKUP($A80,[5]Hoja1!$A$3:$G$271,6,0) -> 0 | Y80: =VLOOKUP($A80,[5]Hoja1!$A$3:$G$271,7,0) -> 0 | Z80: =X80+Y80 -> 0 | AA80: =$D80*Z80 -> 0 | AB80: =VLOOKUP($A80,[6]Hoja1!$A$3:$G$271,6,0) -> 0 | AC80: =VLOOKUP($A80,[6]Hoja1!$A$3:$G$271,7,0) -> 0 | AD80: =AB80+AC80 -> 0 | AE80: =$D80*AD80 -> 0 | AF80: =VLOOKUP($A80,[7]Hoja1!$A$3:$M$271,12,0) -> 0 | AG80: =VLOOKUP($A80,[7]Hoja1!$A$3:$M$271,13,0) -> 0 | AH80: =AF80+AG80 -> 0 | AI80: =$D80*AH80 -> 0 | AJ80: =VLOOKUP($A80,[8]Hoja1!$A$3:$G$271,6,0) -> 13750 | AK80: =VLOOKUP($A80,[8]Hoja1!$A$3:$G$271,7,0) -> 0 | AL80: =AJ80+AK80 -> 13750 | AM80: =$D80*AL80 -> 13750 | AN80: =VLOOKUP($A80,[9]Hoja1!$A$5:$G$273,6,0) -> 0 | AO80: =VLOOKUP($A80,[9]Hoja1!$A$5:$G$273,7,0) -> 0 | AP80: =AN80+AO80 -> 0 | AQ80: =$D80*AP80 -> 0 | AR80: =VLOOKUP($A80,[10]Hoja1!$A$3:$M$271,12,0) -> 0 | AS80: =VLOOKUP($A80,[10]Hoja1!$A$3:$M$271,13,0) -> 0 | AT80: =AR80+AS80 -> 0 | AU80: =$D80*AT80 -> 0 | AV80: =VLOOKUP($A80,[11]Hoja1!$A$3:$M$271,12,0) -> 0 | AW80: =VLOOKUP($A80,[11]Hoja1!$A$3:$M$271,13,0) -> 0 | AX80: =AV80+AW80 -> 0 | AY80: =$D80*AX80 -> 0 | AZ80: =VLOOKUP($A80,[12]Hoja1!$A$3:$M$271,12,0) -> 0 | BA80: =VLOOKUP($A80,[12]Hoja1!$A$3:$M$271,13,0) -> 0 | BB80: =AZ80+BA80 -> 0 | BC80: =$D80*BB80 -> 0
A81: 72 | B81: CANULA DE TRAQUEOSTOMIA 7 CON BALON | C81: 1 UNIDAD DE CANULA | D81: 1 | E81: UN | F81: 15466 | G81: 2.3333333 | H81: =VLOOKUP($A81,[1]Hoja1!$A$3:$G$271,6,0) -> 0 | I81: =VLOOKUP($A81,[1]Hoja1!$A$3:$G$271,7,0) -> 0 | J81: =H81+I81 -> 0 | K81: =$D81*J81 -> 0 | L81: =VLOOKUP($A81,[2]Hoja1!$A$3:$G$271,6,0) -> 0 | M81: =VLOOKUP($A81,[2]Hoja1!$A$3:$G$271,7,0) -> 0 | N81: =L81+M81 -> 0 | O81: =$D81*N81 -> 0 | P81: =VLOOKUP($A81,[3]Hoja1!$A$3:$M$271,12,0) -> 14945 | Q81: =VLOOKUP($A81,[3]Hoja1!$A$3:$M$271,13,0) -> 0 | R81: =P81+Q81 -> 14945 | S81: =$D81*R81 -> 14945 | T81: =VLOOKUP($A81,[4]Hoja1!$A$3:$G$271,6,0) -> 16443 | U81: =VLOOKUP($A81,[4]Hoja1!$A$3:$G$271,7,0) -> 0 | V81: =T81+U81 -> 16443 | W81: =$D81*V81 -> 16443 | X81: =VLOOKUP($A81,[5]Hoja1!$A$3:$G$271,6,0) -> 0 | Y81: =VLOOKUP($A81,[5]Hoja1!$A$3:$G$271,7,0) -> 0 | Z81: =X81+Y81 -> 0 | AA81: =$D81*Z81 -> 0 | AB81: =VLOOKUP($A81,[6]Hoja1!$A$3:$G$271,6,0) -> 0 | AC81: =VLOOKUP($A81,[6]Hoja1!$A$3:$G$271,7,0) -> 0 | AD81: =AB81+AC81 -> 0 | AE81: =$D81*AD81 -> 0 | AF81: =VLOOKUP($A81,[7]Hoja1!$A$3:$M$271,12,0) -> 0 | AG81: =VLOOKUP($A81,[7]Hoja1!$A$3:$M$271,13,0) -> 0 | AH81: =AF81+AG81 -> 0 | AI81: =$D81*AH81 -> 0 | AJ81: =VLOOKUP($A81,[8]Hoja1!$A$3:$G$271,6,0) -> 13750 | AK81: =VLOOKUP($A81,[8]Hoja1!$A$3:$G$271,7,0) -> 0 | AL81: =AJ81+AK81 -> 13750 | AM81: =$D81*AL81 -> 13750 | AN81: =VLOOKUP($A81,[9]Hoja1!$A$5:$G$273,6,0) -> 16443 | AO81: =VLOOKUP($A81,[9]Hoja1!$A$5:$G$273,7,0) -> 0 | AP81: =AN81+AO81 -> 16443 | AQ81: =$D81*AP81 -> 16443 | AR81: =VLOOKUP($A81,[10]Hoja1!$A$3:$M$271,12,0) -> 0 | AS81: =VLOOKUP($A81,[10]Hoja1!$A$3:$M$271,13,0) -> 0 | AT81: =AR81+AS81 -> 0 | AU81: =$D81*AT81 -> 0 | AV81: =VLOOKUP($A81,[11]Hoja1!$A$3:$M$271,12,0) -> 0 | AW81: =VLOOKUP($A81,[11]Hoja1!$A$3:$M$271,13,0) -> 0 | AX81: =AV81+AW81 -> 0 | AY81: =$D81*AX81 -> 0 | AZ81: =VLOOKUP($A81,[12]Hoja1!$A$3:$M$271,12,0) -> 0 | BA81: =VLOOKUP($A81,[12]Hoja1!$A$3:$M$271,13,0) -> 0 | BB81: =AZ81+BA81 -> 0 | BC81: =$D81*BB81 -> 0
A82: 73 | B82: CANULA DE TRAQUEOSTOMIA 7.5 CON BALON | C82: 1 UNIDAD DE CANULA | D82: 1 | E82: UN | F82: 15466 | G82: 2.6666667 | H82: =VLOOKUP($A82,[1]Hoja1!$A$3:$G$271,6,0) -> 0 | I82: =VLOOKUP($A82,[1]Hoja1!$A$3:$G$271,7,0) -> 0 | J82: =H82+I82 -> 0 | K82: =$D82*J82 -> 0 | L82: =VLOOKUP($A82,[2]Hoja1!$A$3:$G$271,6,0) -> 0 | M82: =VLOOKUP($A82,[2]Hoja1!$A$3:$G$271,7,0) -> 0 | N82: =L82+M82 -> 0 | O82: =$D82*N82 -> 0 | P82: =VLOOKUP($A82,[3]Hoja1!$A$3:$M$271,12,0) -> 14945 | Q82: =VLOOKUP($A82,[3]Hoja1!$A$3:$M$271,13,0) -> 0 | R82: =P82+Q82 -> 14945 | S82: =$D82*R82 -> 14945 | T82: =VLOOKUP($A82,[4]Hoja1!$A$3:$G$271,6,0) -> 16443 | U82: =VLOOKUP($A82,[4]Hoja1!$A$3:$G$271,7,0) -> 0 | V82: =T82+U82 -> 16443 | W82: =$D82*V82 -> 16443 | X82: =VLOOKUP($A82,[5]Hoja1!$A$3:$G$271,6,0) -> 0 | Y82: =VLOOKUP($A82,[5]Hoja1!$A$3:$G$271,7,0) -> 0 | Z82: =X82+Y82 -> 0 | AA82: =$D82*Z82 -> 0 | AB82: =VLOOKUP($A82,[6]Hoja1!$A$3:$G$271,6,0) -> 0 | AC82: =VLOOKUP($A82,[6]Hoja1!$A$3:$G$271,7,0) -> 0 | AD82: =AB82+AC82 -> 0 | AE82: =$D82*AD82 -> 0 | AF82: =VLOOKUP($A82,[7]Hoja1!$A$3:$M$271,12,0) -> 0 | AG82: =VLOOKUP($A82,[7]Hoja1!$A$3:$M$271,13,0) -> 0 | AH82: =AF82+AG82 -> 0 | AI82: =$D82*AH82 -> 0 | AJ82: =VLOOKUP($A82,[8]Hoja1!$A$3:$G$271,6,0) -> 13750 | AK82: =VLOOKUP($A82,[8]Hoja1!$A$3:$G$271,7,0) -> 0 | AL82: =AJ82+AK82 -> 13750 | AM82: =$D82*AL82 -> 13750 | AN82: =VLOOKUP($A82,[9]Hoja1!$A$5:$G$273,6,0) -> 16443 | AO82: =VLOOKUP($A82,[9]Hoja1!$A$5:$G$273,7,0) -> 0 | AP82: =AN82+AO82 -> 16443 | AQ82: =$D82*AP82 -> 16443 | AR82: =VLOOKUP($A82,[10]Hoja1!$A$3:$M$271,12,0) -> 0 | AS82: =VLOOKUP($A82,[10]Hoja1!$A$3:$M$271,13,0) -> 0 | AT82: =AR82+AS82 -> 0 | AU82: =$D82*AT82 -> 0 | AV82: =VLOOKUP($A82,[11]Hoja1!$A$3:$M$271,12,0) -> 0 | AW82: =VLOOKUP($A82,[11]Hoja1!$A$3:$M$271,13,0) -> 0 | AX82: =AV82+AW82 -> 0 | AY82: =$D82*AX82 -> 0 | AZ82: =VLOOKUP($A82,[12]Hoja1!$A$3:$M$271,12,0) -> 0 | BA82: =VLOOKUP($A82,[12]Hoja1!$A$3:$M$271,13,0) -> 0 | BB82: =AZ82+BA82 -> 0 | BC82: =$D82*BB82 -> 0
A83: 74 | B83: CANULA DE TRAQUEOSTOMIA 8 CON BALON | C83: 1 UNIDAD DE CANULA | D83: 1 | E83: UN | F83: 15466 | G83: 4.6666667 | H83: =VLOOKUP($A83,[1]Hoja1!$A$3:$G$271,6,0) -> 0 | I83: =VLOOKUP($A83,[1]Hoja1!$A$3:$G$271,7,0) -> 0 | J83: =H83+I83 -> 0 | K83: =$D83*J83 -> 0 | L83: =VLOOKUP($A83,[2]Hoja1!$A$3:$G$271,6,0) -> 0 | M83: =VLOOKUP($A83,[2]Hoja1!$A$3:$G$271,7,0) -> 0 | N83: =L83+M83 -> 0 | O83: =$D83*N83 -> 0 | P83: =VLOOKUP($A83,[3]Hoja1!$A$3:$M$271,12,0) -> 14945 | Q83: =VLOOKUP($A83,[3]Hoja1!$A$3:$M$271,13,0) -> 0 | R83: =P83+Q83 -> 14945 | S83: =$D83*R83 -> 14945 | T83: =VLOOKUP($A83,[4]Hoja1!$A$3:$G$271,6,0) -> 16443 | U83: =VLOOKUP($A83,[4]Hoja1!$A$3:$G$271,7,0) -> 0 | V83: =T83+U83 -> 16443 | W83: =$D83*V83 -> 16443 | X83: =VLOOKUP($A83,[5]Hoja1!$A$3:$G$271,6,0) -> 0 | Y83: =VLOOKUP($A83,[5]Hoja1!$A$3:$G$271,7,0) -> 0 | Z83: =X83+Y83 -> 0 | AA83: =$D83*Z83 -> 0 | AB83: =VLOOKUP($A83,[6]Hoja1!$A$3:$G$271,6,0) -> 0 | AC83: =VLOOKUP($A83,[6]Hoja1!$A$3:$G$271,7,0) -> 0 | AD83: =AB83+AC83 -> 0 | AE83: =$D83*AD83 -> 0 | AF83: =VLOOKUP($A83,[7]Hoja1!$A$3:$M$271,12,0) -> 0 | AG83: =VLOOKUP($A83,[7]Hoja1!$A$3:$M$271,13,0) -> 0 | AH83: =AF83+AG83 -> 0 | AI83: =$D83*AH83 -> 0 | AJ83: =VLOOKUP($A83,[8]Hoja1!$A$3:$G$271,6,0) -> 13750 | AK83: =VLOOKUP($A83,[8]Hoja1!$A$3:$G$271,7,0) -> 0 | AL83: =AJ83+AK83 -> 13750 | AM83: =$D83*AL83 -> 13750 | AN83: =VLOOKUP($A83,[9]Hoja1!$A$5:$G$273,6,0) -> 16443 | AO83: =VLOOKUP($A83,[9]Hoja1!$A$5:$G$273,7,0) -> 0 | AP83: =AN83+AO83 -> 16443 | AQ83: =$D83*AP83 -> 16443 | AR83: =VLOOKUP($A83,[10]Hoja1!$A$3:$M$271,12,0) -> 0 | AS83: =VLOOKUP($A83,[10]Hoja1!$A$3:$M$271,13,0) -> 0 | AT83: =AR83+AS83 -> 0 | AU83: =$D83*AT83 -> 0 | AV83: =VLOOKUP($A83,[11]Hoja1!$A$3:$M$271,12,0) -> 0 | AW83: =VLOOKUP($A83,[11]Hoja1!$A$3:$M$271,13,0) -> 0 | AX83: =AV83+AW83 -> 0 | AY83: =$D83*AX83 -> 0 | AZ83: =VLOOKUP($A83,[12]Hoja1!$A$3:$M$271,12,0) -> 0 | BA83: =VLOOKUP($A83,[12]Hoja1!$A$3:$M$271,13,0) -> 0 | BB83: =AZ83+BA83 -> 0 | BC83: =$D83*BB83 -> 0
A84: 75 | B84: ELECTRODO PEDIATRICO CON GEL SOLIDO BASE MICROPOROSO SUAVE DURABLES, ADHESIVO HIPOALERGENIGO | C84: 1 UNIDAD DE ELECTRODO | D84: 1 | E84: UN | F84: 243.75 | G84: 131.66667 | H84: =VLOOKUP($A84,[1]Hoja1!$A$3:$G$271,6,0) -> 0 | I84: =VLOOKUP($A84,[1]Hoja1!$A$3:$G$271,7,0) -> 0 | J84: =H84+I84 -> 0 | K84: =$D84*J84 -> 0 | L84: =VLOOKUP($A84,[2]Hoja1!$A$3:$G$271,6,0) -> 0 | M84: =VLOOKUP($A84,[2]Hoja1!$A$3:$G$271,7,0) -> 0 | N84: =L84+M84 -> 0 | O84: =$D84*N84 -> 0 | P84: =VLOOKUP($A84,[3]Hoja1!$A$3:$M$271,12,0) -> 224 | Q84: =VLOOKUP($A84,[3]Hoja1!$A$3:$M$271,13,0) -> 0 | R84: =P84+Q84 -> 224 | S84: =$D84*R84 -> 224 | T84: =VLOOKUP($A84,[4]Hoja1!$A$3:$G$271,6,0) -> 245 | U84: =VLOOKUP($A84,[4]Hoja1!$A$3:$G$271,7,0) -> 0 | V84: =T84+U84 -> 245 | W84: =$D84*V84 -> 245 | X84: =VLOOKUP($A84,[5]Hoja1!$A$3:$G$271,6,0) -> 0 | Y84: =VLOOKUP($A84,[5]Hoja1!$A$3:$G$271,7,0) -> 0 | Z84: =X84+Y84 -> 0 | AA84: =$D84*Z84 -> 0 | AB84: =VLOOKUP($A84,[6]Hoja1!$A$3:$G$271,6,0) -> 0 | AC84: =VLOOKUP($A84,[6]Hoja1!$A$3:$G$271,7,0) -> 0 | AD84: =AB84+AC84 -> 0 | AE84: =$D84*AD84 -> 0 | AF84: =VLOOKUP($A84,[7]Hoja1!$A$3:$M$271,12,0) -> 0 | AG84: =VLOOKUP($A84,[7]Hoja1!$A$3:$M$271,13,0) -> 0 | AH84: =AF84+AG84 -> 0 | AI84: =$D84*AH84 -> 0 | AJ84: =VLOOKUP($A84,[8]Hoja1!$A$3:$G$271,6,0) -> 238 | AK84: =VLOOKUP($A84,[8]Hoja1!$A$3:$G$271,7,0) -> 0 | AL84: =AJ84+AK84 -> 238 | AM84: =$D84*AL84 -> 238 | AN84: =VLOOKUP($A84,[9]Hoja1!$A$5:$G$273,6,0) -> 0 | AO84: =VLOOKUP($A84,[9]Hoja1!$A$5:$G$273,7,0) -> 0 | AP84: =AN84+AO84 -> 0 | AQ84: =$D84*AP84 -> 0 | AR84: =VLOOKUP($A84,[10]Hoja1!$A$3:$M$271,12,0) -> 0 | AS84: =VLOOKUP($A84,[10]Hoja1!$A$3:$M$271,13,0) -> 0 | AT84: =AR84+AS84 -> 0 | AU84: =$D84*AT84 -> 0 | AV84: =VLOOKUP($A84,[11]Hoja1!$A$3:$M$271,12,0) -> 0 | AW84: =VLOOKUP($A84,[11]Hoja1!$A$3:$M$271,13,0) -> 0 | AX84: =AV84+AW84 -> 0 | AY84: =$D84*AX84 -> 0 | AZ84: =VLOOKUP($A84,[12]Hoja1!$A$3:$M$271,12,0) -> 0 | BA84: =VLOOKUP($A84,[12]Hoja1!$A$3:$M$271,13,0) -> 0 | BB84: =AZ84+BA84 -> 0 | BC84: =$D84*BB84 -> 0
A85: 76 | B85: FILTRO BACTERIANO VIRICO ADULTO PARA VENTILADOR MECANICO | C85: 1 UNIDAD DE FILTRO | D85: 1 | E85: UN | F85: 2795 | G85: 487.66667 | H85: =VLOOKUP($A85,[1]Hoja1!$A$3:$G$271,6,0) -> 0 | I85: =VLOOKUP($A85,[1]Hoja1!$A$3:$G$271,7,0) -> 0 | J85: =H85+I85 -> 0 | K85: =$D85*J85 -> 0 | L85: =VLOOKUP($A85,[2]Hoja1!$A$3:$G$271,6,0) -> 0 | M85: =VLOOKUP($A85,[2]Hoja1!$A$3:$G$271,7,0) -> 0 | N85: =L85+M85 -> 0 | O85: =$D85*N85 -> 0 | P85: =VLOOKUP($A85,[3]Hoja1!$A$3:$M$271,12,0) -> 3300 | Q85: =VLOOKUP($A85,[3]Hoja1!$A$3:$M$271,13,0) -> 0 | R85: =P85+Q85 -> 3300 | S85: =$D85*R85 -> 3300 | T85: =VLOOKUP($A85,[4]Hoja1!$A$3:$G$271,6,0) -> 3523 | U85: =VLOOKUP($A85,[4]Hoja1!$A$3:$G$271,7,0) -> 0 | V85: =T85+U85 -> 3523 | W85: =$D85*V85 -> 3523 | X85: =VLOOKUP($A85,[5]Hoja1!$A$3:$G$271,6,0) -> 0 | Y85: =VLOOKUP($A85,[5]Hoja1!$A$3:$G$271,7,0) -> 0 | Z85: =X85+Y85 -> 0 | AA85: =$D85*Z85 -> 0 | AB85: =VLOOKUP($A85,[6]Hoja1!$A$3:$G$271,6,0) -> 0 | AC85: =VLOOKUP($A85,[6]Hoja1!$A$3:$G$271,7,0) -> 0 | AD85: =AB85+AC85 -> 0 | AE85: =$D85*AD85 -> 0 | AF85: =VLOOKUP($A85,[7]Hoja1!$A$3:$M$271,12,0) -> 0 | AG85: =VLOOKUP($A85,[7]Hoja1!$A$3:$M$271,13,0) -> 0 | AH85: =AF85+AG85 -> 0 | AI85: =$D85*AH85 -> 0 | AJ85: =VLOOKUP($A85,[8]Hoja1!$A$3:$G$271,6,0) -> 2980 | AK85: =VLOOKUP($A85,[8]Hoja1!$A$3:$G$271,7,0) -> 0 | AL85: =AJ85+AK85 -> 2980 | AM85: =$D85*AL85 -> 2980 | AN85: =VLOOKUP($A85,[9]Hoja1!$A$5:$G$273,6,0) -> 4378 | AO85: =VLOOKUP($A85,[9]Hoja1!$A$5:$G$273,7,0) -> 0 | AP85: =AN85+AO85 -> 4378 | AQ85: =$D85*AP85 -> 4378 | AR85: =VLOOKUP($A85,[10]Hoja1!$A$3:$M$271,12,0) -> 0 | AS85: =VLOOKUP($A85,[10]Hoja1!$A$3:$M$271,13,0) -> 0 | AT85: =AR85+AS85 -> 0 | AU85: =$D85*AT85 -> 0 | AV85: =VLOOKUP($A85,[11]Hoja1!$A$3:$M$271,12,0) -> 0 | AW85: =VLOOKUP($A85,[11]Hoja1!$A$3:$M$271,13,0) -> 0 | AX85: =AV85+AW85 -> 0 | AY85: =$D85*AX85 -> 0 | AZ85: =VLOOKUP($A85,[12]Hoja1!$A$3:$M$271,12,0) -> 0 | BA85: =VLOOKUP($A85,[12]Hoja1!$A$3:$M$271,13,0) -> 0 | BB85: =AZ85+BA85 -> 0 | BC85: =$D85*BB85 -> 0
A86: 77 | B86: FILTRO HIDROFOBICO DESECAHBLE para su uso en equipos respiratorios y concentradores de oxígeno | C86: 1 UNIDAD DE FILTRO | D86: 1 | E86: UN | F86: 6069 | G86: 1 | H86: =VLOOKUP($A86,[1]Hoja1!$A$3:$G$271,6,0) -> 0 | I86: =VLOOKUP($A86,[1]Hoja1!$A$3:$G$271,7,0) -> 0 | J86: =H86+I86 -> 0 | K86: =$D86*J86 -> 0 | L86: =VLOOKUP($A86,[2]Hoja1!$A$3:$G$271,6,0) -> 0 | M86: =VLOOKUP($A86,[2]Hoja1!$A$3:$G$271,7,0) -> 0 | N86: =L86+M86 -> 0 | O86: =$D86*N86 -> 0 | P86: =VLOOKUP($A86,[3]Hoja1!$A$3:$M$271,12,0) -> 4300 | Q86: =VLOOKUP($A86,[3]Hoja1!$A$3:$M$271,13,0) -> 0 | R86: =P86+Q86 -> 4300 | S86: =$D86*R86 -> 4300 | T86: =VLOOKUP($A86,[4]Hoja1!$A$3:$G$271,6,0) -> 19944 | U86: =VLOOKUP($A86,[4]Hoja1!$A$3:$G$271,7,0) -> 0 | V86: =T86+U86 -> 19944 | W86: =$D86*V86 -> 19944 | X86: =VLOOKUP($A86,[5]Hoja1!$A$3:$G$271,6,0) -> 0 | Y86: =VLOOKUP($A86,[5]Hoja1!$A$3:$G$271,7,0) -> 0 | Z86: =X86+Y86 -> 0 | AA86: =$D86*Z86 -> 0 | AB86: =VLOOKUP($A86,[6]Hoja1!$A$3:$G$271,6,0) -> 0 | AC86: =VLOOKUP($A86,[6]Hoja1!$A$3:$G$271,7,0) -> 0 | AD86: =AB86+AC86 -> 0 | AE86: =$D86*AD86 -> 0 | AF86: =VLOOKUP($A86,[7]Hoja1!$A$3:$M$271,12,0) -> 0 | AG86: =VLOOKUP($A86,[7]Hoja1!$A$3:$M$271,13,0) -> 0 | AH86: =AF86+AG86 -> 0 | AI86: =$D86*AH86 -> 0 | AJ86: =VLOOKUP($A86,[8]Hoja1!$A$3:$G$271,6,0) -> 0 | AK86: =VLOOKUP($A86,[8]Hoja1!$A$3:$G$271,7,0) -> 0 | AL86: =AJ86+AK86 -> 0 | AM86: =$D86*AL86 -> 0 | AN86: =VLOOKUP($A86,[9]Hoja1!$A$5:$G$273,6,0) -> 16086 | AO86: =VLOOKUP($A86,[9]Hoja1!$A$5:$G$273,7,0) -> 0 | AP86: =AN86+AO86 -> 16086 | AQ86: =$D86*AP86 -> 16086 | AR86: =VLOOKUP($A86,[10]Hoja1!$A$3:$M$271,12,0) -> 0 | AS86: =VLOOKUP($A86,[10]Hoja1!$A$3:$M$271,13,0) -> 0 | AT86: =AR86+AS86 -> 0 | AU86: =$D86*AT86 -> 0 | AV86: =VLOOKUP($A86,[11]Hoja1!$A$3:$M$271,12,0) -> 0 | AW86: =VLOOKUP($A86,[11]Hoja1!$A$3:$M$271,13,0) -> 0 | AX86: =AV86+AW86 -> 0 | AY86: =$D86*AX86 -> 0 | AZ86: =VLOOKUP($A86,[12]Hoja1!$A$3:$M$271,12,0) -> 0 | BA86: =VLOOKUP($A86,[12]Hoja1!$A$3:$M$271,13,0) -> 0 | BB86: =AZ86+BA86 -> 0 | BC86: =$D86*BB86 -> 0
A87: 78 | B87: FILTRO INTERCAMBIADOR DE CALOR Y HUMEDAD PEDIATRICO | C87: 1 UNIDAD DE FILTRO | D87: 1 | E87: UN | F87: 4050 | G87: 6 | H87: =VLOOKUP($A87,[1]Hoja1!$A$3:$G$271,6,0) -> 0 | I87: =VLOOKUP($A87,[1]Hoja1!$A$3:$G$271,7,0) -> 0 | J87: =H87+I87 -> 0 | K87: =$D87*J87 -> 0 | L87: =VLOOKUP($A87,[2]Hoja1!$A$3:$G$271,6,0) -> 0 | M87: =VLOOKUP($A87,[2]Hoja1!$A$3:$G$271,7,0) -> 0 | N87: =L87+M87 -> 0 | O87: =$D87*N87 -> 0 | P87: =VLOOKUP($A87,[3]Hoja1!$A$3:$M$271,12,0) -> 0 | Q87: =VLOOKUP($A87,[3]Hoja1!$A$3:$M$271,13,0) -> 0 | R87: =P87+Q87 -> 0 | S87: =$D87*R87 -> 0 | T87: =VLOOKUP($A87,[4]Hoja1!$A$3:$G$271,6,0) -> 0 | U87: =VLOOKUP($A87,[4]Hoja1!$A$3:$G$271,7,0) -> 0 | V87: =T87+U87 -> 0 | W87: =$D87*V87 -> 0 | X87: =VLOOKUP($A87,[5]Hoja1!$A$3:$G$271,6,0) -> 0 | Y87: =VLOOKUP($A87,[5]Hoja1!$A$3:$G$271,7,0) -> 0 | Z87: =X87+Y87 -> 0 | AA87: =$D87*Z87 -> 0 | AB87: =VLOOKUP($A87,[6]Hoja1!$A$3:$G$271,6,0) -> 0 | AC87: =VLOOKUP($A87,[6]Hoja1!$A$3:$G$271,7,0) -> 0 | AD87: =AB87+AC87 -> 0 | AE87: =$D87*AD87 -> 0 | AF87: =VLOOKUP($A87,[7]Hoja1!$A$3:$M$271,12,0) -> 0 | AG87: =VLOOKUP($A87,[7]Hoja1!$A$3:$M$271,13,0) -> 0 | AH87: =AF87+AG87 -> 0 | AI87: =$D87*AH87 -> 0 | AJ87: =VLOOKUP($A87,[8]Hoja1!$A$3:$G$271,6,0) -> 7710 | AK87: =VLOOKUP($A87,[8]Hoja1!$A$3:$G$271,7,0) -> 0 | AL87: =AJ87+AK87 -> 7710 | AM87: =$D87*AL87 -> 7710 | AN87: =VLOOKUP($A87,[9]Hoja1!$A$5:$G$273,6,0) -> 6727 | AO87: =VLOOKUP($A87,[9]Hoja1!$A$5:$G$273,7,0) -> 0 | AP87: =AN87+AO87 -> 6727 | AQ87: =$D87*AP87 -> 6727 | AR87: =VLOOKUP($A87,[10]Hoja1!$A$3:$M$271,12,0) -> 0 | AS87: =VLOOKUP($A87,[10]Hoja1!$A$3:$M$271,13,0) -> 0 | AT87: =AR87+AS87 -> 0 | AU87: =$D87*AT87 -> 0 | AV87: =VLOOKUP($A87,[11]Hoja1!$A$3:$M$271,12,0) -> 0 | AW87: =VLOOKUP($A87,[11]Hoja1!$A$3:$M$271,13,0) -> 0 | AX87: =AV87+AW87 -> 0 | AY87: =$D87*AX87 -> 0 | AZ87: =VLOOKUP($A87,[12]Hoja1!$A$3:$M$271,12,0) -> 0 | BA87: =VLOOKUP($A87,[12]Hoja1!$A$3:$M$271,13,0) -> 0 | BB87: =AZ87+BA87 -> 0 | BC87: =$D87*BB87 -> 0
A88: 79 | B88: FILTROS HIDROFOBICOS PARA MAQUINAS DE ANESTESIA | C88: 1 UNIDAD DE FILTRO | D88: 1 | E88: UN | F88: 2650 | G88: 2.3333333 | H88: =VLOOKUP($A88,[1]Hoja1!$A$3:$G$271,6,0) -> 0 | I88: =VLOOKUP($A88,[1]Hoja1!$A$3:$G$271,7,0) -> 0 | J88: =H88+I88 -> 0 | K88: =$D88*J88 -> 0 | L88: =VLOOKUP($A88,[2]Hoja1!$A$3:$G$271,6,0) -> 0 | M88: =VLOOKUP($A88,[2]Hoja1!$A$3:$G$271,7,0) -> 0 | N88: =L88+M88 -> 0 | O88: =$D88*N88 -> 0 | P88: =VLOOKUP($A88,[3]Hoja1!$A$3:$M$271,12,0) -> 4300 | Q88: =VLOOKUP($A88,[3]Hoja1!$A$3:$M$271,13,0) -> 0 | R88: =P88+Q88 -> 4300 | S88: =$D88*R88 -> 4300 | T88: =VLOOKUP($A88,[4]Hoja1!$A$3:$G$271,6,0) -> 4432 | U88: =VLOOKUP($A88,[4]Hoja1!$A$3:$G$271,7,0) -> 0 | V88: =T88+U88 -> 4432 | W88: =$D88*V88 -> 4432 | X88: =VLOOKUP($A88,[5]Hoja1!$A$3:$G$271,6,0) -> 0 | Y88: =VLOOKUP($A88,[5]Hoja1!$A$3:$G$271,7,0) -> 0 | Z88: =X88+Y88 -> 0 | AA88: =$D88*Z88 -> 0 | AB88: =VLOOKUP($A88,[6]Hoja1!$A$3:$G$271,6,0) -> 0 | AC88: =VLOOKUP($A88,[6]Hoja1!$A$3:$G$271,7,0) -> 0 | AD88: =AB88+AC88 -> 0 | AE88: =$D88*AD88 -> 0 | AF88: =VLOOKUP($A88,[7]Hoja1!$A$3:$M$271,12,0) -> 0 | AG88: =VLOOKUP($A88,[7]Hoja1!$A$3:$M$271,13,0) -> 0 | AH88: =AF88+AG88 -> 0 | AI88: =$D88*AH88 -> 0 | AJ88: =VLOOKUP($A88,[8]Hoja1!$A$3:$G$271,6,0) -> 4870 | AK88: =VLOOKUP($A88,[8]Hoja1!$A$3:$G$271,7,0) -> 0 | AL88: =AJ88+AK88 -> 4870 | AM88: =$D88*AL88 -> 4870 | AN88: =VLOOKUP($A88,[9]Hoja1!$A$5:$G$273,6,0) -> 16086 | AO88: =VLOOKUP($A88,[9]Hoja1!$A$5:$G$273,7,0) -> 0 | AP88: =AN88+AO88 -> 16086 | AQ88: =$D88*AP88 -> 16086 | AR88: =VLOOKUP($A88,[10]Hoja1!$A$3:$M$271,12,0) -> 0 | AS88: =VLOOKUP($A88,[10]Hoja1!$A$3:$M$271,13,0) -> 0 | AT88: =AR88+AS88 -> 0 | AU88: =$D88*AT88 -> 0 | AV88: =VLOOKUP($A88,[11]Hoja1!$A$3:$M$271,12,0) -> 0 | AW88: =VLOOKUP($A88,[11]Hoja1!$A$3:$M$271,13,0) -> 0 | AX88: =AV88+AW88 -> 0 | AY88: =$D88*AX88 -> 0 | AZ88: =VLOOKUP($A88,[12]Hoja1!$A$3:$M$271,12,0) -> 0 | BA88: =VLOOKUP($A88,[12]Hoja1!$A$3:$M$271,13,0) -> 0 | BB88: =AZ88+BA88 -> 0 | BC88: =$D88*BB88 -> 0
A89: 80 | B89: GUIA DE INTUBACION 10 FR PEDIATRICA DESECHABLE | C89: 1 UNIDAD DE GUIA | D89: 1 | E89: UN | F89: 3901.25 | G89: 11.333333 | H89: =VLOOKUP($A89,[1]Hoja1!$A$3:$G$271,6,0) -> 0 | I89: =VLOOKUP($A89,[1]Hoja1!$A$3:$G$271,7,0) -> 0 | J89: =H89+I89 -> 0 | K89: =$D89*J89 -> 0 | L89: =VLOOKUP($A89,[2]Hoja1!$A$3:$G$271,6,0) -> 0 | M89: =VLOOKUP($A89,[2]Hoja1!$A$3:$G$271,7,0) -> 0 | N89: =L89+M89 -> 0 | O89: =$D89*N89 -> 0 | P89: =VLOOKUP($A89,[3]Hoja1!$A$3:$M$271,12,0) -> 3710 | Q89: =VLOOKUP($A89,[3]Hoja1!$A$3:$M$271,13,0) -> 0 | R89: =P89+Q89 -> 3710 | S89: =$D89*R89 -> 3710 | T89: =VLOOKUP($A89,[4]Hoja1!$A$3:$G$271,6,0) -> 4284 | U89: =VLOOKUP($A89,[4]Hoja1!$A$3:$G$271,7,0) -> 0 | V89: =T89+U89 -> 4284 | W89: =$D89*V89 -> 4284 | X89: =VLOOKUP($A89,[5]Hoja1!$A$3:$G$271,6,0) -> 0 | Y89: =VLOOKUP($A89,[5]Hoja1!$A$3:$G$271,7,0) -> 0 | Z89: =X89+Y89 -> 0 | AA89: =$D89*Z89 -> 0 | AB89: =VLOOKUP($A89,[6]Hoja1!$A$3:$G$271,6,0) -> 0 | AC89: =VLOOKUP($A89,[6]Hoja1!$A$3:$G$271,7,0) -> 0 | AD89: =AB89+AC89 -> 0 | AE89: =$D89*AD89 -> 0 | AF89: =VLOOKUP($A89,[7]Hoja1!$A$3:$M$271,12,0) -> 0 | AG89: =VLOOKUP($A89,[7]Hoja1!$A$3:$M$271,13,0) -> 0 | AH89: =AF89+AG89 -> 0 | AI89: =$D89*AH89 -> 0 | AJ89: =VLOOKUP($A89,[8]Hoja1!$A$3:$G$271,6,0) -> 4160 | AK89: =VLOOKUP($A89,[8]Hoja1!$A$3:$G$271,7,0) -> 0 | AL89: =AJ89+AK89 -> 4160 | AM89: =$D89*AL89 -> 4160 | AN89: =VLOOKUP($A89,[9]Hoja1!$A$5:$G$273,6,0) -> 4284 | AO89: =VLOOKUP($A89,[9]Hoja1!$A$5:$G$273,7,0) -> 0 | AP89: =AN89+AO89 -> 4284 | AQ89: =$D89*AP89 -> 4284 | AR89: =VLOOKUP($A89,[10]Hoja1!$A$3:$M$271,12,0) -> 0 | AS89: =VLOOKUP($A89,[10]Hoja1!$A$3:$M$271,13,0) -> 0 | AT89: =AR89+AS89 -> 0 | AU89: =$D89*AT89 -> 0 | AV89: =VLOOKUP($A89,[11]Hoja1!$A$3:$M$271,12,0) -> 0 | AW89: =VLOOKUP($A89,[11]Hoja1!$A$3:$M$271,13,0) -> 0 | AX89: =AV89+AW89 -> 0 | AY89: =$D89*AX89 -> 0 | AZ89: =VLOOKUP($A89,[12]Hoja1!$A$3:$M$271,12,0) -> 0 | BA89: =VLOOKUP($A89,[12]Hoja1!$A$3:$M$271,13,0) -> 0 | BB89: =AZ89+BA89 -> 0 | BC89: =$D89*BB89 -> 0
A90: 81 | B90: GUIA DE INTUBACION 14 FR | C90: 1 UNIDAD DE GUIA | D90: 1 | E90: UN | F90: 3540 | G90: 143.33333 | H90: =VLOOKUP($A90,[1]Hoja1!$A$3:$G$271,6,0) -> 0 | I90: =VLOOKUP($A90,[1]Hoja1!$A$3:$G$271,7,0) -> 0 | J90: =H90+I90 -> 0 | K90: =$D90*J90 -> 0 | L90: =VLOOKUP($A90,[2]Hoja1!$A$3:$G$271,6,0) -> 0 | M90: =VLOOKUP($A90,[2]Hoja1!$A$3:$G$271,7,0) -> 0 | N90: =L90+M90 -> 0 | O90: =$D90*N90 -> 0 | P90: =VLOOKUP($A90,[3]Hoja1!$A$3:$M$271,12,0) -> 3710 | Q90: =VLOOKUP($A90,[3]Hoja1!$A$3:$M$271,13,0) -> 0 | R90: =P90+Q90 -> 3710 | S90: =$D90*R90 -> 3710 | T90: =VLOOKUP($A90,[4]Hoja1!$A$3:$G$271,6,0) -> 4284 | U90: =VLOOKUP($A90,[4]Hoja1!$A$3:$G$271,7,0) -> 0 | V90: =T90+U90 -> 4284 | W90: =$D90*V90 -> 4284 | X90: =VLOOKUP($A90,[5]Hoja1!$A$3:$G$271,6,0) -> 0 | Y90: =VLOOKUP($A90,[5]Hoja1!$A$3:$G$271,7,0) -> 0 | Z90: =X90+Y90 -> 0 | AA90: =$D90*Z90 -> 0 | AB90: =VLOOKUP($A90,[6]Hoja1!$A$3:$G$271,6,0) -> 0 | AC90: =VLOOKUP($A90,[6]Hoja1!$A$3:$G$271,7,0) -> 0 | AD90: =AB90+AC90 -> 0 | AE90: =$D90*AD90 -> 0 | AF90: =VLOOKUP($A90,[7]Hoja1!$A$3:$M$271,12,0) -> 0 | AG90: =VLOOKUP($A90,[7]Hoja1!$A$3:$M$271,13,0) -> 0 | AH90: =AF90+AG90 -> 0 | AI90: =$D90*AH90 -> 0 | AJ90: =VLOOKUP($A90,[8]Hoja1!$A$3:$G$271,6,0) -> 4160 | AK90: =VLOOKUP($A90,[8]Hoja1!$A$3:$G$271,7,0) -> 0 | AL90: =AJ90+AK90 -> 4160 | AM90: =$D90*AL90 -> 4160 | AN90: =VLOOKUP($A90,[9]Hoja1!$A$5:$G$273,6,0) -> 4284 | AO90: =VLOOKUP($A90,[9]Hoja1!$A$5:$G$273,7,0) -> 0 | AP90: =AN90+AO90 -> 4284 | AQ90: =$D90*AP90 -> 4284 | AR90: =VLOOKUP($A90,[10]Hoja1!$A$3:$M$271,12,0) -> 0 | AS90: =VLOOKUP($A90,[10]Hoja1!$A$3:$M$271,13,0) -> 0 | AT90: =AR90+AS90 -> 0 | AU90: =$D90*AT90 -> 0 | AV90: =VLOOKUP($A90,[11]Hoja1!$A$3:$M$271,12,0) -> 0 | AW90: =VLOOKUP($A90,[11]Hoja1!$A$3:$M$271,13,0) -> 0 | AX90: =AV90+AW90 -> 0 | AY90: =$D90*AX90 -> 0 | AZ90: =VLOOKUP($A90,[12]Hoja1!$A$3:$M$271,12,0) -> 0 | BA90: =VLOOKUP($A90,[12]Hoja1!$A$3:$M$271,13,0) -> 0 | BB90: =AZ90+BA90 -> 0 | BC90: =$D90*BB90 -> 0
A91: 82 | B91: GUIA DE INTUBACION 6 FR | C91: 1 UNIDAD DE GUIA | D91: 1 | E91: UN | F91: 3863.75 | G91: 9.6666667 | H91: =VLOOKUP($A91,[1]Hoja1!$A$3:$G$271,6,0) -> 0 | I91: =VLOOKUP($A91,[1]Hoja1!$A$3:$G$271,7,0) -> 0 | J91: =H91+I91 -> 0 | K91: =$D91*J91 -> 0 | L91: =VLOOKUP($A91,[2]Hoja1!$A$3:$G$271,6,0) -> 0 | M91: =VLOOKUP($A91,[2]Hoja1!$A$3:$G$271,7,0) -> 0 | N91: =L91+M91 -> 0 | O91: =$D91*N91 -> 0 | P91: =VLOOKUP($A91,[3]Hoja1!$A$3:$M$271,12,0) -> 3710 | Q91: =VLOOKUP($A91,[3]Hoja1!$A$3:$M$271,13,0) -> 0 | R91: =P91+Q91 -> 3710 | S91: =$D91*R91 -> 3710 | T91: =VLOOKUP($A91,[4]Hoja1!$A$3:$G$271,6,0) -> 4284 | U91: =VLOOKUP($A91,[4]Hoja1!$A$3:$G$271,7,0) -> 0 | V91: =T91+U91 -> 4284 | W91: =$D91*V91 -> 4284 | X91: =VLOOKUP($A91,[5]Hoja1!$A$3:$G$271,6,0) -> 0 | Y91: =VLOOKUP($A91,[5]Hoja1!$A$3:$G$271,7,0) -> 0 | Z91: =X91+Y91 -> 0 | AA91: =$D91*Z91 -> 0 | AB91: =VLOOKUP($A91,[6]Hoja1!$A$3:$G$271,6,0) -> 0 | AC91: =VLOOKUP($A91,[6]Hoja1!$A$3:$G$271,7,0) -> 0 | AD91: =AB91+AC91 -> 0 | AE91: =$D91*AD91 -> 0 | AF91: =VLOOKUP($A91,[7]Hoja1!$A$3:$M$271,12,0) -> 0 | AG91: =VLOOKUP($A91,[7]Hoja1!$A$3:$M$271,13,0) -> 0 | AH91: =AF91+AG91 -> 0 | AI91: =$D91*AH91 -> 0 | AJ91: =VLOOKUP($A91,[8]Hoja1!$A$3:$G$271,6,0) -> 4160 | AK91: =VLOOKUP($A91,[8]Hoja1!$A$3:$G$271,7,0) -> 0 | AL91: =AJ91+AK91 -> 4160 | AM91: =$D91*AL91 -> 4160 | AN91: =VLOOKUP($A91,[9]Hoja1!$A$5:$G$273,6,0) -> 4284 | AO91: =VLOOKUP($A91,[9]Hoja1!$A$5:$G$273,7,0) -> 0 | AP91: =AN91+AO91 -> 4284 | AQ91: =$D91*AP91 -> 4284 | AR91: =VLOOKUP($A91,[10]Hoja1!$A$3:$M$271,12,0) -> 0 | AS91: =VLOOKUP($A91,[10]Hoja1!$A$3:$M$271,13,0) -> 0 | AT91: =AR91+AS91 -> 0 | AU91: =$D91*AT91 -> 0 | AV91: =VLOOKUP($A91,[11]Hoja1!$A$3:$M$271,12,0) -> 0 | AW91: =VLOOKUP($A91,[11]Hoja1!$A$3:$M$271,13,0) -> 0 | AX91: =AV91+AW91 -> 0 | AY91: =$D91*AX91 -> 0 | AZ91: =VLOOKUP($A91,[12]Hoja1!$A$3:$M$271,12,0) -> 0 | BA91: =VLOOKUP($A91,[12]Hoja1!$A$3:$M$271,13,0) -> 0 | BB91: =AZ91+BA91 -> 0 | BC91: =$D91*BB91 -> 0
A92: 83 | B92: LAPIZ PARA ELECTROBISTURI ESTERIL | C92: 1 UNIDAD DE LAPIZ ELECTROBISTURI | D92: 1 | E92: UN | F92: 4943 | G92: 947.66667 | H92: =VLOOKUP($A92,[1]Hoja1!$A$3:$G$271,6,0) -> 0 | I92: =VLOOKUP($A92,[1]Hoja1!$A$3:$G$271,7,0) -> 0 | J92: =H92+I92 -> 0 | K92: =$D92*J92 -> 0 | L92: =VLOOKUP($A92,[2]Hoja1!$A$3:$G$271,6,0) -> 0 | M92: =VLOOKUP($A92,[2]Hoja1!$A$3:$G$271,7,0) -> 0 | N92: =L92+M92 -> 0 | O92: =$D92*N92 -> 0 | P92: =VLOOKUP($A92,[3]Hoja1!$A$3:$M$271,12,0) -> 4980 | Q92: =VLOOKUP($A92,[3]Hoja1!$A$3:$M$271,13,0) -> 0 | R92: =P92+Q92 -> 4980 | S92: =$D92*R92 -> 4980 | T92: =VLOOKUP($A92,[4]Hoja1!$A$3:$G$271,6,0) -> 5795 | U92: =T92*0.19 -> 1101.05 | V92: =T92+U92 -> 6896.05 | W92: =$D92*V92 -> 6896.05 | X92: =VLOOKUP($A92,[5]Hoja1!$A$3:$G$271,6,0) -> 5200 | Y92: =X92*0.19 -> 988 | Z92: =X92+Y92 -> 6188 | AA92: =$D92*Z92 -> 6188 | AB92: =VLOOKUP($A92,[6]Hoja1!$A$3:$G$271,6,0) -> 0 | AC92: =VLOOKUP($A92,[6]Hoja1!$A$3:$G$271,7,0) -> 0 | AD92: =AB92+AC92 -> 0 | AE92: =$D92*AD92 -> 0 | AF92: =VLOOKUP($A92,[7]Hoja1!$A$3:$M$271,12,0) -> 0 | AG92: =VLOOKUP($A92,[7]Hoja1!$A$3:$M$271,13,0) -> 0 | AH92: =AF92+AG92 -> 0 | AI92: =$D92*AH92 -> 0 | AJ92: =VLOOKUP($A92,[8]Hoja1!$A$3:$G$271,6,0) -> 5540 | AK92: =VLOOKUP($A92,[8]Hoja1!$A$3:$G$271,7,0) -> 0 | AL92: =AJ92+AK92 -> 5540 | AM92: =$D92*AL92 -> 5540 | AN92: =VLOOKUP($A92,[9]Hoja1!$A$5:$G$273,6,0) -> 0 | AO92: =VLOOKUP($A92,[9]Hoja1!$A$5:$G$273,7,0) -> 0 | AP92: =AN92+AO92 -> 0 | AQ92: =$D92*AP92 -> 0 | AR92: =VLOOKUP($A92,[10]Hoja1!$A$3:$M$271,12,0) -> 0 | AS92: =VLOOKUP($A92,[10]Hoja1!$A$3:$M$271,13,0) -> 0 | AT92: =AR92+AS92 -> 0 | AU92: =$D92*AT92 -> 0 | AV92: =VLOOKUP($A92,[11]Hoja1!$A$3:$M$271,12,0) -> 0 | AW92: =VLOOKUP($A92,[11]Hoja1!$A$3:$M$271,13,0) -> 0 | AX92: =AV92+AW92 -> 0 | AY92: =$D92*AX92 -> 0 | AZ92: =VLOOKUP($A92,[12]Hoja1!$A$3:$M$271,12,0) -> 0 | BA92: =VLOOKUP($A92,[12]Hoja1!$A$3:$M$271,13,0) -> 0 | BB92: =AZ92+BA92 -> 0 | BC92: =$D92*BB92 -> 0
A93: 84 | B93: MALLA DE POLIPROPILENO DE ALTA DENSIDAD PESO DE 95 GR, MICROPOROSA PORO DE 0,75 X 0.75 A 0,8 MM NO ABSORBIBLE 15 X 15CM | C93: 1 UNIDAD DE MALLA | D93: 1 | E93: UN | F93: 75000 | G93: 9.3333333 | H93: =VLOOKUP($A93,[1]Hoja1!$A$3:$G$271,6,0) -> 0 | I93: =VLOOKUP($A93,[1]Hoja1!$A$3:$G$271,7,0) -> 0 | J93: =H93+I93 -> 0 | K93: =$D93*J93 -> 0 | L93: =VLOOKUP($A93,[2]Hoja1!$A$3:$G$271,6,0) -> 0 | M93: =VLOOKUP($A93,[2]Hoja1!$A$3:$G$271,7,0) -> 0 | N93: =L93+M93 -> 0 | O93: =$D93*N93 -> 0 | P93: =VLOOKUP($A93,[3]Hoja1!$A$3:$M$271,12,0) -> 73240 | Q93: =VLOOKUP($A93,[3]Hoja1!$A$3:$M$271,13,0) -> 0 | R93: =P93+Q93 -> 73240 | S93: =$D93*R93 -> 73240 | T93: =VLOOKUP($A93,[4]Hoja1!$A$3:$G$271,6,0) -> 299565 | U93: =VLOOKUP($A93,[4]Hoja1!$A$3:$G$271,7,0) -> 0 | V93: =T93+U93 -> 299565 | W93: =$D93*V93 -> 299565 | X93: =VLOOKUP($A93,[5]Hoja1!$A$3:$G$271,6,0) -> 0 | Y93: =VLOOKUP($A93,[5]Hoja1!$A$3:$G$271,7,0) -> 0 | Z93: =X93+Y93 -> 0 | AA93: =$D93*Z93 -> 0 | AB93: =VLOOKUP($A93,[6]Hoja1!$A$3:$G$271,6,0) -> 0 | AC93: =VLOOKUP($A93,[6]Hoja1!$A$3:$G$271,7,0) -> 0 | AD93: =AB93+AC93 -> 0 | AE93: =$D93*AD93 -> 0 | AF93: =VLOOKUP($A93,[7]Hoja1!$A$3:$M$271,12,0) -> 0 | AG93: =VLOOKUP($A93,[7]Hoja1!$A$3:$M$271,13,0) -> 0 | AH93: =AF93+AG93 -> 0 | AI93: =$D93*AH93 -> 0 | AJ93: =VLOOKUP($A93,[8]Hoja1!$A$3:$G$271,6,0) -> 74870 | AK93: =VLOOKUP($A93,[8]Hoja1!$A$3:$G$271,7,0) -> 0 | AL93: =AJ93+AK93 -> 74870 | AM93: =$D93*AL93 -> 74870 | AN93: =VLOOKUP($A93,[9]Hoja1!$A$5:$G$273,6,0) -> 0 | AO93: =VLOOKUP($A93,[9]Hoja1!$A$5:$G$273,7,0) -> 0 | AP93: =AN93+AO93 -> 0 | AQ93: =$D93*AP93 -> 0 | AR93: =VLOOKUP($A93,[10]Hoja1!$A$3:$M$271,12,0) -> 0 | AS93: =VLOOKUP($A93,[10]Hoja1!$A$3:$M$271,13,0) -> 0 | AT93: =AR93+AS93 -> 0 | AU93: =$D93*AT93 -> 0 | AV93: =VLOOKUP($A93,[11]Hoja1!$A$3:$M$271,12,0) -> 0 | AW93: =VLOOKUP($A93,[11]Hoja1!$A$3:$M$271,13,0) -> 0 | AX93: =AV93+AW93 -> 0 | AY93: =$D93*AX93 -> 0 | AZ93: =VLOOKUP($A93,[12]Hoja1!$A$3:$M$271,12,0) -> 49000 | BA93: =VLOOKUP($A93,[12]Hoja1!$A$3:$M$271,13,0) -> 0 | BB93: =AZ93+BA93 -> 49000 | BC93: =$D93*BB93 -> 49000
