Workbook

Sheet lista
A2: ITEM | B2: 1 | C2: 2 | D2: 3 | E2: 4 | F2: 5 | G2: 6 | H2: 7 | I2: 8 | J2: 9 | K2: 10 | L2: 11 | M2: 12 | N2: 13 | O2: 14 | P2: 15 | Q2: 16 | R2: 17 | S2: 18 | T2: 19 | U2: 20 | V2: 21 | W2: 22 | X2: 23 | Y2: 24 | Z2: 25 | AA2: 26 | AB2: 27 | AC2: 28
A3: NOMBRE | B3: ALFA TRADING S.A.S. | C3: ALLERS S.A. | D3: AMAREY NOVA MEDICAL S.A. | E3: BECTON DICKINSON DE COLOMBIA LTDA | F3: BIOPLAST S.A.S. | G3: COMPANY MEDIQBOY SAS | H3: DISTRIBUIDORA COLOMBIANA DE MEDICAMENTOS S.A.S. – DISCOLMEDICA S.A.S | I3: FRIDEN DE COLOMBIA HOSPITALARIA S.A. | J3: HOSPITECNICA SAS | K3: IMCOLMEDICA S.A. | L3: INVERSIONES DRILLTEX S.A.S. | M3: LABORATORIOS GOTHAPLAST LTDA | N3: LIFE SUMINISTROS MEDICOS SAS | O3: M&M EQUIPOS MEDICOS S.A.S. | P3: MEDICOX LTDA | Q3: MEDTRONIC COLOMBIA S.A. | R3: NIPRO MEDICAL CORPORATION | S3: POLIMEDIC'S FARMACEUTICA SAS "POLIFARMA SAS" | T3: ASEPSIS PRODUCTS DE COLOMBIA S.A.S. | U3: QUIRURGICOS LTDA | V3: RAFAEL ANTONIO SALAMANCA | W3: RP MEDICAS S.A. | X3: SMITH & NEPHEW COLOMBIA S.A.S | Y3: TECNICA ELECTRO MEDICA S.A. | Z3: TECNOLOGIAS MEDICAS COLOMBIA S.A.S. | AA3: TWITY S.A.S. | AB3: UCIPHARMA S.A | AC3: VYGON COLOMBIA S.A.
A6: ÍTEM | B6: PROVEEDDOR | C6: EVALUACION JURIDICA | D6: FINANCIERA
A7: 1 | B7: ALFA TRADING SAS | C7: CUMPLE | D7: CUMPLE
A8: =+A7+1 -> 2 | B8: ALLERS S. A. | C8: NO CUMPLE | D8: CUMPLE
A9: =+A8+1 -> 3 | B9: AMAREY NOVA MEDICAL SA | C9: CUMPLE | D9: CUMPLE
A10: =+A9+1 -> 4 | B10: BECTON DICKINSON DE COLOMBIA LTDA | C10: CUMPLE | D10: NO CUMPLE
A11: =+A10+1 -> 5 | B11: BIOPLAST S.A.S | C11: CUMPLE | D11: CUMPLE
A12: =+A11+1 -> 6 | B12: DISCOLMEDICA S.A.S | C12: NO CUMPLE | D12: NO CUMPLE
A13: =+A12+1 -> 7 | B13: COMPANY MEDIQBOY OC S.A.S. | C13: CUMPLE | D13: CUMPLE
A14: =+A13+1 -> 8 | B14: FRIDEN DE COLOMBIA HOSPITALARIA LTDA | C14: CUMPLE | D14: CUMPLE
A15: =+A14+1 -> 9 | B15: HOSPITECNICA S.A.S. | C15: NO CUMPLE | D15: CUMPLE
A16: =+A15+1 -> 10 | B16: IMCOLMEDICA S.A | C16: NO CUMPLE | D16: NO CUMPLE
A17: =+A16+1 -> 11 | B17: INVERSIONES DRILLTEX S A S | C17: NO CUMPLE | D17: CUMPLE
A18: =+A17+1 -> 12 | B18: LABORATORIOS GOTHAPLAST LTDA. | C18: NO CUMPLE | D18: CUMPLE
A19: =+A18+1 -> 13 | B19: LIFE SUMINISTROS MEDICOS S.A.S. | C19: NO CUMPLE | D19: CUMPLE
... A34: =+A33+1 -> 28 | B34: VYGON COLOMBIA S.A. | C34: NO CUMPLE | D34: CUMPLE

Sheet EV TECNICA
B1: EVALUACION ECONOMICA
A5: 1. INVITACION CP-003-2021
A7: ='OFERTAS ECONOMICAS'!A7:BC7 -> 2. OBJETO: SUMINISTRO DE INSUMOS Y DISPOSITIVOS MÉDICO QUIRÚRGICOS DE ACUERDO CON LA DESCRIPCIÓN DEL ANEXO TÉCNICO PARA LAS DIFERENTES ESPECIALIDADES, CON EL APOYO TECNOLÓGICO REQUERIDO, PARA LAS UNIDADES DE PRESTACIÓN DE SERVICIOS DE SALUD DE LA SUBRED INTEGRADA DE SERVICIOS DE SALUD SUR OCCIDENTE E.S.E INTEGRADA DE SERVICIOS DE SALUD SUR OCCIDENTE E.S.E.
A8: 3. ITEM | B8: 4. ELEMENTO | C8: 4. CARACTERISTICAS | D8: CANTIDAD | E8: UNIDAD | F8: VALOR DE REFERENCIA | G8: =lista!B3 -> ALFA TRADING S.A.S. | H8: =lista!D3 -> AMAREY NOVA MEDICAL S.A. | I8: =lista!F3 -> BIOPLAST S.A.S. | J8: =lista!G3 -> COMPANY MEDIQBOY SAS | K8: =lista!I3 -> FRIDEN DE COLOMBIA HOSPITALARIA S.A. | L8: =lista!O3 -> M&M EQUIPOS MEDICOS S.A.S. | M8: =lista!R3 -> NIPRO MEDICAL CORPORATION | N8: =lista!U3 -> QUIRURGICOS LTDA | O8: =lista!V3 -> RAFAEL ANTONIO SALAMANCA | P8: =lista!W3 -> RP MEDICAS S.A. | Q8: =lista!X3 -> SMITH & NEPHEW COLOMBIA S.A.S | R8: =lista!AA3 -> TWITY S.A.S.
G9: RESULTADO | H9: RESULTADO | I9: RESULTADO | J9: RESULTADO | K9: RESULTADO | L9: RESULTADO | M9: RESULTADO | N9: RESULTADO | O9: RESULTADO | P9: RESULTADO | Q9: RESULTADO | R9: RESULTADO
A10: 1 | B10: APOSITO "NO TEJIDO", CON ADHESIVO HIPOALERGÉNICO PARA HERIDAS POSOPERATORIAS 30 A 35 X 9 A 10CM. | C10: 1 UNIDAD DE APOSITO | D10: 1 | E10: UN | F10: 6000 | O10: NO CUMPLE EV. TECNICA | Q10: CUMPLE
A11: 2 | B11: APOSITO 6 X 7 MAS O MENOS 2CM CON REFUERZO INCORPORADO, Y CON TIRILLAS DE FIJACIÓN Y MARCACIÓN-USO PEDIATRICO | C11: 1 UNIDAD DE APOSITO | D11: 1 | E11: UN | F11: 1300 | G11: NO CUMPLE EV. TECNICA | K11: NO CUMPLE EV. TECNICA | O11: CUMPLE | Q11: NO CUMPLE EV. TECNICA
A12: 3 | B12: APOSITO DE CARBON TRILAMINADO 10*10 | C12: 1 UNIDAD DE APOSITO | D12: 1 | E12: UN | F12: 12000 | O12: NO CUMPLE EV. TECNICA
A13: 4 | B13: APOSITO DE GASA 15X20 CON BASE DE PARAFINA BLANDA + CLORHEXIDINA 0.5% | C13: 1 UNIDAD DE APOSITO | D13: 1 | E13: UN | F13: 4800 | O13: NO CUMPLE EV. TECNICA | Q13: CUMPLE
A14: 5 | B14: APOSITO ESTERIL TRANSPARENTE 7X9 MAS O MENOS 2 CM CON REFUERZO INCORPORADO, Y CON TIRILLAS DE FIJACIÓN Y MARCACIÓN - USO ADULTO | C14: 1 UNIDAD DE APOSITO | D14: 1 | E14: UN | F14: 1477 | G14: NO CUMPLE EV. TECNICA | K14: CUMPLE | O14: CUMPLE | Q14: NO CUMPLE EV. TECNICA
A15: 6 | B15: APOSITO TRANSPARENTE 15 X 25 CM POSQUIRURGICO CON ALMOHADILLA ABSORBENTE | C15: 1 UNIDAD DE APOSITO | D15: 1 | E15: UN | F15: 7500 | O15: NO CUMPLE EV. TECNICA | Q15: CUMPLE
A16: 7 | B16: APOSITO TRASPARENTE ESTERIL CON ALMOHADILLA ABSORVENTE 7 HASTA 9 X 5 HASTA 7 CM | C16: 1 UNIDAD DE APOSITO | D16: 1 | E16: UN | F16: 858.875 | K16: CUMPLE | O16: CUMPLE | Q16: NO CUMPLE EV. TECNICA
A17: 8 | B17: CREMA PROTECTORA CUTANEA CON OXIDO DE ZINC PARA PREVENCION LESIONES POR PRESION. 10% | C17: 1 UNIDAD DE CREMA | D17: 1 | E17: UN | F17: 41650 | H17: NO CUMPLE EV. TECNICA
A18: 9 | B18: DETERGENTE POLIENZIMATICO BIODEGRADABLE EN GEL O ESPUMA COMO PRETRATAMIENTO DE TRANSPORTE INSTRUMENTAL PARA LA DEGRADACION DE MATERIA ORGANICA | C18: 1 UNIDAD DE DETERGENTE X 500 ML PRESENTACION FRASCO EN SPRAY | D18: 1 | E18: UN | F18: 41650 | J18: NO CUMPLE EV. TECNICA
A19: 10 | B19: ESPARADRAPO TELA SIN TEJER AUTOADHESIVO-10 CM X 10 M | C19: 1 UNIDAD DE ESPARADRAPO | D19: 1 | E19: UN | F19: 12460 | G19: CUMPLE | H19: CUMPLE | I19: CUMPLE | J19: CUMPLE | K19: CUMPLE | O19: NO CUMPLE EV. TECNICA | Q19: CUMPLE
A20: 11 | B20: PROTECTOR CUTANEO EMOLIENTE CON OXIDO DE ZINC CALAMINA Y ALANTOINA 30%(ULTRA) | C20: 1 UNIDAD DE PROTECTOR CUTANEO | D20: 1 | E20: UN | F20: 26000 | O20: NO CUMPLE EV. TECNICA
A21: 12 | B21: PROTECTOR EN ESPUMA PARA CODO Y TALON | C21: 1 UNIDAD DE PROTECTOR EN ESPUMA | D21: 1 | E21: UN | F21: 18034 | O21: NO CUMPLE EV. TECNICA
A22: 13 | B22: ROLLO DE GASA IMPREGNADA EN PARAFINA DE 1 METRO POR 15 CM DE ANCHO ESTERIL | C22: 1 UNIDAD DE ROLLO DE GASA IMPREGNADA EN PARAFINA. PRESENTACION ROLLO | D22: 1 | E22: UN | F22: 20000 | K22: CUMPLE | O22: NO CUMPLE EV. TECNICA
A23: 14 | B23: CONECTOR LIBRE DE AGUJA | C23: 1 UNIDAD CONECTOR | D23: 1 | E23: UN | F23: 1100 | G23: CUMPLE | I23: NO CUMPLE EV. TECNICA | J23: CUMPLE | O23: CUMPLE
A24: 15 | B24: ESPARADRAPO ANTIALERGICO 1 PULGADA | C24: 1 ROLLO DE ESPARADRAPO | D24: 1 | E24: UN | F24: 1373 | G24: CUMPLE | I24: CUMPLE | J24: CUMPLE | K24: CUMPLE | O24: CUMPLE
A25: 16 | B25: ESPARADRAPO DE RAYON MICROPOROSO HIPOALERGENICO 2 X 10 YARDAS | C25: 1 ROLLO DE ESPARADRAPO | D25: 1 | E25: UN | F25: 2747 | G25: CUMPLE | I25: CUMPLE | J25: CUMPLE | K25: CUMPLE | O25: CUMPLE
A26: 17 | B26: GASA 100% ALGODON TEJIDA 8 PLIEGUES ESTERIL SIN INDICADOR RADIOPACO 7.5 * 7.5 cm (SOBRE X 5) | C26: 1 SOBRE DE 5 UNIDADES | D26: 1 | E26: UN | F26: 300 | G26: CUMPLE | J26: CUMPLE
A27: 18 | B27: JERINGA DE TRES PARTES DE 3 CM 23G X 1´´ 25 X 0.62 MM. | C27: 1 UNIDAD DE JERINGA | D27: 1 | E27: UN | F27: 189.21 | G27: CUMPLE | I27: CUMPLE | J27: CUMPLE | M27: CUMPLE
A28: 19 | B28: PAÑO IMPREGNADO CON CLORHEXIDINA AL 2 % Y ALCOHOL ISOPROPILICO AL 70% | C28: 1 UNIDAD DE PAÑO | D28: 1 | E28: UN | F28: 52 | G28: CUMPLE | J28: CUMPLE | O28: NO CUMPLE EV. TECNICA
A29: 20 | B29: COMPRESA TEJIDA EN GASA 100% ALGODON DE 4 PLIEGUES NO ESTERIL 45CM X 45CM CON INDICADOR RADIOPACO LIBRE DE LATEX | C29: Una Unidad de compresa | D29: 1 | E29: UN | F29: 950 | G29: CUMPLE | I29: CUMPLE
A30: 21 | B30: JERINGA DESECHABLE DE 60 ML PUNTA DE CATETER TRESPAR | C30: 1 UNIDAD DE JERINGA | D30: 1 | E30: UN | F30: 830 | G30: CUMPLE | I30: CUMPLE | J30: CUMPLE
A31: 22 | B31: GASA TEJIDA NO ESTERIL TIPO HOSPITALARIO ROLLO 0.90 X 90 MTRS ANCHO 45 CM | C31: 1 UNIDAD DE ROLLO DE GASA | D31: 1 | E31: UN | F31: 44000 | G31: CUMPLE | I31: CUMPLE | J31: NO CUMPLE EV. TECNICA | O31: NO CUMPLE EV. TECNICA
A32: 23 | B32: AGUJA BLOQUEO NERVIOSO 22X50MM | C32: 1 UNIDAD DE AGUJA | D32: 1 | E32: UN | F32: 10824 | J32: NO CUMPLE EV. TECNICA
A33: 24 | B33: AGUJA PARA BLOQUEO DE NERVIO 20 - 21 G X 120MM VISIBLES ECOGRÁFICAMENTE | C33: 1 UNIDAD DE AGUJA | D33: 1 | E33: UN | F33: 41075 | J33: NO CUMPLE EV. TECNICA
A34: 25 | B34: AGUJA PARA BLOQUEO DE NERVIO 21- 22 G X 50MM VISIBLES ECOGRÁFICAMENTE | C34: 1 UNIDAD DE AGUJA | D34: 1 | E34: UN | F34: 38123.19 | J34: NO CUMPLE EV. TECNICA
A35: 26 | B35: AGUJA PARA BLOQUEO DE NERVIO 21 G X 90-110MM | C35: 1 UNIDAD DE AGUJA | D35: 1 | E35: UN | F35: 43977.19 | J35: NO CUMPLE EV. TECNICA
A36: 27 | B36: AGUJA PARA BLOQUEO DE NERVIO NO. 20G X 150MM USO CON NEUROESTIMULADOR | C36: 1 UNIDAD DE AGUJA | D36: 1 | E36: UN | F36: 43182.19 | J36: NO CUMPLE EV. TECNICA
A37: 28 | B37: AGUJA PARA BLOQUEO DE NERVIO NO. 22G X 80MM USO CON NEUROESTIMULADOR | C37: 1 UNIDAD DE AGUJA | D37: 1 | E37: UN | F37: 35875.19 | J37: NO CUMPLE EV. TECNICA
A38: 29 | B38: AGUJA PARA BLOQUEO DE NERVIO NO. 24G X 25MM USO CON NEUROESTIMULADOR | C38: 1 UNIDAD DE AGUJA | D38: 1 | E38: UN | F38: 42008.19 | J38: NO CUMPLE EV. TECNICA
A39: 30 | B39: AGUJA PARA PUNCION LUMBAR N. 20 | C39: 1 UNIDAD DE AGUJA | D39: 1 | E39: UN | F39: 4000 | I39: NO CUMPLE EV. TECNICA | J39: CUMPLE | N39: NO CUMPLE EV. TECNICA | O39: CUMPLE
A40: 31 | B40: AGUJA PARA PUNCION LUMBAR N. 22 | C40: 1 UNIDAD DE AGUJA | D40: 1 | E40: UN | F40: 4000 | I40: NO CUMPLE EV. TECNICA | J40: CUMPLE | N40: NO CUMPLE EV. TECNICA | O40: CUMPLE
A41: 32 | B41: AGUJA PARA PUNCION LUMBAR NO. 25 | C41: 1 UNIDAD DE AGUJA | D41: 1 | E41: UN | F41: 4023 | I41: NO CUMPLE EV. TECNICA | J41: CUMPLE | N41: NO CUMPLE EV. TECNICA | O41: CUMPLE
A42: 33 | B42: ASA POLIPECTOMIA OVALADA | C42: 1 UNIDAD DE ASA | D42: 1 | E42: UN | F42: 101534 | J42: NO CUMPLE EV. TECNICA
A43: 34 | B43: BOQUILLA PLASTICA PARA ENDOSCOPIA ADULTO REUSABLE | C43: 1 UNIDAD DE BOQUILLA | D43: 1 | E43: UN | F43: 64387 | L43: CUMPLE
A44: 35 | B44: BOQUILLA PLASTICA PARA ENDOSCOPIA PEDIATRICA REUSABLE | C44: 1 UNIDAD DE BOQUILLA | D44: 1 | E44: UN | L44: CUMPLE
...

Sheet OFERTAS ECONOMICAS
A1: EVALUACION ECONOMICA | BA1: Versión: | BB1: 2
BA2: Fecha de aprobación: | BB2: 43326
BA3: Código: | BB3: 15-00-FO-0009
A5: 1. INVITACION IC-364-2021
A7: 2. OBJETO: SUMINISTRO DE INSUMOS Y DISPOSITIVOS MÉDICO QUIRÚRGICOS DE ACUERDO CON LA DESCRIPCIÓN DEL ANEXO TÉCNICO PARA LAS DIFERENTES ESPECIALIDADES, CON EL APOYO TECNOLÓGICO REQUERIDO, PARA LAS UNIDADES DE PRESTACIÓN DE SERVICIOS DE SALUD DE LA SUBRED INTEGRADA DE SERVICIOS DE SALUD SUR OCCIDENTE E.S.E INTEGRADA DE SERVICIOS DE SALUD SUR OCCIDENTE E.S.E.
A8: 3. ITEM | B8: DESCRIPCIÓN | C8: CARACTERISTICAS | D8: CANTIDAD | E8: UNDIDAD | F8: VALOR DE REFERENCIA | G8: CONSUMO PROMEDIO MES | H8: =lista!B3 -> ALFA TRADING S.A.S. | L8: =lista!D3 -> AMAREY NOVA MEDICAL S.A. | P8: =lista!F3 -> BIOPLAST S.A.S. | T8: =lista!G3 -> COMPANY MEDIQBOY SAS | X8: =lista!I3 -> FRIDEN DE COLOMBIA HOSPITALARIA S.A. | AB8: =lista!O3 -> M&M EQUIPOS MEDICOS S.A.S. | AF8: =lista!R3 -> NIPRO MEDICAL CORPORATION | AJ8: =lista!U3 -> QUIRURGICOS LTDA | AN8: =lista!V3 -> RAFAEL ANTONIO SALAMANCA | AR8: =lista!W3 -> RP MEDICAS S.A. | AV8: =lista!X3 -> SMITH & NEPHEW COLOMBIA S.A.S | AZ8: =lista!AA3 -> TWITY S.A.S.
H9: 7.VALOR UNITARIO | I9: 8.IVA | J9: 9. VALOR UNITARIO + IVA | K9: 10.VALOR TOTAL | L9: 7.VALOR UNITARIO | M9: 8.IVA | N9: 9. VALOR UNITARIO + IVA | O9: 10.VALOR TOTAL | P9: 7.VALOR UNITARIO | Q9: 8.IVA | R9: 9. VALOR UNITARIO + IVA | S9: 10.VALOR TOTAL | T9: 7.VALOR UNITARIO | U9: 8.IVA | V9: 9. VALOR UNITARIO + IVA | W9: 10.VALOR TOTAL | X9: 7.VALOR UNITARIO | Y9: 8.IVA | Z9: 9. VALOR UNITARIO + IVA | AA9: 10.VALOR TOTAL | AB9: 7.VALOR UNITARIO | AC9: 8.IVA | AD9: 9. VALOR UNITARIO + IVA | AE9: 10.VALOR TOTAL | AF9: 7.VALOR UNITARIO | AG9: 8.IVA | AH9: 9. VALOR UNITARIO + IVA | AI9: 10.VALOR TOTAL | AJ9: 7.VALOR UNITARIO | AK9: 8.IVA | AL9: 9. VALOR UNITARIO + IVA | AM9: 10.VALOR TOTAL | AN9: 7.VALOR UNITARIO | AO9: 8.IVA | AP9: 9. VALOR UNITARIO + IVA | AQ9: 10.VALOR TOTAL | AR9: 7.VALOR UNITARIO | AS9: 8.IVA | AT9: 9. VALOR UNITARIO + IVA | AU9: 10.VALOR TOTAL | AV9: 7.VALOR UNITARIO | AW9: 8.IVA | AX9: 9. VALOR UNITARIO + IVA | AY9: 10.VALOR TOTAL | AZ9: 7.VALOR UNITARIO | BA9: 8.IVA | BB9: 9. VALOR UNITARIO + IVA | BC9: 10.VALOR TOTAL | BD9: MENOR VR OFERTADO | BE9: DIF | BF9: PROVEEDOR CON MENOR VALOR | BI9: PRECIO MIN | BJ9: DIF | BK9: NOMBRE PROVEEDOR
A10: 1 | B10: APOSITO "NO TEJIDO", CON ADHESIVO HIPOALERGÉNICO PARA HERIDAS POSOPERATORIAS 30 A 35 X 9 A 10CM. | C10: 1 UNIDAD DE APOSITO | D10: 1 | E10: UN | F10: 6000 | G10: 266.66667 | H10: =VLOOKUP($A10,[1]Hoja1!$A$3:$G$271,6,0) -> 0 | I10: =VLOOKUP($A10,[1]Hoja1!$A$3:$G$271,7,0) -> 0 | J10: =H10+I10 -> 0 | K10: =$D10*J10 -> 0 | L10: =VLOOKUP($A10,[2]Hoja1!$A$3:$G$271,6,0) -> 0 | M10: =VLOOKUP($A10,[2]Hoja1!$A$3:$G$271,7,0) -> 0 | N10: =L10+M10 -> 0 | O10: =$D10*N10 -> 0 | P10: =VLOOKUP($A10,[3]Hoja1!$A$3:$M$271,12,0) -> 0 | Q10: =VLOOKUP($A10,[3]Hoja1!$A$3:$M$271,13,0) -> 0 | R10: =P10+Q10 -> 0 | S10: =$D10*R10 -> 0 | T10: =VLOOKUP($A10,[4]Hoja1!$A$3:$G$271,6,0) -> 0 | U10: =VLOOKUP($A10,[4]Hoja1!$A$3:$G$271,7,0) -> 0 | V10: =T10+U10 -> 0 | W10: =$D10*V10 -> 0 | X10: =VLOOKUP($A10,[5]Hoja1!$A$3:$G$271,6,0) -> 0 | Y10: =VLOOKUP($A10,[5]Hoja1!$A$3:$G$271,7,0) -> 0 | Z10: =X10+Y10 -> 0 | AA10: =$D10*Z10 -> 0 | AB10: =VLOOKUP($A10,[6]Hoja1!$A$3:$G$271,6,0) -> 0 | AC10: =VLOOKUP($A10,[6]Hoja1!$A$3:$G$271,7,0) -> 0 | AD10: =AB10+AC10 -> 0 | AE10: =$D10*AD10 -> 0 | AF10: =VLOOKUP($A10,[7]Hoja1!$A$3:$M$271,12,0) -> 0 | AG10: =VLOOKUP($A10,[7]Hoja1!$A$3:$M$271,13,0) -> 0 | AH10: =AF10+AG10 -> 0 | AI10: =$D10*AH10 -> 0 | AJ10: =VLOOKUP($A10,[8]Hoja1!$A$3:$G$271,6,0) -> 0 | AK10: =VLOOKUP($A10,[8]Hoja1!$A$3:$G$271,7,0) -> 0 | AL10: =AJ10+AK10 -> 0 | AM10: =$D10*AL10 -> 0 | AN10: =VLOOKUP($A10,[9]Hoja1!$A$5:$G$273,6,0) -> 104682 | AO10: =VLOOKUP($A10,[9]Hoja1!$A$5:$G$273,7,0) -> 0 | AP10: =AN10+AO10 -> 104682 | AQ10: =$D10*AP10 -> 104682 | AR10: =VLOOKUP($A10,[10]Hoja1!$A$3:$M$271,12,0) -> 0 | AS10: =VLOOKUP($A10,[10]Hoja1!$A$3:$M$271,13,0) -> 0 | AT10: =AR10+AS10 -> 0 | AU10: =$D10*AT10 -> 0 | AV10: =VLOOKUP($A10,[11]Hoja1!$A$3:$M$271,12,0) -> 3400 | AW10: =VLOOKUP($A10,[11]Hoja1!$A$3:$M$271,13,0) -> 0 | AX10: =AV10+AW10 -> 3400 | AY10: =$D10*AX10 -> 3400 | AZ10: =VLOOKUP($A10,[12]Hoja1!$A$3:$M$271,12,0) -> 0 | BA10: =VLOOKUP($A10,[12]Hoja1!$A$3:$M$271,13,0) -> 0 | BB10: =AZ10+BA10 -> 0 | BC10: =$D10*BB10 -> 0 | BD10: =MIN(#REF!,#REF!) -> #REF! | BE10: =BD10-#REF! -> #REF! | BF10: IME IMPORTMEDICAL COLOMBIA SAS | BI10: =MIN(#REF!,#REF!) -> #REF! | BJ10: =BI10-#REF! -> #REF! | BK10: IME IMPORTMEDICAL COLOMBIA SAS
A11: 2 | B11: APOSITO 6 X 7 MAS O MENOS 2CM CON REFUERZO INCORPORADO, Y CON TIRILLAS DE FIJACIÓN Y MARCACIÓN-USO PEDIATRICO | C11: 1 UNIDAD DE APOSITO | D11: 1 | E11: UN | F11: 1300 | G11: 1622 | H11: =VLOOKUP($A11,[1]Hoja1!$A$3:$G$271,6,0) -> 1299 | J11: =H11+I11 -> 1299 | K11: =$D11*J11 -> 1299 | L11: =VLOOKUP($A11,[2]Hoja1!$A$3:$G$271,6,0) -> 0 | M11: =VLOOKUP($A11,[2]Hoja1!$A$3:$G$271,7,0) -> 0 | N11: =L11+M11 -> 0 | O11: =$D11*N11 -> 0 | P11: =VLOOKUP($A11,[3]Hoja1!$A$3:$M$271,12,0) -> 0 | Q11: =VLOOKUP($A11,[3]Hoja1!$A$3:$M$271,13,0) -> 0 | R11: =P11+Q11 -> 0 | S11: =$D11*R11 -> 0 | T11: =VLOOKUP($A11,[4]Hoja1!$A$3:$G$271,6,0) -> 0 | U11: =VLOOKUP($A11,[4]Hoja1!$A$3:$G$271,7,0) -> 0 | V11: =T11+U11 -> 0 | W11: =$D11*V11 -> 0 | X11: =VLOOKUP($A11,[5]Hoja1!$A$3:$G$271,6,0) -> 1809 | Y11: =VLOOKUP($A11,[5]Hoja1!$A$3:$G$271,7,0) -> 0 | Z11: =X11+Y11 -> 1809 | AA11: =$D11*Z11 -> 1809 | AB11: =VLOOKUP($A11,[6]Hoja1!$A$3:$G$271,6,0) -> 0 | AC11: =VLOOKUP($A11,[6]Hoja1!$A$3:$G$271,7,0) -> 0 | AD11: =AB11+AC11 -> 0 | AE11: =$D11*AD11 -> 0 | AF11: =VLOOKUP($A11,[7]Hoja1!$A$3:$M$271,12,0) -> 0 | AG11: =VLOOKUP($A11,[7]Hoja1!$A$3:$M$271,13,0) -> 0 | AH11: =AF11+AG11 -> 0 | AI11: =$D11*AH11 -> 0 | AJ11: =VLOOKUP($A11,[8]Hoja1!$A$3:$G$271,6,0) -> 0 | AK11: =VLOOKUP($A11,[8]Hoja1!$A$3:$G$271,7,0) -> 0 | AL11: =AJ11+AK11 -> 0 | AM11: =$D11*AL11 -> 0 | AN11: =VLOOKUP($A11,[9]Hoja1!$A$5:$G$273,6,0) -> 1364 | AO11: =VLOOKUP($A11,[9]Hoja1!$A$5:$G$273,7,0) -> 0 | AP11: =AN11+AO11 -> 1364 | AQ11: =$D11*AP11 -> 1364 | AR11: =VLOOKUP($A11,[10]Hoja1!$A$3:$M$271,12,0) -> 0 | AS11: =VLOOKUP($A11,[10]Hoja1!$A$3:$M$271,13,0) -> 0 | AT11: =AR11+AS11 -> 0 | AU11: =$D11*AT11 -> 0 | AV11: =VLOOKUP($A11,[11]Hoja1!$A$3:$M$271,12,0) -> 1280 | AW11: =VLOOKUP($A11,[11]Hoja1!$A$3:$M$271,13,0) -> 0 | AX11: =AV11+AW11 -> 1280 | AY11: =$D11*AX11 -> 1280 | AZ11: =VLOOKUP($A11,[12]Hoja1!$A$3:$M$271,12,0) -> 0 | BA11: =VLOOKUP($A11,[12]Hoja1!$A$3:$M$271,13,0) -> 0 | BB11: =AZ11+BA11 -> 0 | BC11: =$D11*BB11 -> 0 | BD11: =MIN(#REF!,#REF!) -> #REF! | BE11: =BD11-#REF! -> #REF! | BF11: IME IMPORTMEDICAL COLOMBIA SAS | BI11: =MIN(#REF!,#REF!) -> #REF! | BJ11: =BI11-#REF! -> #REF! | BK11: IME IMPORTMEDICAL COLOMBIA SAS
A12: 3 | B12: APOSITO DE CARBON TRILAMINADO 10*10 | C12: 1 UNIDAD DE APOSITO | D12: 1 | E12: UN | F12: 12000 | G12: 1 | H12: =VLOOKUP($A12,[1]Hoja1!$A$3:$G$271,6,0) -> 0 | I12: =VLOOKUP($A12,[1]Hoja1!$A$3:$G$271,7,0) -> 0 | J12: =H12+I12 -> 0 | K12: =$D12*J12 -> 0 | L12: =VLOOKUP($A12,[2]Hoja1!$A$3:$G$271,6,0) -> 0 | M12: =VLOOKUP($A12,[2]Hoja1!$A$3:$G$271,7,0) -> 0 | N12: =L12+M12 -> 0 | O12: =$D12*N12 -> 0 | P12: =VLOOKUP($A12,[3]Hoja1!$A$3:$M$271,12,0) -> 0 | Q12: =VLOOKUP($A12,[3]Hoja1!$A$3:$M$271,13,0) -> 0 | R12: =P12+Q12 -> 0 | S12: =$D12*R12 -> 0 | T12: =VLOOKUP($A12,[4]Hoja1!$A$3:$G$271,6,0) -> 0 | U12: =VLOOKUP($A12,[4]Hoja1!$A$3:$G$271,7,0) -> 0 | V12: =T12+U12 -> 0 | W12: =$D12*V12 -> 0 | X12: =VLOOKUP($A12,[5]Hoja1!$A$3:$G$271,6,0) -> 0 | Y12: =VLOOKUP($A12,[5]Hoja1!$A$3:$G$271,7,0) -> 0 | Z12: =X12+Y12 -> 0 | AA12: =$D12*Z12 -> 0 | AB12: =VLOOKUP($A12,[6]Hoja1!$A$3:$G$271,6,0) -> 0 | AC12: =VLOOKUP($A12,[6]Hoja1!$A$3:$G$271,7,0) -> 0 | AD12: =AB12+AC12 -> 0 | AE12: =$D12*AD12 -> 0 | AF12: =VLOOKUP($A12,[7]Hoja1!$A$3:$M$271,12,0) -> 0 | AG12: =VLOOKUP($A12,[7]Hoja1!$A$3:$M$271,13,0) -> 0 | AH12: =AF12+AG12 -> 0 | AI12: =$D12*AH12 -> 0 | AJ12: =VLOOKUP($A12,[8]Hoja1!$A$3:$G$271,6,0) -> 0 | AK12: =VLOOKUP($A12,[8]Hoja1!$A$3:$G$271,7,0) -> 0 | AL12: =AJ12+AK12 -> 0 | AM12: =$D12*AL12 -> 0 | AN12: =VLOOKUP($A12,[9]Hoja1!$A$5:$G$273,6,0) -> 29989 | AO12: =VLOOKUP($A12,[9]Hoja1!$A$5:$G$273,7,0) -> 0 | AP12: =AN12+AO12 -> 29989 | AQ12: =$D12*AP12 -> 29989 | AR12: =VLOOKUP($A12,[10]Hoja1!$A$3:$M$271,12,0) -> 0 | AS12: =VLOOKUP($A12,[10]Hoja1!$A$3:$M$271,13,0) -> 0 | AT12: =AR12+AS12 -> 0 | AU12: =$D12*AT12 -> 0 | AV12: =VLOOKUP($A12,[11]Hoja1!$A$3:$M$271,12,0) -> 0 | AW12: =VLOOKUP($A12,[11]Hoja1!$A$3:$M$271,13,0) -> 0 | AX12: =AV12+AW12 -> 0 | AY12: =$D12*AX12 -> 0 | AZ12: =VLOOKUP($A12,[12]Hoja1!$A$3:$M$271,12,0) -> 0 | BA12: =VLOOKUP($A12,[12]Hoja1!$A$3:$M$271,13,0) -> 0 | BB12: =AZ12+BA12 -> 0 | BC12: =$D12*BB12 -> 0 | BD12: =MIN(#REF!,#REF!) -> #REF! | BE12: =BD12-#REF! -> #REF! | BF12: IME IMPORTMEDICAL COLOMBIA SAS | BI12: =MIN(#REF!,#REF!) -> #REF! | BJ12: =BI12-#REF! -> #REF! | BK12: IME IMPORTMEDICAL COLOMBIA SAS
A13: 4 | B13: APOSITO DE GASA 15X20 CON BASE DE PARAFINA BLANDA + CLORHEXIDINA 0.5% | C13: 1 UNIDAD DE APOSITO | D13: 1 | E13: UN | F13: 4800 | G13: 17.333333 | H13: =VLOOKUP($A13,[1]Hoja1!$A$3:$G$271,6,0) -> 0 | I13: =VLOOKUP($A13,[1]Hoja1!$A$3:$G$271,7,0) -> 0 | J13: =H13+I13 -> 0 | K13: =$D13*J13 -> 0 | L13: =VLOOKUP($A13,[2]Hoja1!$A$3:$G$271,6,0) -> 0 | M13: =VLOOKUP($A13,[2]Hoja1!$A$3:$G$271,7,0) -> 0 | N13: =L13+M13 -> 0 | O13: =$D13*N13 -> 0 | P13: =VLOOKUP($A13,[3]Hoja1!$A$3:$M$271,12,0) -> 0 | Q13: =VLOOKUP($A13,[3]Hoja1!$A$3:$M$271,13,0) -> 0 | R13: =P13+Q13 -> 0 | S13: =$D13*R13 -> 0 | T13: =VLOOKUP($A13,[4]Hoja1!$A$3:$G$271,6,0) -> 0 | U13: =VLOOKUP($A13,[4]Hoja1!$A$3:$G$271,7,0) -> 0 | V13: =T13+U13 -> 0 | W13: =$D13*V13 -> 0 | X13: =VLOOKUP($A13,[5]Hoja1!$A$3:$G$271,6,0) -> 0 | Y13: =VLOOKUP($A13,[5]Hoja1!$A$3:$G$271,7,0) -> 0 | Z13: =X13+Y13 -> 0 | AA13: =$D13*Z13 -> 0 | AB13: =VLOOKUP($A13,[6]Hoja1!$A$3:$G$271,6,0) -> 0 | AC13: =VLOOKUP($A13,[6]Hoja1!$A$3:$G$271,7,0) -> 0 | AD13: =AB13+AC13 -> 0 | AE13: =$D13*AD13 -> 0 | AF13: =VLOOKUP($A13,[7]Hoja1!$A$3:$M$271,12,0) -> 0 | AG13: =VLOOKUP($A13,[7]Hoja1!$A$3:$M$271,13,0) -> 0 | AH13: =AF13+AG13 -> 0 | AI13: =$D13*AH13 -> 0 | AJ13: =VLOOKUP($A13,[8]Hoja1!$A$3:$G$271,6,0) -> 0 | AK13: =VLOOKUP($A13,[8]Hoja1!$A$3:$G$271,7,0) -> 0 | AL13: =AJ13+AK13 -> 0 | AM13: =$D13*AL13 -> 0 | AN13: =VLOOKUP($A13,[9]Hoja1!$A$5:$G$273,6,0) -> 6349 | AO13: =VLOOKUP($A13,[9]Hoja1!$A$5:$G$273,7,0) -> 0 | AP13: =AN13+AO13 -> 6349 | AQ13: =$D13*AP13 -> 6349 | AR13: =VLOOKUP($A13,[10]Hoja1!$A$3:$M$271,12,0) -> 0 | AS13: =VLOOKUP($A13,[10]Hoja1!$A$3:$M$271,13,0) -> 0 | AT13: =AR13+AS13 -> 0 | AU13: =$D13*AT13 -> 0 | AV13: =VLOOKUP($A13,[11]Hoja1!$A$3:$M$271,12,0) -> 8000 | AW13: =VLOOKUP($A13,[11]Hoja1!$A$3:$M$271,13,0) -> 0 | AX13: =AV13+AW13 -> 8000 | AY13: =$D13*AX13 -> 8000 | AZ13: =VLOOKUP($A13,[12]Hoja1!$A$3:$M$271,12,0) -> 0 | BA13: =VLOOKUP($A13,[12]Hoja1!$A$3:$M$271,13,0) -> 0 | BB13: =AZ13+BA13 -> 0 | BC13: =$D13*BB13 -> 0 | BD13: =MIN(#REF!,#REF!) -> #REF! | BE13: =BD13-#REF! -> #REF! | BF13: IME IMPORTMEDICAL COLOMBIA SAS | BI13: =MIN(#REF!,#REF!) -> #REF! | BJ13: =BI13-#REF! -> #REF! | BK13: IME IMPORTMEDICAL COLOMBIA SAS
A14: 5 | B14: APOSITO ESTERIL TRANSPARENTE 7X9 MAS O MENOS 2 CM CON REFUERZO INCORPORADO, Y CON TIRILLAS DE FIJACIÓN Y MARCACIÓN - USO ADULTO | C14: 1 UNIDAD DE APOSITO | D14: 1 | E14: UN | F14: 1477 | G14: 6946.3333 | H14: =VLOOKUP($A14,[1]Hoja1!$A$3:$G$271,6,0) -> 2800 | J14: =H14+I14 -> 2800 | K14: =$D14*J14 -> 2800 | L14: =VLOOKUP($A14,[2]Hoja1!$A$3:$G$271,6,0) -> 0 | M14: =VLOOKUP($A14,[2]Hoja1!$A$3:$G$271,7,0) -> 0 | N14: =L14+M14 -> 0 | O14: =$D14*N14 -> 0 | P14: =VLOOKUP($A14,[3]Hoja1!$A$3:$M$271,12,0) -> 0 | Q14: =VLOOKUP($A14,[3]Hoja1!$A$3:$M$271,13,0) -> 0 | R14: =P14+Q14 -> 0 | S14: =$D14*R14 -> 0 | T14: =VLOOKUP($A14,[4]Hoja1!$A$3:$G$271,6,0) -> 0 | U14: =VLOOKUP($A14,[4]Hoja1!$A$3:$G$271,7,0) -> 0 | V14: =T14+U14 -> 0 | W14: =$D14*V14 -> 0 | X14: =VLOOKUP($A14,[5]Hoja1!$A$3:$G$271,6,0) -> 2553 | Y14: =VLOOKUP($A14,[5]Hoja1!$A$3:$G$271,7,0) -> 0 | Z14: =X14+Y14 -> 2553 | AA14: =$D14*Z14 -> 2553 | AB14: =VLOOKUP($A14,[6]Hoja1!$A$3:$G$271,6,0) -> 0 | AC14: =VLOOKUP($A14,[6]Hoja1!$A$3:$G$271,7,0) -> 0 | AD14: =AB14+AC14 -> 0 | AE14: =$D14*AD14 -> 0 | AF14: =VLOOKUP($A14,[7]Hoja1!$A$3:$M$271,12,0) -> 0 | AG14: =VLOOKUP($A14,[7]Hoja1!$A$3:$M$271,13,0) -> 0 | AH14: =AF14+AG14 -> 0 | AI14: =$D14*AH14 -> 0 | AJ14: =VLOOKUP($A14,[8]Hoja1!$A$3:$G$271,6,0) -> 0 | AK14: =VLOOKUP($A14,[8]Hoja1!$A$3:$G$271,7,0) -> 0 | AL14: =AJ14+AK14 -> 0 | AM14: =$D14*AL14 -> 0 | AN14: =VLOOKUP($A14,[9]Hoja1!$A$5:$G$273,6,0) -> 1477 | AO14: =VLOOKUP($A14,[9]Hoja1!$A$5:$G$273,7,0) -> 0 | AP14: =AN14+AO14 -> 1477 | AQ14: =$D14*AP14 -> 1477 | AR14: =VLOOKUP($A14,[10]Hoja1!$A$3:$M$271,12,0) -> 0 | AS14: =VLOOKUP($A14,[10]Hoja1!$A$3:$M$271,13,0) -> 0 | AT14: =AR14+AS14 -> 0 | AU14: =$D14*AT14 -> 0 | AV14: =VLOOKUP($A14,[11]Hoja1!$A$3:$M$271,12,0) -> 1480 | AW14: =VLOOKUP($A14,[11]Hoja1!$A$3:$M$271,13,0) -> 0 | AX14: =AV14+AW14 -> 1480 | AY14: =$D14*AX14 -> 1480 | AZ14: =VLOOKUP($A14,[12]Hoja1!$A$3:$M$271,12,0) -> 0 | BA14: =VLOOKUP($A14,[12]Hoja1!$A$3:$M$271,13,0) -> 0 | BB14: =AZ14+BA14 -> 0 | BC14: =$D14*BB14 -> 0 | BD14: =MIN(#REF!,#REF!) -> #REF! | BE14: =BD14-#REF! -> #REF! | BF14: IME IMPORTMEDICAL COLOMBIA SAS | BI14: =MIN(#REF!,#REF!) -> #REF! | BJ14: =BI14-#REF! -> #REF! | BK14: IME IMPORTMEDICAL COLOMBIA SAS
A15: 6 | B15: APOSITO TRANSPARENTE 15 X 25 CM POSQUIRURGICO CON ALMOHADILLA ABSORBENTE | C15: 1 UNIDAD DE APOSITO | D15: 1 | E15: UN | F15: 7500 | G15: 1 | H15: =VLOOKUP($A15,[1]Hoja1!$A$3:$G$271,6,0) -> 0 | I15: =VLOOKUP($A15,[1]Hoja1!$A$3:$G$271,7,0) -> 0 | J15: =H15+I15 -> 0 | K15: =$D15*J15 -> 0 | L15: =VLOOKUP($A15,[2]Hoja1!$A$3:$G$271,6,0) -> 0 | M15: =VLOOKUP($A15,[2]Hoja1!$A$3:$G$271,7,0) -> 0 | N15: =L15+M15 -> 0 | O15: =$D15*N15 -> 0 | P15: =VLOOKUP($A15,[3]Hoja1!$A$3:$M$271,12,0) -> 0 | Q15: =VLOOKUP($A15,[3]Hoja1!$A$3:$M$271,13,0) -> 0 | R15: =P15+Q15 -> 0 | S15: =$D15*R15 -> 0 | T15: =VLOOKUP($A15,[4]Hoja1!$A$3:$G$271,6,0) -> 0 | U15: =VLOOKUP($A15,[4]Hoja1!$A$3:$G$271,7,0) -> 0 | V15: =T15+U15 -> 0 | W15: =$D15*V15 -> 0 | X15: =VLOOKUP($A15,[5]Hoja1!$A$3:$G$271,6,0) -> 0 | Y15: =VLOOKUP($A15,[5]Hoja1!$A$3:$G$271,7,0) -> 0 | Z15: =X15+Y15 -> 0 | AA15: =$D15*Z15 -> 0 | AB15: =VLOOKUP($A15,[6]Hoja1!$A$3:$G$271,6,0) -> 0 | AC15: =VLOOKUP($A15,[6]Hoja1!$A$3:$G$271,7,0) -> 0 | AD15: =AB15+AC15 -> 0 | AE15: =$D15*AD15 -> 0 | AF15: =VLOOKUP($A15,[7]Hoja1!$A$3:$M$271,12,0) -> 0 | AG15: =VLOOKUP($A15,[7]Hoja1!$A$3:$M$271,13,0) -> 0 | AH15: =AF15+AG15 -> 0 | AI15: =$D15*AH15 -> 0 | AJ15: =VLOOKUP($A15,[8]Hoja1!$A$3:$G$271,6,0) -> 0 | AK15: =VLOOKUP($A15,[8]Hoja1!$A$3:$G$271,7,0) -> 0 | AL15: =AJ15+AK15 -> 0 | AM15: =$D15*AL15 -> 0 | AN15: =VLOOKUP($A15,[9]Hoja1!$A$5:$G$273,6,0) -> 11295 | AO15: =VLOOKUP($A15,[9]Hoja1!$A$5:$G$273,7,0) -> 0 | AP15: =AN15+AO15 -> 11295 | AQ15: =$D15*AP15 -> 11295 | AR15: =VLOOKUP($A15,[10]Hoja1!$A$3:$M$271,12,0) -> 0 | AS15: =VLOOKUP($A15,[10]Hoja1!$A$3:$M$271,13,0) -> 0 | AT15: =AR15+AS15 -> 0 | AU15: =$D15*AT15 -> 0 | AV15: =VLOOKUP($A15,[11]Hoja1!$A$3:$M$271,12,0) -> 11700 | AW15: =VLOOKUP($A15,[11]Hoja1!$A$3:$M$271,13,0) -> 0 | AX15: =AV15+AW15 -> 11700 | AY15: =$D15*AX15 -> 11700 | AZ15: =VLOOKUP($A15,[12]Hoja1!$A$3:$M$271,12,0) -> 0 | BA15: =VLOOKUP($A15,[12]Hoja1!$A$3:$M$271,13,0) -> 0 | BB15: =AZ15+BA15 -> 0 | BC15: =$D15*BB15 -> 0 | BD15: =MIN(#REF!,#REF!) -> #REF! | BE15: =BD15-#REF! -> #REF! | BF15: IME IMPORTMEDICAL COLOMBIA SAS | BI15: =MIN(#REF!,#REF!) -> #REF! | BJ15: =BI15-#REF! -> #REF! | BK15: IME IMPORTMEDICAL COLOMBIA SAS
A16: 7 | B16: APOSITO TRASPARENTE ESTERIL CON ALMOHADILLA ABSORVENTE 7 HASTA 9 X 5 HASTA 7 CM | C16: 1 UNIDAD DE APOSITO | D16: 1 | E16: UN | F16: 858.875 | G16: 1 | H16: =VLOOKUP($A16,[1]Hoja1!$A$3:$G$271,6,0) -> 0 | I16: =VLOOKUP($A16,[1]Hoja1!$A$3:$G$271,7,0) -> 0 | J16: =H16+I16 -> 0 | K16: =$D16*J16 -> 0 | L16: =VLOOKUP($A16,[2]Hoja1!$A$3:$G$271,6,0) -> 0 | M16: =VLOOKUP($A16,[2]Hoja1!$A$3:$G$271,7,0) -> 0 | N16: =L16+M16 -> 0 | O16: =$D16*N16 -> 0 | P16: =VLOOKUP($A16,[3]Hoja1!$A$3:$M$271,12,0) -> 0 | Q16: =VLOOKUP($A16,[3]Hoja1!$A$3:$M$271,13,0) -> 0 | R16: =P16+Q16 -> 0 | S16: =$D16*R16 -> 0 | T16: =VLOOKUP($A16,[4]Hoja1!$A$3:$G$271,6,0) -> 0 | U16: =VLOOKUP($A16,[4]Hoja1!$A$3:$G$271,7,0) -> 0 | V16: =T16+U16 -> 0 | W16: =$D16*V16 -> 0 | X16: =VLOOKUP($A16,[5]Hoja1!$A$3:$G$271,6,0) -> 26009 | Y16: =VLOOKUP($A16,[5]Hoja1!$A$3:$G$271,7,0) -> 0 | Z16: =X16+Y16 -> 26009 | AA16: =$D16*Z16 -> 26009 | AB16: =VLOOKUP($A16,[6]Hoja1!$A$3:$G$271,6,0) -> 0 | AC16: =VLOOKUP($A16,[6]Hoja1!$A$3:$G$271,7,0) -> 0 | AD16: =AB16+AC16 -> 0 | AE16: =$D16*AD16 -> 0 | AF16: =VLOOKUP($A16,[7]Hoja1!$A$3:$M$271,12,0) -> 0 | AG16: =VLOOKUP($A16,[7]Hoja1!$A$3:$M$271,13,0) -> 0 | AH16: =AF16+AG16 -> 0 | AI16: =$D16*AH16 -> 0 | AJ16: =VLOOKUP($A16,[8]Hoja1!$A$3:$G$271,6,0) -> 0 | AK16: =VLOOKUP($A16,[8]Hoja1!$A$3:$G$271,7,0) -> 0 | AL16: =AJ16+AK16 -> 0 | AM16: =$D16*AL16 -> 0 | AN16: =VLOOKUP($A16,[9]Hoja1!$A$5:$G$273,6,0) -> 1932 | AO16: =VLOOKUP($A16,[9]Hoja1!$A$5:$G$273,7,0) -> 0 | AP16: =AN16+AO16 -> 1932 | AQ16: =$D16*AP16 -> 1932 | AR16: =VLOOKUP($A16,[10]Hoja1!$A$3:$M$271,12,0) -> 0 | AS16: =VLOOKUP($A16,[10]Hoja1!$A$3:$M$271,13,0) -> 0 | AT16: =AR16+AS16 -> 0 | AU16: =$D16*AT16 -> 0 | AV16: =VLOOKUP($A16,[11]Hoja1!$A$3:$M$271,12,0) -> 2400 | AW16: =VLOOKUP($A16,[11]Hoja1!$A$3:$M$271,13,0) -> 0 | AX16: =AV16+AW16 -> 2400 | AY16: =$D16*AX16 -> 2400 | AZ16: =VLOOKUP($A16,[12]Hoja1!$A$3:$M$271,12,0) -> 0 | BA16: =VLOOKUP($A16,[12]Hoja1!$A$3:$M$271,13,0) -> 0 | BB16: =AZ16+BA16 -> 0 | BC16: =$D16*BB16 -> 0 | BD16: =MIN(#REF!,#REF!) -> #REF! | BE16: =BD16-#REF! -> #REF! | BF16: IME IMPORTMEDICAL COLOMBIA SAS | BI16: =MIN(#REF!,#REF!) -> #REF! | BJ16: =BI16-#REF! -> #REF! | BK16: IME IMPORTMEDICAL COLOMBIA SAS
A17: 8 | B17: CREMA PROTECTORA CUTANEA CON OXIDO DE ZINC PARA PREVENCION LESIONES POR PRESION. 10% | C17: 1 UNIDAD DE CREMA | D17: 1 | E17: UN | F17: 41650 | G17: 1 | H17: =VLOOKUP($A17,[1]Hoja1!$A$3:$G$271,6,0) -> 0 | I17: =VLOOKUP($A17,[1]Hoja1!$A$3:$G$271,7,0) -> 0 | J17: =H17+I17 -> 0 | K17: =$D17*J17 -> 0 | L17: =VLOOKUP($A17,[2]Hoja1!$A$3:$G$271,6,0) -> 53508 | M17: =VLOOKUP($A17,[2]Hoja1!$A$3:$G$271,7,0) -> 0 | N17: =L17+M17 -> 53508 | O17: =$D17*N17 -> 53508 | P17: =VLOOKUP($A17,[3]Hoja1!$A$3:$M$271,12,0) -> 0 | Q17: =VLOOKUP($A17,[3]Hoja1!$A$3:$M$271,13,0) -> 0 | R17: =P17+Q17 -> 0 | S17: =$D17*R17 -> 0 | T17: =VLOOKUP($A17,[4]Hoja1!$A$3:$G$271,6,0) -> 0 | U17: =VLOOKUP($A17,[4]Hoja1!$A$3:$G$271,7,0) -> 0 | V17: =T17+U17 -> 0 | W17: =$D17*V17 -> 0 | X17: =VLOOKUP($A17,[5]Hoja1!$A$3:$G$271,6,0) -> 0 | Y17: =VLOOKUP($A17,[5]Hoja1!$A$3:$G$271,7,0) -> 0 | Z17: =X17+Y17 -> 0 | AA17: =$D17*Z17 -> 0 | AB17: =VLOOKUP($A17,[6]Hoja1!$A$3:$G$271,6,0) -> 0 | AC17: =VLOOKUP($A17,[6]Hoja1!$A$3:$G$271,7,0) -> 0 | AD17: =AB17+AC17 -> 0 | AE17: =$D17*AD17 -> 0 | AF17: =VLOOKUP($A17,[7]Hoja1!$A$3:$M$271,12,0) -> 0 | AG17: =VLOOKUP($A17,[7]Hoja1!$A$3:$M$271,13,0) -> 0 | AH17: =AF17+AG17 -> 0 | AI17: =$D17*AH17 -> 0 | AJ17: =VLOOKUP($A17,[8]Hoja1!$A$3:$G$271,6,0) -> 0 | AK17: =VLOOKUP($A17,[8]Hoja1!$A$3:$G$271,7,0) -> 0 | AL17: =AJ17+AK17 -> 0 | AM17: =$D17*AL17 -> 0 | AN17: =VLOOKUP($A17,[9]Hoja1!$A$5:$G$273,6,0) -> 0 | AO17: =VLOOKUP($A17,[9]Hoja1!$A$5:$G$273,7,0) -> 0 | AP17: =AN17+AO17 -> 0 | AQ17: =$D17*AP17 -> 0 | AR17: =VLOOKUP($A17,[10]Hoja1!$A$3:$M$271,12,0) -> 0 | AS17: =VLOOKUP($A17,[10]Hoja1!$A$3:$M$271,13,0) -> 0 | AT17: =AR17+AS17 -> 0 | AU17: =$D17*AT17 -> 0 | AV17: =VLOOKUP($A17,[11]Hoja1!$A$3:$M$271,12,0) -> 0 | AW17: =VLOOKUP($A17,[11]Hoja1!$A$3:$M$271,13,0) -> 0 | AX17: =AV17+AW17 -> 0 | AY17: =$D17*AX17 -> 0 | AZ17: =VLOOKUP($A17,[12]Hoja1!$A$3:$M$271,12,0) -> 0 | BA17: =VLOOKUP($A17,[12]Hoja1!$A$3:$M$271,13,0) -> 0 | BB17: =AZ17+BA17 -> 0 | BC17: =$D17*BB17 -> 0 | BD17: =MIN(#REF!,#REF!) -> #REF! | BE17: =BD17-#REF! -> #REF! | BF17: IME IMPORTMEDICAL COLOMBIA SAS | BI17: =MIN(#REF!,#REF!) -> #REF! | BJ17: =#REF!-BI17 -> #REF! | BK17: IME IMPORTMEDICAL COLOMBIA SAS
A18: 9 | B18: DETERGENTE POLIENZIMATICO BIODEGRADABLE EN GEL O ESPUMA COMO PRETRATAMIENTO DE TRANSPORTE INSTRUMENTAL PARA LA DEGRADACION DE MATERIA ORGANICA | C18: 1 UNIDAD DE DETERGENTE X 500 ML PRESENTACION FRASCO EN SPRAY | D18: 1 | E18: UN | F18: 41650 | G18: 32.333333 | H18: =VLOOKUP($A18,[1]Hoja1!$A$3:$G$271,6,0) -> 0 | I18: =VLOOKUP($A18,[1]Hoja1!$A$3:$G$271,7,0) -> 0 | J18: =H18+I18 -> 0 | K18: =$D18*J18 -> 0 | L18: =VLOOKUP($A18,[2]Hoja1!$A$3:$G$271,6,0) -> 0 | M18: =VLOOKUP($A18,[2]Hoja1!$A$3:$G$271,7,0) -> 0 | N18: =L18+M18 -> 0 | O18: =$D18*N18 -> 0 | P18: =VLOOKUP($A18,[3]Hoja1!$A$3:$M$271,12,0) -> 0 | Q18: =VLOOKUP($A18,[3]Hoja1!$A$3:$M$271,13,0) -> 0 | R18: =P18+Q18 -> 0 | S18: =$D18*R18 -> 0 | T18: =VLOOKUP($A18,[4]Hoja1!$A$3:$G$271,6,0) -> 70568 | U18: =VLOOKUP($A18,[4]Hoja1!$A$3:$G$271,7,0) -> 0 | V18: =T18+U18 -> 70568 | W18: =$D18*V18 -> 70568 | X18: =VLOOKUP($A18,[5]Hoja1!$A$3:$G$271,6,0) -> 0 | Y18: =VLOOKUP($A18,[5]Hoja1!$A$3:$G$271,7,0) -> 0 | Z18: =X18+Y18 -> 0 | AA18: =$D18*Z18 -> 0 | AB18: =VLOOKUP($A18,[6]Hoja1!$A$3:$G$271,6,0) -> 0 | AC18: =VLOOKUP($A18,[6]Hoja1!$A$3:$G$271,7,0) -> 0 | AD18: =AB18+AC18 -> 0 | AE18: =$D18*AD18 -> 0 | AF18: =VLOOKUP($A18,[7]Hoja1!$A$3:$M$271,12,0) -> 0 | AG18: =VLOOKUP($A18,[7]Hoja1!$A$3:$M$271,13,0) -> 0 | AH18: =AF18+AG18 -> 0 | AI18: =$D18*AH18 -> 0 | AJ18: =VLOOKUP($A18,[8]Hoja1!$A$3:$G$271,6,0) -> 0 | AK18: =VLOOKUP($A18,[8]Hoja1!$A$3:$G$271,7,0) -> 0 | AL18: =AJ18+AK18 -> 0 | AM18: =$D18*AL18 -> 0 | AN18: =VLOOKUP($A18,[9]Hoja1!$A$5:$G$273,6,0) -> 0 | AO18: =VLOOKUP($A18,[9]Hoja1!$A$5:$G$273,7,0) -> 0 | AP18: =AN18+AO18 -> 0 | AQ18: =$D18*AP18 -> 0 | AR18: =VLOOKUP($A18,[10]Hoja1!$A$3:$M$271,12,0) -> 0 | AS18: =VLOOKUP($A18,[10]Hoja1!$A$3:$M$271,13,0) -> 0 | AT18: =AR18+AS18 -> 0 | AU18: =$D18*AT18 -> 0 | AV18: =VLOOKUP($A18,[11]Hoja1!$A$3:$M$271,12,0) -> 0 | AW18: =VLOOKUP($A18,[11]Hoja1!$A$3:$M$271,13,0) -> 0 | AX18: =AV18+AW18 -> 0 | AY18: =$D18*AX18 -> 0 | AZ18: =VLOOKUP($A18,[12]Hoja1!$A$3:$M$271,12,0) -> 0 | BA18: =VLOOKUP($A18,[12]Hoja1!$A$3:$M$271,13,0) -> 0 | BB18: =AZ18+BA18 -> 0 | BC18: =$D18*BB18 -> 0 | BD18: =MIN(#REF!,#REF!) -> #REF! | BE18: =BD18-#REF! -> #REF! | BF18: IME IMPORTMEDICAL COLOMBIA SAS | BI18: =MIN(#REF!,#REF!) -> #REF! | BJ18: =BI18-#REF! -> #REF! | BK18: IME IMPORTMEDICAL COLOMBIA SAS
A19: 10 | B19: ESPARADRAPO TELA SIN TEJER AUTOADHESIVO-10 CM X 10 M | C19: 1 UNIDAD DE ESPARADRAPO | D19: 1 | E19: UN | F19: 12460 | G19: 120.66667 | H19: =VLOOKUP($A19,[1]Hoja1!$A$3:$G$271,6,0) -> 21000 | J19: =H19+I19 -> 21000 | K19: =$D19*J19 -> 21000 | L19: =VLOOKUP($A19,[2]Hoja1!$A$3:$G$271,6,0) -> 23500 | M19: =VLOOKUP($A19,[2]Hoja1!$A$3:$G$271,7,0) -> 0 | N19: =L19+M19 -> 23500 | O19: =$D19*N19 -> 23500 | P19: =VLOOKUP($A19,[3]Hoja1!$A$3:$M$271,12,0) -> 27835 | Q19: =VLOOKUP($A19,[3]Hoja1!$A$3:$M$271,13,0) -> 0 | R19: =P19+Q19 -> 27835 | S19: =$D19*R19 -> 27835 | T19: =VLOOKUP($A19,[4]Hoja1!$A$3:$G$271,6,0) -> 25714 | U19: =VLOOKUP($A19,[4]Hoja1!$A$3:$G$271,7,0) -> 0 | V19: =T19+U19 -> 25714 | W19: =$D19*V19 -> 25714 | X19: =VLOOKUP($A19,[5]Hoja1!$A$3:$G$271,6,0) -> 34472 | Y19: =VLOOKUP($A19,[5]Hoja1!$A$3:$G$271,7,0) -> 0 | Z19: =X19+Y19 -> 34472 | AA19: =$D19*Z19 -> 34472 | AB19: =VLOOKUP($A19,[6]Hoja1!$A$3:$G$271,6,0) -> 0 | AC19: =VLOOKUP($A19,[6]Hoja1!$A$3:$G$271,7,0) -> 0 | AD19: =AB19+AC19 -> 0 | AE19: =$D19*AD19 -> 0 | AF19: =VLOOKUP($A19,[7]Hoja1!$A$3:$M$271,12,0) -> 0 | AG19: =VLOOKUP($A19,[7]Hoja1!$A$3:$M$271,13,0) -> 0 | AH19: =AF19+AG19 -> 0 | AI19: =$D19*AH19 -> 0 | AJ19: =VLOOKUP($A19,[8]Hoja1!$A$3:$G$271,6,0) -> 0 | AK19: =VLOOKUP($A19,[8]Hoja1!$A$3:$G$271,7,0) -> 0 | AL19: =AJ19+AK19 -> 0 | AM19: =$D19*AL19 -> 0 | AN19: =VLOOKUP($A19,[9]Hoja1!$A$5:$G$273,6,0) -> 17045 | AO19: =VLOOKUP($A19,[9]Hoja1!$A$5:$G$273,7,0) -> 0 | AP19: =AN19+AO19 -> 17045 | AQ19: =$D19*AP19 -> 17045 | AR19: =VLOOKUP($A19,[10]Hoja1!$A$3:$M$271,12,0) -> 0 | AS19: =VLOOKUP($A19,[10]Hoja1!$A$3:$M$271,13,0) -> 0 | AT19: =AR19+AS19 -> 0 | AU19: =$D19*AT19 -> 0 | AV19: =VLOOKUP($A19,[11]Hoja1!$A$3:$M$271,12,0) -> 18000 | AW19: =VLOOKUP($A19,[11]Hoja1!$A$3:$M$271,13,0) -> 0 | AX19: =AV19+AW19 -> 18000 | AY19: =$D19*AX19 -> 18000 | AZ19: =VLOOKUP($A19,[12]Hoja1!$A$3:$M$271,12,0) -> 0 | BA19: =VLOOKUP($A19,[12]Hoja1!$A$3:$M$271,13,0) -> 0 | BB19: =AZ19+BA19 -> 0 | BC19: =$D19*BB19 -> 0 | BD19: =MIN(#REF!,#REF!) -> #REF! | BE19: =BD19-#REF! -> #REF! | BF19: IME IMPORTMEDICAL COLOMBIA SAS | BI19: =MIN(#REF!,#REF!) -> #REF! | BJ19: =BI19-#REF! -> #REF! | BK19: IME IMPORTMEDICAL COLOMBIA SAS
A20: 11 | B20: PROTECTOR CUTANEO EMOLIENTE CON OXIDO DE ZINC CALAMINA Y ALANTOINA 30%(ULTRA) | C20: 1 UNIDAD DE PROTECTOR CUTANEO | D20: 1 | E20: UN | F20: 26000 | G20: 13 | H20: =VLOOKUP($A20,[1]Hoja1!$A$3:$G$271,6,0) -> 0 | I20: =VLOOKUP($A20,[1]Hoja1!$A$3:$G$271,7,0) -> 0 | J20: =H20+I20 -> 0 | K20: =$D20*J20 -> 0 | L20: =VLOOKUP($A20,[2]Hoja1!$A$3:$G$271,6,0) -> 0 | M20: =VLOOKUP($A20,[2]Hoja1!$A$3:$G$271,7,0) -> 0 | N20: =L20+M20 -> 0 | O20: =$D20*N20 -> 0 | P20: =VLOOKUP($A20,[3]Hoja1!$A$3:$M$271,12,0) -> 0 | Q20: =VLOOKUP($A20,[3]Hoja1!$A$3:$M$271,13,0) -> 0 | R20: =P20+Q20 -> 0 | S20: =$D20*R20 -> 0 | T20: =VLOOKUP($A20,[4]Hoja1!$A$3:$G$271,6,0) -> 0 | U20: =VLOOKUP($A20,[4]Hoja1!$A$3:$G$271,7,0) -> 0 | V20: =T20+U20 -> 0 | W20: =$D20*V20 -> 0 | X20: =VLOOKUP($A20,[5]Hoja1!$A$3:$G$271,6,0) -> 0 | Y20: =VLOOKUP($A20,[5]Hoja1!$A$3:$G$271,7,0) -> 0 | Z20: =X20+Y20 -> 0 | AA20: =$D20*Z20 -> 0 | AB20: =VLOOKUP($A20,[6]Hoja1!$A$3:$G$271,6,0) -> 0 | AC20: =VLOOKUP($A20,[6]Hoja1!$A$3:$G$271,7,0) -> 0 | AD20: =AB20+AC20 -> 0 | AE20: =$D20*AD20 -> 0 | AF20: =VLOOKUP($A20,[7]Hoja1!$A$3:$M$271,12,0) -> 0 | AG20: =VLOOKUP($A20,[7]Hoja1!$A$3:$M$271,13,0) -> 0 | AH20: =AF20+AG20 -> 0 | AI20: =$D20*AH20 -> 0 | AJ20: =VLOOKUP($A20,[8]Hoja1!$A$3:$G$271,6,0) -> 0 | AK20: =VLOOKUP($A20,[8]Hoja1!$A$3:$G$271,7,0) -> 0 | AL20: =AJ20+AK20 -> 0 | AM20: =$D20*AL20 -> 0 | AN20: =VLOOKUP($A20,[9]Hoja1!$A$5:$G$273,6,0) -> 47773 | AO20: =VLOOKUP($A20,[9]Hoja1!$A$5:$G$273,7,0) -> 0 | AP20: =AN20+AO20 -> 47773 | AQ20: =$D20*AP20 -> 47773 | AR20: =VLOOKUP($A20,[10]Hoja1!$A$3:$M$271,12,0) -> 0 | AS20: =VLOOKUP($A20,[10]Hoja1!$A$3:$M$271,13,0) -> 0 | AT20: =AR20+AS20 -> 0 | AU20: =$D20*AT20 -> 0 | AV20: =VLOOKUP($A20,[11]Hoja1!$A$3:$M$271,12,0) -> 0 | AW20: =VLOOKUP($A20,[11]Hoja1!$A$3:$M$271,13,0) -> 0 | AX20: =AV20+AW20 -> 0 | AY20: =$D20*AX20 -> 0 | AZ20: =VLOOKUP($A20,[12]Hoja1!$A$3:$M$271,12,0) -> 0 | BA20: =VLOOKUP($A20,[12]Hoja1!$A$3:$M$271,13,0) -> 0 | BB20: =AZ20+BA20 -> 0 | BC20: =$D20*BB20 -> 0 | BD20: =MIN(#REF!,#REF!) -> #REF! | BE20: =BD20-#REF! -> #REF! | BF20: IME IMPORTMEDICAL COLOMBIA SAS | BI20: =MIN(#REF!,#REF!) -> #REF! | BJ20: =BI20-#REF! -> #REF! | BK20: IME IMPORTMEDICAL COLOMBIA SAS
A21: 12 | B21: PROTECTOR EN ESPUMA PARA CODO Y TALON | C21: 1 UNIDAD DE PROTECTOR EN ESPUMA | D21: 1 | E21: UN | F21: 18034 | G21: 1 | H21: =VLOOKUP($A21,[1]Hoja1!$A$3:$G$271,6,0) -> 0 | I21: =VLOOKUP($A21,[1]Hoja1!$A$3:$G$271,7,0) -> 0 | J21: =H21+I21 -> 0 | K21: =$D21*J21 -> 0 | L21: =VLOOKUP($A21,[2]Hoja1!$A$3:$G$271,6,0) -> 0 | M21: =VLOOKUP($A21,[2]Hoja1!$A$3:$G$271,7,0) -> 0 | N21: =L21+M21 -> 0 | O21: =$D21*N21 -> 0 | P21: =VLOOKUP($A21,[3]Hoja1!$A$3:$M$271,12,0) -> 0 | Q21: =VLOOKUP($A21,[3]Hoja1!$A$3:$M$271,13,0) -> 0 | R21: =P21+Q21 -> 0 | S21: =$D21*R21 -> 0 | T21: =VLOOKUP($A21,[4]Hoja1!$A$3:$G$271,6,0) -> 0 | U21: =VLOOKUP($A21,[4]Hoja1!$A$3:$G$271,7,0) -> 0 | V21: =T21+U21 -> 0 | W21: =$D21*V21 -> 0 | X21: =VLOOKUP($A21,[5]Hoja1!$A$3:$G$271,6,0) -> 0 | Y21: =VLOOKUP($A21,[5]Hoja1!$A$3:$G$271,7,0) -> 0 | Z21: =X21+Y21 -> 0 | AA21: =$D21*Z21 -> 0 | AB21: =VLOOKUP($A21,[6]Hoja1!$A$3:$G$271,6,0) -> 0 | AC21: =VLOOKUP($A21,[6]Hoja1!$A$3:$G$271,7,0) -> 0 | AD21: =AB21+AC21 -> 0 | AE21: =$D21*AD21 -> 0 | AF21: =VLOOKUP($A21,[7]Hoja1!$A$3:$M$271,12,0) -> 0 | AG21: =VLOOKUP($A21,[7]Hoja1!$A$3:$M$271,13,0) -> 0 | AH21: =AF21+AG21 -> 0 | AI21: =$D21*AH21 -> 0 | AJ21: =VLOOKUP($A21,[8]Hoja1!$A$3:$G$271,6,0) -> 0 | AK21: =VLOOKUP($A21,[8]Hoja1!$A$3:$G$271,7,0) -> 0 | AL21: =AJ21+AK21 -> 0 | AM21: =$D21*AL21 -> 0 | AN21: =VLOOKUP($A21,[9]Hoja1!$A$5:$G$273,6,0) -> 54420 | AO21: =VLOOKUP($A21,[9]Hoja1!$A$5:$G$273,7,0) -> 0 | AP21: =AN21+AO21 -> 54420 | AQ21: =$D21*AP21 -> 54420 | AR21: =VLOOKUP($A21,[10]Hoja1!$A$3:$M$271,12,0) -> 0 | AS21: =VLOOKUP($A21,[10]Hoja1!$A$3:$M$271,13,0) -> 0 | AT21: =AR21+AS21 -> 0 | AU21: =$D21*AT21 -> 0 | AV21: =VLOOKUP($A21,[11]Hoja1!$A$3:$M$271,12,0) -> 0 | AW21: =VLOOKUP($A21,[11]Hoja1!$A$3:$M$271,13,0) -> 0 | AX21: =AV21+AW21 -> 0 | AY21: =$D21*AX21 -> 0 | AZ21: =VLOOKUP($A21,[12]Hoja1!$A$3:$M$271,12,0) -> 0 | BA21: =VLOOKUP($A21,[12]Hoja1!$A$3:$M$271,13,0) -> 0 | BB21: =AZ21+BA21 -> 0 | BC21: =$D21*BB21 -> 0 | BD21: =MIN(#REF!,#REF!) -> #REF! | BE21: =BD21-#REF! -> #REF! | BF21: IME IMPORTMEDICAL COLOMBIA SAS | BI21: =MIN(#REF!,#REF!) -> #REF! | BJ21: =BI21-#REF! -> #REF! | BK21: IME IMPORTMEDICAL COLOMBIA SAS
A22: 13 | B22: ROLLO DE GASA IMPREGNADA EN PARAFINA DE 1 METRO POR 15 CM DE ANCHO ESTERIL | C22: 1 UNIDAD DE ROLLO DE GASA IMPREGNADA EN PARAFINA. PRESENTACION ROLLO | D22: 1 | E22: UN | F22: 20000 | G22: 1 | H22: =VLOOKUP($A22,[1]Hoja1!$A$3:$G$271,6,0) -> 0 | I22: =VLOOKUP($A22,[1]Hoja1!$A$3:$G$271,7,0) -> 0 | J22: =H22+I22 -> 0 | K22: =$D22*J22 -> 0 | L22: =VLOOKUP($A22,[2]Hoja1!$A$3:$G$271,6,0) -> 0 | M22: =VLOOKUP($A22,[2]Hoja1!$A$3:$G$271,7,0) -> 0 | N22: =L22+M22 -> 0 | O22: =$D22*N22 -> 0 | P22: =VLOOKUP($A22,[3]Hoja1!$A$3:$M$271,12,0) -> 0 | Q22: =VLOOKUP($A22,[3]Hoja1!$A$3:$M$271,13,0) -> 0 | R22: =P22+Q22 -> 0 | S22: =$D22*R22 -> 0 | T22: =VLOOKUP($A22,[4]Hoja1!$A$3:$G$271,6,0) -> 0 | U22: =VLOOKUP($A22,[4]Hoja1!$A$3:$G$271,7,0) -> 0 | V22: =T22+U22 -> 0 | W22: =$D22*V22 -> 0 | X22: =VLOOKUP($A22,[5]Hoja1!$A$3:$G$271,6,0) -> 52164 | Y22: =VLOOKUP($A22,[5]Hoja1!$A$3:$G$271,7,0) -> 0 | Z22: =X22+Y22 -> 52164 | AA22: =$D22*Z22 -> 52164 | AB22: =VLOOKUP($A22,[6]Hoja1!$A$3:$G$271,6,0) -> 0 | AC22: =VLOOKUP($A22,[6]Hoja1!$A$3:$G$271,7,0) -> 0 | AD22: =AB22+AC22 -> 0 | AE22: =$D22*AD22 -> 0 | AF22: =VLOOKUP($A22,[7]Hoja1!$A$3:$M$271,12,0) -> 0 | AG22: =VLOOKUP($A22,[7]Hoja1!$A$3:$M$271,13,0) -> 0 | AH22: =AF22+AG22 -> 0 | AI22: =$D22*AH22 -> 0 | AJ22: =VLOOKUP($A22,[8]Hoja1!$A$3:$G$271,6,0) -> 0 | AK22: =VLOOKUP($A22,[8]Hoja1!$A$3:$G$271,7,0) -> 0 | AL22: =AJ22+AK22 -> 0 | AM22: =$D22*AL22 -> 0 | AN22: =VLOOKUP($A22,[9]Hoja1!$A$5:$G$273,6,0) -> 48194 | AO22: =VLOOKUP($A22,[9]Hoja1!$A$5:$G$273,7,0) -> 0 | AP22: =AN22+AO22 -> 48194 | AQ22: =$D22*AP22 -> 48194 | AR22: =VLOOKUP($A22,[10]Hoja1!$A$3:$M$271,12,0) -> 0 | AS22: =VLOOKUP($A22,[10]Hoja1!$A$3:$M$271,13,0) -> 0 | AT22: =AR22+AS22 -> 0 | AU22: =$D22*AT22 -> 0 | AV22: =VLOOKUP($A22,[11]Hoja1!$A$3:$M$271,12,0) -> 0 | AW22: =VLOOKUP($A22,[11]Hoja1!$A$3:$M$271,13,0) -> 0 | AX22: =AV22+AW22 -> 0 | AY22: =$D22*AX22 -> 0 | AZ22: =VLOOKUP($A22,[12]Hoja1!$A$3:$M$271,12,0) -> 0 | BA22: =VLOOKUP($A22,[12]Hoja1!$A$3:$M$271,13,0) -> 0 | BB22: =AZ22+BA22 -> 0 | BC22: =$D22*BB22 -> 0 | BD22: =MIN(#REF!,#REF!) -> #REF! | BE22: =BD22-#REF! -> #REF! | BF22: IME IMPORTMEDICAL COLOMBIA SAS | BI22: =MIN(#REF!,#REF!) -> #REF! | BJ22: =#REF!-BI22 -> #REF! | BK22: IME IMPORTMEDICAL COLOMBIA SAS
A23: 14 | B23: CONECTOR LIBRE DE AGUJA | C23: 1 UNIDAD CONECTOR | D23: 1 | E23: UN | F23: 1100 | G23: 5067 | H23: =VLOOKUP($A23,[1]Hoja1!$A$3:$G$271,6,0) -> 1080 | J23: =H23+I23 -> 1080 | K23: =$D23*J23 -> 1080 | L23: =VLOOKUP($A23,[2]Hoja1!$A$3:$G$271,6,0) -> 0 | M23: =VLOOKUP($A23,[2]Hoja1!$A$3:$G$271,7,0) -> 0 | N23: =L23+M23 -> 0 | O23: =$D23*N23 -> 0 | P23: =VLOOKUP($A23,[3]Hoja1!$A$3:$M$271,12,0) -> 1595 | Q23: =VLOOKUP($A23,[3]Hoja1!$A$3:$M$271,13,0) -> 0 | R23: =P23+Q23 -> 1595 | S23: =$D23*R23 -> 1595 | T23: =VLOOKUP($A23,[4]Hoja1!$A$3:$G$271,6,0) -> 1364 | U23: =VLOOKUP($A23,[4]Hoja1!$A$3:$G$271,7,0) -> 0 | V23: =T23+U23 -> 1364 | W23: =$D23*V23 -> 1364 | X23: =VLOOKUP($A23,[5]Hoja1!$A$3:$G$271,6,0) -> 0 | Y23: =VLOOKUP($A23,[5]Hoja1!$A$3:$G$271,7,0) -> 0 | Z23: =X23+Y23 -> 0 | AA23: =$D23*Z23 -> 0 | AB23: =VLOOKUP($A23,[6]Hoja1!$A$3:$G$271,6,0) -> 0 | AC23: =VLOOKUP($A23,[6]Hoja1!$A$3:$G$271,7,0) -> 0 | AD23: =AB23+AC23 -> 0 | AE23: =$D23*AD23 -> 0 | AF23: =VLOOKUP($A23,[7]Hoja1!$A$3:$M$271,12,0) -> 0 | AG23: =VLOOKUP($A23,[7]Hoja1!$A$3:$M$271,13,0) -> 0 | AH23: =AF23+AG23 -> 0 | AI23: =$D23*AH23 -> 0 | AJ23: =VLOOKUP($A23,[8]Hoja1!$A$3:$G$271,6,0) -> 0 | AK23: =VLOOKUP($A23,[8]Hoja1!$A$3:$G$271,7,0) -> 0 | AL23: =AJ23+AK23 -> 0 | AM23: =$D23*AL23 -> 0 | AN23: =VLOOKUP($A23,[9]Hoja1!$A$5:$G$273,6,0) -> 1250 | AO23: =VLOOKUP($A23,[9]Hoja1!$A$5:$G$273,7,0) -> 0 | AP23: =AN23+AO23 -> 1250 | AQ23: =$D23*AP23 -> 1250 | AR23: =VLOOKUP($A23,[10]Hoja1!$A$3:$M$271,12,0) -> 0 | AS23: =VLOOKUP($A23,[10]Hoja1!$A$3:$M$271,13,0) -> 0 | AT23: =AR23+AS23 -> 0 | AU23: =$D23*AT23 -> 0 | AV23: =VLOOKUP($A23,[11]Hoja1!$A$3:$M$271,12,0) -> 0 | AW23: =VLOOKUP($A23,[11]Hoja1!$A$3:$M$271,13,0) -> 0 | AX23: =AV23+AW23 -> 0 | AY23: =$D23*AX23 -> 0 | AZ23: =VLOOKUP($A23,[12]Hoja1!$A$3:$M$271,12,0) -> 0 | BA23: =VLOOKUP($A23,[12]Hoja1!$A$3:$M$271,13,0) -> 0 | BB23: =AZ23+BA23 -> 0 | BC23: =$D23*BB23 -> 0 | BD23: =MIN(#REF!,#REF!) -> #REF! | BE23: =BD23-#REF! -> #REF! | BF23: IME IMPORTMEDICAL COLOMBIA SAS | BI23: =MIN(#REF!,#REF!) -> #REF! | BJ23: =#REF!-BI23 -> #REF! | BK23: IME IMPORTMEDICAL COLOMBIA SAS
A24: 15 | B24: ESPARADRAPO ANTIALERGICO 1 PULGADA | C24: 1 ROLLO DE ESPARADRAPO | D24: 1 | E24: UN | F24: 1373 | G24: 3 | H24: =VLOOKUP($A24,[1]Hoja1!$A$3:$G$271,6,0) -> 1497 | J24: =H24+I24 -> 1497 | K24: =$D24*J24 -> 1497 | L24: =VLOOKUP($A24,[2]Hoja1!$A$3:$G$271,6,0) -> 0 | M24: =VLOOKUP($A24,[2]Hoja1!$A$3:$G$271,7,0) -> 0 | N24: =L24+M24 -> 0 | O24: =$D24*N24 -> 0 | P24: =VLOOKUP($A24,[3]Hoja1!$A$3:$M$271,12,0) -> 2085 | Q24: =VLOOKUP($A24,[3]Hoja1!$A$3:$M$271,13,0) -> 0 | R24: =P24+Q24 -> 2085 | S24: =$D24*R24 -> 2085 | T24: =VLOOKUP($A24,[4]Hoja1!$A$3:$G$271,6,0) -> 1921 | U24: =VLOOKUP($A24,[4]Hoja1!$A$3:$G$271,7,0) -> 0 | V24: =T24+U24 -> 1921 | W24: =$D24*V24 -> 1921 | X24: =VLOOKUP($A24,[5]Hoja1!$A$3:$G$271,6,0) -> 2144 | Y24: =VLOOKUP($A24,[5]Hoja1!$A$3:$G$271,7,0) -> 0 | Z24: =X24+Y24 -> 2144 | AA24: =$D24*Z24 -> 2144 | AB24: =VLOOKUP($A24,[6]Hoja1!$A$3:$G$271,6,0) -> 0 | AC24: =VLOOKUP($A24,[6]Hoja1!$A$3:$G$271,7,0) -> 0 | AD24: =AB24+AC24 -> 0 | AE24: =$D24*AD24 -> 0 | AF24: =VLOOKUP($A24,[7]Hoja1!$A$3:$M$271,12,0) -> 0 | AG24: =VLOOKUP($A24,[7]Hoja1!$A$3:$M$271,13,0) -> 0 | AH24: =AF24+AG24 -> 0 | AI24: =$D24*AH24 -> 0 | AJ24: =VLOOKUP($A24,[8]Hoja1!$A$3:$G$271,6,0) -> 0 | AK24: =VLOOKUP($A24,[8]Hoja1!$A$3:$G$271,7,0) -> 0 | AL24: =AJ24+AK24 -> 0 | AM24: =$D24*AL24 -> 0 | AN24: =VLOOKUP($A24,[9]Hoja1!$A$5:$G$273,6,0) -> 1373 | AO24: =VLOOKUP($A24,[9]Hoja1!$A$5:$G$273,7,0) -> 0 | AP24: =AN24+AO24 -> 1373 | AQ24: =$D24*AP24 -> 1373 | AR24: =VLOOKUP($A24,[10]Hoja1!$A$3:$M$271,12,0) -> 0 | AS24: =VLOOKUP($A24,[10]Hoja1!$A$3:$M$271,13,0) -> 0 | AT24: =AR24+AS24 -> 0 | AU24: =$D24*AT24 -> 0 | AV24: =VLOOKUP($A24,[11]Hoja1!$A$3:$M$271,12,0) -> 0 | AW24: =VLOOKUP($A24,[11]Hoja1!$A$3:$M$271,13,0) -> 0 | AX24: =AV24+AW24 -> 0 | AY24: =$D24*AX24 -> 0 | AZ24: =VLOOKUP($A24,[12]Hoja1!$A$3:$M$271,12,0) -> 0 | BA24: =VLOOKUP($A24,[12]Hoja1!$A$3:$M$271,13,0) -> 0 | BB24: =AZ24+BA24 -> 0 | BC24: =$D24*BB24 -> 0 | BD24: =MIN(#REF!,#REF!) -> #REF! | BE24: =BD24-#REF! -> #REF! | BF24: IME IMPORTMEDICAL COLOMBIA SAS | BI24: =MIN(#REF!,#REF!) -> #REF! | BJ24: =BI24-#REF! -> #REF! | BK24: IME IMPORTMEDICAL COLOMBIA SAS
A25: 16 | B25: ESPARADRAPO DE RAYON MICROPOROSO HIPOALERGENICO 2 X 10 YARDAS | C25: 1 ROLLO DE ESPARADRAPO | D25: 1 | E25: UN | F25: 2747 | G25: 223.66667 | H25: =VLOOKUP($A25,[1]Hoja1!$A$3:$G$271,6,0) -> 2994 | J25: =H25+I25 -> 2994 | K25: =$D25*J25 -> 2994 | L25: =VLOOKUP($A25,[2]Hoja1!$A$3:$G$271,6,0) -> 0 | M25: =VLOOKUP($A25,[2]Hoja1!$A$3:$G$271,7,0) -> 0 | N25: =L25+M25 -> 0 | O25: =$D25*N25 -> 0 | P25: =VLOOKUP($A25,[3]Hoja1!$A$3:$M$271,12,0) -> 4170 | Q25: =VLOOKUP($A25,[3]Hoja1!$A$3:$M$271,13,0) -> 0 | R25: =P25+Q25 -> 4170 | S25: =$D25*R25 -> 4170 | T25: =VLOOKUP($A25,[4]Hoja1!$A$3:$G$271,6,0) -> 3842 | U25: =VLOOKUP($A25,[4]Hoja1!$A$3:$G$271,7,0) -> 0 | V25: =T25+U25 -> 3842 | W25: =$D25*V25 -> 3842 | X25: =VLOOKUP($A25,[5]Hoja1!$A$3:$G$271,6,0) -> 4288 | Y25: =VLOOKUP($A25,[5]Hoja1!$A$3:$G$271,7,0) -> 0 | Z25: =X25+Y25 -> 4288 | AA25: =$D25*Z25 -> 4288 | AB25: =VLOOKUP($A25,[6]Hoja1!$A$3:$G$271,6,0) -> 0 | AC25: =VLOOKUP($A25,[6]Hoja1!$A$3:$G$271,7,0) -> 0 | AD25: =AB25+AC25 -> 0 | AE25: =$D25*AD25 -> 0 | AF25: =VLOOKUP($A25,[7]Hoja1!$A$3:$M$271,12,0) -> 0 | AG25: =VLOOKUP($A25,[7]Hoja1!$A$3:$M$271,13,0) -> 0 | AH25: =AF25+AG25 -> 0 | AI25: =$D25*AH25 -> 0 | AJ25: =VLOOKUP($A25,[8]Hoja1!$A$3:$G$271,6,0) -> 0 | AK25: =VLOOKUP($A25,[8]Hoja1!$A$3:$G$271,7,0) -> 0 | AL25: =AJ25+AK25 -> 0 | AM25: =$D25*AL25 -> 0 | AN25: =VLOOKUP($A25,[9]Hoja1!$A$5:$G$273,6,0) -> 2745 | AO25: =VLOOKUP($A25,[9]Hoja1!$A$5:$G$273,7,0) -> 0 | AP25: =AN25+AO25 -> 2745 | AQ25: =$D25*AP25 -> 2745 | AR25: =VLOOKUP($A25,[10]Hoja1!$A$3:$M$271,12,0) -> 0 | AS25: =VLOOKUP($A25,[10]Hoja1!$A$3:$M$271,13,0) -> 0 | AT25: =AR25+AS25 -> 0 | AU25: =$D25*AT25 -> 0 | AV25: =VLOOKUP($A25,[11]Hoja1!$A$3:$M$271,12,0) -> 0 | AW25: =VLOOKUP($A25,[11]Hoja1!$A$3:$M$271,13,0) -> 0 | AX25: =AV25+AW25 -> 0 | AY25: =$D25*AX25 -> 0 | AZ25: =VLOOKUP($A25,[12]Hoja1!$A$3:$M$271,12,0) -> 0 | BA25: =VLOOKUP($A25,[12]Hoja1!$A$3:$M$271,13,0) -> 0 | BB25: =AZ25+BA25 -> 0 | BC25: =$D25*BB25 -> 0 | BD25: =MIN(#REF!,#REF!) -> #REF! | BE25: =BD25-#REF! -> #REF! | BF25: IME IMPORTMEDICAL COLOMBIA SAS | BI25: =MIN(#REF!,#REF!) -> #REF! | BJ25: =#REF!-BI25 -> #REF! | BK25: IME IMPORTMEDICAL COLOMBIA SAS
A26: 17 | B26: GASA 100% ALGODON TEJIDA 8 PLIEGUES ESTERIL SIN INDICADOR RADIOPACO 7.5 * 7.5 cm (SOBRE X 5) | C26: 1 SOBRE DE 5 UNIDADES | D26: 1 | E26: UN | F26: 300 | G26: 158542.33 | H26: =VLOOKUP($A26,[1]Hoja1!$A$3:$G$271,6,0) -> 295 | J26: =H26+I26 -> 295 | K26: =$D26*J26 -> 295 | L26: =VLOOKUP($A26,[2]Hoja1!$A$3:$G$271,6,0) -> 0 | M26: =VLOOKUP($A26,[2]Hoja1!$A$3:$G$271,7,0) -> 0 | N26: =L26+M26 -> 0 | O26: =$D26*N26 -> 0 | P26: =VLOOKUP($A26,[3]Hoja1!$A$3:$M$271,12,0) -> 0 | Q26: =VLOOKUP($A26,[3]Hoja1!$A$3:$M$271,13,0) -> 0 | R26: =P26+Q26 -> 0 | S26: =$D26*R26 -> 0 | T26: =VLOOKUP($A26,[4]Hoja1!$A$3:$G$271,6,0) -> 344 | U26: =VLOOKUP($A26,[4]Hoja1!$A$3:$G$271,7,0) -> 0 | V26: =T26+U26 -> 344 | W26: =$D26*V26 -> 344 | X26: =VLOOKUP($A26,[5]Hoja1!$A$3:$G$271,6,0) -> 0 | Y26: =VLOOKUP($A26,[5]Hoja1!$A$3:$G$271,7,0) -> 0 | Z26: =X26+Y26 -> 0 | AA26: =$D26*Z26 -> 0 | AB26: =VLOOKUP($A26,[6]Hoja1!$A$3:$G$271,6,0) -> 0 | AC26: =VLOOKUP($A26,[6]Hoja1!$A$3:$G$271,7,0) -> 0 | AD26: =AB26+AC26 -> 0 | AE26: =$D26*AD26 -> 0 | AF26: =VLOOKUP($A26,[7]Hoja1!$A$3:$M$271,12,0) -> 0 | AG26: =VLOOKUP($A26,[7]Hoja1!$A$3:$M$271,13,0) -> 0 | AH26: =AF26+AG26 -> 0 | AI26: =$D26*AH26 -> 0 | AJ26: =VLOOKUP($A26,[8]Hoja1!$A$3:$G$271,6,0) -> 0 | AK26: =VLOOKUP($A26,[8]Hoja1!$A$3:$G$271,7,0) -> 0 | AL26: =AJ26+AK26 -> 0 | AM26: =$D26*AL26 -> 0 | AN26: =VLOOKUP($A26,[9]Hoja1!$A$5:$G$273,6,0) -> 0 | AO26: =VLOOKUP($A26,[9]Hoja1!$A$5:$G$273,7,0) -> 0 | AP26: =AN26+AO26 -> 0 | AQ26: =$D26*AP26 -> 0 | AR26: =VLOOKUP($A26,[10]Hoja1!$A$3:$M$271,12,0) -> 0 | AS26: =VLOOKUP($A26,[10]Hoja1!$A$3:$M$271,13,0) -> 0 | AT26: =AR26+AS26 -> 0 | AU26: =$D26*AT26 -> 0 | AV26: =VLOOKUP($A26,[11]Hoja1!$A$3:$M$271,12,0) -> 0 | AW26: =VLOOKUP($A26,[11]Hoja1!$A$3:$M$271,13,0) -> 0 | AX26: =AV26+AW26 -> 0 | AY26: =$D26*AX26 -> 0 | AZ26: =VLOOKUP($A26,[12]Hoja1!$A$3:$M$271,12,0) -> 0 | BA26: =VLOOKUP($A26,[12]Hoja1!$A$3:$M$271,13,0) -> 0 | BB26: =AZ26+BA26 -> 0 | BC26: =$D26*BB26 -> 0 | BD26: =MIN(#REF!,#REF!) -> #REF! | BE26: =BD26-#REF! -> #REF! | BF26: IME IMPORTMEDICAL COLOMBIA SAS | BI26: =MIN(#REF!,#REF!) -> #REF! | BJ26: =#REF!-BI26 -> #REF! | BK26: IME IMPORTMEDICAL COLOMBIA SAS
A27: 18 | B27: JERINGA DE TRES PARTES DE 3 CM 23G X 1´´ 25 X 0.62 MM. | C27: 1 UNIDAD DE JERINGA | D27: 1 | E27: UN | F27: 189.21 | G27: 6647 | H27: =VLOOKUP($A27,[1]Hoja1!$A$3:$G$271,6,0) -> 169 | J27: =H27+I27 -> 169 | K27: =$D27*J27 -> 169 | L27: =VLOOKUP($A27,[2]Hoja1!$A$3:$G$271,6,0) -> 0 | M27: =VLOOKUP($A27,[2]Hoja1!$A$3:$G$271,7,0) -> 0 | N27: =L27+M27 -> 0 | O27: =$D27*N27 -> 0 | P27: =VLOOKUP($A27,[3]Hoja1!$A$3:$M$271,12,0) -> 198 | Q27: =VLOOKUP($A27,[3]Hoja1!$A$3:$M$271,13,0) -> 0 | R27: =P27+Q27 -> 198 | S27: =$D27*R27 -> 198 | T27: =VLOOKUP($A27,[4]Hoja1!$A$3:$G$271,6,0) -> 189 | U27: =VLOOKUP($A27,[4]Hoja1!$A$3:$G$271,7,0) -> 0 | V27: =T27+U27 -> 189 | W27: =$D27*V27 -> 189 | X27: =VLOOKUP($A27,[5]Hoja1!$A$3:$G$271,6,0) -> 0 | Y27: =VLOOKUP($A27,[5]Hoja1!$A$3:$G$271,7,0) -> 0 | Z27: =X27+Y27 -> 0 | AA27: =$D27*Z27 -> 0 | AB27: =VLOOKUP($A27,[6]Hoja1!$A$3:$G$271,6,0) -> 0 | AC27: =VLOOKUP($A27,[6]Hoja1!$A$3:$G$271,7,0) -> 0 | AD27: =AB27+AC27 -> 0 | AE27: =$D27*AD27 -> 0 | AF27: =VLOOKUP($A27,[7]Hoja1!$A$3:$M$271,12,0) -> 168 | AG27: =VLOOKUP($A27,[7]Hoja1!$A$3:$M$271,13,0) -> 0 | AH27: =AF27+AG27 -> 168 | AI27: =$D27*AH27 -> 168 | AJ27: =VLOOKUP($A27,[8]Hoja1!$A$3:$G$271,6,0) -> 0 | AK27: =VLOOKUP($A27,[8]Hoja1!$A$3:$G$271,7,0) -> 0 | AL27: =AJ27+AK27 -> 0 | AM27: =$D27*AL27 -> 0 | AN27: =VLOOKUP($A27,[9]Hoja1!$A$5:$G$273,6,0) -> 0 | AO27: =VLOOKUP($A27,[9]Hoja1!$A$5:$G$273,7,0) -> 0 | AP27: =AN27+AO27 -> 0 | AQ27: =$D27*AP27 -> 0 | AR27: =VLOOKUP($A27,[10]Hoja1!$A$3:$M$271,12,0) -> 0 | AS27: =VLOOKUP($A27,[10]Hoja1!$A$3:$M$271,13,0) -> 0 | AT27: =AR27+AS27 -> 0 | AU27: =$D27*AT27 -> 0 | AV27: =VLOOKUP($A27,[11]Hoja1!$A$3:$M$271,12,0) -> 0 | AW27: =VLOOKUP($A27,[11]Hoja1!$A$3:$M$271,13,0) -> 0 | AX27: =AV27+AW27 -> 0 | AY27: =$D27*AX27 -> 0 | AZ27: =VLOOKUP($A27,[12]Hoja1!$A$3:$M$271,12,0) -> 0 | BA27: =VLOOKUP($A27,[12]Hoja1!$A$3:$M$271,13,0) -> 0 | BB27: =AZ27+BA27 -> 0 | BC27: =$D27*BB27 -> 0 | BF27: NO CUMPLE PRECIO MINIMO DE REFERENCIA | BI27: =MIN(#REF!,#REF!) -> #REF! | BJ27: =BI27-#REF! -> #REF! | BK27: BIOCLINICOS DE COLOMBIA SAS
A28: 19 | B28: PAÑO IMPREGNADO CON CLORHEXIDINA AL 2 % Y ALCOHOL ISOPROPILICO AL 70% | C28: 1 UNIDAD DE PAÑO | D28: 1 | E28: UN | F28: 52 | G28: 83766.667 | H28: =VLOOKUP($A28,[1]Hoja1!$A$3:$G$271,6,0) -> 63 | J28: =H28+I28 -> 63 | K28: =$D28*J28 -> 63 | L28: =VLOOKUP($A28,[2]Hoja1!$A$3:$G$271,6,0) -> 0 | M28: =VLOOKUP($A28,[2]Hoja1!$A$3:$G$271,7,0) -> 0 | N28: =L28+M28 -> 0 | O28: =$D28*N28 -> 0 | P28: =VLOOKUP($A28,[3]Hoja1!$A$3:$M$271,12,0) -> 0 | Q28: =VLOOKUP($A28,[3]Hoja1!$A$3:$M$271,13,0) -> 0 | R28: =P28+Q28 -> 0 | S28: =$D28*R28 -> 0 | T28: =VLOOKUP($A28,[4]Hoja1!$A$3:$G$271,6,0) -> 74 | U28: =VLOOKUP($A28,[4]Hoja1!$A$3:$G$271,7,0) -> 0 | V28: =T28+U28 -> 74 | W28: =$D28*V28 -> 74 | X28: =VLOOKUP($A28,[5]Hoja1!$A$3:$G$271,6,0) -> 0 | Y28: =VLOOKUP($A28,[5]Hoja1!$A$3:$G$271,7,0) -> 0 | Z28: =X28+Y28 -> 0 | AA28: =$D28*Z28 -> 0 | AB28: =VLOOKUP($A28,[6]Hoja1!$A$3:$G$271,6,0) -> 0 | AC28: =VLOOKUP($A28,[6]Hoja1!$A$3:$G$271,7,0) -> 0 | AD28: =AB28+AC28 -> 0 | AE28: =$D28*AD28 -> 0 | AF28: =VLOOKUP($A28,[7]Hoja1!$A$3:$M$271,12,0) -> 0 | AG28: =VLOOKUP($A28,[7]Hoja1!$A$3:$M$271,13,0) -> 0 | AH28: =AF28+AG28 -> 0 | AI28: =$D28*AH28 -> 0 | AJ28: =VLOOKUP($A28,[8]Hoja1!$A$3:$G$271,6,0) -> 0 | AK28: =VLOOKUP($A28,[8]Hoja1!$A$3:$G$271,7,0) -> 0 | AL28: =AJ28+AK28 -> 0 | AM28: =$D28*AL28 -> 0 | AN28: =VLOOKUP($A28,[9]Hoja1!$A$5:$G$273,6,0) -> 55 | AO28: =VLOOKUP($A28,[9]Hoja1!$A$5:$G$273,7,0) -> 0 | AP28: =AN28+AO28 -> 55 | AQ28: =$D28*AP28 -> 55 | AR28: =VLOOKUP($A28,[10]Hoja1!$A$3:$M$271,12,0) -> 0 | AS28: =VLOOKUP($A28,[10]Hoja1!$A$3:$M$271,13,0) -> 0 | AT28: =AR28+AS28 -> 0 | AU28: =$D28*AT28 -> 0 | AV28: =VLOOKUP($A28,[11]Hoja1!$A$3:$M$271,12,0) -> 0 | AW28: =VLOOKUP($A28,[11]Hoja1!$A$3:$M$271,13,0) -> 0 | AX28: =AV28+AW28 -> 0 | AY28: =$D28*AX28 -> 0 | AZ28: =VLOOKUP($A28,[12]Hoja1!$A$3:$M$271,12,0) -> 0 | BA28: =VLOOKUP($A28,[12]Hoja1!$A$3:$M$271,13,0) -> 0 | BB28: =AZ28+BA28 -> 0 | BC28: =$D28*BB28 -> 0 | BF28: NO CUMPLE PRECIO MINIMO DE REFERENCIA | BI28: =#REF! -> #REF! | BJ28: =BI28-#REF! -> #REF! | BK28: BIOCLINICOS DE COLOMBIA SAS
A29: 20 | B29: COMPRESA TEJIDA EN GASA 100% ALGODON DE 4 PLIEGUES NO ESTERIL 45CM X 45CM CON INDICADOR RADIOPACO LIBRE DE LATEX | C29: Una Unidad de compresa | D29: 1 | E29: UN | F29: 950 | G29: 10453.333 | H29: =VLOOKUP($A29,[1]Hoja1!$A$3:$G$271,6,0) -> 915 | J29: =H29+I29 -> 915 | K29: =$D29*J29 -> 915 | L29: =VLOOKUP($A29,[2]Hoja1!$A$3:$G$271,6,0) -> 0 | M29: =VLOOKUP($A29,[2]Hoja1!$A$3:$G$271,7,0) -> 0 | N29: =L29+M29 -> 0 | O29: =$D29*N29 -> 0 | P29: =VLOOKUP($A29,[3]Hoja1!$A$3:$M$271,12,0) -> 1120 | Q29: =VLOOKUP($A29,[3]Hoja1!$A$3:$M$271,13,0) -> 0 | R29: =P29+Q29 -> 1120 | S29: =$D29*R29 -> 1120 | T29: =VLOOKUP($A29,[4]Hoja1!$A$3:$G$271,6,0) -> 0 | U29: =VLOOKUP($A29,[4]Hoja1!$A$3:$G$271,7,0) -> 0 | V29: =T29+U29 -> 0 | W29: =$D29*V29 -> 0 | X29: =VLOOKUP($A29,[5]Hoja1!$A$3:$G$271,6,0) -> 0 | Y29: =VLOOKUP($A29,[5]Hoja1!$A$3:$G$271,7,0) -> 0 | Z29: =X29+Y29 -> 0 | AA29: =$D29*Z29 -> 0 | AB29: =VLOOKUP($A29,[6]Hoja1!$A$3:$G$271,6,0) -> 0 | AC29: =VLOOKUP($A29,[6]Hoja1!$A$3:$G$271,7,0) -> 0 | AD29: =AB29+AC29 -> 0 | AE29: =$D29*AD29 -> 0 | AF29: =VLOOKUP($A29,[7]Hoja1!$A$3:$M$271,12,0) -> 0 | AG29: =VLOOKUP($A29,[7]Hoja1!$A$3:$M$271,13,0) -> 0 | AH29: =AF29+AG29 -> 0 | AI29: =$D29*AH29 -> 0 | AJ29: =VLOOKUP($A29,[8]Hoja1!$A$3:$G$271,6,0) -> 0 | AK29: =VLOOKUP($A29,[8]Hoja1!$A$3:$G$271,7,0) -> 0 | AL29: =AJ29+AK29 -> 0 | AM29: =$D29*AL29 -> 0 | AN29: =VLOOKUP($A29,[9]Hoja1!$A$5:$G$273,6,0) -> 0 | AO29: =VLOOKUP($A29,[9]Hoja1!$A$5:$G$273,7,0) -> 0 | AP29: =AN29+AO29 -> 0 | AQ29: =$D29*AP29 -> 0 | AR29: =VLOOKUP($A29,[10]Hoja1!$A$3:$M$271,12,0) -> 0 | AS29: =VLOOKUP($A29,[10]Hoja1!$A$3:$M$271,13,0) -> 0 | AT29: =AR29+AS29 -> 0 | AU29: =$D29*AT29 -> 0 | AV29: =VLOOKUP($A29,[11]Hoja1!$A$3:$M$271,12,0) -> 0 | AW29: =VLOOKUP($A29,[11]Hoja1!$A$3:$M$271,13,0) -> 0 | AX29: =AV29+AW29 -> 0 | AY29: =$D29*AX29 -> 0 | AZ29: =VLOOKUP($A29,[12]Hoja1!$A$3:$M$271,12,0) -> 0 | BA29: =VLOOKUP($A29,[12]Hoja1!$A$3:$M$271,13,0) -> 0 | BB29: =AZ29+BA29 -> 0 | BC29: =$D29*BB29 -> 0 | BD29: =MIN(#REF!,#REF!) -> #REF! | BE29: =BD29-#REF! -> #REF! | BF29: IME IMPORTMEDICAL COLOMBIA SAS | BI29: =MIN(#REF!,#REF!) -> #REF! | BJ29: =BI29-#REF! -> #REF! | BK29: IME IMPORTMEDICAL COLOMBIA SAS
A30: 21 | B30: JERINGA DESECHABLE DE 60 ML PUNTA DE CATETER TRESPAR | C30: 1 UNIDAD DE JERINGA | D30: 1 | E30: UN | F30: 830 | G30: 1 | H30: =VLOOKUP($A30,[1]Hoja1!$A$3:$G$271,6,0) -> 890 | J30: =H30+I30 -> 890 | K30: =$D30*J30 -> 890 | L30: =VLOOKUP($A30,[2]Hoja1!$A$3:$G$271,6,0) -> 0 | M30: =VLOOKUP($A30,[2]Hoja1!$A$3:$G$271,7,0) -> 0 | N30: =L30+M30 -> 0 | O30: =$D30*N30 -> 0 | P30: =VLOOKUP($A30,[3]Hoja1!$A$3:$M$271,12,0) -> 844 | Q30: =VLOOKUP($A30,[3]Hoja1!$A$3:$M$271,13,0) -> 0 | R30: =P30+Q30 -> 844 | S30: =$D30*R30 -> 844 | T30: =VLOOKUP($A30,[4]Hoja1!$A$3:$G$271,6,0) -> 1014 | U30: =VLOOKUP($A30,[4]Hoja1!$A$3:$G$271,7,0) -> 0 | V30: =T30+U30 -> 1014 | W30: =$D30*V30 -> 1014 | X30: =VLOOKUP($A30,[5]Hoja1!$A$3:$G$271,6,0) -> 0 | Y30: =VLOOKUP($A30,[5]Hoja1!$A$3:$G$271,7,0) -> 0 | Z30: =X30+Y30 -> 0 | AA30: =$D30*Z30 -> 0 | AB30: =VLOOKUP($A30,[6]Hoja1!$A$3:$G$271,6,0) -> 0 | AC30: =VLOOKUP($A30,[6]Hoja1!$A$3:$G$271,7,0) -> 0 | AD30: =AB30+AC30 -> 0 | AE30: =$D30*AD30 -> 0 | AF30: =VLOOKUP($A30,[7]Hoja1!$A$3:$M$271,12,0) -> 0 | AG30: =VLOOKUP($A30,[7]Hoja1!$A$3:$M$271,13,0) -> 0 | AH30: =AF30+AG30 -> 0 | AI30: =$D30*AH30 -> 0 | AJ30: =VLOOKUP($A30,[8]Hoja1!$A$3:$G$271,6,0) -> 0 | AK30: =VLOOKUP($A30,[8]Hoja1!$A$3:$G$271,7,0) -> 0 | AL30: =AJ30+AK30 -> 0 | AM30: =$D30*AL30 -> 0 | AN30: =VLOOKUP($A30,[9]Hoja1!$A$5:$G$273,6,0) -> 0 | AO30: =VLOOKUP($A30,[9]Hoja1!$A$5:$G$273,7,0) -> 0 | AP30: =AN30+AO30 -> 0 | AQ30: =$D30*AP30 -> 0 | AR30: =VLOOKUP($A30,[10]Hoja1!$A$3:$M$271,12,0) -> 0 | AS30: =VLOOKUP($A30,[10]Hoja1!$A$3:$M$271,13,0) -> 0 | AT30: =AR30+AS30 -> 0 | AU30: =$D30*AT30 -> 0 | AV30: =VLOOKUP($A30,[11]Hoja1!$A$3:$M$271,12,0) -> 0 | AW30: =VLOOKUP($A30,[11]Hoja1!$A$3:$M$271,13,0) -> 0 | AX30: =AV30+AW30 -> 0 | AY30: =$D30*AX30 -> 0 | AZ30: =VLOOKUP($A30,[12]Hoja1!$A$3:$M$271,12,0) -> 0 | BA30: =VLOOKUP($A30,[12]Hoja1!$A$3:$M$271,13,0) -> 0 | BB30: =AZ30+BA30 -> 0 | BC30: =$D30*BB30 -> 0 | BD30: =MIN(#REF!,#REF!) -> #REF! | BE30: =BD30-#REF! -> #REF! | BF30: IME IMPORTMEDICAL COLOMBIA SAS | BI30: =MIN(#REF!,#REF!) -> #REF! | BJ30: =BI30-#REF! -> #REF! | BK30: IME IMPORTMEDICAL COLOMBIA SAS
