Workbook
Name \f: '[1]APUS NUEVOS-1'!#REF!
Name _____________A17000: #REF!
Name _____________A20000: #REF!
Name _____________A30000: #REF!
Name ____________A17000: #REF!
Name ____________A20000: #REF!
Name ____________A30000: #REF!
Name ____________AFC1: [2]INV!$A$25:$D$28
Name ____________AFC3: [2]INV!$F$25:$I$28
Name ____________AFC5: [2]INV!$K$25:$N$28
Name ____________BGC1: [2]INV!$A$5:$D$8
Name ____________BGC3: [2]INV!$F$5:$I$8
Name ____________BGC5: [2]INV!$K$5:$N$8
Name ____________CAC1: [2]INV!$A$19:$D$22
Name ____________CAC3: [2]INV!$F$19:$I$22
Name ____________CAC5: [2]INV!$K$19:$N$22
Name ____________rc: #REF!
Name ____________SBC1: [2]INV!$A$12:$D$15
Name ____________SBC3: [2]INV!$F$12:$I$15
Name ____________SBC5: [2]INV!$K$12:$N$15
Name ___________A17000: #REF!
Name ___________A20000: #REF!
Name ___________A30000: #REF!
Name ___________AFC1: [2]INV!$A$25:$D$28
Name ___________AFC3: [2]INV!$F$25:$I$28
Name ___________AFC5: [2]INV!$K$25:$N$28
Name ___________BGC1: [2]INV!$A$5:$D$8
Name ___________BGC3: [2]INV!$F$5:$I$8
Name ___________BGC5: [2]INV!$K$5:$N$8
Name ___________CAC1: [2]INV!$A$19:$D$22
Name ___________CAC3: [2]INV!$F$19:$I$22
Name ___________CAC5: [2]INV!$K$19:$N$22
Name ___________rc: #REF!
Name ___________SBC1: [2]INV!$A$12:$D$15
Name ___________SBC3: [2]INV!$F$12:$I$15
Name ___________SBC5: [2]INV!$K$12:$N$15
Name __________A17000: #REF!
Name __________A20000: #REF!
Name __________A30000: #REF!
Name __________AFC1: [2]INV!$A$25:$D$28
Name __________AFC3: [2]INV!$F$25:$I$28
Name __________AFC5: [2]INV!$K$25:$N$28
Name __________BGC1: [2]INV!$A$5:$D$8
Name __________BGC3: [2]INV!$F$5:$I$8
Name __________BGC5: [2]INV!$K$5:$N$8
Name __________CAC1: [2]INV!$A$19:$D$22
Name __________CAC3: [2]INV!$F$19:$I$22
Name __________CAC5: [2]INV!$K$19:$N$22
Name __________rc: #REF!
Name __________SBC1: [2]INV!$A$12:$D$15
Name __________SBC3: [2]INV!$F$12:$I$15
Name __________SBC5: [2]INV!$K$12:$N$15
Name _________A17000: #REF!
Name _________A20000: #REF!
Name _________A30000: #REF!
Name _________AFC1: [2]INV!$A$25:$D$28
Name _________AFC3: [2]INV!$F$25:$I$28
Name _________AFC5: [2]INV!$K$25:$N$28
Name _________BGC1: [2]INV!$A$5:$D$8
Name _________BGC3: [2]INV!$F$5:$I$8

Sheet ICCU (2)
B6: “MEJORAMIENTO DE LA PLANTA DE TRATAMIENTO DE AGUA POTABLE (PTAP) DEL CASCO URBANO DEL MUNICIPIO DE ANOLAIMA, CUNDINAMARCA”
B7: ITEM | C7: CODIGO | D7: DESCRIPCION | E7: UNIDAD | F7: CANTIDAD | G7: Vr. UNITARIO | H7: Vr. TOTAL
B8: 1 | D8: ENTRADA PRINCIPAL Y CERCADO
B9: =B8+0.01 -> 1.01 | C9: I.N | D9: CERRAMIENTO MALLA ESLABONADA H=1,5M CALIBRE 10, OJO 2"X2", CON TUBERÍA REDONDA GALVANIZADA D=1,5" ESPESOR 2MM CON TAPA, ANGULO 2"X3/16", PLATINA 1/2"X1/8", 3 HILOS DE ALAMBRE DE PÚAS EN LA PARTE SUPERIOR Y PINTADA CON ESMALTE COLOR ALUMINIO CROMADO. INCLUYE EXCAVACIÓN PARA CIMENTACIÓN, VIGAS DE CIMIENTO CON REFUERZO SECCIÓN 0,25M X 0,25M, COLUMNAS REFORZADAS SECCIÓN 0,2M X 0,15M, H=0,5M SEPRADAS CADA 2M Y MURO EN LADRILLO LIMPIO #10 EN SOGA H=0,5M. | E9: ML | F9: 76 | G9: ='[86]1,01 (2)'!I49 -> 205250 | H9: =+G9*F9 -> 15599000
B10: 2 | D10: ADECUACIONES LABORATORIO
B11: =B10+0.01 -> 2.01 | C11: 5.15 | D11: MURO EN SUPERBOARD DOBLE CARA 0.12 M | E11: M2 | F11: ='MEMORIA DE CALCULO'!M8 -> 13.075 | G11: 124901 | H11: =+G11*F11 -> 1633080.6
B12: =B11+0.01 -> 2.02 | C12: 18.16 | D12: ESTUCO Y VINILO 3 MANOS | E12: M2 | F12: ='MEMORIA DE CALCULO'!M11 -> 13.72875 | G12: 17653 | H12: =+G12*F12 -> 242353.62
B13: =B12+0.01 -> 2.03 | C13: 5.8 | D13: MESON EN CONCRETO 2500 PSI, E=0.1 (INC. REFUERZO) | E13: M2 | F13: ='MEMORIA DE CALCULO'!M14 -> 0.45 | G13: 114044 | H13: =+G13*F13 -> 51319.8
B14: =B13+0.01 -> 2.04 | C14: 14.1 | D14: BALDOSA CERÁMICA PISO-PARED 20X20 CALIDAD PRIMERA | E14: M2 | F14: ='MEMORIA DE CALCULO'!M15 -> 2.895 | G14: 63341 | H14: =+G14*F14 -> 183372.2
B15: =B14+0.01 -> 2.05 | C15: I.N | D15: PUERTA EN MADERA MACIZA TIPO CEDRO MARCO Y NAVE (0.60-0.70 X 2m) | E15: UN | F15: ='MEMORIA DE CALCULO'!M17 -> 1 | G15: ='2.05'!I38 -> 596616 | H15: =+G15*F15 -> 596616
B16: =B15+0.01 -> 2.06 | C16: 17.12 | D16: SUMINISTRO E INSTALACIÓN LAVAPLATOS DE EMPOTRAR EN ACERO INOXIDABLE 45X49 cm (INCLUYE ACCESORIOS Y GRIFERÍA) | E16: UN | F16: ='MEMORIA DE CALCULO'!M18 -> 1 | G16: 273535 | H16: =+G16*F16 -> 273535
B17: =B16+0.01 -> 2.07 | C17: 6.3 | D17: FILOS O DILATACIONES S/MURO | E17: ML | F17: ='MEMORIA DE CALCULO'!M19 -> 22.029 | G17: 7835 | H17: =+G17*F17 -> 172597.21
B18: 3 | D18: PLANTA INTERIOR
B19: =B18+0.01 -> 3.01 | C19: 9.3 | D19: VIDRIO TRANSPARENTE 4 MM | E19: M2 | F19: ='MEMORIA DE CALCULO'!M24 -> 1.608 | G19: 47471 | H19: =+G19*F19 -> 76333.368
B20: =B19+0.01 -> 3.02 | C20: I.N | D20: LIMPIEZA DE PISOS CERAMICOS, CON CEPILLO, AGUA Y ÁCIDO MURIÁTICO | E20: M2 | F20: ='MEMORIA DE CALCULO'!M27 -> 43.58 | G20: ='3.02'!I36 -> 6071 | H20: =+G20*F20 -> 264574.18
B21: 4 | D21: PLANTA INTERIOR SOTANO
B22: =B21+0.01 -> 4.01 | C22: 18.8 | D22: ESMALTE SOBRE LAMINA LINEAL | E22: ML | F22: ='MEMORIA DE CALCULO'!M34 -> 50.6 | G22: 3124 | H22: =+G22*F22 -> 158074.4
B23: =B22+0.01 -> 4.02 | C23: 18.23 | D23: VINILO SOBRE PAÑETE 2 MANOS | E23: M2 | F23: ='MEMORIA DE CALCULO'!M45 -> 50.568 | G23: 8047 | H23: =+G23*F23 -> 406920.7
D24: COSTOS DIRECTOS | H24: =SUM(H9:H23) -> 19657777
D25: AIU | F25: 0.25 | H25: =+H24*F25 -> 4914444.3
D26: COSTO TOTAL | H26: =+H24+H25 -> 24572221

Sheet MEMORIA DE CALCULO
A3: ITEM | B3: CODIGO | C3: DESCRIPCION | D3: UN | E3: DESCRIPCIÓN ITEM | F3: LARGO | G3: ANCHO | H3: ALTO | I3: PESO | J3: AREA | K3: UNIDAD | M3: TOTAL
A4: ='ICCU (2)'!B8 -> 1 | B4: ='ICCU (2)'!C8 -> 0 | C4: ='ICCU (2)'!D8 -> ENTRADA PRINCIPAL Y CERCADO | D4: ='ICCU (2)'!E8 -> 0
A5: ='ICCU (2)'!B9 -> 1.01 | B5: ='ICCU (2)'!C9 -> I.N | C5: ='ICCU (2)'!D9 -> CERRAMIENTO MALLA ESLABONADA H=1,5M CALIBRE 10, OJO 2"X2", CON TUBERÍA REDONDA GALVANIZADA D=1,5" ESPESOR 2MM CON TAPA, ANGULO 2"X3/16", PLATINA 1/2"X1/8", 3 HILOS DE ALAMBRE DE PÚAS EN LA PARTE SUPERIOR Y PINTADA CON ESMALTE COLOR ALUMINIO CROMADO. INCLUYE EXCAVACIÓN PARA CIMENTACIÓN, VIGAS DE CIMIENTO CON REFUERZO SECCIÓN 0,25M X 0,25M, COLUMNAS REFORZADAS SECCIÓN 0,2M X 0,15M, H=0,5M SEPRADAS CADA 2M Y MURO EN LADRILLO LIMPIO #10 EN SOGA H=0,5M. | D5: ='ICCU (2)'!E9 -> ML | E5: PERIMETRO ENTRADA | F5: 76 | M5: =F5 -> 76
A6: ='ICCU (2)'!#REF! -> #REF! | B6: ='ICCU (2)'!#REF! -> #REF! | C6: ='ICCU (2)'!#REF! -> #REF! | D6: ='ICCU (2)'!#REF! -> #REF! | E6: ENTRADA PRINCIPAL | K6: 1 | M6: =K6 -> 1
A7: ='ICCU (2)'!B10 -> 2 | B7: ='ICCU (2)'!C10 -> 0 | C7: ='ICCU (2)'!D10 -> ADECUACIONES LABORATORIO | D7: ='ICCU (2)'!E10 -> 0
A8: ='ICCU (2)'!B11 -> 2.01 | B8: ='ICCU (2)'!C11 -> 5.15 | C8: ='ICCU (2)'!D11 -> MURO EN SUPERBOARD DOBLE CARA 0.12 M | D8: ='ICCU (2)'!E11 -> M2 | E8: MURO | F8: 2.24 | H8: 2.5 | L8: =F8*H8 -> 5.6 | M8: =L8+L9-L10 -> 13.075
F9: 3.55 | H9: 2.5 | L9: =F9*H9 -> 8.875
E10: MENOS ÁREA PUERTA | F10: 0.7 | H10: 2 | L10: =F10*H10 -> 1.4
A11: ='ICCU (2)'!B12 -> 2.02 | B11: ='ICCU (2)'!C12 -> 18.16 | C11: ='ICCU (2)'!D12 -> ESTUCO Y VINILO 3 MANOS | D11: ='ICCU (2)'!E12 -> M2 | E11: MURO | F11: 2.24 | H11: 2.5 | L11: =F11*H11 -> 5.6 | M11: =(L11+L12-L13)*1.05 -> 13.72875
F12: 3.55 | H12: 2.5 | L12: =F12*H12 -> 8.875
E13: MENOS ÁREA PUERTA | F13: 0.7 | H13: 2 | L13: =F13*H13 -> 1.4
A14: ='ICCU (2)'!B13 -> 2.03 | B14: ='ICCU (2)'!C13 -> 5.8 | C14: ='ICCU (2)'!D13 -> MESON EN CONCRETO 2500 PSI, E=0.1 (INC. REFUERZO) | D14: ='ICCU (2)'!E13 -> M2 | E14: MESON DE BAJO | F14: 0.9 | G14: 0.5 | M14: =F14*G14 -> 0.45
A15: ='ICCU (2)'!B14 -> 2.04 | B15: ='ICCU (2)'!C14 -> 14.1 | C15: ='ICCU (2)'!D14 -> BALDOSA CERÁMICA PISO-PARED 20X20 CALIDAD PRIMERA | D15: ='ICCU (2)'!E14 -> M2 | E15: TABLETA | F15: 3.55 | H15: 0.5 | L15: =F15*H15 -> 1.775 | M15: =L15+L16 -> 2.895
F16: 2.24 | H16: 0.5 | L16: =F16*H16 -> 1.12
A17: ='ICCU (2)'!B15 -> 2.05 | B17: ='ICCU (2)'!C15 -> I.N | C17: ='ICCU (2)'!D15 -> PUERTA EN MADERA MACIZA TIPO CEDRO MARCO Y NAVE (0.60-0.70 X 2m) | D17: ='ICCU (2)'!E15 -> UN | K17: 1 | M17: =K17 -> 1
A18: ='ICCU (2)'!B16 -> 2.06 | B18: ='ICCU (2)'!C16 -> 17.12 | C18: ='ICCU (2)'!D16 -> SUMINISTRO E INSTALACIÓN LAVAPLATOS DE EMPOTRAR EN ACERO INOXIDABLE 45X49 cm (INCLUYE ACCESORIOS Y GRIFERÍA) | D18: ='ICCU (2)'!E16 -> UN | K18: 1 | M18: =K18 -> 1
A19: ='ICCU (2)'!B17 -> 2.07 | B19: ='ICCU (2)'!C17 -> 6.3 | C19: ='ICCU (2)'!D17 -> FILOS O DILATACIONES S/MURO | D19: ='ICCU (2)'!E17 -> ML | F19: 2.24 | K19: 2 | L19: =F19*K19 -> 4.48 | M19: =(L19+L20+L21+L22)*1.05 -> 22.029
F20: 3.55 | K20: 2 | L20: =F20*K20 -> 7.1
F21: 2 | K21: 4 | L21: =F21*K21 -> 8
F22: 0.7 | K22: 2 | L22: =F22*K22 -> 1.4
A23: ='ICCU (2)'!B18 -> 3 | B23: ='ICCU (2)'!C18 -> 0 | C23: ='ICCU (2)'!D18 -> PLANTA INTERIOR | D23: ='ICCU (2)'!E18 -> 0
A24: ='ICCU (2)'!B19 -> 3.01 | B24: ='ICCU (2)'!C19 -> 9.3 | C24: ='ICCU (2)'!D19 -> VIDRIO TRANSPARENTE 4 MM | D24: ='ICCU (2)'!E19 -> M2 | F24: 0.26 | G24: 0.9 | L24: =F24*G24 -> 0.234 | M24: =L24+L25+L26 -> 1.608
F25: 0.45 | G25: 0.8 | L25: =F25*G25 -> 0.36
F26: 0.65 | G26: 0.78 | K26: 2 | L26: =F26*G26*K26 -> 1.014
A27: ='ICCU (2)'!B20 -> 3.02 | B27: ='ICCU (2)'!C20 -> I.N | C27: ='ICCU (2)'!D20 -> LIMPIEZA DE PISOS CERAMICOS, CON CEPILLO, AGUA Y ÁCIDO MURIÁTICO | D27: ='ICCU (2)'!E20 -> M2 | F27: 11 | G27: 2.7 | L27: =F27*G27 -> 29.7 | M27: =L27+L28+L29+L30+L31+L32 -> 43.58
F28: 3.4 | G28: 1.7 | L28: =F28*G28 -> 5.78
F29: 0.3 | G29: 2 | L29: =F29*G29 -> 0.6
F30: 0.3 | G30: 4 | L30: =F30*G30 -> 1.2
F31: 2.5 | G31: 1.8 | L31: =F31*G31 -> 4.5
F32: 0.3 | G32: 6 | L32: =F32*G32 -> 1.8
A33: ='ICCU (2)'!B21 -> 4 | B33: ='ICCU (2)'!C21 -> 0 | C33: ='ICCU (2)'!D21 -> PLANTA INTERIOR SOTANO | D33: ='ICCU (2)'!E21 -> 0
A34: ='ICCU (2)'!B22 -> 4.01 | B34: ='ICCU (2)'!C22 -> 18.8 | C34: ='ICCU (2)'!D22 -> ESMALTE SOBRE LAMINA LINEAL | D34: ='ICCU (2)'!E22 -> ML | F34: 3.5 | M34: =(F34+F35+F36+F37+F38+F39+F40+F41+F42+F43+F44)*1.1 -> 50.6
F35: 1.5
F36: 1
F37: 3
F38: 3
F39: 2.5
F40: 4.1
F41: 4.7
F42: 6.7
...

Sheet 1,01
B2: ANALISIS DE PRECIOS UNITARIOS
B3: =+[86]ICCU!B6 -> “MEJORAMIENTO DE LA PTAP DEL CASCO URBANO DEL MUNICIPIO DE ANOLAIMA DEPARTAMENTO DE CUNDINAMARCA”
B4: ALCALDIA MUNICIPIO DE ANOLAIMA CUNDINAMARCA
B6: ITEM | C6: DESCRIPCION DE LA ACTIVIDAD | G6: UNIDAD
B7: ='ICCU (2)'!B9 -> 1.01 | C7: ='[86]ICCU (2)'!D9 -> CERRAMIENTO MALLA ESLABONADA H=1,5M CALIBRE 10, OJO 2"X2", CON TUBERÍA REDONDA GALVANIZADA D=1,5" ESPESOR 2MM CON TAPA, ANGULO 2"X3/16", PLATINA 1/2"X1/8", 3 HILOS DE ALAMBRE DE PÚAS EN LA PARTE SUPERIOR Y PINTADA CON ESMALTE COLOR ALUMINIO CROMADO. INCLUYE EXCAVACIÓN PARA CIMENTACIÓN, VIGAS DE CIMIENTO CON REFUERZO SECCIÓN 0,25M X 0,25M, COLUMNAS REFORZADAS SECCIÓN 0,2M X 0,15M, H=0,5M SEPRADAS CADA 2M Y MURO EN LADRILLO LIMPIO #10 EN SOGA H=0,5M. | G7: ='ICCU (2)'!E9 -> ML
B8: I. EUIPOS
B9: No. | C9: Descripción | E9: Tipo/Unidad | F9: Cantidad | G9: Valor | H9: Rendimiento | I9: Valor
B10: 1 | C10: Compresor (barrido y soplado) | E10: $/hora | F10: 1 | G10: 63800 | H10: 0.001 | I10: =F10*G10*H10 -> 63.8
B11: 2 | C11: Equipo de soldadura 250 AMP | E11: $/hora | F11: 1 | G11: 14500 | H11: 0.04 | I11: =F11*G11*H11 -> 580
B12: 3 | C12: Herramienta Menor | E12: % | F12: 0.01 | G12: 71883.27 | H12: 3 | I12: =F12*G12*H12 -> 2156.4981
B13: 4 | C13: Mezcladora de concreto | E13: $/hora | F13: 1 | G13: 7969 | H13: 0.063 | I13: =F13*G13*H13 -> 502.047
B14: Sub Total | I14: =SUM(I10:I13) -> 3302.3451
B16: II. MATERIALES
B17: No. | C17: Descripción | F17: Unidad | G17: Cantidad | H17: Precio Unit. | I17: Valor
B18: 1 | C18: ACERO Fy=420 Mpa (60.000 PSI) D>1/4" | F18: KG | G18: 4.723 | H18: 2500 | I18: =+G18*H18 -> 11807.5
B19: 2 | C19: ALAMBRE DE PUA CALIBRE 12.5 | F19: ML | G19: 3 | H19: 398 | I19: =+G19*H19 -> 1194
B20: 3 | C20: ANGULO 2" X 3/16" | F20: ML | G20: 2 | H20: 9083 | I20: =+G20*H20 -> 18166
B21: 4 | C21: DISOLVENTE | F21: GAL | G21: 0.007 | H21: 19500 | I21: =+G21*H21 -> 136.5
B22: 5 | C22: ESMALTE ALUMINIO CROMADO | F22: GAL | G22: 0.03 | H22: 49000 | I22: =+G22*H22 -> 1470
B23: 6 | C23: LADRILLO LIMPIO #10 (24 X 10 X 6.5 CM) | F23: UND | G23: 53 | H23: 450 | I23: =+G23*H23 -> 23850
B24: 7 | C24: MALLA ESLABONADA GALVANIZADA 2" #10 | F24: M2 | G24: 1.5 | H24: 16390 | I24: =+G24*H24 -> 24585
B25: 8 | C25: PLATINA DE 1/2" X 1/8" | F25: ML | G25: 2 | H25: 883 | I25: =+G25*H25 -> 1766
B26: 9 | C26: SOLDADURA 6011 X 1/8 | F26: KG | G26: 0.05 | H26: 8900 | I26: =+G26*H26 -> 445
B27: 10 | C27: TAPA GALVANIZADA DE 1/2" | F27: UND | G27: 0.5 | H27: 1400 | I27: =+G27*H27 -> 700
B28: 11 | C28: TUBO GALVANIZADO REDONDO DIAMTRO 1/2", ESPESOR 2 MM | F28: ML | G28: 1 | H28: 9750 | I28: =+G28*H28 -> 9750
B29: 12 | C29: FORMALETA EN MADERA | F29: M2 | G29: 0.14 | H29: 26020.5 | I29: =+G29*H29 -> 3642.87
... B32: 15 | C32: INSUMO PARA MORTERO 1:3 | F32: M3 | G32: 0.0132 | H32: 352592 | I32: =+G32*H32 -> 4654.2144
I33: =SUM(I18:I32) -> 130063.95
B35: III. TRANSPORTE
B36: No. | C36: Material | D36: Unidad | F36: CANTIDAD | H36: Tarifa | I36: Valor
B37: 1
B38: Sub Total | I38: =SUM(I37) -> 0
B40: IV. MANO DE OBRA
B41: No. | C41: Trabajador | E41: Unidad | F41: Cantidad | G41: Valor | H41: Rendimiento | I41: Valor
B42: 1 | C42: AYUDANTE | E42: $/día | F42: 2 | G42: 47308 | H42: 0.085 | I42: =F42*G42*H42 -> 8042.36
B43: 2 | C43: AYUDANTE DE CERRAJERÍA | E43: $/día | F43: 1 | G43: 47308 | H43: 0.35 | I43: =F43*G43*H43 -> 16557.8
B44: 3 | C44: MAESTRO DE CERRAJERÍA | E44: $/día | F44: 1 | G44: 96032 | H44: 0.35 | I44: =F44*G44*H44 -> 33611.2
B45: 4 | C45: OFICIAL | E45: $/día | F45: 2 | G45: 80423 | H45: 0.085 | I45: =F45*G45*H45 -> 13671.91
B46: Sub Total | I46: =SUM(I42:I45) -> 71883.27
B49: TOTAL COSTO DIRECTO | I49: =+ROUND(I14+I33+I38+I46,0) -> 205250

Sheet 2.05
B2: ANALISIS DE PRECIOS UNITARIOS
B3: =+[86]ICCU!B6 -> “MEJORAMIENTO DE LA PTAP DEL CASCO URBANO DEL MUNICIPIO DE ANOLAIMA DEPARTAMENTO DE CUNDINAMARCA”
B4: ALCALDIA MUNICIPIO DE ANOLAIMA CUNDINAMARCA
B6: ITEM | C6: DESCRIPCION DE LA ACTIVIDAD | G6: UNIDAD
B7: ='ICCU (2)'!B15 -> 2.05 | C7: ='ICCU (2)'!D15 -> PUERTA EN MADERA MACIZA TIPO CEDRO MARCO Y NAVE (0.60-0.70 X 2m) | G7: ='ICCU (2)'!E15 -> UN
B8: I. EQUIPOS
B9: No. | C9: Descripción | E9: Tipo/Unidad | F9: Cantidad | G9: Valor | H9: Rendimiento | I9: Valor
B10: 1 | C10: Compresor de aire 100 lb motor eléctrico 2HP | E10: %/hora | F10: 1 | G10: 5215 | H10: 0.15 | I10: =F10*G10*H10 -> 782.25
B11: 2 | C11: Herramienta Menor | E11: % | F11: 1 | G11: 73445.33 | H11: 0.05 | I11: =F11*G11*H11 -> 3672.2665
I12: =F12*G12*H12 -> 0
B13: Sub Total | I13: =SUM(I10:I12) -> 4454.5165
B15: II. MATERIALES
B16: No. | C16: Descripción | F16: Unidad | G16: Cantidad | H16: Precio Unit. | I16: Valor
B17: 1 | C17: Barniz brillante | F17: GL | G17: 0.118 | H17: 56950 | I17: =+G17*H17 -> 6720.1
B18: 2 | C18: Biasagra cobre nudo 3" | F18: UND | G18: 3 | H18: 3500 | I18: =+G18*H18 -> 10500
B19: 3 | C19: Cerradura de pestillo tipo pomo madera | F19: UND | G19: 1 | H19: 18900 | I19: =+G19*H19 -> 18900
B20: 4 | C20: Lija de agua No. 180 | F20: UND | G20: 1 | H20: 1200 | I20: =+G20*H20 -> 1200
B21: 5 | C21: Marco en Madera Cedro Puerta de 0.60m de Ancho por 2.0 m de Altura | F21: UND | G21: 1 | H21: 120000 | I21: =+G21*H21 -> 120000
B22: 6 | C22: Nave en Madera Cedro Ancho de 0.6m - 0,70 por 2.0m de Altura | F22: UND | G22: 1 | H22: 360000 | I22: =+G22*H22 -> 360000
B23: 7 | C23: Sellador lijable | F23: GL | G23: 0.035 | H23: 39900 | I23: =+G23*H23 -> 1396.5
I24: =SUM(I17:I23) -> 518716.6
B26: III. TRANSPORTE
B27: No. | C27: Material | D27: Unidad | F27: CANTIDAD | H27: Tarifa | I27: Valor
B28: 1
B29: Sub Total | I29: =SUM(I28) -> 0
B31: IV. MANO DE OBRA
B32: No. | C32: Trabajador | E32: Unidad | F32: Cantidad | G32: Jornal Total | H32: Rendimiento | I32: Valor
B33: 1 | C33: AYUDANTE | E33: $/día | F33: 1 | G33: 47308 | H33: 0.575 | I33: =G33*H33 -> 27202.1
B34: 2 | C34: OFICIAL | E34: $/día | F34: 1 | G34: 80423 | H34: 0.575 | I34: =G34*H34 -> 46243.225
B35: Sub Total | I35: =SUM(I33:I34) -> 73445.325
B38: TOTAL COSTO DIRECTO | I38: =+ROUND(I13+I24+I29+I35,0) -> 596616

Sheet 3.02
B2: ANALISIS DE PRECIOS UNITARIOS
B3: =+[86]ICCU!B6 -> “MEJORAMIENTO DE LA PTAP DEL CASCO URBANO DEL MUNICIPIO DE ANOLAIMA DEPARTAMENTO DE CUNDINAMARCA”
B4: ALCALDIA MUNICIPIO DE ANOLAIMA CUNDINAMARCA
B6: ITEM | C6: DESCRIPCION DE LA ACTIVIDAD | G6: UNIDAD
B7: ='ICCU (2)'!B20 -> 3.02 | C7: ='ICCU (2)'!D20 -> LIMPIEZA DE PISOS CERAMICOS, CON CEPILLO, AGUA Y ÁCIDO MURIÁTICO | G7: ='ICCU (2)'!E20 -> M2
B8: I. EUIPOS
B9: No. | C9: Descripción | E9: Tipo/Unidad | F9: Cantidad | G9: Valor | H9: Rendimiento | I9: Valor
B10: 1 | C10: ANDAMIO SECCIÓN | G10: 1430 | H10: 10 | I10: =G10/H10 -> 143
I11: =F11*G11*H11 -> 0
I12: =F12*G12*H12 -> 0
I13: =F13*G13*H13 -> 0
B14: Sub Total | I14: =SUM(I10:I13) -> 143
B16: II. MATERIALES
B17: No. | C17: Descripción | F17: Unidad | G17: Cantidad | H17: Precio Unit. | I17: Valor
B18: 1 | C18: ÁCIDO MURIATICO | F18: LT | G18: 0.08 | H18: 5005 | I18: =+G18*H18 -> 400.4
B19: 2 | C19: AGUA | F19: LT | G19: 2 | H19: 57 | I19: =+G19*H19 -> 114
F20: UND | G20: 2 | H20: =1750*1.1 -> 1925
F21: UND | G21: 2
F22: UND | G22: 1
I23: =SUM(I18:I22) -> 514.4
B25: III. TRANSPORTE
B26: No. | C26: Material | D26: Unidad | F26: CANTIDAD | H26: Tarifa | I26: Valor
B27: 1
B28: Sub Total | I28: =SUM(I27) -> 0
B30: IV. MANO DE OBRA
B31: No. | C31: Trabajador | E31: Jornal | F31: Prestaciones | G31: Jornal Total | H31: Rendimiento | I31: Valor
B32: 1 | C32: AYUDANTE (1) AA | E32: 39369 | F32: 2.2 | G32: =E32*F32 -> 86611.8 | H32: 16 | I32: =G32/H32 -> 5413.2375
B33: Sub Total | I33: =SUM(I32:I32) -> 5413.2375
B36: TOTAL COSTO DIRECTO | I36: =+ROUND(I14+I23+I28+I33,0) -> 6071
