Workbook

Sheet Cover
A2: Evaluación de propuestas y Adjudicación
A5: Archivo soporte para la evaluación de propuestas y adjudicación del PROCESO DE SELECCIÓN POR LICITACION PÚBLICA No. TMSA-LP-12-2021 Fecha: 21/12/2021

Sheet Proponentes
A1: Listado de Proponentes
A3: Proponentes | D3: Valor mínimo a acreditar
A4: ID | B4: Proponente Provisión | C4: Vr. Recursos líquidos garantizados | D4: Lote 1 | E4: Lote 2 | F4: Lote 3
A5: 1 | B5: ASSA ABLOY | C5: 6668743200 | D5: =Cantidades!$D$19*8.4% -> 1.9971885e+09 | E5: =Cantidades!$D$20*8.4% -> 1.7654781e+09 | F5: =Cantidades!$D$21*8.4% -> 1.5293334e+09
A6: 2 | B6: CONSORC NAUTILUS | C6: 3788000000 | D6: =Cantidades!$D$19*8.4% -> 1.9971885e+09 | E6: =Cantidades!$D$20*8.4% -> 1.7654781e+09 | F6: =Cantidades!$D$21*8.4% -> 1.5293334e+09

Sheet Experiencia
G2: Proponente | H2: Requerimiento | N2: Cumplimiento
H3: VALOR TOTAL A ACREDITAR POR LOTE EXPERIENCIA TOTAL (50%) | J3: VALOR MÍNIMO A ACREDITAR POR LOTE EXPERIENCIA A (35%) | L3: VALOR MÍNIMO A ACREDITAR POR LOTE EXPERIENCIA B (5%) | N3: VALOR TOTAL A ACREDITAR POR LOTE EXPERIENCIA TOTAL (50%) | Q3: VALOR MÍNIMO A ACREDITAR POR LOTE EXPERIENCIA A (35%) | T3: VALOR MÍNIMO A ACREDITAR POR LOTE EXPERIENCIA B (5%)
H4: Lote 1 | I4: Lote 2 | J4: Lote 1 | K4: Lote 2 | L4: Lote 1 | M4: Lote 2 | N4: Lote 1 | O4: Lote 2 | P4: Lote 3 | Q4: Lote 1 | R4: Lote 2 | S4: Lote 3 | T4: Lote 1 | U4: Lote 2 | V4: Lote 3
A5: Proponente | B5: Experiencia A | C5: Experiencia B | G5: ASSA ABLOY | H5: =IF(Lote1Cal!AC7=1,Cantidades!D19*50%,0) -> 0 | I5: =IF(Lote2Cal!AC7=1,Cantidades!D20*50%,0) -> 1.0508798e+10 | J5: =IF(Lote1Cal!AC7=1,Cantidades!D19*35%,0) -> 0 | K5: =IF(Lote2Cal!AC7=1,Cantidades!D20*35%,0) -> 7.3561588e+09 | L5: =IF(Lote1Cal!AC7=1,Cantidades!D19*5%,0) -> 0 | M5: =IF(Lote2Cal!AC7=1,Cantidades!D20*5%,0) -> 1.0508798e+09 | N5: =IF(SUM(B6:B8)+C6>=H14,"Cumple","No Cumple") -> Cumple | O5: =IF(SUM(B6:B8)+C6-H5>=I14,"Cumple","No Cumple") -> Cumple | P5: =IF(SUM(B6:B8)+C7-H5-I5>=J14,"Cumple","No Cumple") -> Cumple | Q5: =IF(SUM(B6:B8)>=K14,"Cumple","No Cumple") -> Cumple | R5: =IF(SUM(B6:B8)-J5>=L14,"Cumple","No Cumple") -> Cumple | S5: =IF(SUM(B6:B8)-J5-K5>=M14,"Cumple","No Cumple") -> Cumple | T5: =IF(C6>=N14,"Cumple","No Cumple") -> Cumple | U5: =IF(C6-L5>=O14,"Cumple","No Cumple") -> Cumple | V5: =IF(C7>=P14,"Cumple","No Cumple") -> Cumple
A6: ASSA ABLOY | B6: 1.8356578e+10 | C6: 1.6817568e+09 | G6: CONSORC NAUTILUS | H6: =IF(Lote1Cal!AC8=1,Cantidades!D19*50%,0) -> 1.1888027e+10 | I6: =IF(Lote2Cal!AC8=1,Cantidades!D20*50%,0) -> 0 | J6: =IF(Lote1Cal!AC8=1,Cantidades!D19*35%,0) -> 8.3216186e+09 | K6: =IF(Lote2Cal!AC8=1,Cantidades!D20*35%,0) -> 0 | L6: =IF(Lote1Cal!AC8=1,Cantidades!D19*5%,0) -> 1.1888027e+09 | M6: =IF(Lote2Cal!AC8=1,Cantidades!D20*5%,0) -> 0 | N6: =IF(SUM(B11:B14)+C11>=H14,"Cumple","No Cumple") -> Cumple | O6: =IF(SUM(B11:B16)+C11-H6>=I14,"Cumple","No Cumple") -> No Cumple | P6: =IF(SUM(B11:B16)+C11-H6-I6>=J14,"Cumple","No Cumple") -> No Cumple | Q6: =IF(SUM(B11:B14)>=K14,"Cumple","No Cumple") -> Cumple | R6: =IF(SUM(B11:B16)-J6>=L14,"Cumple","No Cumple") -> Cumple | S6: =IF(SUM(B11:B16)-J6-K6>=M14,"Cumple","No Cumple") -> Cumple | T6: =IF(C11>=N14,"Cumple","No Cumple") -> Cumple | U6: =IF(C11-L6>=O14,"Cumple","No Cumple") -> Cumple | V6: =IF(C11-L6-M6>=P14,"Cumple","No Cumple") -> Cumple
B7: 1.7085225e+10 | C7: 1.8581247e+09
B8: 1.2872775e+10
A10: Proponente | B10: Experiencia A | C10: Experiencia B
A11: CONSORC NAUTILUS | B11: 8.242471e+09 | C11: 2.2542379e+09
B12: 2.0653814e+09 | H12: VALOR TOTAL A ACREDITAR POR LOTE EXPERIENCIA TOTAL (50%) | K12: VALOR MÍNIMO A ACREDITAR POR LOTE EXPERIENCIA A (35%) | N12: VALOR MÍNIMO A ACREDITAR POR LOTE EXPERIENCIA B (5%)
B13: 2.2267348e+09 | H13: Lote 1 | I13: Lote 2 | J13: Lote 3 | K13: Lote 1 | L13: Lote 2 | M13: Lote 3 | N13: Lote 1 | O13: Lote 2 | P13: Lote 3
B14: 2.7328312e+09 | H14: =Cantidades!D19*50% -> 1.1888027e+10 | I14: =Cantidades!D20*50% -> 1.0508798e+10 | J14: =Cantidades!D21*50% -> 9103175111 | K14: =Cantidades!D19*35% -> 8.3216186e+09 | L14: =Cantidades!D20*35% -> 7.3561588e+09 | M14: =Cantidades!D21*35% -> 6.3722226e+09 | N14: =Cantidades!D19*5% -> 1.1888027e+09 | O14: =Cantidades!D20*5% -> 1.0508798e+09 | P14: =Cantidades!D21*5% -> 9.1031751e+08
B15: 9.6462003e+08
B16: 8.9398813e+08

Sheet Orden de Adjudicación
B3: Orden de Adjudicación | C3: Lote
B4: 1 | C4: Lote 1
B5: 2 | C5: Lote 2
B6: 3 | C6: Lote 3

Sheet Lote 1
A2: FORMATO EVALUACIÓN ECONÓMICA
A4: 1 | B4: 2 | C4: 3 | D4: 4 | E4: 5 | F4: 6 | G4: 7 | H4: 8 | I4: 9 | J4: 10
A6: Lote
I7: DESCUENTO
B8: Nombre de Proponente | C8: SIP2HL: Suministro e instalación de puerta automática de 2 hojas. IVA Incluido | D8: SIP4HL: Suministro e instalación de puerta automática de 4 hojas. IVA Incluido | E8: SITSBL: Suministro de solución ITS y Botón de emergencia por estación. IVA Incluido | F8: TMMP2HL: Tarifa mes mantenimiento puerta automática de 2 hojas. IVA Incluido | G8: TMMP4HL: Tarifa mes mantenimiento puerta automática de 4 hojas. IVA Incluido | H8: TMMITSL: Tarifa mes mantenimiento solución ITS por estación. IVA Incluido | I8: PEL: Pago unitario por entrada a través de las puertas instaladas en el sistema durante el Mes. | J8: OEL: Nivel base de evasión en porcentaje, ofertado por el contratista en su propuesta.
A9: Texto | B9: Texto | C9: $ | D9: $ | E9: $ | F9: $ | G9: $ | H9: $ | I9: $ | J9: Porcentaje
A10: 1 | B10: ASSA ABLOY | C10: 32130000 | D10: 35003850 | E10: 5995220 | F10: 1400630 | G10: 1600550 | H10: 600950 | I10: 300 | J10: 0.0482
A11: 1 | B11: CONSORC NAUTILUS | C11: 30730016 | D11: 44895024 | E11: 25000000 | F11: 1419816 | G11: 1530303 | H11: 6644737 | I11: 1909 | J11: 0.0252
A12: 1
A13: 1
A14: 1
A15: 1
A16: 1
A17: 1
A18: 1
A19: 1
A20: 1
A21: 1
A22: 1

Sheet Lote 2
A2: FORMATO EVALUACIÓN ECONÓMICA
A4: 1 | B4: 2 | C4: 5 | D4: 7 | E4: 9 | F4: 11 | G4: 13 | H4: 15 | I4: 16 | J4: 17
A6: Lote
I7: DESCUENTO
B8: Nombre de Proponente | C8: SIP2HL: Suministro e instalación de puerta automática de 2 hojas. IVA Incluido | D8: SIP4HL: Suministro e instalación de puerta automática de 4 hojas. IVA Incluido | E8: SITSBL: Suministro de solución ITS y Botón de emergencia por estación. IVA Incluido | F8: TMMP2HL: Tarifa mes mantenimiento puerta automática de 2 hojas. IVA Incluido | G8: TMMP4HL: Tarifa mes mantenimiento puerta automática de 4 hojas. IVA Incluido | H8: TMMITSL: Tarifa mes mantenimiento solución ITS por estación. IVA Incluido | I8: PEL: Pago unitario por entrada a través de las puertas instaladas en el sistema durante el Mes. | J8: OEL: Nivel base de evasión en porcentaje, ofertado por el contratista en su propuesta.
A9: Texto | B9: Texto | C9: $ | D9: $ | E9: $ | F9: $ | G9: $ | H9: $ | I9: $ | J9: Porcentaje
A10: 2 | B10: ASSA ABLOY | C10: 32130000 | D10: 35003850 | E10: 5995220 | F10: 1400630 | G10: 1600550 | H10: 600950 | I10: 300 | J10: 0.0482
A11: 2 | B11: CONSORC NAUTILUS | C11: 34320988 | D11: 50442649 | E11: 25000000 | F11: 1762831 | G11: 1582183 | H11: 5246185 | I11: 2767 | J11: 0.0231
A12: 2
A13: 2
A14: 2
A15: 2
A16: 2
A17: 2
A18: 2
A19: 2
A20: 2
A21: 2
A22: 2

Sheet Lote 3
A2: FORMATO EVALUACIÓN ECONÓMICA
A4: 1 | B4: 2 | C4: 5 | D4: 7 | E4: 9 | F4: 11 | G4: 13 | H4: 15 | I4: 16 | J4: 17
A6: Lote
I7: DESCUENTO
B8: Nombre de Proponente | C8: SIP2HL: Suministro e instalación de puerta automática de 2 hojas. IVA Incluido | D8: SIP4HL: Suministro e instalación de puerta automática de 4 hojas. IVA Incluido | E8: SITSBL: Suministro de solución ITS y Botón de emergencia por estación. IVA Incluido | F8: TMMP2HL: Tarifa mes mantenimiento puerta automática de 2 hojas. IVA Incluido | G8: TMMP4HL: Tarifa mes mantenimiento puerta automática de 4 hojas. IVA Incluido | H8: TMMITSL: Tarifa mes mantenimiento solución ITS por estación. IVA Incluido | I8: PEL: Pago unitario por entrada a través de las puertas instaladas en el sistema durante el Mes. | J8: OEL: Nivel base de evasión en porcentaje, ofertado por el contratista en su propuesta.
A9: Texto | B9: Texto | C9: $ | D9: $ | E9: $ | F9: $ | G9: $ | H9: $ | I9: $ | J9: Porcentaje
A10: 3 | B10: ASSA ABLOY | C10: 32130000 | D10: 35003850 | E10: 5995220 | F10: 1400630 | G10: 1600550 | H10: 600950 | I10: 300 | J10: 0.0482
A11: 3 | B11: CONSORC NAUTILUS | C11: 31841300 | D11: 46723117 | E11: 25000000 | F11: 1475432 | G11: 1586270 | H11: 6846006 | I11: 2897 | J11: 0.0251
A12: 3
A13: 3
A14: 3
A15: 3
A16: 3
A17: 3
A18: 3
A19: 3
A20: 3
A21: 3
A22: 3

Sheet Cantidades
B2: No | C2: Lote | D2: CANTP2H | E2: CANTP4H | F2: CANTEstaciones | G2: NEMT | H2: VAL
B3: 1 | C3: Lote 1 | D3: 156 | E3: 110 | F3: 8 | G3: 215735 | H3: 4178060 | J3: gmant | K3: 0.0446
B4: 2 | C4: Lote 2 | D4: 124 | E4: 105 | F4: 10 | G4: 119645 | H4: 2317117 | J4: gevasion | K4: 0.0603
B5: 3 | C5: Lote 3 | D5: 116 | E5: 82 | F5: 6 | G5: 105412 | H5: 2041471
C6: Total | D6: 396 | E6: 297 | F6: 24 | G6: 440792 | H6: 8536648
B11: No | C11: Lote | D11: VPSistemaEST
B12: 1 | C12: Lote 1 | D12: 22736895008
B13: 2 | C13: Lote 2 | D13: 19839968841
B14: 3 | C14: Lote 3 | D14: 16927578740
B17: Valor a acreditar
B18: No | C18: Lote | D18: PRESUPUESTO OFICIAL
B19: 1 | C19: Lote 1 | D19: 23776053249
B20: 2 | C20: Lote 2 | D20: 21017596529
B21: 3 | C21: Lote 3 | D21: 18206350222

Sheet Lote1Cal
A2: Archivo de evaluación
A5: Lote | B5: Nombre de Proponente | C5: SIP2HL: Suministro e instalación de puerta automática de 2 hojas. IVA Incluido | D5: SIP4HL: Suministro e instalación de puerta automática de 4 hojas. IVA Incluido | E5: SITSBL: Suministro de solución ITS y Botón de emergencia por estación. IVA Incluido | F5: TMMP2HL: Tarifa mes mantenimiento puerta automática de 2 hojas. IVA Incluido | G5: TMMP4HL: Tarifa mes mantenimiento puerta automática de 4 hojas. IVA Incluido | H5: TMMITSL: Tarifa mes mantenimiento solución ITS por estación. IVA Incluido | I5: PEL: Pago unitario por entrada a través de las puertas instaladas en el sistema durante el Mes. | J5: OEL: Nivel base de evasión en porcentaje, ofertado por el contratista en su propuesta. | K5: Capacidad | L5: VPSum | M5: VPMant | N5: PPE | O5: Verificación PE y OE | P5: VPSistema | Q5: Verificar VPMant | R5: Verificación del Valor Presente Neto | S5: VP Bajo | T5: Se requiere Aclaración | U5: Resultado Aclaración | V5: Listado de Propuestas Habilitadas | W5: Listado de Propuestas Definitivas | X5: Asignación de Puntaje Económico | Y5: MVS | Z5: IN | AA5: DI | AB5: Asignación de Puntaje Propuesta Definitiva | AC5: Determinación del Orden de Elegibilidad Final
A6: Texto | B6: Texto | C6: $ | D6: $ | E6: $ | F6: $ | G6: $ | H6: $ | I6: $ | J6: Porcentaje | K6: Texto | L6: $ | M6: $ | N6: $ | O6: Texto | P6: $ | Q6: Texto | R6: Texto | S6: Texto | T6: Texto | U6: Texto | V6: Texto | W6: Texto | X6: Número | Y6: Número | Z6: Número | AA6: Número | AB6: Número | AC6: Número
A7: 1 | B7: ='Lote 1'!B10 -> ASSA ABLOY | C7: ='Lote 1'!C10 -> 32130000 | D7: ='Lote 1'!D10 -> 35003850 | E7: ='Lote 1'!E10 -> 5995220 | F7: ='Lote 1'!F10 -> 1400630 | G7: ='Lote 1'!G10 -> 1600550 | H7: ='Lote 1'!H10 -> 600950 | I7: ='Lote 1'!I10 -> 300 | J7: ='Lote 1'!J10 -> 0.0482 | K7: =AnálisisCapacidad!P5 -> Si tiene capacidad | L7: =VLOOKUP(A7,Cantidades!$B$3:$H$5,3,0)*Lote1Cal!C7+VLOOKUP(A7,Cantidades!$B$3:$H$5,4,0)*D7+VLOOKUP(A7,Cantidades!$B$3:$H$5,5,0)*E7 -> 8910665260 | M7: =(VLOOKUP(A7,Cantidades!$B$3:$H$5,3,0)*Lote1Cal!F7+VLOOKUP(A7,Cantidades!$B$3:$H$5,4,0)*G7+VLOOKUP(A7,Cantidades!$B$3:$H$5,5,0)*H7)/Cantidades!$K$3 -> 8.9544031e+09 | N7: =(I7*(VLOOKUP(A7,Cantidades!$B$3:$H$5,6,0)-(VLOOKUP(A7,Cantidades!$B$3:$H$5,7,0)*J7)/(1-J7)))/Cantidades!$K$4 -> 20668255 | O7: =IF(AND('Lote 1'!I10>=250,'Lote 1'!J10<4.91),"Cumple","No Cumple") -> Cumple | P7: =IF(AND(O7="Cumple",K7="Si tiene capacidad"),L7+M7-MIN(N7,VLOOKUP(A7,Cantidades!$B$12:$D$14,3,0)*15%),"No Cumple") -> 1.78444e+10 | Q7: =IF(AND(O7="Cumple",P7<>"No Cumple"),IF(M7>=(L7+M7)*50%,"Cumple","No Cumple"),"No Cumple") -> Cumple | R7: =IF(Q7="Cumple",IF((L7+M7)<=VLOOKUP(A7,Cantidades!$B$12:$D$14,3,0),"Cumple","No Cumple"),"No Cumple") -> Cumple | S7: =IF(R7="No Cumple","Rechazada",IF((L7+M7)<VLOOKUP(A7,VPBajo!$C$3:$H$5,6,0),IF(U7="No Satisfactoria","Rechazada","Cumple"),"Cumple")) -> Cumple | T7: =IF(R7="No Cumple","Rechazada",IF((L7+M7)<VLOOKUP(A7,VPBajo!$C$3:$H$5,6,0),"Si","No")) -> No | U7: No Necesaria | V7: =IF(S7="Cumple","Habilitada","Rechazada") -> Habilitada | W7: =IF(V7="Habilitada","Definitiva","Rechazada") -> Definitiva | X7: =IF(W7="Rechazada","Rechazada",(VLOOKUP(A7,Cantidades!$B$12:$D$14,3,0)-Lote1Cal!P7)/(VLOOKUP(A7,Cantidades!$B$12:$D$14,3,0)-MIN(Lote1Cal!$P$7:$P$19))*72) -> 56.068653 | Y7: 17 | Z7: 7 | AA7: 0 | AB7: =IF(W7="Definitiva",ROUND(SUM(X7:AA7),7),"Rechazada") -> 80.068652 | AC7: =IFERROR(_xlfn.RANK.EQ(AB7,$AB$7:$AB$19,0),"") -> 2
A8: 1 | B8: ='Lote 1'!B11 -> CONSORC NAUTILUS | C8: ='Lote 1'!C11 -> 30730016 | D8: ='Lote 1'!D11 -> 44895024 | E8: ='Lote 1'!E11 -> 25000000 | F8: ='Lote 1'!F11 -> 1419816 | G8: ='Lote 1'!G11 -> 1530303 | H8: ='Lote 1'!H11 -> 6644737 | I8: ='Lote 1'!I11 -> 1909 | J8: ='Lote 1'!J11 -> 0.0252 | K8: =AnálisisCapacidad!P6 -> Si tiene capacidad | L8: =VLOOKUP(A8,Cantidades!$B$3:$H$5,3,0)*Lote1Cal!C8+VLOOKUP(A8,Cantidades!$B$3:$H$5,4,0)*D8+VLOOKUP(A8,Cantidades!$B$3:$H$5,5,0)*E8 -> 9932335136 | M8: =(VLOOKUP(A8,Cantidades!$B$3:$H$5,3,0)*Lote1Cal!F8+VLOOKUP(A8,Cantidades!$B$3:$H$5,4,0)*G8+VLOOKUP(A8,Cantidades!$B$3:$H$5,5,0)*H8)/Cantidades!$K$3 -> 9.9323435e+09 | N8: =(I8*(VLOOKUP(A8,Cantidades!$B$3:$H$5,6,0)-(VLOOKUP(A8,Cantidades!$B$3:$H$5,7,0)*J8)/(1-J8)))/Cantidades!$K$4 -> 3.4104321e+09 | O8: =IF(AND('Lote 1'!I11>=250,'Lote 1'!J11<4.91),"Cumple","No Cumple") -> Cumple | P8: =IF(AND(O8="Cumple",K8="Si tiene capacidad"),L8+M8-MIN(N8,VLOOKUP(A8,Cantidades!$B$12:$D$14,3,0)*15%),"No Cumple") -> 1.6454247e+10 | Q8: =IF(AND(O8="Cumple",P8<>"No Cumple"),IF(M8>=(L8+M8)*50%,"Cumple","No Cumple"),"No Cumple") -> Cumple | R8: =IF(Q8="Cumple",IF((L8+M8)<=VLOOKUP(A8,Cantidades!$B$12:$D$14,3,0),"Cumple","No Cumple"),"No Cumple") -> Cumple | S8: =IF(R8="No Cumple","Rechazada",IF((L8+M8)<VLOOKUP(A8,VPBajo!$C$3:$H$5,6,0),IF(U8="No Satisfactoria","Rechazada","Cumple"),"Cumple")) -> Cumple | T8: =IF(R8="No Cumple","Rechazada",IF((L8+M8)<VLOOKUP(A8,VPBajo!$C$3:$H$5,6,0),"Si","No")) -> No | U8: No Necesaria | V8: =IF(S8="Cumple","Habilitada","Rechazada") -> Habilitada | W8: =IF(V8="Habilitada","Definitiva","Rechazada") -> Definitiva | X8: =IF(W8="Rechazada","Rechazada",(VLOOKUP(A8,Cantidades!$B$12:$D$14,3,0)-Lote1Cal!P8)/(VLOOKUP(A8,Cantidades!$B$12:$D$14,3,0)-MIN(Lote1Cal!$P$7:$P$19))*72) -> 72 | Y8: 17 | Z8: 10 | AA8: 1 | AB8: =IF(W8="Definitiva",ROUND(SUM(X8:AA8),7),"Rechazada") -> 100 | AC8: =IFERROR(_xlfn.RANK.EQ(AB8,$AB$7:$AB$19,0),"") -> 1
A9: 1 | B9: ='Lote 1'!B12 -> 0 | C9: ='Lote 1'!C12 -> 0 | D9: ='Lote 1'!D12 -> 0 | E9: ='Lote 1'!E12 -> 0 | F9: ='Lote 1'!F12 -> 0 | G9: ='Lote 1'!G12 -> 0 | H9: ='Lote 1'!H12 -> 0 | I9: ='Lote 1'!I12 -> 0 | J9: ='Lote 1'!J12 -> 0 | K9: =AnálisisCapacidad!P7 -> 0 | L9: =VLOOKUP(A9,Cantidades!$B$3:$H$5,3,0)*Lote1Cal!C9+VLOOKUP(A9,Cantidades!$B$3:$H$5,4,0)*D9+VLOOKUP(A9,Cantidades!$B$3:$H$5,5,0)*E9 -> 0 | M9: =(VLOOKUP(A9,Cantidades!$B$3:$H$5,3,0)*Lote1Cal!F9+VLOOKUP(A9,Cantidades!$B$3:$H$5,4,0)*G9+VLOOKUP(A9,Cantidades!$B$3:$H$5,5,0)*H9)/Cantidades!$K$3 -> 0 | N9: =(I9*(VLOOKUP(A9,Cantidades!$B$3:$H$5,6,0)-(VLOOKUP(A9,Cantidades!$B$3:$H$5,7,0)*J9)/(1-J9)))/Cantidades!$K$4 -> 0 | O9: =IF(AND('Lote 1'!I12>=250,'Lote 1'!J12<4.91),"Cumple","No Cumple") -> No Cumple | P9: =IF(AND(O9="Cumple",K9="Si tiene capacidad"),L9+M9-MIN(N9,VLOOKUP(A9,Cantidades!$B$12:$D$14,3,0)*15%),"No Cumple") -> No Cumple | Q9: =IF(AND(O9="Cumple",P9<>"No Cumple"),IF(M9>=(L9+M9)*50%,"Cumple","No Cumple"),"No Cumple") -> No Cumple | R9: =IF(Q9="Cumple",IF((L9+M9)<=VLOOKUP(A9,Cantidades!$B$12:$D$14,3,0),"Cumple","No Cumple"),"No Cumple") -> No Cumple | S9: =IF(R9="No Cumple","Rechazada",IF((L9+M9)<VLOOKUP(A9,VPBajo!$C$3:$H$5,6,0),IF(U9="No Satisfactoria","Rechazada","Cumple"),"Cumple")) -> Rechazada | T9: =IF(R9="No Cumple","Rechazada",IF((L9+M9)<VLOOKUP(A9,VPBajo!$C$3:$H$5,6,0),"Si","No")) -> Rechazada | U9: No Necesaria | V9: =IF(S9="Cumple","Habilitada","Rechazada") -> Rechazada | W9: =IF(V9="Habilitada","Definitiva","Rechazada") -> Rechazada | X9: =IF(W9="Rechazada","Rechazada",(VLOOKUP(A9,Cantidades!$B$12:$D$14,3,0)-Lote1Cal!P9)/(VLOOKUP(A9,Cantidades!$B$12:$D$14,3,0)-MIN(Lote1Cal!$P$7:$P$19))*72) -> Rechazada | AB9: =IF(W9="Definitiva",ROUND(SUM(X9:AA9),7),"Rechazada") -> Rechazada | AC9: =IFERROR(_xlfn.RANK.EQ(AB9,$AB$7:$AB$19,0),"")
A10: 1 | B10: ='Lote 1'!B13 -> 0 | C10: ='Lote 1'!C13 -> 0 | D10: ='Lote 1'!D13 -> 0 | E10: ='Lote 1'!E13 -> 0 | F10: ='Lote 1'!F13 -> 0 | G10: ='Lote 1'!G13 -> 0 | H10: ='Lote 1'!H13 -> 0 | I10: ='Lote 1'!I13 -> 0 | J10: ='Lote 1'!J13 -> 0 | K10: =AnálisisCapacidad!P8 -> 0 | L10: =VLOOKUP(A10,Cantidades!$B$3:$H$5,3,0)*Lote1Cal!C10+VLOOKUP(A10,Cantidades!$B$3:$H$5,4,0)*D10+VLOOKUP(A10,Cantidades!$B$3:$H$5,5,0)*E10 -> 0 | M10: =(VLOOKUP(A10,Cantidades!$B$3:$H$5,3,0)*Lote1Cal!F10+VLOOKUP(A10,Cantidades!$B$3:$H$5,4,0)*G10+VLOOKUP(A10,Cantidades!$B$3:$H$5,5,0)*H10)/Cantidades!$K$3 -> 0 | N10: =(I10*(VLOOKUP(A10,Cantidades!$B$3:$H$5,6,0)-(VLOOKUP(A10,Cantidades!$B$3:$H$5,7,0)*J10)/(1-J10)))/Cantidades!$K$4 -> 0 | O10: =IF(AND('Lote 1'!I13>=250,'Lote 1'!J13<4.91),"Cumple","No Cumple") -> No Cumple | P10: =IF(AND(O10="Cumple",K10="Si tiene capacidad"),L10+M10-MIN(N10,VLOOKUP(A10,Cantidades!$B$12:$D$14,3,0)*15%),"No Cumple") -> No Cumple | Q10: =IF(AND(O10="Cumple",P10<>"No Cumple"),IF(M10>=(L10+M10)*50%,"Cumple","No Cumple"),"No Cumple") -> No Cumple | R10: =IF(Q10="Cumple",IF((L10+M10)<=VLOOKUP(A10,Cantidades!$B$12:$D$14,3,0),"Cumple","No Cumple"),"No Cumple") -> No Cumple | S10: =IF(R10="No Cumple","Rechazada",IF((L10+M10)<VLOOKUP(A10,VPBajo!$C$3:$H$5,6,0),IF(U10="No Satisfactoria","Rechazada","Cumple"),"Cumple")) -> Rechazada | T10: =IF(R10="No Cumple","Rechazada",IF((L10+M10)<VLOOKUP(A10,VPBajo!$C$3:$H$5,6,0),"Si","No")) -> Rechazada | U10: No Necesaria | V10: =IF(S10="Cumple","Habilitada","Rechazada") -> Rechazada | W10: =IF(V10="Habilitada","Definitiva","Rechazada") -> Rechazada | X10: =IF(W10="Rechazada","Rechazada",(VLOOKUP(A10,Cantidades!$B$12:$D$14,3,0)-Lote1Cal!P10)/(VLOOKUP(A10,Cantidades!$B$12:$D$14,3,0)-MIN(Lote1Cal!$P$7:$P$19))*72) -> Rechazada | AB10: =IF(W10="Definitiva",ROUND(SUM(X10:AA10),7),"Rechazada") -> Rechazada | AC10: =IFERROR(_xlfn.RANK.EQ(AB10,$AB$7:$AB$19,0),"")
A11: 1 | B11: ='Lote 1'!B14 -> 0 | C11: ='Lote 1'!C14 -> 0 | D11: ='Lote 1'!D14 -> 0 | E11: ='Lote 1'!E14 -> 0 | F11: ='Lote 1'!F14 -> 0 | G11: ='Lote 1'!G14 -> 0 | H11: ='Lote 1'!H14 -> 0 | I11: ='Lote 1'!I14 -> 0 | J11: ='Lote 1'!J14 -> 0 | K11: =AnálisisCapacidad!P9 -> 0 | L11: =VLOOKUP(A11,Cantidades!$B$3:$H$5,3,0)*Lote1Cal!C11+VLOOKUP(A11,Cantidades!$B$3:$H$5,4,0)*D11+VLOOKUP(A11,Cantidades!$B$3:$H$5,5,0)*E11 -> 0 | M11: =(VLOOKUP(A11,Cantidades!$B$3:$H$5,3,0)*Lote1Cal!F11+VLOOKUP(A11,Cantidades!$B$3:$H$5,4,0)*G11+VLOOKUP(A11,Cantidades!$B$3:$H$5,5,0)*H11)/Cantidades!$K$3 -> 0 | N11: =(I11*(VLOOKUP(A11,Cantidades!$B$3:$H$5,6,0)-(VLOOKUP(A11,Cantidades!$B$3:$H$5,7,0)*J11)/(1-J11)))/Cantidades!$K$4 -> 0 | O11: =IF(AND('Lote 1'!I14>=250,'Lote 1'!J14<4.91),"Cumple","No Cumple") -> No Cumple | P11: =IF(AND(O11="Cumple",K11="Si tiene capacidad"),L11+M11-MIN(N11,VLOOKUP(A11,Cantidades!$B$12:$D$14,3,0)*15%),"No Cumple") -> No Cumple | Q11: =IF(AND(O11="Cumple",P11<>"No Cumple"),IF(M11>=(L11+M11)*50%,"Cumple","No Cumple"),"No Cumple") -> No Cumple | R11: =IF(Q11="Cumple",IF((L11+M11)<=VLOOKUP(A11,Cantidades!$B$12:$D$14,3,0),"Cumple","No Cumple"),"No Cumple") -> No Cumple | S11: =IF(R11="No Cumple","Rechazada",IF((L11+M11)<VLOOKUP(A11,VPBajo!$C$3:$H$5,6,0),IF(U11="No Satisfactoria","Rechazada","Cumple"),"Cumple")) -> Rechazada | T11: =IF(R11="No Cumple","Rechazada",IF((L11+M11)<VLOOKUP(A11,VPBajo!$C$3:$H$5,6,0),"Si","No")) -> Rechazada | U11: No Necesaria | V11: =IF(S11="Cumple","Habilitada","Rechazada") -> Rechazada | W11: =IF(V11="Habilitada","Definitiva","Rechazada") -> Rechazada | X11: =IF(W11="Rechazada","Rechazada",(VLOOKUP(A11,Cantidades!$B$12:$D$14,3,0)-Lote1Cal!P11)/(VLOOKUP(A11,Cantidades!$B$12:$D$14,3,0)-MIN(Lote1Cal!$P$7:$P$19))*72) -> Rechazada | AB11: =IF(W11="Definitiva",ROUND(SUM(X11:AA11),7),"Rechazada") -> Rechazada | AC11: =IFERROR(_xlfn.RANK.EQ(AB11,$AB$7:$AB$19,0),"")
A12: 1 | B12: ='Lote 1'!B15 -> 0 | C12: ='Lote 1'!C15 -> 0 | D12: ='Lote 1'!D15 -> 0 | E12: ='Lote 1'!E15 -> 0 | F12: ='Lote 1'!F15 -> 0 | G12: ='Lote 1'!G15 -> 0 | H12: ='Lote 1'!H15 -> 0 | I12: ='Lote 1'!I15 -> 0 | J12: ='Lote 1'!J15 -> 0 | K12: =AnálisisCapacidad!P10 -> 0 | L12: =VLOOKUP(A12,Cantidades!$B$3:$H$5,3,0)*Lote1Cal!C12+VLOOKUP(A12,Cantidades!$B$3:$H$5,4,0)*D12+VLOOKUP(A12,Cantidades!$B$3:$H$5,5,0)*E12 -> 0 | M12: =(VLOOKUP(A12,Cantidades!$B$3:$H$5,3,0)*Lote1Cal!F12+VLOOKUP(A12,Cantidades!$B$3:$H$5,4,0)*G12+VLOOKUP(A12,Cantidades!$B$3:$H$5,5,0)*H12)/Cantidades!$K$3 -> 0 | N12: =(I12*(VLOOKUP(A12,Cantidades!$B$3:$H$5,6,0)-(VLOOKUP(A12,Cantidades!$B$3:$H$5,7,0)*J12)/(1-J12)))/Cantidades!$K$4 -> 0 | O12: =IF(AND('Lote 1'!I15>=250,'Lote 1'!J15<4.91),"Cumple","No Cumple") -> No Cumple | P12: =IF(AND(O12="Cumple",K12="Si tiene capacidad"),L12+M12-MIN(N12,VLOOKUP(A12,Cantidades!$B$12:$D$14,3,0)*15%),"No Cumple") -> No Cumple | Q12: =IF(AND(O12="Cumple",P12<>"No Cumple"),IF(M12>=(L12+M12)*50%,"Cumple","No Cumple"),"No Cumple") -> No Cumple | R12: =IF(Q12="Cumple",IF((L12+M12)<=VLOOKUP(A12,Cantidades!$B$12:$D$14,3,0),"Cumple","No Cumple"),"No Cumple") -> No Cumple | S12: =IF(R12="No Cumple","Rechazada",IF((L12+M12)<VLOOKUP(A12,VPBajo!$C$3:$H$5,6,0),IF(U12="No Satisfactoria","Rechazada","Cumple"),"Cumple")) -> Rechazada | T12: =IF(R12="No Cumple","Rechazada",IF((L12+M12)<VLOOKUP(A12,VPBajo!$C$3:$H$5,6,0),"Si","No")) -> Rechazada | U12: No Necesaria | V12: =IF(S12="Cumple","Habilitada","Rechazada") -> Rechazada | W12: =IF(V12="Habilitada","Definitiva","Rechazada") -> Rechazada | X12: =IF(W12="Rechazada","Rechazada",(VLOOKUP(A12,Cantidades!$B$12:$D$14,3,0)-Lote1Cal!P12)/(VLOOKUP(A12,Cantidades!$B$12:$D$14,3,0)-MIN(Lote1Cal!$P$7:$P$19))*72) -> Rechazada | AB12: =IF(W12="Definitiva",ROUND(SUM(X12:AA12),7),"Rechazada") -> Rechazada | AC12: =IFERROR(_xlfn.RANK.EQ(AB12,$AB$7:$AB$19,0),"")
A13: 1 | B13: ='Lote 1'!B16 -> 0 | C13: ='Lote 1'!C16 -> 0 | D13: ='Lote 1'!D16 -> 0 | E13: ='Lote 1'!E16 -> 0 | F13: ='Lote 1'!F16 -> 0 | G13: ='Lote 1'!G16 -> 0 | H13: ='Lote 1'!H16 -> 0 | I13: ='Lote 1'!I16 -> 0 | J13: ='Lote 1'!J16 -> 0 | K13: =AnálisisCapacidad!P11 -> 0 | L13: =VLOOKUP(A13,Cantidades!$B$3:$H$5,3,0)*Lote1Cal!C13+VLOOKUP(A13,Cantidades!$B$3:$H$5,4,0)*D13+VLOOKUP(A13,Cantidades!$B$3:$H$5,5,0)*E13 -> 0 | M13: =(VLOOKUP(A13,Cantidades!$B$3:$H$5,3,0)*Lote1Cal!F13+VLOOKUP(A13,Cantidades!$B$3:$H$5,4,0)*G13+VLOOKUP(A13,Cantidades!$B$3:$H$5,5,0)*H13)/Cantidades!$K$3 -> 0 | N13: =(I13*(VLOOKUP(A13,Cantidades!$B$3:$H$5,6,0)-(VLOOKUP(A13,Cantidades!$B$3:$H$5,7,0)*J13)/(1-J13)))/Cantidades!$K$4 -> 0 | O13: =IF(AND('Lote 1'!I16>=250,'Lote 1'!J16<4.91),"Cumple","No Cumple") -> No Cumple | P13: =IF(AND(O13="Cumple",K13="Si tiene capacidad"),L13+M13-MIN(N13,VLOOKUP(A13,Cantidades!$B$12:$D$14,3,0)*15%),"No Cumple") -> No Cumple | Q13: =IF(AND(O13="Cumple",P13<>"No Cumple"),IF(M13>=(L13+M13)*50%,"Cumple","No Cumple"),"No Cumple") -> No Cumple | R13: =IF(Q13="Cumple",IF((L13+M13)<=VLOOKUP(A13,Cantidades!$B$12:$D$14,3,0),"Cumple","No Cumple"),"No Cumple") -> No Cumple | S13: =IF(R13="No Cumple","Rechazada",IF((L13+M13)<VLOOKUP(A13,VPBajo!$C$3:$H$5,6,0),IF(U13="No Satisfactoria","Rechazada","Cumple"),"Cumple")) -> Rechazada | T13: =IF(R13="No Cumple","Rechazada",IF((L13+M13)<VLOOKUP(A13,VPBajo!$C$3:$H$5,6,0),"Si","No")) -> Rechazada | U13: No Necesaria | V13: =IF(S13="Cumple","Habilitada","Rechazada") -> Rechazada | W13: =IF(V13="Habilitada","Definitiva","Rechazada") -> Rechazada | X13: =IF(W13="Rechazada","Rechazada",(VLOOKUP(A13,Cantidades!$B$12:$D$14,3,0)-Lote1Cal!P13)/(VLOOKUP(A13,Cantidades!$B$12:$D$14,3,0)-MIN(Lote1Cal!$P$7:$P$19))*72) -> Rechazada | AB13: =IF(W13="Definitiva",ROUND(SUM(X13:AA13),7),"Rechazada") -> Rechazada | AC13: =IFERROR(_xlfn.RANK.EQ(AB13,$AB$7:$AB$19,0),"")
A14: 1 | B14: ='Lote 1'!B17 -> 0 | C14: ='Lote 1'!C17 -> 0 | D14: ='Lote 1'!D17 -> 0 | E14: ='Lote 1'!E17 -> 0 | F14: ='Lote 1'!F17 -> 0 | G14: ='Lote 1'!G17 -> 0 | H14: ='Lote 1'!H17 -> 0 | I14: ='Lote 1'!I17 -> 0 | J14: ='Lote 1'!J17 -> 0 | K14: =AnálisisCapacidad!P12 -> 0 | L14: =VLOOKUP(A14,Cantidades!$B$3:$H$5,3,0)*Lote1Cal!C14+VLOOKUP(A14,Cantidades!$B$3:$H$5,4,0)*D14+VLOOKUP(A14,Cantidades!$B$3:$H$5,5,0)*E14 -> 0 | M14: =(VLOOKUP(A14,Cantidades!$B$3:$H$5,3,0)*Lote1Cal!F14+VLOOKUP(A14,Cantidades!$B$3:$H$5,4,0)*G14+VLOOKUP(A14,Cantidades!$B$3:$H$5,5,0)*H14)/Cantidades!$K$3 -> 0 | N14: =(I14*(VLOOKUP(A14,Cantidades!$B$3:$H$5,6,0)-(VLOOKUP(A14,Cantidades!$B$3:$H$5,7,0)*J14)/(1-J14)))/Cantidades!$K$4 -> 0 | O14: =IF(AND('Lote 1'!I17>=250,'Lote 1'!J17<4.91),"Cumple","No Cumple") -> No Cumple | P14: =IF(AND(O14="Cumple",K14="Si tiene capacidad"),L14+M14-MIN(N14,VLOOKUP(A14,Cantidades!$B$12:$D$14,3,0)*15%),"No Cumple") -> No Cumple | Q14: =IF(AND(O14="Cumple",P14<>"No Cumple"),IF(M14>=(L14+M14)*50%,"Cumple","No Cumple"),"No Cumple") -> No Cumple | R14: =IF(Q14="Cumple",IF((L14+M14)<=VLOOKUP(A14,Cantidades!$B$12:$D$14,3,0),"Cumple","No Cumple"),"No Cumple") -> No Cumple | S14: =IF(R14="No Cumple","Rechazada",IF((L14+M14)<VLOOKUP(A14,VPBajo!$C$3:$H$5,6,0),IF(U14="No Satisfactoria","Rechazada","Cumple"),"Cumple")) -> Rechazada | T14: =IF(R14="No Cumple","Rechazada",IF((L14+M14)<VLOOKUP(A14,VPBajo!$C$3:$H$5,6,0),"Si","No")) -> Rechazada | U14: No Necesaria | V14: =IF(S14="Cumple","Habilitada","Rechazada") -> Rechazada | W14: =IF(V14="Habilitada","Definitiva","Rechazada") -> Rechazada | X14: =IF(W14="Rechazada","Rechazada",(VLOOKUP(A14,Cantidades!$B$12:$D$14,3,0)-Lote1Cal!P14)/(VLOOKUP(A14,Cantidades!$B$12:$D$14,3,0)-MIN(Lote1Cal!$P$7:$P$19))*72) -> Rechazada | AB14: =IF(W14="Definitiva",ROUND(SUM(X14:AA14),7),"Rechazada") -> Rechazada | AC14: =IFERROR(_xlfn.RANK.EQ(AB14,$AB$7:$AB$19,0),"")
A15: 1 | B15: ='Lote 1'!B18 -> 0 | C15: ='Lote 1'!C18 -> 0 | D15: ='Lote 1'!D18 -> 0 | E15: ='Lote 1'!E18 -> 0 | F15: ='Lote 1'!F18 -> 0 | G15: ='Lote 1'!G18 -> 0 | H15: ='Lote 1'!H18 -> 0 | I15: ='Lote 1'!I18 -> 0 | J15: ='Lote 1'!J18 -> 0 | K15: =AnálisisCapacidad!P13 -> 0 | L15: =VLOOKUP(A15,Cantidades!$B$3:$H$5,3,0)*Lote1Cal!C15+VLOOKUP(A15,Cantidades!$B$3:$H$5,4,0)*D15+VLOOKUP(A15,Cantidades!$B$3:$H$5,5,0)*E15 -> 0 | M15: =(VLOOKUP(A15,Cantidades!$B$3:$H$5,3,0)*Lote1Cal!F15+VLOOKUP(A15,Cantidades!$B$3:$H$5,4,0)*G15+VLOOKUP(A15,Cantidades!$B$3:$H$5,5,0)*H15)/Cantidades!$K$3 -> 0 | N15: =(I15*(VLOOKUP(A15,Cantidades!$B$3:$H$5,6,0)-(VLOOKUP(A15,Cantidades!$B$3:$H$5,7,0)*J15)/(1-J15)))/Cantidades!$K$4 -> 0 | O15: =IF(AND('Lote 1'!I18>=250,'Lote 1'!J18<4.91),"Cumple","No Cumple") -> No Cumple | P15: =IF(AND(O15="Cumple",K15="Si tiene capacidad"),L15+M15-MIN(N15,VLOOKUP(A15,Cantidades!$B$12:$D$14,3,0)*15%),"No Cumple") -> No Cumple | Q15: =IF(AND(O15="Cumple",P15<>"No Cumple"),IF(M15>=(L15+M15)*50%,"Cumple","No Cumple"),"No Cumple") -> No Cumple | R15: =IF(Q15="Cumple",IF((L15+M15)<=VLOOKUP(A15,Cantidades!$B$12:$D$14,3,0),"Cumple","No Cumple"),"No Cumple") -> No Cumple | S15: =IF(R15="No Cumple","Rechazada",IF((L15+M15)<VLOOKUP(A15,VPBajo!$C$3:$H$5,6,0),IF(U15="No Satisfactoria","Rechazada","Cumple"),"Cumple")) -> Rechazada | T15: =IF(R15="No Cumple","Rechazada",IF((L15+M15)<VLOOKUP(A15,VPBajo!$C$3:$H$5,6,0),"Si","No")) -> Rechazada | U15: No Necesaria | V15: =IF(S15="Cumple","Habilitada","Rechazada") -> Rechazada | W15: =IF(V15="Habilitada","Definitiva","Rechazada") -> Rechazada | X15: =IF(W15="Rechazada","Rechazada",(VLOOKUP(A15,Cantidades!$B$12:$D$14,3,0)-Lote1Cal!P15)/(VLOOKUP(A15,Cantidades!$B$12:$D$14,3,0)-MIN(Lote1Cal!$P$7:$P$19))*72) -> Rechazada | AB15: =IF(W15="Definitiva",ROUND(SUM(X15:AA15),7),"Rechazada") -> Rechazada | AC15: =IFERROR(_xlfn.RANK.EQ(AB15,$AB$7:$AB$19,0),"")
A16: 1 | B16: ='Lote 1'!B19 -> 0 | C16: ='Lote 1'!C19 -> 0 | D16: ='Lote 1'!D19 -> 0 | E16: ='Lote 1'!E19 -> 0 | F16: ='Lote 1'!F19 -> 0 | G16: ='Lote 1'!G19 -> 0 | H16: ='Lote 1'!H19 -> 0 | I16: ='Lote 1'!I19 -> 0 | J16: ='Lote 1'!J19 -> 0 | K16: =AnálisisCapacidad!P14 -> 0 | L16: =VLOOKUP(A16,Cantidades!$B$3:$H$5,3,0)*Lote1Cal!C16+VLOOKUP(A16,Cantidades!$B$3:$H$5,4,0)*D16+VLOOKUP(A16,Cantidades!$B$3:$H$5,5,0)*E16 -> 0 | M16: =(VLOOKUP(A16,Cantidades!$B$3:$H$5,3,0)*Lote1Cal!F16+VLOOKUP(A16,Cantidades!$B$3:$H$5,4,0)*G16+VLOOKUP(A16,Cantidades!$B$3:$H$5,5,0)*H16)/Cantidades!$K$3 -> 0 | N16: =(I16*(VLOOKUP(A16,Cantidades!$B$3:$H$5,6,0)-(VLOOKUP(A16,Cantidades!$B$3:$H$5,7,0)*J16)/(1-J16)))/Cantidades!$K$4 -> 0 | O16: =IF(AND('Lote 1'!I19>=250,'Lote 1'!J19<4.91),"Cumple","No Cumple") -> No Cumple | P16: =IF(AND(O16="Cumple",K16="Si tiene capacidad"),L16+M16-MIN(N16,VLOOKUP(A16,Cantidades!$B$12:$D$14,3,0)*15%),"No Cumple") -> No Cumple | Q16: =IF(AND(O16="Cumple",P16<>"No Cumple"),IF(M16>=(L16+M16)*50%,"Cumple","No Cumple"),"No Cumple") -> No Cumple | R16: =IF(Q16="Cumple",IF((L16+M16)<=VLOOKUP(A16,Cantidades!$B$12:$D$14,3,0),"Cumple","No Cumple"),"No Cumple") -> No Cumple | S16: =IF(R16="No Cumple","Rechazada",IF((L16+M16)<VLOOKUP(A16,VPBajo!$C$3:$H$5,6,0),IF(U16="No Satisfactoria","Rechazada","Cumple"),"Cumple")) -> Rechazada | T16: =IF(R16="No Cumple","Rechazada",IF((L16+M16)<VLOOKUP(A16,VPBajo!$C$3:$H$5,6,0),"Si","No")) -> Rechazada | U16: No Necesaria | V16: =IF(S16="Cumple","Habilitada","Rechazada") -> Rechazada | W16: =IF(V16="Habilitada","Definitiva","Rechazada") -> Rechazada | X16: =IF(W16="Rechazada","Rechazada",(VLOOKUP(A16,Cantidades!$B$12:$D$14,3,0)-Lote1Cal!P16)/(VLOOKUP(A16,Cantidades!$B$12:$D$14,3,0)-MIN(Lote1Cal!$P$7:$P$19))*72) -> Rechazada | AB16: =IF(W16="Definitiva",ROUND(SUM(X16:AA16),7),"Rechazada") -> Rechazada | AC16: =IFERROR(_xlfn.RANK.EQ(AB16,$AB$7:$AB$19,0),"")
A17: 1 | B17: ='Lote 1'!B20 -> 0 | C17: ='Lote 1'!C20 -> 0 | D17: ='Lote 1'!D20 -> 0 | E17: ='Lote 1'!E20 -> 0 | F17: ='Lote 1'!F20 -> 0 | G17: ='Lote 1'!G20 -> 0 | H17: ='Lote 1'!H20 -> 0 | I17: ='Lote 1'!I20 -> 0 | J17: ='Lote 1'!J20 -> 0 | K17: =AnálisisCapacidad!P15 -> 0 | L17: =VLOOKUP(A17,Cantidades!$B$3:$H$5,3,0)*Lote1Cal!C17+VLOOKUP(A17,Cantidades!$B$3:$H$5,4,0)*D17+VLOOKUP(A17,Cantidades!$B$3:$H$5,5,0)*E17 -> 0 | M17: =(VLOOKUP(A17,Cantidades!$B$3:$H$5,3,0)*Lote1Cal!F17+VLOOKUP(A17,Cantidades!$B$3:$H$5,4,0)*G17+VLOOKUP(A17,Cantidades!$B$3:$H$5,5,0)*H17)/Cantidades!$K$3 -> 0 | N17: =(I17*(VLOOKUP(A17,Cantidades!$B$3:$H$5,6,0)-(VLOOKUP(A17,Cantidades!$B$3:$H$5,7,0)*J17)/(1-J17)))/Cantidades!$K$4 -> 0 | O17: =IF(AND('Lote 1'!I20>=250,'Lote 1'!J20<4.91),"Cumple","No Cumple") -> No Cumple | P17: =IF(AND(O17="Cumple",K17="Si tiene capacidad"),L17+M17-MIN(N17,VLOOKUP(A17,Cantidades!$B$12:$D$14,3,0)*15%),"No Cumple") -> No Cumple | Q17: =IF(AND(O17="Cumple",P17<>"No Cumple"),IF(M17>=(L17+M17)*50%,"Cumple","No Cumple"),"No Cumple") -> No Cumple | R17: =IF(Q17="Cumple",IF((L17+M17)<=VLOOKUP(A17,Cantidades!$B$12:$D$14,3,0),"Cumple","No Cumple"),"No Cumple") -> No Cumple | S17: =IF(R17="No Cumple","Rechazada",IF((L17+M17)<VLOOKUP(A17,VPBajo!$C$3:$H$5,6,0),IF(U17="No Satisfactoria","Rechazada","Cumple"),"Cumple")) -> Rechazada | T17: =IF(R17="No Cumple","Rechazada",IF((L17+M17)<VLOOKUP(A17,VPBajo!$C$3:$H$5,6,0),"Si","No")) -> Rechazada | U17: No Necesaria | V17: =IF(S17="Cumple","Habilitada","Rechazada") -> Rechazada | W17: =IF(V17="Habilitada","Definitiva","Rechazada") -> Rechazada | X17: =IF(W17="Rechazada","Rechazada",(VLOOKUP(A17,Cantidades!$B$12:$D$14,3,0)-Lote1Cal!P17)/(VLOOKUP(A17,Cantidades!$B$12:$D$14,3,0)-MIN(Lote1Cal!$P$7:$P$19))*72) -> Rechazada | AB17: =IF(W17="Definitiva",ROUND(SUM(X17:AA17),7),"Rechazada") -> Rechazada | AC17: =IFERROR(_xlfn.RANK.EQ(AB17,$AB$7:$AB$19,0),"")
A18: 1 | B18: ='Lote 1'!B21 -> 0 | C18: ='Lote 1'!C21 -> 0 | D18: ='Lote 1'!D21 -> 0 | E18: ='Lote 1'!E21 -> 0 | F18: ='Lote 1'!F21 -> 0 | G18: ='Lote 1'!G21 -> 0 | H18: ='Lote 1'!H21 -> 0 | I18: ='Lote 1'!I21 -> 0 | J18: ='Lote 1'!J21 -> 0 | K18: =AnálisisCapacidad!P16 -> 0 | L18: =VLOOKUP(A18,Cantidades!$B$3:$H$5,3,0)*Lote1Cal!C18+VLOOKUP(A18,Cantidades!$B$3:$H$5,4,0)*D18+VLOOKUP(A18,Cantidades!$B$3:$H$5,5,0)*E18 -> 0 | M18: =(VLOOKUP(A18,Cantidades!$B$3:$H$5,3,0)*Lote1Cal!F18+VLOOKUP(A18,Cantidades!$B$3:$H$5,4,0)*G18+VLOOKUP(A18,Cantidades!$B$3:$H$5,5,0)*H18)/Cantidades!$K$3 -> 0 | N18: =(I18*(VLOOKUP(A18,Cantidades!$B$3:$H$5,6,0)-(VLOOKUP(A18,Cantidades!$B$3:$H$5,7,0)*J18)/(1-J18)))/Cantidades!$K$4 -> 0 | O18: =IF(AND('Lote 1'!I21>=250,'Lote 1'!J21<4.91),"Cumple","No Cumple") -> No Cumple | P18: =IF(AND(O18="Cumple",K18="Si tiene capacidad"),L18+M18-MIN(N18,VLOOKUP(A18,Cantidades!$B$12:$D$14,3,0)*15%),"No Cumple") -> No Cumple | Q18: =IF(AND(O18="Cumple",P18<>"No Cumple"),IF(M18>=(L18+M18)*50%,"Cumple","No Cumple"),"No Cumple") -> No Cumple | R18: =IF(Q18="Cumple",IF((L18+M18)<=VLOOKUP(A18,Cantidades!$B$12:$D$14,3,0),"Cumple","No Cumple"),"No Cumple") -> No Cumple | S18: =IF(R18="No Cumple","Rechazada",IF((L18+M18)<VLOOKUP(A18,VPBajo!$C$3:$H$5,6,0),IF(U18="No Satisfactoria","Rechazada","Cumple"),"Cumple")) -> Rechazada | T18: =IF(R18="No Cumple","Rechazada",IF((L18+M18)<VLOOKUP(A18,VPBajo!$C$3:$H$5,6,0),"Si","No")) -> Rechazada | U18: No Necesaria | V18: =IF(S18="Cumple","Habilitada","Rechazada") -> Rechazada | W18: =IF(V18="Habilitada","Definitiva","Rechazada") -> Rechazada | X18: =IF(W18="Rechazada","Rechazada",(VLOOKUP(A18,Cantidades!$B$12:$D$14,3,0)-Lote1Cal!P18)/(VLOOKUP(A18,Cantidades!$B$12:$D$14,3,0)-MIN(Lote1Cal!$P$7:$P$19))*72) -> Rechazada | AB18: =IF(W18="Definitiva",ROUND(SUM(X18:AA18),7),"Rechazada") -> Rechazada | AC18: =IFERROR(_xlfn.RANK.EQ(AB18,$AB$7:$AB$19,0),"")
A19: 1 | B19: ='Lote 1'!B22 -> 0 | C19: ='Lote 1'!C22 -> 0 | D19: ='Lote 1'!D22 -> 0 | E19: ='Lote 1'!E22 -> 0 | F19: ='Lote 1'!F22 -> 0 | G19: ='Lote 1'!G22 -> 0 | H19: ='Lote 1'!H22 -> 0 | I19: ='Lote 1'!I22 -> 0 | J19: ='Lote 1'!J22 -> 0 | K19: =AnálisisCapacidad!P17 -> 0 | L19: =VLOOKUP(A19,Cantidades!$B$3:$H$5,3,0)*Lote1Cal!C19+VLOOKUP(A19,Cantidades!$B$3:$H$5,4,0)*D19+VLOOKUP(A19,Cantidades!$B$3:$H$5,5,0)*E19 -> 0 | M19: =(VLOOKUP(A19,Cantidades!$B$3:$H$5,3,0)*Lote1Cal!F19+VLOOKUP(A19,Cantidades!$B$3:$H$5,4,0)*G19+VLOOKUP(A19,Cantidades!$B$3:$H$5,5,0)*H19)/Cantidades!$K$3 -> 0 | N19: =(I19*(VLOOKUP(A19,Cantidades!$B$3:$H$5,6,0)-(VLOOKUP(A19,Cantidades!$B$3:$H$5,7,0)*J19)/(1-J19)))/Cantidades!$K$4 -> 0 | O19: =IF(AND('Lote 1'!I22>=250,'Lote 1'!J22<4.91),"Cumple","No Cumple") -> No Cumple | P19: =IF(AND(O19="Cumple",K19="Si tiene capacidad"),L19+M19-MIN(N19,VLOOKUP(A19,Cantidades!$B$12:$D$14,3,0)*15%),"No Cumple") -> No Cumple | Q19: =IF(AND(O19="Cumple",P19<>"No Cumple"),IF(M19>=(L19+M19)*50%,"Cumple","No Cumple"),"No Cumple") -> No Cumple | R19: =IF(Q19="Cumple",IF((L19+M19)<=VLOOKUP(A19,Cantidades!$B$12:$D$14,3,0),"Cumple","No Cumple"),"No Cumple") -> No Cumple | S19: =IF(R19="No Cumple","Rechazada",IF((L19+M19)<VLOOKUP(A19,VPBajo!$C$3:$H$5,6,0),IF(U19="No Satisfactoria","Rechazada","Cumple"),"Cumple")) -> Rechazada | T19: =IF(R19="No Cumple","Rechazada",IF((L19+M19)<VLOOKUP(A19,VPBajo!$C$3:$H$5,6,0),"Si","No")) -> Rechazada | U19: No Necesaria | V19: =IF(S19="Cumple","Habilitada","Rechazada") -> Rechazada | W19: =IF(V19="Habilitada","Definitiva","Rechazada") -> Rechazada | X19: =IF(W19="Rechazada","Rechazada",(VLOOKUP(A19,Cantidades!$B$12:$D$14,3,0)-Lote1Cal!P19)/(VLOOKUP(A19,Cantidades!$B$12:$D$14,3,0)-MIN(Lote1Cal!$P$7:$P$19))*72) -> Rechazada | AB19: =IF(W19="Definitiva",ROUND(SUM(X19:AA19),7),"Rechazada") -> Rechazada | AC19: =IFERROR(_xlfn.RANK.EQ(AB19,$AB$7:$AB$19,0),"")

Sheet Lote2Cal
A2: Archivo de evaluación
A5: Lote | B5: Nombre de Proponente | C5: SIP2HL: Suministro e instalación de puerta automática de 2 hojas. IVA Incluido | D5: SIP4HL: Suministro e instalación de puerta automática de 4 hojas. IVA Incluido | E5: SITSBL: Suministro de solución ITS y Botón de emergencia por estación. IVA Incluido | F5: TMMP2HL: Tarifa mes mantenimiento puerta automática de 2 hojas. IVA Incluido | G5: TMMP4HL: Tarifa mes mantenimiento puerta automática de 4 hojas. IVA Incluido | H5: TMMITSL: Tarifa mes mantenimiento solución ITS por estación. IVA Incluido | I5: PEL: Pago unitario por entrada a través de las puertas instaladas en el sistema durante el Mes. | J5: OEL: Nivel base de evasión en porcentaje, ofertado por el contratista en su propuesta. | K5: Capacidad | L5: VPSum | M5: VPMant | N5: PPE | O5: Verificación PE y OE | P5: VPSistema | Q5: Verificar VPMant | R5: Verificación del Valor Presente Neto | S5: VP Bajo | T5: Se requiere Aclaración | U5: Resultado Aclaración | V5: Listado de Propuestas Habilitadas | W5: Listado de Propuestas Definitivas | X5: Asignación de Puntaje Económico | Y5: MVS | Z5: IN | AA5: DI | AB5: Asignación de Puntaje Propuesta Definitiva | AC5: Determinación del Orden de Elegibilidad Final
A6: Texto | B6: Texto | C6: $ | D6: $ | E6: $ | F6: $ | G6: $ | H6: $ | I6: $ | J6: Porcentaje | K6: Texto | L6: $ | M6: $ | N6: $ | O6: Texto | P6: $ | Q6: Texto | R6: Texto | S6: Texto | T6: Texto | U6: Texto | V6: Texto | W6: Texto | X6: Número | Y6: Número | Z6: Número | AA6: Número | AB6: Número | AC6: Número
A7: 2 | B7: ='Lote 2'!B10 -> ASSA ABLOY | C7: ='Lote 2'!C10 -> 32130000 | D7: ='Lote 2'!D10 -> 35003850 | E7: ='Lote 2'!E10 -> 5995220 | F7: ='Lote 2'!F10 -> 1400630 | G7: ='Lote 2'!G10 -> 1600550 | H7: ='Lote 2'!H10 -> 600950 | I7: ='Lote 2'!I10 -> 300 | J7: ='Lote 2'!J10 -> 0.0482 | K7: =AnálisisCapacidad!Q5 -> Si tiene capacidad | L7: =VLOOKUP(A7,Cantidades!$B$3:$H$5,3,0)*Lote2Cal!C7+VLOOKUP(A7,Cantidades!$B$3:$H$5,4,0)*D7+VLOOKUP(A7,Cantidades!$B$3:$H$5,5,0)*E7 -> 7719476450 | M7: =(VLOOKUP(A7,Cantidades!$B$3:$H$5,3,0)*Lote2Cal!F7+VLOOKUP(A7,Cantidades!$B$3:$H$5,4,0)*G7+VLOOKUP(A7,Cantidades!$B$3:$H$5,5,0)*H7)/Cantidades!$K$3 -> 7.7969814e+09 | N7: =(I7*(VLOOKUP(A7,Cantidades!$B$3:$H$5,6,0)-(VLOOKUP(A7,Cantidades!$B$3:$H$5,7,0)*J7)/(1-J7)))/Cantidades!$K$4 -> 11463337 | O7: =IF(AND('Lote 2'!I10>=250,'Lote 2'!J10<4.91),"Cumple","No Cumple") -> Cumple | P7: =IF(AND(O7="Cumple",K7="Si tiene capacidad"),L7+M7-MIN(N7,VLOOKUP(A7,Cantidades!$B$12:$D$14,3,0)*15%),"No Cumple") -> 1.5504995e+10 | Q7: =IF(AND(O7="Cumple",P7<>"No Cumple"),IF(M7>=(L7+M7)*50%,"Cumple","No Cumple"),"No Cumple") -> Cumple | R7: =IF(Q7="Cumple",IF((L7+M7)<=VLOOKUP(A7,Cantidades!$B$12:$D$14,3,0),"Cumple","No Cumple"),"No Cumple") -> Cumple | S7: =IF(R7="No Cumple","Rechazada",IF((L7+M7)<VLOOKUP(A7,VPBajo!$C$3:$H$5,6,0),IF(U7="No Satisfactoria","Rechazada","Cumple"),"Cumple")) -> Cumple | T7: =IF(R7="No Cumple","Rechazada",IF((L7+M7)<VLOOKUP(A7,VPBajo!$C$3:$H$5,6,0),"Si","No")) -> No | U7: No Necesaria | V7: =IF(S7="Cumple","Habilitada","Rechazada") -> Habilitada | W7: =IF(V7="Habilitada","Definitiva","Rechazada") -> Definitiva | X7: =IF(W7="Rechazada","Rechazada",(VLOOKUP(A7,Cantidades!$B$12:$D$14,3,0)-Lote2Cal!P7)/(VLOOKUP(A7,Cantidades!$B$12:$D$14,3,0)-MIN(Lote2Cal!$P$7:$P$19))*72) -> 72 | Y7: 17 | Z7: 7 | AA7: 0 | AB7: =IF(W7="Definitiva",ROUND(SUM(X7:AA7),7),"Rechazada") -> 96 | AC7: =IFERROR(_xlfn.RANK.EQ(AB7,$AB$7:$AB$19,0),"") -> 1
A8: 2 | B8: ='Lote 2'!B11 -> CONSORC NAUTILUS | C8: ='Lote 2'!C11 -> 34320988 | D8: ='Lote 2'!D11 -> 50442649 | E8: ='Lote 2'!E11 -> 25000000 | F8: ='Lote 2'!F11 -> 1762831 | G8: ='Lote 2'!G11 -> 1582183 | H8: ='Lote 2'!H11 -> 5246185 | I8: ='Lote 2'!I11 -> 2767 | J8: ='Lote 2'!J11 -> 0.0231 | K8: =AnálisisCapacidad!Q6 -> No tiene capacidad | L8: =VLOOKUP(A8,Cantidades!$B$3:$H$5,3,0)*Lote2Cal!C8+VLOOKUP(A8,Cantidades!$B$3:$H$5,4,0)*D8+VLOOKUP(A8,Cantidades!$B$3:$H$5,5,0)*E8 -> 9802280657 | M8: =(VLOOKUP(A8,Cantidades!$B$3:$H$5,3,0)*Lote2Cal!F8+VLOOKUP(A8,Cantidades!$B$3:$H$5,4,0)*G8+VLOOKUP(A8,Cantidades!$B$3:$H$5,5,0)*H8)/Cantidades!$K$3 -> 9.8022894e+09 | N8: =(I8*(VLOOKUP(A8,Cantidades!$B$3:$H$5,6,0)-(VLOOKUP(A8,Cantidades!$B$3:$H$5,7,0)*J8)/(1-J8)))/Cantidades!$K$4 -> 2.9759669e+09 | O8: =IF(AND('Lote 2'!I11>=250,'Lote 2'!J11<4.91),"Cumple","No Cumple") -> Cumple | P8: =IF(AND(O8="Cumple",K8="Si tiene capacidad"),L8+M8-MIN(N8,VLOOKUP(A8,Cantidades!$B$12:$D$14,3,0)*15%),"No Cumple") -> No Cumple | Q8: =IF(AND(O8="Cumple",P8<>"No Cumple"),IF(M8>=(L8+M8)*50%,"Cumple","No Cumple"),"No Cumple") -> No Cumple | R8: =IF(Q8="Cumple",IF((L8+M8)<=VLOOKUP(A8,Cantidades!$B$12:$D$14,3,0),"Cumple","No Cumple"),"No Cumple") -> No Cumple | S8: =IF(R8="No Cumple","Rechazada",IF((L8+M8)<VLOOKUP(A8,VPBajo!$C$3:$H$5,6,0),IF(U8="No Satisfactoria","Rechazada","Cumple"),"Cumple")) -> Rechazada | T8: =IF(R8="No Cumple","Rechazada",IF((L8+M8)<VLOOKUP(A8,VPBajo!$C$3:$H$5,6,0),"Si","No")) -> Rechazada | U8: No Necesaria | V8: =IF(S8="Cumple","Habilitada","Rechazada") -> Rechazada | W8: =IF(V8="Habilitada","Definitiva","Rechazada") -> Rechazada | X8: =IF(W8="Rechazada","Rechazada",(VLOOKUP(A8,Cantidades!$B$12:$D$14,3,0)-Lote2Cal!P8)/(VLOOKUP(A8,Cantidades!$B$12:$D$14,3,0)-MIN(Lote2Cal!$P$7:$P$19))*72) -> Rechazada | Y8: 17 | Z8: 10 | AA8: 1 | AB8: =IF(W8="Definitiva",ROUND(SUM(X8:AA8),7),"Rechazada") -> Rechazada | AC8: =IFERROR(_xlfn.RANK.EQ(AB8,$AB$7:$AB$19,0),"")
A9: 2 | B9: ='Lote 2'!B12 -> 0 | C9: ='Lote 2'!C12 -> 0 | D9: ='Lote 2'!D12 -> 0 | E9: ='Lote 2'!E12 -> 0 | F9: ='Lote 2'!F12 -> 0 | G9: ='Lote 2'!G12 -> 0 | H9: ='Lote 2'!H12 -> 0 | I9: ='Lote 2'!I12 -> 0 | J9: ='Lote 2'!J12 -> 0 | K9: =AnálisisCapacidad!Q7 -> 0 | L9: =VLOOKUP(A9,Cantidades!$B$3:$H$5,3,0)*Lote2Cal!C9+VLOOKUP(A9,Cantidades!$B$3:$H$5,4,0)*D9+VLOOKUP(A9,Cantidades!$B$3:$H$5,5,0)*E9 -> 0 | M9: =(VLOOKUP(A9,Cantidades!$B$3:$H$5,3,0)*Lote2Cal!F9+VLOOKUP(A9,Cantidades!$B$3:$H$5,4,0)*G9+VLOOKUP(A9,Cantidades!$B$3:$H$5,5,0)*H9)/Cantidades!$K$3 -> 0 | N9: =(I9*(VLOOKUP(A9,Cantidades!$B$3:$H$5,6,0)-(VLOOKUP(A9,Cantidades!$B$3:$H$5,7,0)*J9)/(1-J9)))/Cantidades!$K$4 -> 0 | O9: =IF(AND('Lote 2'!I12>=250,'Lote 2'!J12<4.91),"Cumple","No Cumple") -> No Cumple | P9: =IF(AND(O9="Cumple",K9="Si tiene capacidad"),L9+M9-MIN(N9,VLOOKUP(A9,Cantidades!$B$12:$D$14,3,0)*15%),"No Cumple") -> No Cumple | Q9: =IF(AND(O9="Cumple",P9<>"No Cumple"),IF(M9>=(L9+M9)*50%,"Cumple","No Cumple"),"No Cumple") -> No Cumple | R9: =IF(Q9="Cumple",IF((L9+M9)<=VLOOKUP(A9,Cantidades!$B$12:$D$14,3,0),"Cumple","No Cumple"),"No Cumple") -> No Cumple | S9: =IF(R9="No Cumple","Rechazada",IF((L9+M9)<VLOOKUP(A9,VPBajo!$C$3:$H$5,6,0),IF(U9="No Satisfactoria","Rechazada","Cumple"),"Cumple")) -> Rechazada | T9: =IF(R9="No Cumple","Rechazada",IF((L9+M9)<VLOOKUP(A9,VPBajo!$C$3:$H$5,6,0),"Si","No")) -> Rechazada | U9: No Necesaria | V9: =IF(S9="Cumple","Habilitada","Rechazada") -> Rechazada | W9: =IF(V9="Habilitada","Definitiva","Rechazada") -> Rechazada | X9: =IF(W9="Rechazada","Rechazada",(VLOOKUP(A9,Cantidades!$B$12:$D$14,3,0)-Lote2Cal!P9)/(VLOOKUP(A9,Cantidades!$B$12:$D$14,3,0)-MIN(Lote2Cal!$P$7:$P$19))*72) -> Rechazada | AB9: =IF(W9="Definitiva",ROUND(SUM(X9:AA9),7),"Rechazada") -> Rechazada | AC9: =IFERROR(_xlfn.RANK.EQ(AB9,$AB$7:$AB$19,0),"")
A10: 2 | B10: ='Lote 2'!B13 -> 0 | C10: ='Lote 2'!C13 -> 0 | D10: ='Lote 2'!D13 -> 0 | E10: ='Lote 2'!E13 -> 0 | F10: ='Lote 2'!F13 -> 0 | G10: ='Lote 2'!G13 -> 0 | H10: ='Lote 2'!H13 -> 0 | I10: ='Lote 2'!I13 -> 0 | J10: ='Lote 2'!J13 -> 0 | K10: =AnálisisCapacidad!Q8 -> 0 | L10: =VLOOKUP(A10,Cantidades!$B$3:$H$5,3,0)*Lote2Cal!C10+VLOOKUP(A10,Cantidades!$B$3:$H$5,4,0)*D10+VLOOKUP(A10,Cantidades!$B$3:$H$5,5,0)*E10 -> 0 | M10: =(VLOOKUP(A10,Cantidades!$B$3:$H$5,3,0)*Lote2Cal!F10+VLOOKUP(A10,Cantidades!$B$3:$H$5,4,0)*G10+VLOOKUP(A10,Cantidades!$B$3:$H$5,5,0)*H10)/Cantidades!$K$3 -> 0 | N10: =(I10*(VLOOKUP(A10,Cantidades!$B$3:$H$5,6,0)-(VLOOKUP(A10,Cantidades!$B$3:$H$5,7,0)*J10)/(1-J10)))/Cantidades!$K$4 -> 0 | O10: =IF(AND('Lote 2'!I13>=250,'Lote 2'!J13<4.91),"Cumple","No Cumple") -> No Cumple | P10: =IF(AND(O10="Cumple",K10="Si tiene capacidad"),L10+M10-MIN(N10,VLOOKUP(A10,Cantidades!$B$12:$D$14,3,0)*15%),"No Cumple") -> No Cumple | Q10: =IF(AND(O10="Cumple",P10<>"No Cumple"),IF(M10>=(L10+M10)*50%,"Cumple","No Cumple"),"No Cumple") -> No Cumple | R10: =IF(Q10="Cumple",IF((L10+M10)<=VLOOKUP(A10,Cantidades!$B$12:$D$14,3,0),"Cumple","No Cumple"),"No Cumple") -> No Cumple | S10: =IF(R10="No Cumple","Rechazada",IF((L10+M10)<VLOOKUP(A10,VPBajo!$C$3:$H$5,6,0),IF(U10="No Satisfactoria","Rechazada","Cumple"),"Cumple")) -> Rechazada | T10: =IF(R10="No Cumple","Rechazada",IF((L10+M10)<VLOOKUP(A10,VPBajo!$C$3:$H$5,6,0),"Si","No")) -> Rechazada | U10: No Necesaria | V10: =IF(S10="Cumple","Habilitada","Rechazada") -> Rechazada | W10: =IF(V10="Habilitada","Definitiva","Rechazada") -> Rechazada | X10: =IF(W10="Rechazada","Rechazada",(VLOOKUP(A10,Cantidades!$B$12:$D$14,3,0)-Lote2Cal!P10)/(VLOOKUP(A10,Cantidades!$B$12:$D$14,3,0)-MIN(Lote2Cal!$P$7:$P$19))*72) -> Rechazada | AB10: =IF(W10="Definitiva",ROUND(SUM(X10:AA10),7),"Rechazada") -> Rechazada | AC10: =IFERROR(_xlfn.RANK.EQ(AB10,$AB$7:$AB$19,0),"")
A11: 2 | B11: ='Lote 2'!B14 -> 0 | C11: ='Lote 2'!C14 -> 0 | D11: ='Lote 2'!D14 -> 0 | E11: ='Lote 2'!E14 -> 0 | F11: ='Lote 2'!F14 -> 0 | G11: ='Lote 2'!G14 -> 0 | H11: ='Lote 2'!H14 -> 0 | I11: ='Lote 2'!I14 -> 0 | J11: ='Lote 2'!J14 -> 0 | K11: =AnálisisCapacidad!Q9 -> 0 | L11: =VLOOKUP(A11,Cantidades!$B$3:$H$5,3,0)*Lote2Cal!C11+VLOOKUP(A11,Cantidades!$B$3:$H$5,4,0)*D11+VLOOKUP(A11,Cantidades!$B$3:$H$5,5,0)*E11 -> 0 | M11: =(VLOOKUP(A11,Cantidades!$B$3:$H$5,3,0)*Lote2Cal!F11+VLOOKUP(A11,Cantidades!$B$3:$H$5,4,0)*G11+VLOOKUP(A11,Cantidades!$B$3:$H$5,5,0)*H11)/Cantidades!$K$3 -> 0 | N11: =(I11*(VLOOKUP(A11,Cantidades!$B$3:$H$5,6,0)-(VLOOKUP(A11,Cantidades!$B$3:$H$5,7,0)*J11)/(1-J11)))/Cantidades!$K$4 -> 0 | O11: =IF(AND('Lote 2'!I14>=250,'Lote 2'!J14<4.91),"Cumple","No Cumple") -> No Cumple | P11: =IF(AND(O11="Cumple",K11="Si tiene capacidad"),L11+M11-MIN(N11,VLOOKUP(A11,Cantidades!$B$12:$D$14,3,0)*15%),"No Cumple") -> No Cumple | Q11: =IF(AND(O11="Cumple",P11<>"No Cumple"),IF(M11>=(L11+M11)*50%,"Cumple","No Cumple"),"No Cumple") -> No Cumple | R11: =IF(Q11="Cumple",IF((L11+M11)<=VLOOKUP(A11,Cantidades!$B$12:$D$14,3,0),"Cumple","No Cumple"),"No Cumple") -> No Cumple | S11: =IF(R11="No Cumple","Rechazada",IF((L11+M11)<VLOOKUP(A11,VPBajo!$C$3:$H$5,6,0),IF(U11="No Satisfactoria","Rechazada","Cumple"),"Cumple")) -> Rechazada | T11: =IF(R11="No Cumple","Rechazada",IF((L11+M11)<VLOOKUP(A11,VPBajo!$C$3:$H$5,6,0),"Si","No")) -> Rechazada | U11: No Necesaria | V11: =IF(S11="Cumple","Habilitada","Rechazada") -> Rechazada | W11: =IF(V11="Habilitada","Definitiva","Rechazada") -> Rechazada | X11: =IF(W11="Rechazada","Rechazada",(VLOOKUP(A11,Cantidades!$B$12:$D$14,3,0)-Lote2Cal!P11)/(VLOOKUP(A11,Cantidades!$B$12:$D$14,3,0)-MIN(Lote2Cal!$P$7:$P$19))*72) -> Rechazada | AB11: =IF(W11="Definitiva",ROUND(SUM(X11:AA11),7),"Rechazada") -> Rechazada | AC11: =IFERROR(_xlfn.RANK.EQ(AB11,$AB$7:$AB$19,0),"")
A12: 2 | B12: ='Lote 2'!B15 -> 0 | C12: ='Lote 2'!C15 -> 0 | D12: ='Lote 2'!D15 -> 0 | E12: ='Lote 2'!E15 -> 0 | F12: ='Lote 2'!F15 -> 0 | G12: ='Lote 2'!G15 -> 0 | H12: ='Lote 2'!H15 -> 0 | I12: ='Lote 2'!I15 -> 0 | J12: ='Lote 2'!J15 -> 0 | K12: =AnálisisCapacidad!Q10 -> 0 | L12: =VLOOKUP(A12,Cantidades!$B$3:$H$5,3,0)*Lote2Cal!C12+VLOOKUP(A12,Cantidades!$B$3:$H$5,4,0)*D12+VLOOKUP(A12,Cantidades!$B$3:$H$5,5,0)*E12 -> 0 | M12: =(VLOOKUP(A12,Cantidades!$B$3:$H$5,3,0)*Lote2Cal!F12+VLOOKUP(A12,Cantidades!$B$3:$H$5,4,0)*G12+VLOOKUP(A12,Cantidades!$B$3:$H$5,5,0)*H12)/Cantidades!$K$3 -> 0 | N12: =(I12*(VLOOKUP(A12,Cantidades!$B$3:$H$5,6,0)-(VLOOKUP(A12,Cantidades!$B$3:$H$5,7,0)*J12)/(1-J12)))/Cantidades!$K$4 -> 0 | O12: =IF(AND('Lote 2'!I15>=250,'Lote 2'!J15<4.91),"Cumple","No Cumple") -> No Cumple | P12: =IF(AND(O12="Cumple",K12="Si tiene capacidad"),L12+M12-MIN(N12,VLOOKUP(A12,Cantidades!$B$12:$D$14,3,0)*15%),"No Cumple") -> No Cumple | Q12: =IF(AND(O12="Cumple",P12<>"No Cumple"),IF(M12>=(L12+M12)*50%,"Cumple","No Cumple"),"No Cumple") -> No Cumple | R12: =IF(Q12="Cumple",IF((L12+M12)<=VLOOKUP(A12,Cantidades!$B$12:$D$14,3,0),"Cumple","No Cumple"),"No Cumple") -> No Cumple | S12: =IF(R12="No Cumple","Rechazada",IF((L12+M12)<VLOOKUP(A12,VPBajo!$C$3:$H$5,6,0),IF(U12="No Satisfactoria","Rechazada","Cumple"),"Cumple")) -> Rechazada | T12: =IF(R12="No Cumple","Rechazada",IF((L12+M12)<VLOOKUP(A12,VPBajo!$C$3:$H$5,6,0),"Si","No")) -> Rechazada | U12: No Necesaria | V12: =IF(S12="Cumple","Habilitada","Rechazada") -> Rechazada | W12: =IF(V12="Habilitada","Definitiva","Rechazada") -> Rechazada | X12: =IF(W12="Rechazada","Rechazada",(VLOOKUP(A12,Cantidades!$B$12:$D$14,3,0)-Lote2Cal!P12)/(VLOOKUP(A12,Cantidades!$B$12:$D$14,3,0)-MIN(Lote2Cal!$P$7:$P$19))*72) -> Rechazada | AB12: =IF(W12="Definitiva",ROUND(SUM(X12:AA12),7),"Rechazada") -> Rechazada | AC12: =IFERROR(_xlfn.RANK.EQ(AB12,$AB$7:$AB$19,0),"")
A13: 2 | B13: ='Lote 2'!B16 -> 0 | C13: ='Lote 2'!C16 -> 0 | D13: ='Lote 2'!D16 -> 0 | E13: ='Lote 2'!E16 -> 0 | F13: ='Lote 2'!F16 -> 0 | G13: ='Lote 2'!G16 -> 0 | H13: ='Lote 2'!H16 -> 0 | I13: ='Lote 2'!I16 -> 0 | J13: ='Lote 2'!J16 -> 0 | K13: =AnálisisCapacidad!Q11 -> 0 | L13: =VLOOKUP(A13,Cantidades!$B$3:$H$5,3,0)*Lote2Cal!C13+VLOOKUP(A13,Cantidades!$B$3:$H$5,4,0)*D13+VLOOKUP(A13,Cantidades!$B$3:$H$5,5,0)*E13 -> 0 | M13: =(VLOOKUP(A13,Cantidades!$B$3:$H$5,3,0)*Lote2Cal!F13+VLOOKUP(A13,Cantidades!$B$3:$H$5,4,0)*G13+VLOOKUP(A13,Cantidades!$B$3:$H$5,5,0)*H13)/Cantidades!$K$3 -> 0 | N13: =(I13*(VLOOKUP(A13,Cantidades!$B$3:$H$5,6,0)-(VLOOKUP(A13,Cantidades!$B$3:$H$5,7,0)*J13)/(1-J13)))/Cantidades!$K$4 -> 0 | O13: =IF(AND('Lote 2'!I16>=250,'Lote 2'!J16<4.91),"Cumple","No Cumple") -> No Cumple | P13: =IF(AND(O13="Cumple",K13="Si tiene capacidad"),L13+M13-MIN(N13,VLOOKUP(A13,Cantidades!$B$12:$D$14,3,0)*15%),"No Cumple") -> No Cumple | Q13: =IF(AND(O13="Cumple",P13<>"No Cumple"),IF(M13>=(L13+M13)*50%,"Cumple","No Cumple"),"No Cumple") -> No Cumple | R13: =IF(Q13="Cumple",IF((L13+M13)<=VLOOKUP(A13,Cantidades!$B$12:$D$14,3,0),"Cumple","No Cumple"),"No Cumple") -> No Cumple | S13: =IF(R13="No Cumple","Rechazada",IF((L13+M13)<VLOOKUP(A13,VPBajo!$C$3:$H$5,6,0),IF(U13="No Satisfactoria","Rechazada","Cumple"),"Cumple")) -> Rechazada | T13: =IF(R13="No Cumple","Rechazada",IF((L13+M13)<VLOOKUP(A13,VPBajo!$C$3:$H$5,6,0),"Si","No")) -> Rechazada | U13: No Necesaria | V13: =IF(S13="Cumple","Habilitada","Rechazada") -> Rechazada | W13: =IF(V13="Habilitada","Definitiva","Rechazada") -> Rechazada | X13: =IF(W13="Rechazada","Rechazada",(VLOOKUP(A13,Cantidades!$B$12:$D$14,3,0)-Lote2Cal!P13)/(VLOOKUP(A13,Cantidades!$B$12:$D$14,3,0)-MIN(Lote2Cal!$P$7:$P$19))*72) -> Rechazada | AB13: =IF(W13="Definitiva",ROUND(SUM(X13:AA13),7),"Rechazada") -> Rechazada | AC13: =IFERROR(_xlfn.RANK.EQ(AB13,$AB$7:$AB$19,0),"")
A14: 2 | B14: ='Lote 2'!B17 -> 0 | C14: ='Lote 2'!C17 -> 0 | D14: ='Lote 2'!D17 -> 0 | E14: ='Lote 2'!E17 -> 0 | F14: ='Lote 2'!F17 -> 0 | G14: ='Lote 2'!G17 -> 0 | H14: ='Lote 2'!H17 -> 0 | I14: ='Lote 2'!I17 -> 0 | J14: ='Lote 2'!J17 -> 0 | K14: =AnálisisCapacidad!Q12 -> 0 | L14: =VLOOKUP(A14,Cantidades!$B$3:$H$5,3,0)*Lote2Cal!C14+VLOOKUP(A14,Cantidades!$B$3:$H$5,4,0)*D14+VLOOKUP(A14,Cantidades!$B$3:$H$5,5,0)*E14 -> 0 | M14: =(VLOOKUP(A14,Cantidades!$B$3:$H$5,3,0)*Lote2Cal!F14+VLOOKUP(A14,Cantidades!$B$3:$H$5,4,0)*G14+VLOOKUP(A14,Cantidades!$B$3:$H$5,5,0)*H14)/Cantidades!$K$3 -> 0 | N14: =(I14*(VLOOKUP(A14,Cantidades!$B$3:$H$5,6,0)-(VLOOKUP(A14,Cantidades!$B$3:$H$5,7,0)*J14)/(1-J14)))/Cantidades!$K$4 -> 0 | O14: =IF(AND('Lote 2'!I17>=250,'Lote 2'!J17<4.91),"Cumple","No Cumple") -> No Cumple | P14: =IF(AND(O14="Cumple",K14="Si tiene capacidad"),L14+M14-MIN(N14,VLOOKUP(A14,Cantidades!$B$12:$D$14,3,0)*15%),"No Cumple") -> No Cumple | Q14: =IF(AND(O14="Cumple",P14<>"No Cumple"),IF(M14>=(L14+M14)*50%,"Cumple","No Cumple"),"No Cumple") -> No Cumple | R14: =IF(Q14="Cumple",IF((L14+M14)<=VLOOKUP(A14,Cantidades!$B$12:$D$14,3,0),"Cumple","No Cumple"),"No Cumple") -> No Cumple | S14: =IF(R14="No Cumple","Rechazada",IF((L14+M14)<VLOOKUP(A14,VPBajo!$C$3:$H$5,6,0),IF(U14="No Satisfactoria","Rechazada","Cumple"),"Cumple")) -> Rechazada | T14: =IF(R14="No Cumple","Rechazada",IF((L14+M14)<VLOOKUP(A14,VPBajo!$C$3:$H$5,6,0),"Si","No")) -> Rechazada | U14: No Necesaria | V14: =IF(S14="Cumple","Habilitada","Rechazada") -> Rechazada | W14: =IF(V14="Habilitada","Definitiva","Rechazada") -> Rechazada | X14: =IF(W14="Rechazada","Rechazada",(VLOOKUP(A14,Cantidades!$B$12:$D$14,3,0)-Lote2Cal!P14)/(VLOOKUP(A14,Cantidades!$B$12:$D$14,3,0)-MIN(Lote2Cal!$P$7:$P$19))*72) -> Rechazada | AB14: =IF(W14="Definitiva",ROUND(SUM(X14:AA14),7),"Rechazada") -> Rechazada | AC14: =IFERROR(_xlfn.RANK.EQ(AB14,$AB$7:$AB$19,0),"")
A15: 2 | B15: ='Lote 2'!B18 -> 0 | C15: ='Lote 2'!C18 -> 0 | D15: ='Lote 2'!D18 -> 0 | E15: ='Lote 2'!E18 -> 0 | F15: ='Lote 2'!F18 -> 0 | G15: ='Lote 2'!G18 -> 0 | H15: ='Lote 2'!H18 -> 0 | I15: ='Lote 2'!I18 -> 0 | J15: ='Lote 2'!J18 -> 0 | K15: =AnálisisCapacidad!Q13 -> 0 | L15: =VLOOKUP(A15,Cantidades!$B$3:$H$5,3,0)*Lote2Cal!C15+VLOOKUP(A15,Cantidades!$B$3:$H$5,4,0)*D15+VLOOKUP(A15,Cantidades!$B$3:$H$5,5,0)*E15 -> 0 | M15: =(VLOOKUP(A15,Cantidades!$B$3:$H$5,3,0)*Lote2Cal!F15+VLOOKUP(A15,Cantidades!$B$3:$H$5,4,0)*G15+VLOOKUP(A15,Cantidades!$B$3:$H$5,5,0)*H15)/Cantidades!$K$3 -> 0 | N15: =(I15*(VLOOKUP(A15,Cantidades!$B$3:$H$5,6,0)-(VLOOKUP(A15,Cantidades!$B$3:$H$5,7,0)*J15)/(1-J15)))/Cantidades!$K$4 -> 0 | O15: =IF(AND('Lote 2'!I18>=250,'Lote 2'!J18<4.91),"Cumple","No Cumple") -> No Cumple | P15: =IF(AND(O15="Cumple",K15="Si tiene capacidad"),L15+M15-MIN(N15,VLOOKUP(A15,Cantidades!$B$12:$D$14,3,0)*15%),"No Cumple") -> No Cumple | Q15: =IF(AND(O15="Cumple",P15<>"No Cumple"),IF(M15>=(L15+M15)*50%,"Cumple","No Cumple"),"No Cumple") -> No Cumple | R15: =IF(Q15="Cumple",IF((L15+M15)<=VLOOKUP(A15,Cantidades!$B$12:$D$14,3,0),"Cumple","No Cumple"),"No Cumple") -> No Cumple | S15: =IF(R15="No Cumple","Rechazada",IF((L15+M15)<VLOOKUP(A15,VPBajo!$C$3:$H$5,6,0),IF(U15="No Satisfactoria","Rechazada","Cumple"),"Cumple")) -> Rechazada | T15: =IF(R15="No Cumple","Rechazada",IF((L15+M15)<VLOOKUP(A15,VPBajo!$C$3:$H$5,6,0),"Si","No")) -> Rechazada | U15: No Necesaria | V15: =IF(S15="Cumple","Habilitada","Rechazada") -> Rechazada | W15: =IF(V15="Habilitada","Definitiva","Rechazada") -> Rechazada | X15: =IF(W15="Rechazada","Rechazada",(VLOOKUP(A15,Cantidades!$B$12:$D$14,3,0)-Lote2Cal!P15)/(VLOOKUP(A15,Cantidades!$B$12:$D$14,3,0)-MIN(Lote2Cal!$P$7:$P$19))*72) -> Rechazada | AB15: =IF(W15="Definitiva",ROUND(SUM(X15:AA15),7),"Rechazada") -> Rechazada | AC15: =IFERROR(_xlfn.RANK.EQ(AB15,$AB$7:$AB$19,0),"")
A16: 2 | B16: ='Lote 2'!B19 -> 0 | C16: ='Lote 2'!C19 -> 0 | D16: ='Lote 2'!D19 -> 0 | E16: ='Lote 2'!E19 -> 0 | F16: ='Lote 2'!F19 -> 0 | G16: ='Lote 2'!G19 -> 0 | H16: ='Lote 2'!H19 -> 0 | I16: ='Lote 2'!I19 -> 0 | J16: ='Lote 2'!J19 -> 0 | K16: =AnálisisCapacidad!Q14 -> 0 | L16: =VLOOKUP(A16,Cantidades!$B$3:$H$5,3,0)*Lote2Cal!C16+VLOOKUP(A16,Cantidades!$B$3:$H$5,4,0)*D16+VLOOKUP(A16,Cantidades!$B$3:$H$5,5,0)*E16 -> 0 | M16: =(VLOOKUP(A16,Cantidades!$B$3:$H$5,3,0)*Lote2Cal!F16+VLOOKUP(A16,Cantidades!$B$3:$H$5,4,0)*G16+VLOOKUP(A16,Cantidades!$B$3:$H$5,5,0)*H16)/Cantidades!$K$3 -> 0 | N16: =(I16*(VLOOKUP(A16,Cantidades!$B$3:$H$5,6,0)-(VLOOKUP(A16,Cantidades!$B$3:$H$5,7,0)*J16)/(1-J16)))/Cantidades!$K$4 -> 0 | O16: =IF(AND('Lote 2'!I19>=250,'Lote 2'!J19<4.91),"Cumple","No Cumple") -> No Cumple | P16: =IF(AND(O16="Cumple",K16="Si tiene capacidad"),L16+M16-MIN(N16,VLOOKUP(A16,Cantidades!$B$12:$D$14,3,0)*15%),"No Cumple") -> No Cumple | Q16: =IF(AND(O16="Cumple",P16<>"No Cumple"),IF(M16>=(L16+M16)*50%,"Cumple","No Cumple"),"No Cumple") -> No Cumple | R16: =IF(Q16="Cumple",IF((L16+M16)<=VLOOKUP(A16,Cantidades!$B$12:$D$14,3,0),"Cumple","No Cumple"),"No Cumple") -> No Cumple | S16: =IF(R16="No Cumple","Rechazada",IF((L16+M16)<VLOOKUP(A16,VPBajo!$C$3:$H$5,6,0),IF(U16="No Satisfactoria","Rechazada","Cumple"),"Cumple")) -> Rechazada | T16: =IF(R16="No Cumple","Rechazada",IF((L16+M16)<VLOOKUP(A16,VPBajo!$C$3:$H$5,6,0),"Si","No")) -> Rechazada | U16: No Necesaria | V16: =IF(S16="Cumple","Habilitada","Rechazada") -> Rechazada | W16: =IF(V16="Habilitada","Definitiva","Rechazada") -> Rechazada | X16: =IF(W16="Rechazada","Rechazada",(VLOOKUP(A16,Cantidades!$B$12:$D$14,3,0)-Lote2Cal!P16)/(VLOOKUP(A16,Cantidades!$B$12:$D$14,3,0)-MIN(Lote2Cal!$P$7:$P$19))*72) -> Rechazada | AB16: =IF(W16="Definitiva",ROUND(SUM(X16:AA16),7),"Rechazada") -> Rechazada | AC16: =IFERROR(_xlfn.RANK.EQ(AB16,$AB$7:$AB$19,0),"")
A17: 2 | B17: ='Lote 2'!B20 -> 0 | C17: ='Lote 2'!C20 -> 0 | D17: ='Lote 2'!D20 -> 0 | E17: ='Lote 2'!E20 -> 0 | F17: ='Lote 2'!F20 -> 0 | G17: ='Lote 2'!G20 -> 0 | H17: ='Lote 2'!H20 -> 0 | I17: ='Lote 2'!I20 -> 0 | J17: ='Lote 2'!J20 -> 0 | K17: =AnálisisCapacidad!Q15 -> 0 | L17: =VLOOKUP(A17,Cantidades!$B$3:$H$5,3,0)*Lote2Cal!C17+VLOOKUP(A17,Cantidades!$B$3:$H$5,4,0)*D17+VLOOKUP(A17,Cantidades!$B$3:$H$5,5,0)*E17 -> 0 | M17: =(VLOOKUP(A17,Cantidades!$B$3:$H$5,3,0)*Lote2Cal!F17+VLOOKUP(A17,Cantidades!$B$3:$H$5,4,0)*G17+VLOOKUP(A17,Cantidades!$B$3:$H$5,5,0)*H17)/Cantidades!$K$3 -> 0 | N17: =(I17*(VLOOKUP(A17,Cantidades!$B$3:$H$5,6,0)-(VLOOKUP(A17,Cantidades!$B$3:$H$5,7,0)*J17)/(1-J17)))/Cantidades!$K$4 -> 0 | O17: =IF(AND('Lote 2'!I20>=250,'Lote 2'!J20<4.91),"Cumple","No Cumple") -> No Cumple | P17: =IF(AND(O17="Cumple",K17="Si tiene capacidad"),L17+M17-MIN(N17,VLOOKUP(A17,Cantidades!$B$12:$D$14,3,0)*15%),"No Cumple") -> No Cumple | Q17: =IF(AND(O17="Cumple",P17<>"No Cumple"),IF(M17>=(L17+M17)*50%,"Cumple","No Cumple"),"No Cumple") -> No Cumple | R17: =IF(Q17="Cumple",IF((L17+M17)<=VLOOKUP(A17,Cantidades!$B$12:$D$14,3,0),"Cumple","No Cumple"),"No Cumple") -> No Cumple | S17: =IF(R17="No Cumple","Rechazada",IF((L17+M17)<VLOOKUP(A17,VPBajo!$C$3:$H$5,6,0),IF(U17="No Satisfactoria","Rechazada","Cumple"),"Cumple")) -> Rechazada | T17: =IF(R17="No Cumple","Rechazada",IF((L17+M17)<VLOOKUP(A17,VPBajo!$C$3:$H$5,6,0),"Si","No")) -> Rechazada | U17: No Necesaria | V17: =IF(S17="Cumple","Habilitada","Rechazada") -> Rechazada | W17: =IF(V17="Habilitada","Definitiva","Rechazada") -> Rechazada | X17: =IF(W17="Rechazada","Rechazada",(VLOOKUP(A17,Cantidades!$B$12:$D$14,3,0)-Lote2Cal!P17)/(VLOOKUP(A17,Cantidades!$B$12:$D$14,3,0)-MIN(Lote2Cal!$P$7:$P$19))*72) -> Rechazada | AB17: =IF(W17="Definitiva",ROUND(SUM(X17:AA17),7),"Rechazada") -> Rechazada | AC17: =IFERROR(_xlfn.RANK.EQ(AB17,$AB$7:$AB$19,0),"")
