Workbook
Name \0: #REF!
Name \0: #REF!
Name \0: #REF!
Name \0: #REF!
Name \0: #REF!
Name \0: #REF!
Name \0: #REF!
Name \0: #REF!
Name \0: #REF!
Name \0: #REF!
Name \0: #REF!
Name \0: #REF!
Name \00: #REF!
Name \00: #REF!
Name \00: #REF!
Name \00: #REF!
Name \00: #REF!
Name \00: #REF!
Name \00: #REF!
Name \00: #REF!
Name \00: #REF!
Name \00: #REF!
Name \00: #REF!
Name \00: #REF!
Name \a: #REF!
Name \a: #REF!
Name \a: #REF!
Name \a: #REF!
Name \a: #REF!
Name \a: #REF!
Name \a: #REF!
Name \a: #REF!
Name \a: #REF!
Name \a: #REF!
Name \a: #REF!
Name \a: #REF!
Name \a: #REF!
Name \a: #REF!
Name \AA: [1]LIQUIDACION!#REF!
Name \AA: [1]LIQUIDACION!#REF!
Name \AA: [1]LIQUIDACION!#REF!
Name \AA: [1]LIQUIDACION!#REF!
Name \AA: [1]LIQUIDACION!#REF!
Name \AA: [1]LIQUIDACION!#REF!
Name \AA: [1]LIQUIDACION!#REF!
Name \AA: [1]LIQUIDACION!#REF!
Name \AA: [1]LIQUIDACION!#REF!
Name \AA: [1]LIQUIDACION!#REF!
Name \AA: [1]LIQUIDACION!#REF!
Name \AA: [1]LIQUIDACION!#REF!
Name \b: [2]STRSUMM0!#REF!
Name \b: [2]STRSUMM0!#REF!
Name \b: [2]STRSUMM0!#REF!
Name \b: [2]STRSUMM0!#REF!
Name \b: [2]STRSUMM0!#REF!
Name \b: [2]STRSUMM0!#REF!
Name \b: [2]STRSUMM0!#REF!
Name \b: [2]STRSUMM0!#REF!
Name \b: [2]STRSUMM0!#REF!
Name \b: [2]STRSUMM0!#REF!

Sheet PRES OFICIAL (Entidad)
C3: Formulario 1 - Propuesta económica - Documento tipo de selección abreviada de menor cuantía - versión 2
C4: Código | D4: CCE-EICP-FM-25 | E4: Versión | F4: 2
C6: FORMULARIO 1
C7: PRESUPUESTO OFICIAL
C8: GOBERNACIÓN DEL HUILA SECRETARIA DE VIAS E INFRAESTRUCTURA
C10: OBJETO: " REPOSICION A TODO COSTO DE TRES (3) ALCANTARILLAS DE 36", EN LA VIA GARZON- LAPLATA. CODIGO 3701, VIA DE PRIMER ORDEN"
C12: Nº | D12: ITEM DE PAGO | E12: ESPECIFICACIONES | G12: DESCRIPCION | H12: UND. | I12: CANTIDAD 3 | J12: VALOR UNITARIO | K12: VALOR TOTAL
E13: GENERAL | F13: PARTICULAR
D14: 1 | G14: ESTRUCTURAS Y DRENAJES
C15: 1 | D15: 1.1 | F15: PARTICILAR SVI | G15: DEMOLICION DE ESTRUCTURA EXISTENTE, INCLUYE RETIRO Y DISPOCICIÓN FINAL DEL MATERIAL DE DEMOLICIÓN | H15: M3 | I15: 60 | J15: ='1.1'!O64 -> 112021 | K15: =(I15*J15) -> 6721260 | M15: =I15*N15 -> 6722118 | N15: =O15*1.3 -> 112035.3 | O15: 86181
C16: 2 | D16: 1.2 | F16: PARTICILAR SVI | G16: EXCAVACIÓN VARIAS SIN CLASIFICAR INCLUYE RETIRO Y DISPOCICIÓN FINAL DEL MATERIAL DE EXCAVACIÓN | H16: M3 | I16: 105 | J16: ='1,2'!O63 -> 35100 | K16: =(I16*J16) -> 3685500 | M16: =I16*N16 -> 3687684 | N16: =O16*1.3 -> 35120.8 | O16: 27016
C17: 3 | D17: 1.3 | E17: INVIAS 610-13 | G17: SUMINISTRO E INSTALACIÓN DE RELLENO PARA ESTRUCTURA CON MATERIAL SELECCIONADO | H17: M3 | I17: 54 | J17: ='1,3'!O63 -> 103779 | K17: =(I17*J17) -> 5604066 | M17: =I17*N17 -> 5601328.2 | N17: =O17*1.3 -> 103728.3 | O17: 79791
C18: 4 | D18: 1.4 | E18: INVIAS 630 -13 | G18: CONCRETO CLASE F (f´c= 140KG/CM2) PARA SOLADO DE LIMPIEZA Y/O RELLENO FLUIDO | H18: M3 | I18: 3 | J18: ='1,4'!O63 -> 575900 | K18: =(I18*J18) -> 1727700 | M18: =I18*N18 -> 1719120 | N18: =O18*1.3 -> 573040 | O18: 440800
C19: 5 | D19: 1.5 | E19: INVIAS 630-13 | G19: CONCRETO CLASE D (f´c=210KG/CM2) PARA ALBERCA, ALETAS, CABEZAL DE SALIDA O MURO, GUARDARUEDAS | H19: M3 | I19: 25 | J19: ='1,5'!O62 -> 914940 | K19: =(I19*J19) -> 22873500 | M19: =I19*N19 -> 22873500 | N19: =O19*1.3 -> 914940 | O19: 703800
C20: 6 | D20: 1.6 | E20: INVIAS 661 -13 | G20: SUMINISTRO E INSTALACIÓN, TUBERIA EN CONCRETO DE 36" REFORZADO (INCLUYE ANILLOS INTERNO Y EXTERNO) | H20: UND. | I20: 21 | J20: ='1,6'!O64 -> 587223 | K20: =(I20*J20) -> 12331683 | M20: =I20*N20 -> 12339600 | N20: =O20*1.3 -> 587600 | O20: 452000
C21: 7 | D21: 1.7 | E21: INVIAS 640-13 | G21: SUMINISTRO E INSTALACIÓN, ACERO DE REFUERZO F´y= 420 MPA | H21: KG | I21: 1800 | J21: ='1,7'!O65 -> 8840 | K21: =(I21*J21) -> 15912000 | M21: =I21*N21 -> 15912000 | N21: =O21*1.3 -> 8840 | O21: 6800
C22: Subtotal
C23: SUBTOTAL OBRAS | K23: =SUM(K15:K22) -> 68855709
G25: PLAN DE APLICACIÓ DE PROTOCOLO DE SEGRIDAD EN OBRA "PAPSO" | K25: =PAPSO!F23 -> 2250000
G27: SUBTOTAL OBRAS (NO INCLUYE IVA) | K27: =K23+K25 -> 71105709
G29: VALOR TOTAL | K29: =ROUND(K28+K27,2) -> 71105709
C32: NOTA 1: Se debe tener en cuenta que el PRECIO UNITARIO incluye el valor de A.I.U. | H32: DESCRIPCION | K32: PORCENTAJE
C33: NOTA 2: Cuando la fracción decimal del peso sea igual o superior a 5 se aproximara por exceso al número entero siguiente del peso y cuando la fracción decimal del peso sea inferior a 5 se aproximará por defecto al número entero del peso. | H33: ADMINISTRACION | J33: A= | K33: 0.23
C34: NOTA 3: El A.I.U y su discriminación deben estar en porcentaje (%). | H34: IMPREVISTO | J34: I= | K34: 0.02
H35: UTILIDAD | J35: U= | K35: 0.05
H36: TOTAL A.I.U | J36: A.I.U.= | K36: =+K35+K34+K33 -> 0.3
C40: Tiempo de ejecución: 1 MESES
C45: Elaboró: | D45: ________________________________________
D46: BEATRIZ EUGENIA LUNA SALGUERO
D47: Profesional Universitaria SVIAS
D48: Gobernación del Huila | H48: Arch./JCGG Svias | J48: Noviembre de 2021

Sheet PRES. oferta
C3: Formulario 1 - Propuesta económica - Documento tipo de selección abreviada de menor cuantía - versión 2
C4: Código | D4: CCE-EICP-FM-25 | E4: Versión | F4: 2
C6: FORMULARIO 1
C7: PRESUPUESTO OFICIAL
C8: GOBERNACIÓN DEL HUILA SECRETARIA DE VIAS E INFRAESTRUCTURA
C10: OBJETO: " REPOSICION A TODO COSTO DE TRES (3) ALCANTARILLAS DE 36", EN LA VIA GARZON- LAPLATA. CODIGO 3701, VIA DE PRIMER ORDEN"
C12: Nº | D12: ITEM DE PAGO | E12: ESPECIFICACIONES | G12: DESCRIPCION | H12: UND. | I12: CANTIDAD | J12: VALOR UNITARIO | K12: VALOR TOTAL
E13: GENERAL | F13: PARTICULAR
D14: 1 | G14: ESTRUCTURAS Y DRENAJES
C15: 1 | D15: 1.1 | F15: PARTICILAR SVI | G15: DEMOLICION DE ESTRUCTURA EXISTENTE, INCLUYE RETIRO Y DISPOCICIÓN FINAL DEL MATERIAL DE DEMOLICIÓN | H15: M3 | I15: 60
C16: 2 | D16: 1.2 | F16: PARTICILAR SVI | G16: EXCAVACIÓN VARIAS SIN CLASIFICAR INCLUYE RETIRO Y DISPOCICIÓN FINAL DEL MATERIAL DE EXCAVACIÓN | H16: M3 | I16: 105
C17: 3 | D17: 1.3 | E17: INVIAS 610-13 | G17: SUMINISTRO E INSTALACIÓN DE RELLENO PARA ESTRUCTURA CON MATERIAL SELECCIONADO | H17: M3 | I17: 54
C18: 4 | D18: 1.4 | E18: INVIAS 630 -13 | G18: CONCRETO CLASE F (f´c= 140KG/CM2) PARA SOLADO DE LIMPIEZA Y/O RELLENO FLUIDO | H18: M3 | I18: 3
C19: 5 | D19: 1.5 | E19: INVIAS 630-13 | G19: CONCRETO CLASE D (f´c=210KG/CM2) PARA ALBERCA, ALETAS, CABEZAL DE SALIDA O MURO, GUARDARUEDAS | H19: M3 | I19: 25
C20: 6 | D20: 1.6 | E20: INVIAS 661 -13 | G20: SUMINISTRO E INSTALACIÓN, TUBERIA EN CONCRETO DE 36" REFORZADO (INCLUYE ANILLOS INTERNO Y EXTERNO) | H20: UND. | I20: 21
C21: 7 | D21: 1.7 | E21: INVIAS 640-13 | G21: SUMINISTRO E INSTALACIÓN, ACERO DE REFUERZO F´y= 420 MPA | H21: KG | I21: 1800
C22: Subtotal
C23: SUBTOTAL OBRAS | K23: =SUM(K15:K22) -> 0
G25: PLAN DE APLICACIÓ DE PROTOCOLO DE SEGRIDAD EN OBRA "PAPSO"
G27: SUBTOTAL OBRAS (NO INCLUYE IVA) | K27: =K23+K25 -> 0
G29: VALOR TOTAL | K29: =ROUND(K28+K27,2) -> 0
C32: NOTA 1: Se debe tener en cuenta que el PRECIO UNITARIO incluye el valor de A.I.U. | H32: DESCRIPCION | K32: PORCENTAJE
C33: NOTA 2: Cuando la fracción decimal del peso sea igual o superior a 5 se aproximara por exceso al número entero siguiente del peso y cuando la fracción decimal del peso sea inferior a 5 se aproximará por defecto al número entero del peso. | H33: ADMINISTRACION | J33: A=
C34: NOTA 3: El A.I.U y su discriminación deben estar en porcentaje (%). | H34: IMPREVISTO | J34: I=
H35: UTILIDAD | J35: U=
H36: TOTAL A.I.U | J36: A.I.U.=
C40: Tiempo de ejecución: 1 MESES
C45: Firma
C46: Nombre:
C47: Representante Legal o su Apoderado
C48: Matricula No. : | K48: Noviembre de 2021

Sheet AIU
A2: REPUBLICA DE COLOMBIA
A3: DEPARTAMENTO DEL HUILA
A6: OBJETO: " REPOSICION A TODO COSTO DE TRES (3) ALCANTARILLAS DE 36", EN LA VIA GARZON- LAPLATA. CODIGO 3701, VIA DE PRIMER ORDEN"
A8: DESGLOSE DEL A.I.U
A9: ITEM | B9: Descripción | D9: MES | E9: %DEDICACION | F9: V.r unitario | G9: V.r Parcial
A10: 1 | B10: ADMINISTRACIÓN
B11: PERSONAL
A12: 1.1 | B12: Ingeniero Civil de obra | D12: 1 | E12: 0.4 | F12: 2800000 | G12: =D12*E12*F12 -> 1120000
A13: 1.11 | B13: Inspector de obra | D13: 1 | E13: 1 | F13: 1200000 | G13: =D13*E13*F13 -> 1200000
F14: TOTAL | G14: =SUM(G12:G13) -> 2320000
B16: FACTOR PRESTACIONAL | E16: PORCENTAJE | F16: VALOR
A17: 1.12 | B17: Cesantias | E17: 8.33 | F17: =ROUND(G14*0.0833,0) -> 193256
A18: 1.13 | B18: Intereses Cesantias | E18: 1 | F18: =ROUND(F17*0.01,0) -> 1933
A19: 1.14 | B19: Prima Legal | E19: 8.33 | F19: =G14*0.0833 -> 193256
A20: 1.15 | B20: Vacaciones | E20: 4.16 | F20: =ROUND(G14*0.0416,0) -> 96512
A21: 1.16 | B21: Seguridad Social | E21: 27.46 | F21: =G14*E21/100 -> 637072
F22: TOTAL | G22: =ROUND(F17+F18+F19+F20+F21,0) -> 1122029
B23: ADMINISTRACION Y OTROS GASTOS
A24: 1.18 | B24: Papeleria, e insumos de oficina | D24: Mes | E24: 1 | F24: 75857.9 | G24: =ROUND(+F24*E24,2) -> 75857.9
A25: 1.2 | B25: Alquiler de vehiculo - camioneta >2000cc. Pick o similar (incluye conductor y combustibles) | D25: VIAJES | E25: 4 | F25: 350000 | G25: =E25*F25 -> 1400000
E26: SUBTOTAL | G26: =G24+G25 -> 1475857.9
B27: GASTOS DE LEGALIZACION
A28: 1.21 | B28: Gastos de legalizacion y otros | D28: 0.1055 | E28: =ROUND(D28*'PRES OFICIAL (Entidad)'!K23,0) -> 7264277
B30: TOTAL GASTOS DE ADMINISTRACION | E30: 0.23 | G30: =ROUND(E28+G26+G22+G14+E29,2) -> 12182164
A31: 2 | B31: IMPREVISTOS %
A32: 2.1 | B32: Imprevistos | E32: 0.02 | G32: =ROUND('PRES OFICIAL (Entidad)'!K23/1.3*0.02,2) -> 1059318.6
A33: 3 | B33: UTILIDAD %
A34: 3.1 | B34: Utilidad del proyecto | E34: 0.05 | G34: =ROUND('PRES OFICIAL (Entidad)'!K23/1.3*0.05,2) -> 2648296.5
B35: VALOR TOTAL COSTOS INDIRECTOS | G35: =ROUND(G30+G32+G34,2) -> 15889779
B39: Elaboró: | C39: ________________________________________
C40: BEATRIZ EUGENIA LUNA SALGUERO
C41: Profesional Universitaria SVIAS
C42: Gobernación del Huila | G42: Arch./JCGG Svias

Sheet PAPSO
A3: PRESUPUESTO PAPSO
A5: OBJETO: " REPOSICION A TODO COSTO DE TRES (3) ALCANTARILLAS DE 36", EN LA VIA GARZON- LAPLATA. CODIGO 3701, VIA DE PRIMER ORDEN" | G5: =12*60 -> 720
G6: =G5/50 -> 14.4
A7: ITEM | B7: DESCRIPCION | C7: UNIDAD | D7: CANT | E7: VALOR UNIT | F7: TOTAL
B8: cuadrilla mes, de 15 persona +1 inspector
A10: 1 | B10: Alcohol antiséptico al 70% | C10: litro | D10: 4 | E10: 7000 | F10: =D10*E10 -> 28000
A11: 2 | B11: Gel antibacterial | C11: litro | D11: 3 | E11: 10000 | F11: =D11*E11 -> 30000
A12: 3 | B12: Jabon Liquido antibacterial | C12: litro | D12: 2 | E12: 10000 | F12: =D12*E12 -> 20000
A13: 4 | B13: Hipoclorito de uso domestico | C13: litro | D13: 10 | E13: 2000 | F13: =D13*E13 -> 20000
A14: 5 | B14: Tapabocas desechables | C14: Caja | D14: 9 | E14: 15000 | F14: =D14*E14 -> 135000
A15: 6 | B15: Guantes de nitrilo | C15: par | D15: 60 | E15: 2000 | F15: =D15*E15 -> 120000
A16: 7 | B16: Termometro digital inflarojos | C16: unidad | D16: 1 | E16: 50000 | F16: =D16*E16 -> 50000
A17: 8 | B17: Bomba de espalda | C17: unidad | D17: 1 | E17: 166090 | F17: =D17*E17 -> 166090
E18: suma | F18: =SUM(F10:F17) -> 569090
A19: 9 | B19: Inspector Seguridad y Salud en el TrabajoInc, prestaciones 85% | C19: H/mes | D19: 1.85 | E19: 908600 | F19: =+D19*E19 -> 1680910
E20: Total | F20: =F18+F19 -> 2250000
D23: Meses | E23: 1 | F23: =F20/1*E23 -> 2250000
B27: BEATRIZ EUGENIA LUNA SALGUERO
B28: Profesional Universitaria SVIAS
B29: Gobernación del Huila | F29: Arch./JCGG Svias

Sheet PAGA
B3: =+[115]DATOS!Q19 -> ALCALDÍA MUNICIPAL
B5: OBJETO : REHABILITACIÓN PUENTE LOS BILIBILES DE LA VIA NEIVA-TELLO, DEPARTAMENTO DEL HUILA.
B8: PRESUPUESTO PLAN DE ADAPTACIÓN A LA GUÍA AMBIENTAL "PAGA"
B9: ACTIVIDAD | C9: DESCRIPCIÓN | D9: INDICADOR | E9: CANTIDAD | F9: COSTO UN. | G9: COSTO TOTAL
B10: Búsqueda y recolección de información primaria y segundaria | C10: Transporte | D10: viajes | E10: 1 | F10: 20000 | G10: =+F10*E10 -> 20000
C11: Papelería e insumos | D11: Insumos | E11: 1 | F11: 18000 | G11: =+F11*E11 -> 18000
C12: Materiales | D12: Equipos y Guías | E12: 1 | F12: 60000 | G12: =+F12*E12 -> 60000
C13: Imprevistos | D13: Emergencias | E13: 1 | F13: 40000 | G13: =+F13*E13 -> 40000
B14: Sistematización de la información | C14: Transporte | D14: viajes | E14: =E10 -> 1 | F14: 20000 | G14: =+F14*E14 -> 20000
C15: Papelería e insumos | D15: Insumos | E15: 1 | F15: 18000 | G15: =+F15*E15 -> 18000
C16: Equipos y materiales | D16: Equipos y Guías | E16: 1 | F16: 46000 | G16: =+F16*E16 -> 46000
B17: Análisis de Resultados acumulados | C17: Transporte | D17: viajes | E17: =E10 -> 1 | F17: 20000 | G17: =+F17*E17 -> 20000
C18: Papelería e insumos | D18: Insumos | E18: 1 | F18: 18000 | G18: =+F18*E18 -> 18000
B19: Visita a entes gubernamentales | C19: Transporte | D19: viajes | E19: =E10 -> 1 | F19: 20000 | G19: =+F19*E19 -> 20000
B20: Socialización de Resultados | C20: Transporte | D20: viajes | E20: =E10 -> 1 | F20: 20000 | G20: =+F20*E20 -> 20000
B21: Honorarios Ing. Ambiental | C21: Honorarios | D21: Meses | E21: =E10 -> 1 | F21: 1100000 | G21: =+F21*E21 -> 1100000
B23: TOTAL | G23: =G10+G11+G12+G13+G14+G15+G16+G17+G18+G19+G20+G21 -> 1400000 | I23: =2500000/2 -> 1250000
E26: meses | F26: 2 | G26: =G23/1*F26 -> 2800000
E28: =[115]DATOS!U61
B29: ING. LUIS ALBERTO MOTTA DELGADO | E29: =[115]DATOS!U62
B30: INGENIERO DE APOYO SVI
B31: Fecha: abril de 2021

Sheet MANO DE OBRA 2
A1: GOBERNACION DEL HUILA
A2: LISTADO DE PRECIOS UNITARIOS
A3: MANO DE OBRA
A4: AÑO 2021
A5: OBJETO: " REPOSICION A TODO COSTO DE TRES (3) ALCANTARILLAS DE 36", EN LA VIA GARZON- LAPLATA. CODIGO 3701, VIA DE PRIMER ORDEN"
A6: CLF | B6: CODIGO | C6: DESCRIPCION | D6: UND | E6: VR.UNIT | F6: JORNAL | G6: 908526
A7: M.O | B7: OB | C7: OBRERO | D7: H-D | F7: 30700 | G7: =F7*30 -> 921000
A8: M.O | B8: O | C8: OFICIAL | D8: H-D | F8: 57700
A9: M.O | B9: C11 | C9: CUADRILLA (1 OBRERO + 1 OFICIAL) | D9: H-C | F9: =F7+F8 -> 88400
A10: M.O | B10: C81 | C10: CUADRILLA PREPARACION ( 6 OBRERO + 1 OFICIAL) | D10: H-C | F10: =F7*6+F8 -> 241900
A11: M.O | B11: C71 | C11: CUADRILLA DE PAVIMENTOS ( 7 OBREROS + 1 OFICIAL) | D11: H-C | F11: =F7*7+F8 -> 272600
A12: M.O | B12: C21 | C12: CUADRILLA (2 OBRERO + 1 OFICIAL) | D12: H-C | F12: =F7*2+F8 -> 119100
A13: M.O | B13: C31 | C13: CUADRILLA (3 OBRERO + 1 OFICIAL) | D13: H-C | F13: =F7*3+F8 -> 149800
A14: M.O | B14: C41 | C14: CUADRILLA ESPECIALIZADA SEÑALIZACION VIAL (4OBREROS + 1 OFICIAL) | D14: H-C | F14: =F7*4+F8 -> 180500
A15: M.O | B15: CA41 | C15: CUADRILL AMBIENTAL Y REFORESTACION ( 4 BREROS + 1 OFICIAL) | D15: H-C | F15: =F14 -> 180500
A16: M.O | B16: CT | C16: COMISON DE TOPOGRAFIA (TOPOGRAFO, CADENERO 2, CADENERO 1 Y 1 OBRERO) | D16: DIA -C | E16: 850000 | F16: =E16 -> 850000
A20: Elaboró: | B20: ________________________________________
B21: BEATRIZ EUGENIA LUNA SALGUERO
B22: Profesional Universitaria SVIAS
B23: Gobernación del Huila | F23: Arch./JCGG Svias

Sheet 1.1
C3: Formulario 1 - Propuesta económica - Documento tipo de licitación de obra pública de infraestructura de transporte - versión 3
C4: Código | D4: CCE-EICP-FM-14 | E4: Versión | F4: 3
C6: [La entidad podrá utilizar este formato para la presentación de los análisis de precios unitarios del contratista en la oportunidad prevista en el numeral 8.1. del Documento Base]
D9: GOBERNACIÓN DEL HUILA
L10: VERSIÓN
L12: PÁGINA | M12: 1 | N12: DE | O12: 1
D14: ANALISIS DE PRECIOS UNITARIOS
L16: FECHA | M16: DD | N16: MM | O16: AA
N17: 11 | O17: 2021
C18: ITEM 1.1: DEMOLICION DE ESTRUCTURA EXISTENTE, INCLUYE RETIRO Y DISPOCICIÓN FINAL DEL MATERIAL DE DEMOLICIÓN | I18: OBJETO: " REPOSICION A TODO COSTO DE TRES (3) ALCANTARILLAS DE 36", EN LA VIA GARZON- LAPLATA. CODIGO 3701, VIA DE PRIMER ORDEN"
C22: DATOS ESPECÍFICOS
C24: ÍTEM | D24: DESCRIPCIÓN | M24: UNIDAD | O24: CANTIDAD
C26: I. EQUIPO
C29: DESCRIPCIÓN | H29: MARCA | J29: TIPO | L29: TARIFA/HORA | M29: RENDIMIENTO | O29: Vr. UNITARIO
C30: HERRAMIENTA MENOR | J30: GB | L30: 618.67 | M30: 1 | O30: =L30*M30 -> 618.67
C31: COMPRESOR (185-250) CFM-2 MARTILLOS | J31: HORA | L31: 82000 | M31: 3 | O31: =+L31/M31 -> 27333.333
C32: RETROEXCAVADORA SOBRE LLANTAS JD 410 | J32: HORA | L32: 132000 | M32: 5 | O32: =+L32/M32 -> 26400
C33: SUBTOTAL $ | O33: =+SUM(O30:O32) -> 54352.003
C34: II. MATERIALES
C37: DESCRIPCIÓN | K37: UNIDAD | L37: CANTIDAD | M37: PRECIO UNIT. | O37: Vr. UNITARIO
C39: SUBTOTAL $ | O39: =+SUM(O38:O38) -> 0
C40: III. TRANSPORTES
C43: MATERIAL | J43: VOL. o PESO | K43: DISTANCIA | L43: M3 o Ton/Km | M43: TARIFA | O43: Vr. UNITARIO
C44: TRANSPORTE DE MATERIAL ESTERIL O DE DESECHO. DISTANCIA DE ACARREO (1-10) KM. | J44: 1.4 | K44: 5 | L44: =J44*K44 -> 7 | M44: 1300 | O44: =+M44*L44 -> 9100
C46: SUBTOTAL $ | O46: =+SUM(O44:O45) -> 9100
C47: IV. MANO DE OBRA
C50: TRABAJADOR | J50: JORNAL | K50: PRESTACIONES | L50: JORNAL TOTAL | M50: RENDIMIENTO | O50: Vr. UNITARIO
C51: 2 OBRERO | J51: ='MANO DE OBRA 2'!F7*2 -> 61400 | K51: 1.85 | L51: =+K51*J51 -> 113590 | M51: 5 | O51: =ROUND(+L51/M51,2) -> 22718
C53: SUBTOTAL $ | O53: =ROUND(+SUM(O51:O52),2) -> 22718
C55: TOTAL COSTO DIRECTO $ | O55: =ROUND(SUM(O53,O46,O39,O33),2) -> 86170 | R55: =112000/1.3 -> 86153.846
C56: V. COSTOS INDIRECTOS
C58: Descripción | L58: Porcentaje | M58: Valor Total
C59: ADMINISTRACION | L59: 0.23 | M59: =(L59*$O$55) -> 19819.1
C60: IMPREVISTOS | L60: 0.02 | M60: =(L60*$O$55) -> 1723.4
C61: UTILIDAD | L61: 0.05 | M61: =(L61*$O$55) -> 4308.5
C62: SUBTOTAL $ | O62: =SUM(M59:N61) -> 25851
C64: Precio Unitario Total Aproximado al peso $ | O64: =+ROUND(O62+O55,2) -> 112021 | R64: 68892
H67: Firma
H68: Nombre: BEATRIZ EUGENIA LUNA SALGUERO
H69: Profesional Universitaria SVIAS | O69: Arch./JCGG Svias
...

Sheet 1,2
C3: Formulario 1 - Propuesta económica - Documento tipo de licitación de obra pública de infraestructura de transporte - versión 3
C4: Código | D4: CCE-EICP-FM-14 | E4: Versión | F4: 3
C6: [La entidad podrá utilizar este formato para la presentación de los análisis de precios unitarios del contratista en la oportunidad prevista en el numeral 8.1. del Documento Base]
D9: GOBERNACIÓN DEL HUILA
L10: VERSIÓN
D11: [NÚMERO DEL PROCESO]
L12: PÁGINA | M12: 1 | N12: DE | O12: 1
D14: ANALISIS DE PRECIOS UNITARIOS
L16: FECHA | M16: DD | N16: MM | O16: AA
C17: ITEM 1,2: EXCAVACIÓN VARIAS SIN CLASIFICAR INCLUYE RETIRO Y DISPOCICIÓN FINAL DEL MATERIAL DE EXCAVACIÓN | N17: 11 | O17: 2021
I18: OBJETO: " REPOSICION A TODO COSTO DE TRES (3) ALCANTARILLAS DE 36", EN LA VIA GARZON- LAPLATA. CODIGO 3701, VIA DE PRIMER ORDEN"
C22: DATOS ESPECÍFICOS
C24: ÍTEM | D24: DESCRIPCIÓN | M24: UNIDAD | O24: CANTIDAD
C26: I. EQUIPO
C28: DESCRIPCIÓN | H28: MARCA | J28: TIPO | L28: TARIFA/HORA | M28: RENDIMIENTO | O28: Vr. UNITARIO
C29: HERRAMIENTA MENOR | J29: GB | L29: 1074.62 | M29: 1 | O29: =L29*M29 -> 1074.62 | R29: =O52*0.05 -> 873.769
C31: SUBTOTAL $ | O31: =ROUND(SUM(O29:O30),2) -> 1074.62
C32: II. MATERIALES
C35: DESCRIPCIÓN | K35: UNIDAD | L35: CANTIDAD | M35: PRECIO UNIT. | O35: Vr. UNITARIO
C38: SUBTOTAL $ | O38: =+ROUND(SUM(O36:O37),0) -> 0
C39: III. TRANSPORTES
C42: MATERIAL | J42: VOL. o PESO | K42: DISTANCIA | L42: M3 o Ton/Km | M42: TARIFA | O42: Vr. UNITARIO
C43: TRANSPORTE DE MATERIAL ESTERIL O DE DESECHO. DISTANCIA DE ACARREO (1-10) KM. | J43: 1.3 | K43: 5 | L43: =J43*K43 -> 6.5 | M43: 1300 | O43: =+M43*L43 -> 8450
C45: SUBTOTAL $ | O45: =+SUM(O43:O44) -> 8450
C46: IV. MANO DE OBRA
C49: TRABAJADOR | J49: JORNAL | K49: PRESTACIONES | L49: JORNAL TOTAL | M49: RENDIMIENTO | O49: Vr. UNITARIO
C50: OBRERO | J50: ='MANO DE OBRA 2'!F7 -> 30700 | K50: 1.85 | L50: =+K50*J50 -> 56795 | M50: 3.25 | O50: =ROUND(+L50/M50,2) -> 17475.38
C52: SUBTOTAL $ | O52: =+ROUND(SUM(O50:O51),2) -> 17475.38
C54: TOTAL COSTO DIRECTO $ | O54: =ROUND(SUM(O52,O45,O38,O31),2) -> 27000 | R54: 23675
C55: V. COSTOS INDIRECTOS
C57: Descripción | L57: Porcentaje | M57: Valor Total
C58: ADMINISTRACION | L58: 0.23 | M58: =(L58*$O$54) -> 6210
C59: IMPREVISTOS | L59: 0.02 | M59: =(L59*$O$54) -> 540
C60: UTILIDAD | L60: 0.05 | M60: =(L60*$O$54) -> 1350
C61: SUBTOTAL $ | O61: =+SUM(M58:N60) -> 8100
C63: Precio Unitario Total Aproximado al peso $ | O63: =+ROUND(O61+O54,2) -> 35100 | R63: 30778
H66: Firma
H67: Nombre: BEATRIZ EUGENIA LUNA SALGUERO
H68: Profesional Universitaria SVIAS | O68: Arch./JCGG Svias
C70: OBSERVACIONES INTERVENTORÍA
...

Sheet 1,3
C3: Formulario 1 - Propuesta económica - Documento tipo de licitación de obra pública de infraestructura de transporte - versión 3
C4: Código | D4: CCE-EICP-FM-14 | E4: Versión | F4: 3
C6: [La entidad podrá utilizar este formato para la presentación de los análisis de precios unitarios del contratista en la oportunidad prevista en el numeral 8.1. del Documento Base]
D9: GOBERNACIÓN DEL HUILA
L10: VERSIÓN
D11: [NÚMERO DEL PROCESO]
L12: PÁGINA | M12: 1 | N12: DE | O12: 1
D14: ANALISIS DE PRECIOS UNITARIOS
L16: FECHA | M16: DD | N16: MM | O16: AA
C17: ITEM 1,3: SUMINISTRO E INSTALACIÓN DE RELLENO PARA ESTRUCTURA CON MATERIAL SELECCIONADO S | N17: 11 | O17: 2021
I18: OBJETO: " REPOSICION A TODO COSTO DE TRES (3) ALCANTARILLAS DE 36", EN LA VIA GARZON- LAPLATA. CODIGO 3701, VIA DE PRIMER ORDEN"
C22: DATOS ESPECÍFICOS
C24: ÍTEM | D24: DESCRIPCIÓN | M24: UNIDAD | O24: CANTIDAD
C26: I. EQUIPO
C29: DESCRIPCIÓN | H29: MARCA | J29: TIPO | L29: TARIFA/HORA | M29: RENDIMIENTO | O29: Vr. UNITARIO
C30: VIBROCOMPACTADOR MANUAL TIPO CANGURO (80 - 100) kg | L30: 10000 | M30: 2.5 | O30: =L30/M30 -> 4000
C32: HERRAMIENTA MENOR | O32: 241 | R32: =O51*0.02 -> 227.18
C34: SUBTOTAL $ | O34: =+(SUM(O30:O33)) -> 4241
C35: II. MATERIALES
C38: DESCRIPCIÓN | K38: UNIDAD | L38: CANTIDAD | M38: PRECIO UNIT. | O38: Vr. UNITARIO
C39: RECEBO COMUN PROVENIENTE DE MATERIAL DE PRESTAMO I.P. <15%; T.M=3" MATERIAL GRANULAR CLASIFICADO PARA AFIRMADO DE VÍAS ESP. 300-13 y 311-13 INVIAS. | K39: M3 | L39: 1.3 | M39: 23100 | O39: =+M39*L39 -> 30030
C40: AGUA | K40: LT | L40: 10 | M40: 40 | O40: =+ROUND(M40*L40,2) -> 400
C41: SUBTOTAL $ | O41: =+ROUND(SUM(O39:O40),2) -> 30430
C42: III. TRANSPORTES
C44: MATERIAL | J44: VOL. o PESO | K44: DISTANCIA | L44: M3 o Ton/Km | M44: TARIFA | O44: Vr. UNITARIO
C45: TRANSPORTE RECEBO COMUN PROVENIENTE DE MATERIAL DE PRESTAMO I.P. <15%; T.M=3" MATERIAL GRANULAR CLASIFICADO PARA AFIRMADO DE VÍAS ESP. 300-13 y 311-13 INVIAS. | J45: 1.3 | K45: 20 | L45: =J45*K45 -> 26 | M45: 1300 | O45: =L45*M45 -> 33800
C46: SUBTOTAL $ | O46: =+ROUND(SUM(O45:O45),0) -> 33800
C47: IV. MANO DE OBRA
C49: TRABAJADOR | J49: JORNAL | K49: PRESTACIONES | L49: JORNAL TOTAL | M49: RENDIMIENTO | O49: Vr. UNITARIO
C50: 2 OBRERO | J50: ='MANO DE OBRA 2'!F7*2 -> 61400 | K50: 1.85 | L50: =+K50*J50 -> 113590 | M50: 10 | O50: =ROUND(+L50/M50,2) -> 11359
C51: SUBTOTAL $ | O51: =+ROUND(SUM(O50:O50),2) -> 11359
C53: TOTAL COSTO DIRECTO $ | O53: =O51+O41+O46+O34 -> 79830 | R53: 32793 | S53: =S63/1.3 -> 33562.308
C54: V. COSTOS INDIRECTOS
C57: Descripción | L57: Porcentaje | M57: Valor Total
C58: ADMINISTRACION | L58: 0.23 | M58: =(L58*O53) -> 18360.9
C59: IMPREVISTOS | L59: 0.02 | M59: =(L59*O53) -> 1596.6
C60: UTILIDAD | L60: 0.05 | M60: =(L60*O53) -> 3991.5
C61: SUBTOTAL $ | O61: =+ROUND(SUM(M58:N60),2) -> 23949
C63: Precio Unitario Total Aproximado al peso $ | O63: =+ROUND(O61+O53,2) -> 103779 | R63: 42631 | S63: 43631
H66: Firma
...

Sheet 1,4
C3: Formulario 1 - Propuesta económica - Documento tipo de licitación de obra pública de infraestructura de transporte - versión 3
C4: Código | D4: CCE-EICP-FM-14 | E4: Versión | F4: 3
C6: [La entidad podrá utilizar este formato para la presentación de los análisis de precios unitarios del contratista en la oportunidad prevista en el numeral 8.1. del Documento Base]
D9: GOBERNACIÓN DEL HUILA
L10: VERSIÓN
D11: [NÚMERO DEL PROCESO]
L12: PÁGINA | M12: 1 | N12: DE | O12: 1
D14: ANALISIS DE PRECIOS UNITARIOS
L16: FECHA | M16: DD | N16: MM | O16: AA
C17: ITEM 1,4: CONCRETO CLASE F (f´c= 140KG/CM2) PARA SOLADO DE LIMPIEZA Y/O RELLENO FLUIDO | N17: 11 | O17: 2021
I18: OBJETO: " REPOSICION A TODO COSTO DE TRES (3) ALCANTARILLAS DE 36", EN LA VIA GARZON- LAPLATA. CODIGO 3701, VIA DE PRIMER ORDEN"
C22: DATOS ESPECÍFICOS
C24: ÍTEM | D24: DESCRIPCIÓN | M24: UNIDAD | O24: CANTIDAD
C26: I. EQUIPO
C28: DESCRIPCIÓN | H28: MARC | J28: TIPO | L28: TARIFA/m3 | M28: RENDIMIENTO | O28: Vr. UNITARIO
C29: FORMALETA PARA SOLADOS Y CONCRETO DE LIMPIEZA. | L29: 20000 | M29: 6 | O29: =+L29/M29 -> 3333.3333
C30: HERRAMIENTA MENOR | O30: 791.15 | R30: =O51*0.02 -> 923.7666
C31: SUBTOTAL $ | O31: =ROUND(SUM(O29:O30),2) -> 4124.48
C32: II. MATERIALES
C35: DESCRIPCIÓN | K35: UNIDAD | L35: CANTIDAD | M35: PRECIO UNIT. | O35: Vr. UNITARIO
C36: SUB-PRODUCTO: CONCRETO NORMAL CLASE F (F'c=140 KGF/CM2) | K36: M3 | L36: 1.01 | M36: 315319 | O36: =ROUND(+M36*L36,2) -> 318472.19
C37: AGUA | K37: lt | L37: 50 | M37: 40 | O37: =ROUND(+M37*L37,2) -> 2000
C38: SUBTOTAL $ | O38: =ROUND(+SUM(O36:O37),2) -> 320472.19
C39: III. TRANSPORTES
C42: MATERIAL | J42: VOL. o PESO | K42: DISTANCIA | L42: M3 o Ton/Km | M42: TARIFA | O42: Vr. UNITARIO
C43: TRANSPORTE AGREGADOS X M3 CONCRETO HIDRAULICO ó MORTERO. DISTANCIA DE ACARREO (31-75)KM O MAYOR | J43: 1.01 | K43: 55 | L43: =J43*K43 -> 55.55 | M43: 1300 | O43: =L43*M43 -> 72215
C45: SUBTOTAL $ | O45: =+SUM(O43:O44) -> 72215
C46: IV. MANO DE OBRA
C49: TRABAJADOR | J49: JORNAL | K49: PRESTACIONES | L49: JORNAL TOTAL | M49: RENDIMIENTO | O49: Vr. UNITARIO
C50: CUADRILLA MAMPOSTERIA (3 OBREROS + 1 OFICIAL) | J50: ='MANO DE OBRA 2'!F13 -> 149800 | K50: 1.85 | L50: =+K50*J50 -> 277130 | M50: 6 | O50: =ROUND(+L50/M50,2) -> 46188.33
C51: SUBTOTAL $ | O51: =ROUND(SUM(O50:O50),2) -> 46188.33
S52: =S53-O53 -> 38221.538
C53: TOTAL COSTO DIRECTO $ | O53: =ROUND(SUM(O51,O45,O38,O31),2) -> 443000 | R53: 480645 | S53: =S63/1.3 -> 481221.54
C54: V. COSTOS INDIRECTOS
C57: Descripción | L57: Porcentaje | M57: Valor Total
C58: ADMINISTRACION | L58: 0.23 | M58: =(L58*O53) -> 101890
C59: IMPREVISTOS | L59: 0.02 | M59: =(L59*O53) -> 8860
C60: UTILIDAD | L60: 0.05 | M60: =(L60*O53) -> 22150
C61: SUBTOTAL $ | O61: =ROUND(+SUM(M58:N60),2) -> 132900
C63: Precio Unitario Total Aproximado al peso $ | O63: =ROUND(+O61+O53,2) -> 575900 | R63: 624839 | S63: 625588
...

Sheet 1,5
C3: Formulario 1 - Propuesta económica - Documento tipo de licitación de obra pública de infraestructura de transporte - versión 3
C4: Código | D4: CCE-EICP-FM-14 | E4: Versión | F4: 3
C6: [La entidad podrá utilizar este formato para la presentación de los análisis de precios unitarios del contratista en la oportunidad prevista en el numeral 8.1. del Documento Base]
D9: GOBERNACIÓN DEL HUILA
L10: VERSIÓN
D11: [NÚMERO DEL PROCESO]
L12: PÁGINA | M12: 1 | N12: DE | O12: 1
D14: ANALISIS DE PRECIOS UNITARIOS
L16: FECHA | M16: DD | N16: MM | O16: AA
C17: ITEM 1,5: CONCRETO CLASE D (F´c=210KG/CM2) PARA ALBERCA, ALETAS, CABEZAL DE SALIDA O MURO, GUARDARUEDAS | N17: 11 | O17: 2021
I18: OBJETO: " REPOSICION A TODO COSTO DE TRES (3) ALCANTARILLAS DE 36", EN LA VIA GARZON- LAPLATA. CODIGO 3701, VIA DE PRIMER ORDEN"
C22: DATOS ESPECÍFICOS
C24: ÍTEM | D24: DESCRIPCIÓN | M24: UNIDAD | O24: CANTIDAD
C26: I. EQUIPO
C28: DESCRIPCIÓN | H28: MARCA | J28: TIPO | L28: TARIFA/HORA | M28: RENDIMIENTO | O28: Vr. UNITARIO
C29: FORMALETA PARA ELEVACION DE ESTRUCTURAS. | L29: 75000 | M29: 2.5 | O29: =L29/M29 -> 30000
C30: HERRAMIENTA MENOR | J30: GB | L30: 2392.23 | M30: 1 | O30: =L30*M30 -> 2392.23 | R30: =O50*0.05 -> 6298.409
C31: SUBTOTAL $ | O31: =+SUM(O29:O30) -> 32392.23
C32: II. MATERIALES
C34: DESCRIPCIÓN | K34: UNIDAD | L34: CANTIDAD | M34: PRECIO UNIT. | O34: Vr. UNITARIO
C35: SUB-PRODUCTO: CONCRETO NORMAL CLASE D (f'c=210 KGF/CM2) | K35: M3 | L35: 1.01 | M35: 466559 | O35: =ROUND(+M35*L35,2) -> 471224.59
C36: AGUA | K36: LT | L36: 50 | M36: 40 | O36: =ROUND(+M36*L36,2) -> 2000
C37: SUBTOTAL $ | O37: =+SUM(O35:O36) -> 473224.59
C38: III. TRANSPORTES
C41: MATERIAL | J41: VOL. o PESO | K41: DISTANCIA | L41: M3 o Ton/Km | M41: TARIFA | O41: Vr. UNITARIO
C42: TRANSPORTE AGREGADOS X M3 CONCRETO HIDRAULICO ó MORTERO. DISTANCIA DE ACARREO (31-75)KM O MAYOR | J42: 1.01 | K42: 55 | L42: =J42*K42 -> 55.55 | M42: 1300 | O42: =L42*M42 -> 72215
C44: SUBTOTAL $ | O44: =+SUM(O42:O43) -> 72215
C45: IV. MANO DE OBRA
C48: TRABAJADOR | J48: 15 | K48: PRESTACIONES | L48: JORNAL TOTAL | M48: RENDIMIENTO | O48: Vr. UNITARIO
C49: ='1,4'!C50 -> CUADRILLA MAMPOSTERIA (3 OBREROS + 1 OFICIAL) | J49: ='MANO DE OBRA 2'!F13 -> 149800 | K49: 1.85 | L49: =+K49*J49 -> 277130 | M49: 2.2 | O49: =ROUND(+L49/M49,2) -> 125968.18
C50: SUBTOTAL $ | O50: =+ROUND(SUM(O49:O49),2) -> 125968.18
C52: TOTAL COSTO DIRECTO $ | O52: =ROUND(SUM(O50,O44,O37,O31),2) -> 703800 | R52: 641092
C53: V. COSTOS INDIRECTOS
C56: Descripción | L56: Porcentaje | M56: Valor Total
C57: ADMINISTRACION | L57: 0.23 | M57: =(L57*O52) -> 161874
C58: IMPREVISTOS | L58: 0.02 | M58: =(L58*O52) -> 14076
C59: UTILIDAD | L59: 0.05 | M59: =(L59*O52) -> 35190
C60: SUBTOTAL $ | O60: =ROUND(+SUM(M57:N59),2) -> 211140 | R60: =667113*1.3 -> 867246.9
C62: Precio Unitario Total Aproximado al peso $ | O62: =ROUND(+O60+O52,2) -> 914940 | R62: 833420
H65: Firma
...

Sheet 1,6
C3: Formulario 1 - Propuesta económica - Documento tipo de licitación de obra pública de infraestructura de transporte - versión 3
C4: Código | D4: CCE-EICP-FM-14 | E4: Versión | F4: 3
C6: [La entidad podrá utilizar este formato para la presentación de los análisis de precios unitarios del contratista en la oportunidad prevista en el numeral 8.1. del Documento Base]
D9: GOBERNACIÓN DEL HUILA
L10: VERSIÓN
D11: [NÚMERO DEL PROCESO]
L12: PÁGINA | M12: 1 | N12: DE | O12: 1
D14: ANALISIS DE PRECIOS UNITARIOS
L16: FECHA | M16: DD | N16: MM | O16: AA
C17: ITEM 1,6: SUMINISTRO E INSTALACIÓN, TUBERIA EN CONCRETO DE 36" REFORZADO (INCLUYE ANILLOS INTERNO Y EXTERNO) | N17: 11 | O17: 2021
I18: OBJETO: " REPOSICION A TODO COSTO DE TRES (3) ALCANTARILLAS DE 36", EN LA VIA GARZON- LAPLATA. CODIGO 3701, VIA DE PRIMER ORDEN"
C22: DATOS ESPECÍFICOS
C23: ÍTEM | D23: DESCRIPCIÓN | M23: UNIDAD | O23: CANTIDAD
C25: I. EQUIPO
C27: DESCRIPCIÓN | H27: MARCA | J27: TIPO | L27: TARIFA/HORA | M27: RENDIMIENTO | O27: Vr. UNITARIO
C28: ='1.1'!C32:G32 -> RETROEXCAVADORA SOBRE LLANTAS JD 410 | L28: 132000 | M28: 3 | O28: =L28/M28 -> 44000
C29: HERRAMIENTA MENOR | L29: 1810.89 | M29: 1 | O29: =L29*M29 -> 1810.89 | R29: =O52*0.1 -> 1847.533
C30: SUBTOTAL $ | O30: =+SUM(O28:O29) -> 45810.89
C31: II. MATERIALES
C33: DESCRIPCIÓN | K33: UNIDAD | L33: CANTIDAD | M33: PRECIO UNIT. | O33: Vr. UNITARIO
C34: TUBO EN CONCRETO REFORZADO 36" EN CONCRETO F'c=28 Mpa. Especificación AASHTO M-170M y NTC 401. | K34: ML | L34: 1 | M34: 296000 | O34: =+ROUND(M34*L34,2) -> 296000
C35: ='1,4'!C36:J36 -> SUB-PRODUCTO: CONCRETO NORMAL CLASE F (F'c=140 KGF/CM2) | K35: M3 | L35: 0.2 | M35: ='1,4'!M36:N36 -> 315319 | O35: =+ROUND(M35*L35,2) -> 63063.8
C36: SUB-PRODUCTO: MORTERO RELACIÓN 1:3 PARA JUNTAS | K36: M3 | L36: 0.02 | M36: 467999 | O36: =+ROUND(M36*L36,2) -> 9359.98
C37: AGUA | K37: LT | L37: 25 | M37: 40 | O37: =+ROUND(M37*L37,2) -> 1000
C39: SUBTOTAL $ | O39: =+ROUND(SUM(O34:O38),2) -> 369423.78
C40: III. TRANSPORTES
C43: MATERIAL | J43: VOL. o PESO | K43: DISTANCIA | L43: M3 o Ton/Km | M43: TARIFA | O43: Vr. UNITARIO
C44: TRANSPORTE TUBO EN CONCRETO REFORZADO DE 1mx36" DISTANCIA DE ACARREO (1-30) km | J44: 1 | K44: 20 | L44: =J44*K44 -> 20 | M44: 900 | O44: =+ROUND(M44*L44,2) -> 18000 | R44: =L44*M44 -> 18000
C46: SUBTOTAL $ | O46: =+ROUND(SUM(O44:O45),2) -> 18000
C47: IV. MANO DE OBRA
C49: TRABAJADOR | J49: JORNAL | K49: PRESTACIONES | L49: JORNAL TOTAL | M49: RENDIMIENTO | O49: Vr. UNITARIO
C50: ='1,5'!C49 -> CUADRILLA MAMPOSTERIA (3 OBREROS + 1 OFICIAL) | J50: ='MANO DE OBRA 2'!F13 -> 149800 | K50: 1.85 | L50: =+K50*J50 -> 277130 | M50: 15 | O50: =ROUND(+L50/M50,2) -> 18475.33
C52: SUBTOTAL $ | O52: =+ROUND(SUM(O50:O51),2) -> 18475.33
C54: TOTAL COSTO DIRECTO $ | O54: =ROUND(SUM(O52,O46,O39,O30),2) -> 451710 | R54: 469758
C55: V. COSTOS INDIRECTOS
C58: Descripción | L58: Porcentaje | M58: Valor Total
C59: ADMINISTRACION | L59: 0.23 | M59: =(L59*O54) -> 103893.3
C60: IMPREVISTOS | L60: 0.02 | M60: =(L60*O54) -> 9034.2
C61: UTILIDAD | L61: 0.05 | M61: =(L61*O54) -> 22585.5 | R61: =452000*1.3 -> 587600
C62: SUBTOTAL $ | O62: =+SUM(M59:N61) -> 135513
...

Sheet 1,7
C3: Formulario 1 - Propuesta económica - Documento tipo de licitación de obra pública de infraestructura de transporte - versión 3
C4: Código | D4: CCE-EICP-FM-14 | E4: Versión | F4: 3
C6: [La entidad podrá utilizar este formato para la presentación de los análisis de precios unitarios del contratista en la oportunidad prevista en el numeral 8.1. del Documento Base]
D9: GOBERNACIÓN DEL HUILA
L10: VERSIÓN
D11: [NÚMERO DEL PROCESO]
L12: PÁGINA | M12: 1 | N12: DE | O12: 1
D14: ANALISIS DE PRECIOS UNITARIOS
L16: FECHA | M16: DD | N16: MM | O16: AA
C17: ITEM 1,7: SUMINISTRO E INSTALACIÓN, ACERO DE REFUERZO F´y= 420 MPA | N17: 11 | O17: 2021
I18: OBJETO: " REPOSICION A TODO COSTO DE TRES (3) ALCANTARILLAS DE 36", EN LA VIA GARZON- LAPLATA. CODIGO 3701, VIA DE PRIMER ORDEN"
C22: DATOS ESPECÍFICOS
C24: ÍTEM | D24: DESCRIPCIÓN | M24: UNIDAD | O24: CANTIDAD
C26: I. EQUIPO
C29: DESCRIPCIÓN | H29: MARCA | J29: TIPO | L29: TARIFA/HORA | M29: RENDIMIENTO | O29: Vr. UNITARIO
C30: CIZALLA MANUAL DE 90 CM | L30: 1150 | M30: 40 | O30: =L30/M30 -> 28.75
C31: HERRAMIENTA MENOR | J31: GB | L31: 22.63 | M31: 1 | O31: =L31*M31 -> 22.63 | R31: =O54*0.02 -> 21.8054
C32: SUBTOTAL $ | O32: =(SUM(O31:O31)) -> 22.63
C33: II. MATERIALES
C36: DESCRIPCIÓN | K36: UNIDAD | L36: CANTIDAD | M36: PRECIO UNIT. | O36: Vr. UNITARIO
C37: Acero de refuerzo PDR60 | K37: KG | L37: 1.05 | M37: 4900 | O37: =+ROUND(M37*L37,2) -> 5145
C38: Corte de acero de refuerzo | K38: KG | L38: 1.05 | M38: 145 | O38: =+ROUND(M38*L38,2) -> 152.25
C39: Figuración acero de refuerzo | K39: KG | L39: 1.05 | M39: 150 | O39: =+ROUND(M39*L39,2) -> 157.5
C40: Alambre negro C-18 | K40: KG | L40: 0.03 | M40: 7500 | O40: =+ROUND(M40*L40,2) -> 225
C41: SUBTOTAL $ | O41: =(SUM(O37:O40)) -> 5679.75
C42: III. TRANSPORTES
C44: MATERIAL | J44: VOL. o PESO | K44: DISTANCIA | L44: M3 o Ton/Km | M44: TARIFA | O44: Vr. UNITARIO
C45: TRANSPORTE DE ACERO | J45: 1.05 | K45: 20 | L45: =J45*K45 -> 21 | M45: 0.35 | O45: =L45*M45 -> 7.35
C47: SUBTOTAL $ | O47: =+SUM(O45:O46) -> 7.35
C48: IV. MANO DE OBRA
C50: TRABAJADOR | J50: JORNAL | K50: PRESTACIONES | L50: JORNAL TOTAL | M50: RENDIMIENTO | O50: Vr. UNITARIO
C51: ='MANO DE OBRA 2'!C9 -> CUADRILLA (1 OBRERO + 1 OFICIAL) | J51: ='MANO DE OBRA 2'!F9 -> 88400 | K51: 1.85 | L51: =+K51*J51 -> 163540 | M51: 150 | O51: =+ROUND(L51/M51,2) -> 1090.27
C54: SUBTOTAL $ | O54: =+ROUND(SUM(O51:O53),2) -> 1090.27
C56: TOTAL COSTO DIRECTO $ | O56: =ROUND(SUM(O54,O47,O41,O32),2) -> 6800 | R56: 5982
C57: V. COSTOS INDIRECTOS
C59: Descripción | L59: Porcentaje | M59: Valor Total
C60: ADMINISTRACION | L60: 0.23 | M60: =(L60*O56) -> 1564
C61: IMPREVISTOS | L61: 0.02 | M61: =(L61*O56) -> 136
C62: UTILIDAD | L62: 0.05 | M62: =(L62*O56) -> 340
C63: SUBTOTAL $ | O63: =+SUM(M60:N62) -> 2040
...

Sheet Subproducto 1
C3: Formulario 1 - Propuesta económica - Documento tipo de licitación de obra pública de infraestructura de transporte - versión 3
C4: Código | D4: CCE-EICP-FM-14 | E4: Versión | F4: 3
C6: [La entidad podrá utilizar este formato para la presentación de los análisis de precios unitarios del contratista en la oportunidad prevista en el numeral 8.1. del Documento Base]
D9: GOBERNACIÓN DEL HUILA
L10: VERSIÓN
D11: [NÚMERO DEL PROCESO]
L12: PÁGINA | M12: 1 | N12: DE | O12: 1
D14: ANALISIS DE PRECIOS UNITARIOS
L16: FECHA | M16: DD | N16: MM | O16: AA
C18: ÍTEMS DE LA PROPUESTA ECONÓMICA | I18: ÍTEMS NO PREVISTOS | L18: ITEM : GAVION EN PIEDRA ZONGA Y MEDIA ZONGA, MALLA C-12, ESCUADRÌA 10CM X 8CM, VENA C-10. INCLUYE, ATIRANTAMIENTO HORIZONTAL Y VERTICAL. ESP. 681 INV.
C22: DATOS ESPECÍFICOS
C24: ÍTEM | D24: DESCRIPCIÓN | M24: UNIDAD | O24: CANTIDAD
C26: I. EQUIPO
C29: DESCRIPCIÓN | H29: MARCA | J29: TIPO | L29: TARIFA/HORA | M29: RENDIMIENTO | O29: Vr. UNITARIO
C30: =#REF! -> #REF! | L30: =#REF! -> #REF! | M30: 45 | O30: =+L30/M30 -> #REF!
C31: =#REF! -> #REF! | L31: =#REF! -> #REF! | M31: 45 | O31: =+L31/M31 -> #REF!
C32: =#REF! -> #REF! | L32: =#REF!/8 -> #REF! | M32: 45 | O32: =+L32/M32 -> #REF!
C33: =#REF! -> #REF! | M33: 0.05 | O33: =+O55*M33 -> 0
C34: SUBTOTAL $ | O34: =+SUM(O30:O33) -> #REF!
C35: II. MATERIALES
C38: DESCRIPCIÓN | K38: UNIDAD | L38: CANTIDAD | M38: PRECIO UNIT. | O38: Vr. UNITARIO
C39: =#REF! -> #REF! | K39: M3 | L39: 1.3 | M39: =44300*1.19 -> 52717 | O39: =+M39*L39 -> 68532.1
C40: =#REF! -> #REF! | K40: LT | L40: 24 | M40: =#REF! -> #REF! | O40: =+M40*L40 -> #REF!
C42: SUBTOTAL $ | O42: =+SUM(O39:O41) -> #REF!
C43: III. TRANSPORTES
C46: MATERIAL | J46: VOL. o PESO | K46: DISTANCIA | L46: M3 o Ton/Km | M46: TARIFA | O46: Vr. UNITARIO
C47: =#REF! -> #REF! | J47: 1.3 | K47: 0 | L47: 0 | M47: =#REF! -> #REF! | O47: =+M47*L47 -> #REF!
C49: SUBTOTAL $ | O49: =+SUM(O47:O48) -> #REF!
C50: IV. MANO DE OBRA
C53: TRABAJADOR | J53: JORNAL | K53: PRESTACIONES | L53: JORNAL TOTAL | M53: RENDIMIENTO | O53: Vr. UNITARIO
C54: ='MANO DE OBRA 2'!C7 -> OBRERO | J54: ='MANO DE OBRA 2'!E7 -> 0 | K54: 1.85 | L54: =+K54*J54 -> 0 | M54: 142 | O54: =+L54/M54 -> 0
C55: SUBTOTAL $ | O55: =+SUM(O54:O54) -> 0
C57: TOTAL COSTO DIRECTO $ | O57: =ROUND(SUM(O55,O49,O42,O34),0) -> #REF!
C58: V. COSTOS INDIRECTOS
C61: Descripción | L61: Porcentaje | M61: Valor Total
C62: ADMINISTRACION | L62: 0.23 | M62: =ROUND(L62*O57,0) -> #REF!
C63: IMPREVISTOS | L63: 0.02 | M63: =ROUND(L63*O57,0) -> #REF!
C64: UTILIDAD | L64: 0.05 | M64: =ROUND(L64*O57,0) -> #REF!
C65: SUBTOTAL $ | O65: =+SUM(M62:N64) -> #REF!
C67: Precio Unitario Total Aproximado al peso $ | O67: =+O65+O57 -> #REF!
...

Sheet Subroducto 2
C3: Formulario 1 - Propuesta económica - Documento tipo de licitación de obra pública de infraestructura de transporte - versión 3
C4: Código | D4: CCE-EICP-FM-14 | E4: Versión | F4: 3
C6: [La entidad podrá utilizar este formato para la presentación de los análisis de precios unitarios del contratista en la oportunidad prevista en el numeral 8.1. del Documento Base]
D9: GOBERNACIÓN DEL HUILA
L10: VERSIÓN
D11: [NÚMERO DEL PROCESO]
L12: PÁGINA | M12: 1 | N12: DE | O12: 1
D14: ANALISIS DE PRECIOS UNITARIOS
L16: FECHA | M16: DD | N16: MM | O16: AA
C18: ÍTEMS DE LA PROPUESTA ECONÓMICA | I18: ÍTEMS NO PREVISTOS | L18: ITEM : GAVION EN PIEDRA ZONGA Y MEDIA ZONGA, MALLA C-12, ESCUADRÌA 10CM X 8CM, VENA C-10. INCLUYE, ATIRANTAMIENTO HORIZONTAL Y VERTICAL. ESP. 681 INV.
C22: DATOS ESPECÍFICOS
C24: ÍTEM | D24: DESCRIPCIÓN | M24: UNIDAD | O24: CANTIDAD
C26: I. EQUIPO
C29: DESCRIPCIÓN | H29: MARCA | J29: TIPO | L29: TARIFA/HORA | M29: RENDIMIENTO | O29: Vr. UNITARIO
C30: Compactador manual (apisonador tipo Saltarin) | L30: 8000 | M30: 2.5 | O30: =+L30/M30 -> 3200
C31: =#REF! -> #REF! | L31: =#REF! -> #REF! | M31: 40 | O31: =+L31/M31 -> #REF!
C32: =#REF! -> #REF! | M32: 0.05 | O32: =+O55*M32 -> 0
C33: SUBTOTAL $ | O33: =+SUM(O30:O32) -> #REF!
C34: II. MATERIALES
C37: DESCRIPCIÓN | K37: UNIDAD | L37: CANTIDAD | M37: PRECIO UNIT. | O37: Vr. UNITARIO
C38: =#REF! -> #REF! | K38: M3 | L38: 1.3 | M38: =44800*1.19 -> 53312 | O38: =+M38*L38 -> 69305.6
C39: =#REF! -> #REF! | K39: LT | L39: 24 | M39: =#REF! -> #REF! | O39: =+M39*L39 -> #REF!
C42: SUBTOTAL $ | O42: =+SUM(O38:O41) -> #REF!
C43: III. TRANSPORTES
C46: MATERIAL | J46: VOL. o PESO | K46: DISTANCIA | L46: M3 o Ton/Km | M46: TARIFA | O46: Vr. UNITARIO
C47: =#REF! -> #REF! | J47: 1.3 | K47: 0 | L47: 0 | M47: =#REF! -> #REF! | O47: =+M47*L47 -> #REF!
C49: SUBTOTAL $ | O49: =+SUM(O47:O48) -> #REF!
C50: IV. MANO DE OBRA
C53: TRABAJADOR | J53: JORNAL | K53: PRESTACIONES | L53: JORNAL TOTAL | M53: RENDIMIENTO | O53: Vr. UNITARIO
C54: ='MANO DE OBRA 2'!C7 -> OBRERO | J54: ='MANO DE OBRA 2'!E7 -> 0 | K54: 1.85 | L54: =+K54*J54 -> 0 | M54: 5.5 | O54: =+L54/M54 -> 0
C55: SUBTOTAL $ | O55: =+SUM(O54:O54) -> 0
C57: TOTAL COSTO DIRECTO $ | O57: =ROUND(SUM(O55,O49,O42,O33),0) -> #REF!
C58: V. COSTOS INDIRECTOS
C61: Descripción | L61: Porcentaje | M61: Valor Total
C62: ADMINISTRACION | L62: =+#REF! -> #REF! | M62: =ROUND(L62*O57,0) -> #REF!
C63: IMPREVISTOS | L63: =+#REF! -> #REF! | M63: =ROUND(L63*O57,0) -> #REF!
C64: UTILIDAD | L64: =+#REF! -> #REF! | M64: =ROUND(L64*O57,0) -> #REF!
C65: SUBTOTAL $ | O65: =+SUM(M62:N64) -> #REF!
C67: Precio Unitario Total Aproximado al peso $ | O67: =+O65+O57 -> #REF!
H71: Firma
...

Sheet Subproducto 3
C3: Formulario 1 - Propuesta económica - Documento tipo de licitación de obra pública de infraestructura de transporte - versión 3
C4: Código | D4: CCE-EICP-FM-14 | E4: Versión | F4: 3
C6: [La entidad podrá utilizar este formato para la presentación de los análisis de precios unitarios del contratista en la oportunidad prevista en el numeral 8.1. del Documento Base]
D9: GOBERNACIÓN DEL HUILA
L10: VERSIÓN
D11: [NÚMERO DEL PROCESO]
L12: PÁGINA | M12: 1 | N12: DE | O12: 1
D14: ANALISIS DE PRECIOS UNITARIOS
L16: FECHA | M16: DD | N16: MM | O16: AA
C18: ÍTEMS DE LA PROPUESTA ECONÓMICA | I18: ÍTEMS NO PREVISTOS | L18: ITEM : GAVION EN PIEDRA ZONGA Y MEDIA ZONGA, MALLA C-12, ESCUADRÌA 10CM X 8CM, VENA C-10. INCLUYE, ATIRANTAMIENTO HORIZONTAL Y VERTICAL. ESP. 681 INV.
C22: DATOS ESPECÍFICOS
C24: ÍTEM | D24: DESCRIPCIÓN | M24: UNIDAD | O24: CANTIDAD
C26: I. EQUIPO
C29: DESCRIPCIÓN | H29: MARCA | J29: TIPO | L29: TARIFA/HORA | M29: RENDIMIENTO | O29: Vr. UNITARIO
C30: =#REF! -> #REF! | L30: =#REF! -> #REF! | M30: 45 | O30: =+L30/M30 -> #REF!
C31: =#REF! -> #REF! | L31: =#REF! -> #REF! | M31: 45 | O31: =+L31/M31 -> #REF!
C32: =#REF! -> #REF! | L32: =#REF!/8 -> #REF! | M32: 45 | O32: =+L32/M32 -> #REF!
C33: =#REF! -> #REF! | M33: 0.05 | O33: =+O57*M33 -> 0
C35: SUBTOTAL $ | O35: =+SUM(O30:O34) -> #REF!
C36: II. MATERIALES
C39: DESCRIPCIÓN | K39: UNIDAD | L39: CANTIDAD | M39: PRECIO UNIT. | O39: Vr. UNITARIO
C40: =#REF! -> #REF! | K40: M3 | L40: 1.3 | M40: =44800*1.19 -> 53312 | O40: =+M40*L40 -> 69305.6
C41: =#REF! -> #REF! | K41: LT | L41: 24 | M41: =#REF! -> #REF! | O41: =+M41*L41 -> #REF!
C44: SUBTOTAL $ | O44: =+SUM(O40:O43) -> #REF!
C45: III. TRANSPORTES
C48: MATERIAL | J48: VOL. o PESO | K48: DISTANCIA | L48: M3 o Ton/Km | M48: TARIFA | O48: Vr. UNITARIO
C49: =#REF! -> #REF! | J49: 1.3 | K49: 0 | L49: 0 | M49: =#REF! -> #REF! | O49: =+M49*L49 -> #REF!
C51: SUBTOTAL $ | O51: =+SUM(O49:O50) -> #REF!
C52: IV. MANO DE OBRA
C55: TRABAJADOR | J55: JORNAL | K55: PRESTACIONES | L55: JORNAL TOTAL | M55: RENDIMIENTO | O55: Vr. UNITARIO
C56: ='MANO DE OBRA 2'!C7 -> OBRERO | J56: ='MANO DE OBRA 2'!E7 -> 0 | K56: 1.85 | L56: =+K56*J56 -> 0 | M56: 150 | O56: =+L56/M56 -> 0
C57: SUBTOTAL $ | O57: =+SUM(O56:O56) -> 0
C59: TOTAL COSTO DIRECTO $ | O59: =ROUND(SUM(O57,O51,O44,O35),0) -> #REF!
C60: V. COSTOS INDIRECTOS
C63: Descripción | L63: Porcentaje | M63: Valor Total
C64: ADMINISTRACION | L64: =+#REF! -> #REF! | M64: =ROUND(L64*O59,0) -> #REF!
C65: IMPREVISTOS | L65: =+#REF! -> #REF! | M65: =ROUND(L65*O59,0) -> #REF!
C66: UTILIDAD | L66: =+#REF! -> #REF! | M66: =ROUND(L66*O59,0) -> #REF!
C67: SUBTOTAL $ | O67: =+SUM(M64:N66) -> #REF!
C69: Precio Unitario Total Aproximado al peso $ | O69: =+O67+O59 -> #REF!
...

Sheet Subproducto 4
C3: Formulario 1 - Propuesta económica - Documento tipo de licitación de obra pública de infraestructura de transporte - versión 3
C4: Código | D4: CCE-EICP-FM-14 | E4: Versión | F4: 3
C6: [La entidad podrá utilizar este formato para la presentación de los análisis de precios unitarios del contratista en la oportunidad prevista en el numeral 8.1. del Documento Base]
D9: GOBERNACIÓN DEL HUILA
L10: VERSIÓN
D11: [NÚMERO DEL PROCESO]
L12: PÁGINA | M12: 1 | N12: DE | O12: 1
D14: ANALISIS DE PRECIOS UNITARIOS
L16: FECHA | M16: DD | N16: MM | O16: AA
C18: ÍTEMS DE LA PROPUESTA ECONÓMICA | I18: ÍTEMS NO PREVISTOS | L18: ITEM : GAVION EN PIEDRA ZONGA Y MEDIA ZONGA, MALLA C-12, ESCUADRÌA 10CM X 8CM, VENA C-10. INCLUYE, ATIRANTAMIENTO HORIZONTAL Y VERTICAL. ESP. 681 INV.
C22: DATOS ESPECÍFICOS
C24: ÍTEM | D24: DESCRIPCIÓN | M24: UNIDAD | O24: CANTIDAD
C26: I. EQUIPO
C29: DESCRIPCIÓN | H29: MARCA | J29: TIPO | L29: TARIFA/HORA | M29: RENDIMIENTO | O29: Vr. UNITARIO
C31: SUBTOTAL $ | O31: =+SUM(O30:O30) -> 0
C32: II. MATERIALES
C35: DESCRIPCIÓN | K35: UNIDAD | L35: CANTIDAD | M35: PRECIO UNIT. | O35: Vr. UNITARIO
C37: SUBTOTAL $ | O37: =+SUM(O36:O36) -> 0
C38: III. TRANSPORTES
C41: MATERIAL | J41: VOL. o PESO | K41: DISTANCIA | L41: M3 o Ton/Km | M41: TARIFA | O41: Vr. UNITARIO
C42: Transporte de agregados *m3 Concreto hidraulico o mortero. Dist. De acarreo (1-60) km. Mat. Base y Sub-base | J42: 1 | K42: 1 | L42: 1 | M42: 1300 | O42: =+M42*L42 -> 1300
C44: SUBTOTAL $ | O44: =+SUM(O42:O43) -> 1300
C45: IV. MANO DE OBRA
C48: TRABAJADOR | J48: JORNAL | K48: PRESTACIONES | L48: JORNAL TOTAL | M48: RENDIMIENTO | O48: Vr. UNITARIO
C50: SUBTOTAL $ | O50: =+SUM(O49:O49) -> 0
C52: TOTAL COSTO DIRECTO $ | O52: =ROUND(SUM(O50,O44,O37,O31),0) -> 1300
C53: V. COSTOS INDIRECTOS
C56: Descripción | L56: Porcentaje | M56: Valor Total
C57: ADMINISTRACION | L57: =+#REF! -> #REF! | M57: =ROUND(L57*O52,0) -> #REF!
C58: IMPREVISTOS | L58: =+#REF! -> #REF! | M58: =ROUND(L58*O52,0) -> #REF!
C59: UTILIDAD | L59: =+#REF! -> #REF! | M59: =ROUND(L59*O52,0) -> #REF!
C60: SUBTOTAL $ | O60: =+SUM(M57:N59) -> #REF!
C62: Precio Unitario Total Aproximado al peso $ | O62: =+O60+O52 -> #REF!
H66: Firma
H67: Nombre:
H68: Representante Legal del Contratista o su Apoderado
H69: Matricula No. :
C71: OBSERVACIONES INTERVENTORÍA
C75: APROBACIÓN POR INTERVENTORÍA
C76: Nota 1: Cuando se trate de Análisis de precios unitarios correspondientes a ítems de la propuesta económica aprobada, el Interventor aprueba el desglose de los componentes manteniendo el mismo precio unitario de cada ítem, cumpliendo con las especificaciones de construcción vigentes para el proyecto.
...

Sheet Subproducto 5
C3: Formulario 1 - Propuesta económica - Documento tipo de licitación de obra pública de infraestructura de transporte - versión 3
C4: Código | D4: CCE-EICP-FM-14 | E4: Versión | F4: 3
C6: [La entidad podrá utilizar este formato para la presentación de los análisis de precios unitarios del contratista en la oportunidad prevista en el numeral 8.1. del Documento Base]
D9: GOBERNACIÓN DEL HUILA
L10: VERSIÓN
D11: [NÚMERO DEL PROCESO]
L12: PÁGINA | M12: 1 | N12: DE | O12: 1
D14: ANALISIS DE PRECIOS UNITARIOS
L16: FECHA | M16: DD | N16: MM | O16: AA
C18: ÍTEMS DE LA PROPUESTA ECONÓMICA | I18: ÍTEMS NO PREVISTOS | L18: ITEM : GAVION EN PIEDRA ZONGA Y MEDIA ZONGA, MALLA C-12, ESCUADRÌA 10CM X 8CM, VENA C-10. INCLUYE, ATIRANTAMIENTO HORIZONTAL Y VERTICAL. ESP. 681 INV.
C22: DATOS ESPECÍFICOS
C24: ÍTEM | D24: DESCRIPCIÓN | M24: UNIDAD | O24: CANTIDAD
C26: I. EQUIPO
C29: DESCRIPCIÓN | H29: MARCA | J29: TIPO | L29: TARIFA/HORA | M29: RENDIMIENTO | O29: Vr. UNITARIO
C30: =#REF! -> #REF! | L30: =#REF! -> #REF! | M30: 15 | O30: =+L30/M30 -> #REF!
C31: =#REF! -> #REF! | L31: =#REF! -> #REF! | M31: 10 | O31: =+L31/M31 -> #REF!
C32: =#REF! -> #REF! | L32: =#REF! -> #REF! | M32: 10 | O32: =+L32/M32 -> #REF!
C33: SEÑALIZACIÓN PREVENTIVA EN VIA. | L33: Global | M33: 1 | O33: 1000
C34: =#REF! -> #REF! | M34: 0.1 | O34: =+O56*M34 -> 0
C36: SUBTOTAL $ | O36: =+SUM(O30:O35) -> #REF!
C37: II. MATERIALES
C40: DESCRIPCIÓN | K40: UNIDAD | L40: CANTIDAD | M40: PRECIO UNIT. | O40: Vr. UNITARIO
C41: MEZCLA DENSA EN CALIENTE GRADACIÓN 2 o 3. | K41: M3 | L41: 1.3 | M41: 572552 | O41: =+M41*L41 -> 744317.6
C43: SUBTOTAL $ | O43: =+SUM(O41:O42) -> 744317.6
C44: III. TRANSPORTES
C47: MATERIAL | J47: VOL. o PESO | K47: DISTANCIA | L47: M3 o Ton/Km | M47: TARIFA | O47: Vr. UNITARIO
C48: =#REF! -> #REF! | J48: 1.3 | K48: 0 | L48: 0 | M48: =#REF! -> #REF! | O48: =+M48*L48 -> #REF!
C50: SUBTOTAL $ | O50: =+SUM(O48:O49) -> #REF!
C51: IV. MANO DE OBRA
C54: TRABAJADOR | J54: JORNAL | K54: PRESTACIONES | L54: JORNAL TOTAL | M54: RENDIMIENTO | O54: Vr. UNITARIO
C55: ='MANO DE OBRA 2'!C9 -> CUADRILLA (1 OBRERO + 1 OFICIAL) | J55: ='MANO DE OBRA 2'!E9 -> 0 | K55: 1.85 | L55: =+K55*J55 -> 0 | M55: 20 | O55: =+L55/M55 -> 0
C56: SUBTOTAL $ | O56: =+SUM(O55:O55) -> 0
C58: TOTAL COSTO DIRECTO $ | O58: =ROUND(SUM(O56,O50,O43,O36),0) -> #REF!
C59: V. COSTOS INDIRECTOS
C62: Descripción | L62: Porcentaje | M62: Valor Total
C63: ADMINISTRACION | L63: =+#REF! -> #REF! | M63: =ROUND(L63*O58,0) -> #REF!
C64: IMPREVISTOS | L64: =+#REF! -> #REF! | M64: =ROUND(L64*O58,0) -> #REF!
C65: UTILIDAD | L65: =+#REF! -> #REF! | M65: =ROUND(L65*O58,0) -> #REF!
C66: SUBTOTAL $ | O66: =+SUM(M63:N65) -> #REF!
C68: Precio Unitario Total Aproximado al peso $ | O68: =+O66+O58 -> #REF!
...

Sheet CARACTERIZACIÓN
C3: Formulario 1 - Propuesta económica - Documento tipo de licitación de obra pública de infraestructura de transporte - versión 3
C4: Código | D4: CCE-EICP-FM-14 | E4: Versión | F4: 3
C6: [La entidad podrá utilizar este formato para la presentación de los análisis de precios unitarios del contratista en la oportunidad prevista en el numeral 8.1. del Documento Base]
D9: GOBERNACIÓN DEL HUILA
L10: VERSIÓN
D11: [NÚMERO DEL PROCESO]
L12: PÁGINA | M12: 1 | N12: DE | O12: 1
D14: ANALISIS DE PRECIOS UNITARIOS
L16: FECHA | M16: DD | N16: MM | O16: AA
C18: ÍTEMS DE LA PROPUESTA ECONÓMICA | I18: ÍTEMS NO PREVISTOS | L18: ITEM : GAVION EN PIEDRA ZONGA Y MEDIA ZONGA, MALLA C-12, ESCUADRÌA 10CM X 8CM, VENA C-10. INCLUYE, ATIRANTAMIENTO HORIZONTAL Y VERTICAL. ESP. 681 INV.
C22: DATOS ESPECÍFICOS
C24: ÍTEM | D24: DESCRIPCIÓN | M24: UNIDAD | O24: CANTIDAD
C26: I. EQUIPO
C29: DESCRIPCIÓN | H29: MARCA | J29: TIPO | L29: TARIFA/HORA | M29: RENDIMIENTO | O29: Vr. UNITARIO
C30: =#REF! -> #REF! | L30: =#REF! -> #REF! | M30: 500 | O30: =+L30/M30 -> #REF!
C31: =#REF! -> #REF! | L31: =#REF! -> #REF! | M31: 500 | O31: =+L31/M31 -> #REF!
C32: =#REF! -> #REF! | M32: 0.05 | O32: =+O54*M32 -> 0
C34: SUBTOTAL $ | O34: =+SUM(O30:O33) -> #REF!
C35: II. MATERIALES
C38: DESCRIPCIÓN | K38: UNIDAD | L38: CANTIDAD | M38: PRECIO UNIT. | O38: Vr. UNITARIO
C39: =#REF! -> #REF! | K39: GL | L39: 0.25 | M39: =#REF! -> #REF! | O39: =+M39*L39 -> #REF!
C41: SUBTOTAL $ | O41: =+SUM(O39:O40) -> #REF!
C42: III. TRANSPORTES
C45: MATERIAL | J45: VOL. o PESO | K45: DISTANCIA | L45: M3 o Ton/Km | M45: TARIFA | O45: Vr. UNITARIO
C48: SUBTOTAL $ | O48: =+SUM(O46:O47) -> 0
C49: IV. MANO DE OBRA
C52: TRABAJADOR | J52: JORNAL | K52: PRESTACIONES | L52: JORNAL TOTAL | M52: RENDIMIENTO | O52: Vr. UNITARIO
C53: ='MANO DE OBRA 2'!C7 -> OBRERO | J53: ='MANO DE OBRA 2'!E7 -> 0 | K53: 1.85 | L53: =+K53*J53 -> 0 | M53: 400 | O53: =+L53/M53 -> 0
C54: SUBTOTAL $ | O54: =+SUM(O53:O53) -> 0
C56: TOTAL COSTO DIRECTO $ | O56: =ROUND(SUM(O54,O48,O41,O34),0) -> #REF!
C57: V. COSTOS INDIRECTOS
C60: Descripción | L60: Porcentaje | M60: Valor Total
C61: ADMINISTRACION | L61: =+#REF! -> #REF! | M61: =ROUND(L61*O56,0) -> #REF!
C62: IMPREVISTOS | L62: =+#REF! -> #REF! | M62: =ROUND(L62*O56,0) -> #REF!
C63: UTILIDAD | L63: =+#REF! -> #REF! | M63: =ROUND(L63*O56,0) -> #REF!
C64: SUBTOTAL $ | O64: =+SUM(M61:N63) -> #REF!
C66: Precio Unitario Total Aproximado al peso $ | O66: =+O64+O56 -> #REF!
H70: Firma
H71: Nombre:
H72: Representante Legal del Contratista o su Apoderado
...

Sheet PRES
A1: CALCULO
A2: OBJETO: " REPOSICION A TODO COSTO DE TRES (3) ALCANTARILLAS DE 36", EN LA VIA GARZON- LAPLATA. CODIGO 3701, VIA DE PRIMER ORDEN"
A3: Ítem | B3: DESCRIPCIÓN | D3: %
A4: A | B4: Salario básico | D4: 1
A5: B | B5: Prestaciones sociales | D5: =D6+D7+D8+D9+D10+D11+D12+D13+D14+D15+D16+D17 -> 0.6735
B6: Cesantias (A/12) | D6: 0.0833
B7: Intereses sobre cesantías | D7: 0.01
B8: Prima de servicios anuales | D8: 0.0833
B9: Vacaciones (15/360) | D9: 0.0417
B10: Salud | D10: 0.125
B11: Pension | D11: 0.16
B12: A.R.P ( riesgos 5) | D12: 0.0696
B13: Subsidio Familiar | D13: 0.04
B14: I.C.B.F | D14: 0.03
B15: SENA | D15: 0.02
B16: Subsidio de transporte | D16: 0.0046
B17: Dotacion (hasta 2 smmlv) | D17: 0.006
A18: D | B18: Costos de perfeccionamiento, impuestos,retenciones y polizas | D18: 0.08
B19: Publicacion 18% de smmlv (costos directos)
B20: Estampilla prodesarrollo departamental | D20: 0.02
B21: estampilla prouniversidad surcolombiana | D21: 0.005
B22: Estampilla procultura | D22: 0.015
B23: Garantias | D23: 0.004
A24: E | B24: OTROS IMPUESTOS | D24: 0.025
A25: F | B25: GASTOS OFICINA CONSULTOR | D25: =D26+D27+D28+D29 -> 0.002
B26: Asesoria legal, tributaria y medica | D26: 0.0005
B27: Costo de personal no facturable | D27: 0.0005
B28: Gastos de viaje | D28: 0.0005
B29: Otros | D29: 0.0005
A30: G | B30: IMPREVISTOS | D30: 0.02
A31: H | B31: HONORARIOS (UTIIDAD) | D31: 0.05
B32: SUBTOTAL
B33: Subtotal | D33: =D4+D5+D18+D24+D25+D30+D31 -> 1.8505
B34: FACTOR PRESTACIONAL MANO DE OBRA | D34: 185
A38: Firma
A39: Nombre: BEATRIZ EUGENIA LUNA SALGUERO
A40: Profesional Universitaria SVIAS | C40: Archí./JCGG Svias
