Workbook
Name CapFinanciera1: #REF!
Name CapFinanciera2: #REF!
Name CapFinanciera3: #REF!
Name CapFinanciera4: #REF!
Name CapTecnica1: #REF!
Name CapTecnica2: #REF!
Name Experiencia1: #REF!
Name Experiencia2: #REF!
Name Experiencia3: #REF!
Name prueba: #REF!

Sheet PROPUESTA APUS ORDENADOS
A1: ADECUACION DE CRUCES VIALES COMO OBRAS COMPLEMENTARIAS DE SEGURIDAD VIAL EN EL MUNICIPIO DE SAN JOSE DE CUCUTA, DEPARTAMENOR NORTE DE SANTANDER - VIGENCIA 2021.
A2: ESTRUCTURA DEL PRESUPUESTO
A3: Nº | B3: ÍTEM DE PAGO | C3: ESPECIFICACIONES | D3: DESCRIPCIÓN | E3: UND. | F3: CANTIDAD | G3: VALOR UNITARIO | H3: VALOR TOTAL
C4: PARTICULAR
A5: CRUCES VIALES: CALLE 10, AVENIDA 4, CALLE 13, AVENIDA 0 Y CALLE 11, SAN JOSE DE CUCUTA, DEPARTAMENTO DE NORTE DE SANTANDER. | I5: % SOBRE P.O | J5: 0.9303
A6: 1 | B6: PRELIMINARES DE OBRA
A7: APU 1.1 | B7: 1.1 | C7: Esta actividad Consiste en la ubicación del area o las areas a intervenir (Incluye materiales, mano de obra y equipos). | D7: Localizacion y replanteo | E7: M2 | F7: 19703 | G7: 1438 | H7: =+G7*F7 -> 28332914
A8: APU 1.1 | B8: 1.1 | C8: Esta actividad Consiste en la ubicación del area o las areas a intervenir (Incluye materiales, mano de obra y equipos). | D8: Localizacion y replanteo | E8: M2 | F8: 7032 | G8: 1438 | H8: =+G8*F8 -> 10112016
A9: APU 1.1 | B9: 1.1 | C9: Esta actividad Consiste en la ubicación del area o las areas a intervenir las cuales son objeto de la intervencion (Incluye materiales, mano de obra y equipos). | D9: Localizacion y replanteo | E9: M2 | F9: 5796 | G9: 1438 | H9: =ROUND((G9*F9),0) -> 8334648
A10: APU 1.1 | B10: 1.1 | C10: Esta actividad Consiste en la ubicación del area o las areas a intervenir (Incluye materiales, mano de obra y equipos). | D10: Localizacion y replanteo | E10: M2 | F10: 2400 | G10: 1438 | H10: =+G10*F10 -> 3451200
A11: APU 1.1 | B11: 1.1 | C11: Esta actividad Consiste en la ubicación del area o las areas a intervenir las cuales son objeto de la intervencion (Incluye materiales, mano de obra y equipos). | D11: Localizacion y replanteo | E11: M2 | F11: 3177 | G11: 1438 | H11: =ROUND((G11*F11),0) -> 4568526
A12: APU 1.1 | B12: 1.1 | C12: Esta actividad Consiste en la ubicación del area o las areas a intervenir (Incluye materiales, mano de obra y equipos). | D12: Localizacion y replanteo | E12: M2 | F12: 3832 | G12: 1438 | H12: =+G12*F12 -> 5510416
A13: APU 1.1 | B13: 1.1 | C13: Esta actividad Consiste en la ubicación del area o las areas a intervenir (Incluye materiales, mano de obra y equipos). | D13: Localizacion y replanteo | E13: M2 | F13: 4882 | G13: 1438 | H13: =+G13*F13 -> 7020316
A14: APU 1.1 | B14: 1.1 | C14: Esta actividad Consiste en la ubicación del area o las areas a intervenir (Incluye materiales, mano de obra y equipos). | D14: Localizacion y replanteo | E14: M2 | F14: 4134 | G14: 1438 | H14: =+G14*F14 -> 5944692
A15: APU 1.1 | B15: 1.1 | C15: Esta actividad Consiste en la ubicación del area o las areas a intervenir (Incluye materiales, mano de obra y equipos). | D15: Localizacion y replanteo | E15: M2 | F15: 5775 | G15: 1438 | H15: =+G15*F15 -> 8304450 | I15: =SUM(F7:F15) -> 56731 | K15: =SUM(F7:F15) -> 56731
A16: APU 1,2 | B16: 1.3 | C16: Esta Actividad Consite en la Demolicion de las areas identificadas Como Pasos Peatonales (Incluye Materiales, equipos y Mano de Obra) | D16: Demolicion manual en Asfalto | E16: M2 | F16: 390 | G16: 14935 | H16: =+G16*F16 -> 5824650
A17: APU 1,2 | B17: 1.2 | C17: Esta actividad Consiste en la demolicion manual de las areas afecatadas de la calzada para la realizacion de un bacheo (Incluye materiales, mano de obra y equipos). | D17: Demolicion manual en Asfalto | E17: M2 | F17: 386 | G17: 14935 | H17: =+G17*F17 -> 5764910
A18: APU 1,2 | B18: 1.2 | C18: Esta actividad Consiste en la demolicion manual de la interseccion a cancelar para la construccion de el anden de separacion (Incluye materiales, mano de obra y equipos). | D18: Demolicion manual en Asfalto | E18: M2 | F18: 99 | G18: 14935 | H18: =ROUND((G18*F18),0) -> 1478565
A19: APU 1,2 | B19: 1.2 | C19: Esta actividad Consiste en la demolicion manual de las areas afecatadas de la calzada para la realizacion de un bacheo (Incluye materiales, mano de obra y equipos). | D19: Demolicion manual en Asfalto | E19: M2 | F19: 209 | G19: 14935 | H19: =+G19*F19 -> 3121415
A20: APU 1,2 | B20: 1.2 | C20: Esta actividad Consiste en la demolicion manual de las areas afecatadas de la calzada para la realizacion de un bacheo (Incluye materiales, mano de obra y equipos). | D20: Demolicion manual en Asfalto para Bacheo | E20: M2 | F20: 482 | G20: 14935 | H20: =+G20*F20 -> 7198670
A21: APU 1,2 | B21: 1.2 | C21: Esta actividad Consiste en la demolicion manual de las areas afecatadas de la calzada para la realizacion de un bacheo (Incluye materiales, mano de obra y equipos). | D21: Demolicion manual en Asfalto para Bacheo | E21: M2 | F21: 110 | G21: 14935 | H21: =+G21*F21 -> 1642850
A22: APU 1,2 | B22: 1.2 | C22: Esta actividad Consiste en la demolicion manual de las areas afecatadas de la calzada para la realizacion de un bacheo (Incluye materiales, mano de obra y equipos). | D22: Demolicion manual en Asfalto para Bacheo | E22: M2 | F22: 88 | G22: 14935 | H22: =+G22*F22 -> 1314280 | K22: =SUM(F16:F22) -> 1764
A23: APU 1.3 | B23: 1.2 | C23: Esta actividad consiste en el corte de las areas identificadas Como zonas peatonales (Incluye Materiales, equipos y Mano de Obra) | D23: Corte de Pavimento en Asfalto | E23: ML | F23: 378 | G23: 7660 | H23: =+G23*F23 -> 2895480
A24: APU 1.3 | B24: 1.3 | C24: Esta actividad Consiste en el corte de las areas afecatadas de la calzada para la realizacion de un bacheo y zonas peatonales (Incluye materiales, mano de obra y equipos). | D24: Corte de Pavimento en Asfalto | E24: ML | F24: 370 | G24: 7660 | H24: =+G24*F24 -> 2834200
A25: APU 1,3 | B25: 1.3 | C25: Esta actividad Consiste en el corte de las areas a demoler de pavimento para la construccion del anden para la cancelacion de la interseccion (Incluye materiales, mano de obra y equipos). | D25: Corte de Pavimento | E25: ML | F25: 79 | G25: 7660 | H25: =ROUND((G25*F25),0) -> 605140
A26: APU 1,3 | B26: 1.3 | C26: Esta actividad Consiste en el corte de las areas afecatadas de la calzada para la realizacion de un bacheo (Incluye materiales, mano de obra y equipos). | D26: Corte de Pavimento en Asfalto | E26: ML | F26: 330 | G26: 7660 | H26: =+G26*F26 -> 2527800
A27: APU 1,3 | B27: 1.3 | C27: Esta actividad Consiste en el corte de las areas afecatadas de la calzada para la realizacion de un bacheo (Incluye materiales, mano de obra y equipos). | D27: Corte de Pavimento en Asfalto para Bacheo | E27: ML | F27: 512 | G27: 7660 | H27: =+G27*F27 -> 3921920
A28: APU 1,3 | B28: 1.3 | C28: Esta actividad Consiste en el corte de las areas afecatadas de la calzada para la realizacion de un bacheo (Incluye materiales, mano de obra y equipos). | D28: Corte de Pavimento en Asfalto para Bacheo | E28: ML | F28: 220 | G28: 7660 | H28: =+G28*F28 -> 1685200
A29: APU 1,3 | B29: 1.3 | C29: Esta actividad Consiste en el corte de las areas afecatadas de la calzada para la realizacion de un bacheo (Incluye materiales, mano de obra y equipos). | D29: Corte de Pavimento en Asfalto para Bacheo | E29: ML | F29: 176 | G29: 7660 | H29: =+G29*F29 -> 1348160 | K29: =SUM(F23:F29) -> 2065
A30: APU 1,4 | B30: 1.4 | C30: Esta actividad Coniste en la demolicion de unos tramos del bordillo exetente con e objetivo de amarrar y traslapar para la contruccion del nuevo bordillo | D30: Demolicion de Bordillo en Concreto | E30: ML | F30: 9 | G30: 4792 | H30: =ROUND((G30*F30),0) -> 43128 | K30: =+F30 -> 9
A31: 2 | B31: EXCAVACIONES
A32: APU 2,1 | B32: 2.1 | C32: Esta actividad consiste en la excavacion en las areas peatonales para conformar la estructura del adoquin (Incluye Materiales, equipos y Mano de Obra) | D32: Excavacionn Manual sin Clasificar | E32: M3 | F32: 39 | G32: 49327 | H32: =+G32*F32 -> 1923753
A33: APU 2,1 | B33: 2.1 | C33: Esta actividad consiste en la excavaciond e la estructura del pavimento necesaria para el bacheo y zonas peatonales sobre el area a intervenir (Incluye materiales, mano de obra y equipos). | D33: Excavacion Manual sin clasificar | E33: M3 | F33: 46 | G33: 49327 | H33: =+G33*F33 -> 2269042
A34: APU 2,1 | B34: 2.1 | C34: Esta actividad Consiste en la Excavacion del area donde se construira los andenes (Incluye materiales, mano de obra y equipos). | D34: Excavacion Manual sin Clasificar | E34: M3 | F34: 4 | G34: 49327 | H34: =ROUND((G34*F34),0) -> 197308
A35: APU 2,1 | B35: 2.1 | C35: Esta actividad consiste en la excavacion en las areas peatonales para conformar la estructura del adoquin (Incluye Materiales, equipos y Mano de Obra) | D35: Excavacionn Manual sin Clasificar | E35: M3 | F35: 47 | G35: 49327 | H35: =+G35*F35 -> 2318369
A36: APU 2,1 | B36: 2.1 | C36: Esta actividad consiste en la excavacion en las areas peatonales para conformar la estructura del adoquin (Incluye Materiales, equipos y Mano de Obra) | D36: Excavacionn Manual sin Clasificar | E36: M3 | F36: 59 | G36: 49327 | H36: =+G36*F36 -> 2910293
A37: APU 2,1 | B37: 3.1 | C37: Esta actividad consiste en la excavaciond e la estructura del pavimento necesaria para el bacheo sobre el area a intervenir (Incluye materiales, mano de obra y equipos). | D37: Excavacion Manual sin clasificar | E37: M3 | F37: 34 | G37: 49327 | H37: =+G37*F37 -> 1677118
A38: APU 2,1 | B38: 3.1 | C38: Esta actividad consiste en la excavaciond e la estructura del pavimento necesaria para el bacheo sobre el area a intervenir (Incluye materiales, mano de obra y equipos). | D38: Excavacion Manual sin clasificar | E38: M3 | F38: 23 | G38: 49327 | H38: =+G38*F38 -> 1134521 | K38: =SUM(F32:F38) -> 252
A39: APU 2,2 | B39: 2.2 | C39: Esta actividad consiste en la adecuacion del area demolida para la intalacion del elemento correspondiente (Incluye Materiales, equipos y Mano de Obra) | D39: Conformacion de la superficie existente | E39: M3 | F39: 390 | G39: 2033 | H39: =+G39*F39 -> 792870
A40: APU 2,2 | B40: 2.2 | C40: Esta actividad consiste en la adecuacion del area demolida para la intalacion del elemento correspondiente (Incluye Materiales, equipos y Mano de Obra) | D40: Conformacion de la superficie existente | E40: M3 | F40: 386 | G40: 2033 | H40: =+G40*F40 -> 784738
...

Sheet APU 1,1
A2: ANALISIS DE PRECIOS UNITARIOS
A5: ÍTEM | B5: DESCRIPCIÓN | G5: UNIDAD | I5: CANTIDAD
A6: 1.1 | B6: Localizacion y replanteo | G6: M2 | I6: =+'PROPUESTA CONSORCIO'!F7+'PROPUESTA CONSORCIO'!F40+'PROPUESTA CONSORCIO'!F80+'PROPUESTA CONSORCIO'!F96+'PROPUESTA CONSORCIO'!F121+'PROPUESTA CONSORCIO'!F140+'PROPUESTA CONSORCIO'!F178+'PROPUESTA CONSORCIO'!F217+'PROPUESTA CONSORCIO'!F248 -> 56731
A7: I. EQUIPO
A8: DESCRIPCIÓN | C8: UNIDAD | D8: TIPO | F8: TARIFA/HORA | G8: RENDIMIENTO | I8: Vr. UNITARIO
A9: Herramienta menor: 5% Vr. M.O | C9: % | D9: ------------- | F9: =+I30 -> 628.97 | G9: 0.05 | I9: =+F9*G9 -> 31.45
A10: Equipo estacion | C10: De | F10: 111485 | G10: 0.004 | I10: =+F10*G10 -> 445.94
A12: SUBTOTAL $ | I12: =SUM(I9:I11) -> 477.39
A13: II. MATERIALES
A14: DESCRIPCIÓN | E14: UNIDAD | F14: CANTIDAD | G14: PRECIO UNIT. | I14: Vr. UNITARIO
A18: SUBTOTAL $ | I18: =SUM(I15:I17) -> 0
A19: III. TRANSPORTES
A20: MATERIAL | D20: VOL. o PESO | E20: DISTANCIA | F20: M3 o Ton/Km | G20: TARIFA | I20: Vr. UNITARIO
A23: SUBTOTAL $
A24: IV. MANO DE OBRA
A25: TRABAJADOR | D25: JORNAL | E25: PRESTACIONES | F25: JORNAL TOTAL | G25: RENDIMIENTO | I25: Vr. UNITARIO
A26: 1 Topografo | D26: 93275 | E26: 68753 | F26: =+E26+D26 -> 162028 | G26: 435.76 | I26: =+F26/G26 -> 371.83
A27: 2 Cadeneros | D27: 60568 | E27: 51482.8 | F27: =+E27+D27 -> 112050.8 | G27: =+G26 -> 435.76 | I27: =+F27/G27 -> 257.14
A30: SUBTOTAL $ | I30: =SUM(I26:I29) -> 628.97
A32: TOTAL COSTO DIRECTO $ | I32: =+I12+I18+I23+I30 -> 1106.36
A33: V. COSTOS INDIRECTOS
A34: DESCRIPCIÓN | F34: PORCENTAJE | G34: VALOR TOTAL
A35: ADMINISTRACION | F35: 0.25 | G35: =+I32 -> 1106.36 | I35: =+G35*F35 -> 276.59
A36: IMPREVISTOS | F36: 0 | G36: =+I32 -> 1106.36 | I36: =+G36*F36 -> 0
A37: UTILIDAD | F37: 0.05 | G37: =+I32 -> 1106.36 | I37: =+G37*F37 -> 55.32
A38: SUBTOTAL $ | I38: =SUM(I35:I37) -> 331.91
A40: PRECIO UNITARIO TOTAL APROCIMADO AL PESO $ | I40: =+ROUND(I32+I38,0) -> 1438
J41: =+'PROPUESTA CONSORCIO'!G7 -> 1438 | K41: =+J41-I40 -> 0

Sheet APU 1,2
A2: ANALISIS DE PRECIOS UNITARIOS
A5: ÍTEM | B5: DESCRIPCIÓN | G5: UNIDAD | I5: CANTIDAD
A6: 1.2 | B6: Demolicion manual en Asfalto para Bacheo | G6: M2 | I6: =+'PROPUESTA CONSORCIO'!F9+'PROPUESTA CONSORCIO'!F41+'PROPUESTA CONSORCIO'!F97+'PROPUESTA CONSORCIO'!F141+'PROPUESTA CONSORCIO'!F179+'PROPUESTA CONSORCIO'!F218+'PROPUESTA CONSORCIO'!F249 -> 1764
A7: I. EQUIPO
A8: DESCRIPCIÓN | C8: UNIDAD | D8: TIPO | F8: TARIFA/HORA | G8: RENDIMIENTO | I8: Vr. UNITARIO
A9: Herramienta menor: 5% Vr. M.O | C9: % | D9: ------------- | F9: =+I30 -> 7855.3 | G9: 0.05 | I9: =+G9*F9 -> 392.77
A10: Martillo demoledor | C10: Hm | D10: ------------- | F10: 94000 | G10: 29.0069 | I10: =+F10/G10 -> 3240.61
A12: SUBTOTAL $ | I12: =SUM(I9:I11) -> 3633.38
A13: II. MATERIALES
A14: DESCRIPCIÓN | E14: UNIDAD | F14: CANTIDAD | G14: PRECIO UNIT. | I14: Vr. UNITARIO
A18: SUBTOTAL $ | I18: =SUM(I15:I17) -> 0
A19: III. TRANSPORTES
A20: MATERIAL | D20: VOL. o PESO | E20: DISTANCIA | F20: M3 o Ton/Km | G20: TARIFA | I20: Vr. UNITARIO
A23: SUBTOTAL $
A24: IV. MANO DE OBRA
A25: TRABAJADOR | D25: JORNAL | E25: PRESTACIONES | F25: JORNAL TOTAL | G25: RENDIMIENTO | I25: Vr. UNITARIO
A26: 2 Ayudante de contruccion | D26: 60568 | E26: 51482.8 | F26: 112050.8 | G26: =+G10 -> 29.0069 | I26: =+F26/G26 -> 3862.9
A27: 1 Oficial de Contruccion | D27: 66667 | E27: 49140.25 | F27: 115807.25 | G27: =+G26 -> 29.0069 | I27: =+F27/G27 -> 3992.4
A30: SUBTOTAL $ | I30: =SUM(I26:I29) -> 7855.3
A32: TOTAL COSTO DIRECTO $ | I32: =+I12+I18+I23+I30 -> 11488.68
A33: V. COSTOS INDIRECTOS
A34: DESCRIPCIÓN | F34: PORCENTAJE | G34: VALOR TOTAL
A35: ADMINISTRACION | F35: 0.25 | G35: =+I32 -> 11488.68 | I35: =+G35*F35 -> 2872.17
A36: IMPREVISTOS | F36: 0 | G36: =+I32 -> 11488.68 | I36: =+F36*G36 -> 0
A37: UTILIDAD | F37: 0.05 | G37: =+I32 -> 11488.68 | I37: =+F37*G37 -> 574.43
A38: SUBTOTAL $ | I38: =SUM(I35:I37) -> 3446.6
A40: PRECIO UNITARIO TOTAL APROCIMADO AL PESO $ | I40: =+ROUND(I32+I38,0) -> 14935 | J40: =+'PROPUESTA CONSORCIO'!G9 -> 14935 | K40: =+I40-J40 -> 0

Sheet APU 1,3
A2: ANALISIS DE PRECIOS UNITARIOS
A5: ÍTEM | B5: DESCRIPCIÓN | G5: UNIDAD | I5: CANTIDAD
A6: 1.3 | B6: Corte de Pavimento en Asfalto | G6: ML | I6: =+'PROPUESTA APUS ORDENADOS'!F23+'PROPUESTA APUS ORDENADOS'!F24+'PROPUESTA APUS ORDENADOS'!F25+'PROPUESTA APUS ORDENADOS'!F26+'PROPUESTA APUS ORDENADOS'!F27+'PROPUESTA APUS ORDENADOS'!F28+'PROPUESTA APUS ORDENADOS'!F29 -> 2065
A7: I. EQUIPO
A8: DESCRIPCIÓN | C8: UNIDAD | D8: TIPO | F8: TARIFA/HORA | G8: RENDIMIENTO | I8: Vr. UNITARIO
A9: Herramienta menor: 5% Vr. M.O | C9: % | D9: ------------- | F9: =+I30 -> 2680.68 | G9: 0.05 | I9: =+F9*G9 -> 134.03
A10: Cortadora de Asfalto | C10: Dia | D10: ------------- | F10: 75000 | G10: 85 | I10: =+F10/G10 -> 882.35
A11: Disco Diamamntado | C11: Und | D11: ------------- | F11: 1444500 | G11: 657.97 | I11: =+F11/G11 -> 2195.39
A12: SUBTOTAL $ | I12: =SUM(I9:I11) -> 3211.77
A13: II. MATERIALES
A14: DESCRIPCIÓN | E14: UNIDAD | F14: CANTIDAD | G14: PRECIO UNIT. | I14: Vr. UNITARIO
A18: SUBTOTAL $ | I18: =SUM(I15:I17) -> 0
A19: III. TRANSPORTES
A20: MATERIAL | D20: VOL. o PESO | E20: DISTANCIA | F20: M3 o Ton/Km | G20: TARIFA | I20: Vr. UNITARIO
A23: SUBTOTAL $
A24: IV. MANO DE OBRA
A25: TRABAJADOR | D25: JORNAL | E25: PRESTACIONES | F25: JORNAL TOTAL | G25: RENDIMIENTO | I25: Vr. UNITARIO
A26: 2 Ayudante de contruccion | D26: 60568 | E26: 51482.8 | F26: =+E26+D26 -> 112050.8 | G26: =+G10 -> 85 | I26: =+F26/G26 -> 1318.24
A27: 1 Oficial de Contruccion | D27: 66667 | E27: 49140.25 | F27: =+E27+D27 -> 115807.25 | G27: =+G26 -> 85 | I27: =+F27/G27 -> 1362.44
A30: SUBTOTAL $ | I30: =SUM(I26:I29) -> 2680.68
A32: TOTAL COSTO DIRECTO $ | I32: =+I12+I18+I23+I30 -> 5892.45
A33: V. COSTOS INDIRECTOS
A34: DESCRIPCIÓN | F34: PORCENTAJE | G34: VALOR TOTAL
A35: ADMINISTRACION | F35: 0.25 | G35: =+I32 -> 5892.45 | I35: =+G35*F35 -> 1473.11
A36: IMPREVISTOS | F36: 0 | G36: =+I32 -> 5892.45 | I36: =+G36*F36 -> 0
A37: UTILIDAD | F37: 0.05 | G37: =+I32 -> 5892.45 | I37: =+G37*F37 -> 294.62
A38: SUBTOTAL $ | I38: =SUM(I35:I37) -> 1767.73
A40: PRECIO UNITARIO TOTAL APROCIMADO AL PESO $ | I40: =ROUND(+I32+I38,0) -> 7660 | J40: =+'PROPUESTA CONSORCIO'!G8 -> 7660 | K40: =+J40-I40 -> 0

Sheet APU 1,4
A2: ANALISIS DE PRECIOS UNITARIOS
A5: ÍTEM | B5: DESCRIPCIÓN | G5: UNIDAD | I5: CANTIDAD
A6: 1.4 | B6: Demolicion de Bordillo en Concreto | G6: ML | I6: 9
A7: I. EQUIPO
A8: DESCRIPCIÓN | C8: UNIDAD | D8: TIPO | F8: TARIFA/HORA | G8: RENDIMIENTO | I8: Vr. UNITARIO
A9: Herramienta menor: 5% Vr. M.O | C9: % | D9: ------------- | F9: =+I30 -> 2261.37 | G9: 0.05 | I9: =+G9*F9 -> 113.07
A10: martillo demoledor | C10: Dia | D10: ------------- | F10: 65000 | G10: 49.5534 | I10: =+F10/G10 -> 1311.72
A12: SUBTOTAL $ | I12: =SUM(I9:I11) -> 1424.79
A13: II. MATERIALES
A14: DESCRIPCIÓN | E14: UNIDAD | F14: CANTIDAD | G14: PRECIO UNIT. | I14: Vr. UNITARIO
A18: SUBTOTAL $ | I18: =SUM(I15:I17) -> 0
A19: III. TRANSPORTES
A20: MATERIAL | D20: VOL. o PESO | E20: DISTANCIA | F20: M3 o Ton/Km | G20: TARIFA | I20: Vr. UNITARIO
A23: SUBTOTAL $ | I23: =SUM(I21:I22) -> 0
A24: IV. MANO DE OBRA
A25: TRABAJADOR | D25: JORNAL | E25: PRESTACIONES | F25: JORNAL TOTAL | G25: RENDIMIENTO | I25: Vr. UNITARIO
A26: 2 Ayudante de contruccion | D26: 60568 | E26: 51482.8 | F26: 112050.8 | G26: =+G10 -> 49.55 | I26: =+F26/G26 -> 2261.37
A30: SUBTOTAL $ | I30: =SUM(I26:I29) -> 2261.37
A32: TOTAL COSTO DIRECTO $ | I32: =+I12+I18+I23+I30 -> 3686.16
A33: V. COSTOS INDIRECTOS
A34: DESCRIPCIÓN | F34: PORCENTAJE | G34: VALOR TOTAL
A35: ADMINISTRACION | F35: 0.25 | G35: =+I32 -> 3686.16 | I35: =+F35*G35 -> 921.54
A36: IMPREVISTOS | F36: 0 | G36: =+I32 -> 3686.16 | I36: =+F36*G36 -> 0
A37: UTILIDAD | F37: 0.05 | G37: =+I32 -> 3686.16 | I37: =+F37*G37 -> 184.31
A38: SUBTOTAL $ | I38: =SUM(I35:I37) -> 1105.85
A40: PRECIO UNITARIO TOTAL APROCIMADO AL PESO $ | I40: =+ROUND(I32+I38,0) -> 4792 | J40: =+'PROPUESTA APUS ORDENADOS'!G30 -> 4792 | K40: =+I40-J40 -> 0

Sheet APU 2,1
A2: ANALISIS DE PRECIOS UNITARIOS
A5: ÍTEM | B5: DESCRIPCIÓN | G5: UNIDAD | I5: CANTIDAD
A6: 2.1 | B6: Excavacionn Manual sin Clasificar | G6: M3 | I6: =+'PROPUESTA CONSORCIO'!F12+'PROPUESTA CONSORCIO'!F45+'PROPUESTA CONSORCIO'!F102+'PROPUESTA CONSORCIO'!F145+'PROPUESTA CONSORCIO'!F183+'PROPUESTA CONSORCIO'!F269+'PROPUESTA CONSORCIO'!F238 -> 252
A7: I. EQUIPO
A8: DESCRIPCIÓN | C8: UNIDAD | D8: TIPO | F8: TARIFA/HORA | G8: RENDIMIENTO | I8: Vr. UNITARIO
A9: Herramienta menor: 10% Vr. M.O | C9: % | D9: ------------- | F9: =+I30 -> 36137.03 | G9: 0.05 | I9: =+G9*F9 -> 1806.85
A13: SUBTOTAL $ | I13: =SUM(I9:I12) -> 1806.85
A14: II. MATERIALES
A15: DESCRIPCIÓN | E15: UNIDAD | F15: CANTIDAD | G15: PRECIO UNIT. | I15: Vr. UNITARIO
A19: SUBTOTAL $ | I19: =SUM(I16:I18) -> 0
A20: III. TRANSPORTES
A21: MATERIAL | D21: VOL. o PESO | E21: DISTANCIA | F21: M3 o Ton/Km | G21: TARIFA | I21: Vr. UNITARIO
A24: SUBTOTAL $ | I24: =SUM(I22:I23) -> 0
A25: IV. MANO DE OBRA
A26: TRABAJADOR | D26: JORNAL | E26: PRESTACIONES | F26: JORNAL TOTAL | G26: RENDIMIENTO | I26: Vr. UNITARIO
A27: 1 Ayudante de contruccion | D27: 30284 | E27: 25741.4 | F27: =+E27+D27 -> 56025.4 | G27: 1.55036 | I27: =+F27/G27 -> 36137.03
A30: SUBTOTAL $ | I30: =SUM(I27:I29) -> 36137.03
A32: TOTAL COSTO DIRECTO $ | I32: =+I13+I19+I24+I30 -> 37943.88
A33: V. COSTOS INDIRECTOS
A34: DESCRIPCIÓN | F34: PORCENTAJE | G34: VALOR TOTAL
A35: ADMINISTRACION | F35: 0.25 | G35: =+I32 -> 37943.88 | I35: =+G35*F35 -> 9485.97
A36: IMPREVISTOS | F36: 0 | G36: =+I32 -> 37943.88 | I36: =+G36*F36 -> 0
A37: UTILIDAD | F37: 0.05 | G37: =+I32 -> 37943.88 | I37: =+G37*F37 -> 1897.19
A38: SUBTOTAL $ | I38: =SUM(I35:I37) -> 11383.16
A40: PRECIO UNITARIO TOTAL APROCIMADO AL PESO $ | I40: =+ROUND(I32+I38,0) -> 49327 | J40: =+'PROPUESTA CONSORCIO'!G12 -> 49327 | K40: =+J40-I40 -> 0

Sheet APU 2,2
A2: ANALISIS DE PRECIOS UNITARIOS
A5: ÍTEM | B5: DESCRIPCIÓN | G5: UNIDAD | I5: CANTIDAD
A6: 2.2 | B6: Conformacion de la superficie existente | G6: M3 | I6: =+'PROPUESTA CONSORCIO'!F184+'PROPUESTA CONSORCIO'!F146+'PROPUESTA CONSORCIO'!F46+'PROPUESTA CONSORCIO'!F13 -> 1467
A7: I. EQUIPO
A8: DESCRIPCIÓN | C8: UNIDAD | D8: TIPO | F8: TARIFA/HORA | G8: RENDIMIENTO | I8: Vr. UNITARIO
A9: Herramienta menor: 10% Vr. M.O | C9: % | D9: ------------- | F9: =+I29 -> 430.83 | G9: 0.1 | I9: =+G9*F9 -> 43.08
A10: Carrotanque de agua | C10: Dm | D10: ------------- | F10: 350000 | G10: 1000 | I10: =+F10/G10 -> 350
A11: Compactador de llantas | C11: Hm | D11: ------------- | F11: 90000 | G11: 130.04 | I11: =+F11/G11 -> 692.09
A12: SUBTOTAL $ | I12: =SUM(I9:I11) -> 1085.17
A13: II. MATERIALES
A14: DESCRIPCIÓN | E14: UNIDAD | F14: CANTIDAD | G14: PRECIO UNIT. | I14: Vr. UNITARIO
A15: Agua | E15: lts | F15: 2.4 | G15: 20 | I15: =+G15*F15 -> 48
A18: SUBTOTAL $ | I18: =SUM(I15:I17) -> 48
A19: III. TRANSPORTES
A20: MATERIAL | D20: VOL. o PESO | E20: DISTANCIA | F20: M3 o Ton/Km | G20: TARIFA | I20: Vr. UNITARIO
A23: SUBTOTAL $
A24: IV. MANO DE OBRA
A25: TRABAJADOR | D25: JORNAL | E25: PRESTACIONES | F25: JORNAL TOTAL | G25: RENDIMIENTO | I25: Vr. UNITARIO
A26: 1 Ayudante de contruccion | D26: 30284 | E26: 25741.4 | F26: =+E26+D26 -> 56025.4 | G26: =+G11 -> 130.04 | I26: =+F26/G26 -> 430.83
A29: SUBTOTAL $ | I29: =SUM(I26:I28) -> 430.83
A31: TOTAL COSTO DIRECTO $ | I31: =+I12+I18+I23+I29 -> 1564
A32: V. COSTOS INDIRECTOS
A33: DESCRIPCIÓN | F33: PORCENTAJE | G33: VALOR TOTAL
A34: ADMINISTRACION | F34: 0.25 | G34: =+I31 -> 1564 | I34: =+G34*F34 -> 391
A35: IMPREVISTOS | F35: 0 | G35: =+I31 -> 1564 | I35: =+G35*F35 -> 0
A36: UTILIDAD | F36: 0.05 | G36: =+I31 -> 1564 | I36: =+G36*F36 -> 78.2
A37: SUBTOTAL $ | I37: =SUM(I34:I36) -> 469.2
A39: PRECIO UNITARIO TOTAL APROCIMADO AL PESO $ | I39: =+ROUND(I31+I37,0) -> 2033 | J39: =+'PROPUESTA CONSORCIO'!G13 -> 2033 | K39: =+I39-J39 -> 0

Sheet APU 3,1
A2: ANALISIS DE PRECIOS UNITARIOS
A5: ÍTEM | B5: DESCRIPCIÓN | G5: UNIDAD | I5: CANTIDAD
A6: 3.1 | B6: Antepiso e= 0,05 para instalacion losa Tactil | G6: M2 | I6: =+'PROPUESTA CONSORCIO'!F187+'PROPUESTA CONSORCIO'!F149+'PROPUESTA CONSORCIO'!F49+'PROPUESTA CONSORCIO'!F16 -> 74
A7: I. EQUIPO
A8: DESCRIPCIÓN | C8: UNIDAD | D8: TIPO | F8: TARIFA/HORA | G8: RENDIMIENTO | I8: Vr. UNITARIO
A9: Herramienta menor: 10% Vr. M.O | C9: % | D9: ------------- | F9: =+I30 -> 12245.26 | G9: 0.1 | I9: =+G9*F9 -> 1224.53
A13: SUBTOTAL $ | I13: =SUM(I9:I12) -> 1224.53
A14: II. MATERIALES
A15: DESCRIPCIÓN | E15: UNIDAD | F15: CANTIDAD | G15: PRECIO UNIT. | I15: Vr. UNITARIO
A16: Concreto normal 17.5 MPa TM 1" | E16: m3 | F16: 0.05 | G16: 412263.64 | I16: =+G16*F16 -> 20613.18
A19: SUBTOTAL $ | I19: =SUM(I16:I18) -> 20613.18
A20: III. TRANSPORTES
A21: MATERIAL | D21: VOL. o PESO | E21: DISTANCIA | F21: M3 o Ton/Km | G21: TARIFA | I21: Vr. UNITARIO
A24: SUBTOTAL $
A25: IV. MANO DE OBRA
A26: TRABAJADOR | D26: JORNAL | E26: PRESTACIONES | F26: JORNAL TOTAL | G26: RENDIMIENTO | I26: Vr. UNITARIO
A27: 4 Ayudante de contruccion | D27: 121136 | E27: 102965.6 | F27: =+D27+E27 -> 224101.6 | G27: 27.7584 | I27: =+F27/G27 -> 8073.29
A28: 1 Oficial de Construccion | D28: 66667 | E28: 49140.25 | F28: =+D28+E28 -> 115807.25 | G28: =+G27 -> 27.7584 | I28: =+F28/G28 -> 4171.97
A30: SUBTOTAL $ | I30: =SUM(I27:I29) -> 12245.26
A32: TOTAL COSTO DIRECTO $ | I32: =+I13+I19+I24+I30 -> 34082.97
A33: V. COSTOS INDIRECTOS
A34: DESCRIPCIÓN | F34: PORCENTAJE | G34: VALOR TOTAL
A35: ADMINISTRACION | F35: 0.25 | G35: =+I32 -> 34082.97 | I35: =+G35*F35 -> 8520.74
A36: IMPREVISTOS | F36: 0 | G36: =+I32 -> 34082.97 | I36: =+G36*F36 -> 0
A37: UTILIDAD | F37: 0.05 | G37: =+I32 -> 34082.97 | I37: =+G37*F37 -> 1704.15
A38: SUBTOTAL $ | I38: =SUM(I35:I37) -> 10224.89
A40: PRECIO UNITARIO TOTAL APROCIMADO AL PESO $ | I40: =+ROUND(I32+I38,0) -> 44308 | J40: =+'PROPUESTA CONSORCIO'!G16 -> 44308 | K40: =+J40-I40 -> 0

Sheet APU 3,2
A2: ANALISIS DE PRECIOS UNITARIOS
A5: ÍTEM | B5: DESCRIPCIÓN | G5: UNIDAD | I5: CANTIDAD
A6: 3.2 | B6: Suminsitro e Instalacion de Losa Tactil | G6: M2 | I6: =+'PROPUESTA CONSORCIO'!F17+'PROPUESTA CONSORCIO'!F50+'PROPUESTA CONSORCIO'!F150+'PROPUESTA CONSORCIO'!F188 -> 74
A7: I. EQUIPO
A8: DESCRIPCIÓN | C8: UNIDAD | D8: TIPO | F8: TARIFA/HORA | G8: RENDIMIENTO | I8: Vr. UNITARIO
A9: Herramienta menor: 10% Vr. M.O | C9: % | D9: ------------- | F9: =+I31 -> 17183.27 | G9: 0.1 | I9: =+G9*F9 -> 1718.33
A13: SUBTOTAL $ | I13: =SUM(I9:I12) -> 1718.33 | N13: =160000*7 -> 1120000
A14: II. MATERIALES
A15: DESCRIPCIÓN | E15: UNIDAD | F15: CANTIDAD | G15: PRECIO UNIT. | I15: Vr. UNITARIO
A16: Piso Loseta Toperol En Mortero Amarilla 30x30cm | E16: m2 | F16: 1.05 | G16: =+MATERIALES!M24 -> 45000 | I16: =+G16*F16 -> 47250
A17: Cemento gris | E17: kg | F17: 2 | G17: =+MATERIALES!M25 -> 550 | I17: =+G17*F17 -> 1100
A18: Mortero 17.5 MPa 1:4 | E18: m3 | F18: 0.04 | G18: =+MATERIALES!M26 -> 411350 | I18: =+G18*F18 -> 16454
A20: SUBTOTAL $ | I20: =SUM(I16:I19) -> 64804
A21: III. TRANSPORTES
A22: MATERIAL | D22: VOL. o PESO | E22: DISTANCIA | F22: M3 o Ton/Km | G22: TARIFA | I22: Vr. UNITARIO
A25: SUBTOTAL $
A26: IV. MANO DE OBRA
A27: TRABAJADOR | D27: JORNAL | E27: PRESTACIONES | F27: JORNAL TOTAL | G27: RENDIMIENTO | I27: Vr. UNITARIO
A28: 1 Ayudante de contruccion | D28: 30284 | E28: 25741.4 | F28: =+D28+E28 -> 56025.4 | G28: 10 | I28: =+F28/G28 -> 5602.54
A29: 1 Oficial de Construccion | D29: 66667 | E29: 49140.25 | F29: =+D29+E29 -> 115807.25 | G29: =+G28 -> 10 | I29: =+F29/G29 -> 11580.73
A31: SUBTOTAL $ | I31: =SUM(I28:I30) -> 17183.27
A33: TOTAL COSTO DIRECTO $ | I33: =+I13+I20+I25+I31 -> 83705.6
A34: V. COSTOS INDIRECTOS
A35: DESCRIPCIÓN | F35: PORCENTAJE | G35: VALOR TOTAL
A36: ADMINISTRACION | F36: 0.25 | G36: =+I33 -> 83705.6 | I36: =+G36*F36 -> 20926.4
A37: IMPREVISTOS | F37: 0 | G37: =+I33 -> 83705.6 | I37: =+G37*F37 -> 0
A38: UTILIDAD | F38: 0.05 | G38: =+I33 -> 83705.6 | I38: =+G38*F38 -> 4185.28
A39: SUBTOTAL $ | I39: =SUM(I36:I38) -> 25111.68
A41: PRECIO UNITARIO TOTAL APROCIMADO AL PESO $ | I41: =+ROUND(I33+I39,0) -> 108817 | J41: =+'PROPUESTA CONSORCIO'!G17 -> 108817 | K41: =+J41-I41 -> 0

Sheet APU 3,3
A2: ANALISIS DE PRECIOS UNITARIOS
A5: ÍTEM | B5: DESCRIPCIÓN | G5: UNIDAD | I5: CANTIDAD
A6: 3.3 | B6: Adoquín en arcilla 6 cm incluye arena de soporte y sellado | G6: M2 | I6: =+'PROPUESTA CONSORCIO'!F18+'PROPUESTA CONSORCIO'!F51+'PROPUESTA CONSORCIO'!F151+'PROPUESTA CONSORCIO'!F189 -> 734
A7: I. EQUIPO
A8: DESCRIPCIÓN | C8: UNIDAD | D8: TIPO | F8: TARIFA/HORA | G8: RENDIMIENTO | I8: Vr. UNITARIO
A9: Herramienta menor: 10% Vr. M.O | C9: % | D9: ------------- | F9: =+I30 -> 34366.53 | G9: 0.1 | I9: =+G9*F9 -> 3436.65
A10: Bandeja vibrante de guiado manual, de 170 kg, anchura de trabajo 50 cm, re | C10: hm | D10: ------------- | F10: 10000 | G10: 2 | I10: =+F10/G10 -> 5000
A13: SUBTOTAL $ | I13: =SUM(I9:I12) -> 8436.65
A14: II. MATERIALES
A15: DESCRIPCIÓN | E15: UNIDAD | F15: CANTIDAD | G15: PRECIO UNIT. | I15: Vr. UNITARIO
A16: Adoquin en gres 20X10X6 | E16: und | F16: 50 | G16: =+MATERIALES!M21 -> 854.86 | I16: =+G16*F16 -> 42743
A17: Arena lavada | E17: m3 | F17: 0.06 | G17: =+MATERIALES!M22 -> 40000 | I17: =+G17*F17 -> 2400
A18: Arena fina en sacos | E18: kg | F18: 20 | G18: =+MATERIALES!M23 -> 900 | I18: =+G18*F18 -> 18000
A19: SUBTOTAL $ | I19: =SUM(I16:I18) -> 63143
A20: III. TRANSPORTES
A21: MATERIAL | D21: VOL. o PESO | E21: DISTANCIA | F21: M3 o Ton/Km | G21: TARIFA | I21: Vr. UNITARIO
A24: SUBTOTAL $
A25: IV. MANO DE OBRA
A26: TRABAJADOR | D26: JORNAL | E26: PRESTACIONES | F26: JORNAL TOTAL | G26: RENDIMIENTO | I26: Vr. UNITARIO
A27: 1 Ayudante de contruccion | D27: 30284 | E27: 25741.4 | F27: =+E27+D27 -> 56025.4 | G27: 5 | I27: =+F27/G27 -> 11205.08
A28: 1 Oficial de Construccion | D28: 66667 | E28: 49140.25 | F28: =+E28+D28 -> 115807.25 | G28: =+G27 -> 5 | I28: =+F28/G28 -> 23161.45
A30: SUBTOTAL $ | I30: =SUM(I27:I29) -> 34366.53
A32: TOTAL COSTO DIRECTO $ | I32: =+I13+I19+I24+I30 -> 105946.18
A33: V. COSTOS INDIRECTOS
A34: DESCRIPCIÓN | F34: PORCENTAJE | G34: VALOR TOTAL
A35: ADMINISTRACION | F35: 0.25 | G35: =+I32 -> 105946.18 | I35: =+G35*F35 -> 26486.55
A36: IMPREVISTOS | F36: 0 | G36: =+I32 -> 105946.18 | I36: =+G36*F36 -> 0
A37: UTILIDAD | F37: 0.05 | G37: =+I32 -> 105946.18 | I37: =+G37*F37 -> 5297.31
A38: SUBTOTAL $ | I38: =SUM(I35:I37) -> 31783.86
A40: PRECIO UNITARIO TOTAL APROCIMADO AL PESO $ | I40: =+ROUND(I32+I38,0) -> 137730 | J40: =+'PROPUESTA CONSORCIO'!G18 -> 137730 | K40: =+J40-I40 -> 0

Sheet APU 3,4
A2: ANALISIS DE PRECIOS UNITARIOS
A5: ÍTEM | B5: DESCRIPCIÓN | G5: UNIDAD | I5: CANTIDAD
A6: 3.4 | B6: Bordillo Confinamiento en concreto (incluye refuerzo) | G6: =+'PROPUESTA APUS ORDENADOS'!E56 -> ML | I6: =+'PROPUESTA CONSORCIO'!F19+'PROPUESTA CONSORCIO'!F52+'PROPUESTA CONSORCIO'!F152+'PROPUESTA CONSORCIO'!F190 -> 754
A7: I. EQUIPO
A8: DESCRIPCIÓN | C8: UNIDAD | D8: TIPO | F8: TARIFA/HORA | G8: RENDIMIENTO | I8: Vr. UNITARIO
A9: Herramienta menor: 10% Vr. M.O | C9: % | D9: ------------- | F9: =+I30 -> 9965.27 | G9: 0.1 | I9: =+G9*F9 -> 996.53
A10: Vibrador (Gas/Elec) | C10: Dm | D10: ------------- | F10: 60000 | G10: 34 | I10: =+F10/G10 -> 1764.71
A11: Formaleta metalica sadineles | C11: Du | D11: ------------- | F11: 900 | G11: 0.8 | I11: =+F11/G11 -> 1125
A13: SUBTOTAL $ | I13: =SUM(I9:I12) -> 3886.24
A14: II. MATERIALES
A15: DESCRIPCIÓN | E15: UNIDAD | F15: CANTIDAD | G15: PRECIO UNIT. | I15: Vr. UNITARIO
A16: Concreto de 21,0 Mpa | E16: m3 | F16: 0.02 | G16: =+MATERIALES!M16 -> 422000 | I16: =+G16*F16 -> 8440
A17: Acero de refuerzo | E17: Kg | F17: 0.3 | G17: =+MATERIALES!M17 -> 4439.18 | I17: =+G17*F17 -> 1331.75
A19: SUBTOTAL $ | I19: =SUM(I16:I18) -> 9771.75
A20: III. TRANSPORTES
A21: MATERIAL | D21: VOL. o PESO | E21: DISTANCIA | F21: M3 o Ton/Km | G21: TARIFA | I21: Vr. UNITARIO
A24: SUBTOTAL $
A25: IV. MANO DE OBRA
A26: TRABAJADOR | D26: JORNAL | E26: PRESTACIONES | F26: JORNAL TOTAL | G26: RENDIMIENTO | I26: Vr. UNITARIO
A27: 1 Ayudante de contruccion | D27: 30284 | E27: 25741.4 | F27: =+E27+D27 -> 56025.4 | G27: 17.24314 | I27: =+F27/G27 -> 3249.14
A28: 1 Oficial de Construccion | D28: 66667 | E28: 49140.25 | F28: =+E28+D28 -> 115807.25 | G28: =+G27 -> 17.24314 | I28: =+F28/G28 -> 6716.13
A30: SUBTOTAL $ | I30: =SUM(I27:I29) -> 9965.27
A32: TOTAL COSTO DIRECTO $ | I32: =+I13+I19+I24+I30 -> 23623.26
A33: V. COSTOS INDIRECTOS
A34: DESCRIPCIÓN | F34: PORCENTAJE | G34: VALOR TOTAL
A35: ADMINISTRACION | F35: 0.25 | G35: =+I32 -> 23623.26 | I35: =+G35*F35 -> 5905.82
A36: IMPREVISTOS | F36: 0 | G36: =+I32 -> 23623.26 | I36: =+G36*F36 -> 0
A37: UTILIDAD | F37: 0.05 | G37: =+I32 -> 23623.26 | I37: =+G37*F37 -> 1181.16
A38: SUBTOTAL $ | I38: =SUM(I35:I37) -> 7086.98
A40: PRECIO UNITARIO TOTAL APROCIMADO AL PESO $ | I40: =+ROUND(I32+I38,0) -> 30710 | J40: =+'PROPUESTA CONSORCIO'!G19 -> 30710 | K40: =+J40-I40 -> 0

Sheet APU 3,5
A2: ANALISIS DE PRECIOS UNITARIOS
A5: ÍTEM | B5: DESCRIPCIÓN | G5: UNIDAD | I5: CANTIDAD
A6: 3.5 | B6: Relleno para estructuras | G6: M3 | I6: =+'PROPUESTA CONSORCIO'!F103 -> 35
A7: I. EQUIPO
A8: DESCRIPCIÓN | C8: UNIDAD | D8: TIPO | F8: TARIFA/HORA | G8: RENDIMIENTO | I8: Vr. UNITARIO
A9: Herramienta menor: 5% Vr. M.O | C9: % | D9: ------------- | F9: =+I30 -> 24279.21 | G9: 0.05 | I9: =+G9*F9 -> 1213.96
A10: Vibrocompactador Rana | C10: Dm | D10: ------------- | F10: 70000 | G10: 14 | I10: =+F10/G10 -> 5000
A12: SUBTOTAL $ | I12: =SUM(I9:I11) -> 6213.96
A13: II. MATERIALES
A14: DESCRIPCIÓN | E14: UNIDAD | F14: CANTIDAD | G14: PRECIO UNIT. | I14: Vr. UNITARIO
A15: Arena Para rellenos de estructuras | E15: M3 | F15: 1.05 | G15: =+MATERIALES!M27 -> 51350.95 | I15: =+G15*F15 -> 53918.5
A18: SUBTOTAL $ | I18: =SUM(I15:I17) -> 53918.5
A19: III. TRANSPORTES
A20: MATERIAL | D20: VOL. o PESO | E20: DISTANCIA | F20: M3 o Ton/Km | G20: TARIFA | I20: Vr. UNITARIO
A23: SUBTOTAL $
A24: IV. MANO DE OBRA
A25: TRABAJADOR | D25: JORNAL | E25: PRESTACIONES | F25: JORNAL TOTAL | G25: RENDIMIENTO | I25: Vr. UNITARIO
A26: 4 Ayudante de contruccion | D26: 121136 | E26: 102965.6 | F26: =+D26+E26 -> 224101.6 | G26: =+G10 -> 14 | I26: =+F26/G26 -> 16007.26
A27: 1 Oficial de Contruccion | D27: 66667 | E27: 49140.25 | F27: =+E27+D27 -> 115807.25 | G27: =+G26 -> 14 | I27: =+F27/G27 -> 8271.95
A30: SUBTOTAL $ | I30: =SUM(I26:I29) -> 24279.21
A32: TOTAL COSTO DIRECTO $ | I32: =+I12+I18+I23+I30 -> 84411.67
A33: V. COSTOS INDIRECTOS
A34: DESCRIPCIÓN | F34: PORCENTAJE | G34: VALOR TOTAL
A35: ADMINISTRACION | F35: 0.25 | G35: =+I32 -> 84411.67 | I35: =+G35*F35 -> 21102.92
A36: IMPREVISTOS | F36: 0 | G36: =+I32 -> 84411.67 | I36: =+G36*F36 -> 0
A37: UTILIDAD | F37: 0.05 | G37: =+I32 -> 84411.67 | I37: =+G37*F37 -> 4220.58
A38: SUBTOTAL $ | I38: =SUM(I35:I37) -> 25323.5
A40: PRECIO UNITARIO TOTAL APROCIMADO AL PESO $ | I40: =+ROUND(I32+I38,0) -> 109735 | J40: =+'PROPUESTA APUS ORDENADOS'!G60 -> 109735 | K40: =+J40-I40 -> 0

Sheet APU 3,6
A2: ANALISIS DE PRECIOS UNITARIOS
A5: ÍTEM | B5: DESCRIPCIÓN | G5: UNIDAD | I5: CANTIDAD
A6: 3.6 | B6: Sub base Granular para Bacheo | G6: M3 | I6: =+'PROPUESTA APUS ORDENADOS'!K65 -> 108
A7: I. EQUIPO
A8: DESCRIPCIÓN | C8: UNIDAD | D8: TIPO | F8: TARIFA/HORA | G8: RENDIMIENTO | I8: Vr. UNITARIO
A9: Herramienta menor: 10% Vr. M.O | C9: % | D9: ------------- | F9: =+I29 -> 7595.27 | G9: 0.1 | I9: =+G9*F9 -> 759.53
A10: Vibrocompatador, potencia 153 HP, peso 10 Ton. | C10: Hm | D10: ------------- | F10: 148000 | G10: 30 | I10: =+F10/G10 -> 4933.33
A11: SUBTOTAL $ | I11: =SUM(I9:I10) -> 5692.86
A12: II. MATERIALES
A13: DESCRIPCIÓN | E13: UNIDAD | F13: CANTIDAD | G13: PRECIO UNIT. | I13: Vr. UNITARIO
A14: Sub Base Plasticidad máxima 9% | E14: m3 | F14: 1.3 | G14: =+MATERIALES!M28 -> 31116.55 | I14: =+G14*F14 -> 40451.52
A15: Agua | E15: Lts | F15: 24 | G15: 60 | I15: =+G15*F15 -> 1440
A17: SUBTOTAL $ | I17: =SUM(I14:I16) -> 41891.52
A18: III. TRANSPORTES
A19: MATERIAL | D19: VOL. o PESO | E19: DISTANCIA | F19: M3 o Ton/Km | G19: TARIFA | I19: Vr. UNITARIO
A22: SUBTOTAL $
A23: IV. MANO DE OBRA
A24: TRABAJADOR | D24: JORNAL | E24: PRESTACIONES | F24: JORNAL TOTAL | G24: RENDIMIENTO | I24: Vr. UNITARIO
A25: 2 Ayudante de contruccion | D25: 60568 | E25: 51482.8 | F25: =+D25+E25 -> 112050.8 | G25: =+G10 -> 30 | I25: =+F25/G25 -> 3735.03
A26: 1 Oficial de Contruccion | D26: 66667 | E26: 49140.25 | F26: =+D26+E26 -> 115807.25 | G26: =+G25 -> 30 | I26: =+F26/G26 -> 3860.24
A29: SUBTOTAL $ | I29: =SUM(I25:I28) -> 7595.27
A31: TOTAL COSTO DIRECTO $ | I31: =+I11+I17+I22+I29 -> 55179.65
A32: V. COSTOS INDIRECTOS
A33: DESCRIPCIÓN | F33: PORCENTAJE | G33: VALOR TOTAL
A34: ADMINISTRACION | F34: 0.25 | G34: =+I31 -> 55179.65 | I34: =+G34*F34 -> 13794.91
A35: IMPREVISTOS | F35: 0 | G35: =+I31 -> 55179.65 | I35: =+G35*F35 -> 0
A36: UTILIDAD | F36: 0.05 | G36: =+I31 -> 55179.65 | I36: =+G36*F36 -> 2758.98
A37: SUBTOTAL $ | I37: =SUM(I34:I36) -> 16553.89
A39: PRECIO UNITARIO TOTAL APROCIMADO AL PESO $ | I39: =+ROUND(I31+I37,0) -> 71734 | J39: =+'PROPUESTA APUS ORDENADOS'!G65 -> 71734 | K39: =+J39-I39 -> 0

Sheet APU 3,7
A2: ANALISIS DE PRECIOS UNITARIOS
A5: ÍTEM | B5: DESCRIPCIÓN | G5: UNIDAD | I5: CANTIDAD
A6: 3.7 | B6: Riego de Imprimacion con emeulsion Asfaltica | G6: M2 | I6: =+'PROPUESTA APUS ORDENADOS'!K70 -> 718
A7: I. EQUIPO
A8: DESCRIPCIÓN | C8: UNIDAD | D8: TIPO | F8: TARIFA/HORA | G8: RENDIMIENTO | I8: Vr. UNITARIO
A9: Herramienta menor: 10% Vr. M.O | C9: % | D9: ------------- | F9: =+I31 -> 448.2 | G9: 0.1 | I9: =+G9*F9 -> 44.82
A10: Carrotanque Irrigador de asfalto, 1000 GALONES DE CAPACIDAD | C10: Hm | D10: ------------- | F10: 72000 | G10: 500 | I10: =+F10/G10 -> 144
A11: Compresor (barrido y soplado) | C11: Hm | D11: ------------- | F11: 77000 | G11: 500 | I11: =+F11/G11 -> 154
A13: SUBTOTAL $ | I13: =SUM(I9:I12) -> 342.82
A14: II. MATERIALES
A15: DESCRIPCIÓN | E15: UNIDAD | F15: CANTIDAD | G15: PRECIO UNIT. | I15: Vr. UNITARIO
A16: Emulsión CRL | E16: Lts | F16: 1.05 | G16: =+MATERIALES!M30 -> 3718.9 | I16: =+G16*F16 -> 3904.85
A19: SUBTOTAL $ | I19: =SUM(I16:I18) -> 3904.85
A20: III. TRANSPORTES
A21: MATERIAL | D21: VOL. o PESO | E21: DISTANCIA | F21: M3 o Ton/Km | G21: TARIFA | I21: Vr. UNITARIO
A24: SUBTOTAL $ | I24: =SUM(I22:I23) -> 0
A25: IV. MANO DE OBRA
A26: TRABAJADOR | D26: JORNAL | E26: PRESTACIONES | F26: JORNAL TOTAL | G26: RENDIMIENTO | I26: Vr. UNITARIO
A27: 4 Ayudante de contruccion | D27: 121136 | E27: 102965.6 | F27: =+E27+D27 -> 224101.6 | G27: =+G10 -> 500 | I27: =+F27/G27 -> 448.2
A31: SUBTOTAL $ | I31: =SUM(I27:I30) -> 448.2
A33: TOTAL COSTO DIRECTO $ | I33: =+I13+I19+I24+I31 -> 4695.87
A34: V. COSTOS INDIRECTOS
A35: DESCRIPCIÓN | F35: PORCENTAJE | G35: VALOR TOTAL
A36: ADMINISTRACION | F36: 0.25 | G36: =+I33 -> 4695.87 | I36: =+G36*F36 -> 1173.97
A37: IMPREVISTOS | F37: 0 | G37: =+I33 -> 4695.87 | I37: =+G37*F37 -> 0
A38: UTILIDAD | F38: 0.05 | G38: =+I33 -> 4695.87 | I38: =+G38*F38 -> 234.79
A39: SUBTOTAL $ | I39: =SUM(I36:I38) -> 1408.76
A41: PRECIO UNITARIO TOTAL APROCIMADO AL PESO $ | I41: =+ROUND(I33+I39,0) -> 6105 | J41: =+'PROPUESTA APUS ORDENADOS'!G70 -> 6105 | K41: =+J41-I41 -> 0

Sheet APU 3,8
A2: ANALISIS DE PRECIOS UNITARIOS
A5: ÍTEM | B5: DESCRIPCIÓN | G5: UNIDAD | I5: CANTIDAD
A6: 3.8 | B6: Suministro e Intalacion Mezcla densa en Caliente MDC 19 - para bacheo | G6: M3 | I6: =+'PROPUESTA CONSORCIO'!F73+'PROPUESTA CONSORCIO'!F171+'PROPUESTA CONSORCIO'!F210+'PROPUESTA CONSORCIO'!F241+'PROPUESTA CONSORCIO'!F272 -> 85
A7: I. EQUIPO
A8: DESCRIPCIÓN | C8: UNIDAD | D8: TIPO | F8: TARIFA/HORA | G8: RENDIMIENTO | I8: Vr. UNITARIO
A9: Herramienta menor: 10% Vr. M.O | C9: % | D9: ------------- | F9: =+I30 -> 1139.29 | G9: 0.1 | I9: 285
A10: Compactador neumático de Potencia 70 HP, peso de 13 ton | C10: Hm | D10: ------------- | F10: 228000 | G10: 20 | I10: =+F10/G10 -> 11400
A11: Compactador de Rodillo POTENCIA: 99HP, PESO: 8 ton | C11: Hm | D11: ------------- | F11: 75000 | G11: 20 | I11: =+F11/G11 -> 3750
A12: SUBTOTAL $ | I12: =SUM(I9:I11) -> 15435
A13: II. MATERIALES
A14: DESCRIPCIÓN | E14: UNIDAD | F14: CANTIDAD | G14: PRECIO UNIT. | I14: Vr. UNITARIO
A15: Mezcla asfaltica MDC 19 | E15: m3 | F15: 1.1338837 | G15: =325000*1.19 -> 386750 | I15: =+G15*F15 -> 438529.52
A16: Agua | E16: lts | F16: 5 | G16: 60 | I16: =+G16*F16 -> 300
A18: SUBTOTAL $ | I18: =SUM(I15:I17) -> 438829.52
A19: III. TRANSPORTES
A20: MATERIAL | D20: VOL. o PESO | E20: DISTANCIA | F20: M3 o Ton/Km | G20: TARIFA | I20: Vr. UNITARIO
A23: SUBTOTAL $
A24: IV. MANO DE OBRA
A25: TRABAJADOR | D25: JORNAL | E25: PRESTACIONES | F25: JORNAL TOTAL | G25: RENDIMIENTO | I25: Vr. UNITARIO
A26: 2 Ayudante de contruccion | D26: 60568 | E26: 51482.8 | F26: 112050.8 | G26: 200 | I26: =+F26/G26 -> 560.25
A27: 1 Oficial de Contruccion | D27: 66667 | E27: 49140.25 | F27: 115807.25 | G27: =+G26 -> 200 | I27: =+F27/G27 -> 579.04
A30: SUBTOTAL $ | I30: =SUM(I26:I29) -> 1139.29
A32: TOTAL COSTO DIRECTO $ | I32: =+I12+I18+I23+I30 -> 455403.81
A33: V. COSTOS INDIRECTOS
A34: DESCRIPCIÓN | F34: PORCENTAJE | G34: VALOR TOTAL
A35: ADMINISTRACION | F35: 0.25 | G35: =+I32 -> 455403.81 | I35: =+G35*F35 -> 113850.95
A36: IMPREVISTOS | F36: 0 | G36: =+I32 -> 455403.81 | I36: =+G36*F36 -> 0
A37: UTILIDAD | F37: 0.05 | G37: =+I32 -> 455403.81 | I37: =+G37*F37 -> 22770.19
A38: SUBTOTAL $ | I38: =SUM(I35:I37) -> 136621.14
A40: PRECIO UNITARIO TOTAL APROCIMADO AL PESO $ | I40: =+ROUND(I32+I38,0) -> 592025 | J40: =+'PROPUESTA APUS ORDENADOS'!G71 -> 592025 | K40: =+J40-I40 -> 0

Sheet APU 3,9
A2: ANALISIS DE PRECIOS UNITARIOS
A5: ÍTEM | B5: DESCRIPCIÓN | G5: UNIDAD | I5: CANTIDAD
A6: 3.9 | B6: Bordillo de piezas prefabricadas de concreto; incluye la preparacion de la superficie de apoyo | G6: M2 | I6: =+'PROPUESTA CONSORCIO'!F113 -> 29
A7: I. EQUIPO
A8: DESCRIPCIÓN | C8: UNIDAD | D8: TIPO | F8: TARIFA/HORA | G8: RENDIMIENTO | I8: Vr. UNITARIO
A9: Herramienta menor: 10% Vr. M.O | C9: % | D9: ------------- | F9: =+I31 -> 8497.72 | G9: 0.1 | I9: =+G9*F9 -> 849.77
A13: SUBTOTAL $ | I13: =SUM(I9:I12) -> 849.77
A14: II. MATERIALES
A15: DESCRIPCIÓN | E15: UNIDAD | F15: CANTIDAD | G15: PRECIO UNIT. | I15: Vr. UNITARIO
A16: Mortero 1:3 Para Anillos | E16: M3 | F16: 0.005 | G16: =+MATERIALES!M31 -> 448026 | I16: =+G16*F16 -> 2240.13
A17: Bordillo Prefabricado En Concreto | E17: Und | F17: 1.3 | G17: =+MATERIALES!M32 -> 52878.11 | I17: =+G17*F17 -> 68741.54
A19: SUBTOTAL $ | I19: =SUM(I16:I18) -> 70981.67
A20: III. TRANSPORTES
A21: MATERIAL | D21: VOL. o PESO | E21: DISTANCIA | F21: M3 o Ton/Km | G21: TARIFA | I21: Vr. UNITARIO
A24: SUBTOTAL $
A25: IV. MANO DE OBRA
A26: TRABAJADOR | D26: JORNAL | E26: PRESTACIONES | F26: JORNAL TOTAL | G26: RENDIMIENTO | I26: Vr. UNITARIO
A27: 4 Ayudante de contruccion | D27: 121136 | E27: 102965.6 | F27: 224101.6 | G27: 40 | I27: =+F27/G27 -> 5602.54
A28: 1 Oficial de Contruccion | D28: 66667 | E28: 49140.25 | F28: 115807.25 | G28: =+G27 -> 40 | I28: =+F28/G28 -> 2895.18
A31: SUBTOTAL $ | I31: =SUM(I27:I30) -> 8497.72
A33: TOTAL COSTO DIRECTO $ | I33: =+I13+I19+I24+I31 -> 80329.16
A34: V. COSTOS INDIRECTOS
A35: DESCRIPCIÓN | F35: PORCENTAJE | G35: VALOR TOTAL
A36: ADMINISTRACION | F36: 0.25 | G36: =+I33 -> 80329.16 | I36: =+G36*F36 -> 20082.29
A37: IMPREVISTOS | F37: 0 | G37: =+I33 -> 80329.16 | I37: =+G37*F37 -> 0
A38: UTILIDAD | F38: 0.05 | G38: =+I33 -> 80329.16 | I38: =+G38*F38 -> 4016.46
A39: SUBTOTAL $ | I39: =SUM(I36:I38) -> 24098.75
A41: PRECIO UNITARIO TOTAL APROCIMADO AL PESO $ | I41: =+ROUND(I33+I39,0) -> 104428 | J41: =+'PROPUESTA APUS ORDENADOS'!G76 -> 104428 | K41: =+J41-I41 -> 0

Sheet APU 3,10
A2: ANALISIS DE PRECIOS UNITARIOS
A5: ÍTEM | B5: DESCRIPCIÓN | G5: UNIDAD | I5: CANTIDAD
A6: 3.1 | B6: Acero de Refuerzo Fy 4200 MPa. | G6: Kg | I6: 105
A7: I. EQUIPO
A8: DESCRIPCIÓN | C8: UNIDAD | D8: TIPO | F8: TARIFA/HORA | G8: RENDIMIENTO | I8: Vr. UNITARIO
A9: Herramienta menor: 10% Vr. M.O | C9: % | D9: ------------- | F9: =+I30 -> 586.5 | G9: 0.1 | I9: =+G9*F9 -> 58.65
A12: SUBTOTAL $ | I12: =SUM(I9:I11) -> 58.65
A13: II. MATERIALES
A14: DESCRIPCIÓN | E14: UNIDAD | F14: CANTIDAD | G14: PRECIO UNIT. | I14: Vr. UNITARIO
A15: Acero de refuerzo | E15: Kg | F15: 1.05 | G15: 5450 | I15: =+G15*F15 -> 5722.5
A16: Alambre Negro Para Amarre | E16: Kg | F16: 0.03 | G16: =+MATERIALES!M34 -> 4100 | I16: =+G16*F16 -> 123
A18: SUBTOTAL $ | I18: =SUM(I15:I17) -> 5845.5
A19: III. TRANSPORTES
A20: MATERIAL | D20: VOL. o PESO | E20: DISTANCIA | F20: M3 o Ton/Km | G20: TARIFA | I20: Vr. UNITARIO
A23: SUBTOTAL $
A24: IV. MANO DE OBRA
A25: TRABAJADOR | D25: JORNAL | E25: PRESTACIONES | F25: JORNAL TOTAL | G25: RENDIMIENTO | I25: Vr. UNITARIO
A26: 1 Ayudante de contruccion | D26: 30284 | E26: 25741.4 | F26: =+E26+D26 -> 56025.4 | G26: 292.98053 | I26: =+F26/G26 -> 191.23
A27: 1 Oficial de Contruccion | D27: 66667 | E27: 49140.25 | F27: =+E27+D27 -> 115807.25 | G27: =+G26 -> 292.98053 | I27: =+F27/G27 -> 395.27
A30: SUBTOTAL $ | I30: =SUM(I26:I29) -> 586.5
A32: TOTAL COSTO DIRECTO $ | I32: =+I12+I18+I23+I30 -> 6490.65
A33: V. COSTOS INDIRECTOS
A34: DESCRIPCIÓN | F34: PORCENTAJE | G34: VALOR TOTAL
A35: ADMINISTRACION | F35: 0.25 | G35: =+I32 -> 6490.65 | I35: =+G35*F35 -> 1622.66
A36: IMPREVISTOS | F36: 0 | G36: =+I32 -> 6490.65 | I36: =+G36*F36 -> 0
A37: UTILIDAD | F37: 0.05 | G37: =+I32 -> 6490.65 | I37: =+G37*F37 -> 324.53
A38: SUBTOTAL $ | I38: =SUM(I35:I37) -> 1947.19
A40: PRECIO UNITARIO TOTAL APROCIMADO AL PESO $ | I40: =+ROUND(I32+I38,0) -> 8438 | J40: =+'PROPUESTA APUS ORDENADOS'!G77 -> 8438 | K40: =+J40-I40 -> 0

Sheet APU 4,1 
A2: ANALISIS DE PRECIOS UNITARIOS
A5: ÍTEM | B5: DESCRIPCIÓN | G5: UNIDAD | I5: CANTIDAD
A6: 4.1 | B6: Linea de Demarcacion vial con Pintura Trafico - plastico en frio (Ancho 12 Cm) | G6: ML | I6: =+'PROPUESTA CONSORCIO'!F253+'PROPUESTA CONSORCIO'!F222+'PROPUESTA CONSORCIO'!F193+'PROPUESTA CONSORCIO'!F155+'PROPUESTA CONSORCIO'!F124+'PROPUESTA CONSORCIO'!F106+'PROPUESTA CONSORCIO'!F83+'PROPUESTA CONSORCIO'!F55+'PROPUESTA CONSORCIO'!F22 -> 36221
A7: I. EQUIPO
A8: DESCRIPCIÓN | C8: UNIDAD | D8: TIPO | F8: TARIFA/HORA | G8: RENDIMIENTO | I8: Vr. UNITARIO
A9: Herramienta menor: 10% Vr. M.O | C9: % | D9: ------------- | F9: =+I30 -> 917.68 | G9: 0.1 | I9: =+G9*F9 -> 91.77
A10: Camioneta D-300 | C10: Hm | D10: ------------- | F10: 45610 | G10: 2000 | I10: =+F10/G10 -> 22.81
A11: Vehiculo delineador | C11: Hm | D11: ------------- | F11: 150000 | G11: 2000 | I11: =+F11/G11 -> 75
A12: SUBTOTAL $ | I12: =SUM(I9:I11) -> 189.58
A13: II. MATERIALES
A14: DESCRIPCIÓN | E14: UNIDAD | F14: CANTIDAD | G14: PRECIO UNIT. | I14: Vr. UNITARIO
A15: Pintura Acrilica trafico - platico en frio | E15: gal | F15: 0.04 | G15: 80000 | I15: =+G15*F15 -> 3200
A18: SUBTOTAL $ | I18: =SUM(I15:I17) -> 3200
A19: III. TRANSPORTES
A20: MATERIAL | D20: VOL. o PESO | E20: DISTANCIA | F20: M3 o Ton/Km | G20: TARIFA | I20: Vr. UNITARIO
A23: SUBTOTAL $
A24: IV. MANO DE OBRA
A25: TRABAJADOR | D25: JORNAL | E25: PRESTACIONES | F25: JORNAL TOTAL | G25: RENDIMIENTO | I25: Vr. UNITARIO
A26: 4 Ayudante de contruccion | D26: 121136 | E26: 102965.6 | F26: =+D26+E26 -> 224101.6 | G26: 370.4 | I26: =+F26/G26 -> 605.03
A27: 1 Oficial de Contruccion | D27: 66667 | E27: 49140.25 | F27: =+E27+D27 -> 115807.25 | G27: =+G26 -> 370.4 | I27: =+F27/G27 -> 312.65
A30: SUBTOTAL $ | I30: =SUM(I26:I29) -> 917.68
A32: TOTAL COSTO DIRECTO $ | I32: =+I12+I18+I23+I30 -> 4307.26
A33: V. COSTOS INDIRECTOS
A34: DESCRIPCIÓN | F34: PORCENTAJE | G34: VALOR TOTAL
A35: ADMINISTRACION | F35: 0.25 | G35: =+I32 -> 4307.26 | I35: =+G35*F35 -> 1076.82
A36: IMPREVISTOS | F36: 0 | G36: =+I32 -> 4307.26 | I36: =+G36*F36 -> 0
A37: UTILIDAD | F37: 0.05 | G37: =+I32 -> 4307.26 | I37: =+G37*F37 -> 215.36
A38: SUBTOTAL $ | I38: =SUM(I35:I37) -> 1292.18
A40: PRECIO UNITARIO TOTAL APROCIMADO AL PESO $ | I40: =+ROUND(I32+I38,0) -> 5599 | J40: =+'PROPUESTA CONSORCIO'!G22 -> 5599 | K40: =+J40-I40 -> 0

Sheet APU 4,2
A2: ANALISIS DE PRECIOS UNITARIOS
A5: ÍTEM | B5: DESCRIPCIÓN | G5: UNIDAD | I5: CANTIDAD
A6: 4.2 | B6: Suministro e Instalacion acabado de color (Artistico) | G6: M2 | I6: =+'PROPUESTA CONSORCIO'!F23+'PROPUESTA CONSORCIO'!F125 -> 1157
A7: I. EQUIPO
A8: DESCRIPCIÓN | C8: UNIDAD | D8: TIPO | F8: TARIFA/HORA | G8: RENDIMIENTO | I8: Vr. UNITARIO
A9: Herramienta menor: 10% Vr. M.O | C9: % | D9: ------------- | F9: =+I30 -> 7016.18 | G9: 0.1 | I9: =+G9*F9 -> 701.62
A10: Vehiculo delineador | C10: Hm | D10: ------------- | F10: 450000 | G10: 24.4909 | I10: =+F10/G10 -> 18374.17
A11: SUBTOTAL $ | I11: =SUM(I9:I10) -> 19075.79
A12: II. MATERIALES
A13: DESCRIPCIÓN | E13: UNIDAD | F13: CANTIDAD | G13: PRECIO UNIT. | I13: Vr. UNITARIO
A14: Pintura Acrilica Pura para trafico | E14: gal | F14: 0.1 | G14: =+MATERIALES!M19 -> 75000 | I14: =+G14*F14 -> 7500
A18: SUBTOTAL $ | I18: =SUM(I14:I17) -> 7500
A19: III. TRANSPORTES
A20: MATERIAL | D20: VOL. o | E20: DISTANCIA | F20: M3 o Ton/Km | G20: TARIFA | I20: Vr. UNITARIO
A23: SUBTOTAL $
A24: IV. MANO DE OBRA
A25: TRABAJADOR | D25: JORNAL | E25: PRESTACIONES | F25: JORNAL TOTAL | G25: RENDIMIENTO | I25: Vr. UNITARIO
A26: 1 Ayudante de contruccion | D26: 30284 | E26: 25741.4 | F26: =+E26+D26 -> 56025.4 | G26: =+G10 -> 24.4909 | I26: =+F26/G26 -> 2287.6
A27: 1 Oficial de Contruccion | D27: 66667 | E27: 49140.25 | F27: =+E27+D27 -> 115807.25 | G27: =+G26 -> 24.4909 | I27: =+F27/G27 -> 4728.58
A30: SUBTOTAL $ | I30: =SUM(I26:I29) -> 7016.18
A32: TOTAL COSTO DIRECTO $ | I32: =+I11+I18+I23+I30 -> 33591.97
A33: V. COSTOS INDIRECTOS
A34: DESCRIPCIÓN | F34: PORCENTAJE | G34: VALOR TOTAL
A35: ADMINISTRACION | F35: 0.25 | G35: =+I32 -> 33591.97 | I35: =+G35*F35 -> 8397.99
A36: IMPREVISTOS | F36: 0 | G36: =+I32 -> 33591.97 | I36: =+G36*F36 -> 0
A37: UTILIDAD | F37: 0.05 | G37: =+I32 -> 33591.97 | I37: =+G37*F37 -> 1679.6
A38: SUBTOTAL $ | I38: =SUM(I35:I37) -> 10077.59
A40: PRECIO UNITARIO TOTAL APROCIMADO AL PESO $ | I40: =+ROUND(I32+I38,0) -> 43670 | J40: =+'PROPUESTA CONSORCIO'!G23 -> 43670 | K40: =+J40-I40 -> 0

Sheet APU 4.3
A2: ANALISIS DE PRECIOS UNITARIOS
A5: ÍTEM | B5: DESCRIPCIÓN | G5: UNIDAD | I5: CANTIDAD
A6: 4.3 | B6: Marca Vial con Pintura Trafico para demarcacion delimitacion de Velocidad. | G6: M2 | I6: =+'PROPUESTA CONSORCIO'!F24+'PROPUESTA CONSORCIO'!F59+'PROPUESTA CONSORCIO'!F85+'PROPUESTA CONSORCIO'!F107+'PROPUESTA CONSORCIO'!F126+'PROPUESTA CONSORCIO'!F157+'PROPUESTA CONSORCIO'!F196+'PROPUESTA CONSORCIO'!F225+'PROPUESTA CONSORCIO'!F257 -> 604
A7: I. EQUIPO
A8: DESCRIPCIÓN | C8: UNIDAD | D8: TIPO | F8: TARIFA/HORA | G8: RENDIMIENTO | I8: Vr. UNITARIO
A9: Herramienta menor: 10% Vr. M.O | C9: % | D9: ------------- | F9: =+I29 -> 12585.33 | G9: 0.1 | I9: =+G9*F9 -> 1258.53
A10: Vehiculo delineador | C10: Hm | D10: ------------- | F10: 450000 | G10: 31.455 | I10: =+F10/G10 -> 14306.15
A12: SUBTOTAL $ | I12: =SUM(I9:I11) -> 15564.68
A13: II. MATERIALES
A14: DESCRIPCIÓN | E14: UNIDAD | F14: CANTIDAD | G14: PRECIO UNIT. | I14: Vr. UNITARIO
A15: Pintura Acrilica Pura para trafico | E15: gal | F15: 0.1 | G15: =+'APU 4,2'!G14:H14 -> 75000 | I15: =+G15*F15 -> 7500
A17: SUBTOTAL $ | I17: =SUM(I15:I16) -> 7500
A18: III. TRANSPORTES
A19: MATERIAL | D19: VOL. o PESO | E19: DISTANCIA | F19: M3 o Ton/Km | G19: TARIFA | I19: Vr. UNITARIO
A22: SUBTOTAL $
A23: IV. MANO DE OBRA
A24: TRABAJADOR | D24: JORNAL | E24: PRESTACIONES | F24: JORNAL TOTAL | G24: RENDIMIENTO | I24: Vr. UNITARIO
A25: 5 Ayudante de contruccion | D25: 151420 | E25: 128707 | F25: =+D25+E25 -> 280127 | G25: =+G10 -> 31.46 | I25: =+F25/G25 -> 8904.23
A26: 1 Oficial de Contruccion | D26: 66667 | E26: 49140.25 | F26: =+E26+D26 -> 115807.25 | G26: =+G25 -> 31.46 | I26: =+F26/G26 -> 3681.1
A29: SUBTOTAL $ | I29: =SUM(I25:I28) -> 12585.33
A31: TOTAL COSTO DIRECTO $ | I31: =+I12+I17+I22+I29 -> 35650.01
A32: V. COSTOS INDIRECTOS
A33: DESCRIPCIÓN | F33: PORCENTAJE | G33: VALOR TOTAL
A34: ADMINISTRACION | F34: 0.25 | G34: =+I31 -> 35650.01 | I34: =+G34*F34 -> 8912.5
A35: IMPREVISTOS | F35: 0 | G35: =+I31 -> 35650.01 | I35: =+G35*F35 -> 0
A36: UTILIDAD | F36: 0.05 | G36: =+I31 -> 35650.01 | I36: =+G36*F36 -> 1782.5
A37: SUBTOTAL $ | I37: =SUM(I34:I36) -> 10695
A39: PRECIO UNITARIO TOTAL APROCIMADO AL PESO $ | I39: =+ROUND(I31+I37,0) -> 46345 | J39: =+'PROPUESTA CONSORCIO'!G25 -> 46345 | K39: =+J39-I39 -> 0

Sheet APU 4.4
A2: ANALISIS DE PRECIOS UNITARIOS
A5: ÍTEM | B5: DESCRIPCIÓN | G5: UNIDAD | I5: CANTIDAD
A6: 4.4 | B6: Marca Vial con Pintura Trafico para demarcacion felchas de orientacion Vehicular. | G6: M2 | I6: =+'PROPUESTA CONSORCIO'!F25+'PROPUESTA CONSORCIO'!F60+'PROPUESTA CONSORCIO'!F86+'PROPUESTA CONSORCIO'!F108+'PROPUESTA CONSORCIO'!F127+'PROPUESTA CONSORCIO'!F158+'PROPUESTA CONSORCIO'!F197+'PROPUESTA CONSORCIO'!F226+'PROPUESTA CONSORCIO'!F258 -> 598
A7: I. EQUIPO
A8: DESCRIPCIÓN | C8: UNIDAD | D8: TIPO | F8: TARIFA/HORA | G8: RENDIMIENTO | I8: Vr. UNITARIO
A9: Herramienta menor: 10% Vr. M.O | C9: % | D9: ------------- | F9: =+I29 -> 12585.33 | G9: 0.1 | I9: =+G9*F9 -> 1258.53
A10: Vehiculo delineador | C10: Hm | D10: ------------- | F10: 450000 | G10: 31.455 | I10: =+F10/G10 -> 14306.15
A12: SUBTOTAL $ | I12: =SUM(I9:I11) -> 15564.68
A13: II. MATERIALES
A14: DESCRIPCIÓN | E14: UNIDAD | F14: CANTIDAD | G14: PRECIO UNIT. | I14: Vr. UNITARIO
A15: Pintura Acrilica Pura para trafico | E15: gal | F15: 0.1 | G15: =+'APU 4,2'!G14:H14 -> 75000 | I15: =+G15*F15 -> 7500
A17: SUBTOTAL $ | I17: =SUM(I15:I16) -> 7500
A18: III. TRANSPORTES
A19: MATERIAL | D19: VOL. o PESO | E19: DISTANCIA | F19: M3 o Ton/Km | G19: TARIFA | I19: Vr. UNITARIO
A22: SUBTOTAL $
A23: IV. MANO DE OBRA
A24: TRABAJADOR | D24: JORNAL | E24: PRESTACIONES | F24: JORNAL TOTAL | G24: RENDIMIENTO | I24: Vr. UNITARIO
A25: 5 Ayudante de contruccion | D25: 151420 | E25: 128707 | F25: =+E25+D25 -> 280127 | G25: =+G10 -> 31.46 | I25: =+F25/G25 -> 8904.23
A26: 1 Oficial de Contruccion | D26: 66667 | E26: 49140.25 | F26: =+E26+D26 -> 115807.25 | G26: =+G25 -> 31.46 | I26: =+F26/G26 -> 3681.1
A29: SUBTOTAL $ | I29: =SUM(I25:I28) -> 12585.33
A31: TOTAL COSTO DIRECTO $ | I31: =+I12+I17+I22+I29 -> 35650.01
A32: V. COSTOS INDIRECTOS
A33: DESCRIPCIÓN | F33: PORCENTAJE | G33: VALOR TOTAL
A34: ADMINISTRACION | F34: 0.25 | G34: =+I31 -> 35650.01 | I34: =+G34*F34 -> 8912.5
A35: IMPREVISTOS | F35: 0 | G35: =+I31 -> 35650.01 | I35: =+G35*F35 -> 0
A36: UTILIDAD | F36: 0.05 | G36: =+I31 -> 35650.01 | I36: =+G36*F36 -> 1782.5
A37: SUBTOTAL $ | I37: =SUM(I34:I36) -> 10695
A39: PRECIO UNITARIO TOTAL APROCIMADO AL PESO $ | I39: =+ROUND(I37+I31,0) -> 46345 | J39: =+'PROPUESTA CONSORCIO'!G25 -> 46345 | K39: =+J39-I39 -> 0

Sheet APU 4.5
A2: ANALISIS DE PRECIOS UNITARIOS
A5: ÍTEM | B5: DESCRIPCIÓN | G5: UNIDAD | I5: CANTIDAD
A6: 4.5 | B6: Marca Vial con Pintura Trafico para demarcacion zona Bicicletas | G6: M2 | I6: =+'PROPUESTA CONSORCIO'!F26+'PROPUESTA CONSORCIO'!F62+'PROPUESTA CONSORCIO'!F128+'PROPUESTA CONSORCIO'!F160+'PROPUESTA CONSORCIO'!F199+'PROPUESTA CONSORCIO'!F228+'PROPUESTA CONSORCIO'!F260 -> 443
A7: I. EQUIPO
A8: DESCRIPCIÓN | C8: UNIDAD | D8: TIPO | F8: TARIFA/HORA | G8: RENDIMIENTO | I8: Vr. UNITARIO
A9: Herramienta menor: 10% Vr. M.O | C9: % | D9: ------------- | F9: =+I29 -> 12585.33 | G9: 0.1 | I9: =+G9*F9 -> 1258.53
A10: Vehiculo delineador | C10: Hm | D10: ------------- | F10: 450000 | G10: 31.455 | I10: =+F10/G10 -> 14306.15
A12: SUBTOTAL $ | I12: =SUM(I9:I11) -> 15564.68
A13: II. MATERIALES
A14: DESCRIPCIÓN | E14: UNIDAD | F14: CANTIDAD | G14: PRECIO UNIT. | I14: Vr. UNITARIO
A15: Pintura Acrilica Pura para trafico | E15: gal | F15: 0.1 | G15: =+'APU 4,2'!G14:H14 -> 75000 | I15: =+G15*F15 -> 7500
A17: SUBTOTAL $ | I17: =SUM(I15:I16) -> 7500
A18: III. TRANSPORTES
A19: MATERIAL | D19: VOL. o PESO | E19: DISTANCIA | F19: M3 o Ton/Km | G19: TARIFA | I19: Vr. UNITARIO
A22: SUBTOTAL $
A23: IV. MANO DE OBRA
A24: TRABAJADOR | D24: JORNAL | E24: PRESTACIONES | F24: JORNAL TOTAL | G24: RENDIMIENTO | I24: Vr. UNITARIO
A25: 5 Ayudante de contruccion | D25: 151420 | E25: 128707 | F25: =+E25+D25 -> 280127 | G25: =+G10 -> 31.46 | I25: =+F25/G25 -> 8904.23
A26: 1 Oficial de Contruccion | D26: 66667 | E26: 49140.25 | F26: =+E26+D26 -> 115807.25 | G26: =+G25 -> 31.46 | I26: =+F26/G26 -> 3681.1
A29: SUBTOTAL $ | I29: =SUM(I25:I28) -> 12585.33
A31: TOTAL COSTO DIRECTO $ | I31: =+I12+I17+I22+I29 -> 35650.01
A32: V. COSTOS INDIRECTOS
A33: DESCRIPCIÓN | F33: PORCENTAJE | G33: VALOR TOTAL
A34: ADMINISTRACION | F34: 0.25 | G34: =+I31 -> 35650.01 | I34: =+G34*F34 -> 8912.5
A35: IMPREVISTOS | F35: 0 | G35: =+I31 -> 35650.01 | I35: =+G35*F35 -> 0
A36: UTILIDAD | F36: 0.05 | G36: =+I31 -> 35650.01 | I36: =+G36*F36 -> 1782.5
A37: SUBTOTAL $ | I37: =SUM(I34:I36) -> 10695
A39: PRECIO UNITARIO TOTAL APROCIMADO AL PESO $ | I39: =+ROUND(I37+I31,0) -> 46345 | J39: =+'PROPUESTA CONSORCIO'!G26 -> 46345 | K39: =+J39-I39 -> 0

Sheet APU 4.6
A2: ANALISIS DE PRECIOS UNITARIOS
A5: ÍTEM | B5: DESCRIPCIÓN | G5: UNIDAD | I5: CANTIDAD
A6: 4.6 | B6: Marca Vial con Pintura Trafico para demarcacion zonas peatonal | G6: M2 | I6: =+'PROPUESTA CONSORCIO'!F27+'PROPUESTA CONSORCIO'!F129 -> 680
A7: I. EQUIPO
A8: DESCRIPCIÓN | C8: UNIDAD | D8: TIPO | F8: TARIFA/HORA | G8: RENDIMIENTO | I8: Vr. UNITARIO
A9: Herramienta menor: 10% Vr. M.O | C9: % | D9: ------------- | F9: =+I29 -> 12585.33 | G9: 0.1 | I9: =+G9*F9 -> 1258.53
A10: Vehiculo delineador | C10: Hm | D10: ------------- | F10: 450000 | G10: 31.455 | I10: =+F10/G10 -> 14306.15
A12: SUBTOTAL $ | I12: =SUM(I9:I11) -> 15564.68
A13: II. MATERIALES
A14: DESCRIPCIÓN | E14: UNIDAD | F14: CANTIDAD | G14: PRECIO UNIT. | I14: Vr. UNITARIO
A15: Pintura Acrilica Pura para trafico | E15: gal | F15: 0.1 | G15: =+'APU 4,2'!G14:H14 -> 75000 | I15: =+G15*F15 -> 7500
A17: SUBTOTAL $ | I17: =SUM(I15:I16) -> 7500
A18: III. TRANSPORTES
A19: MATERIAL | D19: VOL. o PESO | E19: DISTANCIA | F19: M3 o Ton/Km | G19: TARIFA | I19: Vr. UNITARIO
A22: SUBTOTAL $
A23: IV. MANO DE OBRA
A24: TRABAJADOR | D24: JORNAL | E24: PRESTACIONES | F24: JORNAL TOTAL | G24: RENDIMIENTO | I24: Vr. UNITARIO
A25: 5 Ayudante de contruccion | D25: 151420 | E25: 128707 | F25: =+E25+D25 -> 280127 | G25: =+G10 -> 31.46 | I25: =+F25/G25 -> 8904.23
A26: 1 Oficial de Contruccion | D26: 66667 | E26: 49140.25 | F26: =+E26+D26 -> 115807.25 | G26: =+G25 -> 31.46 | I26: =+F26/G26 -> 3681.1
A29: SUBTOTAL $ | I29: =SUM(I25:I28) -> 12585.33
A31: TOTAL COSTO DIRECTO $ | I31: =+I12+I17+I22+I29 -> 35650.01
A32: V. COSTOS INDIRECTOS
A33: DESCRIPCIÓN | F33: PORCENTAJE | G33: VALOR TOTAL
A34: ADMINISTRACION | F34: 0.25 | G34: =+I31 -> 35650.01 | I34: =+G34*F34 -> 8912.5
A35: IMPREVISTOS | F35: 0 | G35: =+I31 -> 35650.01 | I35: =+G35*F35 -> 0
A36: UTILIDAD | F36: 0.05 | G36: =+I31 -> 35650.01 | I36: =+G36*F36 -> 1782.5
A37: SUBTOTAL $ | I37: =SUM(I34:I36) -> 10695
A39: PRECIO UNITARIO TOTAL APROCIMADO AL PESO $ | I39: =+ROUND(I37+I31,0) -> 46345 | J39: =+'PROPUESTA CONSORCIO'!G27 -> 46345 | K39: =+J39-I39 -> 0

Sheet APU 4.7
A2: ANALISIS DE PRECIOS UNITARIOS
A5: ÍTEM | B5: DESCRIPCIÓN | G5: UNIDAD | I5: CANTIDAD
A6: 4.7 | B6: Suminsitro e instalacion tacha Reflectiva | G6: UND. | I6: =+'PROPUESTA CONSORCIO'!F28+'PROPUESTA CONSORCIO'!F65+'PROPUESTA CONSORCIO'!F130+'PROPUESTA CONSORCIO'!F163+'PROPUESTA CONSORCIO'!F202+'PROPUESTA CONSORCIO'!F231+'PROPUESTA CONSORCIO'!F263 -> 8963
A7: I. EQUIPO
A8: DESCRIPCIÓN | C8: UNIDAD | D8: TIPO | F8: TARIFA/HORA | G8: RENDIMIENTO | I8: Vr. UNITARIO
A9: Herramienta menor: 10% Vr. M.O | C9: % | D9: ------------- | F9: =+I30 -> 149.54 | G9: 0.1 | I9: =+F9*G9 -> 14.95
A12: SUBTOTAL $ | I12: =SUM(I9:I9) -> 14.95
A13: II. MATERIALES
A14: DESCRIPCIÓN | E14: UNIDAD | F14: CANTIDAD | G14: PRECIO UNIT. | I14: Vr. UNITARIO
A15: Resina termoplástica | E15: kg | F15: 0.1 | G15: =+MATERIALES!M35 -> 7000 | I15: =+F15*G15 -> 700
A16: Tacha reflectiva | E16: Und | F16: 1 | G16: =+MATERIALES!M48 -> 6000 | I16: =+F16*G16 -> 6000
A18: SUBTOTAL $ | I18: =SUM(I15:I17) -> 6700
A19: III. TRANSPORTES
A20: MATERIAL | D20: VOL. o PESO | E20: DISTANCIA | F20: M3 o Ton/Km | G20: TARIFA | I20: Vr. UNITARIO
A23: SUBTOTAL $
A24: IV. MANO DE OBRA
A25: TRABAJADOR | D25: JORNAL | E25: PRESTACIONES | F25: JORNAL TOTAL | G25: RENDIMIENTO | I25: Vr. UNITARIO
A26: 2 Ayudante de contruccion | D26: 60568 | E26: 51482.8 | F26: =+D26+E26 -> 112050.8 | G26: 1523.7223 | I26: =+F26/G26 -> 73.54
A27: 1 Oficial de Contruccion | D27: 66667 | E27: 49140.25 | F27: =+D27+E27 -> 115807.25 | G27: =+G26 -> 1523.7223 | I27: =+F27/G27 -> 76
A30: SUBTOTAL $ | I30: =SUM(I26:I29) -> 149.54
A32: TOTAL COSTO DIRECTO $ | I32: =+I12+I18+I23+I30 -> 6864.49
A33: V. COSTOS INDIRECTOS
A34: DESCRIPCIÓN | F34: PORCENTAJE | G34: VALOR TOTAL
A35: ADMINISTRACION | F35: 0.25 | G35: =+I32 -> 6864.49 | I35: =+G35*F35 -> 1716.12
A36: IMPREVISTOS | F36: 0 | G36: =+I32 -> 6864.49 | I36: =+G36*F36 -> 0
A37: UTILIDAD | F37: 0.05 | G37: =+I32 -> 6864.49 | I37: =+G37*F37 -> 343.22
A38: SUBTOTAL $ | I38: =SUM(I35:I37) -> 2059.34
A40: PRECIO UNITARIO TOTAL APROCIMADO AL PESO $ | I40: =+ROUND(I32+I38,0) -> 8924 | J40: =+'PROPUESTA CONSORCIO'!G28 -> 8924 | K40: =+J40-I40 -> 0

Sheet APU  4.8
A2: ANALISIS DE PRECIOS UNITARIOS
A5: ÍTEM | B5: DESCRIPCIÓN | G5: UNIDAD | I5: CANTIDAD
A6: 4.8 | B6: Suminsitro e Intalacion de Hito Delineador o Señalizador Tubular Flexible 74cm | G6: UND. | I6: =+'PROPUESTA CONSORCIO'!F29+'PROPUESTA CONSORCIO'!F66+'PROPUESTA CONSORCIO'!F131+'PROPUESTA CONSORCIO'!F164+'PROPUESTA CONSORCIO'!F203+'PROPUESTA CONSORCIO'!F232+'PROPUESTA CONSORCIO'!F264 -> 321
A7: I. EQUIPO
A8: DESCRIPCIÓN | C8: UNIDAD | D8: TIPO | F8: TARIFA/HORA | G8: RENDIMIENTO | I8: Vr. UNITARIO
