Workbook
Name Clase: Anexo!$AE$4:$AE$4

Sheet Anexo
A1: MATRIZ DE RIESGOS EN CONTRATACIÓN -JBB
A2: No. | B2: Clase | C2: Fuente | D2: Etapa | E2: Tipo | F2: Descripción (que puede pasar y, como puede ocurrir) | G2: Consecuencia de la Ocurrencia del Evento | H2: Probabilidad | J2: Impacto | L2: Valoracion del Riesgo | N2: Categoria | O2: ¿A quien se le asigna? | P2: Tratamiento / Controles a ser implementados | Q2: Impacto Despúes del Tratamiento | X2: ¿Afecta la ejecucion del contrato? | Y2: Persona responsable por implementar el tratamiento | Z2: Fecha estimada en que se inicia el tratamiento | AA2: Fecha estimada en que se completa el tratamiento | AB2: Monitoreo y Revisión | AE2: Clase | AF2: Fuente | AG2: Etapa | AH2: Tipo | AI2: Probabilidad | AJ2: Impacto | AK2: Valoración | AL2: ¿Afecta la ejecucion del contrato?
Q3: Probabilidad | S3: Impacto | U3: Valoracion del Riesgo | W3: Categoria | AB3: ¿Cómo se realiza el monitoreo? | AC3: Periocidad ¿Cuándo?
A4: 1 | B4: General | C4: Interno | D4: Contratacion | E4: Operacional | F4: Que el contratista no firme el contrato, no se presenten las garantias o se presenten de manera tardia o fraudulenta / reclamos de terceros que pueden retrasar el funcionamiento del contrato. | G4: Retraso en la ejecucion del contrato o no ejecucion del contrato | H4: Posible | I4: =VLOOKUP(H:H,[1]Probabilidad!$1:$1048576,2,0) -> 3 | J4: Mayor | K4: =VLOOKUP(J:J,Impacto!$1:$1048576,2,0) -> 4 | L4: =VLOOKUP(M:M,'Valor Riesgo'!$1:$1048576,2,0) -> Riesgo Alto | M4: =+I4+K4 -> 7 | N4: =L4 -> Riesgo Alto | O4: Proponente / Entidad | P4: Requerimientos / Inicio del debido proceso para hacer efectivas las garantias / respuestas a las peticiones y reclamos | Q4: Improbable | R4: =VLOOKUP(Q:Q,[1]Probabilidad!$1:$1048576,2,0) -> 2 | S4: Menor | T4: =VLOOKUP(S:S,Impacto!$1:$1048576,2,0) -> 2 | U4: =VLOOKUP(V:V,'Valor Riesgo'!$1:$1048576,2,0) -> Riesgo Bajo | V4: =+R4+T4 -> 4 | W4: =U4 -> Riesgo Bajo | X4: Si | Y4: Oficina juridica | Z4: Desde la adjudicacion | AA4: Hasta la liquidació del contrato | AB4: Requerimientos / informes y actuacion administrativa | AC4: Imediato ocurrencia del hecho | AE4: Especifico | AF4: Externo | AG4: Selección | AH4: Riesgos Sociales o Políticos. | AI4: Improbable | AJ4: Menor | AK4: 2 | AL4: NO
A5: 2 | B5: Especifico | C5: Externo | D5: Ejecucion | E5: Regulatorio | F5: Cambios en la normatividad | G5: Afecta condiciones de ejecucion del contrato | H5: Improbable | I5: =VLOOKUP(H:H,[1]Probabilidad!$1:$1048576,2,0) -> 2 | J5: Moderado | K5: =VLOOKUP(J:J,Impacto!$1:$1048576,2,0) -> 3 | L5: =VLOOKUP(M:M,'Valor Riesgo'!$1:$1048576,2,0) -> Riesgo Medio | M5: =+I5+K5 -> 5 | N5: =L5 -> Riesgo Medio | O5: Entidad / contratista | P5: Estudiar cambios normatividad y replantear la ejecucion del contrato. | Q5: Improbable | R5: =VLOOKUP(Q:Q,[1]Probabilidad!$1:$1048576,2,0) -> 2 | S5: Menor | T5: =VLOOKUP(S:S,Impacto!$1:$1048576,2,0) -> 2 | U5: =VLOOKUP(V:V,'Valor Riesgo'!$1:$1048576,2,0) -> Riesgo Bajo | V5: =+R5+T5 -> 4 | W5: =U5 -> Riesgo Bajo | X5: Si | Y5: Entidad / contratista | Z5: Desde la suscripción del acta de inicio | AA5: Hasta la liquidació del contrato | AB5: Análisis cambios normativos y su aplicación en la ejecución del contrato | AC5: Inmediato ocurrencia del hecho | AG5: Contratación | AH5: Riesgos Operacionales | AI5: Posible | AJ5: Moderado | AK5: 3
A6: 3 | B6: Especifico | C6: Interno | D6: Ejecución | E6: Operacional | F6: Terminación anticipada del contrato | G6: Incumplimiento / Ejecucion incompleta del contrato | H6: Posible | I6: =VLOOKUP(H:H,[1]Probabilidad!$1:$1048576,2,0) -> 3 | J6: Mayor | K6: =VLOOKUP(J:J,Impacto!$1:$1048576,2,0) -> 4 | L6: =VLOOKUP(M:M,'Valor Riesgo'!$1:$1048576,2,0) -> Riesgo Alto | M6: =+I6+K6 -> 7 | N6: =L6 -> Riesgo Alto | O6: Contratista/Entidad | P6: Garantía única de cumplimiento/ Clausulas exorbitantes | Q6: Posible | R6: =VLOOKUP(Q:Q,[1]Probabilidad!$1:$1048576,2,0) -> 3 | S6: Moderado | T6: =VLOOKUP(S:S,Impacto!$1:$1048576,2,0) -> 3 | U6: =VLOOKUP(V:V,'Valor Riesgo'!$1:$1048576,2,0) -> Riesgo Alto | V6: =+R6+T6 -> 6 | W6: =U6 -> Riesgo Alto | X6: Si | Y6: Supervisor del contrato | Z6: Desde la suscripción del acta de inicio | AA6: Hasta la liquidació del contrato | AB6: Supervisión, seguimiento, alertas, informes | AC6: Inmediato ocurrencia del hecho | AG6: Ejecución | AH6: Riesgos Finncieros | AI6: Probable | AJ6: Mayor | AK6: 4
A7: 4 | B7: Especifico | C7: Interno | D7: Ejecución | E7: Operacional | F7: Mala calidad en la prestación del servicio | G7: No satisfacer la necesidad requerida por la Entidad / Incumplimiento contractual | H7: Raro | I7: =VLOOKUP(H:H,Probabilidad!$1:$1048576,2,0) -> 1 | J7: Mayor | K7: =VLOOKUP(J:J,Impacto!$1:$1048576,2,0) -> 4 | L7: =VLOOKUP(M:M,'Valor Riesgo'!$1:$1048576,2,0) -> Riesgo Medio | M7: =+I7+K7 -> 5 | N7: =L7 -> Riesgo Medio | O7: Contratista | P7: Seguimiento continuo a la ejecución del contrato por el equipo supervisor | Q7: Raro | R7: =VLOOKUP(Q:Q,Probabilidad!$1:$1048576,2,0) -> 1 | S7: Menor | T7: =VLOOKUP(S:S,Impacto!$1:$1048576,2,0) -> 2 | U7: =VLOOKUP(V:V,'Valor Riesgo'!$1:$1048576,2,0) -> Riesgo Bajo | V7: =+R7+T7 -> 3 | W7: =U7 -> Riesgo Bajo | X7: Si | Y7: Supervisor del contrato | Z7: Desde la suscripción del acta de inicio | AA7: Hasta la liquidació del contrato | AB7: Requerimientos, informes y actuación administrativa | AC7: Permanente | AH7: Riesgos Regulatorios | AI7: Casi cierto | AJ7: Catastrofico | AK7: 5
A8: 5 | B8: General | C8: Externo | D8: Ejecución | E8: Riesgos Finncieros | F8: Perdida en la capacidad económica y patrimonial por parte del contratista para poder cumplir con el objeto del contrato. | G8: Incumplimiento contrato | H8: Improbable | I8: =VLOOKUP(H:H,Probabilidad!$1:$1048576,2,0) -> 2 | J8: Mayor | K8: =VLOOKUP(J:J,Impacto!$1:$1048576,2,0) -> 4 | L8: =VLOOKUP(M:M,'Valor Riesgo'!$1:$1048576,2,0) -> Riesgo Alto | M8: =+I8+K8 -> 6 | N8: =L8 -> Riesgo Alto | O8: Contratista | P8: Garantías | Q8: Improbable | R8: =VLOOKUP(Q:Q,Probabilidad!$1:$1048576,2,0) -> 2 | S8: Menor | T8: =VLOOKUP(S:S,Impacto!$1:$1048576,2,0) -> 2 | U8: =VLOOKUP(V:V,'Valor Riesgo'!$1:$1048576,2,0) -> Riesgo Bajo | V8: =+R8+T8 -> 4 | W8: =U8 -> Riesgo Bajo | X8: Si | Y8: Contratista / Entidad | Z8: Desde la suscripción del acta de inicio | AA8: Hasta la liquidació del contrato | AB8: Comunicaciones / requerimientos / informes | AC8: Permanente | AH8: Riesgos de la Naturaleza
A9: 6 | B9: Especifico | C9: Interno | D9: Ejecución | E9: Operacional | F9: Atraso en el cronograma de actividades / No cumplimiento del mismo. | G9: Incumplimiento contrato | H9: Improbable | I9: =VLOOKUP(H:H,Probabilidad!$1:$1048576,2,0) -> 2 | J9: Mayor | K9: =VLOOKUP(J:J,Impacto!$1:$1048576,2,0) -> 4 | L9: =VLOOKUP(M:M,'Valor Riesgo'!$1:$1048576,2,0) -> Riesgo Alto | M9: =+I9+K9 -> 6 | N9: =L9 -> Riesgo Alto | O9: Contratista | P9: Planes de mejora / Garantías / Multas / Clausulas exorbitantes | Q9: Raro | R9: =VLOOKUP(Q:Q,Probabilidad!$1:$1048576,2,0) -> 1 | S9: Menor | T9: =VLOOKUP(S:S,Impacto!$1:$1048576,2,0) -> 2 | U9: =VLOOKUP(V:V,'Valor Riesgo'!$1:$1048576,2,0) -> Riesgo Bajo | V9: =+R9+T9 -> 3 | W9: =U9 -> Riesgo Bajo | X9: Si | Y9: Contratista / Entidad | Z9: Desde la firma del Acta de Inicio | AA9: Hasta la liquidació del contrato | AB9: Requerimientos, informes y actuación administrativa | AC9: Permanente | AH9: Riesgos de la Naturaleza
A10: 7 | B10: Especifico | C10: Interno | D10: Ejecución | E10: Operacional | F10: Dificultades en la contratacion de personal | G10: Retraso en la ejecucion /Incumplimiento contrato | H10: Raro | I10: =VLOOKUP(H:H,Probabilidad!$1:$1048576,2,0) -> 1 | J10: Mayor | K10: =VLOOKUP(J:J,Impacto!$1:$1048576,2,0) -> 4 | L10: =VLOOKUP(M:M,'Valor Riesgo'!$1:$1048576,2,0) -> Riesgo Medio | M10: =+I10+K10 -> 5 | N10: =L10 -> Riesgo Medio | O10: Contratista | P10: Garantías / Multas / Clausulas exorbitantes | Q10: Raro | R10: =VLOOKUP(Q:Q,Probabilidad!$1:$1048576,2,0) -> 1 | S10: Insignificante | T10: =VLOOKUP(S:S,Impacto!$1:$1048576,2,0) -> 1 | U10: =VLOOKUP(V:V,'Valor Riesgo'!$1:$1048576,2,0) -> Riesgo Bajo | V10: =+R10+T10 -> 2 | W10: =U10 -> Riesgo Bajo | X10: Si | Y10: Contratista | Z10: Adjudicación | AA10: Firma del Acta de Inicio | AB10: Comité evaluador/ Supervisor | AC10: Permanente | AH10: Riesgos de la Naturaleza
A11: 8 | B11: Especifico | C11: Interno | D11: Ejecución | E11: Operacional | F11: No pago oportuno por parte del contratista al personal ocupado en la ejecución del contrato. | G11: Retraso en la ejecucion / Incumplimiento contractual | H11: Posible | I11: =VLOOKUP(H:H,Probabilidad!$1:$1048576,2,0) -> 3 | J11: Mayor | K11: =VLOOKUP(J:J,Impacto!$1:$1048576,2,0) -> 4 | L11: =VLOOKUP(M:M,'Valor Riesgo'!$1:$1048576,2,0) -> Riesgo Alto | M11: =+I11+K11 -> 7 | N11: =L11 -> Riesgo Alto | O11: Contratista | P11: Inicio actuación administrativa | Q11: Raro | R11: =VLOOKUP(Q:Q,[2]Probabilidad!$1:$1048576,2,0) -> 1 | S11: Insignificante | T11: =VLOOKUP(S:S,Impacto!$1:$1048576,2,0) -> 1 | U11: =VLOOKUP(V:V,'Valor Riesgo'!$1:$1048576,2,0) -> Riesgo Bajo | V11: =+R11+T11 -> 2 | W11: =U11 -> Riesgo Bajo | X11: Si | Y11: Contratista / Entidad | Z11: Desde el inicio del proyecto | AA11: Hasta la liquidació del contrato | AB11: Inicio actuación administrativa | AC11: Inmediato ocurrencia del hecho | AH11: Riesgos de la Naturaleza
A12: 9 | B12: Especifico | C12: Interno | D12: Ejecución | E12: Operacional | F12: Abandono de labores por parte del contratista | G12: Incumplimiento contractual | H12: Posible | I12: =VLOOKUP(H:H,Probabilidad!$1:$1048576,2,0) -> 3 | J12: Mayor | K12: =VLOOKUP(J:J,Impacto!$1:$1048576,2,0) -> 4 | L12: =VLOOKUP(M:M,'Valor Riesgo'!$1:$1048576,2,0) -> Riesgo Alto | M12: =+I12+K12 -> 7 | N12: =L12 -> Riesgo Alto | O12: Contratista | P12: Inicio actuación administrativa / garantías | Q12: Posible | R12: =VLOOKUP(Q:Q,[2]Probabilidad!$1:$1048576,2,0) -> 3 | S12: Menor | T12: =VLOOKUP(S:S,Impacto!$1:$1048576,2,0) -> 2 | U12: =VLOOKUP(V:V,'Valor Riesgo'!$1:$1048576,2,0) -> Riesgo Medio | V12: =+R12+T12 -> 5 | W12: =U12 -> Riesgo Medio | X12: Si | Y12: Contratista / Entidad | Z12: Desde la firma del Acta de Inicio | AA12: Hasta la liquidació del contrato | AB12: Inicio actuación administrativa | AC12: Inmediato ocurrencia del hecho | AH12: Riesgos de la Naturaleza
A13: 10 | B13: Especifico | C13: Interno | D13: Ejecución | E13: Operacional | F13: Entrega de informacion no veridica o errada por parte del contratista | G13: Incumplimiento contractual | H13: Posible | J13: Mayor | L13: =L5 -> Riesgo Medio | M13: =+I13+K13 -> 0 | N13: =L13 -> Riesgo Medio | O13: Contratista | P13: Inicio actuación administrativa / garantías | Q13: Posible | S13: Moderado | U13: Riesgo Medio | V13: 5 | W13: Riesgo Medio | X13: Si | Y13: Contratista / Entidad | Z13: Desde la firma del Acta de Inicio | AA13: Hasta la liquidació del contrato | AB13: Inicio actuación administrativa | AC13: Inmediato ocurrencia del hecho

Sheet Valoración del Riesgo 
A1: VALORACIÓN DEL RIESGO
A2: IMPACTO
A3: Calificación Cualitativa | D3: Obstruye la ejecución del contrato de manera intrascedente | E3: Dificulta la ejecución del Contrato de Manera Baja. Aplicando medidads minimas se puede lograr el objeto contractual | F3: Afecta la ejecución del contrato sin alterar el beneficio para las partes | G3: Obstruye la ejecución del contrato sustancialmente pero aun así permite la consecución del objeto contractual | H3: Perturba la ejecución del contrato de manera grave imposibilitando la consecución del objeto contractual.
A4: Calificación Monetaria | D4: Los sobrecostos no representan más del uno por ciento (1%) del valor del contrato | E4: Los sobrecostos no representan más del cinco por ciento (5%) del valor del contrato | F4: Genera un impacto sobre el valor del contrato entre el cinco por ciento (5%) y el quince por ciento ( 15%) | G4: Incrementa el valor del contrato entre el quince por ciento (15%) y el treinta por ciento (30%) | H4: Impacto sobre el valor del contrato en mas del treinta por ciento (30%)
A5: Categoria | C5: Valoración | D5: Insignificante | E5: Menor | F5: Moderado | G5: Mayor | H5: Catastrofico
D6: 1 | E6: 2 | F6: 3 | G6: 4 | H6: 5
A7: PROBABILIDAD | B7: Raro (Puede ocurrir excepcionalmente) | C7: 1 | D7: =+C7+$D$6 -> 2 | E7: =+C7+$E$6 -> 3 | F7: =+C7+$F$6 -> 4 | G7: =+C7+$G$6 -> 5 | H7: =+C7+$H$6 -> 6 | J7: Valoración del Riesgo | N7: Categoría
B8: Improbable (Puede ocurrir ocasionalmente) | C8: 2 | D8: =+C8+$D$6 -> 3 | E8: =+C8+$E$6 -> 4 | F8: =+C8+$F$6 -> 5 | G8: =+C8+$G$6 -> 6 | H8: =+C8+$H$6 -> 7 | J8: 8 | K8: 9 | L8: 10 | N8: Riesgo Extremo
B9: Posible (Puede ocurrir en cualquier momento futuro) | C9: 3 | D9: =+C9+$D$6 -> 4 | E9: =+C9+$E$6 -> 5 | F9: =+C9+$F$6 -> 6 | G9: =+C9+$G$6 -> 7 | H9: =+C9+$H$6 -> 8 | J9: 6 | L9: 7 | N9: Riesgo Alto
B10: Probable (Probablemente va a Ocurrir) | C10: 4 | D10: =+C10+$D$6 -> 5 | E10: =+C10+$E$6 -> 6 | F10: =+C10+$F$6 -> 7 | G10: =+C10+$G$6 -> 8 | H10: =+C10+$H$6 -> 9 | J10: 5 | N10: Riesgo Medio
B11: Casi cierto (Ocurre en la mayoria de las circunstancias) | C11: 5 | D11: =+C11+$D$6 -> 6 | E11: =+C11+$E$6 -> 7 | F11: =+C11+$F$6 -> 8 | G11: =+C11+$G$6 -> 9 | H11: =+C11+$H$6 -> 10 | J11: 2 | K11: 3 | L11: 4 | N11: Riesgo Bajo

Sheet Probabilidad
A1: Probabilidad | B1: Valoración
A3: Raro | B3: 1
A4: Improbable | B4: 2
A5: Posible | B5: 3
A6: Probable | B6: 4
A7: Casi cierto | B7: 5

Sheet Impacto
A1: Impacto | B1: Valoración
A3: Insignificante | B3: 1
A4: Menor | B4: 2
A5: Moderado | B5: 3
A6: Mayor | B6: 4
A7: Catastrofico | B7: 5

Sheet Valor Riesgo
A1: Valoracion del Riesgo | B1: Categoria
A2: 2 | B2: Riesgo Bajo
A3: 3 | B3: Riesgo Bajo
A4: 4 | B4: Riesgo Bajo
A5: 5 | B5: Riesgo Medio
A6: 6 | B6: Riesgo Alto
A7: 7 | B7: Riesgo Alto
A8: 8 | B8: Riesgo Extremo
A9: 9 | B9: Riesgo Extremo
A10: 10 | B10: Riesgo Extremo
