Workbook

Sheet Propuestas AB
A1: EVALUACIÓN DE OFERTAS ARTIFICIALMENTE BAJAS
A3: REF. | C3: CONCEPTO | D3: OFERTA ECONÓMICA | E3: ∆ | F3: Cálculos σ
A4: 25 | B4: 1 | C4: CAMILO MORALES | D4: 6.1491078e+08 | E4: =ABS(I6-D4) -> 41190715 | F4: =(D4-$I$4)^2 -> 1.6331259e+15 | H4: Promedio Valor Ofertas: | I4: =+AVERAGE(D4:D45) -> 6.5532274e+08
A5: 5 | B5: 2 | C5: CARLOS AUGUSTO RAMÍREZ BASTIDAS | D5: 6.4664737e+08 | E5: =ABS(I7-D5) -> 6.4664733e+08 | F5: =(D5-$I$4)^2 -> 7.5261956e+13
A6: 1 | B6: 3 | C6: UNION TEMPORAL ALCANTARILLADO ARANZAZU 2021 | D6: 6.4784709e+08 | E6: =ABS(I8-D6) -> 6.4784707e+08 | F6: =(D6-$I$4)^2 -> 5.5885311e+13 | H6: Mediana Valor Ofertas: | I6: =+AVERAGE(I10:I11) -> 6.561015e+08
A7: 16 | B7: 4 | C7: MONICA LOPEZ | D7: 6.505774e+08 | E7: =ABS(I9-D7) -> 6.5057738e+08 | F7: =(D7-$I$4)^2 -> 2.2518197e+13 | H7: N° Proponentes Habilitados: | I7: =+B45 -> 42
A8: 17 | B8: 5 | C8: CONSORCIO INGENIEROS ALCA 2021 | D8: 6.5091563e+08 | E8: =ABS(I10-D8) -> 4995669.9 | F8: =(D8-$I$4)^2 -> 1.942256e+13 | H8: Proponete Valor Mayor para Mediana: | I8: =+I7/2 -> 21
A9: 45 | B9: 6 | C9: CONSTRUCTORA VMJ SAS | D9: 6.516326e+08 | E9: =ABS(I11-D9) -> 4659093.8 | F9: =(D9-$I$4)^2 -> 1.3617097e+13 | H9: Proponete Valor Menor para Mediana: | I9: =+I8+1 -> 22
A10: 41 | B10: 7 | C10: CARLOS ALBERTO ROJAS PINEDA | D10: 6.5209308e+08 | E10: =ABS(I12-D10) -> 6.5209308e+08 | F10: =(D10-$I$4)^2 -> 1.0430667e+13 | H10: Valor Mayor para Mediana: | I10: =+D24 -> 6.559113e+08
A11: 52 | B11: 8 | C11: NELSON IDARRAGA SANCHEZ | D11: 6.5256634e+08 | E11: =ABS(I13-D11) -> 6.4498042e+08 | F11: =(D11-$I$4)^2 -> 7.597694e+12 | H11: Valor Menor para Mediana: | I11: =+D25 -> 6.5629169e+08
A12: 15 | B12: 9 | C12: CARLOS ALBERTO MATEUS ZULUAGA | D12: 6.5296368e+08 | E12: =ABS(I14-D12) -> 6.5296368e+08 | F12: =(D12-$I$4)^2 -> 5.5651598e+12
A13: 2 | B13: 10 | C13: LR AMBIENTAL S.A.S | D13: 6.5350628e+08 | E13: =ABS(I15-D13) -> 4990711.3 | F13: =(D13-$I$4)^2 -> 3.2994921e+12 | H13: Desviación estándar Valor Ofertas: | I13: =+((SUM(F4:F45)/B45)^(1/2)) -> 7585924.4
A14: 21 | B14: 11 | C14: ALIC CONSTRUCCION SAS | D14: 6.5364765e+08 | E14: =ABS(I16-D14) -> 6.5364765e+08 | F14: =(D14-$I$4)^2 -> 2.8059003e+12
A15: 7 | B15: 12 | C15: CONSORCIO ARANZAZU PM 2021 | D15: 6.5364765e+08 | E15: =ABS(I17-D15) -> 6.5364765e+08 | F15: =(D15-$I$4)^2 -> 2.8058989e+12 | H15: Valor Mínimo Aceptable: | I15: =+I6-I13 -> 6.4851557e+08
A16: 13 | B16: 13 | C16: S&S INGENIERIA CIVIL SAS | D16: 6.542584e+08 | E16: =ABS(I18-D16) -> 6.542584e+08 | F16: =(D16-$I$4)^2 -> 1.1327994e+12
A17: 14 | B17: 14 | C17: HECTOR FABIO VALENCIA QUINTERO | D17: 6.5432778e+08 | E17: =ABS(I19-D17) -> 6.5432778e+08 | F17: =(D17-$I$4)^2 -> 9.8993437e+11
A18: 23 | B18: 15 | C18: CONSORCIO SILEX CALDAS | D18: 6.5458863e+08 | E18: =ABS(I20-D18) -> 6.5458863e+08 | F18: =(D18-$I$4)^2 -> 5.3890828e+11
A19: 24 | B19: 16 | C19: EDGAR ADOLFO HOYOS GARCIA | D19: 6.5478669e+08 | E19: =ABS(I21-D19) -> 6.5478669e+08 | F19: =(D19-$I$4)^2 -> 2.8734134e+11
A20: 20 | B20: 17 | C20: NELSON MORENO ALVAREZ | D20: 6.5511511e+08 | E20: =ABS(I22-D20) -> 6.5511511e+08 | F20: =(D20-$I$4)^2 -> 4.3107786e+10
A21: 38 | B21: 18 | C21: CONSORCIO AGUA | D21: 6.5552444e+08 | E21: =ABS(I23-D21) -> 6.5552444e+08 | F21: =(D21-$I$4)^2 -> 4.0686211e+10
A22: 54 | B22: 19 | C22: CONSORCIO ARUNA | D22: 6.5555275e+08 | E22: =ABS(I24-D22) -> 6.5555275e+08 | F22: =(D22-$I$4)^2 -> 5.290519e+10
A23: 8 | B23: 20 | C23: CONSORCIO AZNE CALDAS | D23: 6.5572464e+08 | E23: =ABS(I25-D23) -> 6.5572464e+08 | F23: =(D23-$I$4)^2 -> 1.6152778e+11
A24: 4 | B24: 21 | C24: CONSORCIO IDAMAC | D24: 6.559113e+08 | E24: =ABS(I26-D24) -> 6.559113e+08 | F24: =(D24-$I$4)^2 -> 3.4641059e+11
A25: 3 | B25: 22 | C25: S Y C SAS | D25: 6.5629169e+08 | E25: =ABS(I27-D25) -> 6.5629169e+08 | F25: =(D25-$I$4)^2 -> 9.3888114e+11
A26: 18 | B26: 23 | C26: CONSTRUCTORA SH SAS | D26: 6.5644115e+08 | E26: =ABS(I28-D26) -> 6.5644115e+08 | F26: =(D26-$I$4)^2 -> 1.2508587e+12
A27: 19 | B27: 24 | C27: CONSORCIO REDES OZ - MH | D27: 6.5655608e+08 | E27: =ABS(I29-D27) -> 6.5655608e+08 | F27: =(D27-$I$4)^2 -> 1.521131e+12
... A45: 10 | B45: 42 | C45: ALVARO ANTONIO HURTADO OSORIO | D45: 6.6829702e+08 | E45: =ABS(I47-D45) -> 6.6829702e+08 | F45: =(D45-$I$4)^2 -> 1.6833198e+14

Sheet MAB
A1: EVALUACIÓN PROPUESTAS ECONÓMICAS
A3: LP-SV-010-2021 "OPTIMIZACIÓN SISTEMA DE ALCANTARILLADO CASCO URBANO MUNICIPIO DE ARÁNZAZU"
D5: Fecha: | E5: 44593
A7: MÉTODO "MEDIA ARITMÉTICA BAJA"
A9: REF. | B9: CONCEPTO | C9: VALOR PROPUESTA ECONÓMICA | D9: CRITERIO DE FORMULA | E9: PUNTAJE | G9: Nota: | H9: La Entidad procederá a ponderar las propuestas de acuerdo con formula
A10: 2 | B10: LR AMBIENTAL S.A.S | C10: 6.5350628e+08 | D10: =+IF((C10-$C$54)<=0,"FORMULA 1","FORMULA2") -> FORMULA2 | E10: =IF(D10="FORMULA 1",60*(1-((($C$54-C10))/$C$54)),60*(1-((ABS($C$54-C10))/$C$54))) -> 59.822957
A11: 3 | B11: S Y C SAS | C11: 6.5629169e+08 | D11: =+IF((C11-$C$54)<=0,"FORMULA 1","FORMULA2") -> FORMULA2 | E11: =IF(D11="FORMULA 1",60*(1-((($C$54-C11))/$C$54)),60*(1-((ABS($C$54-C11))/$C$54))) -> 59.566467
A12: 4 | B12: CONSORCIO IDAMAC | C12: 6.559113e+08 | D12: =+IF((C12-$C$54)<=0,"FORMULA 1","FORMULA2") -> FORMULA2 | E12: =IF(D12="FORMULA 1",60*(1-((($C$54-C12))/$C$54)),60*(1-((ABS($C$54-C12))/$C$54))) -> 59.601495
A13: 5 | B13: CARLOS AUGUSTO RAMÍREZ BASTIDAS | C13: 6.4664737e+08 | D13: =+IF((C13-$C$54)<=0,"FORMULA 1","FORMULA2") -> FORMULA 1 | E13: =IF(D13="FORMULA 1",60*(1-((($C$54-C13))/$C$54)),60*(1-((ABS($C$54-C13))/$C$54))) -> 59.545451
A14: 6 | B14: CONSORCIO ACEROS UNO | C14: 6.5671446e+08 | D14: =+IF((C14-$C$54)<=0,"FORMULA 1","FORMULA2") -> FORMULA2 | E14: =IF(D14="FORMULA 1",60*(1-((($C$54-C14))/$C$54)),60*(1-((ABS($C$54-C14))/$C$54))) -> 59.527537
A15: 7 | B15: CONSORCIO ARANZAZU PM 2021 | C15: 6.5364765e+08 | D15: =+IF((C15-$C$54)<=0,"FORMULA 1","FORMULA2") -> FORMULA2 | E15: =IF(D15="FORMULA 1",60*(1-((($C$54-C15))/$C$54)),60*(1-((ABS($C$54-C15))/$C$54))) -> 59.809939
A16: 8 | B16: CONSORCIO AZNE CALDAS | C16: 6.5572464e+08 | D16: =+IF((C16-$C$54)<=0,"FORMULA 1","FORMULA2") -> FORMULA2 | E16: =IF(D16="FORMULA 1",60*(1-((($C$54-C16))/$C$54)),60*(1-((ABS($C$54-C16))/$C$54))) -> 59.618684
A17: 9 | B17: CONSORCIO AGUAS DE CALDAS | C17: 6.5679871e+08 | D17: =+IF((C17-$C$54)<=0,"FORMULA 1","FORMULA2") -> FORMULA2 | E17: =IF(D17="FORMULA 1",60*(1-((($C$54-C17))/$C$54)),60*(1-((ABS($C$54-C17))/$C$54))) -> 59.51978
A18: 10 | B18: ALVARO ANTONIO HURTADO OSORIO | C18: 6.6829702e+08 | D18: =+IF((C18-$C$54)<=0,"FORMULA 1","FORMULA2") -> FORMULA2 | E18: =IF(D18="FORMULA 1",60*(1-((($C$54-C18))/$C$54)),60*(1-((ABS($C$54-C18))/$C$54))) -> 58.460977
A19: 11 | B19: JAIRO FAYAD | C19: 657679482 | D19: =+IF((C19-$C$54)<=0,"FORMULA 1","FORMULA2") -> FORMULA2 | E19: =IF(D19="FORMULA 1",60*(1-((($C$54-C19))/$C$54)),60*(1-((ABS($C$54-C19))/$C$54))) -> 59.438675
A20: 12 | B20: CARLOS EDUARDO HERNANDEZ VALENCIA | C20: 6.5869332e+08 | D20: =+IF((C20-$C$54)<=0,"FORMULA 1","FORMULA2") -> FORMULA2 | E20: =IF(D20="FORMULA 1",60*(1-((($C$54-C20))/$C$54)),60*(1-((ABS($C$54-C20))/$C$54))) -> 59.345318
A21: 13 | B21: S&S INGENIERIA CIVIL SAS | C21: 6.542584e+08 | D21: =+IF((C21-$C$54)<=0,"FORMULA 1","FORMULA2") -> FORMULA2 | E21: =IF(D21="FORMULA 1",60*(1-((($C$54-C21))/$C$54)),60*(1-((ABS($C$54-C21))/$C$54))) -> 59.753699
... A49: 54 | B49: CONSORCIO ARUNA | C49: 6.5555275e+08 | D49: =+IF((C49-$C$54)<=0,"FORMULA 1","FORMULA2") -> FORMULA2 | E49: =IF(D49="FORMULA 1",60*(1-((($C$54-C49))/$C$54)),60*(1-((ABS($C$54-C49))/$C$54))) -> 59.634512
B51: PROPUESTA VÁLIDA MÁS BAJA | C51: =+MIN(C10:C49) -> 6.4664737e+08
B52: PROMEDIO SIMPLE | C52: =+AVERAGE(C10:C49) -> 6.5651993e+08
B54: MEDIA ARITMÉTICA BAJA (XB) | C54: =+(C51+C52)/2 -> 6.5158365e+08

Sheet AP
A1: ASIGNACIÓN DE PUNTAJE
A3: LP-SV-010-2021 "OPTIMIZACIÓN SISTEMA DE ALCANTARILLADO CASCO URBANO MUNICIPIO DE ARÁNZAZU"
F5: Fecha: | G5: 44593
C7: 1.Oferta económica | D7: 2.Factor de calidad | E7: 3.Apoyo a la industria nacional | F7: 4.Vinculación de personas con discapacidad | G7: Puntaje Total
A8: 2 | B8: LR AMBIENTAL S.A.S | C8: =+MAB!E10 -> 59.822957 | D8: 19 | E8: 20 | F8: 1 | G8: =+SUM(C8:F8) -> 99.822957
A9: 3 | B9: S Y C SAS | C9: =+MAB!E11 -> 59.566467 | D9: 19 | E9: 20 | F9: 1 | G9: =+SUM(C9:F9) -> 99.566467
A10: 4 | B10: CONSORCIO IDAMAC | C10: =+MAB!E12 -> 59.601495 | D10: 19 | E10: 0 | F10: 1 | G10: =+SUM(C10:F10) -> 79.601495
A11: 5 | B11: CARLOS AUGUSTO RAMÍREZ BASTIDAS | C11: =+MAB!E13 -> 59.545451 | D11: 19 | E11: 20 | F11: 1 | G11: =+SUM(C11:F11) -> 99.545451
A12: 6 | B12: CONSORCIO ACEROS UNO | C12: =+MAB!E14 -> 59.527537 | D12: 0 | E12: 0 | F12: 1 | G12: =+SUM(C12:F12) -> 60.527537
A13: 7 | B13: CONSORCIO ARANZAZU PM 2021 | C13: =+MAB!E15 -> 59.809939 | D13: 19 | E13: 20 | F13: 1 | G13: =+SUM(C13:F13) -> 99.809939
A14: 8 | B14: CONSORCIO AZNE CALDAS | C14: =+MAB!E16 -> 59.618684 | D14: 19 | E14: 20 | F14: 1 | G14: =+SUM(C14:F14) -> 99.618684
A15: 9 | B15: CONSORCIO AGUAS DE CALDAS | C15: =+MAB!E17 -> 59.51978 | D15: 19 | E15: 0 | F15: 1 | G15: =+SUM(C15:F15) -> 79.51978
A16: 10 | B16: ALVARO ANTONIO HURTADO OSORIO | C16: =+MAB!E18 -> 58.460977 | D16: 19 | E16: 20 | F16: 1 | G16: =+SUM(C16:F16) -> 98.460977
A17: 11 | B17: JAIRO FAYAD | C17: =+MAB!E19 -> 59.438675 | D17: 0 | E17: 20 | F17: 1 | G17: =+SUM(C17:F17) -> 80.438675
A18: 12 | B18: CARLOS EDUARDO HERNANDEZ VALENCIA | C18: =+MAB!E20 -> 59.345318 | D18: 0 | E18: 0 | F18: 1 | G18: =+SUM(C18:F18) -> 60.345318
A19: 13 | B19: S&S INGENIERIA CIVIL SAS | C19: =+MAB!E21 -> 59.753699 | D19: 0 | E19: 20 | F19: 1 | G19: =+SUM(C19:F19) -> 80.753699
... A47: 54 | B47: CONSORCIO ARUNA | C47: =+MAB!E49 -> 59.634512 | D47: 19 | E47: 20 | F47: 1 | G47: =+SUM(C47:F47) -> 99.634512
B48: TOTAL | G48: =+MAX(G8:G47) -> 99.995492
