Workbook
Name _Toc199730894: 'CARTA DE PRESENTACION'!#REF!
Name _Toc199730894: CONSORCIO!#REF!
Name _Toc199730894: ESPECIFICACIONES!#REF!
Name _Toc199730894: 'EXPERIENCIA ESPECIFICA'!#REF!
Name _Toc199730894: 'PACTO ANTICORRUPCION'!#REF!
Name _Toc199730894: 'UNION TEMPORAL'!#REF!
Name OLE_LINK1: ESPECIFICACIONES!$B$13

Sheet PROPONENTE
C6: FORMATOS MINIMA CUANTIA
C7: COD: 8.1.F.25
C8: VERSIÓN: 01
C9: DOCUMENTO CONTROLADO
A10: FORMATOS A DILIGENCIAR PARA UN PROCESO DE SELECCIÓN DE CONTRATISTA
A12: Entidad | B12: AREA METROPOLITANA DEL CENTRO OCCIDENTE
A13: Proceso de Selección N° | B13: ="PROCESO DE SELECCIÓN N° "&B14&" - "&B15 -> PROCESO DE SELECCIÓN N° 04 de 2022 - SELECCIÓN DE MINIMA CUANTIA
B14: 04 de 2022
A15: Modalidad | B15: SELECCIÓN DE MINIMA CUANTIA
A16: Clasificación objeto (SECOP) | B16: 90101603 NOMBRE: Servicios de Catering
A17: Objeto | B17: Prestar servicio de Catering al Área Metropolitana Centro Occidente en las jornadas de instalación de sellos a los taxímetros
A20: Tipo de Contrato | B20: PRESTACIÓN DE SERVICIOS
A21: PROPONENTE:
B23: (Escriba en la casilla sombreada con amarillo el nombre completo o razón social completa del proponente)
A26: Formato | B26: Descripción | C26: Presentación
A27: 1 | B27: Carta de presentación de propuesta | C27: Obligatoria
A28: 2 | B28: Pacto anticorrupción | C28: Obligatoria
A29: 3 | B29: Propuesta Económica | C29: Obligatoria
A30: 4 | B30: Experiencia Específica del Proponente | C30: Obligatoria
A31: 5 | B31: Consorcio | C31: Obligatoria si es consorcio
A32: 6 | B32: Union Temporal | C32: Obligatorio si es Union Temporal
A33: 7 | B33: Servicios | C33: Obligatorio

Sheet CARTA DE PRESENTACION
G4: FORMATOS MINIMA CUANTIA
G5: COD: 8.1.F.25
G6: VERSIÓN: 01
G7: DOCUMENTO CONTROLADO
A8: =PROPONENTE!B12 -> AREA METROPOLITANA DEL CENTRO OCCIDENTE
A9: =PROPONENTE!B13 -> PROCESO DE SELECCIÓN N° 04 de 2022 - SELECCIÓN DE MINIMA CUANTIA
A10: =PROPONENTE!B17 -> Prestar servicio de Catering al Área Metropolitana Centro Occidente en las jornadas de instalación de sellos a los taxímetros
A12: FORMATO 1 - CARTA DE PRESENTACIÓN DE LA PROPUESTA
A14: PROPONENTE
A16: Ciudad y fecha:
A18: Señores
A19: AREA METROPOLITANA CENTRO OCCIDENTE
A21: El firmante del presente documento, en calidad de Representante Legal del Proponente cuyos datos se aportan en el siguiente cuadro denominado “INFORMACIÓN DEL PROPONENTE Y DATOS PARA COMUNICACIONES” hace la siguiente propuesta con relación al objeto del proceso de selección en referencia de acuerdo con las especificaciones técnicas y presupuesto establecidos en el pliego de condiciones/Invitación Pública (según el caso) y, en caso de que me sea aceptada por el Area Metropolitana Centro Occidente, me comprometo a firmar el contrato correspondiente.
A23: INFORMACIÓN DEL PROCESO DE CONTRATACIÓN
A24: Entidad Contratante | B24: =PROPONENTE!B12 -> AREA METROPOLITANA DEL CENTRO OCCIDENTE
A25: Proceso de Contratación Nº | B25: =PROPONENTE!B14 -> 04 de 2022
A26: Tipo de Proceso de Selección | B26: =PROPONENTE!B15 -> SELECCIÓN DE MINIMA CUANTIA
A27: Clasificación del Objeto (SECOP) | B27: =PROPONENTE!B16 -> 90101603 NOMBRE: Servicios de Catering
A28: Objeto | B28: =PROPONENTE!B17 -> Prestar servicio de Catering al Área Metropolitana Centro Occidente en las jornadas de instalación de sellos a los taxímetros
A31: Tipo de Contrato | B31: PRESTACION DE SERVICIOS
A33: INFORMACIÓN DEL PROPONENTE Y DATOS PARA COMUNICACIONES
A34: Nombre completo del Proponente
A36: Cédula de Ciudadanía ó NIT
A37: Nombre Representante Legal (RL)
A38: Cédula de Ciudadanía ó NIT del RL
A39: Dirección
A40: Teléfonos | B40: Fijo | D40: Celular | F40: Fax
A41: Ciudad
A42: Buzón de correo electrónico (Email)
A44: INFORMACIÓN DE LA PROPUESTA
A45: Total de adendas conocidas por el proponente
A46: Número de folios de que consta la propuesta
A47: La propuesta contiene folios con reserva legal (si/no)
A48: Plazo de vigencia de la propuesta (meses)
A50: Declaro BAJO LA GRAVEDAD DE JURAMENTO, sujeto a las sanciones establecidas en el Artículo 442 del Código Penal (Ley 599 de 2000) y demás contenidas en la Ley 80 de 1993, la Ley 1150 de 2007, Decreto 1510 de 2013 y demás normas concordantes: 1) Que conozco las especificaciones y demás documentos del presente proceso de contratación y acepto todos los requisitos en ellos contemplados. 2) Que ninguna persona o entidad distinta de las aquí nombradas tiene intereses en esta propuesta, ni en el contrato que, como consecuencia de ella, llegue a celebrarse y que, por consiguiente, sólo compromete a los firmantes. 3) Que en caso de no haber asistido a la audiencia de aclaraciones programada, asumo la responsabilidad en cuanto a las características y condiciones que puedan afectar la ejecución del contrato. 4) Que conozco las disposiciones legales que rigen el presente proceso de contratación. 5) Que si se me adjudica el contrato, me comprometo a otorgar las garantías requeridas y a suscribir éstas y aquél dentro de los términos señalados al efecto. 6) Que la información hecha en la propuesta es verídica y se asume total responsabilidad frente al AREA METROPOLITANA CENTRO OCCIDENTE cuando los datos suministrados sean falsos o contrarios a la realidad, sin perjuicio de lo dispuesto en el Código Penal y demás normas concordantes. 7) Que mi representado no se encuentra incurso en alguna de las causales de inhabilidad o incompatibilidad establecidas en el artículo 8 de la Ley 80 de 1993 y demás normas sobre la materia y que, tampoco, me hallo o hallamos en ninguno de los eventos de prohibiciones especiales para contratar con el Estado. 8) Que mi representado no aparece reportado en el Boletín de Responsables Fiscales vigente, expedido por la Contraloría General de la República, de acuerdo con lo previsto en el artículo 60 de la Ley 610 de 2000, en concordancia con el numeral 4º del artículo 38 de la Ley 734 de 2002. 9) Que conozco las adendas publicadas con ocasión del presente proceso indicadas en el cuadro denominado “INFORMACIÓN DE LA PROPUESTA”. 10) Que la presente propuesta consta del número de folios debidamente numerados indicado en el cuadro denominado “INFORMACIÓN DE LA PROPUESTA”, de los cuales los siguientes gozan de reserva legal (enunciarlos y mencionar el fundamento legal o constitucional en el cual sustentan su afirmación en documento anexo y firmado por el Representante Legal del Proponente). De no hacerlo, la Entidad asumirá que todos los documentos de la propuesta son de carácter público. 11) El oferente se obliga a cumplir el plazo indicado en el cuadro denominado “INFORMACIÓN DE LA PROPUESTA”, contado a partir de la suscripción del acta de inicio del contrato, previo cumplimiento de los requisitos para la ejecución del contrato. 12) Acompaño los documentos exigidos en la invitaciónpública o pliego de condiciones., según el caso Cordialmente, ________________________________________________ FIRMA DEL PROPONENTE O SU REPRESENTANTE LEGAL

Sheet PACTO ANTICORRUPCION
G5: FORMATOS MINIMA CUANTIA
G6: COD: 8.1.F.25
G7: VERSIÓN: 01
G8: DOCUMENTO CONTROLADO
A9: =PROPONENTE!B12 -> AREA METROPOLITANA DEL CENTRO OCCIDENTE
A10: =PROPONENTE!B13 -> PROCESO DE SELECCIÓN N° 04 de 2022 - SELECCIÓN DE MINIMA CUANTIA
A11: =PROPONENTE!B17 -> Prestar servicio de Catering al Área Metropolitana Centro Occidente en las jornadas de instalación de sellos a los taxímetros
A13: FORMATO 2 - PACTO ANTICORRUPCIÓN
A15: PROPONENTE
A17: Ciudad y fecha:
A19: Señores
A20: AREA METROPOLITANA CENTRO OCCIDENTE
A22: El firmante del presente documento, en calidad de Representante Legal del Proponente cuyos datos se aportan en el siguiente cuadro denominado “INFORMACIÓN DEL PROPONENTE Y DATOS PARA COMUNICACIONES” que en adelante se denominará EL PROPONENTE y el DIRECTOR del AREA METROPOLITANA CENTRO OCCIDENTE, quien en adelante se denominará LA ENTIDAD, manifestamos la voluntad de asumir el presente COMPROMISO DE TRANSPARENCIA, teniendo en cuenta las consideraciones, declaraciones del Proponente, declaraciones de la Entidad, compromisos del Proponente, compromisos de la Entidad que se describen a continuación.
A25: INFORMACIÓN DEL PROCESO DE CONTRATACIÓN
A26: Entidad Contratante | B26: AREA METROPOLITANA DEL CENTRO OCCIDENTE
A27: Proceso de Contratación Nº | B27: ='CARTA DE PRESENTACION'!B25 -> 04 de 2022
A28: Tipo de Proceso de Selección | B28: ='CARTA DE PRESENTACION'!B26 -> SELECCIÓN DE MINIMA CUANTIA
A29: Clasificación del Objeto (SECOP) | B29: =PROPONENTE!B16 -> 90101603 NOMBRE: Servicios de Catering
A30: Objeto | B30: ='CARTA DE PRESENTACION'!B28 -> Prestar servicio de Catering al Área Metropolitana Centro Occidente en las jornadas de instalación de sellos a los taxímetros
A31: Tipo de Contrato | B31: ='CARTA DE PRESENTACION'!B31 -> PRESTACION DE SERVICIOS
A33: INFORMACIÓN DEL PROPONENTE Y DATOS PARA COMUNICACIONES
A34: Nombre completo del Proponente
A36: Cédula de Ciudadanía ó NIT
A37: Nombre Representante Legal (RL)
A38: Cédula de Ciudadanía ó NIT del RL
A39: Dirección
A40: Teléfonos | B40: Fijo | D40: Celular | F40: Fax
A41: Ciudad
A42: Buzón de correo electrónico (Email)
A45: CONSIDERACIONES: a) Que el Area Metropolitana Centro Occidente, adelanta un proceso de contratación que tiene por objeto el descrito en el cuadro denominado "INFORMACIÓN DEL PROCESO DE CONTRATACIÓN" en el presente documento. b) Que EL PROPONENTE tiene interés en apoyar la acción del Estado Colombiano y del Area Metropolitana Centro Occidente, en la implementación de mecanismos y normas para el fortalecimiento de la transparencia en los procesos contractuales y en la lucha contra la corrupción. c) Que el PROPONENTE tiene interés en el presente proceso de contratación, y se encuentra dispuesto a suministrar la información necesaria para la transparencia del proceso y, en tal sentido, realiza las siguientes manifestaciones y compromisos. DECLARACIONES DEL PROPONENTE: 1) Declaro no encontrarme incurso en ninguna inhabilidad e incompatibilidad prevista en la Constitución Política ni en la Ley, así como no tener sanción vigente por la trasgresión de alguna de ellas, para contratar con Entidades Públicas. 2) Declaro que toda la información que suministre durante el proceso de contratación y en la ejecución del contrato si me es adjudicado, es cierta. 3) Declaro que no he ofrecido, ni ofreceré, no he dado, ni daré, directa ni indirectamente, dádiva o beneficio para obtener una decisión a mi favor, ventaja impropia o para perjudicar a alguno de los proponentes. 4) Declaro que la propuesta presentada es seria y económicamente ajustada a la realidad, que asegura la posibilidad de ejecutar el objeto del presente contrato en las condiciones de calidad y oportunidad exigidas en el Pliego de Condiciones. 5) Declaro públicamente que conozco y acepto las reglas establecidas en el presente proceso de contratación, las modificaciones, adendas, así como las aclaraciones que se realizaron a el Pliego de Condiciones y/o Invitación Publica, en condiciones de transparencia, equidad e igualdad. DECLARACIONES DE LA ENTIDAD: 1) Declaro que no me han ofrecido, ni he recibido, ni he solicitado, ni solicitaré, directa ni indirectamente, dádiva o beneficio para emitir decisión a favor de algún proponente. 2) Declaro que el Pliego de Condiciones están ajustados a la Ley y que los procedimientos se adelanten con observancia de los principios de transparencia y publicidad. COMPROMISOS DEL PROPONENTE: 1) Si llegare a sobrevenir inhabilidad o incompatibilidad prevista en la Constitución o en la Ley, me comprometo a manifestarla a la entidad y me comprometo a ceder el contrato, previa autorización escrita del Area Metropolitana Centro Occidente y, si ello no fuere posible, renunciaré a la ejecución del mismo, de conformidad con lo previsto en el artículo 9º. de la Ley 80 de 1993. 2) Me comprometo a desarrollar todas mis actividades en el marco de principios éticos y a asumir con seriedad y responsabilidad todos los compromisos relacionados con la presente contratación. 3) Me comprometo a suministrar al Area Metropolitana Centro Occidente, cualquier información sobre actos de corrupción, soborno, subjetividad, presión o favorecimiento en el desarrollo del proceso contractual, del que tenga o llegare a tener conocimiento. 4) Me comprometo a cumplir todas las obligaciones, cargas y los términos en general, previstos en el Pliego de Condiciones y/o Invitación Pública y en el contrato. COMPROMISOS DE LA ENTIDAD: 1) Me comprometo a ser objetivo, y a tratar con igualdad a todos los proponentes. 2) Me comprometo a responder y a publicar las respuestas a las observaciones realizadas por todos los participantes. 3) Me comprometo a rechazar y a denunciar cualquier dádiva u ofrecimiento hecho directa o indirectamente por algún participante o persona interesada en el proceso contractual. 4) Me comprometo a desarrollar todas nuestras actividades en el marco de principios éticos y a asumir con seriedad y responsabilidad todos los compromisos relacionados con la presente contratación. Aceptamos, ________________________________________ __________________________________________ Firma del Proponente o su Representante Legal Firma del Director Area Metropolitana Centro Occidente (*) NOTA: Este compromiso deberá ser presentado y firmado por el proponente con la propuesta respectiva. Si es persona jurídica, por quien conforme a la ley esté facultado; si es consorcio o unión temporal por quien haya sido designado representante legal en el documento de constitución; Si es persona natural, por ella misma; si actúa en calidad de apoderado, debe estar debidamente facultado por quien tenga la legitimación para hacerlo, caso en el cual debe anexar el poder correspondiente.

Sheet PROPUESTA ECONOMICA
D6: FORMATOS MINIMA CUANTIA
D7: COD: 8.1.F.25
D8: VERSIÓN: 01
D9: DOCUMENTO CONTROLADO
A10: =PROPONENTE!B12 -> AREA METROPOLITANA DEL CENTRO OCCIDENTE
A11: =PROPONENTE!B13 -> PROCESO DE SELECCIÓN N° 04 de 2022 - SELECCIÓN DE MINIMA CUANTIA
A12: =+PROPONENTE!B17 -> Prestar servicio de Catering al Área Metropolitana Centro Occidente en las jornadas de instalación de sellos a los taxímetros
A14: FORMATO Nº 3 - PROPUESTA ECONÓMICA
A16: PROPONENTE
A18: Ciudad y fecha:
A20: NOMBRE | B20: VALOR SIN IVA | C20: VALOR IVA (%) | D20: VALOR TOTAL
A26: ________________________________________________
A27: FIRMA DEL PROPONENTE O SU REPRESENTANTE LEGAL
A30: El formato es editable, el oferente deberá establecer si los bienes se encuentran gravados con el impuesto del IVA.

Sheet EXPERIENCIA ESPECIFICA
G5: FORMATOS MINIMA CUANTIA
G6: COD: 8.1.F.25
G7: VERSIÓN: 01
G8: DOCUMENTO CONTROLADO
A9: =PROPONENTE!B12 -> AREA METROPOLITANA DEL CENTRO OCCIDENTE
A10: =PROPONENTE!B13 -> PROCESO DE SELECCIÓN N° 04 de 2022 - SELECCIÓN DE MINIMA CUANTIA
A11: =PROPONENTE!B17 -> Prestar servicio de Catering al Área Metropolitana Centro Occidente en las jornadas de instalación de sellos a los taxímetros
A13: FORMATO Nº 4 - EXPERIENCIA ESPECÍFICA DEL PROPONENTE
A15: PROPONENTE
A17: Ciudad y fecha:
A19: CONTRATO | B19: ENTIDAD | C19: PARTICIPACION (Individual - Consorcio - Unión Temporal) | D19: % PARTICIPACIÓN | E19: VALOR EN $ | F19: AÑO DE FIRMA DEL CONTRATO | G19: VALOR ACREDITADO
D21: 0 | E21: 0 | G21: =ROUND(+E21*D21,0) -> 0
D22: 0 | E22: 0 | G22: =ROUND(+E22*D22,0) -> 0
D23: 0 | E23: 0 | G23: =ROUND(+E23*D23,0) -> 0
D24: 0 | E24: 0 | G24: =ROUND(+E24*D24,0) -> 0
D25: 0 | E25: 0 | G25: =ROUND(+E25*D25,0) -> 0
D26: 0 | E26: 0 | G26: =ROUND(+E26*D26,0) -> 0
A27: VALOR TOTAL CONTRATOS ACREDITADOS | G27: =SUM(G21:G26) -> 0
A29: En caso de diferencia entre la información relacionada en este formato y las certificaciones y/o actas de recibo de trabajos prevalecerá la información contenida en estas últimas.
A36: FIRMA DEL PROPONENTE O SU REPRESENTANTE LEGAL

Sheet CONSORCIO
G5: FORMATOS MINIMA CUANTIA
G6: COD: 8.1.F.25
G7: VERSIÓN: 01
G8: DOCUMENTO CONTROLADO
A9: AREA METROPOLITANA CENTRO OCCIDENTE
A10: SELECCIÓN MINIMA CUANTIA
A11: ='CARTA DE PRESENTACION'!A9:G9 -> PROCESO DE SELECCIÓN N° 04 de 2022 - SELECCIÓN DE MINIMA CUANTIA
A13: FORMATO 5 - DOCUMENTO DE CONFORMACIÓN DE CONSORCIO
A15: PROPONENTE
A17: Ciudad y fecha:
A19: Señores
A20: INFORMACIÓN DEL PROCESO DE CONTRATACIÓN
A21: Entidad Contratante | B21: Area Metropolitana del Centro Occidente
A22: Proceso de Contratación Nº | B22: PROCESO DE SELECCIÓN N°04 de 2022 - SELECCIÓN DE MINIMA CUANTIA
A23: Tipo de Proceso de Selección | B23: SELECCIÓN DE MINIMA CUANTIA
A24: Objeto | B24: =PROPONENTE!B17 -> Prestar servicio de Catering al Área Metropolitana Centro Occidente en las jornadas de instalación de sellos a los taxímetros
A27: Tipo de Contrato | B27: =+PROPONENTE!B20 -> PRESTACIÓN DE SERVICIOS
A29: INFORMACIÓN DE LA UNIÓN TEMPORAL Y DATOS PARA COMUNICACIONES
A30: Razón Social de la Unión Temporal
A32: Cédula de Ciudadanía ó NIT
A33: Representante Legal (RL)
A34: Cédula de Ciudadanía ó NIT del RL
A35: Representante Legal Suplente (RLS)
A36: Cédula de Ciudadanía ó NIT del RLS
A37: Número de Integrantes
A38: Dirección
A39: Teléfonos | B39: Fijo | D39: Celular | F39: Fax
A40: Ciudad
A41: Buzón de correo electrónico (Email)
A43: INFORMACIÓN DEL INTEGRANTE Nº 1 Y DATOS PARA COMUNICACIONES
A44: Nombre completo del Integrante
A46: Cédula de Ciudadanía ó NIT
A47: Representante Legal (RL)
A48: Cédula de Ciudadanía ó NIT del RL
A49: Dirección
A50: Teléfonos | B50: Fijo | D50: Celular | F50: Fax
A51: Ciudad
A52: Buzón de correo electrónico (Email)
A54: INFORMACIÓN DEL INTEGRANTE Nº 2 Y DATOS PARA COMUNICACIONES
A55: Nombre completo del Integrante
...

Sheet UNION TEMPORAL
G6: FORMATOS MINIMA CUANTIA
G7: COD: 8.1.F.25
G8: VERSIÓN: 01
G9: DOCUMENTO CONTROLADO
A10: Area Metropolitana Centro Occidente
A11: =PROPONENTE!B13 -> PROCESO DE SELECCIÓN N° 04 de 2022 - SELECCIÓN DE MINIMA CUANTIA
A13: FORMATO 6 - DOCUMENTO DE CONFORMACIÓN DE UNIÓN TEMPORAL
A15: PROPONENTE
A17: Ciudad y fecha:
A19: Señores
A20: Area Metropolitana del Centro Occidente
A21: Los firmantes del presente documento, han decidico conformar una UNIÓN TEMPORAL cuyos datos se consignan a continuación en el cuadro denominado “INFORMACIÓN DE LA UNIÓN TEMPORAL Y DATOS PARA COMUNICACIONES”.
A22: INFORMACIÓN DEL PROCESO DE CONTRATACIÓN
A23: Entidad Contratante | B23: Area Metropolitana del Centro Occidente
A24: Proceso de Contratación Nº | B24: =PROPONENTE!B14 -> 04 de 2022
A25: Tipo de Proceso de Selección | B25: SELECCIÓN DE MINIMA CUANTIA
A26: Objeto | B26: =PROPONENTE!B17 -> Prestar servicio de Catering al Área Metropolitana Centro Occidente en las jornadas de instalación de sellos a los taxímetros
A27: Tipo de Contrato | B27: PRESTACION DE SERVICIOS
A29: INFORMACIÓN DE LA UNIÓN TEMPORAL Y DATOS PARA COMUNICACIONES
A30: Razón Social de la Unión Temporal
A32: Cédula de Ciudadanía ó NIT
A33: Representante Legal (RL)
A34: Cédula de Ciudadanía ó NIT del RL
A35: Representante Legal Suplente (RLS)
A36: Cédula de Ciudadanía ó NIT del RLS
A37: Número de Integrantes
A38: Dirección
A39: Teléfonos | B39: Fijo | D39: Celular | F39: Fax
A40: Ciudad
A41: Buzón de correo electrónico (Email)
A43: INFORMACIÓN DEL INTEGRANTE Nº 1 Y DATOS PARA COMUNICACIONES
A44: Nombre completo del Integrante
A46: Cédula de Ciudadanía ó NIT
A47: Representante Legal (RL)
A48: Cédula de Ciudadanía ó NIT del RL
A49: Dirección
A50: Teléfonos | B50: Fijo | D50: Celular | F50: Fax
A51: Ciudad
A52: Buzón de correo electrónico (Email)
A54: INFORMACIÓN DEL INTEGRANTE Nº 2 Y DATOS PARA COMUNICACIONES
...

Sheet ESPECIFICACIONES
B7: FORMATOS MINIMA CUANTIA
B8: COD: 8.1.F.25
B9: VERSIÓN: 01
B10: DOCUMENTO CONTROLADO
A11: Area Metropolitana Centro Occidente
A12: =PROPONENTE!B13 -> PROCESO DE SELECCIÓN N° 04 de 2022 - SELECCIÓN DE MINIMA CUANTIA
A13: OBJETO: | B13: =PROPONENTE!B17 -> Prestar servicio de Catering al Área Metropolitana Centro Occidente en las jornadas de instalación de sellos a los taxímetros
A15: FORMATO 7
A17: PROPONENTE:
A19: Ciudad y fecha:
A22: ESPECIFICACIONES TECNICAS DEL BIEN, OBRA O SERVICIO A CONTRATAR / ALCANCES | B22: VALORES y CANTIDADES
A38: FIRMA DEL PROPONENTE O SU REPRESENTANTE LEGAL
