Workbook
Name q: IF(APU!$B1048576="","",IF(LEN(APU!$C1)=9,SUMIF(APU!$B:$B,APU!$C1,APU!#REF!)/2,IF(APU!$C1="","",IF(ISERROR(SEARCH("-",APU!$C1,3)),VLOOKUP(APU!$C1,[1]Ins!$D:$J,7,0),""))))
Name RC_CANT_IT_APU: IFERROR(VLOOKUP(APU!$C1,'[1]10-Presupuesto'!$D:$LO,COLUMN(RC_CANT_TOTAL)-3,0),"")
Name RC_CANT_TOTAL: '[1]10-Presupuesto'!$CJ:$LO
Name RC_CD_DIR: '[1]10-Presupuesto'!$CL$127
Name RC_COL_AX_APU: IFERROR(VLOOKUP(APU!XDI1,[1]Ins!XDK:XDT,10,0)&" "&APU!XDJ1,VLOOKUP(APU!XDI1,'[1]10-Presupuesto'!XDK:XDX,2,0))
Name RC_COL_AY_APU: APU!XDJ1
Name RC_COL_AZ_APU: APU!XDJ1*(1+APU!XDK1)
Name RC_COL_BA_APU: APU!XDK1
Name RC_COL_BB_APU: APU!XDE1
Name RC_COL_L_APU: IFERROR(IF(APU!$C1="","",IF(VLOOKUP(APU!$C1,[1]Ins!$D:$M,10,0)="",LEFT(APU!$C1,1),VLOOKUP(APU!$C1,[1]Ins!$D:$M,10,0))),"")
Name RC_COL_N_APU: IFERROR(IF(ISERROR(SEARCH("-",APU!$C1)),APU!$F1*(1+APU!$G1)*VLOOKUP(APU!$B1,'[1]10-Presupuesto'!$D:$CJ,COLUMN(RC_CANT_TOTAL)-COLUMN(RC_ITEMS)+1,0),""),"")
Name RC_COL_P_APU: IF(LEN(APU!XEQ1)=2,APU!A1048576,IF(APU!C1=APU!C1048576,APU!A1048576,IF(APU!C1="",APU!A1048576,APU!A1048576+1)))
Name RC_COL_Q_APU: IF(APU!B1<>"",IF(APU!B1=APU!B1048576,APU!A1048576,APU!A1048576+1),APU!A1048576)
Name RC_COL_R_APU: APU!XEN1
Name RC_COL_S_APU: APU!XFD1&APU!XFC1
Name RC_COL_T_APU: IF(OR(IF(APU!XFB1=APU!XFB1048576,LEFT(APU!XEM1,1),"")="3",IF(APU!XFB1=APU!XFB1048576,LEFT(APU!XEM1,1),"")="7"),"1",IF(APU!XFB1=APU!XFB1048576,LEFT(APU!XEM1,1),""))
Name RC_CON_HTA_APU: SUMIFS(APU!#REF!,APU!$B:$B,APU!$B1,APU!#REF!,"2")
Name RC_CT_TOT: '[1]10-Presupuesto'!$CL$130
Name RC_DESC_APU: IF(LEN(APU!$C1)=2,VLOOKUP(APU!$C1,'[1]10-Presupuesto'!$D:$CL,2,0),IF(APU!$B1="",IF(APU!$C1="",IF(APU!$B1048576="","",RC_DIRECTO_APU),""),RC_DESCRIPCION_APU))
Name RC_DESCRIPCION_APU: IF(ISERROR(SEARCH("-",APU!$C1,3)),RC_INSUMO,RC_ITEM)
Name RC_DIRECTO_APU: "COSTO DIRECTO: "&TEXT(ROUNDUP(SUMIF(APU!$B:$B,APU!$B1048576,APU!#REF!)/2,0),"$#,##0")&" / "&VLOOKUP(APU!$B1048576,'[1]10-Presupuesto'!$D:$F,3,0)
Name RC_INSUMO: IF(APU!#REF!="",VLOOKUP(APU!$C1,[1]Ins!$D:$E,2,0),VLOOKUP(APU!$C1,[1]Ins!$D:$E,2,0)&" - "&APU!#REF!)
Name RC_ITEM: VLOOKUP(APU!$C1,'[1]10-Presupuesto'!$D:$CK,2,0)
Name RC_ITEMS: '[1]10-Presupuesto'!$D:$D
Name RC_IVA: [1]Parametros!$B$11
Name RC_MIN: [1]Parametros!$B$9
Name RC_PLAZO: '[1]10-Presupuesto'!$CM$2
Name RC_PROYECTO: [1]Parametros!$B$1
Name RC_TPTE_APU: SUMIFS(APU!D:D,APU!F:F,"ok",APU!XFA:XFA,APU!XFA1)
Name RC_UN_APU: IF(LEN(APU!$C1)=2,"",IF(APU!$C1="","",IF(ISERROR(SEARCH("-",APU!$C1,3)),VLOOKUP(APU!$C1,[1]Ins!$D:$F,3,0),VLOOKUP(APU!$C1,'[1]10-Presupuesto'!$D:$CZ,3,0))))
Name RC_VR_CON_IVA: (MATERIALES!$G1+MATERIALES!$H1)*(1+MATERIALES!$I1)
Name RC_VR_SIN_IVA: SUMIF([2]Aux!$A:$A,MATERIALES!#REF!,[2]Aux!$H:$H)/2
Name RC_VR_TOT_APU: IF(APU!$E1="","",IF(APU!$C1=APU!$B1,ROUND(SUMIF(APU!XEX2:XEX96,APU!$B1,APU!A2:A96),0),APU!$F1*APU!$H1*(1+APU!$G1)))
Name RC_VR_UN_APU: IF(APU!$B1048576="","",IF(LEN(APU!$C1)=9,SUMIF(APU!$B:$B,APU!$C1,APU!#REF!)/2,IF(APU!$C1="","",IF(ISERROR(SEARCH("-",APU!$C1,3)),VLOOKUP(APU!$C1,[1]Ins!$D:$J,7,0),""))))

Sheet PRESUPUESTO
A1: FORMULARIO DE PRESUPUESTO MEJORAMIENTO DE VIVIENDA EN ZONA URBANA - MUNICIPIO DE CAROLINA - ANTIOQUIA. | E1: PISOS-LOCATIVO | G1: PISOS-LOCATIVO | I1: PISOS-LOCATIVO | K1: PISOS-LOCATIVO | M1: PISOS-LOCATIVO | O1: PISOS-LOCATIVO | Q1: PISOS-LOCATIVO | S1: PISOS-LOCATIVO | U1: PISOS-LOCATIVO | W1: PISOS-LOCATIVO | Y1: PISOS-LOCATIVO | AA1: PISOS-LOCATIVO | AC1: PISOS-LOCATIVO | AE1: PISOS-LOCATIVO | AG1: PISOS-LOCATIVO | AI1: PISOS-LOCATIVO | AK1: PISOS-LOCATIVO | AM1: PISOS-LOCATIVO | AO1: PISOS-LOCATIVO | AQ1: MEJORAMIENTO COCINA | AS1: MEJORAMIENTO COCINA | AU1: MEJORAMIENTO COCINA | AW1: MEJORAMIENTO BAÑO | AY1: MEJORAMIENTO BAÑO | BA1: MEJORAMIENTO BAÑO | BC1: MEJORAMIENTO BAÑO | BE1: MEJORAMIENTO BAÑO | BG1: MEJORAMIENTO BAÑO | BI1: MEJORAMIENTO BAÑO | BK1: MEJORAMIENTO BAÑO | BM1: MEJORAMIENTO BAÑO | BO1: PISOS | BQ1: PISOS | BS1: PISOS | BU1: PISOS | BW1: PISOS | BY1: PISOS | CA1: PISOS | CC1: MEJORAMIENTO BAÑO | CE1: MEJORAMIENTO BAÑO | CG1: MEJORAMIENTO BAÑO | CI1: MÓDULO HABITACIÓN | CK1: MEJORAMIENTO BAÑO | CM1: MEJORAMIENTO BAÑO | CO1: PISOS
E2: LILIAN ADRIANA GIRALDO SOSA | G2: ELIANA MARIA MORENO | I2: JOSE IVAN MARTINEZ | K2: MARIA EUGENIA MARTINEZ | M2: MARIA GLADIS COLORADO | O2: MARTHA IRENE BARRIENTOS | Q2: NESTOR WILLIAM VEGA GUERRA | S2: NUBIA ELENA ZAPATA | U2: PATRICIA HERMINIA BARRIENTOS | W2: PIEDAD YAMILE AGUDELO | Y2: SONIA MARIA LOPEZ MESA | AA2: ELIZABETH RUIZ ARBOLEDA | AC2: FABIO NELSON ALVAREZ | AE2: JOSE LUIS MOLINA JARAMILLO | AG2: LILIANA YANETH SANCHEZ | AI2: LUZ ADIELA BEDOYA | AK2: MARGARITA MARIA POSADA | AM2: MARIA INEZ CALLE MONTOYA | AO2: CARMEN ALICIA CALLE | AQ2: HECTOR ALBEIRO ALVAREZ | AS2: MARIA ERNESTINA ZAPATA | AU2: JAIRO ALFONSO GIRALDO | AW2: JORGE MARIO PALACIO | AY2: YOLANDA ENITH MARTINEZ | BA2: MARIA DE JESUS RIVERA | BC2: ANA LUCIA MONSALVE DUQUE | BE2: SALIO | BG2: LILIA CASTAÑO DIAS | BI2: LUZ ADIELA MACIAS | BK2: SALIO | BM2: CARLOS ARTURO TOBON GALLEGO | BO2: CAMILO ANTONIO PEREZ | BQ2: JESUS YOANY PEREZ MACIAS | BS2: RUTH MARINA CALLE | BU2: DORA ISABEL SOSA RUIZ | BW2: LILIAN DE JESUS RUIZ | BY2: MONICA MARIA CASTAÑO | CA2: FROILAN ALEXIS GALLEGO | CC2: LUZ ANGELA MARTINEZ | CE2: NATALIA ANDREA RUA LOPEZ | CG2: JESUS ALBEIRO HENAO | CI2: JUAN MANUEL CALLE LOPERA | CK2: JESUS ARCADIO VALENCIA | CM2: MARIA ARACELY RODRIGUEZ | CO2: MARIA TRINIDAD SALAZAR
A4: ITEM | B4: DESCRIPCIÓN | C4: UNIDAD | D4: VR. UNITARIO | E4: CANTIDAD | F4: VR. PARCIAL | G4: CANTIDAD | H4: VR. PARCIAL | I4: CANTIDAD | J4: VR. PARCIAL | K4: CANTIDAD | L4: VR. PARCIAL | M4: CANTIDAD | N4: VR. PARCIAL | O4: CANTIDAD | P4: VR. PARCIAL | Q4: CANTIDAD | R4: VR. PARCIAL | S4: CANTIDAD | T4: VR. PARCIAL | U4: CANTIDAD | V4: VR. PARCIAL | W4: CANTIDAD | X4: VR. PARCIAL | Y4: CANTIDAD | Z4: VR. PARCIAL | AA4: CANTIDAD | AB4: VR. PARCIAL | AC4: CANTIDAD | AD4: VR. PARCIAL | AE4: CANTIDAD | AF4: VR. PARCIAL | AG4: CANTIDAD | AH4: VR. PARCIAL | AI4: CANTIDAD | AJ4: VR. PARCIAL | AK4: CANTIDAD | AL4: VR. PARCIAL | AM4: CANTIDAD | AN4: VR. PARCIAL | AO4: CANTIDAD | AP4: VR. PARCIAL | AQ4: CANTIDAD | AR4: VR. PARCIAL | AS4: CANTIDAD | AT4: VR. PARCIAL | AU4: CANTIDAD | AV4: VR. PARCIAL | AW4: CANTIDAD | AX4: VR. PARCIAL | AY4: CANTIDAD | AZ4: VR. PARCIAL | BA4: CANTIDAD | BB4: VR. PARCIAL | BC4: CANTIDAD | BD4: VR. PARCIAL | BE4: CANTIDAD | BF4: VR. PARCIAL | BG4: CANTIDAD | BH4: VR. PARCIAL | BI4: CANTIDAD | BJ4: VR. PARCIAL | BK4: CANTIDAD | BL4: VR. PARCIAL | BM4: CANTIDAD | BN4: VR. PARCIAL | BO4: CANTIDAD | BP4: VR. PARCIAL | BQ4: CANTIDAD | BR4: VR. PARCIAL | BS4: CANTIDAD | BT4: VR. PARCIAL | BU4: CANTIDAD | BV4: VR. PARCIAL | BW4: CANTIDAD | BX4: VR. PARCIAL | BY4: CANTIDAD | BZ4: VR. PARCIAL | CA4: CANTIDAD | CB4: VR. PARCIAL | CC4: CANTIDAD | CD4: VR. PARCIAL | CE4: CANTIDAD | CF4: VR. PARCIAL | CG4: CANTIDAD | CH4: VR. PARCIAL | CI4: CANTIDAD | CJ4: VR. PARCIAL | CK4: CANTIDAD | CL4: VR. PARCIAL | CM4: CANTIDAD | CN4: VR. PARCIAL | CO4: CANTIDAD | CP4: VR. PARCIAL | CQ4: CANTIDAD | CR4: VR. PARCIAL | CS4: CANTIDAD TOTAL | CT4: SUBTOTAL | CU4: VR. CAPÍTULO | CV4: APROXIMADO AL PESO
A5: =+APU!A4 -> 01 | B5: =+APU!B4 -> PRELIMINARES | CU5: =CT6+CT8 -> 8076774.7 | CV5: =ROUND(CU5,0) -> 8076775
A6: 01-01. | B6: LOCALIZACIÓN Y REPLANTEO | F6: =SUM(F7) -> 0 | H6: =SUM(H7) -> 0 | J6: =SUM(J7) -> 0 | L6: =SUM(L7) -> 0 | N6: =SUM(N7) -> 0 | P6: =SUM(P7) -> 0 | R6: =SUM(R7) -> 0 | T6: =SUM(T7) -> 0 | V6: =SUM(V7) -> 0 | X6: =SUM(X7) -> 0 | Z6: =SUM(Z7) -> 0 | AB6: =SUM(AB7) -> 0 | AD6: =SUM(AD7) -> 0 | AF6: =SUM(AF7) -> 0 | AH6: =SUM(AH7) -> 0 | AJ6: =SUM(AJ7) -> 0 | AL6: =SUM(AL7) -> 0 | AN6: =SUM(AN7) -> 0 | AP6: =SUM(AP7) -> 0 | AR6: =SUM(AR7) -> 0 | AT6: =SUM(AT7) -> 0 | AV6: =SUM(AV7) -> 0 | AX6: =SUM(AX7) -> 0 | AZ6: =SUM(AZ7) -> 0 | BB6: =SUM(BB7) -> 0 | BD6: =SUM(BD7) -> 0 | BF6: =SUM(BF7) -> 0 | BH6: =SUM(BH7) -> 0 | BJ6: =SUM(BJ7) -> 0 | BL6: =SUM(BL7) -> 0 | BN6: =SUM(BN7) -> 0 | BP6: =SUM(BP7) -> 0 | BR6: =SUM(BR7) -> 0 | BT6: =SUM(BT7) -> 0 | BV6: =SUM(BV7) -> 0 | BX6: =SUM(BX7) -> 0 | BZ6: =SUM(BZ7) -> 0 | CB6: =SUM(CB7) -> 0 | CD6: =SUM(CD7) -> 0 | CF6: =SUM(CF7) -> 0 | CH6: =SUM(CH7) -> 0 | CJ6: =SUM(CJ7) -> 0 | CL6: =SUM(CL7) -> 0 | CN6: =SUM(CN7) -> 0 | CP6: =SUM(CP7) -> 0 | CR6: =SUM(CR7) -> 0 | CT6: =SUM(CT7) -> 0
A7: =+APU!A5 -> 01-01-001 | B7: =+APU!B5 -> LOCALIZACION Y REPLANTEO METODO MANUAL. INCLUYE LARGUEROS, NYLON, TRANSPORTE INTERNO Y TODO LO NECESARIO PARA SU CORRECTA EJECUCION. | C7: =+APU!C5 -> M2 | D7: =+APU!G5 -> 7457.8311 | E7: ='CANTIDADES DE OBRA'!Q19 -> 0 | F7: =$D$7*E7 -> 0 | G7: ='CANTIDADES DE OBRA'!S19 -> 0 | H7: =$D$7*G7 -> 0 | I7: ='CANTIDADES DE OBRA'!AI19 -> 0 | J7: =$D$7*I7 -> 0 | K7: ='CANTIDADES DE OBRA'!AR19 -> 0 | L7: =$D$7*K7 -> 0 | M7: ='CANTIDADES DE OBRA'!BA19 -> 0 | N7: =$D$7*M7 -> 0 | O7: ='CANTIDADES DE OBRA'!BJ19 -> 0 | P7: =$D$7*O7 -> 0 | Q7: ='CANTIDADES DE OBRA'!BS19 -> 0 | R7: =$D$7*Q7 -> 0 | S7: ='CANTIDADES DE OBRA'!CB19 -> 0 | T7: =$D$7*S7 -> 0 | U7: ='CANTIDADES DE OBRA'!CK19 -> 0 | V7: =$D$7*U7 -> 0 | W7: ='CANTIDADES DE OBRA'!CT19 -> 0 | X7: =$D$7*W7 -> 0 | Y7: ='CANTIDADES DE OBRA'!DC19 -> 0 | Z7: =$D$7*Y7 -> 0 | AA7: ='CANTIDADES DE OBRA'!DL19 -> 0 | AB7: =$D$7*AA7 -> 0 | AC7: ='CANTIDADES DE OBRA'!DU19 -> 0 | AD7: =$D$7*AC7 -> 0 | AE7: ='CANTIDADES DE OBRA'!ED19 -> 0 | AF7: =$D$7*AE7 -> 0 | AG7: ='CANTIDADES DE OBRA'!EM19 -> 0 | AH7: =$D$7*AG7 -> 0 | AI7: ='CANTIDADES DE OBRA'!EV19 -> 0 | AJ7: =$D$7*AI7 -> 0 | AK7: ='CANTIDADES DE OBRA'!FE19 -> 0 | AL7: =$D$7*AK7 -> 0 | AM7: ='CANTIDADES DE OBRA'!FN19 -> 0 | AN7: =$D$7*AM7 -> 0 | AO7: ='CANTIDADES DE OBRA'!FW19 -> 0 | AP7: =$D$7*AO7 -> 0 | AQ7: ='CANTIDADES DE OBRA'!GF19 -> 0 | AR7: =$D$7*AQ7 -> 0 | AS7: ='CANTIDADES DE OBRA'!GO19 -> 0 | AT7: =$D$7*AS7 -> 0 | AU7: ='CANTIDADES DE OBRA'!GX19 -> 0 | AV7: =$D$7*AU7 -> 0 | AW7: ='CANTIDADES DE OBRA'!HG19 -> 0 | AX7: =$D$7*AW7 -> 0 | AY7: ='CANTIDADES DE OBRA'!HP19 -> 0 | AZ7: =$D$7*AY7 -> 0 | BA7: ='CANTIDADES DE OBRA'!HY19 -> 0 | BB7: =$D$7*BA7 -> 0 | BC7: ='CANTIDADES DE OBRA'!IH19 -> 0 | BD7: =$D$7*BC7 -> 0 | BE7: ='CANTIDADES DE OBRA'!IQ19 -> 0 | BF7: =$D$7*BE7 -> 0 | BG7: ='CANTIDADES DE OBRA'!IZ19 -> 0 | BH7: =$D$7*BG7 -> 0 | BI7: ='CANTIDADES DE OBRA'!JI19 -> 0 | BJ7: =$D$7*BI7 -> 0 | BK7: ='CANTIDADES DE OBRA'!JR19 -> 0 | BL7: =$D$7*BK7 -> 0 | BM7: ='CANTIDADES DE OBRA'!KA19 -> 0 | BN7: =$D$7*BM7 -> 0 | BO7: ='CANTIDADES DE OBRA'!KJ19 -> 0 | BP7: =$D$7*BO7 -> 0 | BQ7: ='CANTIDADES DE OBRA'!KS19 -> 0 | BR7: =$D$7*BQ7 -> 0 | BS7: ='CANTIDADES DE OBRA'!LB19 -> 0 | BT7: =$D$7*BS7 -> 0 | BU7: ='CANTIDADES DE OBRA'!LK19 -> 0 | BV7: =$D$7*BU7 -> 0 | BW7: ='CANTIDADES DE OBRA'!LT19 -> 0 | BX7: =$D$7*BW7 -> 0 | BY7: ='CANTIDADES DE OBRA'!MC19 -> 0 | BZ7: =$D$7*BY7 -> 0 | CA7: ='CANTIDADES DE OBRA'!ML19 -> 0 | CB7: =$D$7*CA7 -> 0 | CC7: ='CANTIDADES DE OBRA'!MU19 -> 0 | CD7: =$D$7*CC7 -> 0 | CE7: ='CANTIDADES DE OBRA'!ND19 -> 0 | CF7: =$D$7*CE7 -> 0 | CG7: ='CANTIDADES DE OBRA'!NM19 -> 0 | CH7: =$D$7*CG7 -> 0 | CI7: ='CANTIDADES DE OBRA'!NV19 -> 0 | CJ7: =$D$7*CI7 -> 0 | CK7: =+'CANTIDADES DE OBRA'!OE19 -> 0 | CL7: =$D$7*CK7 -> 0 | CM7: ='CANTIDADES DE OBRA'!ON19 -> 0 | CN7: =$D$7*CM7 -> 0 | CO7: ='CANTIDADES DE OBRA'!OW19 -> 0 | CP7: =$D$7*CO7 -> 0 | CQ7: ='CANTIDADES DE OBRA'!PF19 -> 0 | CR7: =$D$7*CQ7 -> 0 | CS7: =E7+G7+I7+K7+M7+O7+Q7+S7+U7+W7+Y7+AA7+AC7+AE7+AG7+AI7+AK7+AM7+AO7+AQ7+AS7+AU7+AW7+AY7+BA7+BC7+BE7+BG7+BI7+BK7+BM7+BO7+BQ7+BS7+BU7+BW7+BY7+CA7+CC7+CE7+CG7+CI7+CK7+CM7+CO7+CQ7 -> 0 | CT7: =CS7*D7 -> 0
A8: 01-02. | B8: DEMOLICIONES, DESMONTES Y ADECUACIONES | F8: =SUM(F9:F14) -> 0 | H8: =SUM(H9:H14) -> 413527.89 | J8: =SUM(J9:J14) -> 413527.89 | L8: =SUM(L9:L14) -> 444316.64 | N8: =SUM(N9:N14) -> 477502.11 | P8: =SUM(P9:P14) -> 347617.85 | R8: =SUM(R9:R14) -> 0 | T8: =SUM(T9:T14) -> 522763.41 | V8: =SUM(V9:V14) -> 449847.55 | X8: =SUM(X9:X14) -> 338630.12 | Z8: =SUM(Z9:Z14) -> 0 | AB8: =SUM(AB9:AB14) -> 434914.09 | AD8: =SUM(AD9:AD14) -> 0 | AF8: =SUM(AF9:AF14) -> 396474.24 | AH8: =SUM(AH9:AH14) -> 387163.88 | AJ8: =SUM(AJ9:AJ14) -> 0 | AL8: =SUM(AL9:AL14) -> 465518.47 | AN8: =SUM(AN9:AN14) -> 78538.958 | AP8: =SUM(AP9:AP14) -> 150993.91 | AR8: =SUM(AR9:AR14) -> 114391.84 | AT8: =SUM(AT9:AT14) -> 148495.22 | AV8: =SUM(AV9:AV14) -> 118997.02 | AX8: =SUM(AX9:AX14) -> 162511.28 | AZ8: =SUM(AZ9:AZ14) -> 275769.72 | BB8: =SUM(BB9:BB14) -> 193069.57 | BD8: =SUM(BD9:BD14) -> 173277.05 | BF8: =SUM(BF9:BF14) -> 0 | BH8: =SUM(BH9:BH14) -> 205666.25 | BJ8: =SUM(BJ9:BJ14) -> 172329.21 | BL8: =SUM(BL9:BL14) -> 0 | BN8: =SUM(BN9:BN14) -> 75969.18 | BP8: =SUM(BP9:BP14) -> 0 | BR8: =SUM(BR9:BR14) -> 0 | BT8: =SUM(BT9:BT14) -> 0 | BV8: =SUM(BV9:BV14) -> 0 | BX8: =SUM(BX9:BX14) -> 425419.35 | BZ8: =SUM(BZ9:BZ14) -> 53096.76 | CB8: =SUM(CB9:CB14) -> 27654.563 | CD8: =SUM(CD9:CD14) -> 119291.27 | CF8: =SUM(CF9:CF14) -> 105456.07 | CH8: =SUM(CH9:CH14) -> 113174.46 | CJ8: =SUM(CJ9:CJ14) -> 102634.15 | CL8: =SUM(CL9:CL14) -> 99755.498 | CN8: =SUM(CN9:CN14) -> 68479.261 | CP8: =SUM(CP9:CP14) -> 0 | CR8: =SUM(CR9:CR14) -> 0 | CT8: =SUM(CT9:CT14) -> 8076774.7
A9: =+APU!A13 -> 01-02-001 | B9: =+APU!B13 -> DEMOLICION DE MURO EN LADRILLO O TAPIA DE E=10 CM A 50 CM; INCLUYE BOTADA | C9: =+APU!C13 -> M2 | D9: =+APU!G13 -> 14399.343 | E9: ='CANTIDADES DE OBRA'!Q34 -> 0 | F9: =$D$9*E9 -> 0 | G9: ='CANTIDADES DE OBRA'!S34 -> 0 | H9: =$D$9*G9 -> 0 | J9: =$D$9*I9 -> 0 | L9: =$D$9*K9 -> 0 | N9: =$D$9*M9 -> 0 | P9: =$D$9*O9 -> 0 | R9: =$D$9*Q9 -> 0 | T9: =$D$9*S9 -> 0 | V9: =$D$9*U9 -> 0 | X9: =$D$9*W9 -> 0 | Z9: =$D$9*Y9 -> 0 | AB9: =$D$9*AA9 -> 0 | AD9: =$D$9*AC9 -> 0 | AF9: =$D$9*AE9 -> 0 | AH9: =$D$9*AG9 -> 0 | AJ9: =$D$9*AI9 -> 0 | AL9: =$D$9*AK9 -> 0 | AN9: =$D$9*AM9 -> 0 | AP9: =$D$9*AO9 -> 0 | AQ9: =+'CANTIDADES DE OBRA'!GF34 -> 1.44 | AR9: =$D$9*AQ9 -> 20735.054 | AS9: ='CANTIDADES DE OBRA'!GO34 -> 2.4 | AT9: =$D$9*AS9 -> 34558.424 | AU9: ='CANTIDADES DE OBRA'!GX34 -> 2.4 | AV9: =$D$9*AU9 -> 34558.424 | AX9: =$D$9*AW9 -> 0 | AZ9: =$D$9*AY9 -> 0 | BB9: =$D$9*BA9 -> 0 | BD9: =$D$9*BC9 -> 0 | BF9: =$D$9*BE9 -> 0 | BH9: =$D$9*BG9 -> 0 | BJ9: =$D$9*BI9 -> 0 | BL9: =$D$9*BK9 -> 0 | BN9: =$D$9*BM9 -> 0 | BP9: =$D$9*BO9 -> 0 | BR9: =$D$9*BQ9 -> 0 | BT9: =$D$9*BS9 -> 0 | BV9: =$D$9*BU9 -> 0 | BX9: =$D$9*BW9 -> 0 | BZ9: =$D$9*BY9 -> 0 | CB9: =$D$9*CA9 -> 0 | CD9: =$D$9*CC9 -> 0 | CF9: =$D$9*CE9 -> 0 | CH9: =$D$9*CG9 -> 0 | CI9: =+'CANTIDADES DE OBRA'!NV34 -> 2.544 | CJ9: =$D$9*CI9 -> 36631.929 | CL9: =$D$9*CK9 -> 0 | CN9: =$D$9*CM9 -> 0 | CP9: =$D$9*CO9 -> 0 | CR9: =$D$9*CQ9 -> 0 | CS9: =E9+G9+I9+K9+M9+O9+Q9+S9+U9+W9+Y9+AA9+AC9+AE9+AG9+AI9+AK9+AM9+AO9+AQ9+AS9+AU9+AW9+AY9+BA9+BC9+BE9+BG9+BI9+BK9+BM9+BO9+BQ9+BS9+BU9+BW9+BY9+CA9+CC9+CE9+CG9+CI9+CK9+CM9+CO9+CQ9 -> 8.784 | CT9: =CS9*D9 -> 126483.83
A10: =+APU!A18 -> 01-02-002 | B10: =+APU!B18 -> DEMOLICION DE PISO MORTERO; INCLUYE BOTADA. | C10: =+APU!C18 -> M2 | D10: =+APU!G18 -> 9218.1875 | E10: ='CANTIDADES DE OBRA'!Q49 -> 0 | F10: =$D$10*E10 -> 0 | G10: ='CANTIDADES DE OBRA'!Z49 -> 44.86 | H10: =$D$10*G10 -> 413527.89 | I10: ='CANTIDADES DE OBRA'!AI49 -> 44.86 | J10: =$D$10*I10 -> 413527.89 | K10: ='CANTIDADES DE OBRA'!AR49 -> 48.2 | L10: =$D$10*K10 -> 444316.64 | M10: ='CANTIDADES DE OBRA'!BA49 -> 51.8 | N10: =$D$10*M10 -> 477502.11 | O10: ='CANTIDADES DE OBRA'!BJ49 -> 37.71 | P10: =$D$10*O10 -> 347617.85 | R10: =$D$10*Q10 -> 0 | S10: ='CANTIDADES DE OBRA'!CB49 -> 56.71 | T10: =$D$10*S10 -> 522763.41 | U10: ='CANTIDADES DE OBRA'!CK49 -> 48.8 | V10: =$D$10*U10 -> 449847.55 | W10: ='CANTIDADES DE OBRA'!CT49 -> 36.735 | X10: =$D$10*W10 -> 338630.12 | Z10: =$D$10*Y10 -> 0 | AA10: ='CANTIDADES DE OBRA'!DL49 -> 47.18 | AB10: =$D$10*AA10 -> 434914.09 | AD10: =$D$10*AC10 -> 0 | AE10: ='CANTIDADES DE OBRA'!ED49 -> 43.01 | AF10: =$D$10*AE10 -> 396474.24 | AG10: ='CANTIDADES DE OBRA'!EM49 -> 42 | AH10: =$D$10*AG10 -> 387163.88 | AJ10: =$D$10*AI10 -> 0 | AK10: ='CANTIDADES DE OBRA'!FE49 -> 50.5 | AL10: =$D$10*AK10 -> 465518.47 | AM10: ='CANTIDADES DE OBRA'!FN49 -> 8.52 | AN10: =$D$10*AM10 -> 78538.958 | AO10: ='CANTIDADES DE OBRA'!FW49 -> 12.42 | AP10: =$D$10*AO10 -> 114489.89 | AQ10: ='CANTIDADES DE OBRA'!GF49 -> 10.16 | AR10: =$D$10*AQ10 -> 93656.785 | AS10: ='CANTIDADES DE OBRA'!GO49 -> 2.7 | AT10: =$D$10*AS10 -> 24889.106 | AU10: ='CANTIDADES DE OBRA'!GX49 -> 2.16 | AV10: =$D$10*AU10 -> 19911.285 | AW10: ='CANTIDADES DE OBRA'!HG49 -> 7.665 | AX10: =$D$10*AW10 -> 70657.407 | AY10: ='CANTIDADES DE OBRA'!HP49 -> 3.96 | AZ10: =$D$10*AY10 -> 36504.023 | BA10: =+'CANTIDADES DE OBRA'!HY49 -> 7.74 | BB10: =$D$10*BA10 -> 71348.771 | BC10: ='CANTIDADES DE OBRA'!IH49 -> 5.94 | BD10: =$D$10*BC10 -> 54756.034 | BE10: =+'CANTIDADES DE OBRA'!IQ49 -> 0 | BF10: =$D$10*BE10 -> 0 | BG10: =+'CANTIDADES DE OBRA'!IZ49 -> 2.73 | BH10: =$D$10*BG10 -> 25165.652 | BI10: =+'CANTIDADES DE OBRA'!JI49 -> 6.48 | BJ10: =$D$10*BI10 -> 59733.855 | BL10: =$D$10*BK10 -> 0 | BN10: =$D$10*BM10 -> 0 | BP10: =$D$10*BO10 -> 0 | BR10: =$D$10*BQ10 -> 0 | BT10: =$D$10*BS10 -> 0 | BV10: =$D$10*BU10 -> 0 | BW10: =+'CANTIDADES DE OBRA'!LT49 -> 46.15 | BX10: =$D$10*BW10 -> 425419.35 | BY10: =+'CANTIDADES DE OBRA'!MC49 -> 5.76 | BZ10: =$D$10*BY10 -> 53096.76 | CB10: =$D$10*CA10 -> 0 | CC10: =+'CANTIDADES DE OBRA'!MU49 -> 2.64 | CD10: =$D$10*CC10 -> 24336.015 | CE10: =+'CANTIDADES DE OBRA'!ND49 -> 7 | CF10: =$D$10*CE10 -> 64527.313 | CG10: =+'CANTIDADES DE OBRA'!NM49 -> 3.92 | CH10: =$D$10*CG10 -> 36135.295 | CI10: =+'CANTIDADES DE OBRA'!NV49 -> 2.86 | CJ10: =$D$10*CI10 -> 26364.016 | CL10: =$D$10*CK10 -> 0 | CN10: =$D$10*CM10 -> 0 | CP10: =$D$10*CO10 -> 0 | CR10: =$D$10*CQ10 -> 0 | CS10: =E10+G10+I10+K10+M10+O10+Q10+S10+U10+W10+Y10+AA10+AC10+AE10+AG10+AI10+AK10+AM10+AO10+AQ10+AS10+AU10+AW10+AY10+BA10+BC10+BE10+BG10+BI10+BK10+BM10+BO10+BQ10+BS10+BU10+BW10+BY10+CA10+CC10+CE10+CG10+CI10+CK10+CM10+CO10+CQ10 -> 691.17 | CT10: =CS10*D10 -> 6371334.7
A11: =+APU!A23 -> 01-02-003 | B11: =+APU!B23 -> DEMOLICION DE ENCHAPES; INCLUYE BOTADA. | C11: =+APU!C23 -> M2 | D11: =+APU!G23 -> 9218.1875 | E11: ='CANTIDADES DE OBRA'!Q64 -> 0 | F11: =$D$11*E11 -> 0 | G11: ='CANTIDADES DE OBRA'!S64 -> 0 | H11: =$D$11*G11 -> 0 | J11: =$D$11*I11 -> 0 | L11: =$D$11*K11 -> 0 | N11: =$D$11*M11 -> 0 | P11: =$D$11*O11 -> 0 | R11: =$D$11*Q11 -> 0 | T11: =$D$11*S11 -> 0 | V11: =$D$11*U11 -> 0 | X11: =$D$11*W11 -> 0 | Z11: =$D$11*Y11 -> 0 | AB11: =$D$11*AA11 -> 0 | AD11: =$D$11*AC11 -> 0 | AF11: =$D$11*AE11 -> 0 | AH11: =$D$11*AG11 -> 0 | AJ11: =$D$11*AI11 -> 0 | AL11: =$D$11*AK11 -> 0 | AN11: =$D$11*AM11 -> 0 | AO11: ='CANTIDADES DE OBRA'!FW64 -> 3.96 | AP11: =$D$11*AO11 -> 36504.023 | AR11: =$D$11*AQ11 -> 0 | AS11: ='CANTIDADES DE OBRA'!GO64 -> 9.66 | AT11: =$D$11*AS11 -> 89047.691 | AU11: ='CANTIDADES DE OBRA'!GX64 -> 4 | AV11: =$D$11*AU11 -> 36872.75 | AX11: =$D$11*AW11 -> 0 | AY11: =+'CANTIDADES DE OBRA'!HP64 -> 16.92 | AZ11: =$D$11*AY11 -> 155971.73 | BA11: =+'CANTIDADES DE OBRA'!HY64 -> 3.24 | BB11: =$D$11*BA11 -> 29866.928 | BC11: =+'CANTIDADES DE OBRA'!IH64 -> 2.5 | BD11: =$D$11*BC11 -> 23045.469 | BE11: =+'CANTIDADES DE OBRA'!IQ64 -> 0 | BF11: =$D$11*BE11 -> 0 | BG11: =+'CANTIDADES DE OBRA'!IZ64 -> 4.67 | BH11: =$D$11*BG11 -> 43048.936 | BJ11: =$D$11*BI11 -> 0 | BL11: =$D$11*BK11 -> 0 | BN11: =$D$11*BM11 -> 0 | BP11: =$D$11*BO11 -> 0 | BR11: =$D$11*BQ11 -> 0 | BT11: =$D$11*BS11 -> 0 | BV11: =$D$11*BU11 -> 0 | BX11: =$D$11*BW11 -> 0 | BZ11: =$D$11*BY11 -> 0 | CB11: =$D$11*CA11 -> 0 | CC11: =+'CANTIDADES DE OBRA'!MU64 -> 2.64 | CD11: =$D$11*CC11 -> 24336.015 | CE11: =+'CANTIDADES DE OBRA'!ND64 -> 1.44 | CF11: =$D$11*CE11 -> 13274.19 | CH11: =$D$11*CG11 -> 0 | CI11: =+'CANTIDADES DE OBRA'!NV64 -> 1.3 | CJ11: =$D$11*CI11 -> 11983.644 | CL11: =$D$11*CK11 -> 0 | CN11: =$D$11*CM11 -> 0 | CP11: =$D$11*CO11 -> 0 | CR11: =$D$11*CQ11 -> 0 | CS11: =E11+G11+I11+K11+M11+O11+Q11+S11+U11+W11+Y11+AA11+AC11+AE11+AG11+AI11+AK11+AM11+AO11+AQ11+AS11+AU11+AW11+AY11+BA11+BC11+BE11+BG11+BI11+BK11+BM11+BO11+BQ11+BS11+BU11+BW11+BY11+CA11+CC11+CE11+CG11+CI11+CK11+CM11+CO11+CQ11 -> 50.33 | CT11: =CS11*D11 -> 463951.38
A12: =+APU!A28 -> 01-02-004 | B12: =+APU!B28 -> RETIRO DE APARATOS SANITARIOS; DESMONTE DE CABINAS, PUERTAS, VENTANAS Y LVD PREFABRICADO O SIMILAR; INCLUYE BOTADA. | C12: =+APU!C28 -> U | D12: =+APU!G28 -> 9218.1875 | E12: ='CANTIDADES DE OBRA'!Q79 -> 0 | F12: =$D$12*E12 -> 0 | G12: ='CANTIDADES DE OBRA'!S79 -> 0 | H12: =$D$12*G12 -> 0 | J12: =$D$12*I12 -> 0 | L12: =$D$12*K12 -> 0 | N12: =$D$12*M12 -> 0 | P12: =$D$12*O12 -> 0 | R12: =$D$12*Q12 -> 0 | T12: =$D$12*S12 -> 0 | V12: =$D$12*U12 -> 0 | X12: =$D$12*W12 -> 0 | Z12: =$D$12*Y12 -> 0 | AB12: =$D$12*AA12 -> 0 | AD12: =$D$12*AC12 -> 0 | AF12: =$D$12*AE12 -> 0 | AH12: =$D$12*AG12 -> 0 | AJ12: =$D$12*AI12 -> 0 | AL12: =$D$12*AK12 -> 0 | AN12: =$D$12*AM12 -> 0 | AP12: =$D$12*AO12 -> 0 | AR12: =$D$12*AQ12 -> 0 | AT12: =$D$12*AS12 -> 0 | AU12: ='CANTIDADES DE OBRA'!GX79 -> 3 | AV12: =$D$12*AU12 -> 27654.563 | AW12: ='CANTIDADES DE OBRA'!HG79 -> 3 | AX12: =$D$12*AW12 -> 27654.563 | AY12: =+'CANTIDADES DE OBRA'!HP79 -> 3 | AZ12: =$D$12*AY12 -> 27654.563 | BA12: =+'CANTIDADES DE OBRA'!HY79 -> 3 | BB12: =$D$12*BA12 -> 27654.563 | BC12: =+'CANTIDADES DE OBRA'!IH79 -> 2 | BD12: =$D$12*BC12 -> 18436.375 | BE12: =+'CANTIDADES DE OBRA'!IQ79 -> 0 | BF12: =$D$12*BE12 -> 0 | BG12: =+'CANTIDADES DE OBRA'!IZ79 -> 4 | BH12: =$D$12*BG12 -> 36872.75 | BI12: =+'CANTIDADES DE OBRA'!JI79 -> 2 | BJ12: =$D$12*BI12 -> 18436.375 | BK12: =+'CANTIDADES DE OBRA'!JR79 -> 0 | BL12: =$D$12*BK12 -> 0 | BN12: =$D$12*BM12 -> 0 | BP12: =$D$12*BO12 -> 0 | BR12: =$D$12*BQ12 -> 0 | BT12: =$D$12*BS12 -> 0 | BV12: =$D$12*BU12 -> 0 | BX12: =$D$12*BW12 -> 0 | BZ12: =$D$12*BY12 -> 0 | CA12: =+'CANTIDADES DE OBRA'!ML79 -> 3 | CB12: =$D$12*CA12 -> 27654.563 | CD12: =$D$12*CC12 -> 0 | CE12: =+'CANTIDADES DE OBRA'!ND79 -> 3 | CF12: =$D$12*CE12 -> 27654.563 | CH12: =$D$12*CG12 -> 0 | CI12: =+'CANTIDADES DE OBRA'!NV79 -> 3 | CJ12: =$D$12*CI12 -> 27654.563 | CK12: =+'CANTIDADES DE OBRA'!OE79 -> 2 | CL12: =$D$12*CK12 -> 18436.375 | CN12: =$D$12*CM12 -> 0 | CP12: =$D$12*CO12 -> 0 | CR12: =$D$12*CQ12 -> 0 | CS12: =E12+G12+I12+K12+M12+O12+Q12+S12+U12+W12+Y12+AA12+AC12+AE12+AG12+AI12+AK12+AM12+AO12+AQ12+AS12+AU12+AW12+AY12+BA12+BC12+BE12+BG12+BI12+BK12+BM12+BO12+BQ12+BS12+BU12+BW12+BY12+CA12+CC12+CE12+CG12+CI12+CK12+CM12+CO12+CQ12 -> 31 | CT12: =CS12*D12 -> 285763.81
A13: =+APU!A33 -> 01-02-005 | B13: =+APU!B33 -> DESMONTE DE CUBIERTA EN FIBROCEMENTO, ZINC O SIMILAR | C13: =+APU!C33 -> M2 | D13: =+APU!G33 -> 11420.542 | E13: ='CANTIDADES DE OBRA'!Q94 -> 0 | F13: =$D$13*E13 -> 0 | G13: ='CANTIDADES DE OBRA'!S94 -> 0 | H13: =$D$13*G13 -> 0 | J13: =$D$13*I13 -> 0 | L13: =$D$13*K13 -> 0 | N13: =$D$13*M13 -> 0 | P13: =$D$13*O13 -> 0 | R13: =$D$13*Q13 -> 0 | T13: =$D$13*S13 -> 0 | V13: =$D$13*U13 -> 0 | X13: =$D$13*W13 -> 0 | Z13: =$D$13*Y13 -> 0 | AB13: =$D$13*AA13 -> 0 | AD13: =$D$13*AC13 -> 0 | AF13: =$D$13*AE13 -> 0 | AH13: =$D$13*AG13 -> 0 | AJ13: =$D$13*AI13 -> 0 | AL13: =$D$13*AK13 -> 0 | AN13: =$D$13*AM13 -> 0 | AP13: =$D$13*AO13 -> 0 | AR13: =$D$13*AQ13 -> 0 | AT13: =$D$13*AS13 -> 0 | AV13: =$D$13*AU13 -> 0 | AX13: =$D$13*AW13 -> 0 | AZ13: =$D$13*AY13 -> 0 | BB13: =$D$13*BA13 -> 0 | BD13: =$D$13*BC13 -> 0 | BF13: =$D$13*BE13 -> 0 | BH13: =$D$13*BG13 -> 0 | BJ13: =$D$13*BI13 -> 0 | BL13: =$D$13*BK13 -> 0 | BN13: =$D$13*BM13 -> 0 | BP13: =$D$13*BO13 -> 0 | BR13: =$D$13*BQ13 -> 0 | BT13: =$D$13*BS13 -> 0 | BV13: =$D$13*BU13 -> 0 | BX13: =$D$13*BW13 -> 0 | BZ13: =$D$13*BY13 -> 0 | CB13: =$D$13*CA13 -> 0 | CD13: =$D$13*CC13 -> 0 | CF13: =$D$13*CE13 -> 0 | CH13: =$D$13*CG13 -> 0 | CJ13: =$D$13*CI13 -> 0 | CL13: =$D$13*CK13 -> 0 | CN13: =$D$13*CM13 -> 0 | CP13: =$D$13*CO13 -> 0 | CR13: =$D$13*CQ13 -> 0 | CS13: =E13+G13+I13+K13+M13+O13+Q13+S13+U13+W13+Y13+AA13+AC13+AE13+AG13+AI13+AK13+AM13+AO13+AQ13+AS13+AU13+AW13+AY13+BA13+BC13+BE13+BG13+BI13+BK13+BM13+BO13+BQ13+BS13+BU13+BW13+BY13+CA13+CC13+CE13+CG13+CI13+CK13+CM13+CO13+CQ13 -> 0 | CT13: =CS13*D13 -> 0
A14: =+APU!A40 -> 01-02-006 | B14: =+APU!B40 -> ADECUACION DE SUPERFICIE PARA REVOQUE. | C14: =+APU!C40 -> M2 | D14: =+APU!G40 -> 5944.3803 | E14: ='CANTIDADES DE OBRA'!Q109 -> 0 | F14: =$D$14*E14 -> 0 | G14: ='CANTIDADES DE OBRA'!S109 -> 0 | H14: =$D$14*G14 -> 0 | J14: =$D$14*I14 -> 0 | L14: =$D$14*K14 -> 0 | N14: =$D$14*M14 -> 0 | P14: =$D$14*O14 -> 0 | R14: =$D$14*Q14 -> 0 | T14: =$D$14*S14 -> 0 | V14: =$D$14*U14 -> 0 | X14: =$D$14*W14 -> 0 | Z14: =$D$14*Y14 -> 0 | AB14: =$D$14*AA14 -> 0 | AD14: =$D$14*AC14 -> 0 | AF14: =$D$14*AE14 -> 0 | AH14: =$D$14*AG14 -> 0 | AJ14: =$D$14*AI14 -> 0 | AL14: =$D$14*AK14 -> 0 | AN14: =$D$14*AM14 -> 0 | AP14: =$D$14*AO14 -> 0 | AR14: =$D$14*AQ14 -> 0 | AT14: =$D$14*AS14 -> 0 | AV14: =$D$14*AU14 -> 0 | AW14: ='CANTIDADES DE OBRA'!HG109 -> 10.8 | AX14: =$D$14*AW14 -> 64199.307 | AY14: =+'CANTIDADES DE OBRA'!HP109 -> 9.36 | AZ14: =$D$14*AY14 -> 55639.4 | BA14: =+'CANTIDADES DE OBRA'!HY109 -> 10.8 | BB14: =$D$14*BA14 -> 64199.307 | BC14: =+'CANTIDADES DE OBRA'!IH109 -> 12.96 | BD14: =$D$14*BC14 -> 77039.169 | BE14: =+'CANTIDADES DE OBRA'!IQ109 -> 0 | BF14: =$D$14*BE14 -> 0 | BG14: =+'CANTIDADES DE OBRA'!IZ109 -> 16.92 | BH14: =$D$14*BG14 -> 100578.91 | BI14: =+'CANTIDADES DE OBRA'!JI109 -> 15.84 | BJ14: =$D$14*BI14 -> 94158.984 | BL14: =$D$14*BK14 -> 0 | BM14: =+'CANTIDADES DE OBRA'!KA109 -> 12.78 | BN14: =$D$14*BM14 -> 75969.18 | BP14: =$D$14*BO14 -> 0 | BR14: =$D$14*BQ14 -> 0 | BT14: =$D$14*BS14 -> 0 | BV14: =$D$14*BU14 -> 0 | BX14: =$D$14*BW14 -> 0 | BZ14: =$D$14*BY14 -> 0 | CB14: =$D$14*CA14 -> 0 | CC14: =+'CANTIDADES DE OBRA'!MU109 -> 11.88 | CD14: =$D$14*CC14 -> 70619.238 | CF14: =$D$14*CE14 -> 0 | CG14: =+'CANTIDADES DE OBRA'!NM109 -> 12.96 | CH14: =$D$14*CG14 -> 77039.169 | CJ14: =$D$14*CI14 -> 0 | CK14: =+'CANTIDADES DE OBRA'!OE109 -> 13.68 | CL14: =$D$14*CK14 -> 81319.123 | CM14: =+'CANTIDADES DE OBRA'!ON109 -> 11.52 | CN14: =$D$14*CM14 -> 68479.261 | CP14: =$D$14*CO14 -> 0 | CR14: =$D$14*CQ14 -> 0 | CS14: =E14+G14+I14+K14+M14+O14+Q14+S14+U14+W14+Y14+AA14+AC14+AE14+AG14+AI14+AK14+AM14+AO14+AQ14+AS14+AU14+AW14+AY14+BA14+BC14+BE14+BG14+BI14+BK14+BM14+BO14+BQ14+BS14+BU14+BW14+BY14+CA14+CC14+CE14+CG14+CI14+CK14+CM14+CO14+CQ14 -> 139.5 | CT14: =CS14*D14 -> 829241.05
A15: =+APU!A45 -> 02 | B15: =+APU!B45 -> MOVIMIENTOS DE TIERRA | CU15: =CT16+CT18+CT20 -> 86519.299 | CV15: =ROUND(CU15,0) -> 86519
A16: 02-01. | B16: EXCAVACIONES | F16: =SUM(F17) -> 0 | H16: =SUM(H17) -> 0 | J16: =SUM(J17) -> 0 | L16: =SUM(L17) -> 0 | N16: =SUM(N17) -> 0 | P16: =SUM(P17) -> 0 | R16: =SUM(R17) -> 0 | T16: =SUM(T17) -> 0 | V16: =SUM(V17) -> 0 | X16: =SUM(X17) -> 0 | Z16: =SUM(Z17) -> 0 | AB16: =SUM(AB17) -> 0 | AD16: =SUM(AD17) -> 0 | AF16: =SUM(AF17) -> 0 | AH16: =SUM(AH17) -> 0 | AJ16: =SUM(AJ17) -> 0 | AL16: =SUM(AL17) -> 0 | AN16: =SUM(AN17) -> 0 | AP16: =SUM(AP17) -> 0 | AR16: =SUM(AR17) -> 0 | AT16: =SUM(AT17) -> 19315.937 | AV16: =SUM(AV17) -> 19315.937 | AX16: =SUM(AX17) -> 0 | AZ16: =SUM(AZ17) -> 0 | BB16: =SUM(BB17) -> 0 | BD16: =SUM(BD17) -> 0 | BF16: =SUM(BF17) -> 0 | BH16: =SUM(BH17) -> 0 | BJ16: =SUM(BJ17) -> 0 | BL16: =SUM(BL17) -> 0 | BN16: =SUM(BN17) -> 0 | BP16: =SUM(BP17) -> 0 | BR16: =SUM(BR17) -> 0 | BT16: =SUM(BT17) -> 0 | BV16: =SUM(BV17) -> 0 | BX16: =SUM(BX17) -> 0 | BZ16: =SUM(BZ17) -> 0 | CB16: =SUM(CB17) -> 0 | CD16: =SUM(CD17) -> 0 | CF16: =SUM(CF17) -> 0 | CH16: =SUM(CH17) -> 0 | CJ16: =SUM(CJ17) -> 0 | CL16: =SUM(CL17) -> 0 | CN16: =SUM(CN17) -> 0 | CP16: =SUM(CP17) -> 0 | CR16: =SUM(CR17) -> 0 | CT16: =SUM(CT17) -> 38631.873
A17: =+APU!A46 -> 02-01-001 | B17: =+APU!B46 -> EXCAVACION MANUAL DE MATERIAL HETEROGENEO DE 0-2 M, BAJO CUALQUIER GRADO DE HUMEDAD. INCLUYE DESCAPOTE, MATERIAL COMUN, ROCA DESCOMPUESTA, BOLAS DE ROCA DE VOLUMEN INFERIOR A 0.35 M3; INCLUYE CARGUE Y TRANSPORTE INTERNO Y SU MEDIDA SERA EN EL SITIO; NO INCLUYE BOTADERO; NO INCLUYE ENTIBADO. | C17: =+APU!C46 -> M3 | D17: =+APU!G46 -> 14633.285 | E17: ='CANTIDADES DE OBRA'!Q124 -> 0 | F17: =$D$17*E17 -> 0 | G17: ='CANTIDADES DE OBRA'!Z124 -> 0 | H17: =$D$17*G17 -> 0 | I17: ='CANTIDADES DE OBRA'!AI124 -> 0 | J17: =$D$17*I17 -> 0 | K17: ='CANTIDADES DE OBRA'!AR124 -> 0 | L17: =$D$17*K17 -> 0 | M17: ='CANTIDADES DE OBRA'!BA124 -> 0 | N17: =$D$17*M17 -> 0 | O17: ='CANTIDADES DE OBRA'!BJ124 -> 0 | P17: =$D$17*O17 -> 0 | Q17: ='CANTIDADES DE OBRA'!BS124 -> 0 | R17: =$D$17*Q17 -> 0 | S17: ='CANTIDADES DE OBRA'!CB124 -> 0 | T17: =$D$17*S17 -> 0 | U17: ='CANTIDADES DE OBRA'!CK124 -> 0 | V17: =$D$17*U17 -> 0 | W17: ='CANTIDADES DE OBRA'!CT124 -> 0 | X17: =$D$17*W17 -> 0 | Y17: ='CANTIDADES DE OBRA'!DC124 -> 0 | Z17: =$D$17*Y17 -> 0 | AA17: ='CANTIDADES DE OBRA'!DL124 -> 0 | AB17: =$D$17*AA17 -> 0 | AC17: ='CANTIDADES DE OBRA'!DU124 -> 0 | AD17: =$D$17*AC17 -> 0 | AE17: ='CANTIDADES DE OBRA'!ED124 -> 0 | AF17: =$D$17*AE17 -> 0 | AG17: ='CANTIDADES DE OBRA'!EM124 -> 0 | AH17: =$D$17*AG17 -> 0 | AI17: ='CANTIDADES DE OBRA'!EV124 -> 0 | AJ17: =$D$17*AI17 -> 0 | AK17: ='CANTIDADES DE OBRA'!FE124 -> 0 | AL17: =$D$17*AK17 -> 0 | AM17: ='CANTIDADES DE OBRA'!FN124 -> 0 | AN17: =$D$17*AM17 -> 0 | AO17: ='CANTIDADES DE OBRA'!FW124 -> 0 | AP17: =$D$17*AO17 -> 0 | AQ17: ='CANTIDADES DE OBRA'!GF124 -> 0 | AR17: =$D$17*AQ17 -> 0 | AS17: ='CANTIDADES DE OBRA'!GO139 -> 1.32 | AT17: =$D$17*AS17 -> 19315.937 | AU17: ='CANTIDADES DE OBRA'!GX139 -> 1.32 | AV17: =$D$17*AU17 -> 19315.937 | AW17: ='CANTIDADES DE OBRA'!HG124 -> 0 | AX17: =$D$17*AW17 -> 0 | AY17: ='CANTIDADES DE OBRA'!HP124 -> 0 | AZ17: =$D$17*AY17 -> 0 | BA17: ='CANTIDADES DE OBRA'!HY124 -> 0 | BB17: =$D$17*BA17 -> 0 | BC17: ='CANTIDADES DE OBRA'!IH124 -> 0 | BD17: =$D$17*BC17 -> 0 | BE17: ='CANTIDADES DE OBRA'!IQ124 -> 0 | BF17: =$D$17*BE17 -> 0 | BG17: ='CANTIDADES DE OBRA'!IZ124 -> 0 | BH17: =$D$17*BG17 -> 0 | BI17: ='CANTIDADES DE OBRA'!JI124 -> 0 | BJ17: =$D$17*BI17 -> 0 | BK17: ='CANTIDADES DE OBRA'!JR124 -> 0 | BL17: =$D$17*BK17 -> 0 | BM17: ='CANTIDADES DE OBRA'!KA124 -> 0 | BN17: =$D$17*BM17 -> 0 | BO17: ='CANTIDADES DE OBRA'!KJ124 -> 0 | BP17: =$D$17*BO17 -> 0 | BQ17: ='CANTIDADES DE OBRA'!KS124 -> 0 | BR17: =$D$17*BQ17 -> 0 | BS17: ='CANTIDADES DE OBRA'!LB124 -> 0 | BT17: =$D$17*BS17 -> 0 | BU17: ='CANTIDADES DE OBRA'!LK124 -> 0 | BV17: =$D$17*BU17 -> 0 | BW17: ='CANTIDADES DE OBRA'!LT124 -> 0 | BX17: =$D$17*BW17 -> 0 | BY17: ='CANTIDADES DE OBRA'!MC124 -> 0 | BZ17: =$D$17*BY17 -> 0 | CA17: ='CANTIDADES DE OBRA'!ML124 -> 0 | CB17: =$D$17*CA17 -> 0 | CC17: ='CANTIDADES DE OBRA'!MU124 -> 0 | CD17: =$D$17*CC17 -> 0 | CE17: ='CANTIDADES DE OBRA'!ND124 -> 0 | CF17: =$D$17*CE17 -> 0 | CG17: ='CANTIDADES DE OBRA'!NM124 -> 0 | CH17: =$D$17*CG17 -> 0 | CI17: ='CANTIDADES DE OBRA'!NV124 -> 0 | CJ17: =$D$17*CI17 -> 0 | CK17: =+'CANTIDADES DE OBRA'!OE124 -> 0 | CL17: =$D$17*CK17 -> 0 | CM17: ='CANTIDADES DE OBRA'!ON124 -> 0 | CN17: =$D$17*CM17 -> 0 | CO17: ='CANTIDADES DE OBRA'!OW124 -> 0 | CP17: =$D$17*CO17 -> 0 | CQ17: ='CANTIDADES DE OBRA'!PF124 -> 0 | CR17: =$D$17*CQ17 -> 0 | CS17: =E17+G17+I17+K17+M17+O17+Q17+S17+U17+W17+Y17+AA17+AC17+AE17+AG17+AI17+AK17+AM17+AO17+AQ17+AS17+AU17+AW17+AY17+BA17+BC17+BE17+BG17+BI17+BK17+BM17+BO17+BQ17+BS17+BU17+BW17+BY17+CA17+CC17+CE17+CG17+CI17+CK17+CM17+CO17+CQ17 -> 2.64 | CT17: =CS17*D17 -> 38631.873
A18: 02-02. | B18: LLENOS | F18: =SUM(F19) -> 0 | H18: =SUM(H19) -> 0 | J18: =SUM(J19) -> 0 | L18: =SUM(L19) -> 0 | N18: =SUM(N19) -> 0 | P18: =SUM(P19) -> 0 | R18: =SUM(R19) -> 0 | T18: =SUM(T19) -> 0 | V18: =SUM(V19) -> 0 | X18: =SUM(X19) -> 0 | Z18: =SUM(Z19) -> 0 | AB18: =SUM(AB19) -> 0 | AD18: =SUM(AD19) -> 0 | AF18: =SUM(AF19) -> 0 | AH18: =SUM(AH19) -> 0 | AJ18: =SUM(AJ19) -> 0 | AL18: =SUM(AL19) -> 0 | AN18: =SUM(AN19) -> 0 | AP18: =SUM(AP19) -> 0 | AR18: =SUM(AR19) -> 23943.713 | AT18: =SUM(AT19) -> 0 | AV18: =SUM(AV19) -> 0 | AX18: =SUM(AX19) -> 0 | AZ18: =SUM(AZ19) -> 0 | BB18: =SUM(BB19) -> 0 | BD18: =SUM(BD19) -> 0 | BF18: =SUM(BF19) -> 0 | BH18: =SUM(BH19) -> 0 | BJ18: =SUM(BJ19) -> 0 | BL18: =SUM(BL19) -> 0 | BN18: =SUM(BN19) -> 0 | BP18: =SUM(BP19) -> 0 | BR18: =SUM(BR19) -> 0 | BT18: =SUM(BT19) -> 0 | BV18: =SUM(BV19) -> 0 | BX18: =SUM(BX19) -> 0 | BZ18: =SUM(BZ19) -> 0 | CB18: =SUM(CB19) -> 0 | CD18: =SUM(CD19) -> 0 | CF18: =SUM(CF19) -> 0 | CH18: =SUM(CH19) -> 0 | CJ18: =SUM(CJ19) -> 23943.713 | CL18: =SUM(CL19) -> 0 | CN18: =SUM(CN19) -> 0 | CP18: =SUM(CP19) -> 0 | CR18: =SUM(CR19) -> 0 | CT18: =SUM(CT19) -> 47887.426
A19: =APU!A52 -> 02-02-001 | B19: =APU!B52 -> LLENOS EN MATERIAL PROVENIENTES DE LA EXCAVACIÓN, COMPACTADOS MECÁNICAMENTE HASTA OBTENER UNA DENSIDAD DEL 95% DE LA MÁXIMA OBTENIDA EN EL ENSAYO DEL PRÓCTOR MODIFICADO. INCLUYE TRANSPORTE INTERNO. SU MEDIDA SERÁ EN SITIO YA COMPACTADO. | C19: =APU!C52 -> M3 | D19: =APU!G52 -> 18139.176 | E19: ='CANTIDADES DE OBRA'!Q139 -> 0 | F19: =$D$19*E19 -> 0 | H19: =$D$19*G19 -> 0 | J19: =$D$19*I19 -> 0 | L19: =$D$19*K19 -> 0 | N19: =$D$19*M19 -> 0 | P19: =$D$19*O19 -> 0 | R19: =$D$19*Q19 -> 0 | T19: =$D$19*S19 -> 0 | V19: =$D$19*U19 -> 0 | X19: =$D$19*W19 -> 0 | Z19: =$D$19*Y19 -> 0 | AB19: =$D$19*AA19 -> 0 | AD19: =$D$19*AC19 -> 0 | AF19: =$D$19*AE19 -> 0 | AH19: =$D$19*AG19 -> 0 | AJ19: =$D$19*AI19 -> 0 | AL19: =$D$19*AK19 -> 0 | AN19: =$D$19*AM19 -> 0 | AP19: =$D$19*AO19 -> 0 | AQ19: ='CANTIDADES DE OBRA'!GF139 -> 1.32 | AR19: =$D$19*AQ19 -> 23943.713 | AT19: =$D$19*AS19 -> 0 | AV19: =$D$19*AU19 -> 0 | AX19: =$D$19*AW19 -> 0 | AZ19: =$D$19*AY19 -> 0 | BB19: =$D$19*BA19 -> 0 | BD19: =$D$19*BC19 -> 0 | BF19: =$D$19*BE19 -> 0 | BH19: =$D$19*BG19 -> 0 | BJ19: =$D$19*BI19 -> 0 | BL19: =$D$19*BK19 -> 0 | BN19: =$D$19*BM19 -> 0 | BP19: =$D$19*BO19 -> 0 | BR19: =$D$19*BQ19 -> 0 | BT19: =$D$19*BS19 -> 0 | BV19: =$D$19*BU19 -> 0 | BX19: =$D$19*BW19 -> 0 | BZ19: =$D$19*BY19 -> 0 | CB19: =$D$19*CA19 -> 0 | CD19: =$D$19*CC19 -> 0 | CF19: =$D$19*CE19 -> 0 | CH19: =$D$19*CG19 -> 0 | CI19: =+'CANTIDADES DE OBRA'!NV139 -> 1.32 | CJ19: =$D$19*CI19 -> 23943.713 | CL19: =$D$19*CK19 -> 0 | CN19: =$D$19*CM19 -> 0 | CP19: =$D$19*CO19 -> 0 | CR19: =$D$19*CQ19 -> 0 | CS19: =E19+G19+I19+K19+M19+O19+Q19+S19+U19+W19+Y19+AA19+AC19+AE19+AG19+AI19+AK19+AM19+AO19+AQ19+AS19+AU19+AW19+AY19+BA19+BC19+BE19+BG19+BI19+BK19+BM19+BO19+BQ19+BS19+BU19+BW19+BY19+CA19+CC19+CE19+CG19+CI19+CK19+CM19+CO19+CQ19 -> 2.64 | CT19: =CS19*D19 -> 47887.426
A20: 02-03. | B20: BOTADA DE MATERIAL | F20: =SUM(F21) -> 0 | H20: =SUM(H21) -> 0 | J20: =SUM(J21) -> 0 | L20: =SUM(L21) -> 0 | N20: =SUM(N21) -> 0 | P20: =SUM(P21) -> 0 | R20: =SUM(R21) -> 0 | T20: =SUM(T21) -> 0 | V20: =SUM(V21) -> 0 | X20: =SUM(X21) -> 0 | Z20: =SUM(Z21) -> 0 | AB20: =SUM(AB21) -> 0 | AD20: =SUM(AD21) -> 0 | AF20: =SUM(AF21) -> 0 | AH20: =SUM(AH21) -> 0 | AJ20: =SUM(AJ21) -> 0 | AL20: =SUM(AL21) -> 0 | AN20: =SUM(AN21) -> 0 | AP20: =SUM(AP21) -> 0 | AR20: =SUM(AR21) -> 0 | AT20: =SUM(AT21) -> 0 | AV20: =SUM(AV21) -> 0 | AX20: =SUM(AX21) -> 0 | AZ20: =SUM(AZ21) -> 0 | BB20: =SUM(BB21) -> 0 | BD20: =SUM(BD21) -> 0 | BF20: =SUM(BF21) -> 0 | BH20: =SUM(BH21) -> 0 | BJ20: =SUM(BJ21) -> 0 | BL20: =SUM(BL21) -> 0 | BN20: =SUM(BN21) -> 0 | BP20: =SUM(BP21) -> 0 | BR20: =SUM(BR21) -> 0 | BT20: =SUM(BT21) -> 0 | BV20: =SUM(BV21) -> 0 | BX20: =SUM(BX21) -> 0 | BZ20: =SUM(BZ21) -> 0 | CB20: =SUM(CB21) -> 0 | CD20: =SUM(CD21) -> 0 | CF20: =SUM(CF21) -> 0 | CH20: =SUM(CH21) -> 0 | CJ20: =SUM(CJ21) -> 0 | CL20: =SUM(CL21) -> 0 | CN20: =SUM(CN21) -> 0 | CP20: =SUM(CP21) -> 0 | CR20: =SUM(CR21) -> 0 | CT20: =SUM(CT21) -> 0
A21: =+APU!A58 -> 02-03-001 | B21: =+APU!B58 -> BOTADA DE MATERIALES RESULTANTES DE EXCAVACIONES, DEMOLICIONES, RETIRO Y DEMAS ACTIVIDADES QUE ASI LO REQUIERAN, ESTE SERA LLEVADO EN VOLQUETA U OTRO MEDIO DE TRANSPORTE AL SITIO DESTINADO. | C21: =+APU!C58 -> M3 | D21: =+APU!G58 -> 25825.184 | E21: ='CANTIDADES DE OBRA'!Q154 -> 0 | F21: =$D$19*E21 -> 0 | G21: ='CANTIDADES DE OBRA'!Z154 -> 0 | H21: =$D$19*G21 -> 0 | I21: ='CANTIDADES DE OBRA'!AI154 -> 0 | J21: =$D$19*I21 -> 0 | K21: ='CANTIDADES DE OBRA'!AR154 -> 0 | L21: =$D$19*K21 -> 0 | M21: ='CANTIDADES DE OBRA'!BA154 -> 0 | N21: =$D$19*M21 -> 0 | O21: ='CANTIDADES DE OBRA'!BJ154 -> 0 | P21: =$D$19*O21 -> 0 | Q21: ='CANTIDADES DE OBRA'!BS154 -> 0 | R21: =$D$19*Q21 -> 0 | S21: ='CANTIDADES DE OBRA'!CB154 -> 0 | T21: =$D$19*S21 -> 0 | U21: ='CANTIDADES DE OBRA'!CK154 -> 0 | V21: =$D$19*U21 -> 0 | W21: ='CANTIDADES DE OBRA'!CT154 -> 0 | X21: =$D$19*W21 -> 0 | Y21: ='CANTIDADES DE OBRA'!DC154 -> 0 | Z21: =$D$19*Y21 -> 0 | AA21: ='CANTIDADES DE OBRA'!DL154 -> 0 | AB21: =$D$19*AA21 -> 0 | AC21: ='CANTIDADES DE OBRA'!DU154 -> 0 | AD21: =$D$19*AC21 -> 0 | AE21: ='CANTIDADES DE OBRA'!ED154 -> 0 | AF21: =$D$19*AE21 -> 0 | AG21: ='CANTIDADES DE OBRA'!EM154 -> 0 | AH21: =$D$19*AG21 -> 0 | AI21: ='CANTIDADES DE OBRA'!EV154 -> 0 | AJ21: =$D$19*AI21 -> 0 | AK21: ='CANTIDADES DE OBRA'!FE154 -> 0 | AL21: =$D$19*AK21 -> 0 | AM21: ='CANTIDADES DE OBRA'!FN154 -> 0 | AN21: =$D$19*AM21 -> 0 | AO21: ='CANTIDADES DE OBRA'!FW154 -> 0 | AP21: =$D$19*AO21 -> 0 | AQ21: ='CANTIDADES DE OBRA'!GF154 -> 0 | AR21: =$D$19*AQ21 -> 0 | AS21: ='CANTIDADES DE OBRA'!GO154 -> 0 | AT21: =$D$19*AS21 -> 0 | AU21: ='CANTIDADES DE OBRA'!GX154 -> 0 | AV21: =$D$19*AU21 -> 0 | AW21: ='CANTIDADES DE OBRA'!HG154 -> 0 | AX21: =$D$19*AW21 -> 0 | AY21: ='CANTIDADES DE OBRA'!HP154 -> 0 | AZ21: =$D$19*AY21 -> 0 | BA21: ='CANTIDADES DE OBRA'!HY154 -> 0 | BB21: =$D$19*BA21 -> 0 | BC21: ='CANTIDADES DE OBRA'!IH154 -> 0 | BD21: =$D$19*BC21 -> 0 | BE21: ='CANTIDADES DE OBRA'!IQ154 -> 0 | BF21: =$D$19*BE21 -> 0 | BG21: ='CANTIDADES DE OBRA'!IZ154 -> 0 | BH21: =$D$19*BG21 -> 0 | BI21: ='CANTIDADES DE OBRA'!JI154 -> 0 | BJ21: =$D$19*BI21 -> 0 | BK21: ='CANTIDADES DE OBRA'!JR154 -> 0 | BL21: =$D$19*BK21 -> 0 | BM21: ='CANTIDADES DE OBRA'!KA154 -> 0 | BN21: =$D$19*BM21 -> 0 | BO21: ='CANTIDADES DE OBRA'!KJ154 -> 0 | BP21: =$D$19*BO21 -> 0 | BQ21: ='CANTIDADES DE OBRA'!KS154 -> 0 | BR21: =$D$19*BQ21 -> 0 | BS21: ='CANTIDADES DE OBRA'!LB154 -> 0 | BT21: =$D$19*BS21 -> 0 | BU21: ='CANTIDADES DE OBRA'!LK154 -> 0 | BV21: =$D$19*BU21 -> 0 | BW21: ='CANTIDADES DE OBRA'!LT154 -> 0 | BX21: =$D$19*BW21 -> 0 | BY21: ='CANTIDADES DE OBRA'!MC154 -> 0 | BZ21: =$D$19*BY21 -> 0 | CA21: ='CANTIDADES DE OBRA'!ML154 -> 0 | CB21: =$D$19*CA21 -> 0 | CC21: ='CANTIDADES DE OBRA'!MU154 -> 0 | CD21: =$D$19*CC21 -> 0 | CE21: ='CANTIDADES DE OBRA'!ND154 -> 0 | CF21: =$D$19*CE21 -> 0 | CG21: ='CANTIDADES DE OBRA'!NM154 -> 0 | CH21: =$D$19*CG21 -> 0 | CI21: ='CANTIDADES DE OBRA'!NV154 -> 0 | CJ21: =$D$19*CI21 -> 0 | CK21: =+'CANTIDADES DE OBRA'!OE154 -> 0 | CL21: =$D$19*CK21 -> 0 | CM21: ='CANTIDADES DE OBRA'!ON154 -> 0 | CN21: =$D$19*CM21 -> 0 | CO21: ='CANTIDADES DE OBRA'!OW154 -> 0 | CP21: =$D$19*CO21 -> 0 | CQ21: ='CANTIDADES DE OBRA'!PF154 -> 0 | CR21: =$D$19*CQ21 -> 0 | CS21: =E21+G21+I21+K21+M21+O21+Q21+S21+U21+W21+Y21+AA21+AC21+AE21+AG21+AI21+AK21+AM21+AO21+AQ21+AS21+AU21+AW21+AY21+BA21+BC21+BE21+BG21+BI21+BK21+BM21+BO21+BQ21+BS21+BU21+BW21+BY21+CA21+CC21+CE21+CG21+CI21+CK21+CM21+CO21+CQ21 -> 0 | CT21: =CS21*D21 -> 0
A22: =+APU!A64 -> 03 | B22: =+APU!B64 -> CONCRETOS ESTRUCTURALES | CU22: =CT23+CT26 -> 0 | CV22: =ROUND(CU22,0) -> 0
A23: 03-01. | B23: CONCRETOS PARA CIMENTACIÓN | F23: =SUM(F24:F25) -> 0 | H23: =SUM(H24:H25) -> 0 | J23: =SUM(J24:J25) -> 0 | L23: =SUM(L24:L25) -> 0 | N23: =SUM(N24:N25) -> 0 | P23: =SUM(P24:P25) -> 0 | R23: =SUM(R24:R25) -> 0 | T23: =SUM(T24:T25) -> 0 | V23: =SUM(V24:V25) -> 0 | X23: =SUM(X24:X25) -> 0 | Z23: =SUM(Z24:Z25) -> 0 | AB23: =SUM(AB24:AB25) -> 0 | AD23: =SUM(AD24:AD25) -> 0 | AF23: =SUM(AF24:AF25) -> 0 | AH23: =SUM(AH24:AH25) -> 0 | AJ23: =SUM(AJ24:AJ25) -> 0 | AL23: =SUM(AL24:AL25) -> 0 | AN23: =SUM(AN24:AN25) -> 0 | AP23: =SUM(AP24:AP25) -> 0 | AR23: =SUM(AR24:AR25) -> 0 | AT23: =SUM(AT24:AT25) -> 0 | AV23: =SUM(AV24:AV25) -> 0 | AX23: =SUM(AX24:AX25) -> 0 | AZ23: =SUM(AZ24:AZ25) -> 0 | BB23: =SUM(BB24:BB25) -> 0 | BD23: =SUM(BD24:BD25) -> 0 | BF23: =SUM(BF24:BF25) -> 0 | BH23: =SUM(BH24:BH25) -> 0 | BJ23: =SUM(BJ24:BJ25) -> 0 | BL23: =SUM(BL24:BL25) -> 0 | BN23: =SUM(BN24:BN25) -> 0 | BP23: =SUM(BP24:BP25) -> 0 | BR23: =SUM(BR24:BR25) -> 0 | BT23: =SUM(BT24:BT25) -> 0 | BV23: =SUM(BV24:BV25) -> 0 | BX23: =SUM(BX24:BX25) -> 0 | BZ23: =SUM(BZ24:BZ25) -> 0 | CB23: =SUM(CB24:CB25) -> 0 | CD23: =SUM(CD24:CD25) -> 0 | CF23: =SUM(CF24:CF25) -> 0 | CH23: =SUM(CH24:CH25) -> 0 | CJ23: =SUM(CJ24:CJ25) -> 0 | CL23: =SUM(CL24:CL25) -> 0 | CN23: =SUM(CN24:CN25) -> 0 | CP23: =SUM(CP24:CP25) -> 0 | CR23: =SUM(CR24:CR25) -> 0 | CT23: =SUM(CT24:CT25) -> 0
A24: =APU!A65 -> 03-01-001 | B24: =APU!B65 -> COLOCACIÓN DE CONCRETO DE 14 MPA PARA SOLADO, CON UN ESPESOR DE 0.05 M. INCLUYE EL SUMINISTRO Y EL TRANSPORTE DEL CONCRETO Y TODOS LOS DEMÁS ELEMENTOS NECESARIOS PARA SU CORRECTA CONSTRUCCIÓN, INCLUYE ACARREO INTERNO. | C24: =APU!C65 -> M2 | D24: =APU!G65 -> 15910.507 | E24: ='CANTIDADES DE OBRA'!Q169 -> 0 | F24: =$D$24*E24 -> 0 | G24: ='CANTIDADES DE OBRA'!Z169 -> 0 | H24: =$D$24*G24 -> 0 | I24: ='CANTIDADES DE OBRA'!AI169 -> 0 | J24: =$D$24*I24 -> 0 | K24: ='CANTIDADES DE OBRA'!AR169 -> 0 | L24: =$D$24*K24 -> 0 | M24: ='CANTIDADES DE OBRA'!BA169 -> 0 | N24: =$D$24*M24 -> 0 | O24: ='CANTIDADES DE OBRA'!BJ169 -> 0 | P24: =$D$24*O24 -> 0 | Q24: ='CANTIDADES DE OBRA'!BS169 -> 0 | R24: =$D$24*Q24 -> 0 | S24: ='CANTIDADES DE OBRA'!CB169 -> 0 | T24: =$D$24*S24 -> 0 | U24: ='CANTIDADES DE OBRA'!CK169 -> 0 | V24: =$D$24*U24 -> 0 | W24: ='CANTIDADES DE OBRA'!CT169 -> 0 | X24: =$D$24*W24 -> 0 | Y24: ='CANTIDADES DE OBRA'!DC169 -> 0 | Z24: =$D$24*Y24 -> 0 | AA24: ='CANTIDADES DE OBRA'!DL169 -> 0 | AB24: =$D$24*AA24 -> 0 | AC24: ='CANTIDADES DE OBRA'!DU169 -> 0 | AD24: =$D$24*AC24 -> 0 | AE24: ='CANTIDADES DE OBRA'!ED169 -> 0 | AF24: =$D$24*AE24 -> 0 | AG24: ='CANTIDADES DE OBRA'!EM169 -> 0 | AH24: =$D$24*AG24 -> 0 | AI24: ='CANTIDADES DE OBRA'!EV169 -> 0 | AJ24: =$D$24*AI24 -> 0 | AK24: ='CANTIDADES DE OBRA'!FE169 -> 0 | AL24: =$D$24*AK24 -> 0 | AM24: ='CANTIDADES DE OBRA'!FN169 -> 0 | AN24: =$D$24*AM24 -> 0 | AO24: ='CANTIDADES DE OBRA'!FW169 -> 0 | AP24: =$D$24*AO24 -> 0 | AQ24: ='CANTIDADES DE OBRA'!GF169 -> 0 | AR24: =$D$24*AQ24 -> 0 | AS24: ='CANTIDADES DE OBRA'!GO169 -> 0 | AT24: =$D$24*AS24 -> 0 | AU24: ='CANTIDADES DE OBRA'!GX169 -> 0 | AV24: =$D$24*AU24 -> 0 | AW24: ='CANTIDADES DE OBRA'!HG169 -> 0 | AX24: =$D$24*AW24 -> 0 | AY24: ='CANTIDADES DE OBRA'!HP169 -> 0 | AZ24: =$D$24*AY24 -> 0 | BA24: ='CANTIDADES DE OBRA'!HY169 -> 0 | BB24: =$D$24*BA24 -> 0 | BC24: ='CANTIDADES DE OBRA'!IH169 -> 0 | BD24: =$D$24*BC24 -> 0 | BE24: ='CANTIDADES DE OBRA'!IQ169 -> 0 | BF24: =$D$24*BE24 -> 0 | BG24: ='CANTIDADES DE OBRA'!IZ169 -> 0 | BH24: =$D$24*BG24 -> 0 | BI24: ='CANTIDADES DE OBRA'!JI169 -> 0 | BJ24: =$D$24*BI24 -> 0 | BK24: ='CANTIDADES DE OBRA'!JR169 -> 0 | BL24: =$D$24*BK24 -> 0 | BM24: ='CANTIDADES DE OBRA'!KA169 -> 0 | BN24: =$D$24*BM24 -> 0 | BO24: ='CANTIDADES DE OBRA'!KJ169 -> 0 | BP24: =$D$24*BO24 -> 0 | BQ24: ='CANTIDADES DE OBRA'!KS169 -> 0 | BR24: =$D$24*BQ24 -> 0 | BS24: ='CANTIDADES DE OBRA'!LB169 -> 0 | BT24: =$D$24*BS24 -> 0 | BU24: ='CANTIDADES DE OBRA'!LK169 -> 0 | BV24: =$D$24*BU24 -> 0 | BW24: ='CANTIDADES DE OBRA'!LT169 -> 0 | BX24: =$D$24*BW24 -> 0 | BY24: ='CANTIDADES DE OBRA'!MC169 -> 0 | BZ24: =$D$24*BY24 -> 0 | CA24: ='CANTIDADES DE OBRA'!ML169 -> 0 | CB24: =$D$24*CA24 -> 0 | CC24: ='CANTIDADES DE OBRA'!MU169 -> 0 | CD24: =$D$24*CC24 -> 0 | CE24: ='CANTIDADES DE OBRA'!ND169 -> 0 | CF24: =$D$24*CE24 -> 0 | CG24: ='CANTIDADES DE OBRA'!NM169 -> 0 | CH24: =$D$24*CG24 -> 0 | CI24: ='CANTIDADES DE OBRA'!NV169 -> 0 | CJ24: =$D$24*CI24 -> 0 | CK24: =+'CANTIDADES DE OBRA'!OE169 -> 0 | CL24: =$D$24*CK24 -> 0 | CM24: ='CANTIDADES DE OBRA'!ON169 -> 0 | CN24: =$D$24*CM24 -> 0 | CO24: ='CANTIDADES DE OBRA'!OW169 -> 0 | CP24: =$D$24*CO24 -> 0 | CQ24: ='CANTIDADES DE OBRA'!PF169 -> 0 | CR24: =$D$24*CQ24 -> 0 | CS24: =E24+G24+I24+K24+M24+O24+Q24+S24+U24+W24+Y24+AA24+AC24+AE24+AG24+AI24+AK24+AM24+AO24+AQ24+AS24+AU24+AW24+AY24+BA24+BC24+BE24+BG24+BI24+BK24+BM24+BO24+BQ24+BS24+BU24+BW24+BY24+CA24+CC24+CE24+CG24+CI24+CK24+CM24+CO24+CQ24 -> 0 | CT24: =CS24*D24 -> 0
A25: =+APU!A71 -> 03-01-002 | B25: =+APU!B71 -> VIGA DE CIMENTACION EN CONCRETO DE 21 MPa, DE SECCION 0.25X0.20 M. INCLUYE FORMALETA, EQUIPO Y TODO LO NECESARIO PARA SU CORRECTA COLOCACION Y FUNCIONAMIENTO. | C25: =+APU!C71 -> M | D25: =+APU!G71 -> 64113.127 | E25: =+'CANTIDADES DE OBRA'!Q184 -> 0 | F25: =$D$25*E25 -> 0 | G25: =+'CANTIDADES DE OBRA'!Z184 -> 0 | H25: =$D$25*G25 -> 0 | I25: =+'CANTIDADES DE OBRA'!AI184 -> 0 | J25: =$D$25*I25 -> 0 | K25: =+'CANTIDADES DE OBRA'!AR184 -> 0 | L25: =$D$25*K25 -> 0 | M25: =+'CANTIDADES DE OBRA'!BA184 -> 0 | N25: =$D$25*M25 -> 0 | O25: =+'CANTIDADES DE OBRA'!BJ169 -> 0 | P25: =$D$25*O25 -> 0 | Q25: =+'CANTIDADES DE OBRA'!BS184 -> 0 | R25: =$D$25*Q25 -> 0 | S25: =+'CANTIDADES DE OBRA'!CB184 -> 0 | T25: =$D$25*S25 -> 0 | U25: =+'CANTIDADES DE OBRA'!CK184 -> 0 | V25: =$D$25*U25 -> 0 | W25: =+'CANTIDADES DE OBRA'!CT184 -> 0 | X25: =$D$25*W25 -> 0 | Y25: =+'CANTIDADES DE OBRA'!DC184 -> 0 | Z25: =$D$25*Y25 -> 0 | AA25: =+'CANTIDADES DE OBRA'!DL184 -> 0 | AB25: =$D$25*AA25 -> 0 | AC25: =+'CANTIDADES DE OBRA'!DU184 -> 0 | AD25: =$D$25*AC25 -> 0 | AE25: =+'CANTIDADES DE OBRA'!ED184 -> 0 | AF25: =$D$25*AE25 -> 0 | AG25: =+'CANTIDADES DE OBRA'!EM184 -> 0 | AH25: =$D$25*AG25 -> 0 | AI25: =+'CANTIDADES DE OBRA'!EV184 -> 0 | AJ25: =$D$25*AI25 -> 0 | AK25: =+'CANTIDADES DE OBRA'!FE184 -> 0 | AL25: =$D$25*AK25 -> 0 | AM25: =+'CANTIDADES DE OBRA'!FN184 -> 0 | AN25: =$D$25*AM25 -> 0 | AO25: =+'CANTIDADES DE OBRA'!FW184 -> 0 | AP25: =$D$25*AO25 -> 0 | AQ25: =+'CANTIDADES DE OBRA'!GF184 -> 0 | AR25: =$D$25*AQ25 -> 0 | AS25: =+'CANTIDADES DE OBRA'!GO184 -> 0 | AT25: =$D$25*AS25 -> 0 | AU25: =+'CANTIDADES DE OBRA'!GX184 -> 0 | AV25: =$D$25*AU25 -> 0 | AW25: =+'CANTIDADES DE OBRA'!HG184 -> 0 | AX25: =$D$25*AW25 -> 0 | AY25: =+'CANTIDADES DE OBRA'!HP184 -> 0 | AZ25: =$D$25*AY25 -> 0 | BA25: =+'CANTIDADES DE OBRA'!HY184 -> 0 | BB25: =$D$25*BA25 -> 0 | BC25: =+'CANTIDADES DE OBRA'!IH184 -> 0 | BD25: =$D$25*BC25 -> 0 | BE25: =+'CANTIDADES DE OBRA'!IQ184 -> 0 | BF25: =$D$25*BE25 -> 0 | BG25: =+'CANTIDADES DE OBRA'!IZ184 -> 0 | BH25: =$D$25*BG25 -> 0 | BI25: =+'CANTIDADES DE OBRA'!JI184 -> 0 | BJ25: =$D$25*BI25 -> 0 | BK25: =+'CANTIDADES DE OBRA'!JR184 -> 0 | BL25: =$D$25*BK25 -> 0 | BM25: =+'CANTIDADES DE OBRA'!KA184 -> 0 | BN25: =$D$25*BM25 -> 0 | BO25: =+'CANTIDADES DE OBRA'!KJ184 -> 0 | BP25: =$D$25*BO25 -> 0 | BQ25: =+'CANTIDADES DE OBRA'!KS184 -> 0 | BR25: =$D$25*BQ25 -> 0 | BS25: =+'CANTIDADES DE OBRA'!LB184 -> 0 | BT25: =$D$25*BS25 -> 0 | BU25: =+'CANTIDADES DE OBRA'!LK184 -> 0 | BV25: =$D$25*BU25 -> 0 | BW25: =+'CANTIDADES DE OBRA'!LT184 -> 0 | BX25: =$D$25*BW25 -> 0 | BY25: =+'CANTIDADES DE OBRA'!MC184 -> 0 | BZ25: =$D$25*BY25 -> 0 | CA25: =+'CANTIDADES DE OBRA'!ML184 -> 0 | CB25: =$D$25*CA25 -> 0 | CC25: =+'CANTIDADES DE OBRA'!MU184 -> 0 | CD25: =$D$25*CC25 -> 0 | CE25: =+'CANTIDADES DE OBRA'!ND184 -> 0 | CF25: =$D$25*CE25 -> 0 | CG25: =+'CANTIDADES DE OBRA'!NM184 -> 0 | CH25: =$D$25*CG25 -> 0 | CI25: =+'CANTIDADES DE OBRA'!NV184 -> 0 | CJ25: =$D$25*CI25 -> 0 | CK25: =+'CANTIDADES DE OBRA'!OE184 -> 0 | CL25: =$D$25*CK25 -> 0 | CM25: =+'CANTIDADES DE OBRA'!ON184 -> 0 | CN25: =$D$25*CM25 -> 0 | CO25: =+'CANTIDADES DE OBRA'!OW184 -> 0 | CP25: =$D$25*CO25 -> 0 | CQ25: =+'CANTIDADES DE OBRA'!PF184 -> 0 | CR25: =$D$25*CQ25 -> 0 | CS25: =E25+G25+I25+K25+M25+O25+Q25+S25+U25+W25+Y25+AA25+AC25+AE25+AG25+AI25+AK25+AM25+AO25+AQ25+AS25+AU25+AW25+AY25+BA25+BC25+BE25+BG25+BI25+BK25+BM25+BO25+BQ25+BS25+BU25+BW25+BY25+CA25+CC25+CE25+CG25+CI25+CK25+CM25+CO25+CQ25 -> 0 | CT25: =CS25*D25 -> 0
A26: 03-02. | B26: VIGAS SOBRE MAMPOSTERÍA | F26: =SUM(F27:F28) -> 0 | H26: =SUM(H27:H28) -> 0 | J26: =SUM(J27:J28) -> 0 | L26: =SUM(L27:L28) -> 0 | N26: =SUM(N27:N28) -> 0 | P26: =SUM(P27:P28) -> 0 | R26: =SUM(R27:R28) -> 0 | T26: =SUM(T27:T28) -> 0 | V26: =SUM(V27:V28) -> 0 | X26: =SUM(X27:X28) -> 0 | Z26: =SUM(Z27:Z28) -> 0 | AB26: =SUM(AB27:AB28) -> 0 | AD26: =SUM(AD27:AD28) -> 0 | AF26: =SUM(AF27:AF28) -> 0 | AH26: =SUM(AH27:AH28) -> 0 | AJ26: =SUM(AJ27:AJ28) -> 0 | AL26: =SUM(AL27:AL28) -> 0 | AN26: =SUM(AN27:AN28) -> 0 | AP26: =SUM(AP27:AP28) -> 0 | AR26: =SUM(AR27:AR28) -> 0 | AT26: =SUM(AT27:AT28) -> 0 | AV26: =SUM(AV27:AV28) -> 0 | AX26: =SUM(AX27:AX28) -> 0 | AZ26: =SUM(AZ27:AZ28) -> 0 | BB26: =SUM(BB27:BB28) -> 0 | BD26: =SUM(BD27:BD28) -> 0 | BF26: =SUM(BF27:BF28) -> 0 | BH26: =SUM(BH27:BH28) -> 0 | BJ26: =SUM(BJ27:BJ28) -> 0 | BL26: =SUM(BL27:BL28) -> 0 | BN26: =SUM(BN27:BN28) -> 0 | BP26: =SUM(BP27:BP28) -> 0 | BR26: =SUM(BR27:BR28) -> 0 | BT26: =SUM(BT27:BT28) -> 0 | BV26: =SUM(BV27:BV28) -> 0 | BX26: =SUM(BX27:BX28) -> 0 | BZ26: =SUM(BZ27:BZ28) -> 0 | CB26: =SUM(CB27:CB28) -> 0 | CD26: =SUM(CD27:CD28) -> 0 | CF26: =SUM(CF27:CF28) -> 0 | CH26: =SUM(CH27:CH28) -> 0 | CJ26: =SUM(CJ27:CJ28) -> 0 | CL26: =SUM(CL27:CL28) -> 0 | CN26: =SUM(CN27:CN28) -> 0 | CP26: =SUM(CP27:CP28) -> 0 | CR26: =SUM(CR27:CR28) -> 0 | CT26: =SUM(CT27:CT28) -> 0
A27: =+APU!A85 -> 03-02-001 | B27: =+APU!B85 -> VIGA DE AMARRE SUPERIOR EN CONCRETO DE 21 MPa SOBRE MAMPOSTERIA, DE SECCION 0.10X0.15 M. INCLUYE FORMALETA, EQUIPO Y TODO LO NECESARIO PARA SU CORRECTA COLOCACION Y FUNCIONAMIENTO. | C27: =+APU!C85 -> M | D27: =+APU!G85 -> 38486.543 | E27: =+'CANTIDADES DE OBRA'!Q199 -> 0 | F27: =$D$27*E27 -> 0 | G27: =+'CANTIDADES DE OBRA'!Z199 -> 0 | H27: =$D$27*G27 -> 0 | I27: =+'CANTIDADES DE OBRA'!AI199 -> 0 | J27: =$D$27*I27 -> 0 | K27: =+'CANTIDADES DE OBRA'!AR199 -> 0 | L27: =$D$27*K27 -> 0 | M27: =+'CANTIDADES DE OBRA'!BA199 -> 0 | N27: =$D$27*M27 -> 0 | O27: =+'CANTIDADES DE OBRA'!BJ199 -> 0 | P27: =$D$27*O27 -> 0 | Q27: =+'CANTIDADES DE OBRA'!BS199 -> 0 | R27: =$D$27*Q27 -> 0 | S27: =+'CANTIDADES DE OBRA'!CB199 -> 0 | T27: =$D$27*S27 -> 0 | U27: =+'CANTIDADES DE OBRA'!CK199 -> 0 | V27: =$D$27*U27 -> 0 | W27: =+'CANTIDADES DE OBRA'!CT199 -> 0 | X27: =$D$27*W27 -> 0 | Y27: =+'CANTIDADES DE OBRA'!DC199 -> 0 | Z27: =$D$27*Y27 -> 0 | AA27: =+'CANTIDADES DE OBRA'!DL199 -> 0 | AB27: =$D$27*AA27 -> 0 | AC27: =+'CANTIDADES DE OBRA'!DU199 -> 0 | AD27: =$D$27*AC27 -> 0 | AE27: =+'CANTIDADES DE OBRA'!ED199 -> 0 | AF27: =$D$27*AE27 -> 0 | AG27: =+'CANTIDADES DE OBRA'!EM199 -> 0 | AH27: =$D$27*AG27 -> 0 | AI27: =+'CANTIDADES DE OBRA'!EV199 -> 0 | AJ27: =$D$27*AI27 -> 0 | AK27: =+'CANTIDADES DE OBRA'!FE199 -> 0 | AL27: =$D$27*AK27 -> 0 | AM27: =+'CANTIDADES DE OBRA'!FN199 -> 0 | AN27: =$D$27*AM27 -> 0 | AO27: =+'CANTIDADES DE OBRA'!FW199 -> 0 | AP27: =$D$27*AO27 -> 0 | AQ27: =+'CANTIDADES DE OBRA'!GF199 -> 0 | AR27: =$D$27*AQ27 -> 0 | AS27: =+'CANTIDADES DE OBRA'!GO199 -> 0 | AT27: =$D$27*AS27 -> 0 | AU27: =+'CANTIDADES DE OBRA'!GX199 -> 0 | AV27: =$D$27*AU27 -> 0 | AW27: =+'CANTIDADES DE OBRA'!HG199 -> 0 | AX27: =$D$27*AW27 -> 0 | AY27: =+'CANTIDADES DE OBRA'!HP199 -> 0 | AZ27: =$D$27*AY27 -> 0 | BA27: =+'CANTIDADES DE OBRA'!HY199 -> 0 | BB27: =$D$27*BA27 -> 0 | BC27: =+'CANTIDADES DE OBRA'!IH199 -> 0 | BD27: =$D$27*BC27 -> 0 | BE27: =+'CANTIDADES DE OBRA'!IQ199 -> 0 | BF27: =$D$27*BE27 -> 0 | BG27: =+'CANTIDADES DE OBRA'!IZ199 -> 0 | BH27: =$D$27*BG27 -> 0 | BI27: =+'CANTIDADES DE OBRA'!JI199 -> 0 | BJ27: =$D$27*BI27 -> 0 | BK27: =+'CANTIDADES DE OBRA'!JR199 -> 0 | BL27: =$D$27*BK27 -> 0 | BM27: =+'CANTIDADES DE OBRA'!KA199 -> 0 | BN27: =$D$27*BM27 -> 0 | BO27: =+'CANTIDADES DE OBRA'!KJ199 -> 0 | BP27: =$D$27*BO27 -> 0 | BQ27: =+'CANTIDADES DE OBRA'!KS199 -> 0 | BR27: =$D$27*BQ27 -> 0 | BS27: =+'CANTIDADES DE OBRA'!LB199 -> 0 | BT27: =$D$27*BS27 -> 0 | BU27: =+'CANTIDADES DE OBRA'!LK199 -> 0 | BV27: =$D$27*BU27 -> 0 | BW27: =+'CANTIDADES DE OBRA'!LT199 -> 0 | BX27: =$D$27*BW27 -> 0 | BY27: =+'CANTIDADES DE OBRA'!MC199 -> 0 | BZ27: =$D$27*BY27 -> 0 | CA27: =+'CANTIDADES DE OBRA'!ML199 -> 0 | CB27: =$D$27*CA27 -> 0 | CC27: =+'CANTIDADES DE OBRA'!MU199 -> 0 | CD27: =$D$27*CC27 -> 0 | CE27: =+'CANTIDADES DE OBRA'!ND199 -> 0 | CF27: =$D$27*CE27 -> 0 | CG27: =+'CANTIDADES DE OBRA'!NM199 -> 0 | CH27: =$D$27*CG27 -> 0 | CI27: =+'CANTIDADES DE OBRA'!NV199 -> 0 | CJ27: =$D$27*CI27 -> 0 | CK27: =+'CANTIDADES DE OBRA'!OE199 -> 0 | CL27: =$D$27*CK27 -> 0 | CM27: =+'CANTIDADES DE OBRA'!ON199 -> 0 | CN27: =$D$27*CM27 -> 0 | CO27: =+'CANTIDADES DE OBRA'!OW199 -> 0 | CP27: =$D$27*CO27 -> 0 | CQ27: =+'CANTIDADES DE OBRA'!PF199 -> 0 | CR27: =$D$27*CQ27 -> 0 | CS27: =E27+G27+I27+K27+M27+O27+Q27+S27+U27+W27+Y27+AA27+AC27+AE27+AG27+AI27+AK27+AM27+AO27+AQ27+AS27+AU27+AW27+AY27+BA27+BC27+BE27+BG27+BI27+BK27+BM27+BO27+BQ27+BS27+BU27+BW27+BY27+CA27+CC27+CE27+CG27+CI27+CK27+CM27+CO27+CQ27 -> 0 | CT27: =CS27*D27 -> 0
A28: =+APU!A97 -> 03-02-002 | B28: =+APU!B97 -> CINTAS DE AMARRE SUPERIOR EN CONCRETO DE 21 MPa SOBRE MAMPOSTERIA, DE SECCION 0.10X0.12 M. INCLUYE FORMALETA, EQUIPO Y TODO LO NECESARIO PARA SU CORRECTA COLOCACION Y FUNCIONAMIENTO. | C28: =+APU!C97 -> M | D28: =+APU!G97 -> 27094.579 | E28: =+'CANTIDADES DE OBRA'!Q214 -> 0 | F28: =$D$28*E28 -> 0 | G28: =+'CANTIDADES DE OBRA'!Z214 -> 0 | H28: =$D$28*G28 -> 0 | I28: =+'CANTIDADES DE OBRA'!AI214 -> 0 | J28: =$D$28*I28 -> 0 | K28: =+'CANTIDADES DE OBRA'!AR214 -> 0 | L28: =$D$28*K28 -> 0 | M28: =+'CANTIDADES DE OBRA'!BA214 -> 0 | N28: =$D$28*M28 -> 0 | O28: =+'CANTIDADES DE OBRA'!BJ214 -> 0 | P28: =$D$28*O28 -> 0 | Q28: =+'CANTIDADES DE OBRA'!BS214 -> 0 | R28: =$D$28*Q28 -> 0 | S28: =+'CANTIDADES DE OBRA'!CB214 -> 0 | T28: =$D$28*S28 -> 0 | U28: =+'CANTIDADES DE OBRA'!CK214 -> 0 | V28: =$D$28*U28 -> 0 | W28: =+'CANTIDADES DE OBRA'!CT214 -> 0 | X28: =$D$28*W28 -> 0 | Y28: =+'CANTIDADES DE OBRA'!DC214 -> 0 | Z28: =$D$28*Y28 -> 0 | AA28: =+'CANTIDADES DE OBRA'!DL214 -> 0 | AB28: =$D$28*AA28 -> 0 | AC28: =+'CANTIDADES DE OBRA'!DU214 -> 0 | AD28: =$D$28*AC28 -> 0 | AE28: =+'CANTIDADES DE OBRA'!ED214 -> 0 | AF28: =$D$28*AE28 -> 0 | AG28: =+'CANTIDADES DE OBRA'!EM214 -> 0 | AH28: =$D$28*AG28 -> 0 | AI28: =+'CANTIDADES DE OBRA'!EV214 -> 0 | AJ28: =$D$28*AI28 -> 0 | AK28: =+'CANTIDADES DE OBRA'!FE214 -> 0 | AL28: =$D$28*AK28 -> 0 | AM28: =+'CANTIDADES DE OBRA'!FN214 -> 0 | AN28: =$D$28*AM28 -> 0 | AO28: =+'CANTIDADES DE OBRA'!FW214 -> 0 | AP28: =$D$28*AO28 -> 0 | AQ28: =+'CANTIDADES DE OBRA'!GF214 -> 0 | AR28: =$D$28*AQ28 -> 0 | AS28: =+'CANTIDADES DE OBRA'!GO214 -> 0 | AT28: =$D$28*AS28 -> 0 | AU28: =+'CANTIDADES DE OBRA'!GX214 -> 0 | AV28: =$D$28*AU28 -> 0 | AW28: =+'CANTIDADES DE OBRA'!HG214 -> 0 | AX28: =$D$28*AW28 -> 0 | AY28: =+'CANTIDADES DE OBRA'!HP214 -> 0 | AZ28: =$D$28*AY28 -> 0 | BA28: =+'CANTIDADES DE OBRA'!HY214 -> 0 | BB28: =$D$28*BA28 -> 0 | BC28: =+'CANTIDADES DE OBRA'!IH214 -> 0 | BD28: =$D$28*BC28 -> 0 | BE28: =+'CANTIDADES DE OBRA'!IQ214 -> 0 | BF28: =$D$28*BE28 -> 0 | BG28: =+'CANTIDADES DE OBRA'!IZ214 -> 0 | BH28: =$D$28*BG28 -> 0 | BI28: =+'CANTIDADES DE OBRA'!JI214 -> 0 | BJ28: =$D$28*BI28 -> 0 | BK28: =+'CANTIDADES DE OBRA'!JR214 -> 0 | BL28: =$D$28*BK28 -> 0 | BM28: =+'CANTIDADES DE OBRA'!KA214 -> 0 | BN28: =$D$28*BM28 -> 0 | BO28: =+'CANTIDADES DE OBRA'!KJ214 -> 0 | BP28: =$D$28*BO28 -> 0 | BQ28: =+'CANTIDADES DE OBRA'!KS214 -> 0 | BR28: =$D$28*BQ28 -> 0 | BS28: =+'CANTIDADES DE OBRA'!LB214 -> 0 | BT28: =$D$28*BS28 -> 0 | BU28: =+'CANTIDADES DE OBRA'!LK214 -> 0 | BV28: =$D$28*BU28 -> 0 | BW28: =+'CANTIDADES DE OBRA'!LT214 -> 0 | BX28: =$D$28*BW28 -> 0 | BY28: =+'CANTIDADES DE OBRA'!MC214 -> 0 | BZ28: =$D$28*BY28 -> 0 | CA28: =+'CANTIDADES DE OBRA'!ML214 -> 0 | CB28: =$D$28*CA28 -> 0 | CC28: =+'CANTIDADES DE OBRA'!MU214 -> 0 | CD28: =$D$28*CC28 -> 0 | CE28: =+'CANTIDADES DE OBRA'!ND214 -> 0 | CF28: =$D$28*CE28 -> 0 | CG28: =+'CANTIDADES DE OBRA'!NM214 -> 0 | CH28: =$D$28*CG28 -> 0 | CI28: =+'CANTIDADES DE OBRA'!NV214 -> 0 | CJ28: =$D$28*CI28 -> 0 | CK28: =+'CANTIDADES DE OBRA'!OE214 -> 0 | CL28: =$D$28*CK28 -> 0 | CM28: =+'CANTIDADES DE OBRA'!ON214 -> 0 | CN28: =$D$28*CM28 -> 0 | CO28: =+'CANTIDADES DE OBRA'!OW214 -> 0 | CP28: =$D$28*CO28 -> 0 | CQ28: =+'CANTIDADES DE OBRA'!PF214 -> 0 | CR28: =$D$28*CQ28 -> 0 | CS28: =E28+G28+I28+K28+M28+O28+Q28+S28+U28+W28+Y28+AA28+AC28+AE28+AG28+AI28+AK28+AM28+AO28+AQ28+AS28+AU28+AW28+AY28+BA28+BC28+BE28+BG28+BI28+BK28+BM28+BO28+BQ28+BS28+BU28+BW28+BY28+CA28+CC28+CE28+CG28+CI28+CK28+CM28+CO28+CQ28 -> 0 | CT28: =CS28*D28 -> 0
A29: =+APU!A109 -> 04 | B29: =+APU!B109 -> ACERO DE REFUERZO | CU29: =CT30 -> 0 | CV29: =ROUND(CU29,0) -> 0
A30: 04-01. | B30: ACERO DE REFUERZO PARA ESTRUCTURAS | F30: =SUM(F31) -> 0 | H30: =SUM(H31) -> 0 | J30: =SUM(J31) -> 0 | L30: =SUM(L31) -> 0 | N30: =SUM(N31) -> 0 | P30: =SUM(P31) -> 0 | R30: =SUM(R31) -> 0 | T30: =SUM(T31) -> 0 | V30: =SUM(V31) -> 0 | X30: =SUM(X31) -> 0 | Z30: =SUM(Z31) -> 0 | AB30: =SUM(AB31) -> 0 | AD30: =SUM(AD31) -> 0 | AF30: =SUM(AF31) -> 0 | AH30: =SUM(AH31) -> 0 | AJ30: =SUM(AJ31) -> 0 | AL30: =SUM(AL31) -> 0 | AN30: =SUM(AN31) -> 0 | AP30: =SUM(AP31) -> 0 | AR30: =SUM(AR31) -> 0 | AT30: =SUM(AT31) -> 0 | AV30: =SUM(AV31) -> 0 | AX30: =SUM(AX31) -> 0 | AZ30: =SUM(AZ31) -> 0 | BB30: =SUM(BB31) -> 0 | BD30: =SUM(BD31) -> 0 | BF30: =SUM(BF31) -> 0 | BH30: =SUM(BH31) -> 0 | BJ30: =SUM(BJ31) -> 0 | BL30: =SUM(BL31) -> 0 | BN30: =SUM(BN31) -> 0 | BP30: =SUM(BP31) -> 0 | BR30: =SUM(BR31) -> 0 | BT30: =SUM(BT31) -> 0 | BV30: =SUM(BV31) -> 0 | BX30: =SUM(BX31) -> 0 | BZ30: =SUM(BZ31) -> 0 | CB30: =SUM(CB31) -> 0 | CD30: =SUM(CD31) -> 0 | CF30: =SUM(CF31) -> 0 | CH30: =SUM(CH31) -> 0 | CJ30: =SUM(CJ31) -> 0 | CL30: =SUM(CL31) -> 0 | CN30: =SUM(CN31) -> 0 | CP30: =SUM(CP31) -> 0 | CR30: =SUM(CR31) -> 0 | CT30: =SUM(CT31) -> 0
