Workbook

Sheet REQ. HABILITANTES
B2: PROCESO No. FDLT-CMA-005-2018
B4: VERIFICACIÓN DE REQUISITOS HABILITANTES
B5: N° | C5: PROPONENTE | D5: ANEXO 05 EXPERIENCIA DEL PROPONENTE | E5: OBSERVACIONES
B7: 1 | C7: ALCALA Y ESPINOSA | D7: HABIL | E7: N.A.
B8: 2 | C8: ANGGY NICOLS ACOSTA VELA | D8: HABIL | E8: N.A.
B9: 3 | C9: ARQUITECTURA MAS VERDE | D9: HABIL | E9: N.A.
B10: 4 | C10: CBC INGENIERIA | D10: HABIL | E10: N.A.
B11: 5 | C11: CIAR CONSTRUCTIRA SAS | D11: HABIL | E11: N.A.
B12: 6 | C12: CONSORCIO OBRAS 2018 | D12: HABIL | E12: N.A.
B13: 7 | C13: CONSORCIO COPE | D13: HABIL | E13: N.A.
B14: 8 | C14: CONSORCIO FAVA | D14: HABIL | E14: N.A.
B15: 9 | C15: CONSORCIO INCO 2017 | D15: HABIL | E15: N.A.
B16: 10 | C16: CONSORCIO INFRAESTRUCTURA BIOMIT 2018 | D16: HABIL | E16: N.A.
B17: 11 | C17: CONSORCIO J3 | D17: HABIL | E17: N.A.
B18: 12 | C18: CONSORCIO LOCALIDADES | D18: HABIL | E18: N.A.
... B31: 25 | C31: SYOC CONSTRUCCIÓN SAS | D31: HABIL | E31: N.A.

Sheet VERIF. FORMATOS- ANEXOS
B2: PROCESO No. FDLT-CMA-005-2018
B4: VERIFICACIÓN FORMATOS Y ANEXOS
B5: N° | C5: PROPONENTE | D5: ANEXO 06 EXPERIENCIA ESPECIFICA PROPONENTE | E5: 07 ACUERDOS DE NIVELES DE SERV. | F5: PONDERACION
F6: FORMATO 5.1.1 FACTOR CALIDAD DEL PROPONENTE | G6: ANEXO INCENTIVO A LA INDUSTRIA NACIONAL
B7: 1 | C7: ALCALA Y ESPINOSA | D7: CUMPLE | E7: CUMPLE | F7: CUMPLE | G7: CUMPLE
B8: 2 | C8: ANGGY NICOLS ACOSTA VELA | D8: CUMPLE | E8: CUMPLE | F8: CUMPLE | G8: CUMPLE
B9: 3 | C9: ARQUITECTURA MAS VERDE | D9: CUMPLE | E9: CUMPLE | F9: CUMPLE | G9: CUMPLE
B10: 4 | C10: CBC INGENIERIA | D10: CUMPLE | E10: CUMPLE | F10: CUMPLE | G10: CUMPLE
B11: 5 | C11: CIAR CONSTRUCTIRA SAS | D11: CUMPLE | E11: CUMPLE | F11: CUMPLE | G11: CUMPLE
B12: 6 | C12: CONSORCIO OBRAS 2018 | D12: CUMPLE | E12: CUMPLE | F12: CUMPLE | G12: CUMPLE
B13: 7 | C13: CONSORCIO COPE | D13: CUMPLE | E13: CUMPLE | F13: CUMPLE | G13: CUMPLE
B14: 8 | C14: CONSORCIO FAVA | D14: CUMPLE | E14: CUMPLE | F14: CUMPLE | G14: CUMPLE
B15: 9 | C15: CONSORCIO INCO 2017 | D15: CUMPLE | E15: CUMPLE | F15: CUMPLE | G15: CUMPLE
B16: 10 | C16: CONSORCIO INFRAESTRUCTURA BIOMIT 2018 | D16: CUMPLE | E16: CUMPLE | F16: CUMPLE | G16: CUMPLE
B17: 11 | C17: CONSORCIO J3 | D17: CUMPLE | E17: CUMPLE | F17: CUMPLE | G17: CUMPLE
B18: 12 | C18: CONSORCIO LOCALIDADES | D18: CUMPLE | E18: CUMPLE | F18: CUMPLE | G18: CUMPLE
... B29: 25 | C29: SYOC CONSTRUCCIÓN SAS | D29: CUMPLE | E29: CUMPLE | F29: CUMPLE | G29: CUMPLE

Sheet PONDERACION FACTOR TECNICO
A2: FDLT-SAMC-008-2018
A4: PROPONENTE | B4: ='VERIF. FORMATOS- ANEXOS'!C7 -> ALCALA Y ESPINOSA
A5: CARGO | B5: EXPERIENCIA SOLICITADA | C5: CUMPLE/NO CUMPLE | D5: PUNTAJE | E5: OBSERVACIÓN
A6: Un (1) RESIDENTE DE OBRA Dedicación Obra 80% | B6: Profesión: Ingeniero Civil o Arquitecto Especialización: Posgrado en cualquier área de la Ingeniería Experiencia general: con experiencia mínima de ocho (8) años certificados, contados a partir de la expedición de la tarjeta profesional Experiencia especifica: Acreditar como mínimo tres (3) proyectos Como residente de Obra en contratos que tengan por objeto construcción y/o mantenimiento y/o mejoramiento y/o adecuación de edificaciones, cuya sumatoria del contrato de obra del cual fue Residente sea igual o mayor al presupuesto oficial. | C6: CUMPLE | D6: 5
A7: TOTAL | D7: =SUM(D6) -> 5
A11: FDLT-SAMC-008-2018
A13: PROPONENTE | B13: ='VERIF. FORMATOS- ANEXOS'!C8 -> ANGGY NICOLS ACOSTA VELA
A14: CARGO | B14: EXPERIENCIA SOLICITADA | C14: CUMPLE/NO CUMPLE | D14: PUNTAJE | E14: OBSERVACIÓN
A15: Un (1) RESIDENTE DE OBRA Dedicación Obra 80% | B15: Profesión: Ingeniero Civil o Arquitecto Especialización: Posgrado en cualquier área de la Ingeniería Experiencia general: con experiencia mínima de ocho (8) años certificados, contados a partir de la expedición de la tarjeta profesional Experiencia especifica: Acreditar como mínimo tres (3) proyectos Como residente de Obra en contratos que tengan por objeto construcción y/o mantenimiento y/o mejoramiento y/o adecuación de edificaciones, cuya sumatoria del contrato de obra del cual fue Residente sea igual o mayor al presupuesto oficial. | C15: CUMPLE | D15: 5
A16: TOTAL | D16: =SUM(D15) -> 5
A20: FDLT-SAMC-008-2018
A22: PROPONENTE | B22: ='VERIF. FORMATOS- ANEXOS'!C9 -> ARQUITECTURA MAS VERDE
A23: CARGO | B23: EXPERIENCIA SOLICITADA | C23: CUMPLE/NO CUMPLE | D23: PUNTAJE | E23: OBSERVACIÓN
A24: Un (1) RESIDENTE DE OBRA Dedicación Obra 80% | B24: Profesión: Ingeniero Civil o Arquitecto Especialización: Posgrado en cualquier área de la Ingeniería Experiencia general: con experiencia mínima de ocho (8) años certificados, contados a partir de la expedición de la tarjeta profesional Experiencia especifica: Acreditar como mínimo tres (3) proyectos Como residente de Obra en contratos que tengan por objeto construcción y/o mantenimiento y/o mejoramiento y/o adecuación de edificaciones, cuya sumatoria del contrato de obra del cual fue Residente sea igual o mayor al presupuesto oficial. | C24: NO CUMPLE | D24: 0 | E24: No aporta las tres certificaciones que avalen su funcion como INGENIERO RESIDENTE.
A25: TOTAL | D25: =SUM(D24) -> 0
A29: FDLT-SAMC-008-2018
A31: PROPONENTE | B31: ='VERIF. FORMATOS- ANEXOS'!C10 -> CBC INGENIERIA
A32: CARGO | B32: EXPERIENCIA SOLICITADA | C32: CUMPLE/NO CUMPLE | D32: PUNTAJE | E32: OBSERVACIÓN
A33: Un (1) RESIDENTE DE OBRA Dedicación Obra 80% | B33: Profesión: Ingeniero Civil o Arquitecto Especialización: Posgrado en cualquier área de la Ingeniería Experiencia general: con experiencia mínima de ocho (8) años certificados, contados a partir de la expedición de la tarjeta profesional Experiencia especifica: Acreditar como mínimo tres (3) proyectos Como residente de Obra en contratos que tengan por objeto construcción y/o mantenimiento y/o mejoramiento y/o adecuación de edificaciones, cuya sumatoria del contrato de obra del cual fue Residente sea igual o mayor al presupuesto oficial. | C33: CUMPLE | D33: 5
A34: TOTAL | D34: =SUM(D33) -> 5
A38: FDLT-SAMC-008-2018
A40: PROPONENTE | B40: ='VERIF. FORMATOS- ANEXOS'!C11 -> CIAR CONSTRUCTIRA SAS
A41: CARGO | B41: EXPERIENCIA SOLICITADA | C41: CUMPLE/NO CUMPLE | D41: PUNTAJE | E41: OBSERVACIÓN
A42: Un (1) RESIDENTE DE OBRA Dedicación Obra 80% | B42: Profesión: Ingeniero Civil o Arquitecto Especialización: Posgrado en cualquier área de la Ingeniería Experiencia general: con experiencia mínima de ocho (8) años certificados, contados a partir de la expedición de la tarjeta profesional Experiencia especifica: Acreditar como mínimo tres (3) proyectos Como residente de Obra en contratos que tengan por objeto construcción y/o mantenimiento y/o mejoramiento y/o adecuación de edificaciones, cuya sumatoria del contrato de obra del cual fue Residente sea igual o mayor al presupuesto oficial. | C42: CUMPLE | D42: 5
A43: TOTAL | D43: =SUM(D42) -> 5
A47: FDLT-SAMC-008-2018
A49: PROPONENTE | B49: ='VERIF. FORMATOS- ANEXOS'!C12 -> CONSORCIO OBRAS 2018
A50: CARGO | B50: EXPERIENCIA SOLICITADA | C50: CUMPLE/NO CUMPLE | D50: PUNTAJE | E50: OBSERVACIÓN
A51: Un (1) RESIDENTE DE OBRA Dedicación Obra 80% | B51: Profesión: Ingeniero Civil o Arquitecto Especialización: Posgrado en cualquier área de la Ingeniería Experiencia general: con experiencia mínima de ocho (8) años certificados, contados a partir de la expedición de la tarjeta profesional Experiencia especifica: Acreditar como mínimo tres (3) proyectos Como residente de Obra en contratos que tengan por objeto construcción y/o mantenimiento y/o mejoramiento y/o adecuación de edificaciones, cuya sumatoria del contrato de obra del cual fue Residente sea igual o mayor al presupuesto oficial. | C51: CUMPLE | D51: 5
A52: TOTAL | D52: =SUM(D51) -> 5
A56: FDLT-SAMC-008-2018
A58: PROPONENTE | B58: ='VERIF. FORMATOS- ANEXOS'!C13 -> CONSORCIO COPE
A59: CARGO | B59: EXPERIENCIA SOLICITADA | C59: CUMPLE/NO CUMPLE | D59: PUNTAJE | E59: OBSERVACIÓN
A60: Un (1) RESIDENTE DE OBRA Dedicación Obra 80% | B60: Profesión: Ingeniero Civil o Arquitecto Especialización: Posgrado en cualquier área de la Ingeniería Experiencia general: con experiencia mínima de ocho (8) años certificados, contados a partir de la expedición de la tarjeta profesional Experiencia especifica: Acreditar como mínimo tres (3) proyectos Como residente de Obra en contratos que tengan por objeto construcción y/o mantenimiento y/o mejoramiento y/o adecuación de edificaciones, cuya sumatoria del contrato de obra del cual fue Residente sea igual o mayor al presupuesto oficial. | C60: CUMPLE | D60: 5
A61: TOTAL | D61: =SUM(D60) -> 5
A65: FDLT-SAMC-008-2018
A67: PROPONENTE | B67: ='VERIF. FORMATOS- ANEXOS'!C14 -> CONSORCIO FAVA
A68: CARGO | B68: EXPERIENCIA SOLICITADA | C68: CUMPLE/NO CUMPLE | D68: PUNTAJE | E68: OBSERVACIÓN
A69: Un (1) RESIDENTE DE OBRA Dedicación Obra 80% | B69: Profesión: Ingeniero Civil o Arquitecto Especialización: Posgrado en cualquier área de la Ingeniería Experiencia general: con experiencia mínima de ocho (8) años certificados, contados a partir de la expedición de la tarjeta profesional Experiencia especifica: Acreditar como mínimo tres (3) proyectos Como residente de Obra en contratos que tengan por objeto construcción y/o mantenimiento y/o mejoramiento y/o adecuación de edificaciones, cuya sumatoria del contrato de obra del cual fue Residente sea igual o mayor al presupuesto oficial. | C69: NO CUMPLE | D69: 0 | E69: No aporta las tres certificaciones que avalen su funcion como INGENIERO RESIDENTE.
A70: TOTAL | D70: =SUM(D69) -> 0
...

Sheet PONDERACION PROPUESTAS
A1: PONDERACION DE LAS PROPUESTAS
A2: CRITERIOS DE EVALUACION
A3: No. | B3: PROPONENTES FDLT-SCMA-003-2018 | C3: INCENTIVO A LA INDUSTRIA NACIONAL MAX. 10 PUNTOS | D3: FORMATO 5.1.1 FACTOR CALIDAD DEL PROPONENTE MAX. 05 PTOS | E3: EVALUACIÓN FACTOR ECONÓMICO MAX. 85 PTOS | F3: PUNTAJE TOTAL
A6: 1 | B6: ='PONDERACION FACTOR TECNICO'!B4:E4 -> ALCALA Y ESPINOSA | C6: 10 | D6: ='PONDERACION FACTOR TECNICO'!D6 -> 5 | E6: 84.61 | F6: =SUM(C6:E6) -> 99.61
A7: 2 | B7: ='VERIF. FORMATOS- ANEXOS'!C8 -> ANGGY NICOLS ACOSTA VELA | C7: 10 | D7: ='PONDERACION FACTOR TECNICO'!D15 -> 5 | E7: 84.19 | F7: =SUM(C7:E7) -> 99.19
A8: 3 | B8: ='VERIF. FORMATOS- ANEXOS'!C9 -> ARQUITECTURA MAS VERDE | C8: 10 | D8: ='PONDERACION FACTOR TECNICO'!D25 -> 0 | E8: 84.85 | F8: =SUM(C8:E8) -> 94.85
A9: 4 | B9: ='VERIF. FORMATOS- ANEXOS'!C10 -> CBC INGENIERIA | C9: 10 | D9: ='PONDERACION FACTOR TECNICO'!D34 -> 5 | E9: 84.97 | F9: =SUM(C9:E9) -> 99.97
A10: 6 | B10: ='VERIF. FORMATOS- ANEXOS'!C12 -> CONSORCIO OBRAS 2018 | C10: 10 | D10: ='PONDERACION FACTOR TECNICO'!D52 -> 5 | E10: 84.7 | F10: =SUM(C10:E10) -> 99.7
A11: 8 | B11: ='VERIF. FORMATOS- ANEXOS'!C14 -> CONSORCIO FAVA | C11: 10 | D11: ='PONDERACION FACTOR TECNICO'!D70 -> 0 | E11: 83.94 | F11: =SUM(C11:E11) -> 93.94
A12: 10 | B12: ='VERIF. FORMATOS- ANEXOS'!C16 -> CONSORCIO INFRAESTRUCTURA BIOMIT 2018 | C12: 10 | D12: ='PONDERACION FACTOR TECNICO'!D88 -> 5 | E12: 84.84 | F12: =SUM(C12:E12) -> 99.84
A13: 11 | B13: ='VERIF. FORMATOS- ANEXOS'!C17 -> CONSORCIO J3 | C13: 10 | D13: ='PONDERACION FACTOR TECNICO'!D97 -> 0 | E13: 84.92 | F13: =SUM(C13:E13) -> 94.92
A14: 12 | B14: ='VERIF. FORMATOS- ANEXOS'!C18 -> CONSORCIO LOCALIDADES | C14: 10 | D14: ='PONDERACION FACTOR TECNICO'!D106 -> 5 | E14: 84.65 | F14: =SUM(C14:E14) -> 99.65
A15: 16 | B15: ='VERIF. FORMATOS- ANEXOS'!C21 -> INARDEX | C15: 10 | D15: ='PONDERACION FACTOR TECNICO'!D133 -> 0 | E15: 83.63 | F15: =SUM(C15:E15) -> 93.63
A16: 17 | B16: ='VERIF. FORMATOS- ANEXOS'!C22 -> INCIVILES SAS | C16: 10 | D16: ='PONDERACION FACTOR TECNICO'!D142 -> 5 | E16: 84.56 | F16: =SUM(C16:E16) -> 99.56
A17: 18 | B17: ='VERIF. FORMATOS- ANEXOS'!C23 -> ING GAMMA SAS | C17: 10 | D17: ='PONDERACION FACTOR TECNICO'!D151 -> 5 | E17: 84.87 | F17: =SUM(C17:E17) -> 99.87
A18: 19 | B18: ='VERIF. FORMATOS- ANEXOS'!C24 -> IPEMO | C18: 10 | D18: ='PONDERACION FACTOR TECNICO'!D160 -> 5 | E18: 85 | F18: =SUM(C18:E18) -> 100
A19: 21 | B19: ='VERIF. FORMATOS- ANEXOS'!C26 -> QUATTRO PROYECTOS E INVERSIONES SAS | C19: 10 | D19: ='PONDERACION FACTOR TECNICO'!D178 -> 5 | E19: 83.79 | F19: =SUM(C19:E19) -> 98.79
A20: 22 | B20: ='VERIF. FORMATOS- ANEXOS'!C27 -> RAYCO LTDA | C20: 10 | D20: ='PONDERACION FACTOR TECNICO'!D187 -> 5 | E20: 84.73 | F20: =SUM(C20:E20) -> 99.73
A21: 24 | B21: ='VERIF. FORMATOS- ANEXOS'!C28 -> SICOL SAS | C21: 10 | D21: ='PONDERACION FACTOR TECNICO'!D196 -> 5 | E21: 84.77 | F21: =SUM(C21:E21) -> 99.77
A22: 25 | B22: ='VERIF. FORMATOS- ANEXOS'!C29 -> SYOC CONSTRUCCIÓN SAS | C22: 10 | D22: ='PONDERACION FACTOR TECNICO'!D205 -> 5 | E22: 84.8 | F22: =SUM(C22:E22) -> 99.8
A24: QUIEN REALIZA LA VERIFICACIÒN | C24: JAVIER FRANCISCO RUBIO GUARIN/ DIEGO ARMANDO POSADA
