Workbook
Name Adm: #REF!
Name Adm: [1]PRESUPUESTO!$F$99
Name Adm: [1]PRESUPUESTO!$F$99
Name Imprev: #REF!
Name Imprev: [1]PRESUPUESTO!$F$100
Name Imprev: [1]PRESUPUESTO!$F$100
Name IvaSUtl: #REF!
Name IvaSUtl: [1]PRESUPUESTO!$F$103
Name IvaSUtl: [1]PRESUPUESTO!$F$103
Name SbtPpto: #REF!
Name SbtPpto: [1]PRESUPUESTO!$G$70
Name SbtPpto: [1]PRESUPUESTO!$G$70
Name TtlCD: #REF!
Name TtlCD: [1]PRESUPUESTO!$G$98
Name TtlCD: [1]PRESUPUESTO!$G$98
Name Utilidad: #REF!
Name Utilidad: [1]PRESUPUESTO!$F$101
Name Utilidad: [1]PRESUPUESTO!$F$101

Sheet Mercado
A1: AERONAUTICA CIVIL- REGIONAL OCCIDENTE
A3: Estudio de Mercado
A4: 23500C1214 MEJORAMIENTO Y MANTENIMIENTO INFRAESTRUCTURA AEROPUERTO JUAN CASIANO SOLIS DE GUAPI”
A7: ITEM | B7: Cod | C7: DESCRIPCION | D7: UND | E7: CANT | F7: VR UNITARIO | G7: IPC | H7: VALOR UNITARIO CON IPC 2022 | I7: FID -GPI | J7: VR Unitaro F | K7: VR TOTAL
G8: 0.0562 | I8: 0.35
A9: 1 | C9: TORRE
A10: =A9+0.01 -> 1.01 | B10: 100418 | C10: RETIRO MANTO IMPERM.-BREA-ALQUITRAN-XX | D10: M2 | E10: =+'Memorias de Cantidades'!K20 -> 137 | F10: 7864 | G10: =+F10*$G$8 -> 441.9568 | H10: =+F10+G10 -> 8305.9568 | I10: =+H10*$I$8 -> 2907.0849 | J10: =ROUND(H10+I10,2) -> 11213.04 | K10: =ROUND(E10*J10,2) -> 1536186.5
A11: =A10+0.01 -> 1.02 | B11: 180310 | C11: IMPERM.MANTO 500XT-FOIL ALUMINIO | D11: M2 | E11: =+'Memorias de Cantidades'!K32 -> 137 | F11: 45061 | G11: =+F11*$G$8 -> 2532.4282 | H11: =+F11+G11 -> 47593.428 | I11: =+H11*$I$8 -> 16657.7 | J11: =ROUND(H11+I11,2) -> 64251.13 | K11: =ROUND(E11*J11,2) -> 8802404.8
A12: =A11+0.01 -> 1.03 | B12: 320803 | C12: IMPRIMANTE ASFALTICO | D12: KLS | E12: =+'Memorias de Cantidades'!L44 -> 14 | F12: 13500 | G12: =+F12*$G$8 -> 758.7 | H12: =+F12+G12 -> 14258.7 | I12: =+H12*$I$8 -> 4990.545 | J12: =ROUND(H12+I12,2) -> 19249.25 | K12: =ROUND(E12*J12,2) -> 269489.5
A13: =A12+0.01 -> 1.04 | B13: 290426 | C13: PASAMANOS METALICO TUBULAR-REDONDO | D13: ML | E13: =+'Memorias de Cantidades'!J56 -> 251 | F13: 18120 | G13: =+F13*$G$8 -> 1018.344 | H13: =+F13+G13 -> 19138.344 | I13: =+H13*$I$8 -> 6698.4204 | J13: =ROUND(H13+I13,2) -> 25836.76 | K13: =ROUND(E13*J13,2) -> 6485026.8
A14: =A13+0.01 -> 1.05 | B14: 100531 | C14: DESM.DIVISION PANEL LAMINA YESO-BOARD | D14: M2 | E14: =+'Memorias de Cantidades'!K68 -> 30 | F14: 8150 | G14: =+F14*$G$8 -> 458.03 | H14: =+F14+G14 -> 8608.03 | I14: =+H14*$I$8 -> 3012.8105 | J14: =ROUND(H14+I14,2) -> 11620.84 | K14: =ROUND(E14*J14,2) -> 348625.2
A15: =A14+0.01 -> 1.06 | B15: 180435 | C15: C.F.LAMINA BOARD 1214x605x4MM P.ALUMINIO | D15: M2 | E15: =+'Memorias de Cantidades'!K80 -> 30 | F15: 43235 | G15: =+F15*$G$8 -> 2429.807 | H15: =+F15+G15 -> 45664.807 | I15: =+H15*$I$8 -> 15982.682 | J15: =ROUND(H15+I15,2) -> 61647.49 | K15: =ROUND(E15*J15,2) -> 1849424.7
A16: =A15+0.01 -> 1.07 | B16: APU-001 | C16: MANTENIMIENTO VENTANA EN CELOCIA EN ALUMINIO | D16: M2 | E16: =+'Memorias de Cantidades'!K92 -> 72 | F16: =+Apus!G104 -> 60650.4 | G16: =+F16*$G$8 -> 3408.5525 | H16: =+F16+G16 -> 64058.952 | I16: =+H16*$I$8 -> 22420.633 | J16: =ROUND(H16+I16,2) -> 86479.59 | K16: =ROUND(E16*J16,2) -> 6226530.5
A17: =A16+0.01 -> 1.08 | B17: 330135 | C17: ANDAMIO METALICO TUBULAR | D17: U/D | E17: =+'Memorias de Cantidades'!L104 -> 450 | F17: 1100 | G17: =+F17*$G$8 -> 61.82 | H17: =+F17+G17 -> 1161.82 | I17: =+H17*$I$8 -> 406.637 | J17: =ROUND(H17+I17,2) -> 1568.46 | K17: =ROUND(E17*J17,2) -> 705807
A18: =A17+0.01 -> 1.09 | B18: 290115 | C18: RASQUETEADA-LIJADA-RESANE | D18: M2 | E18: =+'Memorias de Cantidades'!K116 -> 300 | F18: 1836 | G18: =+F18*$G$8 -> 103.1832 | H18: =+F18+G18 -> 1939.1832 | I18: =+H18*$I$8 -> 678.71412 | J18: =ROUND(H18+I18,2) -> 2617.9 | K18: =ROUND(E18*J18,2) -> 785370
A19: =A18+0.01 -> 1.1 | B19: 291003 | C19: ESGRAFIADO SOBRE RESANES | D19: M2 | E19: =+'Memorias de Cantidades'!K128 -> 300 | F19: 10859 | G19: =+F19*$G$8 -> 610.2758 | H19: =+F19+G19 -> 11469.276 | I19: =+H19*$I$8 -> 4014.2465 | J19: =ROUND(H19+I19,2) -> 15483.52 | K19: =ROUND(E19*J19,2) -> 4645056
A20: =A19+0.01 -> 1.11 | B20: 290503 | C20: REPELENTE DE AGUA IMPERM | D20: M2 | E20: =+'Memorias de Cantidades'!K140 -> 300 | F20: 7373 | G20: =+F20*$G$8 -> 414.3626 | H20: =+F20+G20 -> 7787.3626 | I20: =+H20*$I$8 -> 2725.5769 | J20: =ROUND(H20+I20,2) -> 10512.94 | K20: =ROUND(E20*J20,2) -> 3153882
A21: =A20+0.01 -> 1.12 | B21: 290307 | C21: VINILO CIELO TIPO 1 [3M] | D21: M2 | E21: =+'Memorias de Cantidades'!K152 -> 300 | F21: 9920 | G21: =+F21*$G$8 -> 557.504 | H21: =+F21+G21 -> 10477.504 | I21: =+H21*$I$8 -> 3667.1264 | J21: =ROUND(H21+I21,2) -> 14144.63 | K21: =ROUND(E21*J21,2) -> 4243389
A22: =A21+0.01 -> 1.13 | B22: 100622 | C22: RETIRO DE SALDOS EN SITIO | D22: M3 | E22: =+'Memorias de Cantidades'!L164 -> 165 | F22: 7156 | G22: =+F22*$G$8 -> 402.1672 | H22: =+F22+G22 -> 7558.1672 | I22: =+H22*$I$8 -> 2645.3585 | J22: =ROUND(H22+I22,2) -> 10203.53 | K22: =ROUND(E22*J22,2) -> 1683582.4
A23: =A22+0.01 -> 1.14 | B23: 270107 | C23: CERRADURA YALE ENTRADA PPAL.REF.5316 | D23: UND | E23: =+'Memorias de Cantidades'!I176 -> 2 | F23: 60318 | G23: =+F23*$G$8 -> 3389.8716 | H23: =+F23+G23 -> 63707.872 | I23: =+H23*$I$8 -> 22297.755 | J23: =ROUND(H23+I23,2) -> 86005.63 | K23: =ROUND(E23*J23,2) -> 172011.26
A24: =A23+0.01 -> 1.15 | B24: APU-002 | C24: SUMINISTRO E INSTALACION DE TIMBRE | D24: UND | E24: =+'Memorias de Cantidades'!I188 -> 3 | F24: =+Apus!G210 -> 82817.5 | G24: =+F24*$G$8 -> 4654.3435 | H24: =+F24+G24 -> 87471.844 | I24: =+H24*$I$8 -> 30615.145 | J24: =ROUND(H24+I24,2) -> 118086.99 | K24: =ROUND(E24*J24,2) -> 354260.97
A25: =A24+0.01 -> 1.16 | B25: 100112 | C25: LIMPIEZA DESMONTE ASEO | D25: M2 | E25: =+'Memorias de Cantidades'!K200 -> 186 | F25: 2536 | G25: =+F25*$G$8 -> 142.5232 | H25: =+F25+G25 -> 2678.5232 | I25: =+H25*$I$8 -> 937.48312 | J25: =ROUND(H25+I25,2) -> 3616.01 | K25: =ROUND(E25*J25,2) -> 672577.86
A26: =A25+0.01 -> 1.17 | B26: 260116 | C26: VIDRIO LAMINADO INCOLORO 6 MM | D26: M2 | E26: =+'Memorias de Cantidades'!K212 -> 18 | F26: 165899 | G26: =+F26*$G$8 -> 9323.5238 | H26: =+F26+G26 -> 175222.52 | I26: =+H26*$I$8 -> 61327.883 | J26: =ROUND(H26+I26,2) -> 236550.41 | K26: =ROUND(E26*J26,2) -> 4257907.4
A27: =A26+0.01 -> 1.18 | B27: 250522 | C27: MEZCLADOR DUCHA LINEA MEDIA | D27: UND | E27: =+'Memorias de Cantidades'!I224 -> 1 | F27: 101399 | G27: =+F27*$G$8 -> 5698.6238 | H27: =+F27+G27 -> 107097.62 | I27: =+H27*$I$8 -> 37484.168 | J27: =ROUND(H27+I27,2) -> 144581.79 | K27: =ROUND(E27*J27,2) -> 144581.79
A28: =A27+0.01 -> 1.19 | B28: 250506 | C28: GRIFERIA HIDROSTATICA TANQUE SANITARIO | D28: UND | E28: =+'Memorias de Cantidades'!I236 -> 1 | F28: 63864 | G28: =+F28*$G$8 -> 3589.1568 | H28: =+F28+G28 -> 67453.157 | I28: =+H28*$I$8 -> 23608.605 | J28: =ROUND(H28+I28,2) -> 91061.76 | K28: =ROUND(E28*J28,2) -> 91061.76
A29: =A28+0.01 -> 1.2 | B29: 240208 | C29: DIV.ANGEO FIBRA ALUMINIO LIVIANO [-X] | D29: M2 | E29: =+'Memorias de Cantidades'!K248 -> 72 | F29: 75132 | G29: =+F29*$G$8 -> 4222.4184 | H29: =+F29+G29 -> 79354.418 | I29: =+H29*$I$8 -> 27774.046 | J29: =ROUND(H29+I29,2) -> 107128.46 | K29: =ROUND(E29*J29,2) -> 7713249.1
A30: =A29+0.01 -> 1.21 | B30: 250114 | C30: KIT ACCESORIOS BANO METAL CROMO 6P MED | D30: JGO | E30: =+'Memorias de Cantidades'!I260 -> 1 | F30: 201116 | G30: =+F30*$G$8 -> 11302.719 | H30: =+F30+G30 -> 212418.72 | I30: =+H30*$I$8 -> 74346.552 | J30: =ROUND(H30+I30,2) -> 286765.27 | K30: =ROUND(E30*J30,2) -> 286765.27
A31: =A30+0.01 -> 1.22 | B31: 260202 | C31: ESPEJO CLARO DE 4 MM | D31: M2 | E31: =+'Memorias de Cantidades'!K272 -> 2 | F31: 73009 | G31: =+F31*$G$8 -> 4103.1058 | H31: =+F31+G31 -> 77112.106 | I31: =+H31*$I$8 -> 26989.237 | J31: =ROUND(H31+I31,2) -> 104101.34 | K31: =ROUND(E31*J31,2) -> 208202.68
A32: =A31+0.01 -> 1.23 | B32: 260402 | C32: PELICULA CONTROL SOLAR-POLARIZADO | D32: M2 | E32: =+'Memorias de Cantidades'!K284 -> 18 | F32: 99344 | G32: =+F32*$G$8 -> 5583.1328 | H32: =+F32+G32 -> 104927.13 | I32: =+H32*$I$8 -> 36724.496 | J32: =ROUND(H32+I32,2) -> 141651.63 | K32: =ROUND(E32*J32,2) -> 2549729.3
A33: =A32+0.01 -> 1.24 | B33: 200818 | C33: GUARDAESCOBA CEDRO 8CM | D33: ML | E33: =+'Memorias de Cantidades'!J296 -> 40 | F33: 14132 | G33: =+F33*$G$8 -> 794.2184 | H33: =+F33+G33 -> 14926.218 | I33: =+H33*$I$8 -> 5224.1764 | J33: =ROUND(H33+I33,2) -> 20150.39 | K33: =ROUND(E33*J33,2) -> 806015.6
A34: =A33+0.01 -> 1.25 | B34: APU-003 | C34: CAMBIO RIEL PUERTA - VENTANA -SIMILAR-GUIA EXTENSION | D34: UND | E34: =+'Memorias de Cantidades'!I308 -> 5 | F34: =+Apus!G338 -> 92418.9 | G34: =+F34*$G$8 -> 5193.9422 | H34: =+F34+G34 -> 97612.842 | I34: =+H34*$I$8 -> 34164.495 | J34: =ROUND(H34+I34,2) -> 131777.34 | K34: =ROUND(E34*J34,2) -> 658886.7
A35: =A34+0.01 -> 1.26 | B35: APU-004 | C35: SUMINISTRO E INSTALACION DE CITOFONO CON CAMARA | D35: UND | E35: =+'Memorias de Cantidades'!I320 -> 1 | F35: =+Apus!G361 -> 758327.5 | G35: =+F35*$G$8 -> 42618.005 | H35: =+F35+G35 -> 800945.51 | I35: =+H35*$I$8 -> 280330.93 | J35: =ROUND(H35+I35,2) -> 1081276.4 | K35: =ROUND(E35*J35,2) -> 1081276.4
A36: =A35+0.01 -> 1.27 | B36: APU-005 | C36: SUMINISTRO E INSTALACION DE CHAPA CON APERTURA REMOTA | D36: UND | E36: =+'Memorias de Cantidades'!I332 -> 1 | F36: =+Apus!G384 -> 968327.5 | G36: =+F36*$G$8 -> 54420.005 | H36: =+F36+G36 -> 1022747.5 | I36: =+H36*$I$8 -> 357961.63 | J36: =ROUND(H36+I36,2) -> 1380709.1 | K36: =ROUND(E36*J36,2) -> 1380709.1
A37: =A36+0.01 -> 1.28 | B37: 300204 | C37: CORTE PRADO MANUAL Y CONTROL MALEZA | D37: M2 | E37: =+'Memorias de Cantidades'!K344 -> 2000 | F37: 240 | G37: =+F37*$G$8 -> 13.488 | H37: =+F37+G37 -> 253.488 | I37: =+H37*$I$8 -> 88.7208 | J37: =ROUND(H37+I37,2) -> 342.21 | K37: =ROUND(E37*J37,2) -> 684420
A38: =A37+0.01 -> 1.29 | B38: 100116 | C38: RETIRO PRADO - MALEZA | D38: M2 | E38: =+'Memorias de Cantidades'!K356 -> 2000 | F38: 1342 | G38: =+F38*$G$8 -> 75.4204 | H38: =+F38+G38 -> 1417.4204 | I38: =+H38*$I$8 -> 496.09714 | J38: =ROUND(H38+I38,2) -> 1913.52 | K38: =ROUND(E38*J38,2) -> 3827040
A39: =A38+0.01 -> 1.3 | B39: 100602 | C39: EXCAVACION TIERRA CONGLOMERADO | D39: M3 | E39: =+'Memorias de Cantidades'!K368 -> 36 | F39: 20983 | G39: =+F39*$G$8 -> 1179.2446 | H39: =+F39+G39 -> 22162.245 | I39: =+H39*$I$8 -> 7756.7856 | J39: =ROUND(H39+I39,2) -> 29919.03 | K39: =ROUND(E39*J39,2) -> 1077085.1
A40: =A39+0.01 -> 1.31 | B40: APU-006 | C40: RELLENO COMPACTADO CON BALASTRO DE RIO | D40: M3 | E40: =+'Memorias de Cantidades'!K380 -> 24 | F40: =+Apus!G439 -> 108579.73 | G40: =+F40*$G$8 -> 6102.1808 | H40: =+F40+G40 -> 114681.91 | I40: =+H40*$I$8 -> 40138.669 | J40: =ROUND(H40+I40,2) -> 154820.58 | K40: =ROUND(E40*J40,2) -> 3715693.9
A41: =A40+0.01 -> 1.32 | B41: 200132 | C41: ANDEN CONCRETO 10CM 3000 PSI | D41: M2 | E41: =+'Memorias de Cantidades'!K392 -> 120 | F41: 60232 | G41: =+F41*$G$8 -> 3385.0384 | H41: =+F41+G41 -> 63617.038 | I41: =+H41*$I$8 -> 22265.963 | J41: =ROUND(H41+I41,2) -> 85883 | K41: =ROUND(E41*J41,2) -> 10305960
A42: =A41+0.01 -> 1.33 | B42: 080522 | C42: SARDINEL EN CONCRETO 15X15 MAS HIERRO | D42: ML | E42: =+'Memorias de Cantidades'!K404 -> 100 | F42: 18909 | G42: =+F42*$G$8 -> 1062.6858 | H42: =+F42+G42 -> 19971.686 | I42: =+H42*$I$8 -> 6990.09 | J42: =ROUND(H42+I42,2) -> 26961.78 | K42: =ROUND(E42*J42,2) -> 2696178
A43: 2 | C43: TERMINAL
...

Sheet Memorias de Cantidades
D2: MEMORIA DE CANTIDADES DE OBRA
B7: =+Mercado!A4 -> 23500C1214 MEJORAMIENTO Y MANTENIMIENTO INFRAESTRUCTURA AEROPUERTO JUAN CASIANO SOLIS DE GUAPI”
G8: =+Mercado!C9 -> TORRE
B10: N° ITEM | C10: DESCRIPCIÓN | D10: UNIDAD | E10: DIMENSIONES | I10: TOTAL | M10: LOCALIZACIÓN
B11: =+Mercado!A10 -> 1.01 | C11: =+Mercado!C10 -> RETIRO MANTO IMPERM.-BREA-ALQUITRAN-XX | D11: =+Mercado!D10 -> M2 | E11: Ancho (M) | F11: Altura (M) | G11: Longitud (M) | H11: Descuento: | I11: Cant (Und) | J11: Long Total (ML) | K11: Area (M²) | L11: Volumen (M³) | M11: LUGAR
E12: 3 | G12: =3+3+3+4.5 -> 13.5 | I12: 1 | K12: =+E12*G12*I12 -> 40.5 | M12: Losa Terraza Tc - Externa
E13: 2 | G13: =3+3+3+4.5 -> 13.5 | I13: 1 | K13: =+E13*G13*I13 -> 27 | M13: Losa Pasillo Tc
E14: 3 | G14: 3.5 | I14: 2 | K14: =+E14*G14*I14 -> 21 | M14: Losa de escotilla
E15: 3 | G15: =3+3+3+4.5 -> 13.5 | I15: 1 | K15: =+E15*G15*I15 -> 40.5 | M15: Losa Terraza Tc - Interna
E16: 0.3 | G16: =3+3+3+4.5 -> 13.5 | I16: 1 | K16: =+E16*G16*I16 -> 4.05 | M16: Losa Frontal Perimetral
E17: 0.3 | G17: =3+3+3+4.5 -> 13.5 | I17: 1 | K17: =+E17*G17*I17 -> 4.05 | M17: Losa Frontal Pasillo
H20: TOTAL | K20: =ROUND(SUM(K12:K19),0) -> 137
B22: N° ITEM | C22: DESCRIPCIÓN | D22: UNIDAD | E22: DIMENSIONES | I22: TOTAL | M22: LOCALIZACIÓN
B23: =+Mercado!A11 -> 1.02 | C23: =+Mercado!C11 -> IMPERM.MANTO 500XT-FOIL ALUMINIO | D23: =+Mercado!D11 -> M2 | E23: Ancho (M) | F23: Altura (M) | G23: Longitud (M) | H23: Descuento: | I23: Cant (Und) | J23: Long Total (ML) | K23: Area (M²) | L23: Volumen (M³) | M23: LUGAR
E24: 3 | G24: =3+3+3+4.5 -> 13.5 | I24: 1 | K24: =+E24*G24*I24 -> 40.5 | M24: Losa Terraza Tc - Externa
E25: 2 | G25: =3+3+3+4.5 -> 13.5 | I25: 1 | K25: =+E25*G25*I25 -> 27 | M25: Losa Pasillo Tc
E26: 3 | G26: 3.5 | I26: 2 | K26: =+E26*G26*I26 -> 21 | M26: Losa de escotilla
E27: 3 | G27: =3+3+3+4.5 -> 13.5 | I27: 1 | K27: =+E27*G27*I27 -> 40.5 | M27: Losa Terraza Tc - Interna
E28: 0.3 | G28: =3+3+3+4.5 -> 13.5 | I28: 1 | K28: =+E28*G28*I28 -> 4.05 | M28: Losa Frontal Perimetral
E29: 0.3 | G29: =3+3+3+4.5 -> 13.5 | I29: 1 | K29: =+E29*G29*I29 -> 4.05 | M29: Losa Frontal Pasillo
H32: TOTAL | K32: =ROUND(SUM(K24:K31),0) -> 137
B34: N° ITEM | C34: DESCRIPCIÓN | D34: UNIDAD | E34: DIMENSIONES | I34: TOTAL | M34: LOCALIZACIÓN
B35: =+Mercado!A12 -> 1.03 | C35: =+Mercado!C12 -> IMPRIMANTE ASFALTICO | D35: =+Mercado!D12 -> KLS | E35: Ancho (M) | F35: Altura (M) | G35: Longitud (M) | H35: Descuento: | I35: Cant (Und) | J35: Long Total (ML) | K35: Area (M²) | L35: Kilos | M35: LUGAR
E36: 3 | G36: =3+3+3+4.5 -> 13.5 | I36: 1 | K36: =+E36*G36*I36 -> 40.5 | L36: =+K36*0.1 -> 4.05 | M36: Losa Terraza Tc - Externa
E37: 2 | G37: =3+3+3+4.5 -> 13.5 | I37: 1 | K37: =+E37*G37*I37 -> 27 | L37: =+K37*0.1 -> 2.7 | M37: Losa Pasillo Tc
E38: 3 | G38: 3.5 | I38: 2 | K38: =+E38*G38*I38 -> 21 | L38: =+K38*0.1 -> 2.1 | M38: Losa de escotilla
E39: 3 | G39: =3+3+3+4.5 -> 13.5 | I39: 1 | K39: =+E39*G39*I39 -> 40.5 | L39: =+K39*0.1 -> 4.05 | M39: Losa Terraza Tc - Interna
E40: 0.3 | G40: =3+3+3+4.5 -> 13.5 | I40: 1 | K40: =+E40*G40*I40 -> 4.05 | L40: =+K40*0.1 -> 0.405 | M40: Losa Frontal Perimetral
E41: 0.3 | G41: =3+3+3+4.5 -> 13.5 | I41: 1 | K41: =+E41*G41*I41 -> 4.05 | L41: =+K41*0.1 -> 0.405 | M41: Losa Frontal Pasillo
H44: TOTAL | L44: =ROUND(SUM(L36:L43),0) -> 14
B46: N° ITEM | C46: DESCRIPCIÓN | D46: UNIDAD | E46: DIMENSIONES | I46: TOTAL | M46: LOCALIZACIÓN
B47: =+Mercado!A13 -> 1.04 | C47: =+Mercado!C13 -> PASAMANOS METALICO TUBULAR-REDONDO | D47: =+Mercado!D13 -> ML | E47: Ancho (M) | F47: Altura (M) | G47: Longitud (M) | H47: Descuento: | I47: Cant (Und) | J47: Long Total (ML) | K47: Area (M²) | L47: Volumen (M³) | M47: LUGAR
G48: =6*5 -> 30 | I48: 3 | J48: =+G48*I48 -> 90 | M48: Terraza 1
G49: 1.2 | I49: =+G48/2 -> 15 | J49: =+G49*I49 -> 18 | M49: Terraza 1
G50: =3+3+2 -> 8 | I50: 3 | J50: =+G50*I50 -> 24 | M50: Losa de escotilla
G51: 1.2 | I51: =+G50/2 -> 4 | J51: =+G51*I51 -> 4.8 | M51: Losa de escotilla
G52: =6*5 -> 30 | I52: 3 | J52: =+G52*I52 -> 90 | M52: Terraza 2
G53: 1.2 | I53: =+G52/2 -> 15 | J53: =+G53*I53 -> 18 | M53: Terraza 3
G54: 2 | I54: 3 | J54: =+G54*I54 -> 6 | M54: Escalerilla
H56: TOTAL | J56: =ROUND(SUM(J48:J55),0) -> 251
...

Sheet Presupuesto
A1: AERONAUTICA CIVIL- REGIONAL OCCIDENTE
A3: Estudio de Mercado
A4: =+Mercado!A4 -> 23500C1214 MEJORAMIENTO Y MANTENIMIENTO INFRAESTRUCTURA AEROPUERTO JUAN CASIANO SOLIS DE GUAPI”
A7: ITEM | B7: Cod | C7: DESCRIPCION | D7: UND | E7: CANT | F7: VR Unitaro F | G7: VR TOTAL | J7: 1.31
A8: 1 | C8: TORRE
A9: =A8+0.01 -> 1.01 | B9: 100418 | C9: RETIRO MANTO IMPERM.-BREA-ALQUITRAN-XX | D9: M2 | E9: 137 | F9: =+I9 -> 11213.04 | G9: =ROUND(F9*E9,2) -> 1536186.5 | I9: 11213.04 | J9: =+I9*$J$7 -> 14689.082
A10: =A9+0.01 -> 1.02 | B10: 180310 | C10: IMPERM.MANTO 500XT-FOIL ALUMINIO | D10: M2 | E10: 137 | F10: =+I10 -> 64251.13 | G10: =ROUND(F10*E10,2) -> 8802404.8 | I10: 64251.13 | J10: =+I10*$J$7 -> 84168.98
A11: =A10+0.01 -> 1.03 | B11: 320803 | C11: IMPRIMANTE ASFALTICO | D11: KLS | E11: 14 | F11: =+I11 -> 19249.25 | G11: =ROUND(F11*E11,2) -> 269489.5 | I11: 19249.25 | J11: =+I11*$J$7 -> 25216.518
A12: =A11+0.01 -> 1.04 | B12: 290426 | C12: PASAMANOS METALICO TUBULAR-REDONDO | D12: ML | E12: 251 | F12: =+I12 -> 25836.76 | G12: =ROUND(F12*E12,2) -> 6485026.8 | I12: 25836.76 | J12: =+I12*$J$7 -> 33846.156
A13: =A12+0.01 -> 1.05 | B13: 100531 | C13: DESM.DIVISION PANEL LAMINA YESO-BOARD | D13: M2 | E13: 30 | F13: =+I13 -> 11620.84 | G13: =ROUND(F13*E13,2) -> 348625.2 | I13: 11620.84 | J13: =+I13*$J$7 -> 15223.3
A14: =A13+0.01 -> 1.06 | B14: 180435 | C14: C.F.LAMINA BOARD 1214x605x4MM P.ALUMINIO | D14: M2 | E14: 30 | F14: =+I14 -> 61647.49 | G14: =ROUND(F14*E14,2) -> 1849424.7 | I14: 61647.49 | J14: =+I14*$J$7 -> 80758.212
A15: =A14+0.01 -> 1.07 | B15: APU-001 | C15: MANTENIMIENTO VENTANA EN CELOCIA EN ALUMINIO | D15: M2 | E15: 72 | F15: =+I15 -> 86479.59 | G15: =ROUND(F15*E15,2) -> 6226530.5 | I15: 86479.59 | J15: =+I15*$J$7 -> 113288.26
A16: =A15+0.01 -> 1.08 | B16: 330135 | C16: ANDAMIO METALICO TUBULAR | D16: U/D | E16: 450 | F16: =+I16 -> 1568.46 | G16: =ROUND(F16*E16,2) -> 705807 | I16: 1568.46 | J16: =+I16*$J$7 -> 2054.6826
A17: =A16+0.01 -> 1.09 | B17: 290115 | C17: RASQUETEADA-LIJADA-RESANE | D17: M2 | E17: 300 | F17: =+I17 -> 2617.9 | G17: =ROUND(F17*E17,2) -> 785370 | I17: 2617.9 | J17: =+I17*$J$7 -> 3429.449
A18: =A17+0.01 -> 1.1 | B18: 291003 | C18: ESGRAFIADO SOBRE RESANES | D18: M2 | E18: 300 | F18: =+I18 -> 15483.52 | G18: =ROUND(F18*E18,2) -> 4645056 | I18: 15483.52 | J18: =+I18*$J$7 -> 20283.411
A19: =A18+0.01 -> 1.11 | B19: 290503 | C19: REPELENTE DE AGUA IMPERM | D19: M2 | E19: 300 | F19: =+I19 -> 10512.94 | G19: =ROUND(F19*E19,2) -> 3153882 | I19: 10512.94 | J19: =+I19*$J$7 -> 13771.951
A20: =A19+0.01 -> 1.12 | B20: 290307 | C20: VINILO CIELO TIPO 1 [3M] | D20: M2 | E20: 300 | F20: =+I20 -> 14144.63 | G20: =ROUND(F20*E20,2) -> 4243389 | I20: 14144.63 | J20: =+I20*$J$7 -> 18529.465
A21: =A20+0.01 -> 1.13 | B21: 100622 | C21: RETIRO DE SALDOS EN SITIO | D21: M3 | E21: 165 | F21: =+I21 -> 10203.53 | G21: =ROUND(F21*E21,2) -> 1683582.4 | I21: 10203.53 | J21: =+I21*$J$7 -> 13366.624
A22: =A21+0.01 -> 1.14 | B22: 270107 | C22: CERRADURA YALE ENTRADA PPAL.REF.5316 | D22: UND | E22: 2 | F22: =+I22 -> 86005.63 | G22: =ROUND(F22*E22,2) -> 172011.26 | I22: 86005.63 | J22: =+I22*$J$7 -> 112667.38
... A41: =A40+0.01 -> 1.33 | B41: 080522 | C41: SARDINEL EN CONCRETO 15X15 MAS HIERRO | D41: ML | E41: 100 | F41: =+I41 -> 26961.78 | G41: =ROUND(F41*E41,2) -> 2696178 | I41: 26961.78 | J41: =+I41*$J$7 -> 35319.932
A42: 2 | C42: TERMINAL | J42: =+I42*$J$7 -> 0
A43: =A42+0.01 -> 2.01 | B43: APU-007 | C43: LIMPIEZA Y ASEO GENERAL C.F. PVC | D43: M2 | E43: 640 | F43: =+I43 -> 3434.81 | G43: =ROUND(F43*E43,2) -> 2198278.4 | I43: 3434.81 | J43: =+I43*$J$7 -> 4499.6011
A44: =A43+0.01 -> 2.02 | B44: 310101 | C44: LIMPIEZA CARPINTERIA METALICA | D44: M2 | E44: 38 | F44: =+I44 -> 2724.84 | G44: =ROUND(F44*E44,2) -> 103543.92 | I44: 2724.84 | J44: =+I44*$J$7 -> 3569.5404
A45: =A44+0.01 -> 2.03 | B45: 290407 | C45: ESMALTE SOBRE LAMINA LLENA | D45: M2 | E45: 38 | F45: =+I45 -> 14436.93 | G45: =ROUND(F45*E45,2) -> 548603.34 | I45: 14436.93 | J45: =+I45*$J$7 -> 18912.378
A46: =A45+0.01 -> 2.04 | B46: APU-008 | C46: MANTENIMIENTO VENTANA EN ALUMINIO | D46: M2 | E46: 13 | F46: =+I46 -> 76286.9 | G46: =ROUND(F46*E46,2) -> 991729.7 | I46: 76286.9 | J46: =+I46*$J$7 -> 99935.839
A47: =A46+0.01 -> 2.05 | B47: 290115 | C47: RASQUETEADA-LIJADA-RESANE | D47: M2 | E47: 1166 | F47: =+I47 -> 2617.9 | G47: =ROUND(F47*E47,2) -> 3052471.4 | I47: 2617.9 | J47: =+I47*$J$7 -> 3429.449
A48: =A47+0.01 -> 2.06 | B48: 290307 | C48: VINILO CIELO TIPO 1 [3M] | D48: M2 | E48: 1166 | F48: =+I48 -> 14144.63 | G48: =ROUND(F48*E48,2) -> 16492639 | I48: 14144.63 | J48: =+I48*$J$7 -> 18529.465
A49: =A48+0.01 -> 2.07 | B49: 100305 | C49: DEMOL.ENCHAPE CERAMICO | D49: M2 | E49: 1013 | F49: =+I49 -> 11730.63 | G49: =ROUND(F49*E49,2) -> 11883128 | I49: 11730.63 | J49: =+I49*$J$7 -> 15367.125
A50: =A49+0.01 -> 2.08 | B50: 100308 | C50: DEMOL.GUARDAESCOBA | D50: ML | E50: 267 | F50: =+I50 -> 3235.3 | G50: =ROUND(F50*E50,2) -> 863825.1 | I50: 3235.3 | J50: =+I50*$J$7 -> 4238.243
A51: =A50+0.01 -> 2.09 | B51: 100622 | C51: RETIRO DE SALDOS EN SITIO | D51: M3 | E51: 427 | F51: =+I51 -> 10203.53 | G51: =ROUND(F51*E51,2) -> 4356907.3 | I51: 10203.53 | J51: =+I51*$J$7 -> 13366.624
A52: =A51+0.01 -> 2.1 | B52: APU-009 | C52: SUMINISTRO E INSTALACION DE ENCHAPE TRAFICO 4 TIPO MISTIC 60X60 O SIMILAR | D52: M2 | E52: 393 | F52: =+I52 -> 208907.66 | G52: =ROUND(F52*E52,2) -> 82100710 | I52: 208907.66 | J52: =+I52*$J$7 -> 273669.03
A53: =A52+0.01 -> 2.11 | B53: 200101 | C53: ALISTADO PISO 4 CM | D53: M2 | E53: 754 | F53: =+I53 -> 34729.92 | G53: =ROUND(F53*E53,2) -> 26186360 | I53: 34729.92 | J53: =+I53*$J$7 -> 45496.195
A54: =A53+0.01 -> 2.12 | B54: 190527 | C54: ENCHAPE CERAMICA 25X25 - 1 CALIDAD | D54: M2 | E54: 477 | F54: =+I54 -> 77525.98 | G54: =ROUND(F54*E54,2) -> 36979892 | I54: 77525.98 | J54: =+I54*$J$7 -> 101559.03
... A68: =A67+0.01 -> 2.26 | B68: 110906 | C68: COLCHON ARENA GRUESA E=5-7CM | D68: M3 | E68: 2 | F68: =+I68 -> 101406.45 | G68: =ROUND(F68*E68,2) -> 202812.9 | I68: 101406.45 | J68: =+I68*$J$7 -> 132842.45
G70: =ROUND(SUM(G9:G68),0) -> 303582271
F71: 0.21 | G71: =ROUND(G70*F71,0) -> 63752277
F72: 0.06 | G72: =ROUND(G70*F72,0) -> 18214936
F73: 0.04 | G73: =ROUND(G70*F73,0) -> 12143291
F74: 0.31 | G74: =ROUND(G70*F74,0) -> 94110504
F75: 0.19 | G75: =ROUND(G73*F75,0) -> 2307225
...

Sheet Apus
A1: ANALISIS DE PRECIOS UNITARIOS
A4: =+Mercado!A4 -> 23500C1214 MEJORAMIENTO Y MANTENIMIENTO INFRAESTRUCTURA AEROPUERTO JUAN CASIANO SOLIS DE GUAPI”
A81: MANTENIMIENTO VENTANA EN CELOCIA EN ALUMINIO | G81: UNIDAD: M2
G82: ITEM: APU-001
A83: DESCRIPCION | C83: UND | D83: CANT. | E83: DESP.% | F83: PRECIO UNIT | G83: VALOR TOTAL
A85: MATERIALES
A86: LIJA 400 AGUA | C86: PLI | D86: 0.5 | E86: 0 | F86: 1100 | G86: =TRUNC(D86* (1 + E86 / 100) * F86,2) -> 550
A87: DISOLVENTE | C87: GLN | D87: 0.2 | E87: 0 | F87: 45000 | G87: =TRUNC(D87* (1 + E87 / 100) * F87,2) -> 9000
A88: ESMALTE SINTETICO | C88: GLN | D88: 0.1 | E88: 1 | F88: 59900 | G88: =TRUNC(D88* (1 + E88 / 100) * F88,2) -> 6049.9
A89: ANTICORROSIVO ALQUIDICO PREMIUM | C89: GLN | D89: 0.5 | E89: 1 | F89: 46000 | G89: =TRUNC(D89* (1 + E89 / 100) * F89,2) -> 23230
A90: BROCHA CERDA NATURAL 2-1-2 | C90: UND | D90: 1 | F90: 8100 | G90: =TRUNC(D90* (1 + E90 / 100) * F90,2) -> 8100
F92: SUBTOTAL MATERIALES | G92: =SUM(G86:G90) -> 46929.9
A93: MANO DE OBRA
A94: M.O. PINTURA 1 AYUDANTE-1 OFI | C94: HC | D94: 0.5 | E94: 0 | F94: 25931 | G94: =TRUNC(D94* (1 + E94 / 100) * F94,2) -> 12965.5
F95: SUBTOTAL MANO DE OBRA | G95: =SUM(G94) -> 12965.5
A96: EQUIPO
A97: HERRAMIENTA MENOR | C97: GLB | D97: 0.3 | E97: 0 | F97: 1600 | G97: =TRUNC(D97* (1 + E97 / 100) * F97,2) -> 480
A98: ANDAMIO METALICO TUBULAR | C98: U/D | D98: 0.25 | E98: 0 | F98: 1100 | G98: =TRUNC(D98* (1 + E98 / 100) * F98,2) -> 275
F99: SUBTOTAL EQUIPO | G99: =SUM(G97:G98) -> 755
A100: OTROS
G101: =TRUNC(D101* (1 + E101 / 100) * F101,2) -> 0
F102: SUBTOTAL OTROS | G102: =SUM(G100:G101) -> 0
E104: COSTO DIRECTO | F104: =SUM(G83:G103)/2 -> 60650.4 | G104: =IF($A$2="CD",IF($A$3=1,ROUND(SUM(G83:G103)/2,0),IF($A$3=3,ROUND(SUM(G83:G103)/2,-1),SUM(G83:G103)/2)),SUM(G83:G103)/2) -> 60650.4
A189: SUMINISTRO E INSTALACION DE TIMBRE | G189: UNIDAD: UND
G190: ITEM: APU-002
A191: DESCRIPCION | C191: UND | D191: CANT. | E191: DESP.% | F191: PRECIO UNIT | G191: VALOR TOTAL
A193: MATERIALES
A194: PULSADOR TIMBRE AX040M | C194: UND | D194: 1 | E194: 0 | F194: 11410 | G194: =TRUNC(D194* (1 + E194 / 100) * F194,2) -> 11410
A195: TIMBRE | C195: UND | D195: 1 | E195: 0 | F195: 22000 | G195: =TRUNC(D195* (1 + E195 / 100) * F195,2) -> 22000
A196: CABLE DUPLEX 2 X 22 THWN | C196: ML | D196: 35 | E196: 0 | F196: 920 | G196: =TRUNC(D196* (1 + E196 / 100) * F196,2) -> 32200
F198: SUBTOTAL MATERIALES | G198: =SUM(G194:G196) -> 65610
A199: MANO DE OBRA
A200: MANO OBRA ELECTRICAS 1 AYUDANTE-1 OFI | C200: HC | D200: 0.5 | E200: 0 | F200: 33455 | G200: =TRUNC(D200* (1 + E200 / 100) * F200,2) -> 16727.5
F201: SUBTOTAL MANO DE OBRA | G201: =SUM(G200) -> 16727.5
A202: EQUIPO
A203: HERRAMIENTA MENOR | C203: GLB | D203: 0.3 | E203: 0 | F203: 1600 | G203: =TRUNC(D203* (1 + E203 / 100) * F203,2) -> 480
G204: =TRUNC(D204* (1 + E204 / 100) * F204,2) -> 0
F205: SUBTOTAL EQUIPO | G205: =SUM(G203:G204) -> 480
A206: OTROS
G207: =TRUNC(D207* (1 + E207 / 100) * F207,2) -> 0
...

Sheet Datos Finacieros
A2: DATOS FINANCIEROS
A4: VALOR DEL PRESUPUESTO(Po) | E4: =+Mercado!K78 -> 400000000
A5: PLAZO DEL PROYECTO (n) | E5: 3
A6: CAPITAL DE TRABAJO DEMANDADO (CTd)= (Po/n) | E6: =E4/E5 -> 1.3333333e+08
A7: CAPITAL DE TRABAJO (CT)>= CTd | E7: =E6 -> 1.3333333e+08
A8: PATRIMONIO(P)= >=10%*Po | E8: =E4*0.1 -> 40000000
E13: 45 dias
C17: 1 | D17: 30
C18: x | D18: 45
D20: =+(C17*D18)/D17 -> 1.5
A22: https://www.dane.gov.co/files/investigaciones/boletines/iccv/bol_iccv_dic21.pdf
