Workbook

Sheet con mto
A1: FORMATO CONSOLIDADO COSTOS DE MANO DE OBRA
A2: ITEM | B2: Nombre del activo | C2: V/R unitario | D2: Iva 16% | E2: Total con Iva
A3: 1 | B3: Automovil Chevrolet Chevy Taxi
A4: 2 | B4: Automovil Hyundai Accent GLS
A5: 3 | B5: Automovil Hyundai Atos Prime GL
A6: 4 | B6: Automovil Kia Rio
A7: 5 | B7: Automovil Mazda 323 NTI
A8: 6 | B8: Automovil Mazda 626 GLX
A9: 7 | B9: Automovil Nissan sentra
A10: 8 | B10: Automovil renault Logan
A11: 9 | B11: Automovil Renault Symbol
A12: 10 | B12: Automovil Renault Scala
A13: 11 | B13: Automovil Volkswagen Gol
A14: 12 | B14: Automovil Volkswagen Jetta
A15: 13 | B15: Automovil BMW
A16: 14 | B16: Camioneta Chevrolet Rodeo | C16: =SUM(#REF!) -> #REF! | D16: =SUM(#REF!) -> #REF! | E16: =SUM(#REF!) -> #REF!
A17: 15 | B17: Camioneta Chevrolet Luv | C17: =SUM(#REF!) -> #REF! | D17: =SUM(#REF!) -> #REF! | E17: =SUM(#REF!) -> #REF!
A18: 16 | B18: Camioneta Ford Escape | C18: =SUM(#REF!) -> #REF! | D18: =SUM(#REF!) -> #REF! | E18: =SUM(#REF!) -> #REF!
A19: 17 | B19: Camioneta Ford ECONOLINE E250 | C19: =SUM(#REF!) -> #REF! | D19: =SUM(#REF!) -> #REF! | E19: =SUM(#REF!) -> #REF!
A20: 18 | B20: Camioneta Hyundai TERRACAM SW | C20: =SUM(#REF!) -> #REF! | D20: =SUM(#REF!) -> #REF! | E20: =SUM(#REF!) -> #REF!
A21: 19 | B21: Camioneta Jeep GRAN CHEROKEE | C21: =SUM(#REF!) -> #REF! | D21: =SUM(#REF!) -> #REF! | E21: =SUM(#REF!) -> #REF!
A22: 20 | B22: Camioneta KIA SPORTAGE LX | C22: =SUM(#REF!) -> #REF! | D22: =SUM(#REF!) -> #REF! | E22: =SUM(#REF!) -> #REF!
A23: 21 | B23: Camioneta KIA MOHAVE | C23: =SUM(#REF!) -> #REF! | D23: =SUM(#REF!) -> #REF! | E23: =SUM(#REF!) -> #REF!
A24: 22 | B24: Camioneta Mazda BT 50 | C24: =SUM(#REF!) -> #REF! | D24: =SUM(#REF!) -> #REF! | E24: =SUM(#REF!) -> #REF!
A25: 23 | B25: Camioneta Mitsubishi L 300 | C25: =SUM(#REF!) -> #REF! | D25: =SUM(#REF!) -> #REF! | E25: =SUM(#REF!) -> #REF!
A26: 24 | B26: Camioneta Nissan Frontier | C26: =SUM(#REF!) -> #REF! | D26: =SUM(#REF!) -> #REF! | E26: =SUM(#REF!) -> #REF!
A27: 25 | B27: Camioneta Nissan Pathfinder | C27: =SUM(#REF!) -> #REF! | D27: =SUM(#REF!) -> #REF! | E27: =SUM(#REF!) -> #REF!
... A30: 28 | B30: Camioneta Volkswagen Amarok | C30: =SUM(#REF!) -> #REF! | D30: =SUM(#REF!) -> #REF! | E30: =SUM(#REF!) -> #REF!
B32: TOTAL | C32: =SUM(C3:C31) -> #REF! | D32: =SUM(D3:D31) -> #REF! | E32: =SUM(E3:E31) -> #REF!
B38: Firma Representante Legal
B39: Nombre Representante legal:
B40: Nit No.
B41: Dirección:
B42: Teléfono:

Sheet con rtos
A1: FORMATO CONSOLIDADO COSTOS DE REPUESTOS
A2: ITEM | B2: Nombre del activo | C2: V/R unitario | D2: Iva 16% | E2: Total con Iva
A3: 1 | B3: Automovil Chevrolet Chevy Taxi | C3: =SUM(#REF!) -> #REF! | D3: =SUM(#REF!) -> #REF! | E3: =SUM(#REF!) -> #REF!
A4: 2 | B4: Automovil Hyundai Accent GLS | C4: =SUM(#REF!) -> #REF! | D4: =SUM(#REF!) -> #REF! | E4: =SUM(#REF!) -> #REF!
A5: 3 | B5: Automovil Hyundai Atos Prime GL | C5: =SUM(#REF!) -> #REF! | D5: =SUM(#REF!) -> #REF! | E5: =SUM(#REF!) -> #REF!
A6: 4 | B6: Automovil Kia Rio | C6: =SUM(#REF!) -> #REF! | D6: =SUM(#REF!) -> #REF! | E6: =SUM(#REF!) -> #REF!
A7: 5 | B7: Automovil Mazda 323 NTI | C7: =SUM(#REF!) -> #REF! | D7: =SUM(#REF!) -> #REF! | E7: =SUM(#REF!) -> #REF!
A8: 6 | B8: Automovil Mazda 626 GLX | C8: =SUM(#REF!) -> #REF! | D8: =SUM(#REF!) -> #REF! | E8: =SUM(#REF!) -> #REF!
A9: 7 | B9: Automovil Nissan sentra | C9: =SUM(#REF!) -> #REF! | D9: =SUM(#REF!) -> #REF! | E9: =SUM(#REF!) -> #REF!
A10: 8 | B10: Automovil renault Logan | C10: =SUM(#REF!) -> #REF! | D10: =SUM(#REF!) -> #REF! | E10: =SUM(#REF!) -> #REF!
A11: 9 | B11: Automovil Renault Symbol | C11: =SUM(#REF!) -> #REF! | D11: =SUM(#REF!) -> #REF! | E11: =SUM(#REF!) -> #REF!
A12: 10 | B12: Automovil Renault Scala | C12: =SUM(#REF!) -> #REF! | D12: =SUM(#REF!) -> #REF! | E12: =SUM(#REF!) -> #REF!
A13: 11 | B13: Automovil Volkswagen Gol | C13: =SUM(#REF!) -> #REF! | D13: =SUM(#REF!) -> #REF! | E13: =SUM(#REF!) -> #REF!
A14: 12 | B14: Automovil Volkswagen Jetta | C14: =SUM(#REF!) -> #REF! | D14: =SUM(#REF!) -> #REF! | E14: =SUM(#REF!) -> #REF!
... A30: 28 | B30: Camioneta Volkswagen Amarok | C30: =SUM(#REF!) -> #REF! | D30: =SUM(#REF!) -> #REF! | E30: =SUM(#REF!) -> #REF!
B32: TOTAL | C32: =SUM(C3:C31) -> #REF! | D32: =SUM(D3:D31) -> #REF! | E32: =SUM(E3:E31) -> #REF!
B38: Firma Representante Legal
B39: Nombre Representante legal:
B40: Nit No.
B41: Dirección:
B42: Teléfono:

Sheet con gral
B1: FORMATO PROPUESTA GENERAL MANO DE OBRA Y REPUESTOS
B2: Item | C2: V/R unitario | D2: Iva 16% | E2: Total con Iva
B3: MANO DE OBRA | C3: =SUM('con mto'!C32) -> #REF! | D3: =SUM('con mto'!D32) -> #REF! | E3: =SUM('con mto'!E32) -> #REF!
B4: REPUESTOS | C4: =SUM('con rtos'!C32) -> #REF! | D4: =SUM('con rtos'!D32) -> #REF! | E4: =SUM('con rtos'!E32) -> #REF!
B5: TOTAL | C5: =SUM(C3:C4) -> #REF! | D5: =SUM(D3:D4) -> #REF! | E5: =SUM(E3:E4) -> #REF!
B13: Firma Representante Legal
B14: Nombre Representante legal:
B15: Nit No.
B16: Dirección:
B17: Teléfono:

Sheet MANO DE OBRA
A1: MANTENIMIENTO DE MOTOCICLETAS (MANO DE OBRA)
B2: Incluye costos directos e indirectos
A4: ITEM | B4: DESCRIPCION | C4: VALOR
A5: 1 | B5: REVISIONES PERIODICAS | C5: SUBTOTAL | D5: IVA | E5: PRECIO TOTAL
A6: 1.1 | B6: SINCRONIZACION (INCLUYE REVISION Y LUBRICACION DE GUAYAS, CALIBRACION DE VALVULAS, LIMPIEZA CUERPO DE ACELERACION YA SEA UN MOTOR INYECTADO O CARBURADO, LAVADO DE INYECTORES POR ULTRASONIDO, CAMBIO DE FILTROS, CAMBIO O MANTENIMIENTO DE BUJIAS, CALIBRACION DE SENSORES Y REVISION ELECTRICA GENERAL). | C6: 247899 | D6: =C6*0.19 -> 47100.81 | E6: =+C6+D6 -> 294999.81
A7: 1.2 | B7: MANTENIMIENTO GENERAL DE FRENOS (INCLUYE LIMPIEZA PROFUNDA DE MORDASAS Y/O CAMPANA, MANTENIMIENTO BOMBAS DE FRENO, MANTENIMIENTO DE CILINDROS CON CAMBIO DE O-RINGS, CAMBIO DE LIQUIDO DE FRENOS SEGUN CORRESPONDA, PURGA DE FRENOS,REVISION Y LUBRICACION DE GUAYAS, CAMBIO DE PASTILLAS SEGUN CORRESPONDA, CAMBIO O MANTENIMIENTO DE BANDAS SEGÚN CORRESPONDA. | C7: 153781.51 | D7: =C7*0.19 -> 29218.487 | E7: =+C7+D7 -> 183000
A8: 1.3 | B8: MANTENIMIENTO RAPIDO (INCLUYE LAVADO, LUBRICACION Y AJUSTE DE CADENA,REVISION Y LUBRICACION DE GUAYAS, AJUSTE DE FRENOS , CAMBIO DE ACEITE Y FILTRO DE ACEITE SI LO REQUIERE. INSPECCION DE REFRIGERANTE) | C8: 208403.36 | D8: =C8*0.19 -> 39596.639 | E8: =+C8+D8 -> 248000
A9: 1.4 | B9: MANTENIMIENTO COMPLETO (INCLUYE COMBOS SINCRONIZACION + MANTENIMIENTO GENERAL DE FRENOS + MANTENIMIENTO TREN DELANTERO + REVISION ELECTRICA + CORRECCION DE FUGAS Y AJUSTE DE MOTOR + CAMBIO DE ACEITE Y FILTROS). | C9: 343697.48 | D9: =C9*0.19 -> 65302.521 | E9: =+C9+D9 -> 409000
A10: 1.5 | B10: MANTENIMIENTO TREN DELANTERO (INCLUYE REVISION Y LUBRICACION DE GUAYAS, MANTENIMIENTO O CAMBIO DE CUNAS DE DIRECCION, LIMPIEZA Y ENGRASE DE EJE, REVISION Y CAMBIO DE RODAMIENTOS SI ES NECESARIO, MANTENIMIENTO DE BARRAS DE SUSPENSION CON CAMBIO DE ACEITE DE BARRAS Y SI ES NECESARIO CAMBIO DE RETENEDORES TELESCOPICOS.) | C10: 167226.89 | D10: =C10*0.19 -> 31773.109 | E10: =+C10+D10 -> 199000
A11: 1.6 | B11: MANTEINIMENTO PREVENTIVO (INCLUYE SINCRONIZACION + MANTENIMIENTO GENERAL DE FRENOS) | C11: 163025.21 | D11: =C11*0.19 -> 30974.79 | E11: =+C11+D11 -> 194000
A12: 1.7 | B12: MANTENIMIENTO BASICO (INCLUYE CAMBIO DE ACEITE Y FILTRO + PASTILLAS Y/O BANDAS SEGÚN CORRESPONDA | C12: 126890.76 | D12: =C12*0.19 -> 24109.244 | E12: =+C12+D12 -> 151000
B13: SUBTOTAL | C13: =SUM(C6:C12) -> 1410924.2 | D13: =SUM(D6:D12) -> 268075.6 | E13: =SUM(E6:E12) -> 1678999.8
A14: 2 | B14: SINCRONIZACION | C14: SUBTOTAL | D14: IVA | E14: PRECIO TOTAL
A15: 2.1 | B15: CAMBIO GUAYA ACELERADOR | C15: 22689.076 | D15: =C15*0.19 -> 4310.9244 | E15: =+C15+D15 -> 27000
A16: 2.2 | B16: CAMBIO GUAYA CHOKE | C16: 22689.076 | D16: =C16*0.19 -> 4310.9244 | E16: =+C16+D16 -> 27000
A17: 2.3 | B17: LUBRICAR GUAYAS | C17: 26890.756 | D17: =C17*0.19 -> 5109.2437 | E17: =+C17+D17 -> 32000
A18: 2.4 | B18: COMPROBACION NIVELES | C18: 13445.378 | D18: =C18*0.19 -> 2554.6218 | E18: =+C18+D18 -> 16000
A19: 2.5 | B19: CAMBIO CAPUCHON BUJIA | C19: 9243.6975 | D19: =C19*0.19 -> 1756.3025 | E19: =+C19+D19 -> 11000
A20: 2.6 | B20: CAMBIO BOMBA COMBUSTIBLE | C20: N/A | D20: N/A | E20: N/A
A21: 2.7 | B21: MANTENIMIENTO BOMBA DE COMBUSTIBLE (INCUYE CAMBIO DE FILTRO) | C21: N/A | D21: N/A | E21: N/A
A22: 2.8 | B22: CAMBIO DE BUJIAS | C22: 18487.395 | D22: =C22*0.19 -> 3512.605 | E22: =+C22+D22 -> 22000
A23: 2.9 | B23: FILTRO DE AIRE | C23: 13445.378 | D23: =C23*0.19 -> 2554.6218 | E23: =+C23+D23 -> 16000
A24: 2.10 | B24: SENSOR O SENSORES SISTEMA FI | C24: N/A | D24: N/A | E24: N/A
A25: 2.11 | B25: INYECTORES | C25: N/A | D25: N/A | E25: N/A
A26: 2.12 | B26: CAMBIO BOBINA DE ALTA | C26: 26891 | D26: =C26*0.19 -> 5109.29 | E26: =+C26+D26 -> 32000.29
B27: SUBTOTAL | C27: =SUM(C15:C26) -> 153781.76 | D27: =SUM(D15:D26) -> 29218.534 | E27: =SUM(E15:E26) -> 183000.29
A28: 3 | B28: MOTOR | C28: SUBTOTAL | D28: IVA | E28: PRECIO TOTAL
A29: 3.1 | B29: DIAGNOSTICO MOTOR | C29: 189915.97 | D29: =C29*0.19 -> 36084.034 | E29: =+C29+D29 -> 226000
A30: 3.2 | B30: REPARACION MOTOR A | C30: 452100.84 | D30: =C30*0.19 -> 85899.16 | E30: =+C30+D30 -> 538000
A31: 3.3 | B31: CAMBIO RETENEDOR BOMBA AGUA | C31: N/A | D31: N/A | E31: N/A
A32: 3.4 | B32: CAMBIO BOMBA ACEITE MOTOR | C32: 54621.849 | D32: =C32*0.19 -> 10378.151 | E32: =+C32+D32 -> 65000
A33: 3.5 | B33: CAMBIO CAUCHOS O SELLOS DE VALVULAS | C33: 81512.605 | D33: =C33*0.19 -> 15487.395 | E33: =+C33+D33 -> 97000
A34: 3.6 | B34: CAMBIO ACEITE Y FILTRO DE ACEITE | C34: 54621.849 | D34: =C34*0.19 -> 10378.151 | E34: =+C34+D34 -> 65000
A35: 3.7 | B35: MANTENIMIENTO BOMBA DE AGUA (INCLUYE CAMBIO DE ACEITE Y EMPAQUE TAPA EMBRAGUE) | C35: N/A | D35: N/A | E35: N/A
B36: SUBTOTAL | C36: =SUM(C29:C35) -> 832773.11 | D36: =SUM(D29:D35) -> 158226.89 | E36: =SUM(E29:E35) -> 991000
A37: 4 | B37: SISTEMA DE TRANSFERENCIA | C37: SUBTOTAL | D37: IVA | E37: PRECIO TOTAL
A38: 4.1 | B38: REPARACION CAJA VELOCIDADES( Motor B) | C38: 452100.84 | D38: =C38*0.19 -> 85899.16 | E38: =+C38+D38 -> 538000
A39: 4.2 | B39: CAMBIO EMBRAGUE | C39: 54621.849 | D39: =C39*0.19 -> 10378.151 | E39: =+C39+D39 -> 65000
A40: 4.3 | B40: CAMBIO EMPAQUE TAPA EMBRAGUE | C40: 22689.076 | D40: =C40*0.19 -> 4310.9244 | E40: =+C40+D40 -> 27000
A41: 4.4 | B41: CAMBIO DISCOS EMBRAGUE | C41: 45378.151 | D41: =C41*0.19 -> 8621.8487 | E41: =+C41+D41 -> 54000
...

Sheet REPUESTOS
A1: MANTENIMIENTO DE MOTOCICLETAS (REPUESTOS)
A2: DESCRIPCION | B2: YAMAHA XTZ 125 | E2: YAMAHA T115 | H2: HONDA ELITE 125 | K2: HONDA XR125/250 | N2: SUZUKI DR200 | Q2: SUZUKI GN-125
A4: SINCRONIZACIÓN | B4: SUBTOTAL | C4: IVA | D4: TOTAL | E4: SUBTOTAL | F4: IVA | G4: TOTAL | H4: SUBTOTAL | I4: IVA | J4: TOTAL | K4: SUBTOTAL | L4: IVA | M4: TOTAL | N4: SUBTOTAL | O4: IVA | P4: TOTAL | Q4: SUBTOTAL | R4: IVA | S4: TOTAL
A5: AGUJAS DEL CARBURADOR | B5: 62184.874 | C5: =B5*0.19 -> 11815.126 | D5: =+B5+C5 -> 74000 | E5: 38655.462 | F5: =E5*0.19 -> 7344.5378 | G5: =+E5+F5 -> 46000 | H5: 41176.471 | I5: =H5*0.19 -> 7823.5294 | J5: =+H5+I5 -> 49000 | K5: =M5/1.19 -> 47899.16 | L5: =K5*0.19 -> 9100.8403 | M5: 57000 | N5: =P5/1.19 -> 31932.773 | O5: =N5*0.19 -> 6067.2269 | P5: 38000 | Q5: =S5/1.19 -> 28571.429 | R5: =Q5*0.19 -> 5428.5714 | S5: 34000
A6: BASE Y PUNZON | B6: 68907.563 | C6: =B6*0.19 -> 13092.437 | D6: =+B6+C6 -> 82000 | E6: 60504.202 | F6: =E6*0.19 -> 11495.798 | G6: =+E6+F6 -> 72000 | H6: 55462.185 | I6: =H6*0.19 -> 10537.815 | J6: =+H6+I6 -> 66000 | K6: =M6/1.19 -> 125210.08 | L6: =K6*0.19 -> 23789.916 | M6: 149000 | N6: =P6/1.19 -> 88235.294 | O6: =N6*0.19 -> 16764.706 | P6: 105000 | Q6: =S6/1.19 -> 80672.269 | R6: =Q6*0.19 -> 15327.731 | S6: 96000
A7: BUJIA | B7: 25210.084 | C7: =B7*0.19 -> 4789.916 | D7: =+B7+C7 -> 30000 | E7: 22689.076 | F7: =E7*0.19 -> 4310.9244 | G7: =+E7+F7 -> 27000 | H7: 21008.403 | I7: =H7*0.19 -> 3991.5966 | J7: =+H7+I7 -> 25000 | K7: =M7/1.19 -> 25210.084 | L7: =K7*0.19 -> 4789.916 | M7: 30000 | N7: =P7/1.19 -> 18487.395 | O7: =N7*0.19 -> 3512.605 | P7: 22000 | Q7: =S7/1.19 -> 16806.723 | R7: =Q7*0.19 -> 3193.2773 | S7: 20000
A8: CHICLER DE ALTA | B8: 68907.563 | C8: =B8*0.19 -> 13092.437 | D8: =+B8+C8 -> 82000 | E8: 60504.202 | F8: =E8*0.19 -> 11495.798 | G8: =+E8+F8 -> 72000 | H8: 28571.429 | I8: =H8*0.19 -> 5428.5714 | J8: =+H8+I8 -> 34000 | K8: =M8/1.19 -> 57142.857 | L8: =K8*0.19 -> 10857.143 | M8: 68000 | N8: =P8/1.19 -> 40336.134 | O8: =N8*0.19 -> 7663.8655 | P8: 48000 | Q8: =S8/1.19 -> 36974.79 | R8: =Q8*0.19 -> 7025.2101 | S8: 44000
A9: CHICLER DE MINIMA | B9: 57983.193 | C9: =B9*0.19 -> 11016.807 | D9: =+B9+C9 -> 69000 | E9: 43697.479 | F9: =E9*0.19 -> 8302.521 | G9: =+E9+F9 -> 52000 | H9: 18487.395 | I9: =H9*0.19 -> 3512.605 | J9: =+H9+I9 -> 22000 | K9: =M9/1.19 -> 55462.185 | L9: =K9*0.19 -> 10537.815 | M9: 66000 | N9: =P9/1.19 -> 38655.462 | O9: =N9*0.19 -> 7344.5378 | P9: 46000 | Q9: =S9/1.19 -> 35294.118 | R9: =Q9*0.19 -> 6705.8824 | S9: 42000
A10: COMANDO ACELERADOR | B10: 40336.134 | C10: =B10*0.19 -> 7663.8655 | D10: =+B10+C10 -> 48000 | E10: 30252.101 | F10: =E10*0.19 -> 5747.8992 | G10: =+E10+F10 -> 36000 | H10: 38655.462 | I10: =H10*0.19 -> 7344.5378 | J10: =+H10+I10 -> 46000 | K10: =M10/1.19 -> 81512.605 | L10: =K10*0.19 -> 15487.395 | M10: 97000 | N10: =P10/1.19 -> 57983.193 | O10: =N10*0.19 -> 11016.807 | P10: 69000 | Q10: =S10/1.19 -> 52941.176 | R10: =Q10*0.19 -> 10058.824 | S10: 63000
A11: CORTINA DEL CARBURADOR | B11: 68907.563 | C11: =B11*0.19 -> 13092.437 | D11: =+B11+C11 -> 82000 | E11: 60504.202 | F11: =E11*0.19 -> 11495.798 | G11: =+E11+F11 -> 72000 | H11: 158823.53 | I11: =H11*0.19 -> 30176.471 | J11: =+H11+I11 -> 189000 | K11: =M11/1.19 -> 185714.29 | L11: =K11*0.19 -> 35285.714 | M11: 221000 | N11: =P11/1.19 -> 287394.96 | O11: =N11*0.19 -> 54605.042 | P11: 342000 | Q11: =S11/1.19 -> 317647.06 | R11: =Q11*0.19 -> 60352.941 | S11: 378000
A12: FILTRO DE AIRE | B12: 36134.454 | C12: =B12*0.19 -> 6865.5462 | D12: =+B12+C12 -> 43000 | E12: 37815.126 | F12: =E12*0.19 -> 7184.8739 | G12: =+E12+F12 -> 45000 | H12: 54621.849 | I12: =H12*0.19 -> 10378.151 | J12: =+H12+I12 -> 65000 | K12: =M12/1.19 -> 116806.72 | L12: =K12*0.19 -> 22193.277 | M12: 139000 | N12: =P12/1.19 -> 82352.941 | O12: =N12*0.19 -> 15647.059 | P12: 98000 | Q12: =S12/1.19 -> 74789.916 | R12: =Q12*0.19 -> 14210.084 | S12: 89000
A13: FILTRO COMBUSTIBLE | B13: 26890.756 | C13: =B13*0.19 -> 5109.2437 | D13: =+B13+C13 -> 32000 | E13: 23529.412 | F13: =E13*0.19 -> 4470.5882 | G13: =+E13+F13 -> 28000 | H13: 13445.378 | I13: =H13*0.19 -> 2554.6218 | J13: =+H13+I13 -> 16000 | K13: =M13/1.19 -> 15126.05 | L13: =K13*0.19 -> 2873.9496 | M13: 18000 | N13: =P13/1.19 -> 10924.37 | O13: =N13*0.19 -> 2075.6303 | P13: 13000 | Q13: =S13/1.19 -> 10084.034 | R13: =Q13*0.19 -> 1915.9664 | S13: 12000
A14: GUAYA ACELERADOR | B14: 58823.529 | C14: =B14*0.19 -> 11176.471 | D14: =+B14+C14 -> 70000 | E14: 75630.252 | F14: =E14*0.19 -> 14369.748 | G14: =+E14+F14 -> 90000 | H14: 49579.832 | I14: =H14*0.19 -> 9420.1681 | J14: =+H14+I14 -> 59000 | K14: =M14/1.19 -> 68067.227 | L14: =K14*0.19 -> 12932.773 | M14: 81000 | N14: =P14/1.19 -> 68067.227 | O14: =N14*0.19 -> 12932.773 | P14: 81000 | Q14: =S14/1.19 -> 61344.538 | R14: =Q14*0.19 -> 11655.462 | S14: 73000
A15: GUAYA CHOQUE | B15: 29411.765 | C15: =B15*0.19 -> 5588.2353 | D15: =+B15+C15 -> 35000 | E15: 21848.739 | F15: =E15*0.19 -> 4151.2605 | G15: =+E15+F15 -> 26000 | H15: N/A | I15: N/A | J15: N/A | K15: N/A | L15: N/A | M15: N/A | N15: N/A | O15: N/A | P15: N/A | Q15: N/A | R15: N/A | S15: N/A
A16: PULVERIZADOR | B16: 87394.958 | C16: =B16*0.19 -> 16605.042 | D16: =+B16+C16 -> 104000 | E16: 65546.218 | F16: =E16*0.19 -> 12453.782 | G16: =+E16+F16 -> 78000 | H16: 76470.588 | I16: =H16*0.19 -> 14529.412 | J16: =+H16+I16 -> 91000 | K16: =M16/1.19 -> 94957.983 | L16: =K16*0.19 -> 18042.017 | M16: 113000 | N16: =P16/1.19 -> 67226.891 | O16: =N16*0.19 -> 12773.109 | P16: 80000 | Q16: =S16/1.19 -> 60504.202 | R16: =Q16*0.19 -> 11495.798 | S16: 72000
A17: TENSOR GUAYA ACELERADOR | B17: N/A | C17: N/A | D17: N/A | E17: N/A | F17: N/A | G17: N/A | H17: N/A | I17: N/A | J17: N/A | K17: N/A | L17: N/A | M17: N/A | N17: N/A | O17: N/A | P17: N/A | Q17: N/A | R17: N/A | S17: N/A
A18: DIAFRAGMA CARBURADOR | B18: 105882.35 | C18: =B18*0.19 -> 20117.647 | D18: =+B18+C18 -> 126000 | E18: 91596.639 | F18: =E18*0.19 -> 17403.361 | G18: =+E18+F18 -> 109000 | H18: 67226.891 | I18: =H18*0.19 -> 12773.109 | J18: =+H18+I18 -> 80000 | K18: =M18/1.19 -> 294957.98 | L18: =K18*0.19 -> 56042.017 | M18: 351000 | N18: =P18/1.19 -> 338655.46 | O18: =N18*0.19 -> 64344.538 | P18: 403000 | Q18: =S18/1.19 -> 307563.03 | R18: =Q18*0.19 -> 58436.975 | S18: 366000
A19: LLAVE PASO COMBUSTIBLE | B19: 136134.45 | C19: =B19*0.19 -> 25865.546 | D19: =+B19+C19 -> 162000 | E19: 118487.39 | F19: =E19*0.19 -> 22512.605 | G19: =+E19+F19 -> 141000 | H19: N/A | I19: N/A | J19: N/A | K19: =M19/1.19 -> 234453.78 | L19: =K19*0.19 -> 44546.218 | M19: 279000 | N19: =P19/1.19 -> 247899.16 | O19: =N19*0.19 -> 47100.84 | P19: 295000 | Q19: =S19/1.19 -> 225210.08 | R19: =Q19*0.19 -> 42789.916 | S19: 268000
A20: CARRETEL ACELERADOR | B20: 32773.109 | C20: =B20*0.19 -> 6226.8908 | D20: =+B20+C20 -> 39000 | E20: 28571.429 | F20: =E20*0.19 -> 5428.5714 | G20: =+E20+F20 -> 34000 | H20: 71428.571 | I20: =H20*0.19 -> 13571.429 | J20: =+H20+I20 -> 85000 | K20: =M20/1.19 -> 144537.82 | L20: =K20*0.19 -> 27462.185 | M20: 172000 | N20: =P20/1.19 -> 128571.43 | O20: =N20*0.19 -> 24428.571 | P20: 153000 | Q20: =S20/1.19 -> 152100.84 | R20: =Q20*0.19 -> 28899.16 | S20: 181000
A21: RESORTE | B21: 14285.714 | C21: =B21*0.19 -> 2714.2857 | D21: =+B21+C21 -> 17000 | E21: 10924.37 | F21: =E21*0.19 -> 2075.6303 | G21: =+E21+F21 -> 13000 | H21: 15126.05 | I21: =H21*0.19 -> 2873.9496 | J21: =+H21+I21 -> 18000 | K21: =M21/1.19 -> 19327.731 | L21: =K21*0.19 -> 3672.2689 | M21: 23000 | N21: =P21/1.19 -> 13445.378 | O21: =N21*0.19 -> 2554.6218 | P21: 16000 | Q21: =S21/1.19 -> 12605.042 | R21: =Q21*0.19 -> 2394.958 | S21: 15000
A22: MANGUERA LLAVE PASO COMBUSTIBLE | B22: 10924.37 | C22: =B22*0.19 -> 2075.6303 | D22: =+B22+C22 -> 13000 | E22: 10084.034 | F22: =E22*0.19 -> 1915.9664 | G22: =+E22+F22 -> 12000 | H22: 21008.403 | I22: =H22*0.19 -> 3991.5966 | J22: =+H22+I22 -> 25000 | K22: =M22/1.19 -> 25210.084 | L22: =K22*0.19 -> 4789.916 | M22: 30000 | N22: =P22/1.19 -> 18487.395 | O22: =N22*0.19 -> 3512.605 | P22: 22000 | Q22: =S22/1.19 -> 16806.723 | R22: =Q22*0.19 -> 3193.2773 | S22: 20000
A23: MANGUERA ADMISION | B23: 62184.874 | C23: =B23*0.19 -> 11815.126 | D23: =+B23+C23 -> 74000 | E23: 53781.513 | F23: =E23*0.19 -> 10218.487 | G23: =+E23+F23 -> 64000 | H23: 38655.462 | I23: =H23*0.19 -> 7344.5378 | J23: =+H23+I23 -> 46000 | K23: =M23/1.19 -> 47058.824 | L23: =K23*0.19 -> 8941.1765 | M23: 56000 | N23: =P23/1.19 -> 33613.445 | O23: =N23*0.19 -> 6386.5546 | P23: 40000 | Q23: =S23/1.19 -> 30252.101 | R23: =Q23*0.19 -> 5747.8992 | S23: 36000
A24: BASE PULVERIZADOR | B24: 46218.487 | C24: =B24*0.19 -> 8781.5126 | D24: =+B24+C24 -> 55000 | E24: 40336.134 | F24: =E24*0.19 -> 7663.8655 | G24: =+E24+F24 -> 48000 | H24: 75630.252 | I24: =H24*0.19 -> 14369.748 | J24: =+H24+I24 -> 90000 | K24: =M24/1.19 -> 94957.983 | L24: =K24*0.19 -> 18042.017 | M24: 113000 | N24: =P24/1.19 -> 67226.891 | O24: =N24*0.19 -> 12773.109 | P24: 80000 | Q24: =S24/1.19 -> 60504.202 | R24: =Q24*0.19 -> 11495.798 | S24: 72000
A25: SURTIDOR | B25: 68907.563 | C25: =B25*0.19 -> 13092.437 | D25: =+B25+C25 -> 82000 | E25: 60504.202 | F25: =E25*0.19 -> 11495.798 | G25: =+E25+F25 -> 72000 | H25: 46218.487 | I25: =H25*0.19 -> 8781.5126 | J25: =+H25+I25 -> 55000 | K25: =M25/1.19 -> 57142.857 | L25: =K25*0.19 -> 10857.143 | M25: 68000 | N25: =P25/1.19 -> 40336.134 | O25: =N25*0.19 -> 7663.8655 | P25: 48000 | Q25: =S25/1.19 -> 36974.79 | R25: =Q25*0.19 -> 7025.2101 | S25: 44000
A26: KIT CARBURADOR | B26: 327731.09 | C26: =B26*0.19 -> 62268.908 | D26: =+B26+C26 -> 390000 | E26: 246218.49 | F26: =E26*0.19 -> 46781.513 | G26: =+E26+F26 -> 293000 | H26: 199159.66 | I26: =H26*0.19 -> 37840.336 | J26: =+H26+I26 -> 237000 | K26: =M26/1.19 -> 173109.24 | L26: =K26*0.19 -> 32890.756 | M26: 206000 | N26: =P26/1.19 -> 252941.18 | O26: =N26*0.19 -> 48058.824 | P26: 301000 | Q26: =S26/1.19 -> 230252.1 | R26: =Q26*0.19 -> 43747.899 | S26: 274000
A27: DIFUSOR | B27: N/A | C27: N/A | D27: N/A | E27: N/A | F27: N/A | G27: N/A | H27: N/A | I27: N/A | J27: N/A | K27: N/A | L27: N/A | M27: N/A | N27: N/A | O27: N/A | P27: N/A | Q27: N/A | R27: N/A | S27: N/A
A28: PASTAS DESLIZANTES | B28: N/A | C28: N/A | D28: N/A | E28: 56303 | F28: =E28*0.19 -> 10697.57 | G28: =+E28+F28 -> 67000.57 | H28: 63025.21 | I28: =H28*0.19 -> 11974.79 | J28: =+H28+I28 -> 75000 | K28: =M28/1.19 -> 78991.597 | L28: =K28*0.19 -> 15008.403 | M28: 94000 | N28: =P28/1.19 -> 56302.521 | O28: =N28*0.19 -> 10697.479 | P28: 67000 | Q28: =S28/1.19 -> 51260.504 | R28: =Q28*0.19 -> 9739.4958 | S28: 61000
A29: BOMBA COMBUSTIBLE | B29: N/A | C29: N/A | D29: N/A | E29: N/A | F29: N/A | G29: N/A | H29: N/A | I29: N/A | J29: N/A | K29: N/A | L29: N/A | M29: N/A | N29: N/A | O29: N/A | P29: N/A | Q29: N/A | R29: N/A | S29: N/A
A30: EMPAQUE CARBURADOR | B30: 25210 | C30: =B30*0.19 -> 4789.9 | D30: =+B30+C30 -> 29999.9 | E30: 22689.076 | F30: =E30*0.19 -> 4310.9244 | G30: =+E30+F30 -> 27000 | H30: 30252.101 | I30: =H30*0.19 -> 5747.8992 | J30: =+H30+I30 -> 36000 | K30: =M30/1.19 -> 37815.126 | L30: =K30*0.19 -> 7184.8739 | M30: 45000 | N30: =P30/1.19 -> 26890.756 | O30: =N30*0.19 -> 5109.2437 | P30: 32000 | Q30: =S30/1.19 -> 22689.076 | R30: =Q30*0.19 -> 4310.9244 | S30: 27000
A31: CAUCHO O EMPAQUE CONECTOR CARBURADOR | B31: 62184.874 | C31: =B31*0.19 -> 11815.126 | D31: =+B31+C31 -> 74000 | E31: 53781.513 | F31: =E31*0.19 -> 10218.487 | G31: =+E31+F31 -> 64000 | H31: 38655.462 | I31: =H31*0.19 -> 7344.5378 | J31: =+H31+I31 -> 46000 | K31: =M31/1.19 -> 47058.824 | L31: =K31*0.19 -> 8941.1765 | M31: 56000 | N31: =P31/1.19 -> 33613.445 | O31: =N31*0.19 -> 6386.5546 | P31: 40000 | Q31: =S31/1.19 -> 30252.101 | R31: =Q31*0.19 -> 5747.8992 | S31: 36000
A32: FLOTADOR CARBURADOR | B32: 87394.958 | C32: =B32*0.19 -> 16605.042 | D32: =+B32+C32 -> 104000 | E32: 65546.218 | F32: =E32*0.19 -> 12453.782 | G32: =+E32+F32 -> 78000 | H32: 52100.84 | I32: =H32*0.19 -> 9899.1597 | J32: =+H32+I32 -> 62000 | K32: =M32/1.19 -> 107563.03 | L32: =K32*0.19 -> 20436.975 | M32: 128000 | N32: =P32/1.19 -> 75630.252 | O32: =N32*0.19 -> 14369.748 | P32: 90000 | Q32: =S32/1.19 -> 68907.563 | R32: =Q32*0.19 -> 13092.437 | S32: 82000
A33: INYECTOR | B33: N/A | C33: N/A | D33: N/A | E33: N/A | F33: N/A | G33: N/A | H33: N/A | I33: N/A | J33: N/A | K33: N/A | L33: N/A | M33: N/A | N33: N/A | O33: N/A | P33: N/A | Q33: N/A | R33: N/A | S33: N/A
A34: GUAYA CHOKE | B34: 32773.109 | C34: =B34*0.19 -> 6226.8908 | D34: =+B34+C34 -> 39000 | E34: 28571.429 | F34: =E34*0.19 -> 5428.5714 | G34: =+E34+F34 -> 34000 | H34: N/A | I34: N/A | J34: N/A | K34: N/A | L34: N/A | M34: N/A | N34: N/A | O34: N/A | P34: N/A | Q34: N/A | R34: N/A | S34: N/A
A35: CHOKE | B35: 89075.63 | C35: =B35*0.19 -> 16924.37 | D35: =+B35+C35 -> 106000 | E35: 76470.588 | F35: =E35*0.19 -> 14529.412 | G35: =+E35+F35 -> 91000 | H35: 57983.193 | I35: =H35*0.19 -> 11016.807 | J35: =+H35+I35 -> 69000 | K35: N/A | L35: N/A | M35: N/A | N35: N/A | O35: N/A | P35: N/A | Q35: N/A | R35: N/A | S35: N/A
A36: SUBTOTAL | B36: =SUM(B5:B35) -> 1732773 | C36: =SUM(C5:C35) -> 329226.87 | D36: =SUM(D5:D35) -> 2061999.9 | E36: =SUM(E5:E35) -> 1505042.5 | F36: =SUM(F5:F35) -> 285958.07 | G36: =SUM(G5:G35) -> 1791000.6 | H36: =SUM(H5:H35) -> 1332773.1 | I36: =SUM(I5:I35) -> 253226.89 | ... S36: =SUM(S5:S35) -> 2405000
A37: MOTOR
A38: MOTOR COMPLETO | B38: N/A | C38: N/A | D38: N/A | E38: N/A | F38: N/A | G38: N/A | H38: N/A | I38: N/A | J38: N/A | K38: N/A | L38: N/A | M38: N/A | N38: N/A | O38: N/A | P38: N/A | Q38: N/A | R38: N/A | S38: N/A
A39: BLOQUE | B39: 818487.39 | C39: =B39*0.19 -> 155512.61 | D39: =+B39+C39 -> 974000 | E39: 614285.71 | F39: =E39*0.19 -> 116714.29 | G39: =+E39+F39 -> 731000 | H39: 1073109.2 | I39: =H39*0.19 -> 203890.76 | J39: =+H39+I39 -> 1277000 | K39: =M39/1.19 -> 1338655.5 | L39: =K39*0.19 -> 254344.54 | M39: 1593000 | N39: =P39/1.19 -> 1188235.3 | O39: =N39*0.19 -> 225764.71 | P39: 1414000 | Q39: =S39/1.19 -> 1200840.3 | R39: =Q39*0.19 -> 228159.66 | S39: 1429000
A40: CIGUEÑAL | B40: 400000 | C40: =B40*0.19 -> 76000 | D40: =+B40+C40 -> 476000 | E40: 300000 | F40: =E40*0.19 -> 57000 | G40: =+E40+F40 -> 357000 | H40: 619327.73 | I40: =H40*0.19 -> 117672.27 | J40: =+H40+I40 -> 737000 | K40: =M40/1.19 -> 773109.24 | L40: =K40*0.19 -> 146890.76 | M40: 920000 | N40: =P40/1.19 -> 723529.41 | O40: =N40*0.19 -> 137470.59 | P40: 861000 | Q40: =S40/1.19 -> 917647.06 | R40: =Q40*0.19 -> 174352.94 | S40: 1092000
A41: CULATA | B41: 324369.75 | C41: =B41*0.19 -> 61630.252 | D41: =+B41+C41 -> 386000 | E41: 856302.52 | F41: =E41*0.19 -> 162697.48 | G41: =+E41+F41 -> 1019000 | H41: 619327.73 | I41: =H41*0.19 -> 117672.27 | J41: =+H41+I41 -> 737000 | K41: =M41/1.19 -> 773109.24 | L41: =K41*0.19 -> 146890.76 | M41: 920000 | N41: =P41/1.19 -> 768907.56 | O41: =N41*0.19 -> 146092.44 | P41: 915000 | Q41: =S41/1.19 -> 685714.29 | R41: =Q41*0.19 -> 130285.71 | S41: 816000
...

Sheet CONSOLIDADO
A1: PROPUESTA ECONOMICA - ARAUCA - SUBDIRECCION REGIONAL DE APOYO NORORIENTAL
A2: 2022
A3: OBJETO: Prestación del servicio de mantenimiento preventivo y correctivo integral con suministro de repuestos originales y/o homologados, para las motocicletas que conforman el parque automotor de la Fiscalía General de la Nación Regional Nororiental
A5: RESUMEN CONSOLIDADO DE PROPUESTA ECONOMICA
A8: TOTAL MANO DE OBRA INCLUIDO IVA | B8: ='MANO DE OBRA'!E128 -> 9758000.2
A9: TOTAL REPUESTOS INCLUIDO IVA | B9: =REPUESTOS!B333 -> 3.087004e+08
A10: VALOR TOTAL OFERTA ECONOMICA | B10: =SUM(B8:B9) -> 3.184584e+08
A14: EMPRESA | B14: FRENOPARTES Y SUMINISTROS SAS ZOMAC
A15: NIT o CC | B15: 901112206 - 1
A16: NOMBRE REPRESENTANTE LEGAL | B16: OMAR SANCHEZ CUEVAS
A17: Correo Electronico | B17: GERENCIA@FRENOPARTES.COM
A18: Celular | B18: 3223654347
A19: DIRECCION | B19: CR 16 24 59 ARAUCA
