Workbook

Sheet PRESUPUESTO OFICIAL
A2: Código | B2: CCE-EICP-FM-25
A3: FORMULARIO 1
A4: FORMULARIO PRESUPUESTO OFICIAL DEMOLICIONES
A5: [El presente formulario aplica para los procesos de contratación que tengan como forma de pago precios unitarios. Tratándose de otras modalidades de precio, la Entidad debe ajustarlo cuando corresponde a: precio global, llave en mano, administración delegada, reembolso de gastos o cualquier otra forma precio]
A7: Adicionalmente, cuando el proceso de contratación es estructurado por precios unitarios, la Entidad debe aplicar las notas 1, 2 y 3 del presente formulario y las casillas de "Descripción", "Porcentaje" de la Administración, Imprevisto, Utilidad y total A.I.U. resaltadas en colo amarillo. Tratándose de otras modalidades de precio, la Entidad puede o no configurar los mismos aspectos.
A9: Nº | B9: ITEM DE PAGO | C9: DESCRIPCION | D9: UND. | E9: CANTIDAD | F9: VALOR UNITARIO | G9: VALOR TOTAL | J9: VALOR UNITARIO | K9: VALOR TOTAL
A11: CAPITULO I - TRABAJOS EN ALTURAS
A12: 32 | C12: ADICIONALES ALCALDIA DE MANIZALES
A13: 1.1 | B13: =+'A.P.U'!A5 -> 032.170 | C13: =+'A.P.U'!C5 -> SUMINISTRO, TRANSPORTE E INSTALACIÓN DE ANDAMIOS METÁLICOS CERTIFICADOS. INCLUYE ESCALERILLA CON BARANDAS Y PLATAFORMAS DE TRABAJO. | D13: =+'A.P.U'!E5 -> DIA | E13: 10 | G13: =ROUND(F13*E13,0) -> 0 | J13: =+'A.P.U'!H5 -> 69287 | K13: =ROUND(J13*E13,0) -> 692870
A14: 033 | C14: ADICIONALES AGUAS DE MANIZALES
A15: 1.2 | B15: =+'A.P.U'!A12 -> 033.154 | C15: =+'A.P.U'!C12 -> SUMINISTRO EEPP PARA TAREAS DE ALTO RIESGO: TRABAJO SEGURO EN ALTURAS, INCLUYE ARNÉS DE 6 ARGOLLAS (ESPACIO CONFINADO), LÍNEA DE VIDA EN POLIAMIDA, ARRESTADOR DE CAÍDA, ESLINGA EN Y, 3 MOSQUETONES CON CIERRE AUTOMÁTICO DE TRES PASOS | D15: =+'A.P.U'!E12 -> DIA | E15: 10 | G15: =ROUND(F15*E15,0) -> 0 | J15: ='A.P.U'!H12 -> 61081 | K15: =ROUND(J15*E15,0) -> 610810
A16: Subtotal | G16: =ROUND(SUM(G13,G15),0) -> 0
A17: CAPITULO II - MOVIMIENTO DE TIERRAS
A18: 1.3 | B18: =+'A.P.U'!A16 -> - | C18: =+'A.P.U'!C16 -> SUMINISTRO Y TRANSPORTE RETROCARGADORA DE LLANTAS | D18: =+'A.P.U'!E16 -> HR | E18: 32 | G18: =ROUND(F18*E18,0) -> 0 | J18: =+'A.P.U'!H16 -> 116445 | K18: =ROUND(J18*E18,0) -> 3726240
A19: 002 | C19: MOVIMIENTO DE TIERRAS
A20: 1.4 | B20: =+'A.P.U'!A20 -> 002.016 | C20: =+'A.P.U'!C20 -> EXCAVACIÓN A CIELO ABIERTO - MATERIAL COMÚN - 0.0 A 2.0 M | D20: =+'A.P.U'!E20 -> M3 | E20: 50 | G20: =ROUND(F20*E20,0) -> 0 | J20: =+'A.P.U'!H20 -> 24769 | K20: =ROUND(J20*E20,0) -> 1238450
A21: 1.5 | B21: =+'A.P.U'!A26 -> 002.001 | C21: =+'A.P.U'!C26 -> EXCAVACIÓN EN ZANJA - MATERIAL COMÚN - 0.0 A 2.0 M | D21: =+'A.P.U'!E26 -> M3 | E21: 4 | G21: =ROUND(F21*E21,0) -> 0 | J21: =+'A.P.U'!H26 -> 25996 | K21: =ROUND(J21*E21,0) -> 103984
A22: Subtotal | G22: =ROUND(SUM(G18,G20:G21),9) -> 0
A23: CAPITULO III - DESMONTES Y DEMOLICIONES
A24: 028 | C24: DESMONTES
A25: 1.6 | B25: =+'A.P.U'!A32 -> 028.005 | C25: =+'A.P.U'!C32 -> DESMONTE APARATOS SANITARIOS | D25: =+'A.P.U'!E32 -> UND | E25: 2 | G25: =ROUND(F25*E25,0) -> 0 | J25: =+'A.P.U'!H32 -> 39898 | K25: =ROUND(J25*E25,0) -> 79796
A26: 1.7 | B26: =+'A.P.U'!A39 -> 028.009 | C26: =+'A.P.U'!C39 -> DESMONTE DE VENTANERIA | D26: =+'A.P.U'!E39 -> M2 | E26: 5 | G26: =ROUND(F26*E26,0) -> 0 | J26: =+'A.P.U'!H39 -> 11609 | K26: =ROUND(J26*E26,0) -> 58045
A27: 1.8 | B27: =+'A.P.U'!A46 -> 028.012 | C27: =+'A.P.U'!C46 -> DESMONTE PUERTAS (INCLUYE RETIRO) | D27: =+'A.P.U'!E46 -> UND | E27: 4 | G27: =ROUND(F27*E27,0) -> 0 | J27: =+'A.P.U'!H46 -> 27549 | K27: =ROUND(J27*E27,0) -> 110196
A28: 1.9 | B28: =+'A.P.U'!A53 -> 028.088 | C28: =+'A.P.U'!C53 -> DESMONTE PUNTOS ELECTRICOS INCLUYE APARATOS Y CABLE (NO INCLUYE RETIRO) | D28: =+'A.P.U'!E53 -> UND | E28: 11 | G28: =ROUND(F28*E28,0) -> 0 | J28: =+'A.P.U'!H53 -> 8863 | K28: =ROUND(J28*E28,0) -> 97493
A29: 033 | C29: ADICIONALES AGUAS DE MANIZALES
A30: 1.11 | B30: =+'A.P.U'!A64 -> 033.087 | C30: =+'A.P.U'!C64 -> DEMOLICION DE ESTRUCTURAS DE CONCRETO REFORZADO | D30: =+'A.P.U'!E64 -> M3 | E30: 22 | G30: =ROUND(F30*E30,0) -> 0 | J30: =+'A.P.U'!H64 -> 136595 | K30: =ROUND(J30*E30,0) -> 3005090
A31: 029 | C31: DEMOLICIONES
A32: 1.10 | B32: =+'A.P.U'!A59 -> 029.011 | C32: =+'A.P.U'!C59 -> DEMOLICIÓN DE LAVADERO | D32: =+'A.P.U'!E59 -> UND | E32: 2 | G32: =ROUND(F32*E32,0) -> 0 | J32: =+'A.P.U'!H59 -> 38002 | K32: =ROUND(J32*E32,0) -> 76004
A33: 1.12 | B33: =+'A.P.U'!A72 -> 029.074 | C33: =+'A.P.U'!C72 -> DEMOLICION MURO MAMPOSTERIA DE LADRILLO O BLOQUE | D33: =+'A.P.U'!E72 -> M2 | E33: 28 | G33: =ROUND(F33*E33,0) -> 0 | J33: =+'A.P.U'!H72 -> 18705 | K33: =ROUND(J33*E33,0) -> 523740
A34: 1.13 | B34: =+'A.P.U'!A78 -> 029.008 | C34: =+'A.P.U'!C78 -> DEMOLICION PLACA DE ENTREPISO hasta E=0.30 m. . | D34: =+'A.P.U'!E78 -> M2 | E34: 66 | G34: =ROUND(F34*E34,0) -> 0 | J34: =+'A.P.U'!H78 -> 36186 | K34: =ROUND(J34*E34,0) -> 2388276
A35: Subtotal | G35: =ROUND(SUM(G25:G28,G30,G32:G34),0) -> 0
A36: CAPITULO IV - EVACUACION Y ACARREOS
A37: 001 | C37: PRELIMINARES
A38: 1.14 | B38: =+'A.P.U'!A87 -> 001.074 | C38: =+'A.P.U'!C87 -> EVACUACION ESCOMBROS Y SOBRANTES EN VEHICULO AUTOMOTOR | D38: =+'A.P.U'!E87 -> M3 | E38: 390.409 | G38: =ROUND(F38*E38,0) -> 0 | J38: =+'A.P.U'!H87 -> 40882 | K38: =ROUND(J38*E38,0) -> 15960701
A39: 002 | C39: MOVIMIENTO DE TIERRAS
A40: 1.17 | B40: =+'A.P.U'!A95 -> 002.119 | C40: =+'A.P.U'!C95 -> DISPOSICION FINAL BOTADERO | D40: =+'A.P.U'!E95 -> TON | E40: 6 | G40: =ROUND(F40*E40,0) -> 0 | J40: =+'A.P.U'!H95 -> 42000 | K40: =ROUND(J40*E40,0) -> 252000
A41: 033 | C41: ADICIONALES AGUAS DE MANIZALES
A42: 1.18 | B42: =+'A.P.U'!A99 -> 033.088 | C42: =+'A.P.U'!C99 -> SOBREACARREO EN VEHICULO NO AUTOMOTOR AL HOMBRO EN FUERTE PENDIENTE Y/O ESCALAS (SIN ACARREO LIBRE) | D42: =+'A.P.U'!E99 -> M3 - HM | E42: =+ROUND(E38*0.2,0) -> 78 | G42: =ROUND(F42*E42,0) -> 0 | J42: =+'A.P.U'!H99 -> 101155 | K42: =ROUND(J42*E42,0) -> 7890090
A43: Subtotal | G43: =ROUND(SUM(G38,G40,G42),0) -> 0
A44: CAPITULO V - CERRAMIENTO
...

Sheet A.P.U
A2: ANÁLISIS DE PRECIOS UNITARIOS
A4: CODIGO | B4: COD INSUMO | C4: INSUMO | D4: TIPO | E4: UNIDAD | F4: REND | G4: VALOR UNITARIO | H4: VALOR TOTAL | I4: AIU | J4: VALOR TOTAL INCLUÍDO AIU
A5: 032.170 | B5: - | C5: SUMINISTRO, TRANSPORTE E INSTALACIÓN DE ANDAMIOS METÁLICOS CERTIFICADOS. INCLUYE ESCALERILLA CON BARANDAS Y PLATAFORMAS DE TRABAJO. | D5: Actividad | E5: DIA | H5: =ROUND(SUM(H6:H9),0) -> 69287 | I5: ='A.I.U'!$G$27 -> 1.334 | J5: =ROUND(H5*I5,0) -> 92429
A6: 032.170 | B6: C1 | C6: CUADRILLA AA TIPO 1 (1 OFICIAL + 1 AYUDANTE) (Albañileria) | D6: Cuadrilla | E6: HR | F6: 0.3 | G6: 18395 | H6: =+ROUND(F6*G6,0) -> 5519
A7: 032.170 | B7: E1 | C7: ANDAMIO METALICO CERTIFICADO, INCLUYE ESCALERILLA CON BARANDAS Y PLATAFORMAS DE TRABAJO | D7: Equipos | E7: DIA | F7: 8 | G7: 7665 | H7: =+ROUND(F7*G7,0) -> 61320
A8: 032.170 | B8: H2 | C8: EQUIPO BASICO (HERRAMIENTA MENOR) | D8: Herramienta | E8: UND | F8: 0.5 | G8: 2679 | H8: =+ROUND(F8*G8,0) -> 1340
A9: 032.170 | B9: I1565 | C9: ACARREO INTERNO | D9: Insumo | E9: UND | F9: 0.79 | G9: 1402 | H9: =+ROUND(F9*G9,0) -> 1108
A11: CODIGO | B11: COD INSUMO | C11: INSUMO | D11: TIPO | E11: UNIDAD | F11: REND | G11: VALOR UNITARIO | H11: VALOR TOTAL | I11: AIU | J11: VALOR TOTAL INCLUÍDO AIU
A12: 033.154 | B12: - | C12: SUMINISTRO EEPP PARA TAREAS DE ALTO RIESGO: TRABAJO SEGURO EN ALTURAS, INCLUYE ARNÉS DE 6 ARGOLLAS (ESPACIO CONFINADO), LÍNEA DE VIDA EN POLIAMIDA, ARRESTADOR DE CAÍDA, ESLINGA EN Y, 3 MOSQUETONES CON CIERRE AUTOMÁTICO DE TRES PASOS | D12: Actividad | E12: DIA | H12: =ROUND(SUM(H13),0) -> 61081 | I12: ='A.I.U'!$G$27 -> 1.334 | J12: =ROUND(H12*I12,0) -> 81482
C13: EQUIPO DE TRABAJO EN ALTURA (LÍNEA DE VIDA Y ARNES) X DÍA | D13: Insumo | E13: DIA | F13: 1 | G13: =59302*1.03 -> 61081.06 | H13: =G13*F13 -> 61081.06
A15: CODIGO | B15: COD INSUMO | C15: INSUMO | D15: TIPO | E15: UNIDAD | F15: REND | G15: VALOR UNITARIO | H15: VALOR TOTAL | I15: AIU | J15: VALOR TOTAL INCLUÍDO AIU
A16: - | B16: - | C16: SUMINISTRO Y TRANSPORTE RETROCARGADORA DE LLANTAS | D16: Actividad | E16: HR | H16: =ROUND(SUM(H17),0) -> 116445 | I16: ='A.I.U'!$G$27 -> 1.334 | J16: =ROUND(H16*I16,0) -> 155338
A17: 002.015 | B17: E43 | C17: RETROCARGADORA DE LLANTAS | D17: Equipos | E17: HR | F17: 1 | G17: 116445 | H17: =+ROUND(F17*G17,0) -> 116445
A19: CODIGO | B19: COD INSUMO | C19: INSUMO | D19: TIPO | E19: UNIDAD | F19: REND | G19: VALOR UNITARIO | H19: VALOR TOTAL | I19: AIU | J19: VALOR TOTAL INCLUÍDO AIU
A20: 002.016 | B20: - | C20: EXCAVACIÓN A CIELO ABIERTO - MATERIAL COMÚN - 0.0 A 2.0 M | D20: Actividad | E20: M3 | H20: =ROUND(SUM(H21:H23),0) -> 24769 | I20: ='A.I.U'!$G$27 -> 1.334 | J20: =ROUND(H20*I20,0) -> 33042
A21: 002.016 | B21: C22 | C21: CUADRILLA AA TIPO 4 (1 OFICIAL + 4 AYUDANTE) (Albañileria) | D21: Cuadrilla | E21: HR | F21: 0.54 | G21: 39620 | H21: =+ROUND(F21*G21,0) -> 21395
A22: 002.016 | B22: E37 | C22: MOTOBOMBA DE 2" A GASOLINA | D22: Equipos | E22: DIA | F22: 0.045 | G22: 51152 | H22: =+ROUND(F22*G22,0) -> 2302
A23: 002.016 | B23: H2 | C23: EQUIPO BASICO (HERRAMIENTA MENOR) | D23: Herramienta | E23: UND | F23: 0.4 | G23: 2679 | H23: =+ROUND(F23*G23,0) -> 1072
A25: CODIGO | B25: COD INSUMO | C25: INSUMO | D25: TIPO | E25: UNIDAD | F25: REND | G25: VALOR UNITARIO | H25: VALOR TOTAL | I25: AIU | J25: VALOR TOTAL INCLUÍDO AIU
A26: 002.001 | B26: - | C26: EXCAVACIÓN EN ZANJA - MATERIAL COMÚN - 0.0 A 2.0 M | D26: Actividad | E26: M3 | H26: =ROUND(SUM(H27:H29),0) -> 25996 | I26: ='A.I.U'!$G$27 -> 1.334 | J26: =ROUND(H26*I26,0) -> 34679
A27: 002.001 | B27: C22 | C27: CUADRILLA AA TIPO 4 (1 OFICIAL + 4 AYUDANTE) (Albañileria) | D27: Cuadrilla | E27: HR | F27: 0.6 | G27: 39620 | H27: =+ROUND(F27*G27,0) -> 23772
A28: 002.001 | B28: E36 | C28: EQUIPO MANEJO DE AGUAS DIFERENTE A AGUAS RESIDUALES | D28: Equipos | E28: DIA | F28: 0.033 | G28: 51152 | H28: =+ROUND(F28*G28,0) -> 1688
A29: 002.001 | B29: H2 | C29: EQUIPO BASICO (HERRAMIENTA MENOR) | D29: Herramienta | E29: UND | F29: 0.2 | G29: 2679 | H29: =+ROUND(F29*G29,0) -> 536
A31: CODIGO | B31: COD INSUMO | C31: INSUMO | D31: TIPO | E31: UNIDAD | F31: REND | G31: VALOR UNITARIO | H31: VALOR TOTAL | I31: AIU | J31: VALOR TOTAL INCLUÍDO AIU
A32: 028.005 | B32: - | C32: DESMONTE APARATOS SANITARIOS | D32: Actividad | E32: UND | H32: =+ROUND(SUM(H33:H36),0) -> 39898 | I32: ='A.I.U'!$G$27 -> 1.334 | J32: =ROUND(H32*I32,0) -> 53224
A33: 028.005 | B33: C1 | C33: CUADRILLA AA TIPO 1 (1 OFICIAL + 1 AYUDANTE) (Albañileria) | D33: Cuadrilla | E33: HR | F33: 1.7 | G33: 18395 | H33: =+ROUND(F33*G33,0) -> 31272
A34: 028.005 | B34: E24 | C34: VOLQUETA 6M3 (CARGUE A MANO) | D34: Equipos | E34: VJE | F34: 0.01 | G34: 124723 | H34: =+ROUND(F34*G34,0) -> 1247
A35: 028.005 | B35: H2 | C35: EQUIPO BASICO (HERRAMIENTA MENOR) | D35: Herramienta | E35: UND | F35: 1.7 | G35: 2679 | H35: =+ROUND(F35*G35,0) -> 4554
A36: 028.005 | B36: I1565 | C36: ACARREO INTERNO | D36: Insumo | E36: UND | F36: 2.0147 | G36: 1402 | H36: =+ROUND(F36*G36,0) -> 2825
A38: CODIGO | B38: COD INSUMO | C38: INSUMO | D38: TIPO | E38: UNIDAD | F38: REND | G38: VALOR UNITARIO | H38: VALOR TOTAL | I38: AIU | J38: VALOR TOTAL INCLUÍDO AIU
A39: 028.009 | B39: - | C39: DESMONTE DE VENTANERIA | D39: Actividad | E39: M2 | H39: =ROUND(SUM(H40:H43),0) -> 11609 | I39: ='A.I.U'!$G$27 -> 1.334 | J39: =ROUND(H39*I39,0) -> 15486
A40: 028.009 | B40: C1 | C40: CUADRILLA AA TIPO 1 (1 OFICIAL + 1 AYUDANTE) (Albañileria) | D40: Cuadrilla | E40: HR | F40: 0.35 | G40: 18395 | H40: =+ROUND(F40*G40,0) -> 6438
A41: 028.009 | B41: E24 | C41: VOLQUETA 6M3 (CARGUE A MANO) | D41: Equipos | E41: VJE | F41: 0.03 | G41: 124723 | H41: =+ROUND(F41*G41,0) -> 3742
A42: 028.009 | B42: H2 | C42: EQUIPO BASICO (HERRAMIENTA MENOR) | D42: Herramienta | E42: UND | F42: 0.35 | G42: 2679 | H42: =+ROUND(F42*G42,0) -> 938
A43: 028.009 | B43: I1565 | C43: ACARREO INTERNO | D43: Insumo | E43: UND | F43: 0.35 | G43: 1402 | H43: =+ROUND(F43*G43,0) -> 491
A45: CODIGO | B45: COD INSUMO | C45: INSUMO | D45: TIPO | E45: UNIDAD | F45: REND | G45: VALOR UNITARIO | H45: VALOR TOTAL | I45: AIU | J45: VALOR TOTAL INCLUÍDO AIU
A46: 028.012 | B46: - | C46: DESMONTE PUERTAS (INCLUYE RETIRO) | D46: Actividad | E46: UND | H46: =+ROUND(SUM(H47:H50),0) -> 27549 | I46: ='A.I.U'!$G$27 -> 1.334 | J46: =ROUND(H46*I46,0) -> 36750
A47: 028.012 | B47: C1 | C47: CUADRILLA AA TIPO 1 (1 OFICIAL + 1 AYUDANTE) (Albañileria) | D47: Cuadrilla | E47: HR | F47: 1 | G47: 18395 | H47: =+ROUND(F47*G47,0) -> 18395
A48: 028.012 | B48: E24 | C48: VOLQUETA 6M3 (CARGUE A MANO) | D48: Equipos | E48: VJE | F48: 0.04 | G48: 124723 | H48: =+ROUND(F48*G48,0) -> 4989
A49: 028.012 | B49: H2 | C49: EQUIPO BASICO (HERRAMIENTA MENOR) | D49: Herramienta | E49: UND | F49: 1 | G49: 2679 | H49: =+ROUND(F49*G49,0) -> 2679
...

Sheet A.I.U
A1: CALCULO DEL AIU.
A2: PROYECTO: | B2: DEMOLICIONES POR AMENAZA DE RUINA EN EL MUNICIPIO DE MANIZALES
A4: Valor estimado de la Obra (Costo Directo). | D4: Valor | E4: =+'PRESUPUESTO OFICIAL'!K48 -> 48725003
A5: Plazo estimado de ejecución | D5: Meses | E5: 1
A7: CAPITULO | B7: TIPO DE GASTO | C7: UN | D7: CANTIDAD. | E7: Destinación | F7: VLOR UNITARIO (mes) | G7: Factor Prestacional. | H7: VLOR TOTAL | I7: SUMA | J7: PORCENTAJE
A9: 1 | B9: GASTOS GENERALES. | J9: =+J10 -> 0.11643063
A10: 1.1 | B10: MANO DE OBRA Y GASTOS DE OFICINA | I10: =SUM(H11:H23) -> 5673082.6 | J10: =+I10/$E$4 -> 0.11643063
B11: Ingeniero Residente con prestaciones | C11: Un | D11: 1 | E11: 0.6 | F11: 2500000 | G11: 0.5483 | H11: =+D11*E11*$E$5*F11*(1+G11) -> 2322450
B12: Técnico constructor como Maestro de obra | C12: Un | D12: 1 | E12: 1.0022622 | F12: 1800000 | G12: 0.5483 | H12: =+D12*E12*$E$5*F12*(1+G12) -> 2793244.6
B13: Trabajadora social | C13: Un | D13: 1 | E13: 0 | F13: 1500000 | G13: 0.5483 | H13: =+D13*E13*$E$5*F13*(1+G13) -> 0
B14: Profesional en Seguridad y Salud en el Trabajo | C14: Un | D14: 1 | E14: 0.2 | F14: 1800000 | G14: 0.5483 | H14: =+D14*E14*$E$5*F14*(1+G14) -> 557388
B15: Celador con prestaciones | C15: Un | D15: 1 | E15: 0 | F15: 1000000 | G15: 0.5483 | H15: =+D15*E15*$E$5*F15*(1+G15) -> 0
B16: Secretaria con prestaciones | C16: Un | D16: 1 | E16: 0 | F16: 1000000 | G16: 0.5483 | H16: =+D16*E16*$E$5*F16*(1+G16) -> 0
B17: Contador | C17: Un | D17: 1 | E17: 0 | F17: 2000000 | G17: 0.5483 | H17: =+D17*E17*$E$5*F17*(1+G17) -> 0
B19: Almacén | C19: Un | D19: 1 | E19: 0 | F19: 800000 | H19: =E19*D19*F19 -> 0
B20: Plan manejo tránsito, etc | C20: GL | D20: 1 | E20: 0 | F20: 800000 | H20: =E20*D20*F20 -> 0
B21: Elaboracion de informes, registros | C21: Un | D21: 1 | E21: 0 | F21: 500000 | H21: =$E$5*F21*E21*D21 -> 0
B22: Seguridad y Salud en el trabajo | C22: Un | D22: 1 | E22: 0 | F22: 900000 | H22: =$E$5*F22*E22*D22 -> 0
B23: Sistema de Gestión Ambiental | C23: Un | D23: 1 | E23: 0 | F23: 300000 | H23: =$E$5*F23*E23*D23 -> 0
A25: 2 | B25: GASTOS INDIRECTOS. | J25: =J26+J29+J37+J41 -> 0.16755057
A26: 2.1 | B26: LEGALIZACION.
B27: Factor Multiplicador | G27: 1.334
A29: 2.2 | B29: POLIZAS | I29: =SUM(H30:H35) -> 773489.93 | J29: =+I29/$E$4 -> 0.0158746
B30: Cumplimiento | C30: % | D30: 0.0004 | F30: =+$E$4 -> 48725003 | G30: =$G$27 -> 1.334 | H30: =+F30*G30*D30 -> 25999.662 | J30: =+H30/$E$4 -> 0.0005336
B31: Estabilidad | C31: % | D31: 0.0056 | F31: =+$E$4 -> 48725003 | G31: =$G$27 -> 1.334 | H31: =+F31*G31*D31 -> 363995.26 | J31: =+H31/$E$4 -> 0.0074704
B32: Seriedad de la Propuesta. | C32: % | D32: 0.0002 | F32: =+$E$4 -> 48725003 | G32: =$G$27 -> 1.334 | H32: =+F32*G32*D32 -> 12999.831 | J32: =+H32/$E$4 -> 0.0002668
B33: Buen manejo y correcta inversión del anticipo | C33: % | D33: 0.0009 | F33: =+$E$4 -> 48725003 | G33: =$G$27 -> 1.334 | H33: =+F33*G33*D33 -> 58499.239 | J33: =+H33/$E$4 -> 0.0012006
B34: Pago de salarios, prestaciones sociales legales e indemnizaciones laborales | C34: % | D34: 0.0029 | F34: =+$E$4 -> 48725003 | G34: =$G$27 -> 1.334 | H34: =+F34*G34*D34 -> 188497.55 | J34: =+H34/$E$4 -> 0.0038686
B35: Responsabilidad Civil | C35: % | D35: 0.0019 | F35: =+$E$4 -> 48725003 | G35: =$G$27 -> 1.334 | H35: =+F35*G35*D35 -> 123498.39 | J35: =+H35/$E$4 -> 0.0025346
A37: 2.3 | B37: VALLAS Y SEÑALIZACIÓN | I37: =SUM(H38:H39) -> 650000 | J37: =+I37/$E$4 -> 0.013340174
B38: Valla (6 metros cuadrados en lona) | C38: Un | D38: 1 | F38: 400000 | H38: =+D38*F38 -> 400000 | J38: =+H38/$E$4 -> 0.0082093376
B39: Señalización preventiva | C39: Gb | D39: 0.5 | F39: 500000 | H39: =+F39*D39 -> 250000 | J39: =+H39/$E$4 -> 0.005130836
A41: 2.4 | B41: IMPUESTOS Y VALORES AGREGADOS | I41: =SUM(H42:H49) -> 6740412.3 | J41: =+I41/$E$4 -> 0.1383358
B42: Contribución Especial (Seguridad Ciudadana) | C42: % | D42: 0.05 | F42: =+$E$4 -> 48725003 | G42: =$G$27 -> 1.334 | H42: =+D42*F42*G42 -> 3249957.7 | J42: =+H42/$E$4 -> 0.0667
B43: Estampillas para el bienestar del adulto mayor | C43: % | D43: 0.02 | F43: =+$E$4 -> 48725003 | G43: =$G$27 -> 1.334 | H43: =+D43*F43*G43 -> 1299983.1 | J43: =+H43/$E$4 -> 0.02668
B44: Estampillas Pro - Universidades. | C44: % | D44: 0.01 | F44: =+$E$4 -> 48725003 | G44: =$G$27 -> 1.334 | H44: =+D44*F44*G44 -> 649991.54 | J44: =+H44/$E$4 -> 0.01334
B45: Estampillas Pro - Cultura | C45: % | D45: 0.005 | F45: =+$E$4 -> 48725003 | G45: =$G$31 -> 1.334 | H45: =+D45*F45*G45 -> 324995.77 | J45: =+H45/$E$4 -> 0.00667
B46: Tasa Pro deporte y recreación | C46: % | D46: 0.005 | F46: =+$E$4 -> 48725003 | G46: =$G$31 -> 1.334 | H46: =+D46*F46*G46 -> 324995.77 | J46: =+H46/$E$4 -> 0.00667
B47: Fiducia | C47: % | D47: 0.005 | F47: =+$E$4 -> 48725003 | G47: =$G$27 -> 1.334 | H47: =+D47*F47*G47 -> 324995.77 | J47: =+H47/$E$4 -> 0.00667
B48: 4/1000 (transacciones financieras) | C48: % | D48: 0.005 | F48: =+$E$4 -> 48725003 | G48: =$G$27 -> 1.334 | H48: =+D48*F48*G48 -> 324995.77 | J48: =+H48/$E$4 -> 0.00667
...
