Workbook
Name _EST1: #REF!
Name _EST10: #REF!
Name _EST10: #REF!
Name _EST10: #REF!
Name _EST10: #REF!
Name _EST11: #REF!
Name _EST11: #REF!
Name _EST11: #REF!
Name _EST11: #REF!
Name _EST12: #REF!
Name _EST12: #REF!
Name _EST12: #REF!
Name _EST12: #REF!
Name _EST13: #REF!
Name _EST13: #REF!
Name _EST13: #REF!
Name _EST13: #REF!
Name _EST14: #REF!
Name _EST14: #REF!
Name _EST14: #REF!
Name _EST14: #REF!
Name _EST15: #REF!
Name _EST15: #REF!
Name _EST15: #REF!
Name _EST15: #REF!
Name _EST16: #REF!
Name _EST16: #REF!
Name _EST16: #REF!
Name _EST16: #REF!
Name _EST17: #REF!
Name _EST17: #REF!
Name _EST17: #REF!
Name _EST17: #REF!
Name _EST18: #REF!
Name _EST18: #REF!
Name _EST18: #REF!
Name _EST18: #REF!
Name _EST19: #REF!
Name _EST19: #REF!
Name _EST19: #REF!
Name _EST19: #REF!
Name _EST2: #REF!
Name _EST2: #REF!
Name _EST2: #REF!
Name _EST2: #REF!
Name _EST3: #REF!
Name _EST4: #REF!
Name _EST4: #REF!
Name _EST4: #REF!
Name _EST4: #REF!
Name _EST5: #REF!
Name _EST5: #REF!
Name _EST5: #REF!
Name _EST5: #REF!
Name _EST6: #REF!
Name _EST6: #REF!
Name _EST6: #REF!
Name _EST6: #REF!
Name _EST7: #REF!
Name _EST7: #REF!

Sheet LISTADO DE UNITARIOS
B1: SECRETARIA DE OBRAS PUBLICAS | K1: OBJETO: REPARACION Y MEJORAMIENTO DE LAS BATERIAS SANITARIA DE LA INSTITUCION EDUCATIVA LOPERENA LA ESPERANZA
B2: MUNICIPIO DE VALLEDUPAR
A3: OBJETO: MEJORAMIENTO Y REPARACIONES GENERALES BASICAS DE LA INFRAESTRUCTURA FISICA DEL JARDIN NACIONAL ANEXA A LA INSTITUCION EDUCATIVA CASD SIMON BOLIVAR DEL MUNICIPIO DE VALLEDUPAR
A4: PRESUPUESTO OFICIAL | I4: CRONOGRAMA DE ACTIVIDADES
A5: ITEMS | B5: ACTIVIDADES | C5: U.M | D5: CANTIDAD | E5: VALOR. UNITARIO | F5: VALOR TOTAL | G5: % DE INCIDENCIA | I5: TAREAS | L5: DURACION | M5: MES 1 | AQ5: MES 2 | BU5: MES 3 | CZ5: DIAS POR ITEMS
I6: DURACION EN DIAS | J6: COMIENZO | K6: FIN | L6: 90DIAS | M6: 1 | N6: 2 | O6: 3 | P6: 4 | Q6: 5 | R6: 6 | S6: 7 | T6: 8 | U6: 9 | V6: 10 | W6: 11 | X6: 12 | Y6: 13 | Z6: 14 | AA6: 15 | AB6: 16 | AC6: 17 | AD6: 18 | AE6: 19 | AF6: 20 | AG6: 21 | AH6: 22 | AI6: 23 | AJ6: 24 | AK6: 25 | AL6: 26 | AM6: 27 | AN6: 28 | AO6: 29 | AP6: 30 | AQ6: 31 | AR6: 32 | AS6: 33 | AT6: 34 | AU6: 35 | AV6: 36 | AW6: 37 | AX6: 38 | AY6: 39 | AZ6: 40 | BA6: 41 | BB6: 42 | BC6: 43 | BD6: 44 | BE6: 45 | BF6: 46 | BG6: 47 | BH6: 48 | BI6: 49 | BJ6: 50 | BK6: 51 | BL6: 52 | BM6: 53 | BN6: 54 | BO6: 55 | BP6: 56 | BQ6: 57 | BR6: 58 | BS6: 59 | BT6: 60 | BU6: 61 | BV6: 62 | BW6: 63 | BX6: 64 | BY6: 65 | BZ6: 66 | CA6: 67 | CB6: 68 | CC6: 69 | CD6: 70 | CE6: 71 | CF6: 72 | CG6: 73 | CH6: 74 | CI6: 75 | CJ6: 76 | CK6: 77 | CL6: 78 | CM6: 79 | CN6: 80 | CO6: 81 | CP6: 82 | CQ6: 83 | CR6: 84 | CS6: 85 | CT6: 86 | CU6: 87 | CV6: 88 | CW6: 89 | CX6: 90 | CY6: 91
M7: SEMANA 1 | T7: SEMANA 2 | AA7: SEMANA 3 | AH7: SEMANA 4 | AO7: SEMANA 5 | AV7: SEMANA 6 | BC7: SEMANA 3 | BJ7: SEMANA 7 | BQ7: SEMANA 8 | BX7: SEMANA 9 | CE7: SEMANA 10 | CL7: SEMANA 11 | CS7: SEMANA 12
M8: L | N8: M | O8: M | P8: J | Q8: V | R8: S | S8: D | T8: L | U8: M | V8: M | W8: J | X8: V | Y8: S | Z8: D | AA8: L | AB8: M | AC8: M | AD8: J | AE8: V | AF8: S | AG8: D | AH8: L | AI8: M | AJ8: M | AK8: J | AL8: V | AM8: S | AN8: D | AO8: L | AP8: M | AQ8: M | AR8: J | AS8: V | AT8: S | AU8: D | AV8: L | AW8: M | AX8: M | AY8: J | AZ8: V | BA8: S | BB8: D | BC8: L | BD8: M | BE8: M | BF8: J | BG8: V | BH8: S | BI8: D | BJ8: L | BK8: M | BL8: M | BM8: J | BN8: V | BO8: S | BP8: D | BQ8: L | BR8: M | BS8: M | BT8: J | BU8: V | BV8: S | BW8: D | BX8: L | BY8: M | BZ8: M | CA8: J | CB8: V | CC8: S | CD8: D | CE8: L | CF8: M | CG8: M | CH8: J | CI8: V | CJ8: S | CK8: D | CL8: L | CM8: M | CN8: M | CO8: J | CP8: V | CQ8: S | CR8: D | CS8: L | CT8: M | CU8: M | CV8: J | CW8: V | CX8: S | CY8: D
A9: =EDIFICACION!A6 -> I | B9: PRELIMINARES
A10: =EDIFICACION!A7 -> 1.1 | B10: =EDIFICACION!B7 -> CERRAMIENTO PROVISIONAL EN TELA VERDE H=2.10M | C10: =EDIFICACION!C7 -> ML | D10: =21.63+21.63 -> 43.26 | E10: =EDIFICACION!F7 -> 28915 | F10: =E10*D10 -> 1250862.9 | G10: =F10/F259 -> 0.0037770443 | I10: 1 DIA | J10: DIA 1 | K10: DIA 1 | L10: VR. PROG. | M10: =F10/CZ10*M11 -> 1250862.9 | CZ10: 1
L11: DIAS | M11: 1 | N11: 2 | O11: 3 | P11: 4 | Q11: 5 | R11: 6 | S11: 7 | T11: 1 | U11: 2 | V11: 3 | W11: 4 | X11: 5 | Y11: 6 | Z11: 7 | AA11: 1 | AB11: 2 | AC11: 3 | AD11: 4 | AE11: 5 | AF11: 6 | AG11: 7 | AH11: 1 | AI11: 2 | AJ11: 3 | AK11: 4 | AL11: 5 | AM11: 6 | AN11: 7 | AO11: 1 | AP11: 2 | AQ11: 3 | AR11: 4 | AS11: 5 | AT11: 6 | AU11: 7 | AV11: 1 | AW11: 2 | AX11: 3 | AY11: 4 | AZ11: 5 | BA11: 6 | BB11: 7 | BC11: 1 | BD11: 2 | BE11: 3 | BF11: 4 | BG11: 5 | BH11: 6 | BI11: 7 | BJ11: 1 | BK11: 2 | BL11: 3 | BM11: 4 | BN11: 5 | BO11: 6 | BP11: 7 | BQ11: 1 | BR11: 2 | BS11: 3 | BT11: 4 | BU11: 5 | BV11: 6 | BW11: 7 | BX11: 1 | BY11: 2 | BZ11: 3 | CA11: 4 | CB11: 5 | CC11: 6 | CD11: 7 | CE11: 1 | CF11: 2 | CG11: 3 | CH11: 4 | CI11: 5 | CJ11: 6 | CK11: 7 | CL11: 1 | CM11: 2 | CN11: 3 | CO11: 4 | CP11: 5 | CQ11: 6 | CR11: 7 | CS11: 1 | CT11: 2 | CU11: 3 | CV11: 4 | CW11: 5 | CX11: 6 | CY11: 7
L12: VR. MES PROG | M12: =M10+T10+AA10+AH10 -> 1250862.9 | AQ12: =AO10+AV10+BC10+BJ10 -> 0 | BU12: =BQ10+BX10+CE10+CL10+CS10 -> 0
A13: =EDIFICACION!A18 -> 1.2 | B13: =EDIFICACION!B18 -> EXCAVACION MANUAL PARA RETIRO DE TUBERIA Y ZAPATAS DE TANQUE ELEVADO | C13: =EDIFICACION!C18 -> M3 | D13: =(18*0.3*0.3)+(1.2*1.2*1.2*2) -> 5.076 | E13: =EDIFICACION!F18 -> 34994 | F13: =E13*D13 -> 177629.54 | G13: =F13/F259 -> 0.00053636147 | I13: 2 DIAS | J13: DIA 17 | K13: DIA 18 | L13: VR. PROG. | AA13: =F13/CZ13*AB14 -> 177629.54 | CZ13: 2
L14: DIAS | M14: 1 | N14: 2 | O14: 3 | P14: 4 | Q14: 5 | R14: 6 | S14: 7 | T14: 1 | U14: 2 | V14: 3 | W14: 4 | X14: 5 | Y14: 6 | Z14: 7 | AA14: 1 | AB14: 2 | AC14: 3 | AD14: 4 | AE14: 5 | AF14: 6 | AG14: 7 | AH14: 1 | AI14: 2 | AJ14: 3 | AK14: 4 | AL14: 5 | AM14: 6 | AN14: 7 | AO14: 1 | AP14: 2 | AQ14: 3 | AR14: 4 | AS14: 5 | AT14: 6 | AU14: 7 | AV14: 1 | AW14: 2 | AX14: 3 | AY14: 4 | AZ14: 5 | BA14: 6 | BB14: 7 | BC14: 1 | BD14: 2 | BE14: 3 | BF14: 4 | BG14: 5 | BH14: 6 | BI14: 7 | BJ14: 1 | BK14: 2 | BL14: 3 | BM14: 4 | BN14: 5 | BO14: 6 | BP14: 7 | BQ14: 1 | BR14: 2 | BS14: 3 | BT14: 4 | BU14: 5 | BV14: 6 | BW14: 7 | BX14: 1 | BY14: 2 | BZ14: 3 | CA14: 4 | CB14: 5 | CC14: 6 | CD14: 7 | CE14: 1 | CF14: 2 | CG14: 3 | CH14: 4 | CI14: 5 | CJ14: 6 | CK14: 7 | CL14: 1 | CM14: 2 | CN14: 3 | CO14: 4 | CP14: 5 | CQ14: 6 | CR14: 7 | CS14: 1 | CT14: 2 | CU14: 3 | CV14: 4 | CW14: 5 | CX14: 6 | CY14: 7
L15: VR. MES PROG | M15: =M13+T13+AA13+AH13 -> 177629.54 | AQ15: =AO13+AV13+BC13+BJ13 -> 0 | BU15: =BQ13+BX13+CE13+CL13+CS13 -> 0
A16: =EDIFICACION!A22 -> 1.3 | B16: =EDIFICACION!B22 -> RELLENO SELECCIONADO, INCL. SUMINISTRO Y COMPACTACION | C16: =EDIFICACION!C22 -> M3 | D16: 140 | E16: =EDIFICACION!F22 -> 52398 | F16: =E16*D16 -> 7335720 | G16: =F16/F259 -> 0.022150581 | I16: 2 DIAS | J16: DIA 34 | K16: DIA 35 | L16: VR. PROG. | AO16: =F16/CZ16*AP17 -> 7335720 | CZ16: 2
L17: DIAS | M17: 1 | N17: 2 | O17: 3 | P17: 4 | Q17: 5 | R17: 6 | S17: 7 | T17: 1 | U17: 2 | V17: 3 | W17: 4 | X17: 5 | Y17: 6 | Z17: 7 | AA17: 1 | AB17: 2 | AC17: 3 | AD17: 4 | AE17: 5 | AF17: 6 | AG17: 7 | AH17: 1 | AI17: 2 | AJ17: 3 | AK17: 4 | AL17: 5 | AM17: 6 | AN17: 7 | AO17: 1 | AP17: 2 | AQ17: 3 | AR17: 4 | AS17: 5 | AT17: 6 | AU17: 7 | AV17: 1 | AW17: 2 | AX17: 3 | AY17: 4 | AZ17: 5 | BA17: 6 | BB17: 7 | BC17: 1 | BD17: 2 | BE17: 3 | BF17: 4 | BG17: 5 | BH17: 6 | BI17: 7 | BJ17: 1 | BK17: 2 | BL17: 3 | BM17: 4 | BN17: 5 | BO17: 6 | BP17: 7 | BQ17: 1 | BR17: 2 | BS17: 3 | BT17: 4 | BU17: 5 | BV17: 6 | BW17: 7 | BX17: 1 | BY17: 2 | BZ17: 3 | CA17: 4 | CB17: 5 | CC17: 6 | CD17: 7 | CE17: 1 | CF17: 2 | CG17: 3 | CH17: 4 | CI17: 5 | CJ17: 6 | CK17: 7 | CL17: 1 | CM17: 2 | CN17: 3 | CO17: 4 | CP17: 5 | CQ17: 6 | CR17: 7 | CS17: 1 | CT17: 2 | CU17: 3 | CV17: 4 | CW17: 5 | CX17: 6 | CY17: 7
L18: VR. MES PROG | M18: =M16+T16+AA16+AH16 -> 0 | AQ18: =AO16+AV16+BC16+BJ16 -> 7335720 | BU18: =BQ16+BX16+CE16+CL16+CS16 -> 0
E19: Subtotal | F19: =SUM(F10:F18) -> 8764212.4 | G19: =F19/F259 -> 0.026463987 | M19: =M12+M15+M18 -> 1428492.4 | AQ19: =AQ12+AQ15+AQ18 -> 7335720 | BU19: =BU12+BU15+BU18 -> 0 | CZ19: =SUM(CZ10:CZ18) -> 5
I20: SUBTOTAL | N20: =M19+AQ19+BU19 -> 8764212.4
A21: =EDIFICACION!A30 -> II | B21: =EDIFICACION!B30 -> DEMOLICIONES Y DESMONTES
A22: =EDIFICACION!A31 -> 2.1 | B22: =EDIFICACION!B31 -> DEMOLICIÓN PISO ESPESOR HASTA .10 | C22: =EDIFICACION!C31 -> M2 | D22: =62.92+62.56+5+80 -> 210.48 | E22: =EDIFICACION!F31 -> 14805 | F22: =E22*D22 -> 3116156.4 | G22: =F22/F259 -> 0.0094093932 | I22: 2 DIAS | J22: DIA 14 | K22: DIA 15 | L22: VR. PROG. | T22: =F22/CZ22*T23 -> 1558078.2 | AA22: =F22/CZ22*AA23 -> 1558078.2 | CZ22: 2
L23: DIAS | M23: 1 | N23: 2 | O23: 3 | P23: 4 | Q23: 5 | R23: 6 | S23: 7 | T23: 1 | U23: 2 | V23: 3 | W23: 4 | X23: 5 | Y23: 6 | Z23: 7 | AA23: 1 | AB23: 2 | AC23: 3 | AD23: 4 | AE23: 5 | AF23: 6 | AG23: 7 | AH23: 1 | AI23: 2 | AJ23: 3 | AK23: 4 | AL23: 5 | AM23: 6 | AN23: 7 | AO23: 1 | AP23: 2 | AQ23: 3 | AR23: 4 | AS23: 5 | AT23: 6 | AU23: 7 | AV23: 1 | AW23: 2 | AX23: 3 | AY23: 4 | AZ23: 5 | BA23: 6 | BB23: 7 | BC23: 1 | BD23: 25 | BE23: 3 | BF23: 4 | BG23: 5 | BH23: 6 | BI23: 7 | BJ23: 1 | BK23: 2 | BL23: 3 | BM23: 4 | BN23: 5 | BO23: 6 | BP23: 7 | BQ23: 1 | BR23: 2 | BS23: 3 | BT23: 4 | BU23: 5 | BV23: 6 | BW23: 7 | BX23: 1 | BY23: 2 | BZ23: 3 | CA23: 4 | CB23: 5 | CC23: 6 | CD23: 7 | CE23: 1 | CF23: 2 | CG23: 3 | CH23: 4 | CI23: 5 | CJ23: 6 | CK23: 7 | CL23: 1 | CM23: 2 | CN23: 3 | CO23: 4 | CP23: 5 | CQ23: 6 | CR23: 7 | CS23: 1 | CT23: 2 | CU23: 3 | CV23: 4 | CW23: 5 | CX23: 6 | CY23: 7
L24: VR. MES PROG | M24: =M22+T22+AA22+AH22 -> 3116156.4 | AQ24: =AO22+AV22+BC22+BJ22 -> 0 | BU24: =BQ22+BX22+CE22+CL22+CS22 -> 0
A25: =EDIFICACION!A35 -> 2.2 | B25: =EDIFICACION!B35 -> DEMOLICIÓN MUROS SENCILLOS | C25: =EDIFICACION!C35 -> M2 | D25: =(7.28*0.34)+(1.97*0.25*5)+(0.5*0.6*2*3)+(1.75*0.79*3)+(0.86*2*3) -> 16.0452 | E25: =EDIFICACION!F35 -> 9421 | F25: =E25*D25 -> 151161.83 | G25: =F25/F259 -> 0.00045644086 | I25: 1 DIA | J25: DIA 16 | K25: DIA 16 | L25: VR. PROG. | AA25: =F25/CZ25*AA26 -> 151161.83 | CZ25: 1
L26: DIAS | M26: 1 | N26: 2 | O26: 3 | P26: 4 | Q26: 5 | R26: 6 | S26: 7 | T26: 1 | U26: 2 | V26: 3 | W26: 4 | X26: 5 | Y26: 6 | Z26: 7 | AA26: 1 | AB26: 2 | AC26: 3 | AD26: 4 | AE26: 5 | AF26: 6 | AG26: 7 | AH26: 1 | AI26: 2 | AJ26: 3 | AK26: 4 | AL26: 5 | AM26: 6 | AN26: 7 | AO26: 1 | AP26: 2 | AQ26: 3 | AR26: 4 | AS26: 5 | AT26: 6 | AU26: 7 | AV26: 1 | AW26: 2 | AX26: 3 | AY26: 4 | AZ26: 5 | BA26: 6 | BB26: 7 | BC26: 1 | BD26: 2 | BE26: 3 | BF26: 4 | BG26: 5 | BH26: 6 | BI26: 7 | BJ26: 1 | BK26: 2 | BL26: 3 | BM26: 4 | BN26: 5 | BO26: 6 | BP26: 7 | BQ26: 1 | BR26: 2 | BS26: 3 | BT26: 4 | BU26: 5 | BV26: 6 | BW26: 7 | BX26: 1 | BY26: 2 | BZ26: 3 | CA26: 4 | CB26: 5 | CC26: 6 | CD26: 7 | CE26: 1 | CF26: 2 | CG26: 3 | CH26: 4 | CI26: 5 | CJ26: 6 | CK26: 7 | CL26: 1 | CM26: 2 | CN26: 3 | CO26: 4 | CP26: 5 | CQ26: 6 | CR26: 7 | CS26: 1 | CT26: 2 | CU26: 3 | CV26: 4 | CW26: 5 | CX26: 6 | CY26: 7
L27: VR. MES PROG | M27: =M25+T25+AA25+AH25 -> 151161.83 | AQ27: =AO25+AV25+BC25+BJ25 -> 0 | BU27: =BQ25+BX25+CE25+CL25+CS25 -> 0
A28: =EDIFICACION!A40 -> 2.3 | B28: =EDIFICACION!B40 -> DESMONTE DE APARATOS SANITARIOS, LAVAMANOS Y LAVAPLATOS | C28: =EDIFICACION!C40 -> UN | D28: =16+21+18 -> 55 | E28: =EDIFICACION!F40 -> 26649 | F28: =E28*D28 -> 1465695 | G28: =F28/F259 -> 0.0044257408 | I28: 2 DIAS | J28: DIA 2 | K28: DIA 3 | L28: VR. PROG. | M28: =F28/CZ28*N29 -> 1465695 | CZ28: 2
L29: DIAS | M29: 1 | N29: 2 | O29: 3 | P29: 4 | Q29: 5 | R29: 6 | S29: 7 | T29: 1 | U29: 2 | V29: 3 | W29: 4 | X29: 5 | Y29: 6 | Z29: 7 | AA29: 1 | AB29: 2 | AC29: 3 | AD29: 4 | AE29: 5 | AF29: 6 | AG29: 7 | AH29: 1 | AI29: 2 | AJ29: 3 | AK29: 4 | AL29: 5 | AM29: 6 | AN29: 7 | AO29: 1 | AP29: 2 | AQ29: 3 | AR29: 4 | AS29: 5 | AT29: 6 | AU29: 7 | AV29: 1 | AW29: 2 | AX29: 3 | AY29: 4 | AZ29: 5 | BA29: 6 | BB29: 7 | BC29: 1 | BD29: 2 | BE29: 3 | BF29: 4 | BG29: 5 | BH29: 6 | BI29: 7 | BJ29: 1 | BK29: 2 | BL29: 3 | BM29: 4 | BN29: 5 | BO29: 6 | BP29: 7 | BQ29: 1 | BR29: 2 | BS29: 3 | BT29: 4 | BU29: 5 | BV29: 6 | BW29: 7 | BX29: 1 | BY29: 2 | BZ29: 3 | CA29: 4 | CB29: 5 | CC29: 6 | CD29: 7 | CE29: 1 | CF29: 2 | CG29: 3 | CH29: 4 | CI29: 5 | CJ29: 6 | CK29: 7 | CL29: 1 | CM29: 2 | CN29: 3 | CO29: 4 | CP29: 5 | CQ29: 6 | CR29: 7 | CS29: 1 | CT29: 2 | CU29: 3 | CV29: 4 | CW29: 5 | CX29: 6 | CY29: 7
L30: VR. MES PROG | M30: =M28+T28+AA28+AH28 -> 1465695 | AQ30: =AO28+AV28+BC28+BJ28 -> 0 | BU30: =BQ28+BX28+CE28+CL28+CS28 -> 0
A31: =EDIFICACION!A44 -> 2.4 | B31: =EDIFICACION!B44 -> DESMONTE DE LAMPARAS FLUORESCENTES DE 2X48 | C31: =EDIFICACION!C44 -> UN | D31: 6 | E31: =EDIFICACION!F44 -> 29610 | F31: =E31*D31 -> 177660 | G31: =F31/F259 -> 0.00053645343 | I31: 1 DIAS | J31: DIA 3 | K31: DIA 3 | L31: VR. PROG. | M31: =F31/CZ31*M32 -> 177660 | CZ31: 1
L32: DIAS | M32: 1 | N32: 2 | O32: 3 | P32: 4 | Q32: 5 | R32: 6 | S32: 7 | T32: 1 | U32: 2 | V32: 3 | W32: 4 | X32: 5 | Y32: 6 | Z32: 7 | AA32: 1 | AB32: 2 | AC32: 3 | AD32: 4 | AE32: 5 | AF32: 6 | AG32: 7 | AH32: 1 | AI32: 2 | AJ32: 3 | AK32: 4 | AL32: 5 | AM32: 6 | AN32: 7 | AO32: 1 | AP32: 2 | AQ32: 3 | AR32: 4 | AS32: 5 | AT32: 6 | AU32: 7 | AV32: 1 | AW32: 2 | AX32: 3 | AY32: 4 | AZ32: 5 | BA32: 6 | BB32: 7 | BC32: 1 | BD32: 2 | BE32: 3 | BF32: 4 | BG32: 5 | BH32: 6 | BI32: 7 | BJ32: 1 | BK32: 2 | BL32: 3 | BM32: 4 | BN32: 5 | BO32: 6 | BP32: 7 | BQ32: 1 | BR32: 2 | BS32: 3 | BT32: 4 | BU32: 5 | BV32: 6 | BW32: 7 | BX32: 1 | BY32: 2 | BZ32: 3 | CA32: 4 | CB32: 5 | CC32: 6 | CD32: 7 | CE32: 1 | CF32: 2 | CG32: 3 | CH32: 4 | CI32: 5 | CJ32: 6 | CK32: 7 | CL32: 1 | CM32: 2 | CN32: 3 | CO32: 4 | CP32: 5 | CQ32: 6 | CR32: 7 | CS32: 1 | CT32: 2 | CU32: 3 | CV32: 4 | CW32: 5 | CX32: 6 | CY32: 7
L33: VR. MES PROG | M33: =M31+T31+AA31+AH31 -> 177660
A34: =EDIFICACION!A48 -> 2.5 | B34: =EDIFICACION!B48 -> DESMONTE MARCOS Y PUERTAS | C34: =EDIFICACION!C48 -> M2 | D34: =(0.65*1.9*16)+(0.65*1.9*21)+(2.5*1*2) -> 50.695 | E34: =EDIFICACION!F48 -> 10767 | F34: =E34*D34 -> 545833.06 | G34: =F34/F259 -> 0.0016481708 | I34: 1 DIA | J34: DIA 4 | K34: DIA 4 | L34: VR. PROG. | M34: =F34/CZ34*M35 -> 545833.06 | CZ34: 1
L35: DIAS | M35: 1 | N35: 2 | O35: 3 | P35: 4 | Q35: 5 | R35: 6 | S35: 7 | T35: 1 | U35: 2 | V35: 3 | W35: 4 | X35: 5 | Y35: 6 | Z35: 7 | AA35: 1 | AB35: 2 | AC35: 3 | AD35: 4 | AE35: 5 | AF35: 6 | AG35: 7 | AH35: 1 | AI35: 2 | AJ35: 3 | AK35: 4 | AL35: 5 | AM35: 6 | AN35: 7 | AO35: 1 | AP35: 2 | AQ35: 3 | AR35: 4 | AS35: 5 | AT35: 6 | AU35: 7 | AV35: 1 | AW35: 2 | AX35: 3 | AY35: 4 | AZ35: 5 | BA35: 6 | BB35: 7 | BC35: 1 | BD35: 2 | BE35: 3 | BF35: 4 | BG35: 5 | BH35: 6 | BI35: 7 | BJ35: 1 | BK35: 2 | BL35: 3 | BM35: 4 | BN35: 5 | BO35: 6 | BP35: 7 | BQ35: 1 | BR35: 2 | BS35: 3 | BT35: 4 | BU35: 5 | BV35: 6 | BW35: 7 | BX35: 1 | BY35: 2 | BZ35: 3 | CA35: 4 | CB35: 5 | CC35: 6 | CD35: 7 | CE35: 1 | CF35: 2 | CG35: 3 | CH35: 4 | CI35: 5 | CJ35: 6 | CK35: 7 | CL35: 1 | CM35: 2 | CN35: 3 | CO35: 4 | CP35: 5 | CQ35: 6 | CR35: 7 | CS35: 1 | CT35: 2 | CU35: 3 | CV35: 4 | CW35: 5 | CX35: 6 | CY35: 7
L36: VR. MES PROG | M36: =M34+T34+AA34+AH34 -> 545833.06 | AQ36: =AO34+AV34+BC34+BJ34 -> 0 | BU36: =BQ34+BX34+CE34+CL34+CS34 -> 0
A37: =EDIFICACION!A52 -> 2.6 | B37: =EDIFICACION!B52 -> REVISION DE CUBIERTAS CANALETA ASBESTO CEMENTO, INCLUYE REPARACION DE GOTERAS | C37: =EDIFICACION!C52 -> M2 | D37: 20 | E37: =EDIFICACION!F52 -> 10716 | F37: =E37*D37 -> 214320 | G37: =F37/F259 -> 0.00064715018 | I37: 1 DIA | J37: DIA 5 | K37: DIA 5 | L37: VR. PROG. | M37: =F37/CZ37*M35 -> 214320 | CZ37: 1
L38: DIAS | M38: 1 | N38: 2 | O38: 3 | P38: 4 | Q38: 5 | R38: 6 | S38: 7 | T38: 1 | U38: 2 | V38: 3 | W38: 4 | X38: 5 | Y38: 6 | Z38: 7 | AA38: 1 | AB38: 2 | AC38: 3 | AD38: 4 | AE38: 5 | AF38: 6 | AG38: 7 | AH38: 1 | AI38: 2 | AJ38: 3 | AK38: 4 | AL38: 5 | AM38: 6 | AN38: 7 | AO38: 1 | AP38: 2 | AQ38: 3 | AR38: 4 | AS38: 5 | AT38: 6 | AU38: 7 | AV38: 1 | AW38: 2 | AX38: 3 | AY38: 4 | AZ38: 5 | BA38: 6 | BB38: 7 | BC38: 1 | BD38: 2 | BE38: 3 | BF38: 4 | BG38: 5 | BH38: 6 | BI38: 7 | BJ38: 1 | BK38: 2 | BL38: 3 | BM38: 4 | BN38: 5 | BO38: 6 | BP38: 7 | BQ38: 1 | BR38: 2 | BS38: 3 | BT38: 4 | BU38: 5 | BV38: 6 | BW38: 7 | BX38: 1 | BY38: 2 | BZ38: 3 | CA38: 4 | CB38: 5 | CC38: 6 | CD38: 7 | CE38: 1 | CF38: 2 | CG38: 3 | CH38: 4 | CI38: 5 | CJ38: 6 | CK38: 7 | CL38: 1 | CM38: 2 | CN38: 3 | CO38: 4 | CP38: 5 | CQ38: 6 | CR38: 7 | CS38: 1 | CT38: 2 | CU38: 3 | CV38: 4 | CW38: 5 | CX38: 6 | CY38: 7
L39: VR. MES PROG | M39: =M37+T37+AA37+AH37 -> 214320 | AQ39: =AO37+AV37+BC37+BJ37 -> 0 | BU39: =BQ37+BX37+CE37+CL37+CS37 -> 0
A40: =EDIFICACION!A58 -> 2.7 | B40: =EDIFICACION!B58 -> RETIRO DE TUBERIA DE 0 A 12" NO INCL. EXCAVACION | C40: =EDIFICACION!C58 -> ML | D40: 132 | E40: =EDIFICACION!F58 -> 5114 | F40: =E40*D40 -> 675048 | G40: =F40/F259 -> 0.0020383419 | I40: 2 DIAS | J40: DIA 19 | K40: DIA 20 | L40: VR. PROG. | AA40: =F40/CZ40*AB41 -> 675048 | CZ40: 2
...

Sheet EDIFICACION
B1: SECRETARIA DE OBRAS PUBLICAS
B2: MUNICIPIO DE VALLEDUPAR
A3: ANALISIS UNITARIOS ÀRA EL PROYECTO MEJORAMIENTO Y REPARACIONES GENERALES BASICAS DE LA INFRAESTRUCTURA FISICA DEL JARDIN NACIONAL ANEXA A LA INSTITUCION EDUCATIVA CASD SIMON BOLIVAR DEL MUNICIPIO DE VALLEDUPAR
A4: FECHA: ENERO DE 2021
A5: ITEMS | B5: DESCRIPCION | C5: U.M | D5: CANTIDAD | E5: VR. UNITARIO | F5: VR. PARCIAL
A6: I | B6: ACTIVIDADES PRELIMINARES
A7: 1.1 | B7: CERRAMIENTO PROVISIONAL EN TELA VERDE H=2.10M | C7: ML | F7: =ROUND(SUM(F8:F16),0) -> 28915 | M7: =SUM(F8:F16) -> 28915.094 | W7: 26999 | AD7: ÍTEM: | AE7: Cerramiento provisional en lámina metálica h=2,4m | AG7: No. | AI7: UNIDAD: | AJ7: ML
B8: =INSUMOS!B27 -> TELA VERDE ESTABILIZADA 2.1 | C8: ML | D8: 1 | E8: =+INSUMOS!D27 -> 1666 | F8: =+D8*E8 -> 1666
B9: =INSUMOS!B42 -> PUNTILLA CON CABEZA 3/4 a 1" | C9: lb | D9: 0.027 | E9: =INSUMOS!D42 -> 5261.18 | F9: =+D9*E9 -> 142.05186 | AD9: I. MATERIALES
B10: =INSUMOS!B6 -> ALGARROBILLO 4"X2"X3.00MT | C10: UN | D10: 0.8 | E10: =+INSUMOS!D6 -> 15470 | F10: =+D10*E10 -> 12376
B11: LISTON EN MADERA 2X2" | C11: UN | D11: 0.8 | E11: =INSUMOS!D7 -> 8050.35 | F11: =+D11*E11 -> 6440.28 | AD11: DESCRIPCIÓN | AF11: UN. | AG11: CANTIDAD | AH11: PRECIO UNIT. | AI11: VR. PARCIAL
B12: CONCRETO 2500 PSI ELABORADO EN OBRA | C12: m3 | D12: 0.008 | E12: =BASICOS!E144 -> 39201.447 | F12: =D12*E12 -> 313.61158 | AD12: Teja de zinc para cerramiento h=2.4m | AF12: =IFERROR(INDEX([2]ListaInsumos!$B$11:$D$195,MATCH(AD12,[2]ListaInsumos!$B$11:$B$195,0),2),"") -> un | AG12: 1.35 | AH12: =IFERROR(INDEX([2]ListaInsumos!$B$11:$D$195,MATCH(AD12,[2]ListaInsumos!$B$11:$B$195,0),3),0) -> 16100 | AI12: =+ROUNDUP(AH12*AG12,0) -> 21735
B13: DESPERDICIO | C13: % | D13: 0.05 | E13: =SUM(F8:F10) -> 14184.052 | F13: =+D13*E13 -> 709.20259 | AD13: Listón en amargo de 2x4" | AF13: =IFERROR(INDEX([2]ListaInsumos!$B$11:$D$195,MATCH(AD13,[2]ListaInsumos!$B$11:$B$195,0),2),"") -> un | AG13: 0.5 | AH13: =IFERROR(INDEX([2]ListaInsumos!$B$11:$D$195,MATCH(AD13,[2]ListaInsumos!$B$11:$B$195,0),3),0) -> 29900 | AI13: =+ROUNDUP(AH13*AG13,0) -> 14950
B14: TRANSPORTE | C14: % | E14: =SUM(F8:F13) -> 21647.146 | F14: =+D14*E14 -> 0 | AD14: Vara de madera rolliza L=6m | AF14: =IFERROR(INDEX([2]ListaInsumos!$B$11:$D$195,MATCH(AD14,[2]ListaInsumos!$B$11:$B$195,0),2),"") -> un | AG14: 0.5 | AH14: =IFERROR(INDEX([2]ListaInsumos!$B$11:$D$195,MATCH(AD14,[2]ListaInsumos!$B$11:$B$195,0),3),0) -> 18000 | AI14: =+ROUNDUP(AH14*AG14,0) -> 9000
B15: HERRAMIENTAS MENORES | C15: %MO | D15: 0.03 | E15: =+F16 -> 7056.2605 | F15: =+D15*E15 -> 211.68781 | AD15: Alambre negro N° 18 | AF15: =IFERROR(INDEX([2]ListaInsumos!$B$11:$D$195,MATCH(AD15,[2]ListaInsumos!$B$11:$B$195,0),2),"") -> kg | AG15: 0.1 | AH15: =IFERROR(INDEX([2]ListaInsumos!$B$11:$D$195,MATCH(AD15,[2]ListaInsumos!$B$11:$B$195,0),3),0) -> 3616 | AI15: =+ROUNDUP(AH15*AG15,0) -> 362
B16: MANO DE OBRA AA | C16: hc | D16: 0.27 | E16: =+'VALOR CUADRILLAS MO'!D75 -> 26134.298 | F16: =+D16*E16 -> 7056.2605 | AD16: Puntilla de 1 a 6" | AF16: =IFERROR(INDEX([2]ListaInsumos!$B$11:$D$195,MATCH(AD16,[2]ListaInsumos!$B$11:$B$195,0),2),"") -> kg | AG16: 0.05 | AH16: =IFERROR(INDEX([2]ListaInsumos!$B$11:$D$195,MATCH(AD16,[2]ListaInsumos!$B$11:$B$195,0),3),0) -> 4700 | AI16: =+ROUNDUP(AH16*AG16,0) -> 235
AD17: Concreto mezclado en obra 14 MPa | AF17: =IFERROR(INDEX([2]ListaInsumos!$B$11:$D$195,MATCH(AD17,[2]ListaInsumos!$B$11:$B$195,0),2),"") -> m3 | AG17: 0.008 | AH17: =IFERROR(INDEX([2]ListaInsumos!$B$11:$D$195,MATCH(AD17,[2]ListaInsumos!$B$11:$B$195,0),3),0) -> 251712 | AI17: =+ROUNDUP(AH17*AG17,0) -> 2014
A18: 1.2 | B18: EXCAVACION MANUAL PARA RETIRO DE TUBERIA Y ZAPATAS DE TANQUE ELEVADO | C18: M3 | F18: =ROUND(SUM(F19:F20),0) -> 34994
B19: HERRAMIENTAS MENORES | C19: %MO | D19: 0.03 | E19: =+F20 -> 33974.587 | F19: =(D19*E19) -> 1019.2376
B20: MANO DE OBRA AA | C20: hc | D20: 1.3 | E20: =+'VALOR CUADRILLAS MO'!D75 -> 26134.298 | F20: =+D20*E20 -> 33974.587 | G20: Asotecva 2.015 | I20: 15000 | J20: =I20-F19 -> 13980.762
A22: 1.3 | B22: RELLENO SELECCIONADO, INCL. SUMINISTRO Y COMPACTACION | C22: M3 | F22: =ROUND(SUM(F23:F28),0) -> 52398
B23: RELLENO SELECCIONADO | C23: M3 | D23: 1 | E23: =BASICOS!D18 -> 14280 | F23: =+D23*E23 -> 14280
B24: PORCENTAJE POR COMPACTACION | C24: M3 | D24: 0.3 | E24: =E23 -> 14280 | F24: =+D24*E24 -> 4284
B25: TRANSPORTE | C25: KM-M3 | D25: =1.3*10 -> 13 | E25: =+INSUMOS!D23 -> 1094.8912 | F25: =+D25*E25 -> 14233.586
B26: VIBROCOMPACTADOR TIPO RANA | C26: d | D26: 0.045 | E26: =+BASICOS!D42 -> 136480.48 | F26: =+D26*E26 -> 6141.6215
B27: HERRAMIENTAS MENORES | C27: %MO | D27: 0.03 | E27: =+F28 -> 13067.149 | F27: =(D27*E27) -> 392.01447
B28: MANO DE OBRA AA | C28: hc | D28: 0.5 | E28: =+'VALOR CUADRILLAS MO'!D75 -> 26134.298 | F28: =+D28*E28 -> 13067.149 | G28: =F28/0.3 -> 43557.163 | M28: =F28*0.15 -> 1960.0723
A30: II | B30: DEMOLICIONES Y DESMONTES
A31: 2.1 | B31: DEMOLICIÓN PISO ESPESOR HASTA .10 | C31: M2 | F31: =ROUND(SUM(F32:F33),0) -> 14805
B32: HERRAMIENTAS MENORES | C32: %MO | D32: 0.03 | E32: =+F33 -> 14373.864 | F32: =(D32*E32) -> 431.21592
B33: MANO DE OBRA AA | C33: hc | D33: 0.55 | E33: ='VALOR CUADRILLAS MO'!D75 -> 26134.298 | F33: =+D33*E33 -> 14373.864
A35: 2.2 | B35: DEMOLICIÓN MUROS SENCILLOS | C35: M2 | F35: =ROUND(SUM(F36:F37),0) -> 9421
B36: HERRAMIENTAS MENORES | C36: %MO | D36: 0.03 | E36: =+F37 -> 9147.0043 | F36: =(D36*E36) -> 274.41013
B37: MANO DE OBRA AA | C37: hc | D37: 0.35 | E37: =+'VALOR CUADRILLAS MO'!D75 -> 26134.298 | F37: =+D37*E37 -> 9147.0043
A40: 2.3 | B40: DESMONTE DE APARATOS SANITARIOS, LAVAMANOS Y LAVAPLATOS | C40: UN | F40: =ROUND(SUM(F41:F42),0) -> 26649
B41: HERRAMIENTA MENOR | C41: %MO | D41: 0.03 | E41: =+F42 -> 25872.955 | F41: =+D41*E41 -> 776.18865
B42: MANO DE OBRA BB | C42: hc | D42: 0.9 | E42: =+BASICOS!D55 -> 28747.728 | F42: =+D42*E42 -> 25872.955
A44: 2.4 | B44: DESMONTE DE LAMPARAS FLUORESCENTES DE 2X48 | C44: UN | F44: =ROUND(SUM(F45:F46),0) -> 29610
B45: HERRAMIENTA MENOR | C45: %MO | D45: 0.03 | E45: =+F46 -> 28747.728 | F45: =+D45*E45 -> 862.43183
B46: MANO DE OBRA BB | C46: hc | D46: 1 | E46: =E42 -> 28747.728 | F46: =+D46*E46 -> 28747.728
...

Sheet URBANISMO
B1: =+'LISTADO DE UNITARIOS'!$A$3:$C$3 -> 0
A2: ANALISIS DE PRECIOS UNITARIOS URBANISMO -VALLEDUPAR
A3: FECHA: ENERO DE 2020
A4: ITEMS | B4: DESCRIPCION | C4: U.M | D4: CANTIDAD | E4: VR. UNITARIO | F4: VR. PARCIAL
A5: I | B5: ACTIVIDADES PRELIMINARES
A6: 1 | B6: DESCAPOTE A MANUAL EN TERRENO COMUN, HASTA ESP .15 MT | C6: M2 | F6: =ROUND(SUM(F7:F8),0) -> 3499
B7: HERRAMIENTAS MENORES | C7: %MO | D7: 0.03 | E7: =+F8 -> 3397.4587 | F7: =+F8*3% -> 101.92376
B8: MANO DE OBRA AA | C8: hc | D8: =0.13 -> 0.13 | E8: =+'VALOR CUADRILLAS MO'!D75 -> 26134.298 | F8: =+D8*E8 -> 3397.4587
A10: =A6+1 -> 2 | B10: LOCALIZACION Y REPLANTEO CON EQUIPO EN VIAS URBANAS | C10: M2 | F10: =ROUND(SUM(F11:F16),0) -> #REF!
B11: ESTACA DE MADERA | C11: UN | D11: 0.15 | E11: =+INSUMOS!D5 -> 2067.03 | F11: =+D11*E11 -> 310.0545
B12: PUNTILLA CON CABEZA 2 | C12: lb | D12: 0.0015 | E12: =+INSUMOS!D41 -> 3464.09 | F12: =+D12*E12 -> 5.196135
B13: EQUIPO DE TOPOGRAFIA | C13: MES | D13: 8e-05 | E13: =+INSUMOS!D19 -> 3267000 | F13: =+D13*E13 -> 261.36
B14: CADENERO 1 | C14: MES | D14: 9e-05 | E14: =+INSUMOS!D20 -> 1526000 | F14: =+D14*E14 -> 137.34
B15: CADENERO 2 | C15: MES | D15: 9e-05 | E15: =+INSUMOS!D21 -> 1329000 | F15: =+D15*E15 -> 119.61
B16: TOPOGRAFO | C16: MES | D16: 8e-05 | E16: =+INSUMOS!#REF! -> #REF! | F16: =+D16*E16 -> #REF!
H17: TOPOGRAFIA VIAS URBANAS $1.500.000 KM
A18: =A10+1 -> 3 | B18: CERRAMIENTO PROVISIONAL EN TELA VERDE 2.1 | C18: ML | F18: =ROUND(SUM(F19:F26),0) -> #REF!
B19: TELA VERDE ESTABILIZADA 2.1 | C19: ML | D19: 1 | E19: =+INSUMOS!D27 -> 1666 | F19: =+D19*E19 -> 1666
B20: PUNTILLA CON CABEZA 2 | C20: lb | D20: 0.027 | E20: =INSUMOS!D42 -> 5261.18 | F20: =+D20*E20 -> 142.05186
B21: ALGARROBILLO 4X2"de 2,50 ml largo | C21: UN | D21: 0.8 | E21: =+INSUMOS!D6 -> 15470 | F21: =+D21*E21 -> 12376
B22: LISTON EN MADERA 2X2" | C22: UN | D22: 0.8 | E22: =INSUMOS!#REF! -> #REF! | F22: =+D22*E22 -> #REF!
B23: DESPERDICIO | C23: % | D23: 0.05 | E23: =SUM(F19:F21) -> 14184.052 | F23: =+D23*E23 -> 709.20259
B24: TRANSPORTE | C24: % | E24: =SUM(F19:F23) -> #REF! | F24: =+D24*E24 -> #REF!
B25: HERRAMIENTAS MENORES | C25: %MO | D25: 0.03 | E25: =+F26 -> 7056.2605 | F25: =+D25*E25 -> 211.68781
B26: MANO DE OBRA AA | C26: hc | D26: 0.27 | E26: =+'VALOR CUADRILLAS MO'!D75 -> 26134.298 | F26: =+D26*E26 -> 7056.2605
A28: =A18+1 -> 4 | B28: TRAZADO Y REPLANTEO | C28: M2 | F28: =ROUND(SUM(F29:F34),0) -> 4513
B29: ESTACA DE MADERA | C29: UN | D29: 0.3 | E29: =+INSUMOS!D5 -> 2067.03 | F29: =+D29*E29 -> 620.109
B30: PUNTILLA CON CABEZA 2 | C30: lb | D30: 0.0027 | E30: =+INSUMOS!D41 -> 3464.09 | F30: =+D30*E30 -> 9.353043
B31: DESPERDICIO | C31: % | D31: 0.05 | E31: =SUM(F29:F30) -> 629.46204 | F31: =+D31*E31 -> 31.473102
B32: TRANSPORTE | C32: % | E32: =SUM(F29:F31) -> 660.93515 | F32: =+D32*E32 -> 0
B33: HERRAMIENTAS MENORES | C33: %MO | D33: 0.03 | E33: =+F34 -> 3739.52 | F33: =(D33*E33) -> 112.1856
B34: MANO DE OBRA AA | C34: hc | D34: 0.1430886 | E34: =+'VALOR CUADRILLAS MO'!D75 -> 26134.298 | F34: =+D34*E34 -> 3739.52
A36: II | B36: DEMOLICIONES Y DESMONTES
A37: =A28+1 -> 5 | B37: RETIRO SOBRANTES | C37: M3 | F37: =ROUND(SUM(F38:F39),0) -> 20551
B38: VOLQUETA 6 M3 | C38: vj | D38: 0.17 | E38: =+INSUMOS!D31 -> 120000 | F38: =+D38*E38 -> 20400
B39: =+INSUMOS!B32 -> CARGADOR : POTENCIA EN EL VOLANTE 110 HP, CLASIFICACIÓN DE RPM DEL MOTOR 2300. | C39: h | D39: 0.001 | E39: =+INSUMOS!D32 -> 151027.54 | F39: =+D39*E39 -> 151.02754
A41: =A37+1 -> 6 | B41: DEMOLICIÓN PISO ESPESOR HASTA .10 | C41: M2 | F41: =ROUND(SUM(F42:F43),0) -> 14805
B42: HERRAMIENTAS MENORES | C42: %MO | D42: 0.03 | E42: =+F43 -> 14373.864 | F42: =(D42*E42) -> 431.21592
B43: MANO DE OBRA AA | C43: hc | D43: 0.55 | E43: =+'VALOR CUADRILLAS MO'!D75 -> 26134.298 | F43: =+D43*E43 -> 14373.864
A45: =+A41+1 -> 7 | B45: CORTE CALZADA EN CONCRETO | C45: ML | F45: =ROUND(SUM(F46:F47),0) -> 6523
...

Sheet REDES ALCANTARILLADO
B1: SECRETARÍA DE OBRAS PÚBLICAS
A2: ANALISIS DE PRECIOS UNITARIOS REDES ALCANTARILLADO -VALLEDUPAR
A3: FECHA: ENERO DE 2020
A4: ITEMS | B4: DESCRIPCION | C4: U.M. | D4: CANTIDAD | E4: VR. UNITARIO | F4: VR. PARCIAL
A5: I | B5: ACTIVIDADES PRELIMINARES
A6: 1 | B6: LOCALIZACION Y REPLANTEO CON EQUIPO | C6: ML | F6: =ROUND(SUM(F7:F13),0) -> #REF!
B7: ESTACA DE MADERA | C7: UN | D7: 0.25 | E7: =+INSUMOS!D5 -> 2067.03 | F7: =+D7*E7 -> 516.7575
B8: LIENZA DE NYLON | C8: Rllo | D8: 0.01 | E8: =INSUMOS!#REF! -> #REF! | F8: =+D8*E8 -> #REF!
B9: PUNTILLA CON CABEZA 2 | C9: lb | D9: 0.0027 | E9: =+INSUMOS!D41 -> 3464.09 | F9: =+D9*E9 -> 9.353043
B10: EQUIPO DE TOPOGRAFIA | C10: MES | D10: 0.0002 | E10: =+INSUMOS!D19 -> 3267000 | F10: =+D10*E10 -> 653.4
B11: CADENERO 1 | C11: MES | D11: 0.0001 | E11: =+INSUMOS!D20 -> 1526000 | F11: =+D11*E11 -> 152.6
B12: CADENERO 2 | C12: MES | D12: 0.0001 | E12: =+INSUMOS!D21 -> 1329000 | F12: =+D12*E12 -> 132.9
B13: TOPOGRAFO | C13: MES | D13: 0.0001 | E13: =+INSUMOS!#REF! -> #REF! | F13: =+D13*E13 -> #REF!
A15: =A6+1 -> 2 | B15: EXCAVACION MANUAL HASTA .20 X .30 EN TERRENO COMUN | C15: ML | F15: =ROUND(SUM(F16:F17),0) -> 1750
B16: HERRAMIENTAS MENORES | C16: %MO | D16: 0.03 | E16: =+F17 -> 1698.7294 | F16: =(D16*E16) -> 50.961881
B17: MANO DE OBRA AA | C17: hc | D17: =0.065 -> 0.065 | E17: =+'VALOR CUADRILLAS MO'!D75 -> 26134.298 | F17: =+D17*E17 -> 1698.7294
A19: =+A15+1 -> 3 | B19: EXCAVACION MANUAL BAJO NIVEL FREATICO, PROFUNDIDA MAXIMA 2.00 MT | C19: M3 | F19: =ROUND(SUM(F20:F22),0) -> 80944
B20: MOTOBOMBA A GASOLINA CON OPERADOR | C20: Día | D20: 0.1 | E20: =+BASICOS!D42 -> 136480.48 | F20: =+D20*E20 -> 13648.048
B21: HERRAMIENTAS MENORES | C21: %MO | D21: 0.03 | E21: =+F22 -> 65335.745 | F21: =(D21*E21) -> 1960.0723
B22: MANO DE OBRA AA | C22: hc | D22: 2.5 | E22: =+'VALOR CUADRILLAS MO'!D75 -> 26134.298 | F22: =+D22*E22 -> 65335.745
A24: =+A19+1 -> 4 | B24: EXCAVACION A MAQUINA SIN RETIRO DE SOBRANTES | C24: M3 | F24: =ROUND(SUM(F25:F26),0) -> 11744
B25: =INSUMOS!B34 -> RETROEXCAVADORA SOBRE LLANTAS, MOTOR 62HP, PROFUNDIDAD DE EXCAVACIÓN DE 5.41 METROS. | C25: h | D25: 0.05 | E25: =INSUMOS!D34 -> 193073 | F25: =+D25*E25 -> 9653.65
B26: MANO DE OBRA AA- Incluye manejo de trafico | C26: hc | D26: =0.08 -> 0.08 | E26: =+'VALOR CUADRILLAS MO'!D75 -> 26134.298 | F26: =+D26*E26 -> 2090.7438
A28: =+A24+1 -> 5 | B28: EXCAVACION EN ROCA | C28: M3 | F28: =ROUND(SUM(F29:F32),0) -> 117068
B29: COMPRESOR DE 2 MARTILLOS | C29: h | D29: 1.2 | E29: =+INSUMOS!D35 -> 82148.32 | F29: =+D29*E29 -> 98577.984
B30: =+INSUMOS!B34 -> RETROEXCAVADORA SOBRE LLANTAS, MOTOR 62HP, PROFUNDIDAD DE EXCAVACIÓN DE 5.41 METROS. | C30: h | D30: 0.04 | E30: =+INSUMOS!D34 -> 193073 | F30: =+D30*E30 -> 7722.92
B31: HERRAMIENTAS MENORES | C31: %MO | D31: 0.03 | E31: =+F32 -> 10453.719 | F31: =(D31*E31) -> 313.61158
B32: MANO DE OBRA AA | C32: hc | D32: =0.4 -> 0.4 | E32: =+'VALOR CUADRILLAS MO'!D75 -> 26134.298 | F32: =+D32*E32 -> 10453.719
A34: =+A28+1 -> 6 | B34: EXCAVACION A MAQUINA ACUEDUCTOS Y ALCANTARILLADOS | C34: M3 | F34: =ROUND(SUM(F35:F36),0) -> 15345 | H34: =F34*1*0.6 -> 9207
B35: =+INSUMOS!B34 -> RETROEXCAVADORA SOBRE LLANTAS, MOTOR 62HP, PROFUNDIDAD DE EXCAVACIÓN DE 5.41 METROS. | C35: h | D35: 0.07 | E35: =+INSUMOS!D34 -> 193073 | F35: =+D35*E35 -> 13515.11 | I35: 130000
B36: MANO DE OBRA AA | C36: hc | D36: =0.07 -> 0.07 | E36: =+'VALOR CUADRILLAS MO'!D75 -> 26134.298 | F36: =+D36*E36 -> 1829.4009
A38: =A34+1 -> 7 | B38: RELLENOS DE EXCAVACION-COMPACTADO | C38: M3 | F38: =ROUND(SUM(F39:F41),0) -> 27210
B39: VIBROCOMPACTADOR TIPO RANA | C39: d | D39: 0.012 | E39: =+BASICOS!D42 -> 136480.48 | F39: =+D39*E39 -> 1637.7657
B40: HERRAMIENTAS MENORES | C40: %MO | D40: 0.03 | E40: =+F41 -> 24827.583 | F40: =(D40*E40) -> 744.82749
B41: MANO DE OBRA AA | C41: hc | D41: 0.95 | E41: =+'VALOR CUADRILLAS MO'!D75 -> 26134.298 | F41: =+D41*E41 -> 24827.583
A43: =A38+1 -> 8 | B43: RELLENO SELECCIONADO, INCL. SUMINISTRO Y COMPACTACION | C43: M3 | F43: =ROUND(SUM(F44:F49),0) -> 52398
B44: RELLENO COMUN | C44: M3 | D44: 1 | E44: =BASICOS!D18 -> 14280 | F44: =+D44*E44 -> 14280
B45: PORCENTAJE POR COMPACTACION | C45: M3 | D45: 0.3 | E45: =E44 -> 14280 | F45: =+D45*E45 -> 4284
B46: TRANSPORTE | C46: KM-M3 | D46: =1.3*10 -> 13 | E46: =+INSUMOS!D23 -> 1094.8912 | F46: =+D46*E46 -> 14233.586
B47: VIBROCOMPACTADOR TIPO RANA | C47: d | D47: 0.045 | E47: =+BASICOS!D42 -> 136480.48 | F47: =+D47*E47 -> 6141.6215
...

Sheet VIAS RURALES
B1: SECRETARÍA DE OBRAS PÚBLICAS MUNICIPAL
A2: ANALISIS DE PRECIOS UNITARIOS VIAS URBANAS Y RURALES -VALLEDUPAR
A3: FECHA: ENERO DE 2020
A4: ITEMS | B4: DESCRIPCION | C4: U.M. | D4: CANTIDAD | E4: VR. UNITARIO | F4: VR. PARCIAL
A5: I | B5: ACTIVIDADES PRELIMINARES
A6: 1 | B6: DESCAPOTE A MANUAL EN TERRENO COMUN, HASTA ESP .15 MT | C6: M2 | F6: =ROUND(SUM(F7:F8),0) -> 3499
B7: HERRAMIENTAS MENORES | C7: %MO | D7: 0.03 | E7: =+F8 -> 3397.4587 | F7: =+F8*3% -> 101.92376
B8: MANO DE OBRA AA | C8: hc | D8: =0.13 -> 0.13 | E8: =+'VALOR CUADRILLAS MO'!D75 -> 26134.298 | F8: =+D8*E8 -> 3397.4587
A10: =+A6+1 -> 2 | B10: LOCALIZACION Y REPLANTEO CON EQUIPO | C10: M2 | F10: =ROUND(SUM(F11:F17),0) -> #REF!
B11: ESTACA DE MADERA | C11: UN | D11: 0.25 | E11: =+INSUMOS!D5 -> 2067.03 | F11: =+D11*E11 -> 516.7575
B12: LIENZA DE NYLON | C12: Rllo | D12: 0.01 | E12: =INSUMOS!#REF! -> #REF! | F12: =+D12*E12 -> #REF!
B13: PUNTILLA CON CABEZA 2 | C13: lb | D13: 0.0027 | E13: =+INSUMOS!D41 -> 3464.09 | F13: =+D13*E13 -> 9.353043
B14: EQUIPO DE TOPOGRAFIA | C14: MES | D14: 0.0002 | E14: =+INSUMOS!D19 -> 3267000 | F14: =+D14*E14 -> 653.4
B15: CADENERO 1 | C15: MES | D15: 0.0001 | E15: =+INSUMOS!D20 -> 1526000 | F15: =+D15*E15 -> 152.6
B16: CADENERO 2 | C16: MES | D16: 0.0001 | E16: =+INSUMOS!D21 -> 1329000 | F16: =+D16*E16 -> 132.9
B17: TOPOGRAFO | C17: MES | D17: 0.0001 | E17: =+INSUMOS!#REF! -> #REF! | F17: =+D17*E17 -> #REF!
A19: =+A10+1 -> 3 | B19: LOCALIZACION Y REPLANTEO CON EQUIPO EN VIAS URBANAS | C19: M2 | F19: =ROUND(SUM(F20:F25),0) -> #REF!
B20: ESTACA DE MADERA | C20: UN | D20: 0.15 | E20: =+INSUMOS!D5 -> 2067.03 | F20: =+D20*E20 -> 310.0545
B21: PUNTILLA CON CABEZA 2 | C21: lb | D21: 0.0015 | E21: =+INSUMOS!D41 -> 3464.09 | F21: =+D21*E21 -> 5.196135
B22: EQUIPO DE TOPOGRAFIA | C22: MES | D22: 8e-05 | E22: =+INSUMOS!D19 -> 3267000 | F22: =+D22*E22 -> 261.36
B23: CADENERO 1 | C23: MES | D23: 9e-05 | E23: =+INSUMOS!D20 -> 1526000 | F23: =+D23*E23 -> 137.34
B24: CADENERO 2 | C24: MES | D24: 9e-05 | E24: =+INSUMOS!D21 -> 1329000 | F24: =+D24*E24 -> 119.61
B25: TOPOGRAFO | C25: MES | D25: 8e-05 | E25: =+INSUMOS!#REF! -> #REF! | F25: =+D25*E25 -> #REF!
A27: II | B27: EXCAVACIONES Y RELLENOS
A28: =+A19+1 -> 4 | B28: DESCAPOTE A MANUAL EN TERRENO CON PIEDRA, HASTA ESP .15 MT | C28: M2 | F28: =ROUND(SUM(F29:F30),0) -> 4307
B29: HERRAMIENTAS MENORES | C29: %MO | D29: 0.03 | E29: =+F30 -> 4181.4877 | F29: =+D29*E29 -> 125.44463
B30: MANO DE OBRA AA | C30: hc | D30: =0.16 -> 0.16 | E30: =+'VALOR CUADRILLAS MO'!D75 -> 26134.298 | F30: =+D30*E30 -> 4181.4877
A32: =+A28+1 -> 5 | B32: DESCAPOTE A MAQUINA ESP < O = A .20-AREAS MAYORES A 2000M2-INCL.RETIRO SOBRANTE A 2KM | C32: M2 | F32: =ROUND(SUM(F33:F35),0) -> 3388
B33: =+INSUMOS!B29 -> MOTONIVELADORA POTENCIA 215 HP, ANCHO DE CUCHILLA 4,27 M, PESO 18 TON. | C33: h | D33: 0.0013 | E33: =+INSUMOS!D29 -> 182992.44 | F33: =+D33*E33 -> 237.89017
B34: VOLQUETA 6 M3 | C34: vj | D34: 0.026 | E34: =+INSUMOS!D31 -> 120000 | F34: =+D34*E34 -> 3120
B35: =+INSUMOS!B32 -> CARGADOR : POTENCIA EN EL VOLANTE 110 HP, CLASIFICACIÓN DE RPM DEL MOTOR 2300. | C35: h | D35: 0.0002 | E35: =+INSUMOS!D32 -> 151027.54 | F35: =+D35*E35 -> 30.205508
A37: =A32+1 -> 6 | B37: EXCAVACION MANUAL | C37: M3 | F37: =ROUND(SUM(F38:F39),0) -> 34994
B38: HERRAMIENTAS MENORES | C38: %MO | D38: 0.03 | E38: =+F39 -> 33974.587 | F38: =(D38*E38) -> 1019.2376
B39: MANO DE OBRA AA | C39: hc | D39: 1.3 | E39: =+'VALOR CUADRILLAS MO'!D75 -> 26134.298 | F39: =+D39*E39 -> 33974.587
A41: =A37+1 -> 7 | B41: EXCAVACION A MAQUINA SIN RETIRO DE SOBRANTES | C41: M3 | F41: =ROUND(SUM(F42:F43),0) -> 11744
B42: =INSUMOS!B34 -> RETROEXCAVADORA SOBRE LLANTAS, MOTOR 62HP, PROFUNDIDAD DE EXCAVACIÓN DE 5.41 METROS. | C42: h | D42: 0.05 | E42: =INSUMOS!D34 -> 193073 | F42: =+D42*E42 -> 9653.65
B43: MANO DE OBRA AA- Incluye manejo de trafico | C43: hc | D43: =0.08 -> 0.08 | E43: =+'VALOR CUADRILLAS MO'!D75 -> 26134.298 | F43: =+D43*E43 -> 2090.7438
A45: =+A41+1 -> 8 | B45: EXCAVACION EN ROCA | C45: M3 | F45: =ROUND(SUM(F46:F49),0) -> 117068
B46: COMPRESOR DE 2 MARTILLOS | C46: h | D46: 1.2 | E46: =+INSUMOS!D35 -> 82148.32 | F46: =+D46*E46 -> 98577.984
B47: =+INSUMOS!B34 -> RETROEXCAVADORA SOBRE LLANTAS, MOTOR 62HP, PROFUNDIDAD DE EXCAVACIÓN DE 5.41 METROS. | C47: h | D47: 0.04 | E47: =+INSUMOS!D34 -> 193073 | F47: =+D47*E47 -> 7722.92
...

Sheet BASICOS
A1: SECRETARIA DE OBRAS PUBLICAS MUNICIPAL
A2: ANALISIS DE PRECIOS UNITARIOS BASICO-VALLEDUPAR
A3: FECHA: ENERO DE 2020
A4: DESCRIPCION | B4: U.M. | C4: CANTIDAD | D4: VR. UNITARIO | E4: VR. PARCIAL | T4: VR. UNITARIO 2018
A5: MATERIALES BASICOS
A6: CONCRETO PREMEZCLADO PUESTO EN OBRA MR 42 | B6: M3 | D6: =394838.43 -> 394838.43 | I6: 375930 | J6: Puesto en obra Valledupar | K6: Fuera de V/dupar $800,00 Km/ M3 | T6: 391726.58
A7: CEMENTO GRIS | B7: kg | D7: 606.9 | E7: FERRECESAR | J7: MR 41 | K7: 320600 | L7: =K7*1.16 -> 371896 | T7: 552
A8: PIEDRA | B8: M3 | D8: 73185 | E8: gobernacon 2020 | T8: 42483
A9: ARENA LAVADA CANTERA | B9: M3 | D9: 37500 | E9: ojo preguntar | I9: 35000 | J9: Valor en cantera el Dorado | L9: Enero 2.015 | T9: 49980
A10: GRAVILLA FINA 1/2" | B10: M3 | D10: 88160 | E10: gobernacon 2020 | I10: 60000 | J10: Valor en cantera el Dorado | L10: Enero 2.015 | T10: 77469
A11: AGUA | B11: lt | D11: 65 | E11: invias | I11: Invias | T11: 65
A12: TRITURADO 3/4 | B12: M3 | D12: =52000*1.19 -> 61880 | E12: gobernacon 2020 | I12: 47000 | J12: Valor en cantera el Dorado | L12: Enero 2.015 | T12: 52479
A13: ABONO | B13: M3 | D13: 43000 | E13: FERRECESAR | T13: 30000
A14: REVUELTO | B14: M3 | D14: 55000 | E14: FERRECESAR | T14: 33000
A15: RELLENO SELECCIONADO | B15: M3 | D15: 51170 | E15: GOBERNACION 2020 | T15: 18742.5
A16: RELLENO GRANULAR-SUB-BASE | B16: M3 | D16: =31000*1.19 -> 36890 | E16: gobernacon 2020 | I16: 15000 | J16: Valor en cantera el Dorado | L16: Enero 2.015 | T16: 29988
A17: RELLENO GRANULAR-BASE | B17: M3 | D17: =49000*1.19 -> 58310 | E17: gobernacon 2020 | I17: 35000 | J17: Valor en cantera el Dorado | L17: Enero 2.015 | T17: 48730.5
A18: RELLENO SELECCIONADO | B18: M3 | D18: =12000*1.19 -> 14280 | T18: 18742.5
A19: LADRILLO RUSTICO 6X11X24CM 38U/M2 3.1K | B19: UN | D19: 400 | E19: gobernacon 2020 | T19: 400
A20: LADRILLO BOCADILLO 19 x 15x 9 | B20: UN | D20: 400 | E20: gobernacon 2020 | T20: 350
A21: LADRILLO BOCADILLO 30 X 15 X 9.0 | B21: UN | D21: 700 | E21: SE DEJO EL MISMO | T21: 1200
A22: LADRILLO A LA VISTA .07X.09X.25 CORAL 56 M2 | B22: UN | D22: 1500 | E22: EL MISMO | T22: 850
A23: LADRILLO A LA VISTA .07X.09X.25 ESFUMADO 56 M2 | B23: UN | D23: 1375 | E23: FERRECESAR | T23: 1375
A24: CARAVISTA ESTRUCTURAL 6X12X24CM | B24: UN | D24: 550 | E24: INTERNET | T24: 550
A25: LADRILLO 9X19X30 | B25: UN | D25: 1300 | E25: EL MISMO | T25: 1300
A26: ALGARROBILLO | B26: PIE | D26: 1930.53 | E26: FERRECESAR | T26: 1200
A27: ABARCO | B27: PIE
A28: TOLUA | B28: PIE | D28: 4000 | E28: EL MISMO | T28: 4000
A29: CARRETO | B29: PIE | D29: 3000 | E29: EL MISMO | T29: 3000
A30: RETIRO ESCOMBROS | B30: M3 | D30: 25351 | E30: gobernacon 2020 | T30: 20550
A32: EQUIPOS
A33: ALQUILER DE ANDAMIOS COMPLETO CON TABLON | B33: DIA | D33: 2856 | T33: 1190
A34: CERCHAS METALICAS | B34: DIA | D34: 214.2 | E34: FERRECESAR | T34: 238
A35: PARALES METALICOS 3 Y 4MT | B35: DIA | D35: 214.2 | E35: FERRECESAR | T35: 238
A36: TABLONES | B36: DIA | D36: 1000 | T36: 595
A37: TABLERO MADERA .60 X 1.20 (CHAZAS) | B37: DIA | D37: 273.7 | E37: EL MISMO | T37: 297.5
A38: GUARDERAS .40 X 1.40 | B38: DIA | D38: 238 | E38: FERRECESAR | O38: 5711122 | T38: 273.7
A39: TABLEROS PARA MUROS .40 X 1.20 | B39: DIA | D39: 714 | E39: EL MISMO | O39: 5701106 | T39: 297.5
A40: CORTADORA PAVIMENTO 5CM | B40: ML | D40: 6000 | E40: EL MISMO | O40: 3175049473 | T40: 6000
A41: MEZCLADORA, RANA, VIBRADOR, MOTOBOMBA SIN OPERADOR | B41: DIA | D41: =50000*1.19 -> 59500 | E41: FERRECESAR | G41: 60000 | T41: 59500
...

Sheet INSUMOS
B1: SECRETARÍA DE OBRAS PÚBLICAS MUNICIPAL
A2: LISTADO DE MATERIALES-VALLEDUPAR
A3: FECHA: ENERO DE 2020
A4: ITEMS | B4: INSUMOS | C4: U.M. | D4: VR. UNITARIO | F4: VR. UNITARIO 2018
A5: 1 | B5: ESTACA DE MADERA | C5: UN | D5: 2067.03 | F5: 1000 | P5: FERRECESAR
A6: 2 | B6: ALGARROBILLO 4"X2"X3.00MT | C6: UN | D6: 15470 | F6: 11000 | K6: pino patula 4 cmx9x3 mts | L6: 25236 | P6: FERRECESAR
A7: 3 | B7: ALGARROBILLO 2"X2"X3.00MT | C7: UN | D7: 8050.35 | F7: 5700 | L7: 11592 | P7: FERRECESAR
A8: 4 | B8: TABLA 1''X12"X3.00MT ALGARROBILLO | C8: UN | D8: 21387.87 | F8: 15000 | P8: FERRECESAR
A9: 5 | B9: TABLA 1''X12"X3.00MT TOLUA | C9: UN | D9: 61000 | F9: 45000 | P9: GOBERNACION
A10: 6 | B10: TABLA 1''X4"X3.00MT ALGARROBILLO | C10: UN | D10: 7455 | F10: 5700 | P10: FERRECESAR
A11: 7 | B11: TABLA 1''X10"X3.00MT ALGARROBILLO | C11: UN | D11: 18000 | F11: 14000 | P11: GOBERNACION
A12: 8 | B12: TABLA 1''X8"X3.00MT ALGARROBILLO | C12: UN | D12: 18000 | F12: 14000 | P12: GOBERNACION
A13: 9 | B13: ALGARROBILLO | C13: PIE | D13: 1930.53 | F13: 1400 | P13: FERRECESAR
A14: 10 | B14: TOLUA | C14: PIE | D14: 5000 | F14: 4100 | P14: GOBERNACION
A15: 11 | B15: CEDRO | C15: PIE | D15: 5000 | F15: 3100 | P15: GOBERNACION
A16: 12 | B16: ROBLE | C16: PIE | D16: 5000 | F16: 3100 | P16: GOBERNACION
A17: 13 | B17: CARRETO | C17: PIE | D17: 5000 | F17: 3100 | P17: GOBERNACION
A18: 14 | B18: ABARCO | C18: PIE
A19: 15 | B19: EQUIPO DE TOPOGRAFIA (INCLUYE TRANSITO, NIVEL Y COMPLEMENTARIOS) | C19: MES | D19: ='RES 747 TARIFAS PROF.'!X55 -> 3267000 | F19: ='RES 747 TARIFAS PROF.'!X55 -> 3267000 | P19: EL MISMO
A20: 16 | B20: CADENERO 1 | C20: MES | D20: ='RES 747 TARIFAS PROF.'!X40 -> 1526000 | F20: ='RES 747 TARIFAS PROF.'!X40 -> 1526000 | P20: EL MISMO
A21: 17 | B21: CADENERO 2 | C21: MES | D21: ='RES 747 TARIFAS PROF.'!X41 -> 1329000 | F21: ='RES 747 TARIFAS PROF.'!X41 -> 1329000 | P21: EL MISMO
A22: 18 | B22: TOPOGRAFO | C22: DIA | D22: 150050 | F22: =#REF!/30 -> #REF! | P22: GOBERNACION
A23: 19 | B23: TRANSPORTE MATERIAL | C23: M3/KM | D23: =D24 -> 1094.8912 | F23: 1100 | P23: POR PORCENTAJE
A24: 20 | B24: TRANSPORTE MEZCLA | C24: M3/KM | D24: =1052.78*1.04 -> 1094.8912 | F24: 1100 | P24: POR PORCENTAJE
A25: 21 | B25: VIBROCOMPACTADOR TIPO DINAPAC CA 15 | C25: h | D25: 136408.61 | F25: 127800 | P25: GOBERNACION
A26: 22 | B26: CINTA SEGURIDAD DE 75 MM X 100 MTS | C26: ML | D26: 112.76 | F26: 112.76 | L26: 11276 | P26: GOBERNACION
A27: 23 | B27: TELA VERDE ESTABILIZADA 2.1 | C27: ML | D27: 1666 | F27: 6366.5 | P27: FERRECESAR
A28: 24 | B28: TRANSPORTE MOTONIVELADORA | C28: km | D28: 90000 | F28: 90000 | P28: EL MISMO
A29: 25 | B29: MOTONIVELADORA POTENCIA 215 HP, ANCHO DE CUCHILLA 4,27 M, PESO 18 TON. | C29: h | D29: 182992.44 | F29: 181050 | P29: EL MISMO
A30: 26 | B30: MOTONIVELADORA | C30: h | D30: =D29 -> 182992.44 | F30: 170000 | P30: EL MISMO
A31: 27 | B31: VOLQUETA 6 M3 | C31: vj | D31: 120000 | F31: 120000 | K31: Volqueta a mano | M31: 100000 | P31: EL MISMO
A32: 28 | B32: CARGADOR : POTENCIA EN EL VOLANTE 110 HP, CLASIFICACIÓN DE RPM DEL MOTOR 2300. | C32: h | D32: 151027.54 | F32: 150165 | P32: EL MISMO
A33: 29 | B33: CARGADOR : POTENCIA EN EL VOLANTE 125 HP, CLASIFICACIÓN DE RPM DEL MOTOR 2300. | C33: h | D33: 161699.24 | F33: 162413 | P33: EL MISMO
A34: 30 | B34: RETROEXCAVADORA SOBRE LLANTAS, MOTOR 62HP, PROFUNDIDAD DE EXCAVACIÓN DE 5.41 METROS. | C34: h | D34: 193073 | F34: 130000 | P34: GOBERNACION
A35: 31 | B35: COMPRESOR 120 HP, CON MARTILLO. | C35: h | D35: 82148.32 | F35: 105000 | P35: EL MISMO
A36: 32 | B36: AGUA DE CARROTANQUE | C36: lt | D36: =BASICOS!D11 -> 65 | F36: =N36 -> 0 | L36: =46000*1.16/2000 -> 26.68 | P36: EL MISMO
A37: 33 | B37: Vibrocompatador, potencia 153 HP, peso 10 Ton. | C37: h | D37: 116620 | F37: 127800 | P37: GOBERNACION
A38: 34 | B38: Carrotanque de agua(1000 Galones) | C38: h | D38: 71700 | F38: 63900 | P38: GOBERNACION
A39: 35 | B39: VIBROCOMPACTADOR TIPO RANA CON OPERADOR | C39: d | D39: =(7500*8)+BASICOS!D59 -> 136980.48 | F39: 85000 | P39: EL MISMO
A40: 36 | B40: PUNTILLA EL CABALLO 2 1/2" X 11 CC | C40: LB | D40: 3464.09 | F40: 2779.84 | K40: 3115.76 | L40: =2255*1.16 -> 2615.8 | P40: FERRECESAR
...

Sheet VALOR CUADRILLAS MO
A1: SECRETARÍA DE OBRAS PÚBLICAS
A2: TARIFAS MANO DE OBRA Y PRESTACIONES SOCIALES
A3: FECHA: ENERO DE 2019 | V3: Tendrá un incremento del 6%, equivalente a $46.874. Auxilio de transporte queda en $97.032. El total que recibirán los trabajadores es de $925.148.
A4: 1.-SALARIOS DE MANO DE OBRA | E4: % | S4: 2019 | V4: Al anunciar el aumento del 6% para el salario y del 10% para el auxilio del transporte, el presidente señaló que "es el aumento real más significativo en 25 años".
V5: De igual manera, agregó: "Esto muestra que nos podemos poner de acuerdo en lo que le conviene al país. Colombia necesita reactivar la economía y al mismo tiempo ir mejorando las condiciones de todos los trabajadores y generando más empleos formales".
A6: A- Salario Minimo Legal | C6: 908526 | H6: Con este incremento, el salario mínimo pasa de $737.717 a $781.242 y el auxilio de transporte pasa de $83.140 a $88.211. | S6: 828116 | V6: El aumento fue celebrado tanto por empresarios com
A7: B- Auxilio de Transporte | C7: 106454 | S7: 97032
A8: C- Total Mensual | C8: =SUM(C6:C7) -> 1014980 | S8: =SUM(S6:S7) -> 925148
A9: D- Anual (A/30x365) | C9: =+C6/30*365 -> 11053733 | E9: 1 | F9: =C9/C$9 -> 1
A10: Subsidio de Transporte Anual | C10: =+C7*12 -> 1277448 | E10: =C10/C$9 -> 0.11556711
A11: E- Anual con Subsidio de Transporte | C11: =+C9+C10 -> 12331181
A13: PRESTACIONES | B13: BASE
A14: Cesantias | B14: E | C14: 0.1 | D14: =+C11*36/365 -> 1216226.1 | E14: =D14/C$9 -> 0.11002854
A15: Intereses | B15: =+A14 -> Cesantias | C15: 0.12 | D15: =+D14*C15 -> 145947.13 | E15: =D15/C$9 -> 0.013203424
A16: Vacaciones 15 Dias | B16: A | C16: 0.5 | D16: =+C6/2 -> 454263 | E16: =D16/C$9 -> 0.04109589
A17: Primas 30 Dias | B17: C | C17: 1 | D17: =+C8 -> 1014980 | E17: =D17/C$9 -> 0.091822373
A19: OTROS COSTOS
A20: Botas y Overol | B20: 82500 | C20: 3 | D20: =+B20*C20 -> 247500 | E20: =D20/C$9 -> 0.022390626
A21: Seguro Colectivo | B21: D | C21: 0.005 | D21: =+C9*C21 -> 55268.665 | E21: =D21/C$9 -> 0.005
A23: SEGURIDAD SOCIAL
A24: Pensiones | B24: D | C24: 0.12 | D24: =+C9*C24 -> 1326448 | E24: =D24/C$9 -> 0.12
A25: Medicina Familiar | B25: D | C25: 0.085 | D25: =+C9*C25 -> 939567.31 | E25: =D25/C$9 -> 0.085
A26: Riesgos Profesionales | B26: D | C26: 0.056 | D26: =+C9*C26 -> 619009.05 | E26: =D26/C$9 -> 0.056
L27: 6045617
A28: APORTES SENA | L28: =+L27*10.98% -> 663808.75
A29: Aporte Ordinario | B29: D | C29: 0.02 | D29: =+C9*C29 -> 221074.66 | E29: =D29/C$9 -> 0.02
A30: F.I.C | B30: Nota 4 | C30: 0.18 | D30: =+C10*C30 -> 229940.64 | E30: =D30/C$9 -> 0.02080208
L31: 556200
A32: OTROS APORTES | L32: =+L31/30*365 -> 6767100
A33: I.C.B.F | B33: D | C33: 0.03 | D33: =+C9*C33 -> 331611.99 | E33: =D33/C$9 -> 0.03 | L33: =+L32*10.98% -> 743027.58
A34: Subsidio Familiar | B34: D | C34: 0.04 | D34: =+C9*C34 -> 442149.32 | E34: =D34/C$9 -> 0.04
A36: VALOR REAL DEL SALARIO | D36: =SUM(D14:D35)+C11 -> 19575167 | E36: =SUM(E14:E35) -> 0.65534293
A38: NOTAS:
A39: 1.- Subsidio de transporte solo se paga hasta sueldos de 2 salarios minimos mensules legales vigentes.
A40: 2.- Subsidio de transporte anual = Subsidio mensual / 30 x (365 dias-18 fiestas - 3 permisos- 15 dias vacaciones).
A41: 3.- Porcentajes solo son validos para actividades de construccion. Para otros empleados se debe utilizar 30 dias de cesantia y 2.2% (promedio para empresas de bajo riesgo).
A42: 4.- Un salario minimo por cada 40 trabajadores. El valor se obtiene asi: (Salario minimo x 12 / 40) / Salario anual estudiado.
A43: 5.- El crecimiento promedio del PIB entre 2005 y 2006 fue superior al 4%y por ello la cotizacion a pensiones por parte del patrono durante 2009 debe aumentar al 12%, segun lo dispuesto por la ley 297 del 2003.
A44: * Todos los porcentajes estan relacionados con el salario para 365 dias.
A45: * Los 18 feriados hacen referencia a los dias feriados que de lunes a viernes .
...

Sheet CONCRETO PREMEZCLADO
A2: CONCRETO EL DORADO AÑO 2019 | H2: CONCRETO EL DORADO AÑO 2017
A3: CONCRETO | B3: PRECIO DE LISTA | C3: IVA (19%) | D3: TOTAL | H3: CONCRETO | I3: PRECIO DE LISTA | J3: IVA (19%) | K3: TOTAL
A4: MR50 | B4: 329570 | C4: =B4*19% -> 62618.3 | D4: =SUM(B4:C4) -> 392188.3 | H4: MR50 | I4: 346023 | J4: =I4*19% -> 65744.37 | K4: =SUM(I4:J4) -> 411767.37
A5: MR45 | B5: 326411 | C5: =B5*19% -> 62018.09 | D5: =SUM(B5:C5) -> 388429.09 | H5: MR45 | I5: 335798 | J5: =I5*19% -> 63801.62 | K5: =SUM(I5:J5) -> 399599.62
A6: MR43 | B6: 309430 | C6: =B6*19% -> 58791.7 | D6: =SUM(B6:C6) -> 368221.7 | H6: MR43 | I6: 332480 | J6: =I6*19% -> 63171.2 | K6: =SUM(I6:J6) -> 395651.2
A7: MR42 | B7: 305784 | C7: =B7*19% -> 58098.96 | D7: =SUM(B7:C7) -> 363882.96 | H7: MR42 | I7: 329182 | J7: =I7*19% -> 62544.58 | K7: =SUM(I7:J7) -> 391726.58
A8: MR42 ACEL 3 DIAS | B8: 320560 | C8: =B8*19% -> 60906.4 | D8: =SUM(B8:C8) -> 381466.4 | H8: MR42 ACEL 3 DIAS | I8: 342844 | J8: =I8*19% -> 65140.36 | K8: =SUM(I8:J8) -> 407984.36
A9: MR42 ACEL 7 DIAS | B9: 311581 | C9: =B9*19% -> 59200.39 | D9: =SUM(B9:C9) -> 370781.39 | H9: MR42 ACEL 7 DIAS | I9: 336414 | J9: =I9*19% -> 63918.66 | K9: =SUM(I9:J9) -> 400332.66
A10: MR41 | B10: 287766 | C10: =B10*19% -> 54675.54 | D10: =SUM(B10:C10) -> 342441.54
A11: 2000 PSI | B11: =266079 -> 266079 | C11: =B11*19% -> 50555.01 | D11: =SUM(B11:C11) -> 316634.01 | H11: 2000 PSI | I11: 267948 | J11: =I11*19% -> 50910.12 | K11: =SUM(I11:J11) -> 318858.12
A12: 2500 PSI | B12: 278854 | C12: =B12*19% -> 52982.26 | D12: =SUM(B12:C12) -> 331836.26 | H12: 2500 PSI | I12: 287863 | J12: =I12*19% -> 54693.97 | K12: =SUM(I12:J12) -> 342556.97
A13: 3000 PSI | B13: 290911 | C13: =B13*19% -> 55273.09 | D13: =SUM(B13:C13) -> 346184.09 | H13: 3000 PSI | I13: 307600 | J13: =I13*19% -> 58444 | K13: =SUM(I13:J13) -> 366044
A14: 3000 ACEL 3 DIAS | B14: 312065 | C14: =B14*19% -> 59292.35 | D14: =SUM(B14:C14) -> 371357.35
A15: 3000 ACEL 7 DIAS | B15: 301511 | C15: =B15*19% -> 57287.09 | D15: =SUM(B15:C15) -> 358798.09
A16: 3500 PSI | B16: 301973 | C16: =B16*19% -> 57374.87 | D16: =SUM(B16:C16) -> 359347.87 | H16: 3500 PSI | I16: 316277 | J16: =I16*19% -> 60092.63 | K16: =SUM(I16:J16) -> 376369.63
A17: 3500 ACEL 3 DIAS | B17: 323550 | C17: =B17*19% -> 61474.5 | D17: =SUM(B17:C17) -> 385024.5
A18: 3500 ACEL 7 DIAS | B18: 312785 | C18: =B18*19% -> 59429.15 | D18: =SUM(B18:C18) -> 372214.15
A19: 4000 PSI | B19: 313035 | C19: =B19*19% -> 59476.65 | D19: =SUM(B19:C19) -> 372511.65 | H19: 4000 PSI | I19: 323182 | J19: =I19*19% -> 61404.58 | K19: =SUM(I19:J19) -> 384586.58
A20: 4000 ACEL 3 DIAS | B20: 335045 | C20: =B20*19% -> 63658.55 | D20: =SUM(B20:C20) -> 398703.55
A21: 4000 ACEL 7 DIAS | B21: 324064 | C21: =B21*19% -> 61572.16 | D21: =SUM(B21:C21) -> 385636.16
A22: 4500 PSI | B22: 323687 | C22: =B22*19% -> 61500.53 | D22: =SUM(B22:C22) -> 385187.53 | H22: 4500 PSI | I22: 329798 | J22: =I22*19% -> 62661.62 | K22: =SUM(I22:J22) -> 392459.62
A23: 4500 ACEL 3 DIAS | B23: 346137 | C23: =B23*19% -> 65766.03 | D23: =SUM(B23:C23) -> 411903.03
A24: 4500 ACEL 7 DIAS | B24: 334938 | C24: =B24*19% -> 63638.22 | D24: =SUM(B24:C24) -> 398576.22
A25: 5000 PSI | B25: 334339 | C25: =B25*19% -> 63524.41 | D25: =SUM(B25:C25) -> 397863.41 | H25: 5000 PSI | I25: 336321 | J25: =I25*19% -> 63900.99 | K25: =SUM(I25:J25) -> 400221.99
A26: 5000 ACEL 3 DIAS | B26: 357240 | C26: =B26*19% -> 67875.6 | D26: =SUM(B26:C26) -> 425115.6
A27: 5000 ACEL 7 DIAS | B27: 345815 | C27: =B27*19% -> 65704.85 | D27: =SUM(B27:C27) -> 411519.85
A30: LISTA DE PRECIOS CONCRETERAS 2016
A32: CONCRETO | B32: CEMEX COLOMBIA | C32: CONCRETO EL DORADO | D32: SLM CONSTRUCCIONES S.A.S | E32: ARGOS
A33: Mod. Rotura | B33: PRECIO CON IVA | C33: PRECIO CON IVA | D33: PRECIO CON IVA | E33: PRECIO CON IVA
A34: 42 | B34: =416200*1.16 -> 482792 | C34: =329182*1.16 -> 381851.12 | D34: =315000*1.16 -> 365400 | E34: =346500*1.16 -> 401940
A35: 43 | B35: =426000*1.16 -> 494160 | C35: 389291 | D35: =320000*1.16 -> 371200 | E35: =355500*1.16 -> 412380
A36: 45 | B36: =438100*1.16 -> 508196 | C36: =339014*1.16 -> 393256.24 | D36: =332000*1.16 -> 385120 | E36: =364500*1.16 -> 422820
A37: 2000 PSI | B37: =320100*1.16 -> 371316 | C37: =267948*1.16 -> 310819.68 | D37: =265000*1.16 -> 307400 | E37: =250200*1.16 -> 290232
A38: 2500 PSI | B38: =332200*1.16 -> 385352 | C38: =287863*1.16 -> 333921.08 | D38: =268000*1.16 -> 310880 | E38: =269100*1.16 -> 312156
A39: 3000 PSI | B39: =344300*1.16 -> 399388 | C39: =310057*1.16 -> 359666.12 | D39: =275000*1.16 -> 319000 | E39: =288900*1.16 -> 335124
A40: 3500 PSI | B40: =357700*1.16 -> 414932 | C40: =316277*1.16 -> 366881.32 | D40: =280000*1.16 -> 324800 | E40: =294300*1.16 -> 341388
A41: 4000 PSI | B41: =371100*1.16 -> 430476 | C41: =323182*1.16 -> 374891.12 | D41: =286000*1.16 -> 331760 | E41: =312300*1.16 -> 362268
A43: RESISTENCIA ESPECIFICA A LOS 28 DIAS

Sheet TABLAS
A1: SECRETARÍA DE OBRAS PÚBLICAS
A2: TABLAS
A3: FECHA: ENERO DE 2020
A4: METRO CUBICO
A5: CANTIDAD DE ARENA, CEMENTO, BALASTO Y RESISTENCIAS QUE SE OBTIENEN
A6: MEZCLA | B6: CEMENTO | D6: ARENA | E6: BALASTO | F6: AGUA LITROS | H6: A LOS 24 DIAS
B7: KILOS | C7: SACOS | D7: M3 | E7: M3 | F7: Agr. Hum. | G7: Agr. Sec. | H7: KG/CM2 | I7: LB/IN2
A8: 1.2.2 | B8: 420 | C8: 8.5 | D8: 0.67 | E8: 0.67 | F8: 180 | G8: 200 | H8: 250 | I8: 3555
A9: 1. 2. 2 1/2 | B9: 380 | C9: 7.5 | D9: 0.600 | E9: 0.760 | F9: 170 | G9: 190 | H9: 240 | I9: 3400
A10: 1. 2. 3 | B10: 350 | C10: 7 | D10: 0.555 | E10: 0.835 | F10: 160 | G10: 180 | H10: 220 | I10: 3130
A11: 1. 2. 3 1/2 | B11: 320 | C11: 6.5 | D11: 0.515 | E11: 0.900 | F11: 160 | G11: 180 | H11: 210 | I11: 3000
A12: 1. 2. 4 | B12: 300 | C12: 6 | D12: 0.475 | E12: 0.950 | F12: 145 | G12: 170 | H12: 200 | I12: 2850
A13: 1. 2 1/2. 4 | B13: 280 | C13: 5.5 | D13: 0.555 | E13: 0.830 | F13: 145 | G13: 170 | H13: 190 | I13: 2700
A14: 1. 2 1/2. 4 1/2 | B14: 260 | C14: 5.25 | D14: 0.520 | E14: 0.940 | F14: 140 | G14: 160 | H14: 180 | I14: 2560
A15: 1. 3. 3 | B15: 300 | C15: 6 | D15: 0.715 | E15: 0.715 | F15: 145 | G15: 170 | H15: 170 | I15: 2400
A16: 1. 3. 4 | B16: 280 | C16: 5.25 | D16: 0.625 | E16: 0.825 | F16: 140 | G16: 165 | H16: 160 | I16: 2280
A17: 1. 3. 5 | B17: 230 | C17: 4.5 | D17: 0.555 | E17: 0.975 | F17: 135 | G17: 160 | H17: 140 | I17: 2000
A18: 1. 3. 6 | B18: 210 | C18: 4 | D18: 0.500 | E18: 1000 | F18: 130 | G18: 155 | H18: 120 | I18: 1700
A19: 1. 4. 7 | B19: 175 | C19: 3.5 | D19: 0.555 | E19: 0.975 | F19: 120 | G19: 145 | H19: 110 | I19: 1560
A20: 1. 4. 8 | B20: 160 | C20: 3.25 | D20: 0.655 | E20: 1025 | F20: 110 | G20: 140 | H20: 100 | I20: 1420
A23: Diámetro de la tubería Ancho de zanja (m) | E23: PULGADAS | F23: MILIMETROS | H23: EQUIVALENCIAS
A24: 75 a 200 mm (3" a 8") 0,60 | E24: 1/8" | F24: 2.5 | H24: MILIMETROS | I24: PULGADAS
A25: 250 y 300 mm (10" y 12") 0,70 | E25: 3/16" | F25: 4.5 | H25: 0.27mm | I25: Calibre 31
A26: 375 y 400 mm (15" y 16") 0,80 | E26: 1/4" | F26: 6 | H26: 0.31mm | I26: Calibre 30
A27: 450 mm (18") 0,90 | H27: 0.35mm | I27: Calibre 29
A28: 500 y 525 mm (20" y 21") 1,00 | H28: 0.45mm | I28: Calibre 26
A29: 600 mm (24") 1,10 | H29: 0.60mm | I29: Calibre 24
A30: 675 mm (27") 1,20 | H30: 0.70mm | I30: Calibre 22
A31: 750 mm (30") 1,30 | H31: 0.90mm | I31: Calibre 20
A32: 825 mm (33") 1,40 | H32: 1.20mm | I32: Calibre 18
A33: 900 mm (36") 1,50 | H33: 1.50mm | I33: Calibre16 | L33: 2.5
A34: 1000 mm (40") 1,80 | H34: 1.90mm | I34: Calibre 14
A36: En redes de Gas:
A37: Diámetro de la tubería Ancho de zanja (m)
A38: 20 mm a 180 mm 0,40
A39: 200 m a 315 mm 0,60
A40: Para diámetros mayores a los contemplados en estas tabla, el ancho de la zanja será igual al
A41: diámetro exterior de la tubería más 0,40 m a cada lado. Para las domiciliarias de acueducto y
A42: gas se utilizará un ancho de zanja de 0,40 m.
A43: El ancho de las excavaciones se incrementará cuando se requiera entibado de acuerdo con el
...

Sheet IPC
A1: SECRETARÍA DE OBRAS PÚBLICAS
A2: Índice de precios al consumidor (IPC)
A3: Total nacional - Serie histórica para un rango de fechas dado
A5: Índice y variación porcentual mensual, año corrido y anual
A6: Información disponible desde julio de 1954
A7: base: diciembre 2008 = 100
A9: Año | B9: Mes | C9: IPC | D9: Variación mensual (%) | E9: Variación año corrido (%) | F9: Variación anual (%)
A10: 1954 | B10: Julio | C10: 0,03770
B11: Agosto | C11: 0,03742 | D11: -0,76% | E11: -0,76%
B12: Septiembre | C12: 0,03690 | D12: -1,37% | E12: -2,12%
B13: Octubre | C13: 0,03703 | D13: 0,34% | E13: -1,79%
B14: Noviembre | C14: 0,03713 | D14: 0,27% | E14: -1,52%
B15: Diciembre | C15: 0,03733 | D15: 0,54% | E15: -1,00%
A16: 1955 | B16: Enero | C16: 0,03726 | D16: -0,17% | E16: -0,17%
B17: Febrero | C17: 0,03724 | D17: -0,07% | E17: -0,23%
B18: Marzo | C18: 0,03739 | D18: 0,40% | E18: 0,17%
B19: Abril | C19: 0,03765 | D19: 0,70% | E19: 0,87%
B20: Mayo | C20: 0,03749 | D20: -0,43% | E20: 0,43%
B21: Junio | C21: 0,03746 | D21: -0,07% | E21: 0,37%
B22: Julio | C22: 0,03738 | D22: -0,23% | E22: 0,13% | F22: -0,87%
B23: Agosto | C23: 0,03741 | D23: 0,10% | E23: 0,23% | F23: -0,01%
B24: Septiembre | C24: 0,03721 | D24: -0,53% | E24: -0,30% | F24: 0,84%
B25: Octubre | C25: 0,03731 | D25: 0,27% | E25: -0,04% | F25: 0,77%
B26: Noviembre | C26: 0,03766 | D26: 0,94% | E26: 0,90% | F26: 1,44%
B27: Diciembre | C27: 0,03808 | D27: 1,12% | E27: 2,03% | F27: 2,03%
A28: 1956 | B28: Enero | C28: 0,03805 | D28: -0,10% | E28: -0,10% | F28: 2,10%
B29: Febrero | C29: 0,03820 | D29: 0,39% | E29: 0,29% | F29: 2,57%
B30: Marzo | C30: 0,03855 | D30: 0,91% | E30: 1,21% | F30: 3,10%
B31: Abril | C31: 0,03879 | D31: 0,65% | E31: 1,86% | F31: 3,04%
B32: Mayo | C32: 0,03908 | D32: 0,74% | E32: 2,62% | F32: 4,25%
B33: Junio | C33: 0,03944 | D33: 0,92% | E33: 3,56% | F33: 5,28%
B34: Julio | C34: 0,03975 | D34: 0,79% | E34: 4,38% | F34: 6,36%
B35: Agosto | C35: 0,03957 | D35: -0,47% | E35: 3,89% | F35: 5,76%
B36: Septiembre | C36: 0,03992 | D36: 0,88% | E36: 4,81% | F36: 7,26%
B37: Octubre | C37: 0,04041 | D37: 1,25% | E37: 6,11% | F37: 8,31%
B38: Noviembre | C38: 0,04099 | D38: 1,42% | E38: 7,62% | F38: 8,83%
B39: Diciembre | C39: 0,04110 | D39: 0,27% | E39: 7,91% | F39: 7,91%
A40: 1957 | B40: Enero | C40: 0,04158 | D40: 1,18% | E40: 1,18% | F40: 9,30%
B41: Febrero | C41: 0,04213 | D41: 1,32% | E41: 2,52% | F41: 10,30%
B42: Marzo | C42: 0,04287 | D42: 1,74% | E42: 4,30% | F42: 11,21%
...

Sheet FACTOR MULTIPLICADOR
A1: SECRETARÍA DE OBRAS PÚBLICAS MUNICIPAL
A2: SOPM
A3: FACTOR MULTIPLICADOR | K3: IMPUESTOS MUNICIPALES ALCALDIA VALLEDUPAR
A4: DISCRIMINACION FACTOR MULTIPLICADOR PERSONAL PROFESIONAL Y TÉCNICO | J4: 1 | K4: ESTAMPILLA BIENESTAR ADULTO MAYOR | L4: 0.04
J5: 2 | K5: ESTAMPILLA PROCULTURA | L5: 0.02
A6: A. COSTO DIRECTOS | J6: 3 | K6: ESTAMPILLA PROUNICESAR | L6: 0.005
A7: A-1 SUELDOS | F7: 1 | J7: 4 | K7: INDUPAL | L7: 0.01
A8: A.2 PRESTACIONES SOCIALES | J8: 5 | K8: RETENCION A LA FUENTE | L8: 0.02
A9: a. | B9: Cesantías | E9: 0.084 | J9: 6 | K9: RETEICA | L9: 0.01
A10: b. | B10: Intereses sobre cesantías (12% anual) | E10: 0.01 | J10: 7 | K10: SEGURIDAD | L10: 0.05
B11: Prima de servicios | E11: 0
B12: Vacaciones (15 días hábiles 2/3x1/12x100) | E12: 0 | K12: IMPUESTOS DEPARTAMENTALES
A13: c. | B13: Subsidio familiar y Sena | E13: 0.06 | J13: 1 | K13: ESTAMPILLA PRODESARROLLO FRONTERIZO | L13: 0.015
B14: Capacitación Sena | E14: 0 | K14: TOTAL | L14: =SUM(L4:L13) -> 0.17
A15: d. | B15: I.C.B.F. | E15: 0.03
A16: e. | B16: Seguridad Social (salud + pensión) | E16: 0.133
B17: Indemnizaciones | E17: 0
B18: Servicios y drogas no cubiertos por el I.S.S. | E18: 0
B19: Incapacidades | E19: 0
A20: f. | B20: Dotación de uniformes | E20: 0.01
B21: Extras | E21: 0
A22: Sub-total prestaciones sociales | F22: =SUM(E9:E21) -> 0.327
A23: TOTAL COSTOS DIRECTOS (A) | G23: =F22+F7 -> 1.327
A25: B. COSTOS INDIRECTOS
A26: a. | B26: Gastos de personal técnico no facturable | D26: 0.08
A27: b. | B27: Gastos de administración | D27: 0.08
A28: c. | B28: Gastos de promoción e instalaciones (oficinas) | D28: 0.03
A29: d. | B29: Costos Financieros | D29: 0.038
A30: e. | B30: Gastos legales | D30: =SUM(E31:E36) -> 0.2005
B31: e.1 Impuestos oficiales | E31: 0.14
B32: e.2 Póliza de cumplimiento | E32: 0.003
