Workbook

Sheet PORTADA
B7: INFORME SEGUIMIENTO MENSUAL
B8: (Nombre auxiliar)
B9: INSPECCION 7() POLICIA
C11: JUNIO | D11: JULIO | E11: AGOSTO | F11: SEPTIEMBRE | G11: OCTUBRE | H11: NOVIEMBRE | I11: DICIEMBRE
B12: ARCO | C12: =ARCO!Q3 -> 0 | D12: =ARCO!R3 -> 0 | E12: =ARCO!S3 -> 0 | F12: =ARCO!T3 -> 0 | G12: =ARCO!U3 -> 0 | H12: =ARCO!V3 -> 0 | I12: =ARCO!W3 -> 0
B13: ORFEO | C13: =ORFEO!P3 -> 0 | D13: =ORFEO!Q3 -> 0 | E13: =ORFEO!R3 -> 1 | F13: =ORFEO!S3 -> 0 | G13: =ORFEO!T3 -> 0 | H13: =ORFEO!U3 -> 0 | I13: =ORFEO!V3 -> 0
B14: ARCHIVO | C14: =ARCHIVO!Q3 -> 0 | D14: =ARCHIVO!R3 -> 0 | E14: =ARCHIVO!S3 -> 0 | F14: =ARCHIVO!T3 -> 0 | G14: =ARCHIVO!U3 -> 0 | H14: =ARCHIVO!V3 -> 0 | I14: =ARCHIVO!W3 -> 0
B16: TOTAL | C16: =SUM(C12:C15) -> 0 | D16: =SUM(D12:D15) -> 0 | E16: =SUM(E12:E14) -> 1 | F16: =SUM(F12:F14) -> 0 | G16: =SUM(G12:G14) -> 0 | H16: =SUM(H12:H14) -> 0 | I16: =SUM(I12:I14) -> 0
B18: META CUMPLIMIENTO | C18: =C16/120 -> 0 | D18: =D16/120 -> 0 | E18: =E16/120 -> 0.0083333333 | F18: =F16/120 -> 0 | G18: =G16/120 -> 0 | H18: =H16/120 -> 0 | I18: =I16/120 -> 0

Sheet ARCO
D1: Nombre | E1: (Nombre auxiliar)
D2: Cargo | E2: AUXILIAR ADMINISTRATIVO INSPECCION 7() | Q2: JUNIO | R2: JULIO | S2: AGOSTO | T2: SEPTIEMBRE | U2: OCTUBRE | V2: NOVIEMBRE | W2: DICIEMBRE
D3: Ubicación | E3: INSPECCIONES DE POLICIA | Q3: =COUNTIF(B:B,"JUNIO") -> 0 | R3: =COUNTIF(B:B,"JULIO") -> 0 | S3: =COUNTIF(B:B,"AGOSTO") -> 0 | T3: =COUNTIF(B:B,"SEPTIEMBRE") -> 0 | U3: =COUNTIF(B:B,"OCTUBRE") -> 0 | V3: =COUNTIF(B:B,"NOVIEMBRE") -> 0 | W3: =COUNTIF(B:B,"DICIEMBRE") -> 0
A6: No. | B6: MES | C6: FECHA DE INGRESO | D6: NUMERO EXPEDIENTE | E6: Caso No | F6: RADICADO ORFEO | G6: DEMANDANTE | H6: DEMANDADO | I6: Dirección De Los Hechos | J6: FECHA AUDIENCIA | K6: HORA AUDIENCIA | L6: ARTICULO | M6: ESTADO | N6: MEDIO DE VERIFICACION
A7: 1 | B7: MARZO | D7: 2021574490100727E | E7: 6013895 | F7: KR 80 I # 61 - 5 SUR | I7: Pol 201 # 0 - 0 OCUPACION 19 | M7: AUDIENCIA | N7: APLICATIVO ARCO
A8: 2 | B8: MARZO | D8: 2021574490100725E | E8: 6013841 | I8: Pol 201 # 0 - 0 OCUPACION 13 | J8: Pol 201 # 0 - 0 OCUPACION 13 | M8: AUDIENCIA | N8: APLICATIVO ARCO
A9: 3 | B9: MARZO | D9: 2021574490100723E | E9: 6013540 | I9: NO REGISTRA | M9: AUDIENCIA | N9: APLICATIVO ARCO
A10: 4 | B10: MARZO | D10: 2021574490100719E | E10: 6012061 | I10: NO REGISTRA | M10: AUDIENCIA | N10: APLICATIVO ARCO
A11: 5 | B11: MARZO | D11: 2021574490100721E | E11: 6013200 | I11: Pol 201 # 0 - 0 OCUPACION 09 | M11: AUDIENCIA | N11: APLICATIVO ARCO
A12: 6 | B12: MARZO | D12: 2020573490121688E | E12: 2868114 | I12: CL 65 B SUR # 78 L - 31 | M12: AUDIENCIA | N12: APLICATIVO ARCO
A13: 7 | B13: MARZO | D13: 2020574490103005E | E13: 4315705 | I13: KR 70 A # 56 A - 42 | M13: AUDIENCIA | N13: APLICATIVO ARCO
A14: 8 | B14: MARZO | D14: 2020574490101807E | E14: 4315660 | I14: CL 49 SUR # 98 B - 75 casa 28 bloque 3 C.R. Tekoa 7 de Bosa Porvenir | M14: AUDIENCIA | N14: APLICATIVO ARCO
A15: 9 | B15: MARZO | D15: 2020574490101712E | E15: 4315655 | I15: CL 49 SUR # 98 B - 75 casa 28 bloque 3 C.R. Tekoa 7 de Bosa Porvenir | M15: AUDIENCIA | N15: APLICATIVO ARCO
A16: 10 | B16: MARZO | D16: 2021574490100729E | E16: 6013971 | I16: Pol 201 # 0 - 0 OCUPACION 19 | J16: Pol 201 # 0 - 0 OCUPACION 19 | M16: AUDIENCIA | N16: APLICATIVO ARCO
A17: 11 | B17: MARZO | D17: 2021574490100731E | E17: 6014230 | I17: Pol 201 # 0 - 0 OCUPACION 24 | M17: AUDIENCIA | N17: APLICATIVO ARCO
A18: 12 | B18: MARZO | D18: 2021574490100733E | E18: 6014282 | I18: Pol 201 # 0 - 0 OCUPACION 29 | M18: AUDIENCIA | N18: APLICATIVO ARCO
A19: 13 | B19: MARZO | D19: 2021574490100735E | E19: 6014421 | M19: AUDIENCIA | N19: APLICATIVO ARCO
A20: 14 | B20: MARZO | D20: 2021574490100737E | E20: 6014529 | I20: Pol 201 # 0 - 0 OCUPACION 31 | M20: AUDIENCIA | N20: APLICATIVO ARCO
A21: 15 | B21: MARZO | D21: 2021574490100104E | E21: 4456713 | I21: KR 82 SUR # 67 A - 28 | M21: AUDIENCIA | N21: APLICATIVO ARCO
A22: 16 | B22: MARZO | D22: 2020574490114292E | E22: 4251733 | I22: KR 80 A # 65 - 71 SUR | M22: ARCHIVO DEFINITIVO | N22: APLICATIVO ARCO
A23: 17 | B23: MARZO | D23: 2020574490114296E | E23: 4251767 | I23: CL 45 F SUR # 94 - 18 LOCAL 1-23 Y 1-24 | J23: CL 45 F SUR # 94 - 18 LOCAL 1-23 Y 1-24 | M23: ARCHIVO DEFINITIVO | N23: APLICATIVO ARCO
A24: 18 | B24: MARZO | D24: 2021574490100137E | E24: 4458238 | I24: KR 89 A BIS # 49 D - 22 SUR | M24: CITACION A AUDIENCIA | N24: APLICATIVO ARCO
A25: 19 | B25: MARZO | D25: 2021574490100134E | E25: 4458055 | I25: CL 88 SUR # 87 A - 19 | M25: CITACION A AUDIENCIA | N25: APLICATIVO ARCO
A26: 20 | B26: MARZO | D26: 2021574490100131E | E26: 4458010 | I26: CL 88 SUR # 86 A - 7 | M26: AUDIENCIA | N26: APLICATIVO ARCO
A27: 21 | B27: MARZO | D27: 2019574490121362E | E27: 567142 | I27: Pol 106 # 0 - 0 OCUPACION 238 | M27: AUDIENCIA | N27: APLICATIVO ARCO
A28: 22 | B28: MARZO | D28: 2019574490121361E | E28: 567141 | I28: Pol 106 # 0 - 0 OCUPACION 237 | M28: AUDIENCIA | N28: APLICATIVO ARCO
A29: 23 | B29: MARZO | D29: 2018573890100095E | E29: 563718 | I29: Pol 106 # 0 - 0 OCUPACION 210 | M29: CITACION A AUDIENCIA | N29: APLICATIVO ARCO
A30: 24 | B30: MARZO | D30: 2019574490121349E | E30: 567129 | I30: Pol 200 A # 0 - 0 OCUPACION 71 | M30: CITACION A AUDIENCIA | N30: APLICATIVO ARCO
A31: 25 | B31: MARZO | D31: 2020574490100774E | E31: 4315636 | I31: Pol 106 # 0 - 0 OCUPACION 197 | M31: CITACION A AUDIENCIA | N31: APLICATIVO ARCO
A32: 26 | B32: MARZO | D32: 2019574490121360E | E32: 567140 | I32: Pol 106 # 0 - 0 OCUPACION 236 | M32: CITACION A AUDIENCIA | N32: APLICATIVO ARCO
A33: 27 | B33: MARZO | D33: 2019574490127583E | E33: 567309 | I33: Pol 105 # 0 - 0 OUCPACION 7 | M33: CITACION A AUDIENCIA | N33: APLICATIVO ARCO
A34: 28 | B34: MARZO | D34: 2019574490121346E | E34: 567126 | I34: Pol 200 A # 0 - 0 OCUPACION 9 | M34: CITACION A AUDIENCIA | N34: APLICATIVO ARCO
A35: 29 | B35: MARZO | D35: 2019574490132705E | E35: 4309883 | I35: Pol 109 A # 0 - 0 OUPACION 5 | M35: CITACION A AUDIENCIA | N35: APLICATIVO ARCO
... A42: 36 | B42: MARZO | D42: 2019574490127362E | E42: 567158 | I42: KR 82 # 59 B - 20 SUR | M42: AUDIENCIA | N42: APLICATIVO ARCO
A43: 37 | B43: MARZO | D43: 2017573870103727E | E43: 559145 | I43: NO REGISTRA | M43: CITACION A AUDIENCIA | N43: APLICATIVO ARCO | O43: x
A44: 38 | B44: MARZO | D44: 2017573880100148E | E44: 559189 | I44: NO REGISTRA | M44: AUDIENCIA | N44: APLICATIVO ARCO
A45: 39 | B45: MARZO | D45: 2017573880100167E | E45: 557158 | I45: 77 J BIS # 69 A-46 | M45: AUDIENCIA | N45: APLICATIVO ARCO | O45: CARGAR ACTA
A46: 40 | B46: MARZO | D46: 2017573880100084E | E46: 559158 | I46: CARRERA 94 A 65-42 sur | M46: AUDIENCIA | N46: APLICATIVO ARCO | O46: CARGAR ACTA
A47: 41 | B47: MARZO | D47: 2017573870100445E | E47: 556802 | N47: APLICATIVO ARCO
A48: 42 | B48: MARZO | D48: 2017573870101844E | E48: 557057 | I48: carrera 87 l 71b -04 | M48: AUDIENCIA | N48: APLICATIVO ARCO
A49: 43 | B49: MARZO | D49: 2017573880100196E | E49: 557168 | I49: CALL 50A SUR # 88 C -26 | M49: AUDIENCIA | N49: APLICATIVO ARCO
A50: 44 | B50: MARZO | D50: 2017573870102832E | E50: 558797 | I50: CARRERA 78C# 72 A - 29 SUR | M50: AUDIENCIA | N50: APLICATIVO ARCO
A51: 45 | B51: MARZO | D51: 2017573870102522E | E51: 558700 | I51: CALLE 62 SUR #8209 | M51: AUDIENCIA | N51: APLICATIVO ARCO
A52: 46 | B52: MARZO | D52: 2017223490104571E | E52: 448106 | I52: CALLE 57 B70-91 | M52: AUDIENCIA | N52: APLICATIVO ARCO | O52: Cerrado
A53: 47 | B53: MARZO | D53: 2017573880100311E | E53: 559254 | I53: CALLE 78 SUR 87 J-41 | M53: AUDIENCIA | N53: APLICATIVO ARCO
A54: 48 | B54: MARZO | D54: 2017573870103725E | E54: 559144 | I54: CARRERA 82 I 59B-22 SUR | M54: AUDIENCIA | N54: APLICATIVO ARCO
A55: 49 | B55: MARZO | D55: 2021574490100746E | E55: 6020337 | I55: Pol 201 # 0 0 - 0 OCUPACIOPN 54 | M55: AUDIENCIA | N55: APLICATIVO ARCO
A56: 50 | B56: MARZO | D56: 2021574490100744E | E56: 6019990 | I56: Pol 201 # 0 - 0 OCUPACION 52 | M56: AUDIENCIA | N56: APLICATIVO ARCO
A57: 51 | B57: MARZO | D57: 2021574490100743E | E57: 6014835 | I57: Pol 201 # 0 - 0 OCUPACION 51 | M57: AUDIENCIA | N57: APLICATIVO ARCO
A58: 52 | B58: MARZO | D58: 2021574490100741E | E58: 6014758 | I58: Pol 201 # 0 - 0 OCUPACION 41 | J58: Pol 201 # 0 - 0 OCUPACION 41 | M58: AUDIENCIA | N58: APLICATIVO ARCO
A59: 53 | B59: MARZO | D59: 2021574490100739E | E59: 6014596 | I59: Pol 201 # 0 - 0 OCUPACION 35 | M59: AUDIENCIA | N59: APLICATIVO ARCO
A60: 54 | B60: MARZO | D60: 2020574490114580E | E60: 4535654 | I60: CL 67 SUR # 81 G - 10 | M60: AUDIENCIA | N60: APLICATIVO ARCO
A61: 55 | B61: MARZO | D61: 2020574490114288E | E61: 4251707 | I61: KR 79 C # 63 - 78 SUR LOCAL 1 | J61: KR 79 C # 63 - 78 SUR LOCAL 1 | M61: AVOQUE | N61: APLICATIVO ARCO
A62: 56 | B62: MARZO | D62: 2020574490114284E | E62: 4251674 | I62: CL 70 A SUR # 91 - 14 | J62: CL 70 A SUR # 91 - 14 | M62: AUDIENCIA | N62: APLICATIVO ARCO
A63: 57 | B63: MARZO | D63: 2020574490114280E | E63: 4251642 | I63: KR 88 C # 59 - 27 SUR | M63: CITACION A AUDIENCIA | N63: APLICATIVO ARCO
A64: 58 | B64: MARZO | D64: 2020574490114307E | E64: 4251884 | M64: AUDIENCIA | N64: APLICATIVO ARCO
A65: 59 | B65: MARZO | D65: 2020574490114303E | E65: 4251870 | I65: CL 63 SUR # 81 D - 4 | M65: CITACION A AUDIENCIA | N65: APLICATIVO ARCO
A66: 60 | B66: MARZO | D66: 2020574490114299E | E66: 4251798 | I66: TV 79 D # 73 - 18 SUR SUR | M66: AUDIENCIA | N66: APLICATIVO ARCO
A67: 61 | B67: MARZO | D67: 2020573490121689E | E67: 2868178 | I67: KR 36 # 17 - 293 TORRE 11APTO 504 C.R NARDO CIUDAD VERDE | M67: AUDIENCIA | N67: APLICATIVO ARCO
A68: 62 | B68: MARZO | D68: 2018573870100073E | E68: 562131 | I68: KR 87 # 67 - 55 SUR | M68: AUDIENCIA | N68: APLICATIVO ARCO
A69: 63 | B69: MARZO | D69: 2021574490100323E | E69: 5116638 | I69: 2021574490100323E | M69: AUDIENCIA | N69: APLICATIVO ARCO
A70: 64 | B70: MARZO | D70: 2019574490119143E | E70: 567105 | I70: NO REGISTRA DIRECCIÓN | M70: AUDIENCIA | N70: APLICATIVO ARCO
A71: 65 | B71: MARZO | D71: 2019574490101261E | E71: 566590 | I71: Pol 201 # 0 - 0 OCUPACION 454 | M71: CITACION A AUDIENCIA | N71: APLICATIVO ARCO
A72: 66 | B72: MARZO | D72: 2020573490126899E | E72: 3405096 | I72: Pol 201 # 0 - 0 OCUPACION 290 | M72: CITACION A AUDIENCIA | N72: APLICATIVO ARCO
A73: 67 | B73: MARZO | D73: 2020573490126899E | E73: 3405096 | I73: Pol 201 # 0 - 0 OCUPACION 290 | M73: CITACION A AUDIENCIA | N73: APLICATIVO ARCO
A74: 68 | B74: MARZO | D74: 2019574490132008E | E74: 4309857 | I74: CL 56 F SUR # 103 - 50 BLOQUE 4 CASA 28 | M74: AUDIENCIA | N74: APLICATIVO ARCO
A75: 69 | B75: MARZO | D75: 2021574490100748E | E75: 6024793 | I75: Pol 201 # 0 - 0 OCUPACION 56 | M75: AUDIENCIA | N75: APLICATIVO ARCO
A76: 70 | B76: MARZO | D76: 2017573890100210E | E76: 559346 | I76: CL 70 C # 78 D - 48 BARRIO NUEVA GRANADA II SECTOR | M76: ARCHIVO DEFINITIVO | N76: APLICATIVO ARCO
... A90: 84 | B90: MARZO | D90: 2020573490129218E | E90: 4012640 | I90: CL 58 BIS SUR # 22 - 39 BARRIO CASA LINDA TUNAL | M90: AUDIENCIA | N90: APLICATIVO ARCO
A91: 85 | B91: MARZO | D91: 2020574490114203E | E91: 4121788 | I91: CL 65 SUR # 78 C - 43 | J91: CL 65 SUR # 78 c - 43 | M91: AUDIENCIA | N91: APLICATIVO ARCO
A92: 86 | B92: MARZO | D92: 2020573490129220E | E92: 4012668 | I92: CL 134 A # 17 - 30 INTERIOR 1 BARRIO CONTADOR | M92: AUDIENCIA | N92: APLICATIVO ARCO
A93: 87 | B93: MARZO | D93: 2019223490131162E | E93: 565138 | I93: KR 89 A # 79 - 23 SUR | M93: AUDIENCIA | N93: APLICATIVO ARCO
A94: 88 | B94: MARZO | D94: 2020573490123400E | E94: 32 | I94: KR 87 SUR # 88 - 42 | M94: ARCHIVO DEFINITIVO | N94: APLICATIVO ARCO
A95: 89 | B95: MARZO | D95: 2020573490123403E | E95: 2982203 | I95: KR 80 I SUR # 70 - 5 | M95: ARCHIVO DEFINITIVO | N95: APLICATIVO ARCO
A96: 90 | B96: MARZO | D96: 2020573490123409E | E96: 2982486 | I96: CL 88 SUR # 87 - 5 | M96: ARCHIVO DEFINITIVO | N96: APLICATIVO ARCO | O96: CARGAR ACTA
A97: 91 | B97: MARZO | D97: 2019574490119129E | E97: 567091 | I97: KR 98 B # 72 - 25 CASA 242 | M97: ARCHIVO DEFINITIVO | N97: APLICATIVO ARCO
A98: 92 | B98: MARZO | D98: 2019574490101372E | E98: 566789 | I98: DG 73 SUR # 78 I - 70 | M98: AUDIENCIA | N98: APLICATIVO ARCO
A99: 93 | B99: MARZO | D99: 2020573490111235E | E99: 1854125 | I99: CL 56 D SUR # 88 H - 95 BOSA SAN MARTIN -COLEGIO JALIL GIBRAN | M99: AUDIENCIA | N99: APLICATIVO ARCO
A100: 94 | B100: MARZO | D100: 2020574490114485E | E100: 4449716 | I100: CL 55 SUR # 103 - 49 BLOQUE 6 CASA 21 | M100: AVOQUE | N100: APLICATIVO ARCO
A101: 95 | B101: MARZO | D101: 2020573490110890E | E101: 1836356 | I101: NO REGISTRA DIRECCIÓN | M101: AVOQUE | N101: APLICATIVO ARCO
A102: 96 | B102: MARZO | D102: 2020574490114194E | E102: 4118675 | I102: Pol 201 A # 0 - 0 OCUPACION 141 | M102: CITACION A AUDIENCIA | N102: APLICATIVO ARCO | O102: falta ap
A103: 97 | B103: MARZO | D103: 2019223490124490E | E103: 565000 | I103: NO REGISTRA DIRECCIÓN | M103: CITACION A AUDIENCIA | N103: APLICATIVO ARCO
A104: 98 | B104: MARZO | D104: 2019574490132702E | E104: 4309881 | I104: NO REGISTRA DIRECCIÓN | M104: CITACION A AUDIENCIA | N104: APLICATIVO ARCO
A105: 99 | B105: MARZO | D105: 2018574490100077E | E105: 563820 | I105: NO REGISTRA DIRECCIÓN | M105: CITACION A AUDIENCIA | N105: APLICATIVO ARCO
A106: 100 | B106: MARZO | D106: 2020574490114194E | E106: 4118675 | I106: Pol 201 A # 0 - 0 OCUPACION 141 | M106: AUDIENCIA | N106: APLICATIVO ARCO
A107: 101 | B107: MARZO | D107: 2020573490128418E | E107: 3565400 | I107: Pol 201 A # 0 - 0 OCUPACION 243 | M107: AUDIENCIA | N107: APLICATIVO ARCO
A108: 102 | B108: MARZO | D108: 2021574490100006E | E108: 4252181 | I108: KR 80 I # 61 - 5 OCUPACION 315 | M108: AUDIENCIA | N108: APLICATIVO ARCO
A109: 103 | B109: MARZO | D109: 2020573490126078E | E109: 3303525 | I109: Pol 201 A # 0 - 0 OCUPACION 259 | N109: APLICATIVO ARCO
A110: 104 | B110: MARZO | D110: 2020574490114198E | E110: 4119050 | I110: Pol 201 A # 0 - 0 OCUPACION 73 | M110: AUDIENCIA | N110: APLICATIVO ARCO
A111: 105 | B111: MARZO | D111: 2017573890100197E | E111: 559340 | I111: CL 66 # 78 L - 14 | M111: ARCHIVO DEFINITIVO | N111: APLICATIVO ARCO
A112: 106 | B112: MARZO | D112: 2020574490100949E | E112: 4315649 | I112: KR 102 A # 58 - 77 SUR BOSA EL RECUERDO | M112: ARCHIVO DEFINITIVO | N112: APLICATIVO ARCO
A113: 107 | B113: MARZO | D113: 2021574490101019E | E113: 6427754 | I113: NO REGISTRA DIRECCIÓN | M113: AVOQUE | N113: APLICATIVO ARCO
A114: 108 | B114: MARZO | D114: 2021574490101025E | E114: 6441394 | I114: CALLE 60 A SUR #97 B 38 | M114: AVOQUE | N114: APLICATIVO ARCO
A115: 109 | B115: MARZO | D115: 2021574490101250E | E115: 6872439 | I115: NO REGISTRA DIRECCIÓN | M115: AVOQUE | N115: APLICATIVO ARCO
A116: 110 | B116: MARZO | D116: 2021574490100657E | E116: 5899820 | I116: NO SE RESGISTRA | M116: AVOQUE | N116: APLICATIVO ARCO
A117: 111 | B117: MARZO | D117: 2021574490100694E | E117: 5960199 | I117: NO SE REGISTRA | M117: AVOQUE | N117: APLICATIVO ARCO
A118: 112 | B118: MARZO | D118: 2021574490100692E | E118: 5960126 | I118: KR 94 # 87 - 40 SUR TORRE 6 APTO 4021 | M118: AVOQUE | N118: APLICATIVO ARCO
A119: 113 | B119: MARZO | D119: 2021574490100782E | E119: 6089851 | M119: AVOQUE | N119: APLICATIVO ARCO
A120: 114 | B120: MARZO | D120: 2021574490100713E | E120: 5973278 | M120: AVOQUE | N120: APLICATIVO ARCO
A121: 115 | B121: MARZO | D121: 2021574490100915E | E121: 6266923 | M121: AVOQUE | N121: APLICATIVO ARCO
...

Sheet LISTAS
A1: AVOQUE
A2: CITACION A AUDIENCIA
A3: AUDIENCIA
A4: ARCHIVO DEFINITIVO
A5: SEGUNDA INSTANCIA

Sheet ORFEO
D1: Nombre | E1: LEONARDO VALENCIA CADENA | F1: (Nombre auxiliar)
D2: Cargo | E2: AUXILIAR ADMINISTRATIVO INSPECCION 7D | F2: AUXILIAR ADMINISTRATIVO INSPECCION 7() | P2: JUNIO | Q2: JULIO | R2: AGOSTO | S2: SEPTIEMBRE | T2: OCTUBRE | U2: NOVIEMBRE | V2: DICIEMBRE
D3: Ubicación | E3: INSPECCIONES DE POLICIA | F3: INSPECCIONES DE POLICIA | P3: =COUNTIF(B:B,"JUNIO") -> 0 | Q3: =COUNTIF(B:B,"JULIO") -> 0 | R3: =COUNTIF(B:B,"AGOSTO") -> 1 | S3: =COUNTIF(B:B,"SEPTIEMBRE") -> 0 | T3: =COUNTIF(B:B,"OCTUBRE") -> 0 | U3: =COUNTIF(B:B,"NOVIEMBRE") -> 0 | V3: =COUNTIF(B:B,"DICIEMBRE") -> 0
A6: No. | B6: MES | C6: RADICADO | D6: FECHA RADICADO | E6: TIPO_DE_DOCUMENTO | F6: ASUNTO | G6: ANEXOS | H6: N_HOJAS | I6: MEDIO RECEPCION | J6: USUARIO | K6: DEPENDENCIA | L6: SGD SPUB CODIGO | M6: USUA NIVEL | N6: MEDIO DE VERIFICACION
A7: 1 | B7: AGOSTO | C7: 20215741013671 | D7: 2021/08/02 09:48:47 | E7: No definido | F7: CITACION AUDIENCIA 2020573490128236E | G7: 0 | I7: CDI | J7: (Nombre auxiliar) | K7: Area de Gestion Policiva Inspecciones Bosa | L7: 0 | M7: 1 | N7: APLICATIVO ORFEO
A8: 2 | L8: 0 | M8: 1 | N8: APLICATIVO ORFEO
A9: 3 | L9: 0 | M9: 1 | N9: APLICATIVO ORFEO
A10: 4 | L10: 0 | M10: 1 | N10: APLICATIVO ORFEO
A11: 5 | L11: 0 | M11: 1 | N11: APLICATIVO ORFEO
A12: 6 | L12: 0 | M12: 1 | N12: APLICATIVO ORFEO
A13: 7 | L13: 0 | M13: 1 | N13: APLICATIVO ORFEO
A14: 8 | L14: 0 | M14: 1 | N14: APLICATIVO ORFEO
A15: 9 | L15: 0 | M15: 1 | N15: APLICATIVO ORFEO
A16: 10 | L16: 0 | M16: 1 | N16: APLICATIVO ORFEO
A17: 11 | L17: 0 | M17: 1 | N17: APLICATIVO ORFEO
A18: 12 | L18: 0 | M18: 1 | N18: APLICATIVO ORFEO
A19: 13 | L19: 0 | M19: 1 | N19: APLICATIVO ORFEO
... A183: 177 | L183: 0 | M183: 1 | N183: APLICATIVO ORFEO
A184: 178 | N184: APLICATIVO ORFEO
A185: 179 | N185: APLICATIVO ORFEO
A186: 180 | N186: APLICATIVO ORFEO
A187: 181 | N187: APLICATIVO ORFEO
A188: 182 | N188: APLICATIVO ORFEO
A189: 183 | N189: APLICATIVO ORFEO
A190: 184 | N190: APLICATIVO ORFEO
A191: 185 | N191: APLICATIVO ORFEO
A192: 186 | N192: APLICATIVO ORFEO
A193: 187 | N193: APLICATIVO ORFEO
A194: 188 | N194: APLICATIVO ORFEO
A195: 189 | N195: APLICATIVO ORFEO
... A1543: 1537 | N1543: APLICATIVO ORFEO

Sheet NO MIGRADO
A1: 2020574490100172
A2: 2022574490100212 | B2: ap 24 nov 2022
A3: 2021574490101677 | B3: ap 24 nov 2022
A4: 2021574490101575 | B4: 44882
A5: 2021574490101233 | B5: no permita cargar documentos

Sheet ARCHIVO
D1: Nombre | E1: (Nombre Auxiliar)
D2: Cargo | E2: AUXILIAR ADMINISTRATIVO INSPECCION 7() | Q2: JUNIO | R2: JULIO | S2: AGOSTO | T2: SEPTIEMBRE | U2: OCTUBRE | V2: NOVIEMBRE | W2: DICIEMBRE
D3: Ubicación | E3: INSPECCIONES DE POLICIA | Q3: =COUNTIF(B:B,"JUNIO") -> 0 | R3: =COUNTIF(B:B,"JULIO") -> 0 | S3: =COUNTIF(B:B,"AGOSTO") -> 0 | T3: =COUNTIF(B:B,"SEPTIEMBRE") -> 0 | U3: =COUNTIF(B:B,"OCTUBRE") -> 0 | V3: =COUNTIF(B:B,"NOVIEMBRE") -> 0 | W3: =COUNTIF(B:B,"DICIEMBRE") -> 0
A6: No. | B6: MES | C6: FECHA DE INGRESO | D6: NUMERO EXPEDIENTE | E6: Caso No | F6: RADICADO ORFEO | G6: DEMANDANTE | H6: DEMANDADO | I6: Dirección De Los Hechos | J6: FECHA AUDIENCIA | K6: HORA AUDIENCIA | L6: ARTICULO | M6: ESTADO | N6: MEDIO DE VERIFICACION | O6: CAJA | P6: FOLIOS
A7: 1 | B7: =IF(ARCO!B7="","",ARCO!B7) -> MARZO | C7: =IF(ARCO!C7="","",ARCO!C7) | D7: =IF(ARCO!D7="","",ARCO!D7) -> 2021574490100727E | E7: =IF(ARCO!E7="","",ARCO!E7) -> 6013895 | F7: =IF(ARCO!F7="","",ARCO!F7) -> KR 80 I # 61 - 5 SUR | G7: =IF(ARCO!G7="","",ARCO!G7) | H7: =IF(ARCO!H7="","",ARCO!H7) | I7: =IF(ARCO!I7="","",ARCO!I7) -> Pol 201 # 0 - 0 OCUPACION 19 | ... M7: =IF(ARCO!M7="","",ARCO!M7) -> AUDIENCIA | N7: ARCHIVO FISICO INSPECCION
A8: 2 | B8: =IF(ARCO!B8="","",ARCO!B8) -> MARZO | C8: =IF(ARCO!C8="","",ARCO!C8) | D8: =IF(ARCO!D8="","",ARCO!D8) -> 2021574490100725E | E8: =IF(ARCO!E8="","",ARCO!E8) -> 6013841 | F8: =IF(ARCO!F8="","",ARCO!F8) | G8: =IF(ARCO!G8="","",ARCO!G8) | H8: =IF(ARCO!H8="","",ARCO!H8) | I8: =IF(ARCO!I8="","",ARCO!I8) -> Pol 201 # 0 - 0 OCUPACION 13 | ... M8: =IF(ARCO!M8="","",ARCO!M8) -> AUDIENCIA | N8: ARCHIVO FISICO INSPECCION
A9: 3 | B9: =IF(ARCO!B9="","",ARCO!B9) -> MARZO | C9: =IF(ARCO!C9="","",ARCO!C9) | D9: =IF(ARCO!D9="","",ARCO!D9) -> 2021574490100723E | E9: =IF(ARCO!E9="","",ARCO!E9) -> 6013540 | F9: =IF(ARCO!F9="","",ARCO!F9) | G9: =IF(ARCO!G9="","",ARCO!G9) | H9: =IF(ARCO!H9="","",ARCO!H9) | I9: =IF(ARCO!I9="","",ARCO!I9) -> NO REGISTRA | ... M9: =IF(ARCO!M9="","",ARCO!M9) -> AUDIENCIA | N9: ARCHIVO FISICO INSPECCION
A10: 4 | B10: =IF(ARCO!B10="","",ARCO!B10) -> MARZO | C10: =IF(ARCO!C10="","",ARCO!C10) | D10: =IF(ARCO!D10="","",ARCO!D10) -> 2021574490100719E | E10: =IF(ARCO!E10="","",ARCO!E10) -> 6012061 | F10: =IF(ARCO!F10="","",ARCO!F10) | G10: =IF(ARCO!G10="","",ARCO!G10) | H10: =IF(ARCO!H10="","",ARCO!H10) | I10: =IF(ARCO!I10="","",ARCO!I10) -> NO REGISTRA | ... M10: =IF(ARCO!M10="","",ARCO!M10) -> AUDIENCIA | N10: ARCHIVO FISICO INSPECCION
A11: 5 | B11: =IF(ARCO!B11="","",ARCO!B11) -> MARZO | C11: =IF(ARCO!C11="","",ARCO!C11) | D11: =IF(ARCO!D11="","",ARCO!D11) -> 2021574490100721E | E11: =IF(ARCO!E11="","",ARCO!E11) -> 6013200 | F11: =IF(ARCO!F11="","",ARCO!F11) | G11: =IF(ARCO!G11="","",ARCO!G11) | H11: =IF(ARCO!H11="","",ARCO!H11) | I11: =IF(ARCO!I11="","",ARCO!I11) -> Pol 201 # 0 - 0 OCUPACION 09 | ... M11: =IF(ARCO!M11="","",ARCO!M11) -> AUDIENCIA | N11: ARCHIVO FISICO INSPECCION
A12: 6 | B12: =IF(ARCO!B12="","",ARCO!B12) -> MARZO | C12: =IF(ARCO!C12="","",ARCO!C12) | D12: =IF(ARCO!D12="","",ARCO!D12) -> 2020573490121688E | E12: =IF(ARCO!E12="","",ARCO!E12) -> 2868114 | F12: =IF(ARCO!F12="","",ARCO!F12) | G12: =IF(ARCO!G12="","",ARCO!G12) | H12: =IF(ARCO!H12="","",ARCO!H12) | I12: =IF(ARCO!I12="","",ARCO!I12) -> CL 65 B SUR # 78 L - 31 | ... M12: =IF(ARCO!M12="","",ARCO!M12) -> AUDIENCIA | N12: ARCHIVO FISICO INSPECCION
A13: 7 | B13: =IF(ARCO!B13="","",ARCO!B13) -> MARZO | C13: =IF(ARCO!C13="","",ARCO!C13) | D13: =IF(ARCO!D13="","",ARCO!D13) -> 2020574490103005E | E13: =IF(ARCO!E13="","",ARCO!E13) -> 4315705 | F13: =IF(ARCO!F13="","",ARCO!F13) | G13: =IF(ARCO!G13="","",ARCO!G13) | H13: =IF(ARCO!H13="","",ARCO!H13) | I13: =IF(ARCO!I13="","",ARCO!I13) -> KR 70 A # 56 A - 42 | ... M13: =IF(ARCO!M13="","",ARCO!M13) -> AUDIENCIA | N13: ARCHIVO FISICO INSPECCION
A14: 8 | B14: =IF(ARCO!B14="","",ARCO!B14) -> MARZO | C14: =IF(ARCO!C14="","",ARCO!C14) | D14: =IF(ARCO!D14="","",ARCO!D14) -> 2020574490101807E | E14: =IF(ARCO!E14="","",ARCO!E14) -> 4315660 | F14: =IF(ARCO!F14="","",ARCO!F14) | G14: =IF(ARCO!G14="","",ARCO!G14) | H14: =IF(ARCO!H14="","",ARCO!H14) | I14: =IF(ARCO!I14="","",ARCO!I14) -> CL 49 SUR # 98 B - 75 casa 28 bloque 3 C.R. Tekoa 7 de Bosa Porvenir | ... M14: =IF(ARCO!M14="","",ARCO!M14) -> AUDIENCIA | N14: ARCHIVO FISICO INSPECCION
A15: 9 | B15: =IF(ARCO!B15="","",ARCO!B15) -> MARZO | C15: =IF(ARCO!C15="","",ARCO!C15) | D15: =IF(ARCO!D15="","",ARCO!D15) -> 2020574490101712E | E15: =IF(ARCO!E15="","",ARCO!E15) -> 4315655 | F15: =IF(ARCO!F15="","",ARCO!F15) | G15: =IF(ARCO!G15="","",ARCO!G15) | H15: =IF(ARCO!H15="","",ARCO!H15) | I15: =IF(ARCO!I15="","",ARCO!I15) -> CL 49 SUR # 98 B - 75 casa 28 bloque 3 C.R. Tekoa 7 de Bosa Porvenir | ... M15: =IF(ARCO!M15="","",ARCO!M15) -> AUDIENCIA | N15: ARCHIVO FISICO INSPECCION
A16: 10 | B16: =IF(ARCO!B16="","",ARCO!B16) -> MARZO | C16: =IF(ARCO!C16="","",ARCO!C16) | D16: =IF(ARCO!D16="","",ARCO!D16) -> 2021574490100729E | E16: =IF(ARCO!E16="","",ARCO!E16) -> 6013971 | F16: =IF(ARCO!F16="","",ARCO!F16) | G16: =IF(ARCO!G16="","",ARCO!G16) | H16: =IF(ARCO!H16="","",ARCO!H16) | I16: =IF(ARCO!I16="","",ARCO!I16) -> Pol 201 # 0 - 0 OCUPACION 19 | ... M16: =IF(ARCO!M16="","",ARCO!M16) -> AUDIENCIA | N16: ARCHIVO FISICO INSPECCION
A17: 11 | B17: =IF(ARCO!B17="","",ARCO!B17) -> MARZO | C17: =IF(ARCO!C17="","",ARCO!C17) | D17: =IF(ARCO!D17="","",ARCO!D17) -> 2021574490100731E | E17: =IF(ARCO!E17="","",ARCO!E17) -> 6014230 | F17: =IF(ARCO!F17="","",ARCO!F17) | G17: =IF(ARCO!G17="","",ARCO!G17) | H17: =IF(ARCO!H17="","",ARCO!H17) | I17: =IF(ARCO!I17="","",ARCO!I17) -> Pol 201 # 0 - 0 OCUPACION 24 | ... M17: =IF(ARCO!M17="","",ARCO!M17) -> AUDIENCIA | N17: ARCHIVO FISICO INSPECCION
A18: 12 | B18: =IF(ARCO!B18="","",ARCO!B18) -> MARZO | C18: =IF(ARCO!C18="","",ARCO!C18) | D18: =IF(ARCO!D18="","",ARCO!D18) -> 2021574490100733E | E18: =IF(ARCO!E18="","",ARCO!E18) -> 6014282 | F18: =IF(ARCO!F18="","",ARCO!F18) | G18: =IF(ARCO!G18="","",ARCO!G18) | H18: =IF(ARCO!H18="","",ARCO!H18) | I18: =IF(ARCO!I18="","",ARCO!I18) -> Pol 201 # 0 - 0 OCUPACION 29 | ... M18: =IF(ARCO!M18="","",ARCO!M18) -> AUDIENCIA | N18: ARCHIVO FISICO INSPECCION
... A26: 20 | B26: =IF(ARCO!B26="","",ARCO!B26) -> MARZO | C26: =IF(ARCO!C26="","",ARCO!C26) | D26: =IF(ARCO!D26="","",ARCO!D26) -> 2021574490100131E | E26: =IF(ARCO!E26="","",ARCO!E26) -> 4458010 | F26: =IF(ARCO!F26="","",ARCO!F26) | G26: =IF(ARCO!G26="","",ARCO!G26) | H26: =IF(ARCO!H26="","",ARCO!H26) | I26: =IF(ARCO!I26="","",ARCO!I26) -> CL 88 SUR # 86 A - 7 | ... M26: =IF(ARCO!M26="","",ARCO!M26) -> AUDIENCIA | N26: ARCHIVO FISICO INSPECCION
A27: 21 | B27: =IF(ARCO!B27="","",ARCO!B27) -> MARZO | C27: =IF(ARCO!C27="","",ARCO!C27) | D27: =IF(ARCO!#REF!="","",ARCO!#REF!) -> #REF! | E27: =IF(ARCO!E27="","",ARCO!E27) -> 567142 | F27: =IF(ARCO!F27="","",ARCO!F27) | G27: =IF(ARCO!G27="","",ARCO!G27) | H27: =IF(ARCO!H27="","",ARCO!H27) | I27: =IF(ARCO!I27="","",ARCO!I27) -> Pol 106 # 0 - 0 OCUPACION 238 | J27: =IF(ARCO!J27="","",ARCO!J27) | K27: =IF(ARCO!K27="","",ARCO!K27) | L27: =IF(ARCO!L27="","",ARCO!L27) | M27: =IF(ARCO!M27="","",ARCO!M27) -> AUDIENCIA | N27: ARCHIVO FISICO INSPECCION
A28: 22 | B28: =IF(ARCO!B28="","",ARCO!B28) -> MARZO | C28: =IF(ARCO!C28="","",ARCO!C28) | D28: =IF(ARCO!D27="","",ARCO!D27) -> 2019574490121362E | E28: =IF(ARCO!E28="","",ARCO!E28) -> 567141 | F28: =IF(ARCO!F28="","",ARCO!F28) | G28: =IF(ARCO!G28="","",ARCO!G28) | H28: =IF(ARCO!H28="","",ARCO!H28) | I28: =IF(ARCO!I28="","",ARCO!I28) -> Pol 106 # 0 - 0 OCUPACION 237 | J28: =IF(ARCO!J28="","",ARCO!J28) | K28: =IF(ARCO!K28="","",ARCO!K28) | L28: =IF(ARCO!L28="","",ARCO!L28) | M28: =IF(ARCO!M28="","",ARCO!M28) -> AUDIENCIA | N28: ARCHIVO FISICO INSPECCION
A29: 23 | B29: =IF(ARCO!B29="","",ARCO!B29) -> MARZO | C29: =IF(ARCO!C29="","",ARCO!C29) | D29: =IF(ARCO!D29="","",ARCO!D29) -> 2018573890100095E | E29: =IF(ARCO!E29="","",ARCO!E29) -> 563718 | F29: =IF(ARCO!F29="","",ARCO!F29) | G29: =IF(ARCO!G29="","",ARCO!G29) | H29: =IF(ARCO!H29="","",ARCO!H29) | I29: =IF(ARCO!I29="","",ARCO!I29) -> Pol 106 # 0 - 0 OCUPACION 210 | ... M29: =IF(ARCO!M29="","",ARCO!M29) -> CITACION A AUDIENCIA | N29: ARCHIVO FISICO INSPECCION
A30: 24 | B30: =IF(ARCO!B30="","",ARCO!B30) -> MARZO | C30: =IF(ARCO!C30="","",ARCO!C30) | D30: =IF(ARCO!D30="","",ARCO!D30) -> 2019574490121349E | E30: =IF(ARCO!E30="","",ARCO!E30) -> 567129 | F30: =IF(ARCO!F30="","",ARCO!F30) | G30: =IF(ARCO!G30="","",ARCO!G30) | H30: =IF(ARCO!H30="","",ARCO!H30) | I30: =IF(ARCO!I30="","",ARCO!I30) -> Pol 200 A # 0 - 0 OCUPACION 71 | ... M30: =IF(ARCO!M30="","",ARCO!M30) -> CITACION A AUDIENCIA | N30: ARCHIVO FISICO INSPECCION
A31: 25 | B31: =IF(ARCO!B31="","",ARCO!B31) -> MARZO | C31: =IF(ARCO!C31="","",ARCO!C31) | D31: =IF(ARCO!D31="","",ARCO!D31) -> 2020574490100774E | E31: =IF(ARCO!E31="","",ARCO!E31) -> 4315636 | F31: =IF(ARCO!F31="","",ARCO!F31) | G31: =IF(ARCO!G31="","",ARCO!G31) | H31: =IF(ARCO!H31="","",ARCO!H31) | I31: =IF(ARCO!I31="","",ARCO!I31) -> Pol 106 # 0 - 0 OCUPACION 197 | ... M31: =IF(ARCO!M31="","",ARCO!M31) -> CITACION A AUDIENCIA | N31: ARCHIVO FISICO INSPECCION
A32: 26 | B32: =IF(ARCO!B32="","",ARCO!B32) -> MARZO | C32: =IF(ARCO!C32="","",ARCO!C32) | D32: =IF(ARCO!D32="","",ARCO!D32) -> 2019574490121360E | E32: =IF(ARCO!E32="","",ARCO!E32) -> 567140 | F32: =IF(ARCO!F32="","",ARCO!F32) | G32: =IF(ARCO!G32="","",ARCO!G32) | H32: =IF(ARCO!H32="","",ARCO!H32) | I32: =IF(ARCO!I32="","",ARCO!I32) -> Pol 106 # 0 - 0 OCUPACION 236 | ... M32: =IF(ARCO!M32="","",ARCO!M32) -> CITACION A AUDIENCIA | N32: ARCHIVO FISICO INSPECCION
A33: 27 | B33: =IF(ARCO!B33="","",ARCO!B33) -> MARZO | C33: =IF(ARCO!C33="","",ARCO!C33) | D33: =IF(ARCO!D33="","",ARCO!D33) -> 2019574490127583E | E33: =IF(ARCO!E33="","",ARCO!E33) -> 567309 | F33: =IF(ARCO!F33="","",ARCO!F33) | G33: =IF(ARCO!G33="","",ARCO!G33) | H33: =IF(ARCO!H33="","",ARCO!H33) | I33: =IF(ARCO!I33="","",ARCO!I33) -> Pol 105 # 0 - 0 OUCPACION 7 | ... M33: =IF(ARCO!M33="","",ARCO!M33) -> CITACION A AUDIENCIA | N33: ARCHIVO FISICO INSPECCION
A34: 28 | B34: =IF(ARCO!B34="","",ARCO!B34) -> MARZO | C34: =IF(ARCO!C34="","",ARCO!C34) | D34: =IF(ARCO!D34="","",ARCO!D34) -> 2019574490121346E | E34: =IF(ARCO!E34="","",ARCO!E34) -> 567126 | F34: =IF(ARCO!F34="","",ARCO!F34) | G34: =IF(ARCO!G34="","",ARCO!G34) | H34: =IF(ARCO!H34="","",ARCO!H34) | I34: =IF(ARCO!I34="","",ARCO!I34) -> Pol 200 A # 0 - 0 OCUPACION 9 | ... M34: =IF(ARCO!M34="","",ARCO!M34) -> CITACION A AUDIENCIA | N34: ARCHIVO FISICO INSPECCION
A35: 29 | B35: =IF(ARCO!B35="","",ARCO!B35) -> MARZO | C35: =IF(ARCO!C35="","",ARCO!C35) | D35: =IF(ARCO!D35="","",ARCO!D35) -> 2019574490132705E | E35: =IF(ARCO!E35="","",ARCO!E35) -> 4309883 | F35: =IF(ARCO!F35="","",ARCO!F35) | G35: =IF(ARCO!G35="","",ARCO!G35) | H35: =IF(ARCO!H35="","",ARCO!H35) | I35: =IF(ARCO!I35="","",ARCO!I35) -> Pol 109 A # 0 - 0 OUPACION 5 | ... M35: =IF(ARCO!M35="","",ARCO!M35) -> CITACION A AUDIENCIA | N35: ARCHIVO FISICO INSPECCION
A36: 30 | B36: =IF(ARCO!B36="","",ARCO!B36) -> MARZO | C36: =IF(ARCO!C36="","",ARCO!C36) | D36: =IF(ARCO!D36="","",ARCO!D36) -> 2018574490100168E | E36: =IF(ARCO!E36="","",ARCO!E36) -> 563935 | F36: =IF(ARCO!F36="","",ARCO!F36) | G36: =IF(ARCO!G36="","",ARCO!G36) | H36: =IF(ARCO!H36="","",ARCO!H36) | I36: =IF(ARCO!I36="","",ARCO!I36) -> CL 51 SUR # 86 A - 27 | ... M36: =IF(ARCO!M36="","",ARCO!M36) -> AVOQUE | N36: ARCHIVO FISICO INSPECCION
A37: 31 | B37: =IF(ARCO!B37="","",ARCO!B37) -> MARZO | C37: =IF(ARCO!C37="","",ARCO!C37) | D37: =IF(ARCO!D37="","",ARCO!D37) -> 2020574490103010E | E37: =IF(ARCO!E37="","",ARCO!E37) -> 4315708 | F37: =IF(ARCO!F37="","",ARCO!F37) | G37: =IF(ARCO!G37="","",ARCO!G37) | H37: =IF(ARCO!H37="","",ARCO!H37) | I37: =IF(ARCO!I37="","",ARCO!I37) -> KR 78 B # 58 P - 15 SUR | ... M37: =IF(ARCO!M37="","",ARCO!M37) -> AVOQUE | N37: ARCHIVO FISICO INSPECCION
A38: 32 | B38: =IF(ARCO!B38="","",ARCO!B38) -> MARZO | C38: =IF(ARCO!C38="","",ARCO!C38) | D38: =IF(ARCO!D38="","",ARCO!D38) -> 2020574490102540E | E38: =IF(ARCO!E38="","",ARCO!E38) -> 4315684 | F38: =IF(ARCO!F38="","",ARCO!F38) | G38: =IF(ARCO!G38="","",ARCO!G38) | H38: =IF(ARCO!H38="","",ARCO!H38) | I38: =IF(ARCO!I38="","",ARCO!I38) -> KR 87 D # 54 D - 35 SUR | ... M38: =IF(ARCO!M38="","",ARCO!M38) -> CITACION A AUDIENCIA | N38: ARCHIVO FISICO INSPECCION
A39: 33 | B39: =IF(ARCO!B39="","",ARCO!B39) -> MARZO | C39: =IF(ARCO!C39="","",ARCO!C39) | D39: =IF(ARCO!D39="","",ARCO!D39) -> 2020574490102536E | E39: =IF(ARCO!E39="","",ARCO!E39) -> 4315681 | F39: =IF(ARCO!F39="","",ARCO!F39) | G39: =IF(ARCO!G39="","",ARCO!G39) | H39: =IF(ARCO!H39="","",ARCO!H39) | I39: =IF(ARCO!I39="","",ARCO!I39) -> CL 71 B SUR # 78 A - 16 | ... M39: =IF(ARCO!M39="","",ARCO!M39) -> CITACION A AUDIENCIA | N39: ARCHIVO FISICO INSPECCION
A40: 34 | B40: =IF(ARCO!B40="","",ARCO!B40) -> MARZO | C40: =IF(ARCO!C40="","",ARCO!C40) | D40: =IF(ARCO!D40="","",ARCO!D40) -> 2020574490102988E | E40: =IF(ARCO!E40="","",ARCO!E40) -> 4315700 | F40: =IF(ARCO!F40="","",ARCO!F40) | G40: =IF(ARCO!G40="","",ARCO!G40) | H40: =IF(ARCO!H40="","",ARCO!H40) | I40: =IF(ARCO!I40="","",ARCO!I40) -> CALLE 74 C SUR # 80 J - 09 | ... M40: =IF(ARCO!M40="","",ARCO!M40) -> ARCHIVO DEFINITIVO | N40: ARCHIVO FISICO INSPECCION
... A95: 89 | B95: =IF(ARCO!B95="","",ARCO!B95) -> MARZO | C95: =IF(ARCO!C95="","",ARCO!C95) | D95: =IF(ARCO!D95="","",ARCO!D95) -> 2020573490123403E | E95: =IF(ARCO!E95="","",ARCO!E95) -> 2982203 | F95: =IF(ARCO!F95="","",ARCO!F95) | G95: =IF(ARCO!G95="","",ARCO!G95) | H95: =IF(ARCO!H95="","",ARCO!H95) | I95: =IF(ARCO!I95="","",ARCO!I95) -> KR 80 I SUR # 70 - 5 | ... M95: =IF(ARCO!M95="","",ARCO!M95) -> ARCHIVO DEFINITIVO | N95: ARCHIVO FISICO INSPECCION
A96: 90 | B96: =IF(ARCO!B96="","",ARCO!B96) -> MARZO | C96: =IF(ARCO!C96="","",ARCO!C96) | D96: =IF(ARCO!D96="","",ARCO!D96) -> 2020573490123409E | E96: =IF(ARCO!E97="","",ARCO!E97) -> 567091 | F96: =IF(ARCO!F96="","",ARCO!F96) | G96: =IF(ARCO!G96="","",ARCO!G96) | H96: =IF(ARCO!H96="","",ARCO!H96) | I96: =IF(ARCO!I96="","",ARCO!I96) -> CL 88 SUR # 87 - 5 | J96: =IF(ARCO!J96="","",ARCO!J96) | K96: =IF(ARCO!K96="","",ARCO!K96) | L96: =IF(ARCO!L96="","",ARCO!L96) | M96: =IF(ARCO!M96="","",ARCO!M96) -> ARCHIVO DEFINITIVO | N96: ARCHIVO FISICO INSPECCION
A97: 91 | B97: =IF(ARCO!B97="","",ARCO!B97) -> MARZO | C97: =IF(ARCO!C97="","",ARCO!C97) | D97: =IF(ARCO!D97="","",ARCO!D97) -> 2019574490119129E | E97: =IF(ARCO!#REF!="","",ARCO!#REF!) -> #REF! | F97: =IF(ARCO!F97="","",ARCO!F97) | G97: =IF(ARCO!G97="","",ARCO!G97) | H97: =IF(ARCO!H97="","",ARCO!H97) | I97: =IF(ARCO!I97="","",ARCO!I97) -> KR 98 B # 72 - 25 CASA 242 | J97: =IF(ARCO!J97="","",ARCO!J97) | K97: =IF(ARCO!K97="","",ARCO!K97) | L97: =IF(ARCO!L97="","",ARCO!L97) | M97: =IF(ARCO!M97="","",ARCO!M97) -> ARCHIVO DEFINITIVO | N97: ARCHIVO FISICO INSPECCION
A98: 92 | B98: =IF(ARCO!B98="","",ARCO!B98) -> MARZO | C98: =IF(ARCO!C98="","",ARCO!C98) | D98: =IF(ARCO!D98="","",ARCO!D98) -> 2019574490101372E | E98: =IF(ARCO!E98="","",ARCO!E98) -> 566789 | F98: =IF(ARCO!F98="","",ARCO!F98) | G98: =IF(ARCO!G98="","",ARCO!G98) | H98: =IF(ARCO!H98="","",ARCO!H98) | I98: =IF(ARCO!I98="","",ARCO!I98) -> DG 73 SUR # 78 I - 70 | ... M98: =IF(ARCO!M98="","",ARCO!M98) -> AUDIENCIA | N98: ARCHIVO FISICO INSPECCION
A99: 93 | B99: =IF(ARCO!B99="","",ARCO!B99) -> MARZO | C99: =IF(ARCO!C99="","",ARCO!C99) | D99: =IF(ARCO!D99="","",ARCO!D99) -> 2020573490111235E | E99: =IF(ARCO!E99="","",ARCO!E99) -> 1854125 | F99: =IF(ARCO!F99="","",ARCO!F99) | G99: =IF(ARCO!G99="","",ARCO!G99) | H99: =IF(ARCO!H99="","",ARCO!H99) | I99: =IF(ARCO!I99="","",ARCO!I99) -> CL 56 D SUR # 88 H - 95 BOSA SAN MARTIN -COLEGIO JALIL GIBRAN | ... M99: =IF(ARCO!M99="","",ARCO!M99) -> AUDIENCIA | N99: ARCHIVO FISICO INSPECCION
A100: 94 | B100: =IF(ARCO!B100="","",ARCO!B100) -> MARZO | C100: =IF(ARCO!C100="","",ARCO!C100) | D100: =IF(ARCO!D100="","",ARCO!D100) -> 2020574490114485E | E100: =IF(ARCO!E100="","",ARCO!E100) -> 4449716 | F100: =IF(ARCO!F100="","",ARCO!F100) | G100: =IF(ARCO!G100="","",ARCO!G100) | H100: =IF(ARCO!H100="","",ARCO!H100) | I100: =IF(ARCO!I100="","",ARCO!I100) -> CL 55 SUR # 103 - 49 BLOQUE 6 CASA 21 | ... M100: =IF(ARCO!M100="","",ARCO!M100) -> AVOQUE | N100: ARCHIVO FISICO INSPECCION
A101: 95 | B101: =IF(ARCO!B101="","",ARCO!B101) -> MARZO | C101: =IF(ARCO!C101="","",ARCO!C101) | D101: =IF(ARCO!D101="","",ARCO!D101) -> 2020573490110890E | E101: =IF(ARCO!E101="","",ARCO!E101) -> 1836356 | F101: =IF(ARCO!F101="","",ARCO!F101) | G101: =IF(ARCO!G101="","",ARCO!G101) | H101: =IF(ARCO!H101="","",ARCO!H101) | I101: =IF(ARCO!I101="","",ARCO!I101) -> NO REGISTRA DIRECCIÓN | ... M101: =IF(ARCO!M101="","",ARCO!M101) -> AVOQUE | N101: ARCHIVO FISICO INSPECCION
A102: 96 | B102: =IF(ARCO!B102="","",ARCO!B102) -> MARZO | C102: =IF(ARCO!C102="","",ARCO!C102) | D102: =IF(ARCO!D102="","",ARCO!D102) -> 2020574490114194E | E102: =IF(ARCO!E102="","",ARCO!E102) -> 4118675 | F102: =IF(ARCO!F102="","",ARCO!F102) | G102: =IF(ARCO!G102="","",ARCO!G102) | H102: =IF(ARCO!H102="","",ARCO!H102) | I102: =IF(ARCO!I102="","",ARCO!I102) -> Pol 201 A # 0 - 0 OCUPACION 141 | ... M102: =IF(ARCO!M102="","",ARCO!M102) -> CITACION A AUDIENCIA | N102: ARCHIVO FISICO INSPECCION
A103: 97 | B103: =IF(ARCO!B103="","",ARCO!B103) -> MARZO | C103: =IF(ARCO!C103="","",ARCO!C103) | D103: =IF(ARCO!D103="","",ARCO!D103) -> 2019223490124490E | E103: =IF(ARCO!E103="","",ARCO!E103) -> 565000 | F103: =IF(ARCO!F103="","",ARCO!F103) | G103: =IF(ARCO!G103="","",ARCO!G103) | H103: =IF(ARCO!H103="","",ARCO!H103) | I103: =IF(ARCO!I103="","",ARCO!I103) -> NO REGISTRA DIRECCIÓN | ... M103: =IF(ARCO!M103="","",ARCO!M103) -> CITACION A AUDIENCIA | N103: ARCHIVO FISICO INSPECCION
A104: 98 | B104: =IF(ARCO!B104="","",ARCO!B104) -> MARZO | C104: =IF(ARCO!C104="","",ARCO!C104) | D104: =IF(ARCO!D104="","",ARCO!D104) -> 2019574490132702E | E104: =IF(ARCO!E104="","",ARCO!E104) -> 4309881 | F104: =IF(ARCO!F104="","",ARCO!F104) | G104: =IF(ARCO!G104="","",ARCO!G104) | H104: =IF(ARCO!H104="","",ARCO!H104) | I104: =IF(ARCO!I104="","",ARCO!I104) -> NO REGISTRA DIRECCIÓN | ... M104: =IF(ARCO!M104="","",ARCO!M104) -> CITACION A AUDIENCIA | N104: ARCHIVO FISICO INSPECCION
A105: 99 | B105: =IF(ARCO!B105="","",ARCO!B105) -> MARZO | C105: =IF(ARCO!C105="","",ARCO!C105) | D105: =IF(ARCO!D105="","",ARCO!D105) -> 2018574490100077E | E105: =IF(ARCO!E105="","",ARCO!E105) -> 563820 | F105: =IF(ARCO!F105="","",ARCO!F105) | G105: =IF(ARCO!G105="","",ARCO!G105) | H105: =IF(ARCO!H105="","",ARCO!H105) | I105: =IF(ARCO!I105="","",ARCO!I105) -> NO REGISTRA DIRECCIÓN | ... M105: =IF(ARCO!M105="","",ARCO!M105) -> CITACION A AUDIENCIA | N105: ARCHIVO FISICO INSPECCION
A106: 100 | B106: =IF(ARCO!B106="","",ARCO!B106) -> MARZO | C106: =IF(ARCO!C106="","",ARCO!C106) | D106: =IF(ARCO!D106="","",ARCO!D106) -> 2020574490114194E | E106: =IF(ARCO!E106="","",ARCO!E106) -> 4118675 | F106: =IF(ARCO!F106="","",ARCO!F106) | G106: =IF(ARCO!G106="","",ARCO!G106) | H106: =IF(ARCO!H106="","",ARCO!H106) | I106: =IF(ARCO!I106="","",ARCO!I106) -> Pol 201 A # 0 - 0 OCUPACION 141 | ... M106: =IF(ARCO!M106="","",ARCO!M106) -> AUDIENCIA | N106: ARCHIVO FISICO INSPECCION
A107: 101 | B107: =IF(ARCO!B107="","",ARCO!B107) -> MARZO | C107: =IF(ARCO!C107="","",ARCO!C107) | D107: =IF(ARCO!D107="","",ARCO!D107) -> 2020573490128418E | E107: =IF(ARCO!E107="","",ARCO!E107) -> 3565400 | F107: =IF(ARCO!F107="","",ARCO!F107) | G107: =IF(ARCO!G107="","",ARCO!G107) | H107: =IF(ARCO!H107="","",ARCO!H107) | I107: =IF(ARCO!I107="","",ARCO!I107) -> Pol 201 A # 0 - 0 OCUPACION 243 | ... M107: =IF(ARCO!M107="","",ARCO!M107) -> AUDIENCIA | N107: ARCHIVO FISICO INSPECCION
A108: 102 | B108: =IF(ARCO!B108="","",ARCO!B108) -> MARZO | C108: =IF(ARCO!C108="","",ARCO!C108) | D108: =IF(ARCO!D108="","",ARCO!D108) -> 2021574490100006E | E108: =IF(ARCO!E108="","",ARCO!E108) -> 4252181 | F108: =IF(ARCO!F108="","",ARCO!F108) | G108: =IF(ARCO!G108="","",ARCO!G108) | H108: =IF(ARCO!H108="","",ARCO!H108) | I108: =IF(ARCO!I108="","",ARCO!I108) -> KR 80 I # 61 - 5 OCUPACION 315 | ... M108: =IF(ARCO!M108="","",ARCO!M108) -> AUDIENCIA | N108: ARCHIVO FISICO INSPECCION
A109: 103 | B109: =IF(ARCO!B109="","",ARCO!B109) -> MARZO | C109: =IF(ARCO!C109="","",ARCO!C109) | D109: =IF(ARCO!D109="","",ARCO!D109) -> 2020573490126078E | E109: =IF(ARCO!E109="","",ARCO!E109) -> 3303525 | F109: =IF(ARCO!F109="","",ARCO!F109) | G109: =IF(ARCO!G109="","",ARCO!G109) | H109: =IF(ARCO!H109="","",ARCO!H109) | I109: =IF(ARCO!I109="","",ARCO!I109) -> Pol 201 A # 0 - 0 OCUPACION 259 | ... M109: =IF(ARCO!M109="","",ARCO!M109) | N109: ARCHIVO FISICO INSPECCION
... A178: 172 | B178: =IF(ARCO!B178="","",ARCO!B178) | C178: =IF(ARCO!C178="","",ARCO!C178) | D178: =IF(ARCO!D178="","",ARCO!D178) -> 2021574490101481E | E178: =IF(ARCO!E178="","",ARCO!E178) -> 7869397 | F178: =IF(ARCO!F178="","",ARCO!F178) | G178: =IF(ARCO!G178="","",ARCO!G178) | H178: =IF(ARCO!H178="","",ARCO!H178) | I178: =IF(ARCO!I178="","",ARCO!I178) -> CL 69 BIS SUR # 89 A - 4 | ... M178: =IF(ARCO!M178="","",ARCO!M178) -> AVOQUE | N178: ARCHIVO FISICO INSPECCION
A179: 173 | B179: =IF(ARCO!B179="","",ARCO!B179) | C179: =IF(ARCO!C179="","",ARCO!C179) | D179: =IF(ARCO!D179="","",ARCO!D179) -> 2021574490101561E | E179: =IF(ARCO!#REF!="","",ARCO!#REF!) -> #REF! | F179: =IF(ARCO!F179="","",ARCO!F179) | G179: =IF(ARCO!G179="","",ARCO!G179) | H179: =IF(ARCO!H179="","",ARCO!H179) | I179: =IF(ARCO!I179="","",ARCO!I179) -> KR 68 B # 57 - 41 SUR | J179: =IF(ARCO!J179="","",ARCO!J179) -> KR 68 B # 57 - 41 SUR | K179: =IF(ARCO!K179="","",ARCO!K179) | L179: =IF(ARCO!L179="","",ARCO!L179) | M179: =IF(ARCO!M179="","",ARCO!M179) -> AVOQUE | N179: ARCHIVO FISICO INSPECCION
A180: 174 | B180: =IF(ARCO!B180="","",ARCO!B180) | C180: =IF(ARCO!C180="","",ARCO!C180) | D180: =IF(ARCO!D180="","",ARCO!D180) -> 2021574490101557E | E180: =IF(ARCO!E179="","",ARCO!E179) -> 8113064 | F180: =IF(ARCO!F180="","",ARCO!F180) | G180: =IF(ARCO!G180="","",ARCO!G180) | H180: =IF(ARCO!H180="","",ARCO!H180) | I180: =IF(ARCO!I180="","",ARCO!I180) -> KR 87 BIS # 49 - 53 SUR | J180: =IF(ARCO!J180="","",ARCO!J180) | K180: =IF(ARCO!K180="","",ARCO!K180) | L180: =IF(ARCO!L180="","",ARCO!L180) | M180: =IF(ARCO!M180="","",ARCO!M180) -> AVOQUE | N180: ARCHIVO FISICO INSPECCION
A181: 175 | B181: =IF(ARCO!B181="","",ARCO!B181) | C181: =IF(ARCO!C181="","",ARCO!C181) | D181: =IF(ARCO!D181="","",ARCO!D181) -> 2021574490101553E | E181: =IF(ARCO!E181="","",ARCO!E181) -> 8111707 | F181: =IF(ARCO!F181="","",ARCO!F181) | G181: =IF(ARCO!G181="","",ARCO!G181) | H181: =IF(ARCO!H181="","",ARCO!H181) | I181: =IF(ARCO!I181="","",ARCO!I181) -> CL 49 SUR # 98 B - 75 BLOQUE 3 CASA 17 | ... M181: =IF(ARCO!M181="","",ARCO!M181) -> AVOQUE | N181: ARCHIVO FISICO INSPECCION
A182: 176 | B182: =IF(ARCO!B182="","",ARCO!B182) | C182: =IF(ARCO!C182="","",ARCO!C182) | D182: =IF(ARCO!D182="","",ARCO!D182) -> 2021574490101368E | E182: =IF(ARCO!E182="","",ARCO!E182) -> 7538537 | F182: =IF(ARCO!F182="","",ARCO!F182) | G182: =IF(ARCO!G182="","",ARCO!G182) | H182: =IF(ARCO!H182="","",ARCO!H182) | I182: =IF(ARCO!I182="","",ARCO!I182) | ... M182: =IF(ARCO!M182="","",ARCO!M182) | N182: ARCHIVO FISICO INSPECCION
A183: 177 | B183: =IF(ARCO!B183="","",ARCO!B183) | C183: =IF(ARCO!C183="","",ARCO!C183) | D183: =IF(ARCO!D183="","",ARCO!D183) -> 2021574490101362E | E183: =IF(ARCO!E183="","",ARCO!E183) -> 7536801 | F183: =IF(ARCO!F183="","",ARCO!F183) | G183: =IF(ARCO!G183="","",ARCO!G183) | H183: =IF(ARCO!H183="","",ARCO!H183) | I183: =IF(ARCO!I183="","",ARCO!I183) | ... M183: =IF(ARCO!M183="","",ARCO!M183) | N183: ARCHIVO FISICO INSPECCION
A184: 178 | B184: =IF(ARCO!B184="","",ARCO!B184) | C184: =IF(ARCO!C184="","",ARCO!C184) | D184: =IF(ARCO!D184="","",ARCO!D184) -> 2019223490131162E | E184: =IF(ARCO!E184="","",ARCO!E184) -> 565138 | F184: =IF(ARCO!F184="","",ARCO!F184) | G184: =IF(ARCO!G184="","",ARCO!G184) | H184: =IF(ARCO!H184="","",ARCO!H184) | I184: =IF(ARCO!I184="","",ARCO!I184) | ... M184: =IF(ARCO!M184="","",ARCO!M184) | N184: ARCHIVO FISICO INSPECCION
A185: 179 | B185: =IF(ARCO!B185="","",ARCO!B185) | C185: =IF(ARCO!C185="","",ARCO!C185) | D185: =IF(ARCO!D185="","",ARCO!D185) -> 2018574490100104E | E185: =IF(ARCO!E185="","",ARCO!E185) -> 563864 | F185: =IF(ARCO!F185="","",ARCO!F185) | G185: =IF(ARCO!G185="","",ARCO!G185) | H185: =IF(ARCO!H185="","",ARCO!H185) | I185: =IF(ARCO!I185="","",ARCO!I185) -> KR 97 C # 50 - 20 SUR TEKOA ETAPA V BLOQUE 4 INT 3 | ... M185: =IF(ARCO!M185="","",ARCO!M185) -> AUDIENCIA | N185: ARCHIVO FISICO INSPECCION
A186: 180 | B186: =IF(ARCO!B186="","",ARCO!B186) | C186: =IF(ARCO!C186="","",ARCO!C186) | D186: =IF(ARCO!D186="","",ARCO!D186) -> 2021574490100146E | E186: =IF(ARCO!E186="","",ARCO!E186) -> 4461233 | F186: =IF(ARCO!F186="","",ARCO!F186) | G186: =IF(ARCO!G186="","",ARCO!G186) | H186: =IF(ARCO!H186="","",ARCO!H186) | I186: =IF(ARCO!I186="","",ARCO!I186) -> KR 69 # 56 - 14 SUR | ... M186: =IF(ARCO!M186="","",ARCO!M186) -> AUDIENCIA | N186: ARCHIVO FISICO INSPECCION
A187: 181 | B187: =IF(ARCO!B187="","",ARCO!B187) | C187: =IF(ARCO!C187="","",ARCO!C187) | D187: =IF(ARCO!D187="","",ARCO!D187) -> 2019574490127593E | E187: =IF(ARCO!E187="","",ARCO!E187) -> 567318 | F187: =IF(ARCO!F187="","",ARCO!F187) | G187: =IF(ARCO!G187="","",ARCO!G187) | H187: =IF(ARCO!H187="","",ARCO!H187) | I187: =IF(ARCO!I187="","",ARCO!I187) | ... M187: =IF(ARCO!M187="","",ARCO!M187) | N187: ARCHIVO FISICO INSPECCION
A188: 182 | B188: =IF(ARCO!B188="","",ARCO!B188) | C188: =IF(ARCO!C188="","",ARCO!C188) | D188: =IF(ARCO!D188="","",ARCO!D188) -> 2021574490101310E | E188: =IF(ARCO!E188="","",ARCO!E188) -> 7215974 | F188: =IF(ARCO!F188="","",ARCO!F188) | G188: =IF(ARCO!G188="","",ARCO!G188) | H188: =IF(ARCO!H188="","",ARCO!H188) | I188: =IF(ARCO!I188="","",ARCO!I188) | ... M188: =IF(ARCO!M188="","",ARCO!M188) | N188: ARCHIVO FISICO INSPECCION
A189: 183 | B189: =IF(ARCO!B189="","",ARCO!B189) | C189: =IF(ARCO!C189="","",ARCO!C189) | D189: =IF(ARCO!D189="","",ARCO!D189) | E189: =IF(ARCO!E189="","",ARCO!E189) -> 7064371 | F189: =IF(ARCO!F189="","",ARCO!F189) | G189: =IF(ARCO!G189="","",ARCO!G189) | H189: =IF(ARCO!H189="","",ARCO!H189) | I189: =IF(ARCO!I189="","",ARCO!I189) | ... M189: =IF(ARCO!M189="","",ARCO!M189) | N189: ARCHIVO FISICO INSPECCION
A190: 184 | B190: =IF(ARCO!B190="","",ARCO!B190) | C190: =IF(ARCO!C190="","",ARCO!C190) | D190: =IF(ARCO!D190="","",ARCO!D190) -> 2021574490101305E | E190: =IF(ARCO!E190="","",ARCO!E190) -> 7064834 | F190: =IF(ARCO!F190="","",ARCO!F190) | G190: =IF(ARCO!G190="","",ARCO!G190) | H190: =IF(ARCO!H190="","",ARCO!H190) | I190: =IF(ARCO!I190="","",ARCO!I190) | ... M190: =IF(ARCO!M190="","",ARCO!M190) | N190: ARCHIVO FISICO INSPECCION
A191: 185 | B191: =IF(ARCO!B191="","",ARCO!B191) | C191: =IF(ARCO!C191="","",ARCO!C191) | D191: =IF(ARCO!D191="","",ARCO!D191) | E191: =IF(ARCO!E191="","",ARCO!E191) -> 6986161 | F191: =IF(ARCO!F191="","",ARCO!F191) | G191: =IF(ARCO!G191="","",ARCO!G191) | H191: =IF(ARCO!H191="","",ARCO!H191) | I191: =IF(ARCO!I191="","",ARCO!I191) | ... M191: =IF(ARCO!M191="","",ARCO!M191) | N191: ARCHIVO FISICO INSPECCION
A192: 186 | B192: =IF(ARCO!B192="","",ARCO!B192) | C192: =IF(ARCO!C192="","",ARCO!C192) | D192: =IF(ARCO!D192="","",ARCO!D192) | E192: =IF(ARCO!E192="","",ARCO!E192) -> 6978773 | F192: =IF(ARCO!F192="","",ARCO!F192) | G192: =IF(ARCO!G192="","",ARCO!G192) | H192: =IF(ARCO!H192="","",ARCO!H192) | I192: =IF(ARCO!I192="","",ARCO!I192) | ... M192: =IF(ARCO!M192="","",ARCO!M192) | N192: ARCHIVO FISICO INSPECCION
... A209: 203 | B209: =IF(ARCO!B209="","",ARCO!B209) | C209: =IF(ARCO!C209="","",ARCO!C209) | D209: =IF(ARCO!D209="","",ARCO!D209) -> 2021574490101406E | E209: =IF(ARCO!E209="","",ARCO!E209) -> 7689203 | F209: =IF(ARCO!F209="","",ARCO!F209) | G209: =IF(ARCO!G209="","",ARCO!G209) | H209: =IF(ARCO!H209="","",ARCO!H209) | I209: =IF(ARCO!I209="","",ARCO!I209) -> CL 72 A SUR # 83 A - 28 | ... M209: =IF(ARCO!M209="","",ARCO!M209) -> CITACION A AUDIENCIA | N209: ARCHIVO FISICO INSPECCION
A210: 204 | B210: =IF(ARCO!B210="","",ARCO!B210) | C210: =IF(ARCO!C210="","",ARCO!C210) | D210: =IF(ARCO!D210="","",ARCO!D210) -> 2021574490101415E | E210: =IF(ARCO!E210="","",ARCO!E210) -> 7691453 | F210: =IF(ARCO!F210="","",ARCO!F210) | G210: =IF(ARCO!G210="","",ARCO!G210) | H210: =IF(ARCO!H210="","",ARCO!H210) | I210: =IF(ARCO!I210="","",ARCO!I210) | ... L210: =IF(ARCO!L210="","",ARCO!L210) | M210: =IF(ARCO!#REF!="","",ARCO!#REF!) -> #REF! | N210: ARCHIVO FISICO INSPECCION
A211: 205 | B211: =IF(ARCO!B211="","",ARCO!B211) | C211: =IF(ARCO!C211="","",ARCO!C211) | D211: =IF(ARCO!D211="","",ARCO!D211) -> 2021574490101385E | E211: =IF(ARCO!E211="","",ARCO!E211) -> 7679769 | F211: =IF(ARCO!F211="","",ARCO!F211) | G211: =IF(ARCO!G211="","",ARCO!G211) | H211: =IF(ARCO!H211="","",ARCO!H211) | I211: =IF(ARCO!I211="","",ARCO!I211) | ... L211: =IF(ARCO!L211="","",ARCO!L211) | M211: =IF(ARCO!M210="","",ARCO!M210) -> CITACION A AUDIENCIA | N211: ARCHIVO FISICO INSPECCION
A212: 206 | B212: =IF(ARCO!B212="","",ARCO!B212) | C212: =IF(ARCO!C212="","",ARCO!C212) | D212: =IF(ARCO!D212="","",ARCO!D212) -> 2021574490101381E | E212: =IF(ARCO!E212="","",ARCO!E212) -> 7639627 | F212: =IF(ARCO!F212="","",ARCO!F212) | G212: =IF(ARCO!G212="","",ARCO!G212) | H212: =IF(ARCO!H212="","",ARCO!H212) | I212: =IF(ARCO!I212="","",ARCO!I212) -> CL 73 BIS SUR # 85 - 0 | ... M212: =IF(ARCO!M212="","",ARCO!M212) -> CITACION A AUDIENCIA | N212: ARCHIVO FISICO INSPECCION
A213: 207 | B213: =IF(ARCO!B213="","",ARCO!B213) | C213: =IF(ARCO!C213="","",ARCO!C213) | D213: =IF(ARCO!D213="","",ARCO!D213) -> 2021574490101400E | E213: =IF(ARCO!E213="","",ARCO!E213) -> 7688003 | F213: =IF(ARCO!F213="","",ARCO!F213) | G213: =IF(ARCO!G213="","",ARCO!G213) | H213: =IF(ARCO!H213="","",ARCO!H213) | I213: =IF(ARCO!I213="","",ARCO!I213) | ... M213: =IF(ARCO!M213="","",ARCO!M213) -> CITACION A AUDIENCIA | N213: ARCHIVO FISICO INSPECCION
A214: 208 | B214: =IF(ARCO!B214="","",ARCO!B214) | C214: =IF(ARCO!C214="","",ARCO!C214) | D214: =IF(ARCO!D214="","",ARCO!D214) -> 2021574490101394E | E214: =IF(ARCO!E214="","",ARCO!E214) -> 7684028 | F214: =IF(ARCO!F214="","",ARCO!F214) | G214: =IF(ARCO!G214="","",ARCO!G214) | H214: =IF(ARCO!H214="","",ARCO!H214) | I214: =IF(ARCO!I214="","",ARCO!I214) -> CL 72 A SUR # 83 A - 15 | ... M214: =IF(ARCO!M214="","",ARCO!M214) -> CITACION A AUDIENCIA | N214: ARCHIVO FISICO INSPECCION
A215: 209 | B215: =IF(ARCO!B215="","",ARCO!B215) | C215: =IF(ARCO!C215="","",ARCO!C215) | D215: =IF(ARCO!D215="","",ARCO!D215) -> 2021574490101391E | E215: =IF(ARCO!E215="","",ARCO!E215) -> 7683535 | F215: =IF(ARCO!F215="","",ARCO!F215) | G215: =IF(ARCO!G215="","",ARCO!G215) | H215: =IF(ARCO!H215="","",ARCO!H215) | I215: =IF(ARCO!I215="","",ARCO!I215) -> CL 72 C # 83 A - 28 SUR | ... M215: =IF(ARCO!M215="","",ARCO!M215) -> CITACION A AUDIENCIA | N215: ARCHIVO FISICO INSPECCION
A216: 210 | B216: =IF(ARCO!B216="","",ARCO!B216) | C216: =IF(ARCO!C216="","",ARCO!C216) | D216: =IF(ARCO!D216="","",ARCO!D216) -> 2021574490101388E | E216: =IF(ARCO!E216="","",ARCO!E216) -> 7682890 | F216: =IF(ARCO!F216="","",ARCO!F216) | G216: =IF(ARCO!G216="","",ARCO!G216) | H216: =IF(ARCO!H216="","",ARCO!H216) | I216: =IF(ARCO!I216="","",ARCO!I216) | ... M216: =IF(ARCO!M216="","",ARCO!M216) -> CITACION A AUDIENCIA | N216: ARCHIVO FISICO INSPECCION
A217: 211 | B217: =IF(ARCO!B217="","",ARCO!B217) | C217: =IF(ARCO!C217="","",ARCO!C217) | D217: =IF(ARCO!D217="","",ARCO!D217) -> 2021574490101412E | E217: =IF(ARCO!E217="","",ARCO!E217) -> 7691145 | F217: =IF(ARCO!F217="","",ARCO!F217) | G217: =IF(ARCO!G217="","",ARCO!G217) | H217: =IF(ARCO!H217="","",ARCO!H217) | I217: =IF(ARCO!I217="","",ARCO!I217) | ... M217: =IF(ARCO!M217="","",ARCO!M217) -> CITACION A AUDIENCIA | N217: ARCHIVO FISICO INSPECCION
A218: 212 | B218: =IF(ARCO!B218="","",ARCO!B218) | C218: =IF(ARCO!C218="","",ARCO!C218) | D218: =IF(ARCO!D218="","",ARCO!D218) -> 2021574490101409E | E218: =IF(ARCO!E218="","",ARCO!E218) -> 7690184 | F218: =IF(ARCO!F218="","",ARCO!F218) | G218: =IF(ARCO!G218="","",ARCO!G218) | H218: =IF(ARCO!H218="","",ARCO!H218) | I218: =IF(ARCO!I218="","",ARCO!I218) -> DG 72 C SUR # 83 A - 21 | ... M218: =IF(ARCO!M218="","",ARCO!M218) -> CITACION A AUDIENCIA | N218: ARCHIVO FISICO INSPECCION
A219: 213 | B219: =IF(ARCO!B219="","",ARCO!B219) | C219: =IF(ARCO!C219="","",ARCO!C219) | D219: =IF(ARCO!D219="","",ARCO!D219) | E219: =IF(ARCO!E219="","",ARCO!E219) | F219: =IF(ARCO!F219="","",ARCO!F219) | G219: =IF(ARCO!G219="","",ARCO!G219) | H219: =IF(ARCO!H219="","",ARCO!H219) | I219: =IF(ARCO!I219="","",ARCO!I219) | ... M219: =IF(ARCO!M219="","",ARCO!M219) | N219: ARCHIVO FISICO INSPECCION
A220: 214 | B220: =IF(ARCO!B220="","",ARCO!B220) | C220: =IF(ARCO!C220="","",ARCO!C220) | D220: =IF(ARCO!D220="","",ARCO!D220) | E220: =IF(ARCO!E220="","",ARCO!E220) | F220: =IF(ARCO!F220="","",ARCO!F220) | G220: =IF(ARCO!G220="","",ARCO!G220) | H220: =IF(ARCO!H220="","",ARCO!H220) | I220: =IF(ARCO!I220="","",ARCO!I220) | ... M220: =IF(ARCO!M220="","",ARCO!M220) | N220: ARCHIVO FISICO INSPECCION
A221: 215 | B221: =IF(ARCO!B221="","",ARCO!B221) | C221: =IF(ARCO!C221="","",ARCO!C221) | D221: =IF(ARCO!D221="","",ARCO!D221) | E221: =IF(ARCO!E221="","",ARCO!E221) | F221: =IF(ARCO!F221="","",ARCO!F221) | G221: =IF(ARCO!G221="","",ARCO!G221) | H221: =IF(ARCO!H221="","",ARCO!H221) | I221: =IF(ARCO!I221="","",ARCO!I221) | ... M221: =IF(ARCO!M221="","",ARCO!M221) | N221: ARCHIVO FISICO INSPECCION
A222: 216 | B222: =IF(ARCO!B222="","",ARCO!B222) | C222: =IF(ARCO!C222="","",ARCO!C222) | D222: =IF(ARCO!D222="","",ARCO!D222) | E222: =IF(ARCO!E222="","",ARCO!E222) | F222: =IF(ARCO!F222="","",ARCO!F222) | G222: =IF(ARCO!G222="","",ARCO!G222) | H222: =IF(ARCO!H222="","",ARCO!H222) | I222: =IF(ARCO!I222="","",ARCO!I222) | ... M222: =IF(ARCO!M222="","",ARCO!M222) | N222: ARCHIVO FISICO INSPECCION
A223: 217 | B223: =IF(ARCO!B223="","",ARCO!B223) | C223: =IF(ARCO!C223="","",ARCO!C223) | D223: =IF(ARCO!D223="","",ARCO!D223) | E223: =IF(ARCO!E223="","",ARCO!E223) | F223: =IF(ARCO!F223="","",ARCO!F223) | G223: =IF(ARCO!G223="","",ARCO!G223) | H223: =IF(ARCO!H223="","",ARCO!H223) | I223: =IF(ARCO!I223="","",ARCO!I223) | ... M223: =IF(ARCO!M223="","",ARCO!M223) | N223: ARCHIVO FISICO INSPECCION
... A1228: 1222 | B1228: =IF(ARCO!B1228="","",ARCO!B1228) | C1228: =IF(ARCO!C1228="","",ARCO!C1228) | D1228: =IF(ARCO!D1228="","",ARCO!D1228) | E1228: =IF(ARCO!E1228="","",ARCO!E1228) | F1228: =IF(ARCO!F1228="","",ARCO!F1228) | G1228: =IF(ARCO!G1228="","",ARCO!G1228) | H1228: =IF(ARCO!H1228="","",ARCO!H1228) | I1228: =IF(ARCO!I1228="","",ARCO!I1228) | ... M1228: =IF(ARCO!M1228="","",ARCO!M1228) | N1228: ARCHIVO FISICO INSPECCION
