Workbook

Sheet PORTADA
B7: INFORME SEGUIMIENTO MENSUAL
B8: (Nombre auxiliar)
B9: INSPECCION 7() POLICIA
C11: JUNIO | D11: JULIO | E11: AGOSTO | F11: SEPTIEMBRE | G11: OCTUBRE | H11: NOVIEMBRE | I11: DICIEMBRE
B12: ARCO | C12: =ARCO!Q3 -> 0 | D12: =ARCO!R3 -> 0 | E12: =ARCO!S3 -> 0 | F12: =ARCO!T3 -> 0 | G12: =ARCO!U3 -> 0 | H12: =ARCO!V3 -> 0 | I12: =ARCO!W3 -> 0
B13: ORFEO | C13: =ORFEO!P3 -> 0 | D13: =ORFEO!Q3 -> 0 | E13: =ORFEO!R3 -> 1 | F13: =ORFEO!S3 -> 0 | G13: =ORFEO!T3 -> 0 | H13: =ORFEO!U3 -> 0 | I13: =ORFEO!V3 -> 0
B14: ARCHIVO | C14: =ARCHIVO!Q3 -> 0 | D14: =ARCHIVO!R3 -> 0 | E14: =ARCHIVO!S3 -> 0 | F14: =ARCHIVO!T3 -> 0 | G14: =ARCHIVO!U3 -> 0 | H14: =ARCHIVO!V3 -> 0 | I14: =ARCHIVO!W3 -> 0
B16: TOTAL | C16: =SUM(C12:C15) -> 0 | D16: =SUM(D12:D15) -> 0 | E16: =SUM(E12:E14) -> 1 | F16: =SUM(F12:F14) -> 0 | G16: =SUM(G12:G14) -> 0 | H16: =SUM(H12:H14) -> 0 | I16: =SUM(I12:I14) -> 0
B18: META CUMPLIMIENTO | C18: =C16/120 -> 0 | D18: =D16/120 -> 0 | E18: =E16/120 -> 0.0083333333 | F18: =F16/120 -> 0 | G18: =G16/120 -> 0 | H18: =H16/120 -> 0 | I18: =I16/120 -> 0

Sheet ARCO
D1: Nombre | E1: (Nombre auxiliar)
D2: Cargo | E2: AUXILIAR ADMINISTRATIVO INSPECCION 7() | Q2: JUNIO | R2: JULIO | S2: AGOSTO | T2: SEPTIEMBRE | U2: OCTUBRE | V2: NOVIEMBRE | W2: DICIEMBRE
D3: Ubicación | E3: INSPECCIONES DE POLICIA | Q3: =COUNTIF(B:B,"JUNIO") -> 0 | R3: =COUNTIF(B:B,"JULIO") -> 0 | S3: =COUNTIF(B:B,"AGOSTO") -> 0 | T3: =COUNTIF(B:B,"SEPTIEMBRE") -> 0 | U3: =COUNTIF(B:B,"OCTUBRE") -> 0 | V3: =COUNTIF(B:B,"NOVIEMBRE") -> 0 | W3: =COUNTIF(B:B,"DICIEMBRE") -> 0
A6: No. | B6: MES | C6: FECHA DE INGRESO | D6: NUMERO EXPEDIENTE | E6: Caso No | F6: RADICADO ORFEO | G6: DEMANDANTE | H6: DEMANDADO | I6: Dirección De Los Hechos | J6: FECHA AUDIENCIA | K6: HORA AUDIENCIA | L6: ARTICULO | M6: ESTADO | N6: MEDIO DE VERIFICACION
A7: 1 | B7: MARZO | D7: 2021574490100727E | E7: 6013895 | F7: KR 80 I # 61 - 5 SUR | I7: Pol 201 # 0 - 0 OCUPACION 19 | M7: AUDIENCIA | N7: APLICATIVO ARCO
A8: 2 | B8: MARZO | D8: 2021574490100725E | E8: 6013841 | I8: Pol 201 # 0 - 0 OCUPACION 13 | J8: Pol 201 # 0 - 0 OCUPACION 13 | M8: AUDIENCIA | N8: APLICATIVO ARCO
A9: 3 | B9: MARZO | D9: 2021574490100723E | E9: 6013540 | I9: NO REGISTRA | M9: AUDIENCIA | N9: APLICATIVO ARCO
A10: 4 | B10: MARZO | D10: 2021574490100719E | E10: 6012061 | I10: NO REGISTRA | M10: AUDIENCIA | N10: APLICATIVO ARCO
A11: 5 | B11: MARZO | D11: 2021574490100721E | E11: 6013200 | I11: Pol 201 # 0 - 0 OCUPACION 09 | M11: AUDIENCIA | N11: APLICATIVO ARCO
A12: 6 | B12: MARZO | D12: 2020573490121688E | E12: 2868114 | I12: CL 65 B SUR # 78 L - 31 | M12: AUDIENCIA | N12: APLICATIVO ARCO
A13: 7 | B13: MARZO | D13: 2020574490103005E | E13: 4315705 | I13: KR 70 A # 56 A - 42 | M13: AUDIENCIA | N13: APLICATIVO ARCO
A14: 8 | B14: MARZO | D14: 2020574490101807E | E14: 4315660 | I14: CL 49 SUR # 98 B - 75 casa 28 bloque 3 C.R. Tekoa 7 de Bosa Porvenir | M14: AUDIENCIA | N14: APLICATIVO ARCO
A15: 9 | B15: MARZO | D15: 2020574490101712E | E15: 4315655 | I15: CL 49 SUR # 98 B - 75 casa 28 bloque 3 C.R. Tekoa 7 de Bosa Porvenir | M15: AUDIENCIA | N15: APLICATIVO ARCO
A16: 10 | B16: MARZO | D16: 2021574490100729E | E16: 6013971 | I16: Pol 201 # 0 - 0 OCUPACION 19 | J16: Pol 201 # 0 - 0 OCUPACION 19 | M16: AUDIENCIA | N16: APLICATIVO ARCO
A17: 11 | B17: MARZO | D17: 2021574490100731E | E17: 6014230 | I17: Pol 201 # 0 - 0 OCUPACION 24 | M17: AUDIENCIA | N17: APLICATIVO ARCO
A18: 12 | B18: MARZO | D18: 2021574490100733E | E18: 6014282 | I18: Pol 201 # 0 - 0 OCUPACION 29 | M18: AUDIENCIA | N18: APLICATIVO ARCO
A19: 13 | B19: MARZO | D19: 2021574490100735E | E19: 6014421 | M19: AUDIENCIA | N19: APLICATIVO ARCO
A20: 14 | B20: MARZO | D20: 2021574490100737E | E20: 6014529 | I20: Pol 201 # 0 - 0 OCUPACION 31 | M20: AUDIENCIA | N20: APLICATIVO ARCO
A21: 15 | B21: MARZO | D21: 2021574490100104E | E21: 4456713 | I21: KR 82 SUR # 67 A - 28 | M21: AUDIENCIA | N21: APLICATIVO ARCO
A22: 16 | B22: MARZO | D22: 2020574490114292E | E22: 4251733 | I22: KR 80 A # 65 - 71 SUR | M22: ARCHIVO DEFINITIVO | N22: APLICATIVO ARCO
A23: 17 | B23: MARZO | D23: 2020574490114296E | E23: 4251767 | I23: CL 45 F SUR # 94 - 18 LOCAL 1-23 Y 1-24 | J23: CL 45 F SUR # 94 - 18 LOCAL 1-23 Y 1-24 | M23: ARCHIVO DEFINITIVO | N23: APLICATIVO ARCO
A24: 18 | B24: MARZO | D24: 2021574490100137E | E24: 4458238 | I24: KR 89 A BIS # 49 D - 22 SUR | M24: CITACION A AUDIENCIA | N24: APLICATIVO ARCO
A25: 19 | B25: MARZO | D25: 2021574490100134E | E25: 4458055 | I25: CL 88 SUR # 87 A - 19 | M25: CITACION A AUDIENCIA | N25: APLICATIVO ARCO
A26: 20 | B26: MARZO | D26: 2021574490100131E | E26: 4458010 | I26: CL 88 SUR # 86 A - 7 | M26: AUDIENCIA | N26: APLICATIVO ARCO
A27: 21 | B27: MARZO | D27: 2019574490121362E | E27: 567142 | I27: Pol 106 # 0 - 0 OCUPACION 238 | M27: AUDIENCIA | N27: APLICATIVO ARCO
A28: 22 | B28: MARZO | D28: 2019574490121361E | E28: 567141 | I28: Pol 106 # 0 - 0 OCUPACION 237 | M28: AUDIENCIA | N28: APLICATIVO ARCO
A29: 23 | B29: MARZO | D29: 2018573890100095E | E29: 563718 | I29: Pol 106 # 0 - 0 OCUPACION 210 | M29: CITACION A AUDIENCIA | N29: APLICATIVO ARCO
A30: 24 | B30: MARZO | D30: 2019574490121349E | E30: 567129 | I30: Pol 200 A # 0 - 0 OCUPACION 71 | M30: CITACION A AUDIENCIA | N30: APLICATIVO ARCO
A31: 25 | B31: MARZO | D31: 2020574490100774E | E31: 4315636 | I31: Pol 106 # 0 - 0 OCUPACION 197 | M31: CITACION A AUDIENCIA | N31: APLICATIVO ARCO
A32: 26 | B32: MARZO | D32: 2019574490121360E | E32: 567140 | I32: Pol 106 # 0 - 0 OCUPACION 236 | M32: CITACION A AUDIENCIA | N32: APLICATIVO ARCO
A33: 27 | B33: MARZO | D33: 2019574490127583E | E33: 567309 | I33: Pol 105 # 0 - 0 OUCPACION 7 | M33: CITACION A AUDIENCIA | N33: APLICATIVO ARCO
A34: 28 | B34: MARZO | D34: 2019574490121346E | E34: 567126 | I34: Pol 200 A # 0 - 0 OCUPACION 9 | M34: CITACION A AUDIENCIA | N34: APLICATIVO ARCO
A35: 29 | B35: MARZO | D35: 2019574490132705E | E35: 4309883 | I35: Pol 109 A # 0 - 0 OUPACION 5 | M35: CITACION A AUDIENCIA | N35: APLICATIVO ARCO
... A42: 36 | B42: MARZO | D42: 2019574490127362E | E42: 567158 | I42: KR 82 # 59 B - 20 SUR | M42: AUDIENCIA | N42: APLICATIVO ARCO
A43: 37 | B43: MARZO | D43: 2017573870103727E | E43: 559145 | I43: NO REGISTRA | M43: CITACION A AUDIENCIA | N43: APLICATIVO ARCO | O43: x
A44: 38 | B44: MARZO | D44: 2017573880100148E | E44: 559189 | I44: NO REGISTRA | M44: AUDIENCIA | N44: APLICATIVO ARCO
A45: 39 | B45: MARZO | D45: 2017573880100167E | E45: 557158 | I45: 77 J BIS # 69 A-46 | M45: AUDIENCIA | N45: APLICATIVO ARCO | O45: CARGAR ACTA
A46: 40 | B46: MARZO | D46: 2017573880100084E | E46: 559158 | I46: CARRERA 94 A 65-42 sur | M46: AUDIENCIA | N46: APLICATIVO ARCO | O46: CARGAR ACTA
A47: 41 | B47: MARZO | D47: 2017573870100445E | E47: 556802 | N47: APLICATIVO ARCO
A48: 42 | B48: MARZO | D48: 2017573870101844E | E48: 557057 | I48: carrera 87 l 71b -04 | M48: AUDIENCIA | N48: APLICATIVO ARCO
...

Sheet LISTAS
A1: AVOQUE
A2: CITACION A AUDIENCIA
A3: AUDIENCIA
A4: ARCHIVO DEFINITIVO
A5: SEGUNDA INSTANCIA

Sheet ORFEO
D1: Nombre | E1: LEONARDO VALENCIA CADENA | F1: (Nombre auxiliar)
D2: Cargo | E2: AUXILIAR ADMINISTRATIVO INSPECCION 7D | F2: AUXILIAR ADMINISTRATIVO INSPECCION 7() | P2: JUNIO | Q2: JULIO | R2: AGOSTO | S2: SEPTIEMBRE | T2: OCTUBRE | U2: NOVIEMBRE | V2: DICIEMBRE
D3: Ubicación | E3: INSPECCIONES DE POLICIA | F3: INSPECCIONES DE POLICIA | P3: =COUNTIF(B:B,"JUNIO") -> 0 | Q3: =COUNTIF(B:B,"JULIO") -> 0 | R3: =COUNTIF(B:B,"AGOSTO") -> 1 | S3: =COUNTIF(B:B,"SEPTIEMBRE") -> 0 | T3: =COUNTIF(B:B,"OCTUBRE") -> 0 | U3: =COUNTIF(B:B,"NOVIEMBRE") -> 0 | V3: =COUNTIF(B:B,"DICIEMBRE") -> 0
A6: No. | B6: MES | C6: RADICADO | D6: FECHA RADICADO | E6: TIPO_DE_DOCUMENTO | F6: ASUNTO | G6: ANEXOS | H6: N_HOJAS | I6: MEDIO RECEPCION | J6: USUARIO | K6: DEPENDENCIA | L6: SGD SPUB CODIGO | M6: USUA NIVEL | N6: MEDIO DE VERIFICACION
A7: 1 | B7: AGOSTO | C7: 20215741013671 | D7: 2021/08/02 09:48:47 | E7: No definido | F7: CITACION AUDIENCIA 2020573490128236E | G7: 0 | I7: CDI | J7: (Nombre auxiliar) | K7: Area de Gestion Policiva Inspecciones Bosa | L7: 0 | M7: 1 | N7: APLICATIVO ORFEO
A8: 2 | L8: 0 | M8: 1 | N8: APLICATIVO ORFEO
A9: 3 | L9: 0 | M9: 1 | N9: APLICATIVO ORFEO
A10: 4 | L10: 0 | M10: 1 | N10: APLICATIVO ORFEO
A11: 5 | L11: 0 | M11: 1 | N11: APLICATIVO ORFEO
A12: 6 | L12: 0 | M12: 1 | N12: APLICATIVO ORFEO
A13: 7 | L13: 0 | M13: 1 | N13: APLICATIVO ORFEO
A14: 8 | L14: 0 | M14: 1 | N14: APLICATIVO ORFEO
A15: 9 | L15: 0 | M15: 1 | N15: APLICATIVO ORFEO
A16: 10 | L16: 0 | M16: 1 | N16: APLICATIVO ORFEO
A17: 11 | L17: 0 | M17: 1 | N17: APLICATIVO ORFEO
A18: 12 | L18: 0 | M18: 1 | N18: APLICATIVO ORFEO
A19: 13 | L19: 0 | M19: 1 | N19: APLICATIVO ORFEO
... A183: 177 | L183: 0 | M183: 1 | N183: APLICATIVO ORFEO
A184: 178 | N184: APLICATIVO ORFEO
A185: 179 | N185: APLICATIVO ORFEO
A186: 180 | N186: APLICATIVO ORFEO
A187: 181 | N187: APLICATIVO ORFEO
A188: 182 | N188: APLICATIVO ORFEO
A189: 183 | N189: APLICATIVO ORFEO
A190: 184 | N190: APLICATIVO ORFEO
A191: 185 | N191: APLICATIVO ORFEO
A192: 186 | N192: APLICATIVO ORFEO
A193: 187 | N193: APLICATIVO ORFEO
A194: 188 | N194: APLICATIVO ORFEO
A195: 189 | N195: APLICATIVO ORFEO
... A1543: 1537 | N1543: APLICATIVO ORFEO

Sheet NO MIGRADO
A1: 2020574490100172
A2: 2022574490100212 | B2: ap 24 nov 2022
A3: 2021574490101677 | B3: ap 24 nov 2022
A4: 2021574490101575 | B4: 44882
A5: 2021574490101233 | B5: no permita cargar documentos

Sheet ARCHIVO
D1: Nombre | E1: (Nombre Auxiliar)
D2: Cargo | E2: AUXILIAR ADMINISTRATIVO INSPECCION 7() | Q2: JUNIO | R2: JULIO | S2: AGOSTO | T2: SEPTIEMBRE | U2: OCTUBRE | V2: NOVIEMBRE | W2: DICIEMBRE
D3: Ubicación | E3: INSPECCIONES DE POLICIA | Q3: =COUNTIF(B:B,"JUNIO") -> 0 | R3: =COUNTIF(B:B,"JULIO") -> 0 | S3: =COUNTIF(B:B,"AGOSTO") -> 0 | T3: =COUNTIF(B:B,"SEPTIEMBRE") -> 0 | U3: =COUNTIF(B:B,"OCTUBRE") -> 0 | V3: =COUNTIF(B:B,"NOVIEMBRE") -> 0 | W3: =COUNTIF(B:B,"DICIEMBRE") -> 0
A6: No. | B6: MES | C6: FECHA DE INGRESO | D6: NUMERO EXPEDIENTE | E6: Caso No | F6: RADICADO ORFEO | G6: DEMANDANTE | H6: DEMANDADO | I6: Dirección De Los Hechos | J6: FECHA AUDIENCIA | K6: HORA AUDIENCIA | L6: ARTICULO | M6: ESTADO | N6: MEDIO DE VERIFICACION | O6: CAJA | P6: FOLIOS
A7: 1 | B7: =IF(ARCO!B7="","",ARCO!B7) -> MARZO | C7: =IF(ARCO!C7="","",ARCO!C7) | D7: =IF(ARCO!D7="","",ARCO!D7) -> 2021574490100727E | E7: =IF(ARCO!E7="","",ARCO!E7) -> 6013895 | F7: =IF(ARCO!F7="","",ARCO!F7) -> KR 80 I # 61 - 5 SUR | G7: =IF(ARCO!G7="","",ARCO!G7) | H7: =IF(ARCO!H7="","",ARCO!H7) | I7: =IF(ARCO!I7="","",ARCO!I7) -> Pol 201 # 0 - 0 OCUPACION 19 | ... M7: =IF(ARCO!M7="","",ARCO!M7) -> AUDIENCIA | N7: ARCHIVO FISICO INSPECCION
A8: 2 | B8: =IF(ARCO!B8="","",ARCO!B8) -> MARZO | C8: =IF(ARCO!C8="","",ARCO!C8) | D8: =IF(ARCO!D8="","",ARCO!D8) -> 2021574490100725E | E8: =IF(ARCO!E8="","",ARCO!E8) -> 6013841 | F8: =IF(ARCO!F8="","",ARCO!F8) | G8: =IF(ARCO!G8="","",ARCO!G8) | H8: =IF(ARCO!H8="","",ARCO!H8) | I8: =IF(ARCO!I8="","",ARCO!I8) -> Pol 201 # 0 - 0 OCUPACION 13 | ... M8: =IF(ARCO!M8="","",ARCO!M8) -> AUDIENCIA | N8: ARCHIVO FISICO INSPECCION
A9: 3 | B9: =IF(ARCO!B9="","",ARCO!B9) -> MARZO | C9: =IF(ARCO!C9="","",ARCO!C9) | D9: =IF(ARCO!D9="","",ARCO!D9) -> 2021574490100723E | E9: =IF(ARCO!E9="","",ARCO!E9) -> 6013540 | F9: =IF(ARCO!F9="","",ARCO!F9) | G9: =IF(ARCO!G9="","",ARCO!G9) | H9: =IF(ARCO!H9="","",ARCO!H9) | I9: =IF(ARCO!I9="","",ARCO!I9) -> NO REGISTRA | ... M9: =IF(ARCO!M9="","",ARCO!M9) -> AUDIENCIA | N9: ARCHIVO FISICO INSPECCION
A10: 4 | B10: =IF(ARCO!B10="","",ARCO!B10) -> MARZO | C10: =IF(ARCO!C10="","",ARCO!C10) | D10: =IF(ARCO!D10="","",ARCO!D10) -> 2021574490100719E | E10: =IF(ARCO!E10="","",ARCO!E10) -> 6012061 | F10: =IF(ARCO!F10="","",ARCO!F10) | G10: =IF(ARCO!G10="","",ARCO!G10) | H10: =IF(ARCO!H10="","",ARCO!H10) | I10: =IF(ARCO!I10="","",ARCO!I10) -> NO REGISTRA | ... M10: =IF(ARCO!M10="","",ARCO!M10) -> AUDIENCIA | N10: ARCHIVO FISICO INSPECCION
A11: 5 | B11: =IF(ARCO!B11="","",ARCO!B11) -> MARZO | C11: =IF(ARCO!C11="","",ARCO!C11) | D11: =IF(ARCO!D11="","",ARCO!D11) -> 2021574490100721E | E11: =IF(ARCO!E11="","",ARCO!E11) -> 6013200 | F11: =IF(ARCO!F11="","",ARCO!F11) | G11: =IF(ARCO!G11="","",ARCO!G11) | H11: =IF(ARCO!H11="","",ARCO!H11) | I11: =IF(ARCO!I11="","",ARCO!I11) -> Pol 201 # 0 - 0 OCUPACION 09 | ... M11: =IF(ARCO!M11="","",ARCO!M11) -> AUDIENCIA | N11: ARCHIVO FISICO INSPECCION
A12: 6 | B12: =IF(ARCO!B12="","",ARCO!B12) -> MARZO | C12: =IF(ARCO!C12="","",ARCO!C12) | D12: =IF(ARCO!D12="","",ARCO!D12) -> 2020573490121688E | E12: =IF(ARCO!E12="","",ARCO!E12) -> 2868114 | F12: =IF(ARCO!F12="","",ARCO!F12) | G12: =IF(ARCO!G12="","",ARCO!G12) | H12: =IF(ARCO!H12="","",ARCO!H12) | I12: =IF(ARCO!I12="","",ARCO!I12) -> CL 65 B SUR # 78 L - 31 | ... M12: =IF(ARCO!M12="","",ARCO!M12) -> AUDIENCIA | N12: ARCHIVO FISICO INSPECCION
A13: 7 | B13: =IF(ARCO!B13="","",ARCO!B13) -> MARZO | C13: =IF(ARCO!C13="","",ARCO!C13) | D13: =IF(ARCO!D13="","",ARCO!D13) -> 2020574490103005E | E13: =IF(ARCO!E13="","",ARCO!E13) -> 4315705 | F13: =IF(ARCO!F13="","",ARCO!F13) | G13: =IF(ARCO!G13="","",ARCO!G13) | H13: =IF(ARCO!H13="","",ARCO!H13) | I13: =IF(ARCO!I13="","",ARCO!I13) -> KR 70 A # 56 A - 42 | ... M13: =IF(ARCO!M13="","",ARCO!M13) -> AUDIENCIA | N13: ARCHIVO FISICO INSPECCION
A14: 8 | B14: =IF(ARCO!B14="","",ARCO!B14) -> MARZO | C14: =IF(ARCO!C14="","",ARCO!C14) | D14: =IF(ARCO!D14="","",ARCO!D14) -> 2020574490101807E | E14: =IF(ARCO!E14="","",ARCO!E14) -> 4315660 | F14: =IF(ARCO!F14="","",ARCO!F14) | G14: =IF(ARCO!G14="","",ARCO!G14) | H14: =IF(ARCO!H14="","",ARCO!H14) | I14: =IF(ARCO!I14="","",ARCO!I14) -> CL 49 SUR # 98 B - 75 casa 28 bloque 3 C.R. Tekoa 7 de Bosa Porvenir | ... M14: =IF(ARCO!M14="","",ARCO!M14) -> AUDIENCIA | N14: ARCHIVO FISICO INSPECCION
A15: 9 | B15: =IF(ARCO!B15="","",ARCO!B15) -> MARZO | C15: =IF(ARCO!C15="","",ARCO!C15) | D15: =IF(ARCO!D15="","",ARCO!D15) -> 2020574490101712E | E15: =IF(ARCO!E15="","",ARCO!E15) -> 4315655 | F15: =IF(ARCO!F15="","",ARCO!F15) | G15: =IF(ARCO!G15="","",ARCO!G15) | H15: =IF(ARCO!H15="","",ARCO!H15) | I15: =IF(ARCO!I15="","",ARCO!I15) -> CL 49 SUR # 98 B - 75 casa 28 bloque 3 C.R. Tekoa 7 de Bosa Porvenir | ... M15: =IF(ARCO!M15="","",ARCO!M15) -> AUDIENCIA | N15: ARCHIVO FISICO INSPECCION
A16: 10 | B16: =IF(ARCO!B16="","",ARCO!B16) -> MARZO | C16: =IF(ARCO!C16="","",ARCO!C16) | D16: =IF(ARCO!D16="","",ARCO!D16) -> 2021574490100729E | E16: =IF(ARCO!E16="","",ARCO!E16) -> 6013971 | F16: =IF(ARCO!F16="","",ARCO!F16) | G16: =IF(ARCO!G16="","",ARCO!G16) | H16: =IF(ARCO!H16="","",ARCO!H16) | I16: =IF(ARCO!I16="","",ARCO!I16) -> Pol 201 # 0 - 0 OCUPACION 19 | ... M16: =IF(ARCO!M16="","",ARCO!M16) -> AUDIENCIA | N16: ARCHIVO FISICO INSPECCION
A17: 11 | B17: =IF(ARCO!B17="","",ARCO!B17) -> MARZO | C17: =IF(ARCO!C17="","",ARCO!C17) | D17: =IF(ARCO!D17="","",ARCO!D17) -> 2021574490100731E | E17: =IF(ARCO!E17="","",ARCO!E17) -> 6014230 | F17: =IF(ARCO!F17="","",ARCO!F17) | G17: =IF(ARCO!G17="","",ARCO!G17) | H17: =IF(ARCO!H17="","",ARCO!H17) | I17: =IF(ARCO!I17="","",ARCO!I17) -> Pol 201 # 0 - 0 OCUPACION 24 | ... M17: =IF(ARCO!M17="","",ARCO!M17) -> AUDIENCIA | N17: ARCHIVO FISICO INSPECCION
A18: 12 | B18: =IF(ARCO!B18="","",ARCO!B18) -> MARZO | C18: =IF(ARCO!C18="","",ARCO!C18) | D18: =IF(ARCO!D18="","",ARCO!D18) -> 2021574490100733E | E18: =IF(ARCO!E18="","",ARCO!E18) -> 6014282 | F18: =IF(ARCO!F18="","",ARCO!F18) | G18: =IF(ARCO!G18="","",ARCO!G18) | H18: =IF(ARCO!H18="","",ARCO!H18) | I18: =IF(ARCO!I18="","",ARCO!I18) -> Pol 201 # 0 - 0 OCUPACION 29 | ... M18: =IF(ARCO!M18="","",ARCO!M18) -> AUDIENCIA | N18: ARCHIVO FISICO INSPECCION
... A26: 20 | B26: =IF(ARCO!B26="","",ARCO!B26) -> MARZO | C26: =IF(ARCO!C26="","",ARCO!C26) | D26: =IF(ARCO!D26="","",ARCO!D26) -> 2021574490100131E | E26: =IF(ARCO!E26="","",ARCO!E26) -> 4458010 | F26: =IF(ARCO!F26="","",ARCO!F26) | G26: =IF(ARCO!G26="","",ARCO!G26) | H26: =IF(ARCO!H26="","",ARCO!H26) | I26: =IF(ARCO!I26="","",ARCO!I26) -> CL 88 SUR # 86 A - 7 | ... M26: =IF(ARCO!M26="","",ARCO!M26) -> AUDIENCIA | N26: ARCHIVO FISICO INSPECCION
A27: 21 | B27: =IF(ARCO!B27="","",ARCO!B27) -> MARZO | C27: =IF(ARCO!C27="","",ARCO!C27) | D27: =IF(ARCO!#REF!="","",ARCO!#REF!) -> #REF! | E27: =IF(ARCO!E27="","",ARCO!E27) -> 567142 | F27: =IF(ARCO!F27="","",ARCO!F27) | G27: =IF(ARCO!G27="","",ARCO!G27) | H27: =IF(ARCO!H27="","",ARCO!H27) | I27: =IF(ARCO!I27="","",ARCO!I27) -> Pol 106 # 0 - 0 OCUPACION 238 | J27: =IF(ARCO!J27="","",ARCO!J27) | K27: =IF(ARCO!K27="","",ARCO!K27) | L27: =IF(ARCO!L27="","",ARCO!L27) | M27: =IF(ARCO!M27="","",ARCO!M27) -> AUDIENCIA | N27: ARCHIVO FISICO INSPECCION
A28: 22 | B28: =IF(ARCO!B28="","",ARCO!B28) -> MARZO | C28: =IF(ARCO!C28="","",ARCO!C28) | D28: =IF(ARCO!D27="","",ARCO!D27) -> 2019574490121362E | E28: =IF(ARCO!E28="","",ARCO!E28) -> 567141 | F28: =IF(ARCO!F28="","",ARCO!F28) | G28: =IF(ARCO!G28="","",ARCO!G28) | H28: =IF(ARCO!H28="","",ARCO!H28) | I28: =IF(ARCO!I28="","",ARCO!I28) -> Pol 106 # 0 - 0 OCUPACION 237 | J28: =IF(ARCO!J28="","",ARCO!J28) | K28: =IF(ARCO!K28="","",ARCO!K28) | L28: =IF(ARCO!L28="","",ARCO!L28) | M28: =IF(ARCO!M28="","",ARCO!M28) -> AUDIENCIA | N28: ARCHIVO FISICO INSPECCION
A29: 23 | B29: =IF(ARCO!B29="","",ARCO!B29) -> MARZO | C29: =IF(ARCO!C29="","",ARCO!C29) | D29: =IF(ARCO!D29="","",ARCO!D29) -> 2018573890100095E | E29: =IF(ARCO!E29="","",ARCO!E29) -> 563718 | F29: =IF(ARCO!F29="","",ARCO!F29) | G29: =IF(ARCO!G29="","",ARCO!G29) | H29: =IF(ARCO!H29="","",ARCO!H29) | I29: =IF(ARCO!I29="","",ARCO!I29) -> Pol 106 # 0 - 0 OCUPACION 210 | ... M29: =IF(ARCO!M29="","",ARCO!M29) -> CITACION A AUDIENCIA | N29: ARCHIVO FISICO INSPECCION
A30: 24 | B30: =IF(ARCO!B30="","",ARCO!B30) -> MARZO | C30: =IF(ARCO!C30="","",ARCO!C30) | D30: =IF(ARCO!D30="","",ARCO!D30) -> 2019574490121349E | E30: =IF(ARCO!E30="","",ARCO!E30) -> 567129 | F30: =IF(ARCO!F30="","",ARCO!F30) | G30: =IF(ARCO!G30="","",ARCO!G30) | H30: =IF(ARCO!H30="","",ARCO!H30) | I30: =IF(ARCO!I30="","",ARCO!I30) -> Pol 200 A # 0 - 0 OCUPACION 71 | ... M30: =IF(ARCO!M30="","",ARCO!M30) -> CITACION A AUDIENCIA | N30: ARCHIVO FISICO INSPECCION
A31: 25 | B31: =IF(ARCO!B31="","",ARCO!B31) -> MARZO | C31: =IF(ARCO!C31="","",ARCO!C31) | D31: =IF(ARCO!D31="","",ARCO!D31) -> 2020574490100774E | E31: =IF(ARCO!E31="","",ARCO!E31) -> 4315636 | F31: =IF(ARCO!F31="","",ARCO!F31) | G31: =IF(ARCO!G31="","",ARCO!G31) | H31: =IF(ARCO!H31="","",ARCO!H31) | I31: =IF(ARCO!I31="","",ARCO!I31) -> Pol 106 # 0 - 0 OCUPACION 197 | ... M31: =IF(ARCO!M31="","",ARCO!M31) -> CITACION A AUDIENCIA | N31: ARCHIVO FISICO INSPECCION
A32: 26 | B32: =IF(ARCO!B32="","",ARCO!B32) -> MARZO | C32: =IF(ARCO!C32="","",ARCO!C32) | D32: =IF(ARCO!D32="","",ARCO!D32) -> 2019574490121360E | E32: =IF(ARCO!E32="","",ARCO!E32) -> 567140 | F32: =IF(ARCO!F32="","",ARCO!F32) | G32: =IF(ARCO!G32="","",ARCO!G32) | H32: =IF(ARCO!H32="","",ARCO!H32) | I32: =IF(ARCO!I32="","",ARCO!I32) -> Pol 106 # 0 - 0 OCUPACION 236 | ... M32: =IF(ARCO!M32="","",ARCO!M32) -> CITACION A AUDIENCIA | N32: ARCHIVO FISICO INSPECCION
A33: 27 | B33: =IF(ARCO!B33="","",ARCO!B33) -> MARZO | C33: =IF(ARCO!C33="","",ARCO!C33) | D33: =IF(ARCO!D33="","",ARCO!D33) -> 2019574490127583E | E33: =IF(ARCO!E33="","",ARCO!E33) -> 567309 | F33: =IF(ARCO!F33="","",ARCO!F33) | G33: =IF(ARCO!G33="","",ARCO!G33) | H33: =IF(ARCO!H33="","",ARCO!H33) | I33: =IF(ARCO!I33="","",ARCO!I33) -> Pol 105 # 0 - 0 OUCPACION 7 | ... M33: =IF(ARCO!M33="","",ARCO!M33) -> CITACION A AUDIENCIA | N33: ARCHIVO FISICO INSPECCION
A34: 28 | B34: =IF(ARCO!B34="","",ARCO!B34) -> MARZO | C34: =IF(ARCO!C34="","",ARCO!C34) | D34: =IF(ARCO!D34="","",ARCO!D34) -> 2019574490121346E | E34: =IF(ARCO!E34="","",ARCO!E34) -> 567126 | F34: =IF(ARCO!F34="","",ARCO!F34) | G34: =IF(ARCO!G34="","",ARCO!G34) | H34: =IF(ARCO!H34="","",ARCO!H34) | I34: =IF(ARCO!I34="","",ARCO!I34) -> Pol 200 A # 0 - 0 OCUPACION 9 | ... M34: =IF(ARCO!M34="","",ARCO!M34) -> CITACION A AUDIENCIA | N34: ARCHIVO FISICO INSPECCION
A35: 29 | B35: =IF(ARCO!B35="","",ARCO!B35) -> MARZO | C35: =IF(ARCO!C35="","",ARCO!C35) | D35: =IF(ARCO!D35="","",ARCO!D35) -> 2019574490132705E | E35: =IF(ARCO!E35="","",ARCO!E35) -> 4309883 | F35: =IF(ARCO!F35="","",ARCO!F35) | G35: =IF(ARCO!G35="","",ARCO!G35) | H35: =IF(ARCO!H35="","",ARCO!H35) | I35: =IF(ARCO!I35="","",ARCO!I35) -> Pol 109 A # 0 - 0 OUPACION 5 | ... M35: =IF(ARCO!M35="","",ARCO!M35) -> CITACION A AUDIENCIA | N35: ARCHIVO FISICO INSPECCION
A36: 30 | B36: =IF(ARCO!B36="","",ARCO!B36) -> MARZO | C36: =IF(ARCO!C36="","",ARCO!C36) | D36: =IF(ARCO!D36="","",ARCO!D36) -> 2018574490100168E | E36: =IF(ARCO!E36="","",ARCO!E36) -> 563935 | F36: =IF(ARCO!F36="","",ARCO!F36) | G36: =IF(ARCO!G36="","",ARCO!G36) | H36: =IF(ARCO!H36="","",ARCO!H36) | I36: =IF(ARCO!I36="","",ARCO!I36) -> CL 51 SUR # 86 A - 27 | ... M36: =IF(ARCO!M36="","",ARCO!M36) -> AVOQUE | N36: ARCHIVO FISICO INSPECCION
A37: 31 | B37: =IF(ARCO!B37="","",ARCO!B37) -> MARZO | C37: =IF(ARCO!C37="","",ARCO!C37) | D37: =IF(ARCO!D37="","",ARCO!D37) -> 2020574490103010E | E37: =IF(ARCO!E37="","",ARCO!E37) -> 4315708 | F37: =IF(ARCO!F37="","",ARCO!F37) | G37: =IF(ARCO!G37="","",ARCO!G37) | H37: =IF(ARCO!H37="","",ARCO!H37) | I37: =IF(ARCO!I37="","",ARCO!I37) -> KR 78 B # 58 P - 15 SUR | ... M37: =IF(ARCO!M37="","",ARCO!M37) -> AVOQUE | N37: ARCHIVO FISICO INSPECCION
A38: 32 | B38: =IF(ARCO!B38="","",ARCO!B38) -> MARZO | C38: =IF(ARCO!C38="","",ARCO!C38) | D38: =IF(ARCO!D38="","",ARCO!D38) -> 2020574490102540E | E38: =IF(ARCO!E38="","",ARCO!E38) -> 4315684 | F38: =IF(ARCO!F38="","",ARCO!F38) | G38: =IF(ARCO!G38="","",ARCO!G38) | H38: =IF(ARCO!H38="","",ARCO!H38) | I38: =IF(ARCO!I38="","",ARCO!I38) -> KR 87 D # 54 D - 35 SUR | ... M38: =IF(ARCO!M38="","",ARCO!M38) -> CITACION A AUDIENCIA | N38: ARCHIVO FISICO INSPECCION
A39: 33 | B39: =IF(ARCO!B39="","",ARCO!B39) -> MARZO | C39: =IF(ARCO!C39="","",ARCO!C39) | D39: =IF(ARCO!D39="","",ARCO!D39) -> 2020574490102536E | E39: =IF(ARCO!E39="","",ARCO!E39) -> 4315681 | F39: =IF(ARCO!F39="","",ARCO!F39) | G39: =IF(ARCO!G39="","",ARCO!G39) | H39: =IF(ARCO!H39="","",ARCO!H39) | I39: =IF(ARCO!I39="","",ARCO!I39) -> CL 71 B SUR # 78 A - 16 | ... M39: =IF(ARCO!M39="","",ARCO!M39) -> CITACION A AUDIENCIA | N39: ARCHIVO FISICO INSPECCION
A40: 34 | B40: =IF(ARCO!B40="","",ARCO!B40) -> MARZO | C40: =IF(ARCO!C40="","",ARCO!C40) | D40: =IF(ARCO!D40="","",ARCO!D40) -> 2020574490102988E | E40: =IF(ARCO!E40="","",ARCO!E40) -> 4315700 | F40: =IF(ARCO!F40="","",ARCO!F40) | G40: =IF(ARCO!G40="","",ARCO!G40) | H40: =IF(ARCO!H40="","",ARCO!H40) | I40: =IF(ARCO!I40="","",ARCO!I40) -> CALLE 74 C SUR # 80 J - 09 | ... M40: =IF(ARCO!M40="","",ARCO!M40) -> ARCHIVO DEFINITIVO | N40: ARCHIVO FISICO INSPECCION
... A95: 89 | B95: =IF(ARCO!B95="","",ARCO!B95) -> MARZO | C95: =IF(ARCO!C95="","",ARCO!C95) | D95: =IF(ARCO!D95="","",ARCO!D95) -> 2020573490123403E | E95: =IF(ARCO!E95="","",ARCO!E95) -> 2982203 | F95: =IF(ARCO!F95="","",ARCO!F95) | G95: =IF(ARCO!G95="","",ARCO!G95) | H95: =IF(ARCO!H95="","",ARCO!H95) | I95: =IF(ARCO!I95="","",ARCO!I95) -> KR 80 I SUR # 70 - 5 | ... M95: =IF(ARCO!M95="","",ARCO!M95) -> ARCHIVO DEFINITIVO | N95: ARCHIVO FISICO INSPECCION
A96: 90 | B96: =IF(ARCO!B96="","",ARCO!B96) -> MARZO | C96: =IF(ARCO!C96="","",ARCO!C96) | D96: =IF(ARCO!D96="","",ARCO!D96) -> 2020573490123409E | E96: =IF(ARCO!E97="","",ARCO!E97) -> 567091 | F96: =IF(ARCO!F96="","",ARCO!F96) | G96: =IF(ARCO!G96="","",ARCO!G96) | H96: =IF(ARCO!H96="","",ARCO!H96) | I96: =IF(ARCO!I96="","",ARCO!I96) -> CL 88 SUR # 87 - 5 | J96: =IF(ARCO!J96="","",ARCO!J96) | K96: =IF(ARCO!K96="","",ARCO!K96) | L96: =IF(ARCO!L96="","",ARCO!L96) | M96: =IF(ARCO!M96="","",ARCO!M96) -> ARCHIVO DEFINITIVO | N96: ARCHIVO FISICO INSPECCION
A97: 91 | B97: =IF(ARCO!B97="","",ARCO!B97) -> MARZO | C97: =IF(ARCO!C97="","",ARCO!C97) | D97: =IF(ARCO!D97="","",ARCO!D97) -> 2019574490119129E | E97: =IF(ARCO!#REF!="","",ARCO!#REF!) -> #REF! | F97: =IF(ARCO!F97="","",ARCO!F97) | G97: =IF(ARCO!G97="","",ARCO!G97) | H97: =IF(ARCO!H97="","",ARCO!H97) | I97: =IF(ARCO!I97="","",ARCO!I97) -> KR 98 B # 72 - 25 CASA 242 | J97: =IF(ARCO!J97="","",ARCO!J97) | K97: =IF(ARCO!K97="","",ARCO!K97) | L97: =IF(ARCO!L97="","",ARCO!L97) | M97: =IF(ARCO!M97="","",ARCO!M97) -> ARCHIVO DEFINITIVO | N97: ARCHIVO FISICO INSPECCION
A98: 92 | B98: =IF(ARCO!B98="","",ARCO!B98) -> MARZO | C98: =IF(ARCO!C98="","",ARCO!C98) | D98: =IF(ARCO!D98="","",ARCO!D98) -> 2019574490101372E | E98: =IF(ARCO!E98="","",ARCO!E98) -> 566789 | F98: =IF(ARCO!F98="","",ARCO!F98) | G98: =IF(ARCO!G98="","",ARCO!G98) | H98: =IF(ARCO!H98="","",ARCO!H98) | I98: =IF(ARCO!I98="","",ARCO!I98) -> DG 73 SUR # 78 I - 70 | ... M98: =IF(ARCO!M98="","",ARCO!M98) -> AUDIENCIA | N98: ARCHIVO FISICO INSPECCION
A99: 93 | B99: =IF(ARCO!B99="","",ARCO!B99) -> MARZO | C99: =IF(ARCO!C99="","",ARCO!C99) | D99: =IF(ARCO!D99="","",ARCO!D99) -> 2020573490111235E | E99: =IF(ARCO!E99="","",ARCO!E99) -> 1854125 | F99: =IF(ARCO!F99="","",ARCO!F99) | G99: =IF(ARCO!G99="","",ARCO!G99) | H99: =IF(ARCO!H99="","",ARCO!H99) | I99: =IF(ARCO!I99="","",ARCO!I99) -> CL 56 D SUR # 88 H - 95 BOSA SAN MARTIN -COLEGIO JALIL GIBRAN | ... M99: =IF(ARCO!M99="","",ARCO!M99) -> AUDIENCIA | N99: ARCHIVO FISICO INSPECCION
A100: 94 | B100: =IF(ARCO!B100="","",ARCO!B100) -> MARZO | C100: =IF(ARCO!C100="","",ARCO!C100) | D100: =IF(ARCO!D100="","",ARCO!D100) -> 2020574490114485E | E100: =IF(ARCO!E100="","",ARCO!E100) -> 4449716 | F100: =IF(ARCO!F100="","",ARCO!F100) | G100: =IF(ARCO!G100="","",ARCO!G100) | H100: =IF(ARCO!H100="","",ARCO!H100) | I100: =IF(ARCO!I100="","",ARCO!I100) -> CL 55 SUR # 103 - 49 BLOQUE 6 CASA 21 | ... M100: =IF(ARCO!M100="","",ARCO!M100) -> AVOQUE | N100: ARCHIVO FISICO INSPECCION
A101: 95 | B101: =IF(ARCO!B101="","",ARCO!B101) -> MARZO | C101: =IF(ARCO!C101="","",ARCO!C101) | D101: =IF(ARCO!D101="","",ARCO!D101) -> 2020573490110890E | E101: =IF(ARCO!E101="","",ARCO!E101) -> 1836356 | F101: =IF(ARCO!F101="","",ARCO!F101) | G101: =IF(ARCO!G101="","",ARCO!G101) | H101: =IF(ARCO!H101="","",ARCO!H101) | I101: =IF(ARCO!I101="","",ARCO!I101) -> NO REGISTRA DIRECCIÓN | ... M101: =IF(ARCO!M101="","",ARCO!M101) -> AVOQUE | N101: ARCHIVO FISICO INSPECCION
A102: 96 | B102: =IF(ARCO!B102="","",ARCO!B102) -> MARZO | C102: =IF(ARCO!C102="","",ARCO!C102) | D102: =IF(ARCO!D102="","",ARCO!D102) -> 2020574490114194E | E102: =IF(ARCO!E102="","",ARCO!E102) -> 4118675 | F102: =IF(ARCO!F102="","",ARCO!F102) | G102: =IF(ARCO!G102="","",ARCO!G102) | H102: =IF(ARCO!H102="","",ARCO!H102) | I102: =IF(ARCO!I102="","",ARCO!I102) -> Pol 201 A # 0 - 0 OCUPACION 141 | ... M102: =IF(ARCO!M102="","",ARCO!M102) -> CITACION A AUDIENCIA | N102: ARCHIVO FISICO INSPECCION
A103: 97 | B103: =IF(ARCO!B103="","",ARCO!B103) -> MARZO | C103: =IF(ARCO!C103="","",ARCO!C103) | D103: =IF(ARCO!D103="","",ARCO!D103) -> 2019223490124490E | E103: =IF(ARCO!E103="","",ARCO!E103) -> 565000 | F103: =IF(ARCO!F103="","",ARCO!F103) | G103: =IF(ARCO!G103="","",ARCO!G103) | H103: =IF(ARCO!H103="","",ARCO!H103) | I103: =IF(ARCO!I103="","",ARCO!I103) -> NO REGISTRA DIRECCIÓN | ... M103: =IF(ARCO!M103="","",ARCO!M103) -> CITACION A AUDIENCIA | N103: ARCHIVO FISICO INSPECCION
...
