Workbook

Sheet LISTA
A1: 1 | B1: 2 | C1: 3 | D1: 4 | E1: 5 | F1: 6 | G1: 7 | H1: 8 | I1: 9 | J1: 10 | K1: 11 | L1: 12 | M1: 13 | N1: 14 | O1: 15 | P1: 16 | Q1: 17 | R1: 18 | S1: 19 | T1: 20 | U1: 21 | V1: 22 | W1: 23 | X1: 24 | Y1: 25 | Z1: 26 | AA1: 25
A2: ALFA TRADING S.A.S | B2: ARPA MEDICAL SAS | C2: ASSUT MEDICAL LTDA | D2: AYGPHARMA SAS | E2: BECTON DICKINSON DE COLOMBIA LTDA | F2: BIOPLAST SAS | G2: COMPANY MEDIQBOY OC SAS | H2: COMPAÑIA DE REPRESENTACIONES MEDICAS S A C T P MEDICA S A | I2: DISTRIBUIDORA COLOMBIANA DE MEDICAMENTOS S.A.S. – DISCOLMEDICA S.A.S | J2: INVERSIONES DRILLTEX SAS | K2: HOSPITECNICA SAS | L2: JOHNSON & JOHNSON DE COLOMBIA SA | M2: LABORATORIOS GOTHAPLAST LTDA | N2: LIFE SUMINISTROS MEDICOS SAS | O2: LM INSTRUMENTS S A | P2: MEDICAL GROUP ANMA S.A.S | Q2: MEDICOX LTDA | R2: NIPRO MEDICAL CORPORATION | S2: POLIMEDIC'S FARMACEUTICA S.A.S. | T2: ASEPSIS PRODUCTS DE COLOMBIA SOCIEDAD POR ACCIONES | U2: QUIRURGICOS LTDA | V2: RAFAEL ANTONIO SALAMANCA | W2: R P MEDICAS SA | X2: TECNOLOGÍAS MÉDICAS COLOMBIA SAS | Y2: KCI COLOMBIA SAS | Z2: TWITY S.A.S. | AA2: UCIPHARMA S.A.

Sheet EV ECONOMICA
B1: EVALUACION ECONOMICA | EJ1: Versión: | EK1: 2
EJ2: Fecha de aprobación: | EK2: 43326
EJ3: Código: | EK3: 15-00-FO-0009
EL4: 0.3
A5: 1. INVITACION IC-102-2022
A7: 2. OBJETO: SUMINISTRO DE INSUMOS Y DISPOSITIVOS MÉDICO QUIRÚRGICOS CON EL APOYO TECNOLÓGICO REQUERIDO, PARA LAS DIFERENTES ESPECIALIDADES DE ACUERDO CON LA DESCRIPCIÓN DEL ANEXO TÉCNICO, PARA LA NORMAL PRESTACIÓN DE LOS SERVICIOS DE SALUD DE LA SUBRED INTEGRADA DE SERVICIOS DE SALUD SUR OCCIDENTE E.S.E.
A8: 3. ITEM | B8: 4. DESCRIPCIÓN DISPOSITIVO MEDICO | C8: CARACTERISTICAS | D8: CANTIDAD | E8: UNIDAD | F8: CONSUMO PROMEDIO MES | G8: PRECIO UNITARIO DE REFERENCIA | H8: =LISTA!A2 -> ALFA TRADING S.A.S | M8: =LISTA!B2 -> ARPA MEDICAL SAS | R8: =LISTA!C2 -> ASSUT MEDICAL LTDA | W8: =LISTA!D2 -> AYGPHARMA SAS | AB8: =LISTA!E2 -> BECTON DICKINSON DE COLOMBIA LTDA | AG8: =LISTA!F2 -> BIOPLAST SAS | AL8: =LISTA!G2 -> COMPANY MEDIQBOY OC SAS | AQ8: =LISTA!H2 -> COMPAÑIA DE REPRESENTACIONES MEDICAS S A C T P MEDICA S A | AV8: =LISTA!I2 -> DISTRIBUIDORA COLOMBIANA DE MEDICAMENTOS S.A.S. – DISCOLMEDICA S.A.S | BA8: =LISTA!J2 -> INVERSIONES DRILLTEX SAS | BF8: =LISTA!K2 -> HOSPITECNICA SAS | BK8: =LISTA!L2 -> JOHNSON & JOHNSON DE COLOMBIA SA | BP8: =LISTA!M2 -> LABORATORIOS GOTHAPLAST LTDA | BU8: =LISTA!N2 -> LIFE SUMINISTROS MEDICOS SAS | BZ8: =LISTA!O2 -> LM INSTRUMENTS S A | CE8: =LISTA!P2 -> MEDICAL GROUP ANMA S.A.S | CJ8: =LISTA!Q2 -> MEDICOX LTDA | CO8: =LISTA!R2 -> NIPRO MEDICAL CORPORATION | CT8: =LISTA!S2 -> POLIMEDIC'S FARMACEUTICA S.A.S. | CY8: =LISTA!T2 -> ASEPSIS PRODUCTS DE COLOMBIA SOCIEDAD POR ACCIONES | DD8: =LISTA!U2 -> QUIRURGICOS LTDA | DI8: =LISTA!V2 -> RAFAEL ANTONIO SALAMANCA | DN8: =LISTA!W2 -> R P MEDICAS SA | DS8: =LISTA!X2 -> TECNOLOGÍAS MÉDICAS COLOMBIA SAS | DX8: =LISTA!Y2 -> KCI COLOMBIA SAS | EC8: =LISTA!Z2 -> TWITY S.A.S. | EH8: =LISTA!AA2 -> UCIPHARMA S.A.
H9: 7.PRECIO UNITARIO | I9: 8.IVA | J9: 9. PRECIO UNITARIO + IVA | K9: 10.VALOR TOTAL | L9: VERIFICACION PRECIOS UNITARIOS | M9: 7.PRECIO UNITARIO | N9: 8.IVA | O9: 9. PRECIO UNITARIO + IVA | P9: 10.VALOR TOTAL | Q9: VERIFICACION PRECIOS UNITARIOS | R9: 7.PRECIO UNITARIO | S9: 8.IVA | T9: 9. PRECIO UNITARIO + IVA | U9: 10.VALOR TOTAL | V9: VERIFICACION PRECIOS UNITARIOS | W9: 7.PRECIO UNITARIO | X9: 8.IVA | Y9: 9. PRECIO UNITARIO + IVA | Z9: 10.VALOR TOTAL | AA9: VERIFICACION PRECIOS UNITARIOS | AB9: 7.PRECIO UNITARIO | AC9: 8.IVA | AD9: 9. PRECIO UNITARIO + IVA | AE9: 10.VALOR TOTAL | AF9: VERIFICACION PRECIOS UNITARIOS | AG9: 7.PRECIO UNITARIO | AH9: 8.IVA | AI9: 9. PRECIO UNITARIO + IVA | AJ9: 10.VALOR TOTAL | AK9: VERIFICACION PRECIOS UNITARIOS | AL9: 7.PRECIO UNITARIO | AM9: 8.IVA | AN9: 9. PRECIO UNITARIO + IVA | AO9: 10.VALOR TOTAL | AP9: VERIFICACION PRECIOS UNITARIOS | AQ9: 7.PRECIO UNITARIO | AR9: 8.IVA | AS9: 9. PRECIO UNITARIO + IVA | AT9: 10.VALOR TOTAL | AU9: VERIFICACION PRECIOS UNITARIOS | AV9: 7.PRECIO UNITARIO | AW9: 8.IVA | AX9: 9. PRECIO UNITARIO + IVA | AY9: 10.VALOR TOTAL | AZ9: VERIFICACION PRECIOS UNITARIOS | BA9: 7.PRECIO UNITARIO | BB9: 8.IVA | BC9: 9. PRECIO UNITARIO + IVA | BD9: 10.VALOR TOTAL | BE9: VERIFICACION PRECIOS UNITARIOS | BF9: 7.PRECIO UNITARIO | BG9: 8.IVA | BH9: 9. PRECIO UNITARIO + IVA | BI9: 10.VALOR TOTAL | BJ9: VERIFICACION PRECIOS UNITARIOS | BK9: 7.PRECIO UNITARIO | BL9: 8.IVA | BM9: 9. PRECIO UNITARIO + IVA | BN9: 10.VALOR TOTAL | BO9: VERIFICACION PRECIOS UNITARIOS | BP9: 7.PRECIO UNITARIO | BQ9: 8.IVA | BR9: 9. PRECIO UNITARIO + IVA | BS9: 10.VALOR TOTAL | BT9: VERIFICACION PRECIOS UNITARIOS | BU9: 7.PRECIO UNITARIO | BV9: 8.IVA | BW9: 9. PRECIO UNITARIO + IVA | BX9: 10.VALOR TOTAL | BY9: VERIFICACION PRECIOS UNITARIOS | BZ9: 7.PRECIO UNITARIO | CA9: 8.IVA | CB9: 9. PRECIO UNITARIO + IVA | CC9: 10.VALOR TOTAL | CD9: VERIFICACION PRECIOS UNITARIOS | CE9: 7.PRECIO UNITARIO | CF9: 8.IVA | CG9: 9. PRECIO UNITARIO + IVA | CH9: 10.VALOR TOTAL | CI9: VERIFICACION PRECIOS UNITARIOS | CJ9: 7.PRECIO UNITARIO | CK9: 8.IVA | CL9: 9. PRECIO UNITARIO + IVA | CM9: 10.VALOR TOTAL | CN9: VERIFICACION PRECIOS UNITARIOS | CO9: 7.PRECIO UNITARIO | CP9: 8.IVA | CQ9: 9. PRECIO UNITARIO + IVA | CR9: 10.VALOR TOTAL | CS9: VERIFICACION PRECIOS UNITARIOS | CT9: 7.PRECIO UNITARIO | CU9: 8.IVA | CV9: 9. PRECIO UNITARIO + IVA | CW9: 10.VALOR TOTAL | CX9: VERIFICACION PRECIOS UNITARIOS | CY9: 7.PRECIO UNITARIO | CZ9: 8.IVA | DA9: 9. PRECIO UNITARIO + IVA | DB9: 10.VALOR TOTAL | DC9: VERIFICACION PRECIOS UNITARIOS | DD9: 7.PRECIO UNITARIO | DE9: 8.IVA | DF9: 9. PRECIO UNITARIO + IVA | DG9: 10.VALOR TOTAL | DH9: VERIFICACION PRECIOS UNITARIOS | DI9: 7.PRECIO UNITARIO | DJ9: 8.IVA | DK9: 9. PRECIO UNITARIO + IVA | DL9: 10.VALOR TOTAL | DM9: VERIFICACION PRECIOS UNITARIOS | DN9: 7.PRECIO UNITARIO | DO9: 8.IVA | DP9: 9. PRECIO UNITARIO + IVA | DQ9: 10.VALOR TOTAL | DR9: VERIFICACION PRECIOS UNITARIOS | DS9: 7.PRECIO UNITARIO | DT9: 8.IVA | DU9: 9. PRECIO UNITARIO + IVA | DV9: 10.VALOR TOTAL | DW9: VERIFICACION PRECIOS UNITARIOS | DX9: 7.PRECIO UNITARIO | DY9: 8.IVA | DZ9: 9. PRECIO UNITARIO + IVA | EA9: 10.VALOR TOTAL | EB9: VERIFICACION PRECIOS UNITARIOS | EC9: 7.PRECIO UNITARIO | ED9: 8.IVA | EE9: 9. PRECIO UNITARIO + IVA | EF9: 10.VALOR TOTAL | EG9: VERIFICACION PRECIOS UNITARIOS | EH9: 7.PRECIO UNITARIO | EI9: 8.IVA | EJ9: 9. PRECIO UNITARIO + IVA | EK9: 10.VALOR TOTAL | EL9: VERIFICACION PRECIOS UNITARIOS
A10: 1 | B10: ACIDO POLIGLICOLICO CALIBRE 0, AGUJA CURVA REDONDA DE 36 A 37 MM 1/2 CIRCULO, HEBRA DE 70 CM O MAS | C10: 1 UNIDAD DE SOBRE | D10: 1 | E10: UN | F10: 194.66667 | G10: 6912.829 | J10: =H10+I10 -> 0 | K10: =$D10*J10 -> 0 | L10: =+IF(J10=0,"NO OFERTADO",IF(J10<=($G10*(1+$EL$4)),"HABILITA","NO HABILITA")) -> NO OFERTADO | M10: 9100 | N10: 0 | O10: =M10+N10 -> 9100 | P10: =$D10*O10 -> 9100 | Q10: =+IF(O10=0,"NO OFERTADO",IF(O10<=($G10*(1+$EL$4)),"HABILITA","NO HABILITA")) -> NO HABILITA | R10: 6900 | S10: 0 | T10: =R10+S10 -> 6900 | U10: =$D10*T10 -> 6900 | V10: =+IF(T10=0,"NO OFERTADO",IF(T10<=($G10*(1+$EL$4)),"HABILITA","NO HABILITA")) -> HABILITA | Y10: =W10+X10 -> 0 | Z10: =$D10*Y10 -> 0 | AA10: =+IF(Y10=0,"NO OFERTADO",IF(Y10<=($G10*(1+$EL$4)),"HABILITA","NO HABILITA")) -> NO OFERTADO | AD10: =AB10+AC10 -> 0 | AE10: =$D10*AD10 -> 0 | AF10: =+IF(AD10=0,"NO OFERTADO",IF(AD10<=($G10*(1+$EL$4)),"HABILITA","NO HABILITA")) -> NO OFERTADO | AI10: =AG10+AH10 -> 0 | AJ10: =$D10*AI10 -> 0 | AK10: =+IF(AI10=0,"NO OFERTADO",IF(AI10<=($G10*(1+$EL$4)),"HABILITA","NO HABILITA")) -> NO OFERTADO | AN10: =AL10+AM10 -> 0 | AO10: =$D10*AN10 -> 0 | AP10: =+IF(AN10=0,"NO OFERTADO",IF(AN10<=($G10*(1+$EL$4)),"HABILITA","NO HABILITA")) -> NO OFERTADO | AS10: =AQ10+AR10 -> 0 | AT10: =$D10*AS10 -> 0 | AU10: =+IF(AS10=0,"NO OFERTADO",IF(AS10<=($G10*(1+$EL$4)),"HABILITA","NO HABILITA")) -> NO OFERTADO | AV10: 8068 | AW10: 0 | AX10: =AV10+AW10 -> 8068 | AY10: =$D10*AX10 -> 8068 | AZ10: =+IF(AX10=0,"NO OFERTADO",IF(AX10<=($G10*(1+$EL$4)),"HABILITA","NO HABILITA")) -> HABILITA | BB10: =BA10*0.19 -> 0 | BC10: =BA10+BB10 -> 0 | BD10: =$D10*BC10 -> 0 | BE10: =+IF(BC10=0,"NO OFERTADO",IF(BC10<=($G10*(1+$EL$4)),"HABILITA","NO HABILITA")) -> NO OFERTADO | BH10: =BF10+BG10 -> 0 | BI10: =$D10*BH10 -> 0 | BJ10: =+IF(BH10=0,"NO OFERTADO",IF(BH10<=($G10*(1+$EL$4)),"HABILITA","NO HABILITA")) -> NO OFERTADO | BK10: 5500 | BL10: 0 | BM10: =BK10+BL10 -> 5500 | BN10: =$D10*BM10 -> 5500 | BO10: =+IF(BM10=0,"NO OFERTADO",IF(BM10<=($G10*(1+$EL$4)),"HABILITA","NO HABILITA")) -> HABILITA | BR10: =BP10+BQ10 -> 0 | BS10: =$D10*BR10 -> 0 | BT10: =+IF(BR10=0,"NO OFERTADO",IF(BR10<=($G10*(1+$EL$4)),"HABILITA","NO HABILITA")) -> NO OFERTADO | BW10: =BU10+BV10 -> 0 | BX10: =$D10*BW10 -> 0 | BY10: =+IF(BW10=0,"NO OFERTADO",IF(BW10<=($G10*(1+$EL$4)),"HABILITA","NO HABILITA")) -> NO OFERTADO | CB10: =BZ10+CA10 -> 0 | CC10: =$D10*CB10 -> 0 | CD10: =+IF(CB10=0,"NO OFERTADO",IF(CB10<=($G10*(1+$EL$4)),"HABILITA","NO HABILITA")) -> NO OFERTADO | CG10: =CE10+CF10 -> 0 | CH10: =$D10*CG10 -> 0 | CI10: =+IF(CG10=0,"NO OFERTADO",IF(CG10<=($G10*(1+$EL$4)),"HABILITA","NO HABILITA")) -> NO OFERTADO | CJ10: 14321 | CK10: 0 | CL10: =CJ10+CK10 -> 14321 | CM10: =$D10*CL10 -> 14321 | CN10: =+IF(CL10=0,"NO OFERTADO",IF(CL10<=($G10*(1+$EL$4)),"HABILITA","NO HABILITA")) -> NO HABILITA | CQ10: =CO10+CP10 -> 0 | CR10: =$D10*CQ10 -> 0 | CS10: =+IF(CQ10=0,"NO OFERTADO",IF(CQ10<=($G10*(1+$EL$4)),"HABILITA","NO HABILITA")) -> NO OFERTADO | CT10: 6458 | CU10: 0 | CV10: =CT10+CU10 -> 6458 | CW10: =$D10*CV10 -> 6458 | CX10: =+IF(CV10=0,"NO OFERTADO",IF(CV10<=($G10*(1+$EL$4)),"HABILITA","NO HABILITA")) -> HABILITA | DA10: =CY10+CZ10 -> 0 | DB10: =$D10*DA10 -> 0 | DC10: =+IF(DA10=0,"NO OFERTADO",IF(DA10<=($G10*(1+$EL$4)),"HABILITA","NO HABILITA")) -> NO OFERTADO | DF10: =DD10+DE10 -> 0 | DG10: =$D10*DF10 -> 0 | DH10: =+IF(DF10=0,"NO OFERTADO",IF(DF10<=($G10*(1+$EL$4)),"HABILITA","NO HABILITA")) -> NO OFERTADO | DK10: =DI10+DJ10 -> 0 | DL10: =$D10*DK10 -> 0 | DM10: =+IF(DK10=0,"NO OFERTADO",IF(DK10<=($G10*(1+$EL$4)),"HABILITA","NO HABILITA")) -> NO OFERTADO | DP10: =DN10+DO10 -> 0 | DQ10: =$D10*DP10 -> 0 | DR10: =+IF(DP10=0,"NO OFERTADO",IF(DP10<=($G10*(1+$EL$4)),"HABILITA","NO HABILITA")) -> NO OFERTADO | DU10: =DS10+DT10 -> 0 | DV10: =$D10*DU10 -> 0 | DW10: =+IF(DU10=0,"NO OFERTADO",IF(DU10<=($G10*(1+$EL$4)),"HABILITA","NO HABILITA")) -> NO OFERTADO | DY10: =DX10*0.19 -> 0 | DZ10: =DX10+DY10 -> 0 | EA10: =$D10*DZ10 -> 0 | EB10: =+IF(DZ10=0,"NO OFERTADO",IF(DZ10<=($G10*(1+$EQ$4)),"HABILITA","NO HABILITA")) -> NO OFERTADO | EE10: =EC10+ED10 -> 0 | EF10: =$D10*EE10 -> 0 | EG10: =+IF(EE10=0,"NO OFERTADO",IF(EE10<=($G10*(1+$EQ$4)),"HABILITA","NO HABILITA")) -> NO OFERTADO | EJ10: =EH10+EI10 -> 0 | EK10: =$D10*EJ10 -> 0 | EL10: =+IF(EJ10=0,"NO OFERTADO",IF(EJ10<=($G10*(1+$EL$4)),"HABILITA","NO HABILITA")) -> NO OFERTADO
A11: 2 | B11: ACIDO POLIGLICOLICO CALIBRE 0, AGUJA CURVA REDONDA DE 24 A 26 MM 1/2 CIRCULO, HEBRA DE 70 CM O MAS | C11: 1 UNIDAD DE SOBRE | D11: 1 | E11: UN | F11: 32.333333 | G11: 6912.829 | J11: =H11+I11 -> 0 | K11: =$D11*J11 -> 0 | L11: =+IF(J11=0,"NO OFERTADO",IF(J11<=($G11*(1+$EL$4)),"HABILITA","NO HABILITA")) -> NO OFERTADO | M11: 9000 | N11: 0 | O11: =M11+N11 -> 9000 | P11: =$D11*O11 -> 9000 | Q11: =+IF(O11=0,"NO OFERTADO",IF(O11<=($G11*(1+$EL$4)),"HABILITA","NO HABILITA")) -> NO HABILITA | R11: 6300 | S11: 0 | T11: =R11+S11 -> 6300 | U11: =$D11*T11 -> 6300 | V11: =+IF(T11=0,"NO OFERTADO",IF(T11<=($G11*(1+$EL$4)),"HABILITA","NO HABILITA")) -> HABILITA | Y11: =W11+X11 -> 0 | Z11: =$D11*Y11 -> 0 | AA11: =+IF(Y11=0,"NO OFERTADO",IF(Y11<=($G11*(1+$EL$4)),"HABILITA","NO HABILITA")) -> NO OFERTADO | AD11: =AB11+AC11 -> 0 | AE11: =$D11*AD11 -> 0 | AF11: =+IF(AD11=0,"NO OFERTADO",IF(AD11<=($G11*(1+$EL$4)),"HABILITA","NO HABILITA")) -> NO OFERTADO | AI11: =AG11+AH11 -> 0 | AJ11: =$D11*AI11 -> 0 | AK11: =+IF(AI11=0,"NO OFERTADO",IF(AI11<=($G11*(1+$EL$4)),"HABILITA","NO HABILITA")) -> NO OFERTADO | AN11: =AL11+AM11 -> 0 | AO11: =$D11*AN11 -> 0 | AP11: =+IF(AN11=0,"NO OFERTADO",IF(AN11<=($G11*(1+$EL$4)),"HABILITA","NO HABILITA")) -> NO OFERTADO | AS11: =AQ11+AR11 -> 0 | AT11: =$D11*AS11 -> 0 | AU11: =+IF(AS11=0,"NO OFERTADO",IF(AS11<=($G11*(1+$EL$4)),"HABILITA","NO HABILITA")) -> NO OFERTADO | AV11: 7386 | AW11: 0 | AX11: =AV11+AW11 -> 7386 | AY11: =$D11*AX11 -> 7386 | AZ11: =+IF(AX11=0,"NO OFERTADO",IF(AX11<=($G11*(1+$EL$4)),"HABILITA","NO HABILITA")) -> HABILITA | BB11: =BA11*0.19 -> 0 | BC11: =BA11+BB11 -> 0 | BD11: =$D11*BC11 -> 0 | BE11: =+IF(BC11=0,"NO OFERTADO",IF(BC11<=($G11*(1+$EL$4)),"HABILITA","NO HABILITA")) -> NO OFERTADO | BH11: =BF11+BG11 -> 0 | BI11: =$D11*BH11 -> 0 | BJ11: =+IF(BH11=0,"NO OFERTADO",IF(BH11<=($G11*(1+$EL$4)),"HABILITA","NO HABILITA")) -> NO OFERTADO | BK11: 5500 | BL11: 0 | BM11: =BK11+BL11 -> 5500 | BN11: =$D11*BM11 -> 5500 | BO11: =+IF(BM11=0,"NO OFERTADO",IF(BM11<=($G11*(1+$EL$4)),"HABILITA","NO HABILITA")) -> HABILITA | BR11: =BP11+BQ11 -> 0 | BS11: =$D11*BR11 -> 0 | BT11: =+IF(BR11=0,"NO OFERTADO",IF(BR11<=($G11*(1+$EL$4)),"HABILITA","NO HABILITA")) -> NO OFERTADO | BW11: =BU11+BV11 -> 0 | BX11: =$D11*BW11 -> 0 | BY11: =+IF(BW11=0,"NO OFERTADO",IF(BW11<=($G11*(1+$EL$4)),"HABILITA","NO HABILITA")) -> NO OFERTADO | CB11: =BZ11+CA11 -> 0 | CC11: =$D11*CB11 -> 0 | CD11: =+IF(CB11=0,"NO OFERTADO",IF(CB11<=($G11*(1+$EL$4)),"HABILITA","NO HABILITA")) -> NO OFERTADO | CG11: =CE11+CF11 -> 0 | CH11: =$D11*CG11 -> 0 | CI11: =+IF(CG11=0,"NO OFERTADO",IF(CG11<=($G11*(1+$EL$4)),"HABILITA","NO HABILITA")) -> NO OFERTADO | CL11: =CJ11+CK11 -> 0 | CM11: =$D11*CL11 -> 0 | CN11: =+IF(CL11=0,"NO OFERTADO",IF(CL11<=($G11*(1+$EL$4)),"HABILITA","NO HABILITA")) -> NO OFERTADO | CQ11: =CO11+CP11 -> 0 | CR11: =$D11*CQ11 -> 0 | CS11: =+IF(CQ11=0,"NO OFERTADO",IF(CQ11<=($G11*(1+$EL$4)),"HABILITA","NO HABILITA")) -> NO OFERTADO | CT11: 6458 | CU11: 0 | CV11: =CT11+CU11 -> 6458 | CW11: =$D11*CV11 -> 6458 | CX11: =+IF(CV11=0,"NO OFERTADO",IF(CV11<=($G11*(1+$EL$4)),"HABILITA","NO HABILITA")) -> HABILITA | DA11: =CY11+CZ11 -> 0 | DB11: =$D11*DA11 -> 0 | DC11: =+IF(DA11=0,"NO OFERTADO",IF(DA11<=($G11*(1+$EL$4)),"HABILITA","NO HABILITA")) -> NO OFERTADO | DF11: =DD11+DE11 -> 0 | DG11: =$D11*DF11 -> 0 | DH11: =+IF(DF11=0,"NO OFERTADO",IF(DF11<=($G11*(1+$EL$4)),"HABILITA","NO HABILITA")) -> NO OFERTADO | DK11: =DI11+DJ11 -> 0 | DL11: =$D11*DK11 -> 0 | DM11: =+IF(DK11=0,"NO OFERTADO",IF(DK11<=($G11*(1+$EL$4)),"HABILITA","NO HABILITA")) -> NO OFERTADO | DP11: =DN11+DO11 -> 0 | DQ11: =$D11*DP11 -> 0 | DR11: =+IF(DP11=0,"NO OFERTADO",IF(DP11<=($G11*(1+$EL$4)),"HABILITA","NO HABILITA")) -> NO OFERTADO | DU11: =DS11+DT11 -> 0 | DV11: =$D11*DU11 -> 0 | DW11: =+IF(DU11=0,"NO OFERTADO",IF(DU11<=($G11*(1+$EL$4)),"HABILITA","NO HABILITA")) -> NO OFERTADO | DY11: =DX11*0.19 -> 0 | DZ11: =DX11+DY11 -> 0 | EA11: =$D11*DZ11 -> 0 | EB11: =+IF(DZ11=0,"NO OFERTADO",IF(DZ11<=($G11*(1+$EQ$4)),"HABILITA","NO HABILITA")) -> NO OFERTADO | EE11: =EC11+ED11 -> 0 | EF11: =$D11*EE11 -> 0 | EG11: =+IF(EE11=0,"NO OFERTADO",IF(EE11<=($G11*(1+$EQ$4)),"HABILITA","NO HABILITA")) -> NO OFERTADO | EJ11: =EH11+EI11 -> 0 | EK11: =$D11*EJ11 -> 0 | EL11: =+IF(EJ11=0,"NO OFERTADO",IF(EJ11<=($G11*(1+$EL$4)),"HABILITA","NO HABILITA")) -> NO OFERTADO
A12: 3 | B12: ACIDO POLIGLICOLICO CALIBRE 3/0, AGUJA CURVA REDONDA DE 24 A 26 MM 1/2 CIRCULO, HEBRA DE 70 CM O MAS | C12: 1 UNIDAD DE SOBRE | D12: 1 | E12: UN | F12: 209 | G12: 10100 | J12: =H12+I12 -> 0 | K12: =$D12*J12 -> 0 | L12: =+IF(J12=0,"NO OFERTADO",IF(J12<=($G12*(1+$EL$4)),"HABILITA","NO HABILITA")) -> NO OFERTADO | M12: 9100 | N12: 0 | O12: =M12+N12 -> 9100 | P12: =$D12*O12 -> 9100 | Q12: =+IF(O12=0,"NO OFERTADO",IF(O12<=($G12*(1+$EL$4)),"HABILITA","NO HABILITA")) -> HABILITA | R12: 6200 | S12: 0 | T12: =R12+S12 -> 6200 | U12: =$D12*T12 -> 6200 | V12: =+IF(T12=0,"NO OFERTADO",IF(T12<=($G12*(1+$EL$4)),"HABILITA","NO HABILITA")) -> HABILITA | Y12: =W12+X12 -> 0 | Z12: =$D12*Y12 -> 0 | AA12: =+IF(Y12=0,"NO OFERTADO",IF(Y12<=($G12*(1+$EL$4)),"HABILITA","NO HABILITA")) -> NO OFERTADO | AD12: =AB12+AC12 -> 0 | AE12: =$D12*AD12 -> 0 | AF12: =+IF(AD12=0,"NO OFERTADO",IF(AD12<=($G12*(1+$EL$4)),"HABILITA","NO HABILITA")) -> NO OFERTADO | AI12: =AG12+AH12 -> 0 | AJ12: =$D12*AI12 -> 0 | AK12: =+IF(AI12=0,"NO OFERTADO",IF(AI12<=($G12*(1+$EL$4)),"HABILITA","NO HABILITA")) -> NO OFERTADO | AN12: =AL12+AM12 -> 0 | AO12: =$D12*AN12 -> 0 | AP12: =+IF(AN12=0,"NO OFERTADO",IF(AN12<=($G12*(1+$EL$4)),"HABILITA","NO HABILITA")) -> NO OFERTADO | AS12: =AQ12+AR12 -> 0 | AT12: =$D12*AS12 -> 0 | AU12: =+IF(AS12=0,"NO OFERTADO",IF(AS12<=($G12*(1+$EL$4)),"HABILITA","NO HABILITA")) -> NO OFERTADO | AV12: 8000 | AW12: 0 | AX12: =AV12+AW12 -> 8000 | AY12: =$D12*AX12 -> 8000 | AZ12: =+IF(AX12=0,"NO OFERTADO",IF(AX12<=($G12*(1+$EL$4)),"HABILITA","NO HABILITA")) -> HABILITA | BB12: =BA12*0.19 -> 0 | BC12: =BA12+BB12 -> 0 | BD12: =$D12*BC12 -> 0 | BE12: =+IF(BC12=0,"NO OFERTADO",IF(BC12<=($G12*(1+$EL$4)),"HABILITA","NO HABILITA")) -> NO OFERTADO | BH12: =BF12+BG12 -> 0 | BI12: =$D12*BH12 -> 0 | BJ12: =+IF(BH12=0,"NO OFERTADO",IF(BH12<=($G12*(1+$EL$4)),"HABILITA","NO HABILITA")) -> NO OFERTADO | BK12: 7550 | BL12: 0 | BM12: =BK12+BL12 -> 7550 | BN12: =$D12*BM12 -> 7550 | BO12: =+IF(BM12=0,"NO OFERTADO",IF(BM12<=($G12*(1+$EL$4)),"HABILITA","NO HABILITA")) -> HABILITA | BR12: =BP12+BQ12 -> 0 | BS12: =$D12*BR12 -> 0 | BT12: =+IF(BR12=0,"NO OFERTADO",IF(BR12<=($G12*(1+$EL$4)),"HABILITA","NO HABILITA")) -> NO OFERTADO | BW12: =BU12+BV12 -> 0 | BX12: =$D12*BW12 -> 0 | BY12: =+IF(BW12=0,"NO OFERTADO",IF(BW12<=($G12*(1+$EL$4)),"HABILITA","NO HABILITA")) -> NO OFERTADO | CB12: =BZ12+CA12 -> 0 | CC12: =$D12*CB12 -> 0 | CD12: =+IF(CB12=0,"NO OFERTADO",IF(CB12<=($G12*(1+$EL$4)),"HABILITA","NO HABILITA")) -> NO OFERTADO | CG12: =CE12+CF12 -> 0 | CH12: =$D12*CG12 -> 0 | CI12: =+IF(CG12=0,"NO OFERTADO",IF(CG12<=($G12*(1+$EL$4)),"HABILITA","NO HABILITA")) -> NO OFERTADO | CL12: =CJ12+CK12 -> 0 | CM12: =$D12*CL12 -> 0 | CN12: =+IF(CL12=0,"NO OFERTADO",IF(CL12<=($G12*(1+$EL$4)),"HABILITA","NO HABILITA")) -> NO OFERTADO | CQ12: =CO12+CP12 -> 0 | CR12: =$D12*CQ12 -> 0 | CS12: =+IF(CQ12=0,"NO OFERTADO",IF(CQ12<=($G12*(1+$EL$4)),"HABILITA","NO HABILITA")) -> NO OFERTADO | CT12: 5698 | CU12: 0 | CV12: =CT12+CU12 -> 5698 | CW12: =$D12*CV12 -> 5698 | CX12: =+IF(CV12=0,"NO OFERTADO",IF(CV12<=($G12*(1+$EL$4)),"HABILITA","NO HABILITA")) -> HABILITA | DA12: =CY12+CZ12 -> 0 | DB12: =$D12*DA12 -> 0 | DC12: =+IF(DA12=0,"NO OFERTADO",IF(DA12<=($G12*(1+$EL$4)),"HABILITA","NO HABILITA")) -> NO OFERTADO | DF12: =DD12+DE12 -> 0 | DG12: =$D12*DF12 -> 0 | DH12: =+IF(DF12=0,"NO OFERTADO",IF(DF12<=($G12*(1+$EL$4)),"HABILITA","NO HABILITA")) -> NO OFERTADO | DK12: =DI12+DJ12 -> 0 | DL12: =$D12*DK12 -> 0 | DM12: =+IF(DK12=0,"NO OFERTADO",IF(DK12<=($G12*(1+$EL$4)),"HABILITA","NO HABILITA")) -> NO OFERTADO | DP12: =DN12+DO12 -> 0 | DQ12: =$D12*DP12 -> 0 | DR12: =+IF(DP12=0,"NO OFERTADO",IF(DP12<=($G12*(1+$EL$4)),"HABILITA","NO HABILITA")) -> NO OFERTADO | DU12: =DS12+DT12 -> 0 | DV12: =$D12*DU12 -> 0 | DW12: =+IF(DU12=0,"NO OFERTADO",IF(DU12<=($G12*(1+$EL$4)),"HABILITA","NO HABILITA")) -> NO OFERTADO | DY12: =DX12*0.19 -> 0 | DZ12: =DX12+DY12 -> 0 | EA12: =$D12*DZ12 -> 0 | EB12: =+IF(DZ12=0,"NO OFERTADO",IF(DZ12<=($G12*(1+$EQ$4)),"HABILITA","NO HABILITA")) -> NO OFERTADO | EE12: =EC12+ED12 -> 0 | EF12: =$D12*EE12 -> 0 | EG12: =+IF(EE12=0,"NO OFERTADO",IF(EE12<=($G12*(1+$EQ$4)),"HABILITA","NO HABILITA")) -> NO OFERTADO | EJ12: =EH12+EI12 -> 0 | EK12: =$D12*EJ12 -> 0 | EL12: =+IF(EJ12=0,"NO OFERTADO",IF(EJ12<=($G12*(1+$EL$4)),"HABILITA","NO HABILITA")) -> NO OFERTADO
A13: 4 | B13: ACIDO POLIGLICOLICO CALIBRE 6/0, AGUJA CURVA REDONDA DE 15 A 16 MM 1/2 CIRCULO, HEBRA DE 70 CM O MAS | C13: 1 UNIDAD DE SOBRE | D13: 1 | E13: UN | F13: 1 | G13: 7475 | J13: =H13+I13 -> 0 | K13: =$D13*J13 -> 0 | L13: =+IF(J13=0,"NO OFERTADO",IF(J13<=($G13*(1+$EL$4)),"HABILITA","NO HABILITA")) -> NO OFERTADO | M13: 11000 | N13: 0 | O13: =M13+N13 -> 11000 | P13: =$D13*O13 -> 11000 | Q13: =+IF(O13=0,"NO OFERTADO",IF(O13<=($G13*(1+$EL$4)),"HABILITA","NO HABILITA")) -> NO HABILITA | T13: =R13+S13 -> 0 | U13: =$D13*T13 -> 0 | V13: =+IF(T13=0,"NO OFERTADO",IF(T13<=($G13*(1+$EL$4)),"HABILITA","NO HABILITA")) -> NO OFERTADO | Y13: =W13+X13 -> 0 | Z13: =$D13*Y13 -> 0 | AA13: =+IF(Y13=0,"NO OFERTADO",IF(Y13<=($G13*(1+$EL$4)),"HABILITA","NO HABILITA")) -> NO OFERTADO | AD13: =AB13+AC13 -> 0 | AE13: =$D13*AD13 -> 0 | AF13: =+IF(AD13=0,"NO OFERTADO",IF(AD13<=($G13*(1+$EL$4)),"HABILITA","NO HABILITA")) -> NO OFERTADO | AI13: =AG13+AH13 -> 0 | AJ13: =$D13*AI13 -> 0 | AK13: =+IF(AI13=0,"NO OFERTADO",IF(AI13<=($G13*(1+$EL$4)),"HABILITA","NO HABILITA")) -> NO OFERTADO | AN13: =AL13+AM13 -> 0 | AO13: =$D13*AN13 -> 0 | AP13: =+IF(AN13=0,"NO OFERTADO",IF(AN13<=($G13*(1+$EL$4)),"HABILITA","NO HABILITA")) -> NO OFERTADO | AS13: =AQ13+AR13 -> 0 | AT13: =$D13*AS13 -> 0 | AU13: =+IF(AS13=0,"NO OFERTADO",IF(AS13<=($G13*(1+$EL$4)),"HABILITA","NO HABILITA")) -> NO OFERTADO | AX13: =AV13+AW13 -> 0 | AY13: =$D13*AX13 -> 0 | AZ13: =+IF(AX13=0,"NO OFERTADO",IF(AX13<=($G13*(1+$EL$4)),"HABILITA","NO HABILITA")) -> NO OFERTADO | BB13: =BA13*0.19 -> 0 | BC13: =BA13+BB13 -> 0 | BD13: =$D13*BC13 -> 0 | BE13: =+IF(BC13=0,"NO OFERTADO",IF(BC13<=($G13*(1+$EL$4)),"HABILITA","NO HABILITA")) -> NO OFERTADO | BH13: =BF13+BG13 -> 0 | BI13: =$D13*BH13 -> 0 | BJ13: =+IF(BH13=0,"NO OFERTADO",IF(BH13<=($G13*(1+$EL$4)),"HABILITA","NO HABILITA")) -> NO OFERTADO | BK13: 6500 | BL13: 0 | BM13: =BK13+BL13 -> 6500 | BN13: =$D13*BM13 -> 6500 | BO13: =+IF(BM13=0,"NO OFERTADO",IF(BM13<=($G13*(1+$EL$4)),"HABILITA","NO HABILITA")) -> HABILITA | BR13: =BP13+BQ13 -> 0 | BS13: =$D13*BR13 -> 0 | BT13: =+IF(BR13=0,"NO OFERTADO",IF(BR13<=($G13*(1+$EL$4)),"HABILITA","NO HABILITA")) -> NO OFERTADO | BW13: =BU13+BV13 -> 0 | BX13: =$D13*BW13 -> 0 | BY13: =+IF(BW13=0,"NO OFERTADO",IF(BW13<=($G13*(1+$EL$4)),"HABILITA","NO HABILITA")) -> NO OFERTADO | CB13: =BZ13+CA13 -> 0 | CC13: =$D13*CB13 -> 0 | CD13: =+IF(CB13=0,"NO OFERTADO",IF(CB13<=($G13*(1+$EL$4)),"HABILITA","NO HABILITA")) -> NO OFERTADO | CG13: =CE13+CF13 -> 0 | CH13: =$D13*CG13 -> 0 | CI13: =+IF(CG13=0,"NO OFERTADO",IF(CG13<=($G13*(1+$EL$4)),"HABILITA","NO HABILITA")) -> NO OFERTADO | CL13: =CJ13+CK13 -> 0 | CM13: =$D13*CL13 -> 0 | CN13: =+IF(CL13=0,"NO OFERTADO",IF(CL13<=($G13*(1+$EL$4)),"HABILITA","NO HABILITA")) -> NO OFERTADO | CQ13: =CO13+CP13 -> 0 | CR13: =$D13*CQ13 -> 0 | CS13: =+IF(CQ13=0,"NO OFERTADO",IF(CQ13<=($G13*(1+$EL$4)),"HABILITA","NO HABILITA")) -> NO OFERTADO | CT13: 7020 | CU13: 0 | CV13: =CT13+CU13 -> 7020 | CW13: =$D13*CV13 -> 7020 | CX13: =+IF(CV13=0,"NO OFERTADO",IF(CV13<=($G13*(1+$EL$4)),"HABILITA","NO HABILITA")) -> HABILITA | DA13: =CY13+CZ13 -> 0 | DB13: =$D13*DA13 -> 0 | DC13: =+IF(DA13=0,"NO OFERTADO",IF(DA13<=($G13*(1+$EL$4)),"HABILITA","NO HABILITA")) -> NO OFERTADO | DF13: =DD13+DE13 -> 0 | DG13: =$D13*DF13 -> 0 | DH13: =+IF(DF13=0,"NO OFERTADO",IF(DF13<=($G13*(1+$EL$4)),"HABILITA","NO HABILITA")) -> NO OFERTADO | DK13: =DI13+DJ13 -> 0 | DL13: =$D13*DK13 -> 0 | DM13: =+IF(DK13=0,"NO OFERTADO",IF(DK13<=($G13*(1+$EL$4)),"HABILITA","NO HABILITA")) -> NO OFERTADO | DP13: =DN13+DO13 -> 0 | DQ13: =$D13*DP13 -> 0 | DR13: =+IF(DP13=0,"NO OFERTADO",IF(DP13<=($G13*(1+$EL$4)),"HABILITA","NO HABILITA")) -> NO OFERTADO | DU13: =DS13+DT13 -> 0 | DV13: =$D13*DU13 -> 0 | DW13: =+IF(DU13=0,"NO OFERTADO",IF(DU13<=($G13*(1+$EL$4)),"HABILITA","NO HABILITA")) -> NO OFERTADO | DY13: =DX13*0.19 -> 0 | DZ13: =DX13+DY13 -> 0 | EA13: =$D13*DZ13 -> 0 | EB13: =+IF(DZ13=0,"NO OFERTADO",IF(DZ13<=($G13*(1+$EQ$4)),"HABILITA","NO HABILITA")) -> NO OFERTADO | EE13: =EC13+ED13 -> 0 | EF13: =$D13*EE13 -> 0 | EG13: =+IF(EE13=0,"NO OFERTADO",IF(EE13<=($G13*(1+$EQ$4)),"HABILITA","NO HABILITA")) -> NO OFERTADO | EJ13: =EH13+EI13 -> 0 | EK13: =$D13*EJ13 -> 0 | EL13: =+IF(EJ13=0,"NO OFERTADO",IF(EJ13<=($G13*(1+$EL$4)),"HABILITA","NO HABILITA")) -> NO OFERTADO
A14: 5 | B14: ACIDO POLIGLICOLICO CALIBRE 7/0 DOBLE AGUJA ESPATULADA DE 6,4 A 6,5 MM 3/8 DE CIRCULO, HEBRA DE 30 CM O MAS | C14: 1 UNIDAD DE SOBRE | D14: 1 | E14: UN | F14: 1 | G14: 34500 | J14: =H14+I14 -> 0 | K14: =$D14*J14 -> 0 | L14: =+IF(J14=0,"NO OFERTADO",IF(J14<=($G14*(1+$EL$4)),"HABILITA","NO HABILITA")) -> NO OFERTADO | M14: 29600 | N14: 0 | O14: =M14+N14 -> 29600 | P14: =$D14*O14 -> 29600 | Q14: =+IF(O14=0,"NO OFERTADO",IF(O14<=($G14*(1+$EL$4)),"HABILITA","NO HABILITA")) -> HABILITA | R14: 22000 | S14: 0 | T14: =R14+S14 -> 22000 | U14: =$D14*T14 -> 22000 | V14: =+IF(T14=0,"NO OFERTADO",IF(T14<=($G14*(1+$EL$4)),"HABILITA","NO HABILITA")) -> HABILITA | Y14: =W14+X14 -> 0 | Z14: =$D14*Y14 -> 0 | AA14: =+IF(Y14=0,"NO OFERTADO",IF(Y14<=($G14*(1+$EL$4)),"HABILITA","NO HABILITA")) -> NO OFERTADO | AD14: =AB14+AC14 -> 0 | AE14: =$D14*AD14 -> 0 | AF14: =+IF(AD14=0,"NO OFERTADO",IF(AD14<=($G14*(1+$EL$4)),"HABILITA","NO HABILITA")) -> NO OFERTADO | AI14: =AG14+AH14 -> 0 | AJ14: =$D14*AI14 -> 0 | AK14: =+IF(AI14=0,"NO OFERTADO",IF(AI14<=($G14*(1+$EL$4)),"HABILITA","NO HABILITA")) -> NO OFERTADO | AN14: =AL14+AM14 -> 0 | AO14: =$D14*AN14 -> 0 | AP14: =+IF(AN14=0,"NO OFERTADO",IF(AN14<=($G14*(1+$EL$4)),"HABILITA","NO HABILITA")) -> NO OFERTADO | AS14: =AQ14+AR14 -> 0 | AT14: =$D14*AS14 -> 0 | AU14: =+IF(AS14=0,"NO OFERTADO",IF(AS14<=($G14*(1+$EL$4)),"HABILITA","NO HABILITA")) -> NO OFERTADO | AX14: =AV14+AW14 -> 0 | AY14: =$D14*AX14 -> 0 | AZ14: =+IF(AX14=0,"NO OFERTADO",IF(AX14<=($G14*(1+$EL$4)),"HABILITA","NO HABILITA")) -> NO OFERTADO | BB14: =BA14*0.19 -> 0 | BC14: =BA14+BB14 -> 0 | BD14: =$D14*BC14 -> 0 | BE14: =+IF(BC14=0,"NO OFERTADO",IF(BC14<=($G14*(1+$EL$4)),"HABILITA","NO HABILITA")) -> NO OFERTADO | BH14: =BF14+BG14 -> 0 | BI14: =$D14*BH14 -> 0 | BJ14: =+IF(BH14=0,"NO OFERTADO",IF(BH14<=($G14*(1+$EL$4)),"HABILITA","NO HABILITA")) -> NO OFERTADO | BK14: 30000 | BL14: 0 | BM14: =BK14+BL14 -> 30000 | BN14: =$D14*BM14 -> 30000 | BO14: =+IF(BM14=0,"NO OFERTADO",IF(BM14<=($G14*(1+$EL$4)),"HABILITA","NO HABILITA")) -> HABILITA | BR14: =BP14+BQ14 -> 0 | BS14: =$D14*BR14 -> 0 | BT14: =+IF(BR14=0,"NO OFERTADO",IF(BR14<=($G14*(1+$EL$4)),"HABILITA","NO HABILITA")) -> NO OFERTADO | BW14: =BU14+BV14 -> 0 | BX14: =$D14*BW14 -> 0 | BY14: =+IF(BW14=0,"NO OFERTADO",IF(BW14<=($G14*(1+$EL$4)),"HABILITA","NO HABILITA")) -> NO OFERTADO | CB14: =BZ14+CA14 -> 0 | CC14: =$D14*CB14 -> 0 | CD14: =+IF(CB14=0,"NO OFERTADO",IF(CB14<=($G14*(1+$EL$4)),"HABILITA","NO HABILITA")) -> NO OFERTADO | CG14: =CE14+CF14 -> 0 | CH14: =$D14*CG14 -> 0 | CI14: =+IF(CG14=0,"NO OFERTADO",IF(CG14<=($G14*(1+$EL$4)),"HABILITA","NO HABILITA")) -> NO OFERTADO | CL14: =CJ14+CK14 -> 0 | CM14: =$D14*CL14 -> 0 | CN14: =+IF(CL14=0,"NO OFERTADO",IF(CL14<=($G14*(1+$EL$4)),"HABILITA","NO HABILITA")) -> NO OFERTADO | CQ14: =CO14+CP14 -> 0 | CR14: =$D14*CQ14 -> 0 | CS14: =+IF(CQ14=0,"NO OFERTADO",IF(CQ14<=($G14*(1+$EL$4)),"HABILITA","NO HABILITA")) -> NO OFERTADO | CV14: =CT14+CU14 -> 0 | CW14: =$D14*CV14 -> 0 | CX14: =+IF(CV14=0,"NO OFERTADO",IF(CV14<=($G14*(1+$EL$4)),"HABILITA","NO HABILITA")) -> NO OFERTADO | DA14: =CY14+CZ14 -> 0 | DB14: =$D14*DA14 -> 0 | DC14: =+IF(DA14=0,"NO OFERTADO",IF(DA14<=($G14*(1+$EL$4)),"HABILITA","NO HABILITA")) -> NO OFERTADO | DF14: =DD14+DE14 -> 0 | DG14: =$D14*DF14 -> 0 | DH14: =+IF(DF14=0,"NO OFERTADO",IF(DF14<=($G14*(1+$EL$4)),"HABILITA","NO HABILITA")) -> NO OFERTADO | DK14: =DI14+DJ14 -> 0 | DL14: =$D14*DK14 -> 0 | DM14: =+IF(DK14=0,"NO OFERTADO",IF(DK14<=($G14*(1+$EL$4)),"HABILITA","NO HABILITA")) -> NO OFERTADO | DP14: =DN14+DO14 -> 0 | DQ14: =$D14*DP14 -> 0 | DR14: =+IF(DP14=0,"NO OFERTADO",IF(DP14<=($G14*(1+$EL$4)),"HABILITA","NO HABILITA")) -> NO OFERTADO | DU14: =DS14+DT14 -> 0 | DV14: =$D14*DU14 -> 0 | DW14: =+IF(DU14=0,"NO OFERTADO",IF(DU14<=($G14*(1+$EL$4)),"HABILITA","NO HABILITA")) -> NO OFERTADO | DY14: =DX14*0.19 -> 0 | DZ14: =DX14+DY14 -> 0 | EA14: =$D14*DZ14 -> 0 | EB14: =+IF(DZ14=0,"NO OFERTADO",IF(DZ14<=($G14*(1+$EQ$4)),"HABILITA","NO HABILITA")) -> NO OFERTADO | EE14: =EC14+ED14 -> 0 | EF14: =$D14*EE14 -> 0 | EG14: =+IF(EE14=0,"NO OFERTADO",IF(EE14<=($G14*(1+$EQ$4)),"HABILITA","NO HABILITA")) -> NO OFERTADO | EJ14: =EH14+EI14 -> 0 | EK14: =$D14*EJ14 -> 0 | EL14: =+IF(EJ14=0,"NO OFERTADO",IF(EJ14<=($G14*(1+$EL$4)),"HABILITA","NO HABILITA")) -> NO OFERTADO
A15: 6 | B15: ACIDO POLIGLICOLICO CALIBRE 8/0 DOBLE AGUJA ESPATULADA DE 6,4 A 6,5 MM 3/8 DE CIRCULO, HEBRA DE 20 CM O MAS | C15: 1 UNIDAD DE SOBRE | D15: 1 | E15: UN | F15: 1 | G15: 34500 | J15: =H15+I15 -> 0 | K15: =$D15*J15 -> 0 | L15: =+IF(J15=0,"NO OFERTADO",IF(J15<=($G15*(1+$EL$4)),"HABILITA","NO HABILITA")) -> NO OFERTADO | N15: 0 | O15: =M15+N15 -> 0 | P15: =$D15*O15 -> 0 | Q15: =+IF(O15=0,"NO OFERTADO",IF(O15<=($G15*(1+$EL$4)),"HABILITA","NO HABILITA")) -> NO OFERTADO | R15: 20000 | S15: 0 | T15: =R15+S15 -> 20000 | U15: =$D15*T15 -> 20000 | V15: =+IF(T15=0,"NO OFERTADO",IF(T15<=($G15*(1+$EL$4)),"HABILITA","NO HABILITA")) -> HABILITA | Y15: =W15+X15 -> 0 | Z15: =$D15*Y15 -> 0 | AA15: =+IF(Y15=0,"NO OFERTADO",IF(Y15<=($G15*(1+$EL$4)),"HABILITA","NO HABILITA")) -> NO OFERTADO | AD15: =AB15+AC15 -> 0 | AE15: =$D15*AD15 -> 0 | AF15: =+IF(AD15=0,"NO OFERTADO",IF(AD15<=($G15*(1+$EL$4)),"HABILITA","NO HABILITA")) -> NO OFERTADO | AI15: =AG15+AH15 -> 0 | AJ15: =$D15*AI15 -> 0 | AK15: =+IF(AI15=0,"NO OFERTADO",IF(AI15<=($G15*(1+$EL$4)),"HABILITA","NO HABILITA")) -> NO OFERTADO | AN15: =AL15+AM15 -> 0 | AO15: =$D15*AN15 -> 0 | AP15: =+IF(AN15=0,"NO OFERTADO",IF(AN15<=($G15*(1+$EL$4)),"HABILITA","NO HABILITA")) -> NO OFERTADO | AS15: =AQ15+AR15 -> 0 | AT15: =$D15*AS15 -> 0 | AU15: =+IF(AS15=0,"NO OFERTADO",IF(AS15<=($G15*(1+$EL$4)),"HABILITA","NO HABILITA")) -> NO OFERTADO | AV15: 33409 | AW15: 0 | AX15: =AV15+AW15 -> 33409 | AY15: =$D15*AX15 -> 33409 | AZ15: =+IF(AX15=0,"NO OFERTADO",IF(AX15<=($G15*(1+$EL$4)),"HABILITA","NO HABILITA")) -> HABILITA | BB15: =BA15*0.19 -> 0 | BC15: =BA15+BB15 -> 0 | BD15: =$D15*BC15 -> 0 | BE15: =+IF(BC15=0,"NO OFERTADO",IF(BC15<=($G15*(1+$EL$4)),"HABILITA","NO HABILITA")) -> NO OFERTADO | BH15: =BF15+BG15 -> 0 | BI15: =$D15*BH15 -> 0 | BJ15: =+IF(BH15=0,"NO OFERTADO",IF(BH15<=($G15*(1+$EL$4)),"HABILITA","NO HABILITA")) -> NO OFERTADO | BK15: 30000 | BL15: 0 | BM15: =BK15+BL15 -> 30000 | BN15: =$D15*BM15 -> 30000 | BO15: =+IF(BM15=0,"NO OFERTADO",IF(BM15<=($G15*(1+$EL$4)),"HABILITA","NO HABILITA")) -> HABILITA | BR15: =BP15+BQ15 -> 0 | BS15: =$D15*BR15 -> 0 | BT15: =+IF(BR15=0,"NO OFERTADO",IF(BR15<=($G15*(1+$EL$4)),"HABILITA","NO HABILITA")) -> NO OFERTADO | BW15: =BU15+BV15 -> 0 | BX15: =$D15*BW15 -> 0 | BY15: =+IF(BW15=0,"NO OFERTADO",IF(BW15<=($G15*(1+$EL$4)),"HABILITA","NO HABILITA")) -> NO OFERTADO | CB15: =BZ15+CA15 -> 0 | CC15: =$D15*CB15 -> 0 | CD15: =+IF(CB15=0,"NO OFERTADO",IF(CB15<=($G15*(1+$EL$4)),"HABILITA","NO HABILITA")) -> NO OFERTADO | CG15: =CE15+CF15 -> 0 | CH15: =$D15*CG15 -> 0 | CI15: =+IF(CG15=0,"NO OFERTADO",IF(CG15<=($G15*(1+$EL$4)),"HABILITA","NO HABILITA")) -> NO OFERTADO | CL15: =CJ15+CK15 -> 0 | CM15: =$D15*CL15 -> 0 | CN15: =+IF(CL15=0,"NO OFERTADO",IF(CL15<=($G15*(1+$EL$4)),"HABILITA","NO HABILITA")) -> NO OFERTADO | CQ15: =CO15+CP15 -> 0 | CR15: =$D15*CQ15 -> 0 | CS15: =+IF(CQ15=0,"NO OFERTADO",IF(CQ15<=($G15*(1+$EL$4)),"HABILITA","NO HABILITA")) -> NO OFERTADO | CV15: =CT15+CU15 -> 0 | CW15: =$D15*CV15 -> 0 | CX15: =+IF(CV15=0,"NO OFERTADO",IF(CV15<=($G15*(1+$EL$4)),"HABILITA","NO HABILITA")) -> NO OFERTADO | DA15: =CY15+CZ15 -> 0 | DB15: =$D15*DA15 -> 0 | DC15: =+IF(DA15=0,"NO OFERTADO",IF(DA15<=($G15*(1+$EL$4)),"HABILITA","NO HABILITA")) -> NO OFERTADO | DF15: =DD15+DE15 -> 0 | DG15: =$D15*DF15 -> 0 | DH15: =+IF(DF15=0,"NO OFERTADO",IF(DF15<=($G15*(1+$EL$4)),"HABILITA","NO HABILITA")) -> NO OFERTADO | DK15: =DI15+DJ15 -> 0 | DL15: =$D15*DK15 -> 0 | DM15: =+IF(DK15=0,"NO OFERTADO",IF(DK15<=($G15*(1+$EL$4)),"HABILITA","NO HABILITA")) -> NO OFERTADO | DP15: =DN15+DO15 -> 0 | DQ15: =$D15*DP15 -> 0 | DR15: =+IF(DP15=0,"NO OFERTADO",IF(DP15<=($G15*(1+$EL$4)),"HABILITA","NO HABILITA")) -> NO OFERTADO | DU15: =DS15+DT15 -> 0 | DV15: =$D15*DU15 -> 0 | DW15: =+IF(DU15=0,"NO OFERTADO",IF(DU15<=($G15*(1+$EL$4)),"HABILITA","NO HABILITA")) -> NO OFERTADO | DY15: =DX15*0.19 -> 0 | DZ15: =DX15+DY15 -> 0 | EA15: =$D15*DZ15 -> 0 | EB15: =+IF(DZ15=0,"NO OFERTADO",IF(DZ15<=($G15*(1+$EQ$4)),"HABILITA","NO HABILITA")) -> NO OFERTADO | EE15: =EC15+ED15 -> 0 | EF15: =$D15*EE15 -> 0 | EG15: =+IF(EE15=0,"NO OFERTADO",IF(EE15<=($G15*(1+$EQ$4)),"HABILITA","NO HABILITA")) -> NO OFERTADO | EJ15: =EH15+EI15 -> 0 | EK15: =$D15*EJ15 -> 0 | EL15: =+IF(EJ15=0,"NO OFERTADO",IF(EJ15<=($G15*(1+$EL$4)),"HABILITA","NO HABILITA")) -> NO OFERTADO
A16: 7 | B16: ACIDO POLIGLICOLICO CALIBRE 1, AGUJA CURVA REDONDA DE 34 A 37 MM 1/2 CIRCULO, HEBRA DE 70 CM O MAS | C16: 1 UNIDAD DE SOBRE | D16: 1 | E16: UN | F16: 1062.6667 | G16: 8672.4582 | J16: =H16+I16 -> 0 | K16: =$D16*J16 -> 0 | L16: =+IF(J16=0,"NO OFERTADO",IF(J16<=($G16*(1+$EL$4)),"HABILITA","NO HABILITA")) -> NO OFERTADO | M16: 8500 | N16: 0 | O16: =M16+N16 -> 8500 | P16: =$D16*O16 -> 8500 | Q16: =+IF(O16=0,"NO OFERTADO",IF(O16<=($G16*(1+$EL$4)),"HABILITA","NO HABILITA")) -> HABILITA | R16: 7400 | S16: 0 | T16: =R16+S16 -> 7400 | U16: =$D16*T16 -> 7400 | V16: =+IF(T16=0,"NO OFERTADO",IF(T16<=($G16*(1+$EL$4)),"HABILITA","NO HABILITA")) -> HABILITA | Y16: =W16+X16 -> 0 | Z16: =$D16*Y16 -> 0 | AA16: =+IF(Y16=0,"NO OFERTADO",IF(Y16<=($G16*(1+$EL$4)),"HABILITA","NO HABILITA")) -> NO OFERTADO | AD16: =AB16+AC16 -> 0 | AE16: =$D16*AD16 -> 0 | AF16: =+IF(AD16=0,"NO OFERTADO",IF(AD16<=($G16*(1+$EL$4)),"HABILITA","NO HABILITA")) -> NO OFERTADO | AI16: =AG16+AH16 -> 0 | AJ16: =$D16*AI16 -> 0 | AK16: =+IF(AI16=0,"NO OFERTADO",IF(AI16<=($G16*(1+$EL$4)),"HABILITA","NO HABILITA")) -> NO OFERTADO | AN16: =AL16+AM16 -> 0 | AO16: =$D16*AN16 -> 0 | AP16: =+IF(AN16=0,"NO OFERTADO",IF(AN16<=($G16*(1+$EL$4)),"HABILITA","NO HABILITA")) -> NO OFERTADO | AS16: =AQ16+AR16 -> 0 | AT16: =$D16*AS16 -> 0 | AU16: =+IF(AS16=0,"NO OFERTADO",IF(AS16<=($G16*(1+$EL$4)),"HABILITA","NO HABILITA")) -> NO OFERTADO | AV16: 8693 | AW16: 0 | AX16: =AV16+AW16 -> 8693 | AY16: =$D16*AX16 -> 8693 | AZ16: =+IF(AX16=0,"NO OFERTADO",IF(AX16<=($G16*(1+$EL$4)),"HABILITA","NO HABILITA")) -> HABILITA | BB16: =BA16*0.19 -> 0 | BC16: =BA16+BB16 -> 0 | BD16: =$D16*BC16 -> 0 | BE16: =+IF(BC16=0,"NO OFERTADO",IF(BC16<=($G16*(1+$EL$4)),"HABILITA","NO HABILITA")) -> NO OFERTADO | BH16: =BF16+BG16 -> 0 | BI16: =$D16*BH16 -> 0 | BJ16: =+IF(BH16=0,"NO OFERTADO",IF(BH16<=($G16*(1+$EL$4)),"HABILITA","NO HABILITA")) -> NO OFERTADO | BK16: 6900 | BL16: 0 | BM16: =BK16+BL16 -> 6900 | BN16: =$D16*BM16 -> 6900 | BO16: =+IF(BM16=0,"NO OFERTADO",IF(BM16<=($G16*(1+$EL$4)),"HABILITA","NO HABILITA")) -> HABILITA | BR16: =BP16+BQ16 -> 0 | BS16: =$D16*BR16 -> 0 | BT16: =+IF(BR16=0,"NO OFERTADO",IF(BR16<=($G16*(1+$EL$4)),"HABILITA","NO HABILITA")) -> NO OFERTADO | BW16: =BU16+BV16 -> 0 | BX16: =$D16*BW16 -> 0 | BY16: =+IF(BW16=0,"NO OFERTADO",IF(BW16<=($G16*(1+$EL$4)),"HABILITA","NO HABILITA")) -> NO OFERTADO | CB16: =BZ16+CA16 -> 0 | CC16: =$D16*CB16 -> 0 | CD16: =+IF(CB16=0,"NO OFERTADO",IF(CB16<=($G16*(1+$EL$4)),"HABILITA","NO HABILITA")) -> NO OFERTADO | CG16: =CE16+CF16 -> 0 | CH16: =$D16*CG16 -> 0 | CI16: =+IF(CG16=0,"NO OFERTADO",IF(CG16<=($G16*(1+$EL$4)),"HABILITA","NO HABILITA")) -> NO OFERTADO | CL16: =CJ16+CK16 -> 0 | CM16: =$D16*CL16 -> 0 | CN16: =+IF(CL16=0,"NO OFERTADO",IF(CL16<=($G16*(1+$EL$4)),"HABILITA","NO HABILITA")) -> NO OFERTADO | CQ16: =CO16+CP16 -> 0 | CR16: =$D16*CQ16 -> 0 | CS16: =+IF(CQ16=0,"NO OFERTADO",IF(CQ16<=($G16*(1+$EL$4)),"HABILITA","NO HABILITA")) -> NO OFERTADO | CT16: 6735 | CU16: 0 | CV16: =CT16+CU16 -> 6735 | CW16: =$D16*CV16 -> 6735 | CX16: =+IF(CV16=0,"NO OFERTADO",IF(CV16<=($G16*(1+$EL$4)),"HABILITA","NO HABILITA")) -> HABILITA | DA16: =CY16+CZ16 -> 0 | DB16: =$D16*DA16 -> 0 | DC16: =+IF(DA16=0,"NO OFERTADO",IF(DA16<=($G16*(1+$EL$4)),"HABILITA","NO HABILITA")) -> NO OFERTADO | DF16: =DD16+DE16 -> 0 | DG16: =$D16*DF16 -> 0 | DH16: =+IF(DF16=0,"NO OFERTADO",IF(DF16<=($G16*(1+$EL$4)),"HABILITA","NO HABILITA")) -> NO OFERTADO | DK16: =DI16+DJ16 -> 0 | DL16: =$D16*DK16 -> 0 | DM16: =+IF(DK16=0,"NO OFERTADO",IF(DK16<=($G16*(1+$EL$4)),"HABILITA","NO HABILITA")) -> NO OFERTADO | DP16: =DN16+DO16 -> 0 | DQ16: =$D16*DP16 -> 0 | DR16: =+IF(DP16=0,"NO OFERTADO",IF(DP16<=($G16*(1+$EL$4)),"HABILITA","NO HABILITA")) -> NO OFERTADO | DU16: =DS16+DT16 -> 0 | DV16: =$D16*DU16 -> 0 | DW16: =+IF(DU16=0,"NO OFERTADO",IF(DU16<=($G16*(1+$EL$4)),"HABILITA","NO HABILITA")) -> NO OFERTADO | DY16: =DX16*0.19 -> 0 | DZ16: =DX16+DY16 -> 0 | EA16: =$D16*DZ16 -> 0 | EB16: =+IF(DZ16=0,"NO OFERTADO",IF(DZ16<=($G16*(1+$EQ$4)),"HABILITA","NO HABILITA")) -> NO OFERTADO | EE16: =EC16+ED16 -> 0 | EF16: =$D16*EE16 -> 0 | EG16: =+IF(EE16=0,"NO OFERTADO",IF(EE16<=($G16*(1+$EQ$4)),"HABILITA","NO HABILITA")) -> NO OFERTADO | EJ16: =EH16+EI16 -> 0 | EK16: =$D16*EJ16 -> 0 | EL16: =+IF(EJ16=0,"NO OFERTADO",IF(EJ16<=($G16*(1+$EL$4)),"HABILITA","NO HABILITA")) -> NO OFERTADO
A17: 8 | B17: ACIDO POLIGLICOLICO CALIBRE 2/0, AGUJA CURVA REDONDA DE 36 A 37 MM 1/2 CIRCULO, HEBRA DE 70 CM O MAS | C17: 1 UNIDAD DE SOBRE | D17: 1 | E17: UN | F17: 87 | G17: 6912.829 | J17: =H17+I17 -> 0 | K17: =$D17*J17 -> 0 | L17: =+IF(J17=0,"NO OFERTADO",IF(J17<=($G17*(1+$EL$4)),"HABILITA","NO HABILITA")) -> NO OFERTADO | M17: 9000 | N17: 0 | O17: =M17+N17 -> 9000 | P17: =$D17*O17 -> 9000 | Q17: =+IF(O17=0,"NO OFERTADO",IF(O17<=($G17*(1+$EL$4)),"HABILITA","NO HABILITA")) -> NO HABILITA | R17: 6550 | S17: 0 | T17: =R17+S17 -> 6550 | U17: =$D17*T17 -> 6550 | V17: =+IF(T17=0,"NO OFERTADO",IF(T17<=($G17*(1+$EL$4)),"HABILITA","NO HABILITA")) -> HABILITA | Y17: =W17+X17 -> 0 | Z17: =$D17*Y17 -> 0 | AA17: =+IF(Y17=0,"NO OFERTADO",IF(Y17<=($G17*(1+$EL$4)),"HABILITA","NO HABILITA")) -> NO OFERTADO | AD17: =AB17+AC17 -> 0 | AE17: =$D17*AD17 -> 0 | AF17: =+IF(AD17=0,"NO OFERTADO",IF(AD17<=($G17*(1+$EL$4)),"HABILITA","NO HABILITA")) -> NO OFERTADO | AI17: =AG17+AH17 -> 0 | AJ17: =$D17*AI17 -> 0 | AK17: =+IF(AI17=0,"NO OFERTADO",IF(AI17<=($G17*(1+$EL$4)),"HABILITA","NO HABILITA")) -> NO OFERTADO | AN17: =AL17+AM17 -> 0 | AO17: =$D17*AN17 -> 0 | AP17: =+IF(AN17=0,"NO OFERTADO",IF(AN17<=($G17*(1+$EL$4)),"HABILITA","NO HABILITA")) -> NO OFERTADO | AS17: =AQ17+AR17 -> 0 | AT17: =$D17*AS17 -> 0 | AU17: =+IF(AS17=0,"NO OFERTADO",IF(AS17<=($G17*(1+$EL$4)),"HABILITA","NO HABILITA")) -> NO OFERTADO | AV17: 8239 | AW17: 0 | AX17: =AV17+AW17 -> 8239 | AY17: =$D17*AX17 -> 8239 | AZ17: =+IF(AX17=0,"NO OFERTADO",IF(AX17<=($G17*(1+$EL$4)),"HABILITA","NO HABILITA")) -> HABILITA | BB17: =BA17*0.19 -> 0 | BC17: =BA17+BB17 -> 0 | BD17: =$D17*BC17 -> 0 | BE17: =+IF(BC17=0,"NO OFERTADO",IF(BC17<=($G17*(1+$EL$4)),"HABILITA","NO HABILITA")) -> NO OFERTADO | BH17: =BF17+BG17 -> 0 | BI17: =$D17*BH17 -> 0 | BJ17: =+IF(BH17=0,"NO OFERTADO",IF(BH17<=($G17*(1+$EL$4)),"HABILITA","NO HABILITA")) -> NO OFERTADO | BK17: 5500 | BL17: 0 | BM17: =BK17+BL17 -> 5500 | BN17: =$D17*BM17 -> 5500 | BO17: =+IF(BM17=0,"NO OFERTADO",IF(BM17<=($G17*(1+$EL$4)),"HABILITA","NO HABILITA")) -> HABILITA | BR17: =BP17+BQ17 -> 0 | BS17: =$D17*BR17 -> 0 | BT17: =+IF(BR17=0,"NO OFERTADO",IF(BR17<=($G17*(1+$EL$4)),"HABILITA","NO HABILITA")) -> NO OFERTADO | BW17: =BU17+BV17 -> 0 | BX17: =$D17*BW17 -> 0 | BY17: =+IF(BW17=0,"NO OFERTADO",IF(BW17<=($G17*(1+$EL$4)),"HABILITA","NO HABILITA")) -> NO OFERTADO | CB17: =BZ17+CA17 -> 0 | CC17: =$D17*CB17 -> 0 | CD17: =+IF(CB17=0,"NO OFERTADO",IF(CB17<=($G17*(1+$EL$4)),"HABILITA","NO HABILITA")) -> NO OFERTADO | CG17: =CE17+CF17 -> 0 | CH17: =$D17*CG17 -> 0 | CI17: =+IF(CG17=0,"NO OFERTADO",IF(CG17<=($G17*(1+$EL$4)),"HABILITA","NO HABILITA")) -> NO OFERTADO | CL17: =CJ17+CK17 -> 0 | CM17: =$D17*CL17 -> 0 | CN17: =+IF(CL17=0,"NO OFERTADO",IF(CL17<=($G17*(1+$EL$4)),"HABILITA","NO HABILITA")) -> NO OFERTADO | CQ17: =CO17+CP17 -> 0 | CR17: =$D17*CQ17 -> 0 | CS17: =+IF(CQ17=0,"NO OFERTADO",IF(CQ17<=($G17*(1+$EL$4)),"HABILITA","NO HABILITA")) -> NO OFERTADO | CT17: 6274 | CU17: 0 | CV17: =CT17+CU17 -> 6274 | CW17: =$D17*CV17 -> 6274 | CX17: =+IF(CV17=0,"NO OFERTADO",IF(CV17<=($G17*(1+$EL$4)),"HABILITA","NO HABILITA")) -> HABILITA | DA17: =CY17+CZ17 -> 0 | DB17: =$D17*DA17 -> 0 | DC17: =+IF(DA17=0,"NO OFERTADO",IF(DA17<=($G17*(1+$EL$4)),"HABILITA","NO HABILITA")) -> NO OFERTADO | DF17: =DD17+DE17 -> 0 | DG17: =$D17*DF17 -> 0 | DH17: =+IF(DF17=0,"NO OFERTADO",IF(DF17<=($G17*(1+$EL$4)),"HABILITA","NO HABILITA")) -> NO OFERTADO | DK17: =DI17+DJ17 -> 0 | DL17: =$D17*DK17 -> 0 | DM17: =+IF(DK17=0,"NO OFERTADO",IF(DK17<=($G17*(1+$EL$4)),"HABILITA","NO HABILITA")) -> NO OFERTADO | DP17: =DN17+DO17 -> 0 | DQ17: =$D17*DP17 -> 0 | DR17: =+IF(DP17=0,"NO OFERTADO",IF(DP17<=($G17*(1+$EL$4)),"HABILITA","NO HABILITA")) -> NO OFERTADO | DU17: =DS17+DT17 -> 0 | DV17: =$D17*DU17 -> 0 | DW17: =+IF(DU17=0,"NO OFERTADO",IF(DU17<=($G17*(1+$EL$4)),"HABILITA","NO HABILITA")) -> NO OFERTADO | DY17: =DX17*0.19 -> 0 | DZ17: =DX17+DY17 -> 0 | EA17: =$D17*DZ17 -> 0 | EB17: =+IF(DZ17=0,"NO OFERTADO",IF(DZ17<=($G17*(1+$EQ$4)),"HABILITA","NO HABILITA")) -> NO OFERTADO | EE17: =EC17+ED17 -> 0 | EF17: =$D17*EE17 -> 0 | EG17: =+IF(EE17=0,"NO OFERTADO",IF(EE17<=($G17*(1+$EQ$4)),"HABILITA","NO HABILITA")) -> NO OFERTADO | EJ17: =EH17+EI17 -> 0 | EK17: =$D17*EJ17 -> 0 | EL17: =+IF(EJ17=0,"NO OFERTADO",IF(EJ17<=($G17*(1+$EL$4)),"HABILITA","NO HABILITA")) -> NO OFERTADO
A18: 9 | B18: ACIDO POLIGLICOLICO CALIBRE 2/0, AGUJA CURVA REDONDA DE 24 A 27 MM 1/2 CIRCULO, HEBRA DE 70 CM O MAS | C18: 1 UNIDAD DE SOBRE | D18: 1 | E18: UN | F18: 1 | G18: 6912.829 | J18: =H18+I18 -> 0 | K18: =$D18*J18 -> 0 | L18: =+IF(J18=0,"NO OFERTADO",IF(J18<=($G18*(1+$EL$4)),"HABILITA","NO HABILITA")) -> NO OFERTADO | M18: 8500 | N18: 0 | O18: =M18+N18 -> 8500 | P18: =$D18*O18 -> 8500 | Q18: =+IF(O18=0,"NO OFERTADO",IF(O18<=($G18*(1+$EL$4)),"HABILITA","NO HABILITA")) -> HABILITA | R18: 6550 | S18: 0 | T18: =R18+S18 -> 6550 | U18: =$D18*T18 -> 6550 | V18: =+IF(T18=0,"NO OFERTADO",IF(T18<=($G18*(1+$EL$4)),"HABILITA","NO HABILITA")) -> HABILITA | Y18: =W18+X18 -> 0 | Z18: =$D18*Y18 -> 0 | AA18: =+IF(Y18=0,"NO OFERTADO",IF(Y18<=($G18*(1+$EL$4)),"HABILITA","NO HABILITA")) -> NO OFERTADO | AD18: =AB18+AC18 -> 0 | AE18: =$D18*AD18 -> 0 | AF18: =+IF(AD18=0,"NO OFERTADO",IF(AD18<=($G18*(1+$EL$4)),"HABILITA","NO HABILITA")) -> NO OFERTADO | AI18: =AG18+AH18 -> 0 | AJ18: =$D18*AI18 -> 0 | AK18: =+IF(AI18=0,"NO OFERTADO",IF(AI18<=($G18*(1+$EL$4)),"HABILITA","NO HABILITA")) -> NO OFERTADO | AN18: =AL18+AM18 -> 0 | AO18: =$D18*AN18 -> 0 | AP18: =+IF(AN18=0,"NO OFERTADO",IF(AN18<=($G18*(1+$EL$4)),"HABILITA","NO HABILITA")) -> NO OFERTADO | AS18: =AQ18+AR18 -> 0 | AT18: =$D18*AS18 -> 0 | AU18: =+IF(AS18=0,"NO OFERTADO",IF(AS18<=($G18*(1+$EL$4)),"HABILITA","NO HABILITA")) -> NO OFERTADO | AV18: 7670 | AW18: 0 | AX18: =AV18+AW18 -> 7670 | AY18: =$D18*AX18 -> 7670 | AZ18: =+IF(AX18=0,"NO OFERTADO",IF(AX18<=($G18*(1+$EL$4)),"HABILITA","NO HABILITA")) -> HABILITA | BB18: =BA18*0.19 -> 0 | BC18: =BA18+BB18 -> 0 | BD18: =$D18*BC18 -> 0 | BE18: =+IF(BC18=0,"NO OFERTADO",IF(BC18<=($G18*(1+$EL$4)),"HABILITA","NO HABILITA")) -> NO OFERTADO | BH18: =BF18+BG18 -> 0 | BI18: =$D18*BH18 -> 0 | BJ18: =+IF(BH18=0,"NO OFERTADO",IF(BH18<=($G18*(1+$EL$4)),"HABILITA","NO HABILITA")) -> NO OFERTADO | BK18: 5500 | BL18: 0 | BM18: =BK18+BL18 -> 5500 | BN18: =$D18*BM18 -> 5500 | BO18: =+IF(BM18=0,"NO OFERTADO",IF(BM18<=($G18*(1+$EL$4)),"HABILITA","NO HABILITA")) -> HABILITA | BR18: =BP18+BQ18 -> 0 | BS18: =$D18*BR18 -> 0 | BT18: =+IF(BR18=0,"NO OFERTADO",IF(BR18<=($G18*(1+$EL$4)),"HABILITA","NO HABILITA")) -> NO OFERTADO | BW18: =BU18+BV18 -> 0 | BX18: =$D18*BW18 -> 0 | BY18: =+IF(BW18=0,"NO OFERTADO",IF(BW18<=($G18*(1+$EL$4)),"HABILITA","NO HABILITA")) -> NO OFERTADO | CB18: =BZ18+CA18 -> 0 | CC18: =$D18*CB18 -> 0 | CD18: =+IF(CB18=0,"NO OFERTADO",IF(CB18<=($G18*(1+$EL$4)),"HABILITA","NO HABILITA")) -> NO OFERTADO | CG18: =CE18+CF18 -> 0 | CH18: =$D18*CG18 -> 0 | CI18: =+IF(CG18=0,"NO OFERTADO",IF(CG18<=($G18*(1+$EL$4)),"HABILITA","NO HABILITA")) -> NO OFERTADO | CL18: =CJ18+CK18 -> 0 | CM18: =$D18*CL18 -> 0 | CN18: =+IF(CL18=0,"NO OFERTADO",IF(CL18<=($G18*(1+$EL$4)),"HABILITA","NO HABILITA")) -> NO OFERTADO | CQ18: =CO18+CP18 -> 0 | CR18: =$D18*CQ18 -> 0 | CS18: =+IF(CQ18=0,"NO OFERTADO",IF(CQ18<=($G18*(1+$EL$4)),"HABILITA","NO HABILITA")) -> NO OFERTADO | CT18: 5638 | CU18: 0 | CV18: =CT18+CU18 -> 5638 | CW18: =$D18*CV18 -> 5638 | CX18: =+IF(CV18=0,"NO OFERTADO",IF(CV18<=($G18*(1+$EL$4)),"HABILITA","NO HABILITA")) -> HABILITA | DA18: =CY18+CZ18 -> 0 | DB18: =$D18*DA18 -> 0 | DC18: =+IF(DA18=0,"NO OFERTADO",IF(DA18<=($G18*(1+$EL$4)),"HABILITA","NO HABILITA")) -> NO OFERTADO | DF18: =DD18+DE18 -> 0 | DG18: =$D18*DF18 -> 0 | DH18: =+IF(DF18=0,"NO OFERTADO",IF(DF18<=($G18*(1+$EL$4)),"HABILITA","NO HABILITA")) -> NO OFERTADO | DK18: =DI18+DJ18 -> 0 | DL18: =$D18*DK18 -> 0 | DM18: =+IF(DK18=0,"NO OFERTADO",IF(DK18<=($G18*(1+$EL$4)),"HABILITA","NO HABILITA")) -> NO OFERTADO | DP18: =DN18+DO18 -> 0 | DQ18: =$D18*DP18 -> 0 | DR18: =+IF(DP18=0,"NO OFERTADO",IF(DP18<=($G18*(1+$EL$4)),"HABILITA","NO HABILITA")) -> NO OFERTADO | DU18: =DS18+DT18 -> 0 | DV18: =$D18*DU18 -> 0 | DW18: =+IF(DU18=0,"NO OFERTADO",IF(DU18<=($G18*(1+$EL$4)),"HABILITA","NO HABILITA")) -> NO OFERTADO | DY18: =DX18*0.19 -> 0 | DZ18: =DX18+DY18 -> 0 | EA18: =$D18*DZ18 -> 0 | EB18: =+IF(DZ18=0,"NO OFERTADO",IF(DZ18<=($G18*(1+$EQ$4)),"HABILITA","NO HABILITA")) -> NO OFERTADO | EE18: =EC18+ED18 -> 0 | EF18: =$D18*EE18 -> 0 | EG18: =+IF(EE18=0,"NO OFERTADO",IF(EE18<=($G18*(1+$EQ$4)),"HABILITA","NO HABILITA")) -> NO OFERTADO | EJ18: =EH18+EI18 -> 0 | EK18: =$D18*EJ18 -> 0 | EL18: =+IF(EJ18=0,"NO OFERTADO",IF(EJ18<=($G18*(1+$EL$4)),"HABILITA","NO HABILITA")) -> NO OFERTADO
A19: 10 | B19: ACIDO POLIGLICOLICO CALIBRE 3/0, AGUJA CURVA CORTANTE DE 17 A 19 MM 3/8 CIRCULO, HEBRA DE 70 CM O MAS | C19: 1 UNIDAD DE SOBRE | D19: 1 | E19: UN | F19: 41 | G19: 6472.9217 | J19: =H19+I19 -> 0 | K19: =$D19*J19 -> 0 | L19: =+IF(J19=0,"NO OFERTADO",IF(J19<=($G19*(1+$EL$4)),"HABILITA","NO HABILITA")) -> NO OFERTADO | M19: 9000 | N19: 0 | O19: =M19+N19 -> 9000 | P19: =$D19*O19 -> 9000 | Q19: =+IF(O19=0,"NO OFERTADO",IF(O19<=($G19*(1+$EL$4)),"HABILITA","NO HABILITA")) -> NO HABILITA | R19: 5450 | S19: 0 | T19: =R19+S19 -> 5450 | U19: =$D19*T19 -> 5450 | V19: =+IF(T19=0,"NO OFERTADO",IF(T19<=($G19*(1+$EL$4)),"HABILITA","NO HABILITA")) -> HABILITA | Y19: =W19+X19 -> 0 | Z19: =$D19*Y19 -> 0 | AA19: =+IF(Y19=0,"NO OFERTADO",IF(Y19<=($G19*(1+$EL$4)),"HABILITA","NO HABILITA")) -> NO OFERTADO | AD19: =AB19+AC19 -> 0 | AE19: =$D19*AD19 -> 0 | AF19: =+IF(AD19=0,"NO OFERTADO",IF(AD19<=($G19*(1+$EL$4)),"HABILITA","NO HABILITA")) -> NO OFERTADO | AI19: =AG19+AH19 -> 0 | AJ19: =$D19*AI19 -> 0 | AK19: =+IF(AI19=0,"NO OFERTADO",IF(AI19<=($G19*(1+$EL$4)),"HABILITA","NO HABILITA")) -> NO OFERTADO | AN19: =AL19+AM19 -> 0 | AO19: =$D19*AN19 -> 0 | AP19: =+IF(AN19=0,"NO OFERTADO",IF(AN19<=($G19*(1+$EL$4)),"HABILITA","NO HABILITA")) -> NO OFERTADO | AS19: =AQ19+AR19 -> 0 | AT19: =$D19*AS19 -> 0 | AU19: =+IF(AS19=0,"NO OFERTADO",IF(AS19<=($G19*(1+$EL$4)),"HABILITA","NO HABILITA")) -> NO OFERTADO | AV19: 6364 | AW19: 0 | AX19: =AV19+AW19 -> 6364 | AY19: =$D19*AX19 -> 6364 | AZ19: =+IF(AX19=0,"NO OFERTADO",IF(AX19<=($G19*(1+$EL$4)),"HABILITA","NO HABILITA")) -> HABILITA | BB19: =BA19*0.19 -> 0 | BC19: =BA19+BB19 -> 0 | BD19: =$D19*BC19 -> 0 | BE19: =+IF(BC19=0,"NO OFERTADO",IF(BC19<=($G19*(1+$EL$4)),"HABILITA","NO HABILITA")) -> NO OFERTADO | BH19: =BF19+BG19 -> 0 | BI19: =$D19*BH19 -> 0 | BJ19: =+IF(BH19=0,"NO OFERTADO",IF(BH19<=($G19*(1+$EL$4)),"HABILITA","NO HABILITA")) -> NO OFERTADO | BK19: 5150 | BL19: 0 | BM19: =BK19+BL19 -> 5150 | BN19: =$D19*BM19 -> 5150 | BO19: =+IF(BM19=0,"NO OFERTADO",IF(BM19<=($G19*(1+$EL$4)),"HABILITA","NO HABILITA")) -> HABILITA | BR19: =BP19+BQ19 -> 0 | BS19: =$D19*BR19 -> 0 | BT19: =+IF(BR19=0,"NO OFERTADO",IF(BR19<=($G19*(1+$EL$4)),"HABILITA","NO HABILITA")) -> NO OFERTADO | BW19: =BU19+BV19 -> 0 | BX19: =$D19*BW19 -> 0 | BY19: =+IF(BW19=0,"NO OFERTADO",IF(BW19<=($G19*(1+$EL$4)),"HABILITA","NO HABILITA")) -> NO OFERTADO | CB19: =BZ19+CA19 -> 0 | CC19: =$D19*CB19 -> 0 | CD19: =+IF(CB19=0,"NO OFERTADO",IF(CB19<=($G19*(1+$EL$4)),"HABILITA","NO HABILITA")) -> NO OFERTADO | CG19: =CE19+CF19 -> 0 | CH19: =$D19*CG19 -> 0 | CI19: =+IF(CG19=0,"NO OFERTADO",IF(CG19<=($G19*(1+$EL$4)),"HABILITA","NO HABILITA")) -> NO OFERTADO | CL19: =CJ19+CK19 -> 0 | CM19: =$D19*CL19 -> 0 | CN19: =+IF(CL19=0,"NO OFERTADO",IF(CL19<=($G19*(1+$EL$4)),"HABILITA","NO HABILITA")) -> NO OFERTADO | CQ19: =CO19+CP19 -> 0 | CR19: =$D19*CQ19 -> 0 | CS19: =+IF(CQ19=0,"NO OFERTADO",IF(CQ19<=($G19*(1+$EL$4)),"HABILITA","NO HABILITA")) -> NO OFERTADO | CT19: 5500 | CU19: 0 | CV19: =CT19+CU19 -> 5500 | CW19: =$D19*CV19 -> 5500 | CX19: =+IF(CV19=0,"NO OFERTADO",IF(CV19<=($G19*(1+$EL$4)),"HABILITA","NO HABILITA")) -> HABILITA | DA19: =CY19+CZ19 -> 0 | DB19: =$D19*DA19 -> 0 | DC19: =+IF(DA19=0,"NO OFERTADO",IF(DA19<=($G19*(1+$EL$4)),"HABILITA","NO HABILITA")) -> NO OFERTADO | DF19: =DD19+DE19 -> 0 | DG19: =$D19*DF19 -> 0 | DH19: =+IF(DF19=0,"NO OFERTADO",IF(DF19<=($G19*(1+$EL$4)),"HABILITA","NO HABILITA")) -> NO OFERTADO | DK19: =DI19+DJ19 -> 0 | DL19: =$D19*DK19 -> 0 | DM19: =+IF(DK19=0,"NO OFERTADO",IF(DK19<=($G19*(1+$EL$4)),"HABILITA","NO HABILITA")) -> NO OFERTADO | DP19: =DN19+DO19 -> 0 | DQ19: =$D19*DP19 -> 0 | DR19: =+IF(DP19=0,"NO OFERTADO",IF(DP19<=($G19*(1+$EL$4)),"HABILITA","NO HABILITA")) -> NO OFERTADO | DU19: =DS19+DT19 -> 0 | DV19: =$D19*DU19 -> 0 | DW19: =+IF(DU19=0,"NO OFERTADO",IF(DU19<=($G19*(1+$EL$4)),"HABILITA","NO HABILITA")) -> NO OFERTADO | DY19: =DX19*0.19 -> 0 | DZ19: =DX19+DY19 -> 0 | EA19: =$D19*DZ19 -> 0 | EB19: =+IF(DZ19=0,"NO OFERTADO",IF(DZ19<=($G19*(1+$EQ$4)),"HABILITA","NO HABILITA")) -> NO OFERTADO | EE19: =EC19+ED19 -> 0 | EF19: =$D19*EE19 -> 0 | EG19: =+IF(EE19=0,"NO OFERTADO",IF(EE19<=($G19*(1+$EQ$4)),"HABILITA","NO HABILITA")) -> NO OFERTADO | EJ19: =EH19+EI19 -> 0 | EK19: =$D19*EJ19 -> 0 | EL19: =+IF(EJ19=0,"NO OFERTADO",IF(EJ19<=($G19*(1+$EL$4)),"HABILITA","NO HABILITA")) -> NO OFERTADO
A20: 11 | B20: ACIDO POLIGLICOLICO CALIBRE 4/0, AGUJA CURVA CORTANTE DE 17 A 19 MM 3/8 CIRCULO, HEBRA DE 45 CM O MAS | C20: 1 UNIDAD DE SOBRE | D20: 1 | E20: UN | F20: 1 | G20: 8034 | J20: =H20+I20 -> 0 | K20: =$D20*J20 -> 0 | L20: =+IF(J20=0,"NO OFERTADO",IF(J20<=($G20*(1+$EL$4)),"HABILITA","NO HABILITA")) -> NO OFERTADO | M20: 8000 | N20: 0 | O20: =M20+N20 -> 8000 | P20: =$D20*O20 -> 8000 | Q20: =+IF(O20=0,"NO OFERTADO",IF(O20<=($G20*(1+$EL$4)),"HABILITA","NO HABILITA")) -> HABILITA | R20: 5750 | S20: 0 | T20: =R20+S20 -> 5750 | U20: =$D20*T20 -> 5750 | V20: =+IF(T20=0,"NO OFERTADO",IF(T20<=($G20*(1+$EL$4)),"HABILITA","NO HABILITA")) -> HABILITA | Y20: =W20+X20 -> 0 | Z20: =$D20*Y20 -> 0 | AA20: =+IF(Y20=0,"NO OFERTADO",IF(Y20<=($G20*(1+$EL$4)),"HABILITA","NO HABILITA")) -> NO OFERTADO | AD20: =AB20+AC20 -> 0 | AE20: =$D20*AD20 -> 0 | AF20: =+IF(AD20=0,"NO OFERTADO",IF(AD20<=($G20*(1+$EL$4)),"HABILITA","NO HABILITA")) -> NO OFERTADO | AI20: =AG20+AH20 -> 0 | AJ20: =$D20*AI20 -> 0 | AK20: =+IF(AI20=0,"NO OFERTADO",IF(AI20<=($G20*(1+$EL$4)),"HABILITA","NO HABILITA")) -> NO OFERTADO | AN20: =AL20+AM20 -> 0 | AO20: =$D20*AN20 -> 0 | AP20: =+IF(AN20=0,"NO OFERTADO",IF(AN20<=($G20*(1+$EL$4)),"HABILITA","NO HABILITA")) -> NO OFERTADO | AS20: =AQ20+AR20 -> 0 | AT20: =$D20*AS20 -> 0 | AU20: =+IF(AS20=0,"NO OFERTADO",IF(AS20<=($G20*(1+$EL$4)),"HABILITA","NO HABILITA")) -> NO OFERTADO | AV20: 7438 | AW20: 0 | AX20: =AV20+AW20 -> 7438 | AY20: =$D20*AX20 -> 7438 | AZ20: =+IF(AX20=0,"NO OFERTADO",IF(AX20<=($G20*(1+$EL$4)),"HABILITA","NO HABILITA")) -> HABILITA | BB20: =BA20*0.19 -> 0 | BC20: =BA20+BB20 -> 0 | BD20: =$D20*BC20 -> 0 | BE20: =+IF(BC20=0,"NO OFERTADO",IF(BC20<=($G20*(1+$EL$4)),"HABILITA","NO HABILITA")) -> NO OFERTADO | BH20: =BF20+BG20 -> 0 | BI20: =$D20*BH20 -> 0 | BJ20: =+IF(BH20=0,"NO OFERTADO",IF(BH20<=($G20*(1+$EL$4)),"HABILITA","NO HABILITA")) -> NO OFERTADO | BK20: 6500 | BL20: 0 | BM20: =BK20+BL20 -> 6500 | BN20: =$D20*BM20 -> 6500 | BO20: =+IF(BM20=0,"NO OFERTADO",IF(BM20<=($G20*(1+$EL$4)),"HABILITA","NO HABILITA")) -> HABILITA | BR20: =BP20+BQ20 -> 0 | BS20: =$D20*BR20 -> 0 | BT20: =+IF(BR20=0,"NO OFERTADO",IF(BR20<=($G20*(1+$EL$4)),"HABILITA","NO HABILITA")) -> NO OFERTADO | BW20: =BU20+BV20 -> 0 | BX20: =$D20*BW20 -> 0 | BY20: =+IF(BW20=0,"NO OFERTADO",IF(BW20<=($G20*(1+$EL$4)),"HABILITA","NO HABILITA")) -> NO OFERTADO | CB20: =BZ20+CA20 -> 0 | CC20: =$D20*CB20 -> 0 | CD20: =+IF(CB20=0,"NO OFERTADO",IF(CB20<=($G20*(1+$EL$4)),"HABILITA","NO HABILITA")) -> NO OFERTADO | CG20: =CE20+CF20 -> 0 | CH20: =$D20*CG20 -> 0 | CI20: =+IF(CG20=0,"NO OFERTADO",IF(CG20<=($G20*(1+$EL$4)),"HABILITA","NO HABILITA")) -> NO OFERTADO | CL20: =CJ20+CK20 -> 0 | CM20: =$D20*CL20 -> 0 | CN20: =+IF(CL20=0,"NO OFERTADO",IF(CL20<=($G20*(1+$EL$4)),"HABILITA","NO HABILITA")) -> NO OFERTADO | CQ20: =CO20+CP20 -> 0 | CR20: =$D20*CQ20 -> 0 | CS20: =+IF(CQ20=0,"NO OFERTADO",IF(CQ20<=($G20*(1+$EL$4)),"HABILITA","NO HABILITA")) -> NO OFERTADO | CT20: 5689 | CU20: 0 | CV20: =CT20+CU20 -> 5689 | CW20: =$D20*CV20 -> 5689 | CX20: =+IF(CV20=0,"NO OFERTADO",IF(CV20<=($G20*(1+$EL$4)),"HABILITA","NO HABILITA")) -> HABILITA | DA20: =CY20+CZ20 -> 0 | DB20: =$D20*DA20 -> 0 | DC20: =+IF(DA20=0,"NO OFERTADO",IF(DA20<=($G20*(1+$EL$4)),"HABILITA","NO HABILITA")) -> NO OFERTADO | DF20: =DD20+DE20 -> 0 | DG20: =$D20*DF20 -> 0 | DH20: =+IF(DF20=0,"NO OFERTADO",IF(DF20<=($G20*(1+$EL$4)),"HABILITA","NO HABILITA")) -> NO OFERTADO | DK20: =DI20+DJ20 -> 0 | DL20: =$D20*DK20 -> 0 | DM20: =+IF(DK20=0,"NO OFERTADO",IF(DK20<=($G20*(1+$EL$4)),"HABILITA","NO HABILITA")) -> NO OFERTADO | DP20: =DN20+DO20 -> 0 | DQ20: =$D20*DP20 -> 0 | DR20: =+IF(DP20=0,"NO OFERTADO",IF(DP20<=($G20*(1+$EL$4)),"HABILITA","NO HABILITA")) -> NO OFERTADO | DU20: =DS20+DT20 -> 0 | DV20: =$D20*DU20 -> 0 | DW20: =+IF(DU20=0,"NO OFERTADO",IF(DU20<=($G20*(1+$EL$4)),"HABILITA","NO HABILITA")) -> NO OFERTADO | DY20: =DX20*0.19 -> 0 | DZ20: =DX20+DY20 -> 0 | EA20: =$D20*DZ20 -> 0 | EB20: =+IF(DZ20=0,"NO OFERTADO",IF(DZ20<=($G20*(1+$EQ$4)),"HABILITA","NO HABILITA")) -> NO OFERTADO | EE20: =EC20+ED20 -> 0 | EF20: =$D20*EE20 -> 0 | EG20: =+IF(EE20=0,"NO OFERTADO",IF(EE20<=($G20*(1+$EQ$4)),"HABILITA","NO HABILITA")) -> NO OFERTADO | EJ20: =EH20+EI20 -> 0 | EK20: =$D20*EJ20 -> 0 | EL20: =+IF(EJ20=0,"NO OFERTADO",IF(EJ20<=($G20*(1+$EL$4)),"HABILITA","NO HABILITA")) -> NO OFERTADO
A21: 12 | B21: ACIDO POLIGLICOLICO CALIBRE 4/0, AGUJA CURVA REDONDA DE 17 MM 1/2 CIRCULO, HEBRA DE 70 CM O MAS | C21: 1 UNIDAD DE SOBRE | D21: 1 | E21: UN | F21: 189 | G21: 6787.1412 | J21: =H21+I21 -> 0 | K21: =$D21*J21 -> 0 | L21: =+IF(J21=0,"NO OFERTADO",IF(J21<=($G21*(1+$EL$4)),"HABILITA","NO HABILITA")) -> NO OFERTADO | M21: 6780 | N21: 0 | O21: =M21+N21 -> 6780 | P21: =$D21*O21 -> 6780 | Q21: =+IF(O21=0,"NO OFERTADO",IF(O21<=($G21*(1+$EL$4)),"HABILITA","NO HABILITA")) -> HABILITA | R21: 5900 | S21: 0 | T21: =R21+S21 -> 5900 | U21: =$D21*T21 -> 5900 | V21: =+IF(T21=0,"NO OFERTADO",IF(T21<=($G21*(1+$EL$4)),"HABILITA","NO HABILITA")) -> HABILITA | Y21: =W21+X21 -> 0 | Z21: =$D21*Y21 -> 0 | AA21: =+IF(Y21=0,"NO OFERTADO",IF(Y21<=($G21*(1+$EL$4)),"HABILITA","NO HABILITA")) -> NO OFERTADO | AD21: =AB21+AC21 -> 0 | AE21: =$D21*AD21 -> 0 | AF21: =+IF(AD21=0,"NO OFERTADO",IF(AD21<=($G21*(1+$EL$4)),"HABILITA","NO HABILITA")) -> NO OFERTADO | AI21: =AG21+AH21 -> 0 | AJ21: =$D21*AI21 -> 0 | AK21: =+IF(AI21=0,"NO OFERTADO",IF(AI21<=($G21*(1+$EL$4)),"HABILITA","NO HABILITA")) -> NO OFERTADO | AN21: =AL21+AM21 -> 0 | AO21: =$D21*AN21 -> 0 | AP21: =+IF(AN21=0,"NO OFERTADO",IF(AN21<=($G21*(1+$EL$4)),"HABILITA","NO HABILITA")) -> NO OFERTADO | AS21: =AQ21+AR21 -> 0 | AT21: =$D21*AS21 -> 0 | AU21: =+IF(AS21=0,"NO OFERTADO",IF(AS21<=($G21*(1+$EL$4)),"HABILITA","NO HABILITA")) -> NO OFERTADO | AV21: 6932 | AW21: 0 | AX21: =AV21+AW21 -> 6932 | AY21: =$D21*AX21 -> 6932 | AZ21: =+IF(AX21=0,"NO OFERTADO",IF(AX21<=($G21*(1+$EL$4)),"HABILITA","NO HABILITA")) -> HABILITA | BB21: =BA21*0.19 -> 0 | BC21: =BA21+BB21 -> 0 | BD21: =$D21*BC21 -> 0 | BE21: =+IF(BC21=0,"NO OFERTADO",IF(BC21<=($G21*(1+$EL$4)),"HABILITA","NO HABILITA")) -> NO OFERTADO | BH21: =BF21+BG21 -> 0 | BI21: =$D21*BH21 -> 0 | BJ21: =+IF(BH21=0,"NO OFERTADO",IF(BH21<=($G21*(1+$EL$4)),"HABILITA","NO HABILITA")) -> NO OFERTADO | BK21: 5400 | BL21: 0 | BM21: =BK21+BL21 -> 5400 | BN21: =$D21*BM21 -> 5400 | BO21: =+IF(BM21=0,"NO OFERTADO",IF(BM21<=($G21*(1+$EL$4)),"HABILITA","NO HABILITA")) -> HABILITA | BR21: =BP21+BQ21 -> 0 | BS21: =$D21*BR21 -> 0 | BT21: =+IF(BR21=0,"NO OFERTADO",IF(BR21<=($G21*(1+$EL$4)),"HABILITA","NO HABILITA")) -> NO OFERTADO | BW21: =BU21+BV21 -> 0 | BX21: =$D21*BW21 -> 0 | BY21: =+IF(BW21=0,"NO OFERTADO",IF(BW21<=($G21*(1+$EL$4)),"HABILITA","NO HABILITA")) -> NO OFERTADO | CB21: =BZ21+CA21 -> 0 | CC21: =$D21*CB21 -> 0 | CD21: =+IF(CB21=0,"NO OFERTADO",IF(CB21<=($G21*(1+$EL$4)),"HABILITA","NO HABILITA")) -> NO OFERTADO | CG21: =CE21+CF21 -> 0 | CH21: =$D21*CG21 -> 0 | CI21: =+IF(CG21=0,"NO OFERTADO",IF(CG21<=($G21*(1+$EL$4)),"HABILITA","NO HABILITA")) -> NO OFERTADO | CL21: =CJ21+CK21 -> 0 | CM21: =$D21*CL21 -> 0 | CN21: =+IF(CL21=0,"NO OFERTADO",IF(CL21<=($G21*(1+$EL$4)),"HABILITA","NO HABILITA")) -> NO OFERTADO | CQ21: =CO21+CP21 -> 0 | CR21: =$D21*CQ21 -> 0 | CS21: =+IF(CQ21=0,"NO OFERTADO",IF(CQ21<=($G21*(1+$EL$4)),"HABILITA","NO HABILITA")) -> NO OFERTADO | CT21: 6991 | CU21: 0 | CV21: =CT21+CU21 -> 6991 | CW21: =$D21*CV21 -> 6991 | CX21: =+IF(CV21=0,"NO OFERTADO",IF(CV21<=($G21*(1+$EL$4)),"HABILITA","NO HABILITA")) -> HABILITA | DA21: =CY21+CZ21 -> 0 | DB21: =$D21*DA21 -> 0 | DC21: =+IF(DA21=0,"NO OFERTADO",IF(DA21<=($G21*(1+$EL$4)),"HABILITA","NO HABILITA")) -> NO OFERTADO | DF21: =DD21+DE21 -> 0 | DG21: =$D21*DF21 -> 0 | DH21: =+IF(DF21=0,"NO OFERTADO",IF(DF21<=($G21*(1+$EL$4)),"HABILITA","NO HABILITA")) -> NO OFERTADO | DK21: =DI21+DJ21 -> 0 | DL21: =$D21*DK21 -> 0 | DM21: =+IF(DK21=0,"NO OFERTADO",IF(DK21<=($G21*(1+$EL$4)),"HABILITA","NO HABILITA")) -> NO OFERTADO | DP21: =DN21+DO21 -> 0 | DQ21: =$D21*DP21 -> 0 | DR21: =+IF(DP21=0,"NO OFERTADO",IF(DP21<=($G21*(1+$EL$4)),"HABILITA","NO HABILITA")) -> NO OFERTADO | DU21: =DS21+DT21 -> 0 | DV21: =$D21*DU21 -> 0 | DW21: =+IF(DU21=0,"NO OFERTADO",IF(DU21<=($G21*(1+$EL$4)),"HABILITA","NO HABILITA")) -> NO OFERTADO | DY21: =DX21*0.19 -> 0 | DZ21: =DX21+DY21 -> 0 | EA21: =$D21*DZ21 -> 0 | EB21: =+IF(DZ21=0,"NO OFERTADO",IF(DZ21<=($G21*(1+$EQ$4)),"HABILITA","NO HABILITA")) -> NO OFERTADO | EE21: =EC21+ED21 -> 0 | EF21: =$D21*EE21 -> 0 | EG21: =+IF(EE21=0,"NO OFERTADO",IF(EE21<=($G21*(1+$EQ$4)),"HABILITA","NO HABILITA")) -> NO OFERTADO | EJ21: =EH21+EI21 -> 0 | EK21: =$D21*EJ21 -> 0 | EL21: =+IF(EJ21=0,"NO OFERTADO",IF(EJ21<=($G21*(1+$EL$4)),"HABILITA","NO HABILITA")) -> NO OFERTADO
