Workbook
Name check: [1]Listas!$R$2:$R$3
Name DeduFran: [1]Listas!$H$2:$H$4
Name Grupo: [2]Listas!$B$2:$B$3
Name Servicio: [1]Listas!$G$2:$G$17
Name tadquisicion: [2]Listas!$A$2:$A$8
Name TipodeVehiculo: [2]Listas!$C$2:$C$10

Sheet 1. COND. BÁSICAS TRDM
B2: SECRETARIA DISTRITAL DE SEGURIDAD, CONVIVENCIA Y JUSTICIA DE BOGOTÁ - SCJ.
B3: ANEXO No. 1 - CONDICIONES OBLIGATORIAS (MÍNIMAS TÉCNICAS)
B4: GRUPO No. 1
B6: 1. PÓLIZA DE SEGURO DE TODO RIESGO DAÑOS MATERIALES COMBINADOS
B7: 1.1. | C7: INFORMACIÓN GENERAL
B8: TOMADOR: | C8: SECRETARIA DISTRITAL DE SEGURIDAD, CONVIVENCIA Y JUSTICIA DE BOGOTÁ - SCJ. | F8: NIT. | G8: 899.999.061-9
B9: ASEGURADO: | C9: SECRETARIA DISTRITAL DE SEGURIDAD, CONVIVENCIA Y JUSTICIA DE BOGOTÁ - SCJ. | F9: NIT. | G9: =+G8 -> 899.999.061-9
B10: BENEFICIARIO: | C10: SECRETARIA DISTRITAL DE SEGURIDAD, CONVIVENCIA Y JUSTICIA DE BOGOTÁ - SCJ. | F10: NIT. | G10: =+G9 -> 899.999.061-9
B11: 1.2. | C11: OBJETO DEL SEGURO
B12: Amparar todos los activos (bienes inmuebles y muebles) de propiedad de la SECRETARIA DISTRITAL DE SEGURIDAD, CONVIVENCIA Y JUSTICIA DE BOGOTÁ o aquellos que se encuentren bajo su control, tenencia, responsabilidad o custodia, contra los daños o pérdidas materiales a consecuencia de cualquier riesgo, tanto por eventos internos o externos, incluyendo las pérdidas consecuenciales por todo concepto y en general los recibidos a cualquier título o por los que tenga algún interés asegurable, ubicados en el territorio nacional o por aquellos que por su naturaleza se deban trasladar a nivel mundial, dentro o fuera de las instalaciones del asegurado y/o en predios de terceros o a la intemperie y los utilizados en desarrollo del objeto social de la SECRETARIA DISTRITAL DE SEGURIDAD, CONVIVENCIA Y JUSTICIA DE BOGOTÁ.
B13: 1.3. | C13: BIENES ASEGURADOS
B14: Las aseguradoras aceptan que no obstante las siguientes definiciones generales de bienes asegurados, el alcance de éstas se amplian al objeto establecido en el Manual de Procedimientos Administrativos y Contables para el manejo y control de los bienes de la Entidad.
B15: Los bienes asegurados comprenden absolutamente toda propiedad de bienes materiales de la Entidad o de terceros que se estén bajo su cuidado, custodia, control o por los cuales sea legal o contractualmente responsable y en general los recibidos a cualquier título o por los que tenga o tenga interés asegurable, localizados dentro del territorio nacional dentro o fuera de las instalaciones del asegurado y/o en predios de terceros y utilizados en desarrollo del objeto social de la Entidad. consistentes principalmente pero no limitados a los siguientes bienes:
B16: EDIFICIOS: Corresponde a las edificaciones y obras civiles, sus estructuras, cimientos, construcciones fijas con todas sus adiciones y en general toda clase de construcciones propias y no propias, de edificios e inherentes a ellos, incluidos (Cais, Estaciones y/o Subestaciones de Policia, Casas de Justicia, Casas Fiscales, Cárceles, Hogares del Menor Infractor, y todas aquellas por las que sea legalmente responsable), de propiedad de la SECRETARIA DISTRITAL DE SEGURIDAD, CONVIVENCIA Y JUSTICIA o bajo su cuidado, tenencia y control , incluido anexos, escaleras externas, instalaciones eléctricas, de comunicación, intercomunicación o sonido, incluidos anexos y estructuras sanitarias, alcantarillado, para agua, aire acondicionado, (subterráneas o no), sistema de drenaje y aguas negras, tuberías, conductos, tuberías, conductos, desagües, tanques para almacenamiento, ductos, mallas, patios, aceras, instalaciones permanentes de protección contra incendio y demás instalaciones que se hallen o no por debajo del nivel del suelo y/o subterráneas, vidrios internos y externos que conforman y hacen parte de las construcciones, rampas de acceso, tanques de almacenamiento, similares, que formen parte integrante, del edificio, o edificios asegurados, aunque no se hayan informado específicamente, entre otros ubicados en el territorio nacional, incluidos aquellos propios o recibidos por parte de otras entidades para el desarrollo misional de la seguridad de Bogotá, bajo su responsabilidad, tenencia y/o control de la SECRETARIA.
B17: MEJORAS LOCATIVAS: Todas aquellas mejoras a los inmuebles realizadas por la Entidad, aún en el caso de no ser propietaria del bien, que haya realizado inversiones para adecuarlas a sus necesidades, tales como tapetes, tapizados, enchapes, mejoras eléctricas, cielos rasos, etc.
B18: CONTENIDOS Y BIENES EN GENERAL: Corresponden a todo tipo de bienes como muebles y enseres en general propios de la actividad general de una entidad pública, incluidos equipos de oficina no eléctricos ni electrónicos, entre otros, sistemas de oficina abierta, al igual que los documentos de cualquier tipo, que se encuentren localizados dentro de los predios asegurados o fuera de los mismos, incluidos todos aquellos elementos de los Cais Móviles, Casas de Justicias Móviles, Elementos en las carros de lavantamiento de cadáveres, y todos aquellos bienes propios o recibidos por parte de otras entidades para el desarrollo misional de la seguridad de Bogotá, bajo su responsabilidad, tenencia y/o control de la SECRETARIA.
B19: VALOR ADMITIDO: Dada la dificultad de determinar el costo de bienes como: cuadros y obras de arte, por cuanto están sujetos a criterios subjetivos, por sus características especiales (ejemplo obras de arte, según el pintor, la antigüedad, etc.) y alhajas y joyas, estos item se aseguran bajo la modalidad de Valor Admitido.
B20: EQUIPOS ELÉCTRICOS, ELECTRÓNICOS Y DE COMUNICACIÓN: Comprende todos aquellos equipos eléctricos, electrónicos, electromecánicos y los de comunicación (incluidas antenas), incluidos en forma especial C4 – que es el Centro de Comando, Control, Comunicaciones y Cómputo de Bogotá extendida esta definición a salas de control, servidores, equipos de computo con todos sus accesorios periféricos scanner, ploters, servidores, impresoras software, equipos de telecomunicaciones, equipos celulares, equipos de comunicación portátil, tabletas, equipos móviles y/o portátiles, equipos científicos de laboratorio, electrodomésticos, entre otros y todos aquellos bienes propios o recibidos por parte de otras entidades para el desarrollo misional de la seguridad de Bogotá, bajo su responsabilidad, tenencia y/o control de la SECRETARIA.
B21: BIENES O ACTIVOS DE ALMÁCEN E INVENTARIOS: Comprende todos los elementos de consumo, devolutivos nuevos, recuperables, inservibles, papelería, útiles de oficina, equipos en general, repuestos, muestras de oferentes y demás bienes contenidos en las diferentes dependencias de la SECRETARÍA y en general todo elemento que los Asegurados determinen como existencias o elementos de almacén, aunque no se hayan determinado específicamente.
B22: 1.4. | C22: VALORES ASEGURADOS
B23: BIENES ASEGURADOS | F23: VALORES ASEGURADOS
B24: A. EDIFICIOS Y MEJORAS LOCATIVAS | G24: 375585507541
B25: B. CONTENIDOS EN GENERAL Y MUEBLES Y ENSERES | G25: 15722915855
B26: C. EQUIPO ELÉCTRICOS, ELECTRÓNICOS Y DE COMUNICACIÓN (INCLUIDOS EQUIPOS MÓVILES Y PORTÁTILES, SOFTWARE Y LICENCIAS, ROBOT'S ANTIEXPLOSIVOS Y ELEMENTOS INSTALADOS EN EL HELICOPTERO) al igual que todos los equipos que se encuentran en el C4 – Centro de Comando, Control, Comunicaciones y Cómputo de Bogotá. | G26: 332575234659
B27: D. EQUIPO Y MAQUINARÍA | G27: 11440932499
B28: E. FUTURAS INCLUSIONES DE BIENES + INDICE VARIABLE | G28: 23428675495
B29: F. ADECUACION DE CONSTRUCCIONES A LAS NORMAS SISMORESISTENTES | G29: 37558550754
B30: G. COBERTURA PARA ADECUACION DE TERRENOS | G30: 37558550754
B31: SUBTOTAL | G31: =SUM(G24:G30) -> 833870367557
B32: INDICE VARIABLE 7% (SE EXCLUYE DE ESTA CONDICIÓN ELEMENTOS COMO CONSUMO, SISTEMA PUESTA A TIERRA, BICICLETAS, VEHÍCULOS INMOVILIZADOS Y MERCANCÍA EN BODEGA) | G32: 50790828990
B33: TOTAL VALOR ASEGURADO | G33: =+G31+G32 -> 884661196547
B34: Nota: Las aseguradoras debe tener en cuenta que el índice variable esta calculado con relación a la vigencia minima exigida, por tanto la aseguradora debe calcular el índice variable con relación a la vigencia ofertada.
B35: 1.4.2. Bienes con Sublímites
B36: BIENES Y/O RIESGO CON SUBLÍMITE | F36: SUBLÍMITE
B37: Dinero y títulos valores dentro y fuera de caja fuerte. | F37: 49860000
B38: Vehículos inmovilizados y/o para remate o proceso de jurisdicción | F38: 1159059333
B39: Almacén e Inventarios - Bodega | F39: 413960662
B40: TOTAL SUBLIMITES | F40: =SUM(F37:G39) -> 1622879995
B41: FUTURAS INCLUSIONES | F41: SUBLÍMITE
B42: TOTAL VALOR ASEGURADO + SUBLÍMITES + FUTURAS INCLUSIONES | F42: =F40+G33 -> 886284076542
...

Sheet 2. COND. BÁSICAS MANEJO
B2: SECRETARIA DISTRITAL DE SEGURIDAD, CONVIVENCIA Y JUSTICIA DE BOGOTÁ - SCJ.
B3: ANEXO No. 1 - CONDICIONES OBLIGATORIAS (MÍNIMAS TÉCNICAS)
B4: GRUPO No. 1
B6: 2. PÓLIZA DE SEGURO GLOBAL DE MANEJO PARA ENTIDADES OFICIALES
B7: 2.1. | C7: INFORMACIÓN GENERAL
B8: TOMADOR: | C8: SECRETARIA DISTRITAL DE SEGURIDAD, CONVIVENCIA Y JUSTICIA DE BOGOTÁ - SCJ. | F8: NIT. | G8: =+'1. COND. BÁSICAS TRDM'!G8 -> 899.999.061-9
B9: ASEGURADO: | C9: SECRETARIA DISTRITAL DE SEGURIDAD, CONVIVENCIA Y JUSTICIA DE BOGOTÁ - SCJ. | F9: NIT. | G9: =+G8 -> 899.999.061-9
B10: BENEFICIARIO: | C10: SECRETARIA DISTRITAL DE SEGURIDAD, CONVIVENCIA Y JUSTICIA DE BOGOTÁ - SCJ. | F10: NIT. | G10: =+G9 -> 899.999.061-9
B11: 2.2. | C11: OBJETO DEL SEGURO
B12: Amparar los riesgos que impliquen menoscabo de los fondos o bienes de propiedad, bajo tenencia, control y/o responsabilidad de la SECRETARIA DISTRITAL DE SEGURIDAD, CONVIVENCIA Y JUSTICIA DE BOGOTÁ , causados por acciones y omisiones de sus servidores, que incurran en delitos contra la administración pública o fallos con responsabilidad fiscal, por incumplimiento de las disposiciones legales y reglamentarias, incluyendo el costo de la rendición de cuentas en caso de abandono del cargo o fallecimiento del empleado, en concordancia con la Resolución 014249 del 15 de mayo de 1992, aprobada por la Contraloría General de la República.
B13: 2.3. | C13: LÍMITE ASEGURADO EVENTO /AGREGADO ANUAL
A14: 1 | B14: Oferta Básica: Se califica en Condiciones Adicionales (Formato No. 3) el aumento del límite asegurado sin cobro de prima adicional. | F14: 900000000
B15: 2.3.1. | C15: MODALIDAD DE CONTRATACIÓN
B16: Los amparos otorgados, en la presente póliza, operan bajo la modalidad de delimitación temporal de cobertura, denominada OCURRENCIA, es decir que se cubrirán las pérdidas que sufra o que se causen al asegurado durante la vigencia de la póliza.
B17: 2.4. | C17: CARGOS ASEGURADOS
C18: Directivo | D18: 21
C19: Despacho Secretario | D19: 7
C20: Asesor | D20: 2 | E20: MONTO ANUAL PROYECTADO DE LA NÓMINA: | G20: $4.621.412.847
C21: Profesional | D21: 158
C22: Técnico | D22: 40
C23: Asistencial | D23: 505 | E23: CONTRATISTAS: 401
B24: TOTAL CARGOS ASEGURADOS: | D24: =SUM(D18:D23) -> 733
B25: NOTA: | C25: CADA SUBLÍMITE INDICADO ESTAN CONTEMPLADOS DENTRO DEL LÍMITE ASEGURADO.
B26: 2.5. | C26: COBERTURAS BÁSICAS
B27: DELITOS CONTRA LA ADMINISTRACIÓN PÚBLICA | E27: La aseguradora indemnizará la pérdida económica que sufra la Entidad a consecuencia de actos que se tipifiquen como delitos contra la administración pública, cometidos por empleado(s) en desempeño de(los) cargo(s) señalados en el numeral 2.4. y cuando sean descubiertos durante la vigencia de la póliza.
B28: GASTOS DE RECONSTRUCCIÓN O RENDICIÓN DE CUENTAS | E28: La aseguradora mediante este amparo cubre los gastos que la Entidad tenga que incurrir en caso de abandono del cargo o fallecimiento del empleado, para llevar a cabo los procesos de rendición y reconstrucción de cuentas.
B29: DELITOS CONTRA EL PATRIMONIO ECÓNOMICO | E29: La aseguradora mediante este amparo indemnizará la pérdida económica que sufra la Entidad, por aquellas conductas penalmente sancionables, cometidas por los empleados de la Entidadl, que no dan cuenta de un buen manejo de los recursos estatales y que causan detrimento al patrimonio del estado, tales como el peculado por apropiación, peculado por uso, peculado por aplicación oficial diferente y peculado culposo de acuerdo con su definición legal.
B30: JUICIOS CON RESPONSABILIDAD FISCAL Y ALCANCES FISCALES | E30: La aseguradora mediante este amparo cubre los procesos de responsabilidad fiscal con ocasión de la ejecución de actos que den lugar a iniciación de juicios de esta naturaleza.
B31: PÉRDIDA DE EMPLEADOS NO IDENTIFICADOS AL 100% DEL LÍMITE ASEGURADO | E31: En caso de ocurrencia de cualquier pérdida, pero que la Entidad no pudiera determinar específicamente al empleado o los empleados responsables, la aseguradora reconocerá la indemnización correspondiente, siempre y cuando las circunstancias que dieron lugar al evento, permitan considerar que en la ocurrencia del mismo intervinieron uno o varios empleados de la Entidad, a cualquier titulo (autor intelectual, material o cómplice). Queda entendido que la responsabilidad de la compañía, respecto de tales pérdidas, no excederá en ningún caso del monto asegurado estipulado en la póliza.
B32: PROTECCIÓN DE DEPÓSITOS BANCARIOS AL 100% DEL LÍMITE ASEGURADO | E32: Cubre las pérdidas de dinero que el asegurado tenga depositado en sus cuentas corrientes o de ahorro en entidades bancarias o financieras (incluidos sus respectivos intereses), que se deba a falsificación o adulteración de un cheque, letra de cambio, pagaré, carta de crédito o cualquier otra clase de título valor que el banco o entidad financiera presuma que ha sido firmado, endosado o avalado por el asegurado o por una persona que obre en su nombre o representación y que el banco o entidad financiera compruebe que no es responsable por dicho pago, incluyendo: a) Cualquier cheque o giro hecho o girado en nombre de la Entidad pagadero a una persona ficticia y endosado o pagado a nombre de dicha persona. b) Cualquier cheque o giro hecho o girado en transacción de la Entidad o por su representante a favor de un tercero y entregado al representante de éste que resultare endosado o cobrado por persona distinta de aquel a quien se giró. c) Cualquier cheque o giro con destino al pago de salarios que habiendo sido girado u ordenado por la Entidad, resultare endosado y cobrado por un tercero obrando supuestamente a nombre del girador, o de aquel a quien se debía hacer el pago. Esta cbertura aplica cuando se demuestra la participación de uno o más empleados y que la entidad bancaria demuestre que no tiene ninguna responsabilidad.
B33: EXTENSIÓN DE COBERTURA PARA EMPLEADOS OCASIONALES, TEMPORALES Y TRANSITORIOS AL 100% DEL LÍMITE ASEGURADO | E33: Bajo esta condición la cobertura de la presente póliza se extiende a amparar a los trabajadores ocasionales, temporales o transitorios y a quienes sin serlo, realicen prácticas o investigaciones en sus dependencias. Esta cobertura queda sujeta a que las operaciones que realicen tales personas estén bajo el control de la Entidad.
B34: EXTENSIÓN DE COBERTURA PARA EMPLEADOS DE FIRMAS ESPECIALIZADAS Y OTROS AL 100% DEL LÍMITE ASEGURADO | E34: Bajo esta condición la cobertura de la presente póliza se extiende a amparar a todas aquellas personas naturales que presten servicios en los establecimientos del asegurado bajo cualquier título o contrato, incluidos los empleados de firmas especializadas, los empleados de contratistas independientes, los cuales deben cumplir con las normas que los regulan y con las garantías exigidas por la ley 80 de 1993. Esta cobertura queda sujeta a que las operaciones que realicen tales personas estén bajo el control de la Entidad.
B35: EXTENSIÓN DE COBERTURA PARA PÉRDIDAS OCASIONADAS POR EMPLEADOS DE CONTRATISTAS Y SUBCONTRASTISTAS INDEPENDIENTES AL 100% DEL LÍMITE ASEGURADO | E35: Bajo esta condición la cobertura de la presente póliza se extiende a amparar a todas aquellas personas naturales que presten servicios en los establecimientos del asegurado bajo cualquier título o contrato, incluidos los empleados de contratistas y subcontratistas independientes, los cuales deben cumplir con las normas que los regulan y con las garantías exigidas por la ley 80 de 1993.
B36: GASTOS POR PAGOS DE AUDITORES, REVISORES, CONTADORES Y ABOGADOS | E36: La cobertura de esta póliza debe extenderse a amparar los gastos en que incurra el asegurado, por pago a auditores, revisores, contadores y abogados, que se requieran para analizar y certificar los datos extraídos de los libros de contabilidad y demás documentos del asegurado, al igual que cualquier otra información que sea solicitada por la compañía al asegurado para el ajuste y definición de los reclamos.
B37: GASTOS ADICIONALES PARA DEMOSTRAR EL SINIESTRO Y SU CUANTÍA | E37: La aseguradora se obliga a indemnizar los gastos en que necesaria y razonablemente incurra el asegurado con el fin de demostrar la ocurrencia del siniestro y la cuantía de la pérdida, de los bienes que sean afectados por uno de los eventos amparados bajo la presente póliza, hasta el 100% de los gastos demostrados y estos hacen parte del límite asegurado.
B38: ACTOS DE AUTORIDAD | E38: La póliza se extiende a cubrir los daños o pérdidas materiales de los bienes asegurados, causados directamente por la acción de la autoridad legalmente constituida, ejercida con el fin de disminuir o aminorar las consecuencias de cualquiera de los riesgos amparados. Se excluye la confiscación de bienes.
B39: 2.7. | C39: CLÁUSULAS BÁSICAS
B40: REVOCACIÓN DE LA PÓLIZA, CLÁUSULAS O CONDICIONES Con termino de noventa (90) días. | E40: La aseguradora podrá revocar la póliza, cláusulas o condiciones unilateralmente por la compañía, mediante noticia escrita enviada al asegurado, a su última dirección registrada, con no menos de noventa (90) días de antelación; contados a partir de la fecha del envío. El asegurado podrá pedir la revocación en cualquier momento, según lo previsto en el Código de Comercio. Así mismo, en el caso de que la aseguradora decida no otorgar renovación o prorroga del contrato de seguro, deberá dar aviso de ello al asegurado con no menos de noventa (90) días de antelación a la fecha de vencimiento de la póliza, en caso contrario se dará por entendido que la aseguradora acepta la renovación o prorroga hasta el límite legal establecido en la Ley 80 de 1993, para la adición de los contratos y manteniendo las mismas condiciones ofertadas en este proceso.
B41: AMPARO AUTOMÁTICO DE NUEVOS CARGOS | E41: Bajo esta cláusula se otorga amparo automático a todo nuevo cargo creado por la Entidad, durante la vigencia de la misma, sin que exista obligación por parte de la entidad asegurada de reportarle dichos nuevos cargos, siempre que los nuevos cargos cuenten con las mismas seguridades y controles que los reportados en el inicio de la póliza.
B42: ERRORES, OMISIONES O INEXACTITUDES | E42: El tomador está obligado a declarar sinceramente los hechos y circunstancias que determinen el estado del riesgo. La inexactitud sobre hechos o circunstancias que, conocidas por la compañía, la hubieren retraído de celebrar el contrato o inducido a estipular condiciones más onerosas, produce la nulidad relativa del seguro. Sin embargo, si se incurriere en errores, omisiones e inexactitudes inculpables al tomador o al asegurado, el contrato no será nulo ni habrá lugar a la aplicación del inciso tercero del artículo 1058 del Código de Comercio sobre reducción porcentual de la prestación asegurada. En este caso se deberá pagar la prima adecuada al verdadero estado del riesgo.
...

Sheet 3. COND. BÁSICAS RCE
B2: SECRETARIA DISTRITAL DE SEGURIDAD, CONVIVENCIA Y JUSTICIA DE BOGOTÁ - SCJ.
B3: ANEXO No. 1 - CONDICIONES OBLIGATORIAS (MÍNIMAS TÉCNICAS)
B4: GRUPO No. 1
B6: 3. PÓLIZA DE SEGURO DE RESPONSABILIDAD CIVIL EXTRACONTRACTUAL
B7: 3.1. | C7: INFORMACIÓN GENERAL
B8: TOMADOR: | C8: SECRETARIA DISTRITAL DE SEGURIDAD, CONVIVENCIA Y JUSTICIA DE BOGOTÁ - SCJ. | F8: NIT. | G8: =+'1. COND. BÁSICAS TRDM'!G8 -> 899.999.061-9
B9: ASEGURADO: | C9: SECRETARIA DISTRITAL DE SEGURIDAD, CONVIVENCIA Y JUSTICIA DE BOGOTÁ - SCJ. | F9: NIT. | G9: =+G8 -> 899.999.061-9
B10: BENEFICIARIO: | C10: TERCEROS AFECTADOS
B11: 3.2. | C11: OBJETO DEL SEGURO
B12: Amparar los perjuicios patrimoniales y extrapatrimoniales que cause la Entidad como consecuencia de la Responsabilidad Civil Extracontractual originada dentro o fuera de sus instalaciones, en el desarrollo de sus actividades o en lo relacionado con ella, lo mismo que los actos de sus empleados y funcionarios dentro y fuera del territorio nacional. Nota: Se entenderán como terceros todas y cada una de las personas que circulen, ingresen, accedan o se encuentren en los predios de asegurado o por los cuales es responsable en su aseguramiento, independientemente que el asegurado le esté prestando un servicio objeto de su razón social. De igual forma se debe dar cobertura a los perjuicios que se lleguen a causar a familiares del funcionario o de terceros derivados de la realización de teletrabajo por parte de los funcionarios o los contratistas para el apoyo a la misionalidad o la la gestión o los perjucios que se lleguen a causar a bienes derivados de esta nueva modalidad de trabajo.
B13: 3.3. | C13: LÍMITE ASEGURADO EVENTO / VIGENCIA
A14: 1 | B14: Oferta Básica: Se califica en Condiciones Adicionales (Formato No. 3) el aumento del límite ofrecido sin cobro de prima adicional. | F14: 10000000000
B15: 3.4. | C15: INFORMACIÓN GENERAL
B16: Nómina promedio mensual: $4.261.412.847
B17: Número de funcionarios: 733 / Contratistas: 401 contratos de apoyo a la gestión
B18: Presupuesto anual proyectado de la Entidad año 2021: $603.910.088.00
B19: NOTA: | C19: CADA SUBLÍMITE INDICADO ESTA CONTEMPLADO DENTRO DEL LÍMITE ASEGURADO.
B20: 3.5. | C20: COBERTURAS BÁSICAS
B21: Queda expresamente acordado y convenido, que mediante la presente póliza la aseguradora ampara los perjuicios patrimoniales y extrapatrimoniales, que cause la Entidad a terceros al igual que las costas y gastos de proceso, siempre y cuando el hecho generador le cause daños materiales, lesiones personales y/o muerte; generados como consecuencia de la responsabilidad civil extracontractual originada dentro o fuera de sus instalaciones, en el desarrollo de sus actividades propias a su objeto social o en lo relacionado con ellas, incluidos los actos de sus empleados y funcionarios en el desarrollo de sus funciones. De igual forma, se acuerda que para todos los efectos de la presente póliza, el termino de “perjuicios patrimoniales” contempla los perjuicios relacionados con daños materiales, daño emergente, lucro cesante y demás perjuicios considerados como patrimoniales; y el termino de “perjuicios extrapatrimoniales” comprende, entre otros, el daño moral, daño fisiológico, daño a la vida de relación y demás perjuicios considerados como extrapatrimoniales. La aseguradora acepta expresamente el otorgamiento de la cobertura de este seguro, según lo previsto en el Artículo 1131 del Código de Comercio, relacionado con la configuración del siniestro e inicio de la prescripción, que estipula: ARTICULO 1131. Configuración del siniestro en el seguro de responsabilidad civil. En el seguro de responsabilidad se entenderá ocurrido el siniestro en el momento en que acaezca el hecho externo imputable al asegurado, fecha a partir de la cual correrá la prescripción respecto de la víctima. Frente al asegurado ello ocurrirá desde cuando la víctima le formula la petición judicial o extrajudicial.
B22: PREDIOS, LABORES Y OPERACIONES (incluyendo incendio y explosión) | E22: La aseguradora se obliga a indemnizar, sujeto a los términos y condiciones establecidas tanto en las condiciones generales como a las particulares de la póliza, los perjuicios patrimoniales y extrapatrimoniales que cause el asegurado con motivo de la responsabilidad civil extracontractual en que incurra de acuerdo con la ley colombiana, por hechos imputables al asegurado, que causen la muerte, lesión o menoscabo en la salud de las personas (daños personales) y/o el deterioro o destrucción de bienes (daños materiales) y perjuicios económicos, incluyendo lucro cesante y daño moral, como consecuencia directa de tales daños personales y/o daños materiales. La aseguradora responderá, además, por los costos del proceso que el tercero damnificado o sus causahabientes promuevan en su contra o la del asegurado, con las salvedades siguientes: a) Si la Entidad asegurada afronta el proceso contra orden expresa de la compañía. b) Si la responsabilidad proviene de dolo o esta expresamente señalada en las exclusiones de la póliza. c) Si la condena por los perjuicios ocasionados a la victima excede la suma que delimita la responsabilidad de la aseguradora, esta solo responderá por los gastos del proceso en proporción a la cuota que le corresponda en la indemnización.
E23: PREDIOS, los perjuicios patrimoniales y extrapatrimoniales que cause el asegurado por la posesión, el uso o el mantenimiento de sus predios o por los que es responsable y en especial en los que la Entidad asegurada desarrolla y realiza las actividades objeto de la cobertura de esta póliza.
E24: LABORES Y OPERACIONES, los perjuicios patrimoniales y extrapatrimoniales que cause el asegurado por las labores u operaciones que lleva a cabo la Entidad asegurada en el desarrollo de las actividades objeto de la cobertura de esta póliza incluyendo todos los riesgos que son inherentes a las actividades desarrolladas por el asegurado en el giro normal de sus actividades y derivadas de: a) Posesión o uso de ascensores y escaleras automáticas. b) Posesión o uso de máquinas y equipos de trabajo, de cargue, descargue y transporte dentro de los predios asegurados. c) Transporte de bienes del asegurado, tales como materias primas, productos en proceso y productos terminados, fuera de los predios asegurados (Cuando aplique) d) Operaciones de cargue y descargue. (Cuando aplique) e) Posesión o uso de avisos y vallas publicitarias en el territorio nacional. f) Posesión o uso de sus instalaciones sociales, culturales y deportivas y los eventos que el asegurado realice u organice en ellas. g) Viajes de funcionarios del asegurado dentro y fuera del territorio nacional. h) Actividades y Eventos Sociales y Culturales i) Participación del asegurado en ferias y exposiciones nacionales. j) Vigilancia de los predios asegurados por personal del asegurado o de vigilantes de firmas especializadas, incluyendo el uso de armas, los errores de puntería y el uso de perros guardianes para tales propósitos. Cuando se trate de firmas especilizadas en exceso de las garantías constituidas por estos contratistas. k) Posesión o uso de depósitos, tanques y tuberías ubicados o instalados dentro de los predios asegurados. l) Actos de los directivos, representantes y empleados del asegurado en el desempeño de sus funciones y dentro de las actividades aseguradas. Se excluye la Responsabilidad Profesional. m) Posesión o uso de cafeterías, casinos y restaurantes para uso de sus empleados y/o invitados. n) Incendio y/o explosión producidos dentro de los predios asegurados. o) Uso de parqueaderos dentro de los predios del asegurado p) Descargue, dispersión, liberación o escape de humo, vapores, hollín, ácidos, álcalis y en general productos químicos tóxicos, líquidos o gaseosos, y demás materias irritantes o contaminantes, en o sobre la tierra, atmosfera, ríos, lagos o cualquier curso o cuerpo de agua, producida en forma accidental, súbita e imprevista. (Cuando aplique) q) Uso de casinos, restaurantes y cafeterías de su propiedad o que sean ocupados por él o que tenga tomados en arrendamiento o alquiler, no obstante el hecho que éstos estén administrados por personas naturales o jurídicas distintas de la entidad o sus empleados. r) Productos y Trabajos terminados. (Cuando aplique).
B25: GASTOS MÉDICOS (sin aplicación de deducibles). Sublímite $288.000.000 evento / $580.000.000 vigencia. Se califica en Condiciones Adicionales (Formato No. 3) el aumento del sublímite. | E25: La aseguradora debe contemplar para la propuesta de este amparo, que indemnizarán hasta el límite establecido en la póliza y dentro de los términos y con sujeción a las condiciones de este seguro, los gastos razonables y prioritarios que se causen, por concepto de primeros auxilios inmediatos, servicios médicos, quirúrgicos, de ambulancia de hospital, de enfermeras y medicamentos, como consecuencia de las lesiones corporales producidas a terceros en desarrollo de las actividades de la entidad. Se precisa, que el amparo que se otorga es independiente al de responsabilidad civil extracontractual y por consiguiente, los pagos que por dicho concepto se realicen, en ningún caso pueden ser interpretados como aceptación tácita de responsabilidad y no está sujeto a la aplicación de deducible. Los funcionarios y contratistas para el apoyo a la gestión administrativa y demás personal de apoyo a la Entidad se consideran terceros. De igual forma, en caso de requerirse, este amparo puede aplicar por reembolso.
B26: RESPONSABILIDAD CIVIL PATRONAL. Sublímite de $500.000.000 persona / $1.100.000.000 vigencia. Se califica en Condiciones Adicionales (Formato No. 3) el aumento del sublímite. | E26: La aseguradora mediante este amparo se compromete a indemnizar los perjuicios patrimoniales derivados de la responsabilidad civil extracontractual que le sea imputable al asegurado en su calidad de empleador exclusivamente por los accidentes de trabajo que sufran los empleados a su servicio, en el desarrollo de las actividades asignadas a ellos y de acuerdo con las siguientes definiciones y condiciones: a) Se entiende por empleado toda persona que mediante contrato de trabajo o de prestación de servicios (incluidos contratistas para el apoyo a la gestión admnistritativa o misional) preste al asegurado. b) Quedan excluidas de este seguro: Las enfermedades profesionales, endémicas o epidémicas, contagiosas (en especial el COVID19), por accidentes de trabajo que se hayan sido provocados deliberadamente o por culpa grave del empleado. Se precisa que este amparo opera en exceso de la seguridad social.
B27: CONTRATISTAS Y SUBCONTRATISTAS INDEPENDIENTES AL 100% DEL LÍMITE ASEGURADO | E27: La aseguradora bajo este amparo se obliga a cubrir los perjuicios patrimoniales derivados de la responsabilidad civil extracontractual que le sea imputable al asegurado y/o los gastos médicos por los daños que causare a terceros, a consecuencia de labores amparadas realizadas por contratistas y subcontratistas independientes a su servicio. Se precisa que este amparo opera en exceso de las pólizas del contratista o subcontratista.
B28: RESPONSABILIDAD CIVIL CRUZADA AL 100% DEL LÍMITE ASEGURADO. Sublímite de $805.000.000 evento / vigencia. | E28: Se cubren los perjuicios patrimoniales causados por un contratista a otro, a consecuencia de las labores amparadas previamente contratadas por el asegurado y que se efectúen dentro de los predios del mismo. Se precisa que este amparo opera en exceso de las pólizas del contratista.
B29: RESPONSABILIDAD CIVIL POR LA CAIDA, EL DESCOPE, LA PODA Y EL MANTENIMIENTO DE ÁRBOLES | E29: Se cubren los perjuicios patrimoniales causados por la caída, el descope, la poda y el mantenimiento de árboles.
B30: VEHÍCULOS PROPIOS Y NO PROPIOS EN EXCESO DEL SEGURO DE AUTOMÓVILES Y SOAT Sublímite de $1.200.000.000 por vehículo / $2.400.000.000 vigencia. | E30: Mediante esta condición se indemnizarán los daños que cause el asegurado en razón de la responsabilidad civil por lesiones a terceras personas o daños a propiedades de terceros que le sean imputables legalmente como consecuencia de la utilización en el giro normal de sus negocios, de vehículos prcpios o no propios, en exceso de los limites contratados en el seguro de automóviles. En caso que el vehículo que generó los daños no cuente con pólizá de automóviles y/o SOAT, la cobertura de los daños será asumida por la presente póliza hasta el monto del límite fijado.
B31: DAÑOS Y HURTO DE VEHÍCULOS INCLUIDOS ACCESORIOS EN PARQUEADEROS Y PREDIOS DEL ASEGURADO Sublímite de $150.000.000 por vehículo / $500.000.000 vigencia. | E31: Queda entendido y convenido que la cobertura de la póliza se extiende a amparar los eventos que ocurran en los parqueaderos de propiedad o sobre los cuales se ejerza tenencia y/o control y/o custodia el asegurado, incluyendo daños y hurto de vehículos, bicicletas o accesorios. Los vehículos de los funcionarios y contratistas se consideran terceros.
B32: AMPARO AUTOMÁTICO PARA NUEVOS PREDIOS Y OPERACIONES Con termino de noventa (90) días. | E32: La aseguradora debe contemplar la extensión de la cobertura automática del seguro, en los mismos términos y limitaciones establecidos en esta póliza, para amparar la responsabilidad extracontractual por nuevas operaciones y/o el uso, posesión y demás actividades desarrolladas en nuevos predios que adquiera el asegurado o sobre los cuales obtenga el dominio o control.
B33: GASTOS ADICIONALES PARA CAUCIONES Y COSTAS PROCESALES. | E33: La presente póliza ampara en exceso de la suma asegurada, los siguientes gastos: a) El costo de cualquier clase de caución que el Asegurado tenga que prestar; la aseguradora no se obliga sin embargo, a otorgar dichas cauciones. b) Intereses de mora en beneficio del tercero afectado.
B34: GASTOS ADICIONALES PARA HONORARIOS PROFESIONALES DE ABOGADOS, CONSULTORES, AUDITORES, INTERVENTORES, ETC. | E34: No obstante lo que se diga en contrario en las condiciones generales y particulares de la póliza, la Compañía se obliga a indemnizar los honorarios en que necesaria y razonablemente incurra el asegurado, por concepto de abogados, consultores, auditores, interventores, revisores, contadores, etc., para obtener y certificar: a.- los detalles extraídos de los libros de contabilidad y del negocio mismo del asegurado, y b.- cualesquiera otras informaciones, documentos y testimonios que sean pedidos por la compañía al asegurado según lo establecido en las condiciones generales y particulares de la póliza. La compañía reconocerá hasta el 100% de las gastos demostrados por el asegurado.
B35: POLUCIÓN Y CONTAMINACIÓN ACCIDENTAL | E35: Se cubren los perjuicios derivados de la responsabilidad civil extracontractual en que pudiera incurrir el asegurado por daños a terceros, ocasionados por variaciones perjudiciales de aguas, atmósfera suelos, subsuelos o bien por ruido y habiéndose manifestado durante la vigencia de la póliza siempre y cuando sean a consecuencia directa de un acontecimiento que, desviándose de la marcha normal de la actividad objeto del seguro, ocurra durante la vigencia de la póliza, dentro de los inmuebles asegurados de forma repentina, accidental e imprevista. Se excluye la polución y contaminación paulatina.
B36: RESPONSABILIDAD CIVIL DERIVADA DE MONTAJES, CONSTRUCCIONES Y OBRAS CIVILES PARA EL MANTENIMIENTO Y/O AMPLIACIÓN O ENSANCHE DE PREDIOS. (CUANDO APLIQUE) Sublimite 10% del valor asegurado evento / vigencia. | E36: Se cubren los perjuicios derivados de la responsabilidad civil extracontractual derivada de montajes , construcciones y obras civiles para el mantenimiento y/o ampliación o ensanche de predios.
... B41: BIENES BAJO CUIDADO, TENENCIA, CONTROL Y CUSTODIA | E41: Se amparan los daños y/o perjuicios que se causen a terceros, con bienes que sin ser de propiedad del asegurado se encuentren bajo su cuidado, tenencia, control y custodia. Se excluye el hurto en cualquiera de sus formas y el daño de dichos bienes.
B42: 3.6. | C42: CLÁUSULAS BÁSICAS
B43: REVOCACIÓN DE LA PÓLIZA, CLÁUSULAS O CONDICIONES Con termino de noventa (90) días. | E43: La aseguradora podrá revocar la póliza, cláusulas o condiciones unilateralmente por la compañía, mediante noticia escrita enviada al asegurado, a su última dirección registrada, con no menos de noventa (90) días de antelación; contados a partir de la fecha del envío. El asegurado podrá pedir la revocación en cualquier momento, según lo previsto en el Código de Comercio. Así mismo, en el caso de que la aseguradora decida no otorgar renovación o prorroga del contrato de seguro, deberá dar aviso de ello al asegurado con no menos de noventa (90) días de antelación a la fecha de vencimiento de la póliza, en caso contrario se dará por entendido que la aseguradora acepta la renovación o prorroga hasta el límite legal establecido en la Ley 80 de 1993, para la adición de los contratos y manteniendo las mismas condiciones ofertadas en este proceso.
B44: ERRORES, OMISIONES O INEXACTITUDES | E44: El tomador está obligado a declarar sinceramente los hechos y circunstancias que determinen el estado del riesgo. La inexactitud sobre hechos o circunstancias que, conocidas por la compañía, la hubieren retraído de celebrar el contrato o inducido a estipular condiciones más onerosas, produce la nulidad relativa del seguro. Sin embargo, si se incurriere en errores, omisiones e inexactitudes inculpables al tomador o al asegurado, el contrato no será nulo ni habrá lugar a la aplicación del inciso tercero del artículo 1058 del Código de Comercio sobre reducción porcentual de la prestación asegurada. En este caso se deberá pagar la prima adecuada al verdadero estado del riesgo.
B45: AMPLIACIÓN AVISO DEL SINIESTRO Con termino de noventa (90) días. | E45: Queda convenido y aceptado que el asegurado podrá dar aviso de la ocurrencia del siniestro en un término de noventa (90), siguientes a la fecha en que haya conocido o debido conocer la ocurrencia del mismo.
B46: DESIGNACIÓN DE BIENES | E46: La aseguradora acepta el título, nombre, denominación o nomenclatura con que el asegurado identifica o describe los bienes asegurados en sus registros o libros de comercio o contabilidad. El alcance de éstas designación de bienes se amplia al objeto establecido en el Manual de Procedimientos Administrativos y Contables para el manejo y control de los bienes de la Entidad.
...

Sheet 4. COND. BÁSICAS TRANSP. VAL.
B2: SECRETARIA DISTRITAL DE SEGURIDAD, CONVIVENCIA Y JUSTICIA DE BOGOTÁ - SCJ.
B3: ANEXO No. 1 - CONDICIONES OBLIGATORIAS (MÍNIMAS TÉCNICAS)
B4: GRUPO No. 1
B6: 4. PÓLIZA DE TRANSPORTE DE VALORES
B7: 4.1. | C7: INFORMACIÓN GENERAL
B8: TOMADOR: | C8: SECRETARIA DISTRITAL DE SEGURIDAD, CONVIVENCIA Y JUSTICIA DE BOGOTÁ - SCJ. | F8: NIT. | G8: =+'1. COND. BÁSICAS TRDM'!G8 -> 899.999.061-9
B9: ASEGURADO: | C9: SECRETARIA DISTRITAL DE SEGURIDAD, CONVIVENCIA Y JUSTICIA DE BOGOTÁ - SCJ. | F9: NIT. | G9: =+G8 -> 899.999.061-9
B10: BENEFICIARIO: | C10: SECRETARIA DISTRITAL DE SEGURIDAD, CONVIVENCIA Y JUSTICIA DE BOGOTÁ - SCJ. | F10: NIT. | G10: =+G8 -> 899.999.061-9
B11: 4.2. | C11: OBJETO DEL SEGURO
B12: Amparar las pérdidas y los daños materiales causados como consecuencia de los eventos que constituyen los amparos mencionados, por el transporte de dineros en efectivo, títulos valores, cheques, y cualquier otro documento de propiedad del asegurado que pueda ser convertido fácilmente en dinero en efectivo, incluyendo las movilizaciones de dinero en efectivo realizadas por los los funcionarios en comisión y delegados del manejo de las cajas menoresy demás títulos valores, por los cuales la Entidad sea o deba ser legalmente responsable.
B13: 4.3. | C13: LÍMITE ASEGURADO POR DESPACHO
B14: Límite: | F14: $10.000.000.
B15: 4.3.1. | C15: Presupuesto anual de movilización | F15: 120000000
B16: 4.3.2. | C16: Trayectos asegurados:
B17: Movilizaciones entre dependencias del asegurado y/o hasta, bancos o corporaciones, casas de cambio o entidades con las cuales que tengan interés con las transacciones de la Entidad asegurada y viceversa.
B18: 4.3.3. | C18: Medios de Transporte y alcance de la cobertura
B19: Por mensajero particular, terrestre, aéreo, marítimo, fluvial y/o férreo, y cualquier otro que el asegurado deba utilizar para el transporte de los bienes objeto de este seguro, aclarando que la póliza cubre todo tipo de medio de movilización sin excepción y sin restricción de horarios para la movilización De igual forma la aseguradora acepta como medio de transporte cuando se realice en vehículos propios, de funcionarios o contratistas de la Entidad o de terceros.
B20: 4.4. | C20: SISTEMA DE COBRO DE PRIMA
B21: La aseguradora acepta como sistema de cobro un único anual (o con base en las vigencias contratadas y con pago por vigencia fiscal) sobre el valor del presupuesto anual indicado sin reportes y sin ajuste al final de la vigencia. Procedimiento para reporte de movilizaciones: Se ampara cualquier despacho hasta el límite asegurado sin que se requiera suministro de relaciones periodicas de despachos y efectuando el cobro de una prima única por toda la vigencia de la póliza. Por tanto, la aseguradora no dará aplicación a la cláusula de falta de avisos o aplicaciones a la presente póliza, manteniendo de esta forma la cobertura durante la vigencia estipulada en la carátula de la póliza.
B22: NOTA: | C22: CADA SUBLÍMITE INDICADO ESTAN CONTEMPLADOS DENTRO DEL LÍMITE ASEGURADO.
B23: 4.5. | C23: AMPAROS BÁSICOS
B24: DAÑO MATERIAL DE LOS VALORES TRANSPORTADOS (CUANDO APLIQUE) | E24: La aseguradora se compromete a indemnizar al asegurado la pérdida o daño material que sufran los valores asegurados como consecuencia de incendio y/o rayo, cualquier evento de la naturaleza, caída a abismos o colisión o desbarrancamiento o volcamiento o fallas mecánicas imprevistas del medio de transporte, inundaciones, combustión espontánea, explosión, caída de aeronaves u otros objetos que se desprendan de ella u otros objetos aéreos.
B25: HURTO CALIFICADO | E25: La aseguradora se compromete a indemnizar al asegurado la pérdida o daño material que sufran los valores asegurados como consecuencia de hurto calificado (de acuerdo con su definición legal), suministro de sustancias a los transportadores de los valores que provoquen doblegación de la voluntad, apoderamiento forzoso del medio de transporte.
B26: HURTO SIMPLE | E26: La aseguradora se compromete a indemnizar al asegurado la pérdida o daño material que sufran los valores asegurados como consecuencia de hurto simple (de acuerdo con su definición legal).
B27: GASTOS ADICIONALES | E27: La aseguradora se compromete a pagar al asegurado los gastos razonables y debidamente justificados en que incurra el asegurado para evitar la extensión y propagación del siniestro o para el manejo del salvamento de los valores asegurados
B28: HUELGA - INCLUIDO ACTOS MAL INTENCIONADOS DE TERCEROS, HUELGA, ASONADA, SUSPENSIÓN DE HECHO DE LABORES, SUSPENSIÓN DE TRABAJO POR CIERRE PATRONAL, DISTURBIOS DE TRABAJO, MOTINES, CONMOCIONES CIVILES, ACTOS SUBVERSIVOS, TERRORISMO Y APODERAMIENTO O DESVÍO DE NAVES O AERONAVES. | E28: La aseguradora se compromete a indemnizar hasta el límite del valor asegurado los daños materiales o pérdidas que sufran los valores asegurados como consecuencia de actos mal intencionados de terceros, huelga, asonada, suspensión de hecho de labores, suspensión de trabajo por cierre patronal, disturbios de trabajo, motines, conmociones civiles, actos subversivos, terrorismo y apoderamiento o desvío de naves o aeronaves.
B29: PERMANENCIA EN LUGARES INICIALES, INTERMEDIOS O FINALES, DENTRO O FUERA DE CAJA FUERTE | E29: La aseguradora se compromete a indemnizar hasta el límite del valor, las pérdidas que sufran los valores asegurados por la permanencia en lugares iniciales, intermedios o finales y que ésten dentro o fuera de caja fuerte.
B30: MOVILIZACIONES EN TRAYECTOS MÚLTIPLES | E30: La aseguradora acepta expresamente que otorga cobertura para los dineros y valores que sean transportados por el asegurado en trayectos múltiples, entiendase por estos cuando el mensajero o personal que realiza la movilización de los bienes objeto de este seguro deba movilizarse o desplazarse por varios trayectos con los valores amparados bajo la presente póliza, sin importar los lugares que deba recorrer en el territorio colombiano o fuera de este.
B31: 4.6. | C31: CLÁUSULAS BÁSICAS
B32: REVOCACIÓN DE LA PÓLIZA, CLÁUSULAS O CONDICIONES. Con Termino de Noventa (90) días y para AMIT, AMCCOPH, Terrorismo y Sabotaje diez (10) días. | E32: La aseguradora podrá revocar la póliza, cláusulas o condiciones unilateralmente por la compañía, mediante noticia escrita enviada al asegurado, a su última dirección registrada, con no menos de noventa (90) días y para AMIT Y AMCCOPH diez (10) días, de antelación; contados a partir de la fecha del envío. El asegurado podra pedir la revocación en cualquier momento, según lo previsto en el Código de Comercio. Así mismo, en el caso de que la aseguradora decida no otorgar renovación o prorroga del contrato de seguro, excepto para AMIT, AMCCOPH, Terrorismo y Sabotaje, deberá dar aviso de ello al asegurado con no menos de noventa (90) días de antelación a la fecha de vencimiento de la póliza, en caso contrario se dará por entendido que la aseguradora acepta la renovación o prorroga hasta el límite legal establecido en la Ley 80 de 1993, para la adición de los contratos y manteniendo las mismas condiciones ofertadas en este proceso de aseguradoras.
B33: ERRORES, OMISIONES O INEXACTITUDES | E33: El tomador está obligado a declarar sinceramente los hechos y circunstancias que determinen el estado del riesgo. La inexactitud sobre hechos o circunstancias que, conocidas por la compañía, la hubieren retraído de celebrar el contrato o inducido a estipular condiciones más onerosas, produce la nulidad relativa del seguro. Sin embargo, si se incurriere en errores, omisiones e inexactitudes inculpables al tomador o al asegurado, el contrato no será nulo ni habrá lugar a la aplicación del inciso tercero del artículo 1058 del Código de Comercio sobre reducción porcentual de la prestación asegurada. En este caso se deberá pagar la prima adecuada al verdadero estado del riesgo.
B34: AMPLIACIÓN AVISO DEL SINIESTRO Con termino de noventa (90) días. | E34: Queda convenido y aceptado que el asegurado podrá dar aviso de la ocurrencia del siniestro en un término de noventa (90), siguientes a la fecha en que haya conocido o debido conocer la ocurrencia del mismo.
B35: CONOCIMIENTO DEL RIESGO | E35: La Compañía acepta mediante la presente cláusula que la Entidad, le ha brindado la oportunidad para realizar la inspección de los bienes y riesgos a que están sujetos los mismos y el patrimonio del Asegurado, razón por la cual se deja constancia del conocimiento y aceptación de los hechos, circunstancias y, en general, condiciones de los mismos. La compañía se reserva el derecho de llevar a cabo la inspección cuantas veces lo juzgue pertinente.
B36: ANTICIPO DE INDEMNIZACIÓN DEL 50% Se califica en Condiciones Adicionales (Formato No. 3) el aumento del porcentaje ofrecido. | E36: Queda expresamente acordado que, a petición escrita de la Entidad, la aseguradora anticipará pagos parciales sobre el valor de cualquier reclamo, con base en el valor de la estimación preliminar de la pérdida aceptada por el ajustador, para adelantar la reparación, reposición o remplazo de los bienes asegurados. En el caso de que no haya nombramiento de ajustador, el anticipo se liquidará con base en la valoración de la cuantía de la pérdida amparada, acreditada por la entidad mediante cotización de la misma. En caso que el anticipo o suma de anticipos que la compañía adelante al asegurado llegare a exceder la suma total indemnizable a que tenga derecho, éste se compromete a devolver el exceso pagado. Para esta cláusula la aseguradora debe contemplar un plazo máximo para el pago del anticipo de diez (10) días hábiles contados a partir de la fecha de solicitud y formalización del mismo.
B37: MODIFICACIONES A FAVOR DEL ASEGURADO | E37: Los cambios o modificaciones a las condiciones de la presente póliza, serán acordados mutuamente entre la compañía y el asegurado. El certificado, documento o comunicaciones que se expidan para formalizarlos debe ser firmado, en señal de aceptación, por un representante legal del asegurado o funcionario autorizado, prevaleciendo sobre las condiciones de esta póliza. No obstante si durante la vigencia de la póliza se presentan modificaciones en las condiciones del seguro, legalmente aprobadas que representen un beneficio a favor del asegurado, tales modificaciones se consideran automáticamente incorporadas. Siempre y cuando no causen cobro de prima adicional.
B38: NOMBRAMIENTO Y DESIGNACIÓN DE AJUSTADORES | E38: El nombramiento de ajustadores deberá efectuarse de común acuerdo entre la aseguradora y el asegurado, para lo cual la aseguradora presentará para cada reclamo una relación de cinco (5) firmas ajustadoras. No obstante la anterior condición, el asegurador con su propuesta se obliga a presentar la lista de todos sus ajustadores y la Entidad se reserva el derecho de nombrar al ajustador que considere más adecuado o solicitar el cambio de los mismos en caso de que no fueren de su entera satisfacción, sin que para ello se requiera motivación alguna.
B39: VARIACIONES DEL RIESGO | E39: Queda entendido, convenido y aceptado que las notificaciones que sobre los hechos o circunstancias no previsibles que sobrevengan con posterioridad a la celebración del contrato de seguro y que, conforme al criterio consignado en el inciso 1° del artículo 1058 del código de comercio, signifiquen agravación del riesgo, se efectuarán por la Entidad dentro de los noventa (90) días siguientes a la fecha de modificación del riesgo.
B40: NO CONCURRENCIA DE AMPAROS, CLÁUSULAS O CONDICIONES | E40: Queda entendido, convenido y aceptado, que si dos o más amparos, cláusulas o condiciones otorgan cobertura a un mismo evento, se indemnizará con base en aquella que ofrezca mayor protección para los intereses del asegurado. De igual manera prevalecerán los amparos, cláusulas o condiciones que otorguen coberturas sobre aquellos que las excluyan. En todo caso y ante cualquier discrepancia sobre cual es el amparo, cláusula o condición aplicable a un caso determinado, se aplicara aquella o aquellas que en conjunto determine el asegurado de acuerdo a su conveniencia.
B41: NO APLICACIÓN DE GARANTÍAS | E41: Queda expresamente acordado y aceptado que la cobertura otorgada bajo la presente póliza no queda sujeta al cumplimiento de ningún tipo de garantía por parte de la entidad asegurada.
B42: PAGO DE LA INDEMNIZACIÓN | E42: Queda expresamente acordado que la aseguradora acepta efectuar el pago de la indemnización, en dinero o mediante el giro a los contratistas y/o proveedores de servicios o suministro de éstos u otros similares con los cuales la Entidad, decida remplazar, reconstruir, reparar y/o reponer el bien o bienes afectados; y para este último caso la compañía efectuará el pago hasta el monto de su responsabilidad, a petición escrita de la Entidad Asegurada. De todas formas queda convenido que la entidad asegurada se reserva el derecho de determinar si el giro de la indemnización se realiza en dinero o giro a los contratistas y la aseguradora acepta esta condición.
...

Sheet 5. COND. BÁSICAS TRANSP. MCIAS.
B2: SECRETARIA DISTRITAL DE SEGURIDAD, CONVIVENCIA Y JUSTICIA DE BOGOTÁ - SCJ.
B3: ANEXO No. 1 - CONDICIONES OBLIGATORIAS (MÍNIMAS TÉCNICAS)
B4: GRUPO No. 1
B6: 5. PÓLIZA DE TRANSPORTE DE MERCANCÍAS
B7: 5.1. | C7: INFORMACIÓN GENERAL
B8: TOMADOR: | C8: SECRETARIA DISTRITAL DE SEGURIDAD, CONVIVENCIA Y JUSTICIA DE BOGOTÁ - SCJ. | F8: NIT. | G8: =+'1. COND. BÁSICAS TRDM'!G8 -> 899.999.061-9
B9: ASEGURADO: | C9: SECRETARIA DISTRITAL DE SEGURIDAD, CONVIVENCIA Y JUSTICIA DE BOGOTÁ - SCJ. | F9: NIT. | G9: =+G8 -> 899.999.061-9
B10: BENEFICIARIO: | C10: SECRETARIA DISTRITAL DE SEGURIDAD, CONVIVENCIA Y JUSTICIA DE BOGOTÁ - SCJ. | F10: NIT. | G10: =+G9 -> 899.999.061-9
B11: 5.2 | C11: OBJETO DEL SEGURO
B12: Amparar las pérdidas y los daños materiales causados como consecuencia de los eventos que constituyen los amparos mencionados,en el transporte de cualquier tipo de mercancías nuevas y usadas incluida maquinaría, por cualquier medio de transporte, de los bienes de su propiedad, bajo tenencia, responsabilidad y/o control; propios del giro normal de las actividades de la Entidad.
B13: 5.3. | C13: LÍMITE ASEGURADO POR DESPACHO | F13: 250000000
B14: 5.3.1. | C14: Presupuesto anual de movilización | F14: 3000000000
B15: 5.4. | C15: TRAYECTOS ASEGURADOS
B16: Importaciones, Exportaciones y Reexportaciones: Desde cualquier lugar del mundo, hasta su destino final en Colombia y viceversa, bodega a bodega. Despachos Nacionales: Desde y hasta cualquier ciudad en el territorio nacional. Despachos Urbanos: Desde cualquier parte de la ciudad hasta su destino final en la misma.
B17: 5.4.1. | C17: Medios de Transporte y alcance de la cobertura
B18: Cualquier vehículo propio, de terceros o de firma especializada, ya sea terrestre, ferreo, aéreo, charter, marítimo y fluvial (incluso para las maritimas y fluviales que no se encuentren clasificadas por las autoridades competentes), y cualquier otro que el asegurado deba utilizar para el transporte de los bienes objeto de este seguro, aclarando que la póliza cubre todo tipo de medio de movilización sin excepción y sin restricción de horarios para la movilización, incluido los bienes transportados en vehículos arrendados, de funcionarios o contratistas de la entidad o de terceros.
B19: 5.5. | C19: SISTEMA DE COBRO DE PRIMA
B20: La aseguradora acepta como sistema de cobro un único anual (o con base en las vigencias contratadas y con pago por vigencia fiscal) sobre el valor del presupuesto anual indicado sin reportes y sin ajuste al final de la vigencia. Procedimiento para reporte de movilizaciones: Se ampara cualquier despacho hasta el límite asegurado sin que se requiera suministro de relaciones periodicas de despachos y efectuando el cobro de una prima única por toda la vigencia de la póliza. Por tanto, la aseguradora no dará aplicación a la cláusula de falta de avisos o aplicaciones a la presente póliza, manteniendo de esta forma la cobertura durante la vigencia estipulada en la carátula de la póliza.
B21: 5.6. | C21: AMPAROS BÁSICOS
B22: COBERTURA COMPLETA, INCLUYENDO:
B23: PÉRDIDA TOTAL Y/O DAÑOS MATERIALES | E23: La aseguradora se compromete a indemnizar la pérdida o daño material de los bienes producida por cualquier riesgo no expresamente excluido, siempre que se produzca con ocasión de su transporte, incluidas las operaciones de cargue, trasiego, trasbordo, descargue o desenvasado y permanencias. Así mismo, esta cobertura incluye los amparos de incendio y/o rayo, vientos fuertes, caída a abismos, hundimiento, colisión, volcamiento, inundaciones, fallas mecánicas imprevistas, combustión espontánea, desbarrancamiento, explosión, derrames accidentales imprevistos y repentinos, caídas accidentales de mercancías, caída de aeronaves u otros objetos que se desprendan de ella u otros objetos aéreos, encallamiento, guerra internacional, maremoto, tsunami, mar de leva, marea alta, iceberg, tempestades, huracanes, vientos fuertes en general, nevadas, ciclón, granizo, deslizamiento de tierra, avalanchas, fallas geológicas, terremoto, temblor y/o erupción volcánica, asentamientos, inconsistencias del suelo o cualquier otra convulsión de la naturaleza, colisión por culpa concurrente y aquellos estipulados en la carátula de la póliza y/o sus condiciones particulares.
B24: FALTA DE ENTREGA | E24: Esta cobertura incluye los amparos de hurto calificado, asonada, motín, conmoción civil o popular, y huelga, actos malintencionados de terceros incluidos actos de piratería y terrorismo, guerra internacional, guerra civil, rebelión, insurrección, acto hostil de un poder beligerante o contra dicho poder, aprehensión, minas, torpedos, bombas u otros artefactos de guerra abandonado y aquellos estipulados en la carátula de la póliza y/o sus condiciones particulares.
B25: AVERÍA PARTICULAR | E25: La aseguradora se compromete a indemnizar los daños ocurridos a la mercancía como consecuencia de descargue forzoso, avería sin accidente del medio de transporte, en general daños por la movilización de los bienes y aquellos estipulados en la carátula de la póliza y/o sus condiciones particulares.
B26: SAQUEO | E26: La aseguradora se compromete a indemnizar las pérdidas de la mercancía ocasionadas por el extravio o el hurto de las mercancías transportadas.
B27: HUELGA ( ASONADA, MOTIN, CONMOCIÓN CIVIL O POPULAR, ACTOS MAL INTENCIONADOS DE TERCEROS, INCLUIDOS ACTOS TERRORISTAS Y DE MOVIMIENTOS SUBVERSIVOS) | E27: La aseguradora se compromete a indemnizar las pérdidas de la mercancías como consecuncia de la Huelga y definida como la Asonada, motín, conmoción civil o popular, actos mal intencionados de terceros, inlcuidos los actos terroristas y de movimientos subversivos.
B28: OPERACIONES DE CARGUE Y DESCARGUE | E28: La aseguradora se compromete a indemnizar las pérdidas de la mercancía ocasionadas en el cargue o descargu de las mismas.
B29: 5.7. | C29: CLÁUSULAS BÁSICAS
B30: REVOCACIÓN DE LA PÓLIZA, CLÁUSULAS O CONDICIONES. Con Termino de Noventa (90) días y para AMIT, AMCCOPH, Terrorismo y Sabotaje diez (10) días. | E30: La aseguradora podrá revocar la póliza, cláusulas o condiciones unilateralmente por la compañía, mediante noticia escrita enviada al asegurado, a su última dirección registrada, con no menos de noventa (90) días y para AMIT Y AMCCOPH diez (10) días, de antelación; contados a partir de la fecha del envío. El asegurado podra pedir la revocación en cualquier momento, según lo previsto en el Código de Comercio. Así mismo, en el caso de que la aseguradora decida no otorgar renovación o prorroga del contrato de seguro, excepto para AMIT, AMCCOPH, Terrorismo y Sabotaje, deberá dar aviso de ello al asegurado con no menos de noventa (90) días de antelación a la fecha de vencimiento de la póliza, en caso contrario se dará por entendido que la aseguradora acepta la renovación o prorroga hasta el límite legal establecido en la Ley 80 de 1993, para la adición de los contratos y manteniendo las mismas condiciones ofertadas en este proceso de aseguradoras.
B31: ERRORES, OMISIONES O INEXACTITUDES | E31: El tomador está obligado a declarar sinceramente los hechos y circunstancias que determinen el estado del riesgo. La inexactitud sobre hechos o circunstancias que, conocidas por la compañía, la hubieren retraído de celebrar el contrato o inducido a estipular condiciones más onerosas, produce la nulidad relativa del seguro. Sin embargo, si se incurriere en errores, omisiones e inexactitudes inculpables al tomador o al asegurado, el contrato no será nulo ni habrá lugar a la aplicación del inciso tercero del artículo 1058 del Código de Comercio sobre reducción porcentual de la prestación asegurada. En este caso se deberá pagar la prima adecuada al verdadero estado del riesgo.
B32: AMPLIACIÓN AVISO DEL SINIESTRO Con termino de noventa (90) días. | E32: Queda convenido y aceptado que el asegurado podrá dar aviso de la ocurrencia del siniestro en un término de noventa (90), siguientes a la fecha en que haya conocido o debido conocer la ocurrencia del mismo.
B33: DESIGNACIÓN O DENOMINACIÓN DE BIENES | E33: La aseguradora acepta el título, nombre, denominación o nomenclatura con que el asegurado identifica o describe los bienes asegurados en sus registros o libros de comercio o contabilidad.
B34: CONOCIMIENTO DEL RIESGO | E34: La Compañía acepta mediante la presente cláusula que la Entidad, le ha brindado la oportunidad para realizar la inspección de los bienes y riesgos a que están sujetos los mismos y el patrimonio del Asegurado, razón por la cual se deja constancia del conocimiento y aceptación de los hechos, circunstancias y, en general, condiciones de los mismos. La compañía se reserva el derecho de llevar a cabo la inspección cuantas veces lo juzgue pertinente.
