Workbook

Sheet Estudio de mercado
D1: GESTIÓN CONTRACTUAL | S1: Código: IDPAC-GC-FT-29 Versión: 1 Fecha: 06/03/2018 Página: 1 de 1
D2: FORMATO ELABORACIÓN ESTUDIOS DE MERCADO - PROCESOS DE GESTIÓN CONTRACTUAL
A3: Lista de necesidades
G4: CORPORACION SOLIDARIDAD Y TRABAJO | I4: ROCHA´S LUXURY CATERING EXPERIENCE SAS | K4: CENTRAL DE PRECIOS CORABASTOS | M4: PRECIOS INDEXADOS 2021 | O4: TEQUENDAMA SUITES AND HOTEL | Q4: LONCH REFRIGERIOS SAS | S4: PROMEDIO
A5: Nivel | B5: Ref. Artículo | C5: Código UNSPSC | D5: Descripción | E5: Cantidad | F5: Unidad | G5: Precio unitario estimado | H5: Precio total estimado | I5: Precio unitario estimado | J5: Precio total estimado | K5: Precio unitario estimado | L5: Precio total estimado | M5: Precio unitario estimado | N5: Precio total estimado | O5: Precio unitario estimado | P5: Precio total estimado | Q5: Precio unitario estimado | R5: Precio total estimado | S5: Precio unitario estimado | T5: Precio total estimado | U5: VR MÍNIMO | V5: VR MAYOR | W5: DIFERENCIA | X5: VARIACIÓN PORCENTUAL | Z5: P1 | AD5: P2
A6: 1 | B6: 1 | D6: Desayuno Op1: 1/4 lb de queso campesino +Vaso de chocolate o Café o Té (en leche) 12 Onzas + Almohabana o Pan de bono 200 gramos , empaque Biodegradable y cubiertos | E6: 1 | F6: UN | G6: 17300 | H6: =E6*G6 -> 17300 | J6: =I6*E6 -> 0 | O6: 24000 | P6: =O6*E6 -> 24000 | R6: =Q6*E6 -> 0 | S6: =ROUND(AVERAGE(G6,I6,K6,M6,O6,Q6),0) -> 20650 | T6: =S6*E6 -> 20650 | U6: =MIN(G6,I6,K6,M6,O6,Q6) -> 17300 | V6: =MAX(G6,I6,K6,M6,O6,Q6) -> 24000 | W6: =V6-U6 -> 6700 | X6: =W6/V6 -> 0.27916667 | Z6: Desayuno Op1: 1/4 lb de queso campesino +Vaso de chocolate o Café o Té (en leche) 12 Onzas + Almohabana o Pan de bono 200 gramos , empaque Biodegradable y cubiertos | AA6: UN | AB6: =Z6=D6 -> TRUE | AC6: =AA6=F6 -> TRUE | AD6: Desayuno Op1: 1/4 lb de queso campesino +Vaso de chocolate o Café o Té (en leche) 12 Onzas + Almohabana o Pan de bono 200 gramos , empaque Biodegradable y cubiertos | AE6: UN | AF6: =AD6=D6 -> TRUE | AG6: =AE6=F6 -> TRUE
A7: 2 | D7: Desayuno Op2: 1/4 lb de queso campesino +Vaso de chocolate o Café o Té (en leche) 12 Onzas +Almohabana o Pan de bono 200 gramos, servidos con menaje | E7: 1 | F7: UN | G7: 18900 | H7: =E7*G7 -> 18900 | J7: =I7*E7 -> 0 | O7: 24000 | P7: =O7*E7 -> 24000 | Q7: 22400 | R7: =Q7*E7 -> 22400 | S7: =ROUND(AVERAGE(G7,I7,K7,M7,O7,Q7),0) -> 21767 | T7: =S7*E7 -> 21767 | U7: =MIN(G7,I7,K7,M7,O7,Q7) -> 18900 | V7: =MAX(G7,I7,K7,M7,O7,Q7) -> 24000 | W7: =V7-U7 -> 5100 | X7: =W7/V7 -> 0.2125 | Z7: Desayuno Op2: 1/4 lb de queso campesino +Vaso de chocolate o Café o Té (en leche) 12 Onzas +Almohabana o Pan de bono 200 gramos, servidos con menaje | AA7: UN | AB7: =Z7=D7 -> TRUE | AC7: =AA7=F7 -> TRUE | AD7: Desayuno Op2: 1/4 lb de queso campesino +Vaso de chocolate o Café o Té (en leche) 12 Onzas +Almohabana o Pan de bono 200 gramos, servidos con menaje | AE7: UN | AF7: =AD7=D7 -> TRUE | AG7: =AE7=F7 -> TRUE
A8: 3 | D8: Desayuno Op3: Desayunos de acuerdo a especificaciones técnicas // (1) Bebida: Te, Café, Chocolate, Yogurt , Kumis ó Avena. Cantidad: 12 onzas (2) Proteína: Huevo, Queso ó Carne 150 gramos. Cantidad: 150 gramos (3) Cereal :Pan – Arepa – Galletas. Cantidad: 100 gramos (4) Fruta: Fruta de cosecha. Cantidad: 100 gramos (5)Grasa: Mantequilla. Cantidad: 10 gramos (6) Dulce: Mermelada. 15 gramos. Empaque biodegradable con cubiertos | E8: 1 | F8: UN | G8: 21000 | H8: =E8*G8 -> 21000 | J8: =I8*E8 -> 0 | P8: =O8*E8 -> 0 | Q8: 20864 | R8: =Q8*E8 -> 20864 | S8: =ROUND(AVERAGE(G8,I8,K8,M8,O8,Q8),0) -> 20932 | T8: =S8*E8 -> 20932 | U8: =MIN(G8,I8,K8,M8,O8,Q8) -> 20864 | V8: =MAX(G8,I8,K8,M8,O8,Q8) -> 21000 | W8: =V8-U8 -> 136 | X8: =W8/V8 -> 0.0064761905 | Z8: Desayuno Op3: Desayunos de acuerdo a especificaciones técnicas // (1) Bebida: Te, Café, Chocolate, Yogurt , Kumis ó Avena. Cantidad: 12 onzas (2) Proteína: Huevo, Queso ó Carne 150 gramos. Cantidad: 150 gramos (3) Cereal :Pan – Arepa – Galletas. Cantidad: 100 gramos (4) Fruta: Fruta de cosecha. Cantidad: 100 gramos (5)Grasa: Mantequilla. Cantidad: 10 gramos (6) Dulce: Mermelada. 15 gramos. Empaque biodegradable con cubiertos | AA8: UN | AB8: =Z8=D8 -> TRUE | AC8: =AA8=F8 -> TRUE | AD8: Desayuno Op3: Desayunos de acuerdo a especificaciones técnicas // (1) Bebida: Te, Café, Chocolate, Yogurt , Kumis ó Avena. Cantidad: 12 onzas (2) Proteína: Huevo, Queso ó Carne 150 gramos. Cantidad: 150 gramos (3) Cereal :Pan – Arepa – Galletas. Cantidad: 100 gramos (4) Fruta: Fruta de cosecha. Cantidad: 100 gramos (5)Grasa: Mantequilla. Cantidad: 10 gramos (6) Dulce: Mermelada. 15 gramos. Empaque biodegradable con cubiertos | AE8: UN | AF8: =AD8=D8 -> TRUE | AG8: =AE8=F8 -> TRUE
A9: 4 | D9: Desayuno Op4: Desayunos de acuerdo a especificaciones técnicas // (1) Bebida: Te, Café, Chocolate, Yogurt , Kumis ó Avena. Cantidad: 12 onzas (2) Proteína: Huevo, Queso ó Carne 150 gramos. Cantidad: 150 gramos (3) Cereal :Pan – Arepa – Galletas. Cantidad: 100 gramos (4) Fruta: Fruta de cosecha. Cantidad: 100 gramos (5)Grasa: Mantequilla. Cantidad: 10 gramos (6) Dulce: Mermelada. 15 gramos. servidos con menaje | E9: 1 | F9: UN | H9: =E9*G9 -> 0 | J9: =I9*E9 -> 0 | O9: 34000 | P9: =O9*E9 -> 34000 | Q9: 40704 | R9: =Q9*E9 -> 40704 | S9: =ROUND(AVERAGE(G9,I9,K9,M9,O9,Q9),0) -> 37352 | T9: =S9*E9 -> 37352 | U9: =MIN(G9,I9,K9,M9,O9,Q9) -> 34000 | V9: =MAX(G9,I9,K9,M9,O9,Q9) -> 40704 | W9: =V9-U9 -> 6704 | X9: =W9/V9 -> 0.16470126 | Z9: Desayuno Op4: Desayunos de acuerdo a especificaciones técnicas // (1) Bebida: Te, Café, Chocolate, Yogurt , Kumis ó Avena. Cantidad: 12 onzas (2) Proteína: Huevo, Queso ó Carne 150 gramos. Cantidad: 150 gramos (3) Cereal :Pan – Arepa – Galletas. Cantidad: 100 gramos (4) Fruta: Fruta de cosecha. Cantidad: 100 gramos (5)Grasa: Mantequilla. Cantidad: 10 gramos (6) Dulce: Mermelada. 15 gramos. servidos con menaje | AA9: UN | AB9: =Z9=D9 -> TRUE | AC9: =AA9=F9 -> TRUE | AD9: Desayuno Op4: Desayunos de acuerdo a especificaciones técnicas // (1) Bebida: Te, Café, Chocolate, Yogurt , Kumis ó Avena. Cantidad: 12 onzas (2) Proteína: Huevo, Queso ó Carne 150 gramos. Cantidad: 150 gramos (3) Cereal :Pan – Arepa – Galletas. Cantidad: 100 gramos (4) Fruta: Fruta de cosecha. Cantidad: 100 gramos (5)Grasa: Mantequilla. Cantidad: 10 gramos (6) Dulce: Mermelada. 15 gramos. servidos con menaje | AE9: UN | AF9: =AD9=D9 -> TRUE | AG9: =AE9=F9 -> TRUE
A10: 5 | D10: Desayuno Op5:consta de: Sandwich pan especial con jamón de cerdo y queso (150gr) + Café (125ml) o Capuchino (125ml), o Aromática (125ml) o jugo Natural (125ml) + fruta (papaya, ,melón y fresas) (80gr) en empaque biodegradable con cubiertos | E10: 1 | F10: UN | G10: 19500 | H10: =E10*G10 -> 19500 | I10: 16500 | J10: =I10*E10 -> 16500 | P10: =O10*E10 -> 0 | Q10: 19968 | R10: =Q10*E10 -> 19968 | S10: =ROUND(AVERAGE(G10,I10,K10,M10,O10,Q10),0) -> 18656 | T10: =S10*E10 -> 18656 | U10: =MIN(G10,I10,K10,M10,O10,Q10) -> 16500 | V10: =MAX(G10,I10,K10,M10,O10,Q10) -> 19968 | W10: =V10-U10 -> 3468 | X10: =W10/V10 -> 0.17367788 | Z10: Desayuno Op5:consta de: Sandwich pan especial con jamón de cerdo y queso (150gr) + Café (125ml) o Capuchino (125ml), o Aromática (125ml) o jugo Natural (125ml) + fruta (papaya, ,melón y fresas) (80gr) en empaque biodegradable con cubiertos | AA10: UN | AB10: =Z10=D10 -> TRUE | AC10: =AA10=F10 -> TRUE | AD10: Desayuno Op5:consta de: Sandwich pan especial con jamón de cerdo y queso (150gr) + Café (125ml) o Capuchino (125ml), o Aromática (125ml) o jugo Natural (125ml) + fruta (papaya, ,melón y fresas) (80gr) en empaque biodegradable con cubiertos | AE10: UN | AF10: =AD10=D10 -> TRUE | AG10: =AE10=F10 -> TRUE
A11: 6 | D11: Desayuno Op6: consta de: Sandwich pan especial con jamón de cerdo y queso (150gr) + Café (125ml) o Capuchino (125ml), o Aromática (125ml) o jugo Natural (125ml) + fruta (papaya, ,melón y fresas) (80gr) servidos con menaje | E11: 1 | F11: UN | G11: 23000 | H11: =E11*G11 -> 23000 | J11: =I11*E11 -> 0 | P11: =O11*E11 -> 0 | Q11: 33152 | R11: =Q11*E11 -> 33152 | S11: =ROUND(AVERAGE(G11,I11,K11,M11,O11,Q11),0) -> 28076 | T11: =S11*E11 -> 28076 | U11: =MIN(G11,I11,K11,M11,O11,Q11) -> 23000 | V11: =MAX(G11,I11,K11,M11,O11,Q11) -> 33152 | W11: =V11-U11 -> 10152 | X11: =W11/V11 -> 0.30622587 | Z11: Desayuno Op6: consta de: Sandwich pan especial con jamón de cerdo y queso (150gr) + Café (125ml) o Capuchino (125ml), o Aromática (125ml) o jugo Natural (125ml) + fruta (papaya, ,melón y fresas) (80gr) servidos con menaje | AA11: UN | AB11: =Z11=D11 -> TRUE | AC11: =AA11=F11 -> TRUE | AD11: Desayuno Op6: consta de: Sandwich pan especial con jamón de cerdo y queso (150gr) + Café (125ml) o Capuchino (125ml), o Aromática (125ml) o jugo Natural (125ml) + fruta (papaya, ,melón y fresas) (80gr) servidos con menaje | AE11: UN | AF11: =AD11=D11 -> TRUE | AG11: =AE11=F11 -> TRUE
A12: 7 | D12: Almuerzos y cenas Op1: (1) Entrada: Sopa 250 ml o 16 onzas de fruta de cosecha. Cantidad: 100 gramos. (2) Plato fuerte: Proteína de origen animal 100% (Carnes vacuna, cerdo, pollo ó pescado) Cantidad: 200 gramos (3) Cereal (Arroz) Cantidad: 100 gramos (4) Ensalada de verduras o fruta. Cantidad: 100 gramos (5) Papa – yuca-plátano. Cantidad: 100 gramos (6) Bebida: Jugo de fruta o Gaseosa. 16 onzas. Empaque biodegradable con cubiertos | E12: 1 | F12: UN | G12: 23000 | H12: =E12*G12 -> 23000 | J12: =I12*E12 -> 0 | P12: =O12*E12 -> 0 | Q12: 19712 | R12: =Q12*E12 -> 19712 | S12: =ROUND(AVERAGE(G12,I12,K12,M12,O12,Q12),0) -> 21356 | T12: =S12*E12 -> 21356 | U12: =MIN(G12,I12,K12,M12,O12,Q12) -> 19712 | V12: =MAX(G12,I12,K12,M12,O12,Q12) -> 23000 | W12: =V12-U12 -> 3288 | X12: =W12/V12 -> 0.14295652 | Z12: Almuerzos y cenas Op1: (1) Entrada: Sopa 250 ml o 16 onzas de fruta de cosecha. Cantidad: 100 gramos. (2) Plato fuerte: Proteína de origen animal 100% (Carnes vacuna, cerdo, pollo ó pescado) Cantidad: 200 gramos (3) Cereal (Arroz) Cantidad: 100 gramos (4) Ensalada de verduras o fruta. Cantidad: 100 gramos (5) Papa – yuca-plátano. Cantidad: 100 gramos (6) Bebida: Jugo de fruta o Gaseosa. 16 onzas. Empaque biodegradable con cubiertos | AA12: UN | AB12: =Z12=D12 -> TRUE | AC12: =AA12=F12 -> TRUE | AD12: Almuerzos y cenas Op1: (1) Entrada: Sopa 250 ml o 16 onzas de fruta de cosecha. Cantidad: 100 gramos. (2) Plato fuerte: Proteína de origen animal 100% (Carnes vacuna, cerdo, pollo ó pescado) Cantidad: 200 gramos (3) Cereal (Arroz) Cantidad: 100 gramos (4) Ensalada de verduras o fruta. Cantidad: 100 gramos (5) Papa – yuca-plátano. Cantidad: 100 gramos (6) Bebida: Jugo de fruta o Gaseosa. 16 onzas. Empaque biodegradable con cubiertos | AE12: UN | AF12: =AD12=D12 -> TRUE | AG12: =AE12=F12 -> TRUE
A13: 8 | D13: Almuerzos y cenas Op2: (1) Entrada: Sopa 250 ml o 16 onzas de fruta de cosecha. Cantidad: 100 gramos. (2) Plato fuerte: Proteína de origen animal 100% (Carnes vacuna, cerdo, pollo ó pescado) Cantidad: 200 gramos (3) Cereal (Arroz) Cantidad: 100 gramos (4) Ensalada de verduras o fruta. Cantidad: 100 gramos (5) Papa – yuca-plátano. Cantidad: 100 gramos (6) Bebida: Jugo de fruta o Gaseosa. 16 onzas. Empaque biodegradable servido con menaje | E13: 1 | F13: UN | G13: 26000 | H13: =E13*G13 -> 26000 | J13: =I13*E13 -> 0 | P13: =O13*E13 -> 0 | Q13: 34816 | R13: =Q13*E13 -> 34816 | S13: =ROUND(AVERAGE(G13,I13,K13,M13,O13,Q13),0) -> 30408 | T13: =S13*E13 -> 30408 | U13: =MIN(G13,I13,K13,M13,O13,Q13) -> 26000 | V13: =MAX(G13,I13,K13,M13,O13,Q13) -> 34816 | W13: =V13-U13 -> 8816 | X13: =W13/V13 -> 0.25321691 | Z13: Almuerzos y cenas Op2: (1) Entrada: Sopa 250 ml o 16 onzas de fruta de cosecha. Cantidad: 100 gramos. (2) Plato fuerte: Proteína de origen animal 100% (Carnes vacuna, cerdo, pollo ó pescado) Cantidad: 200 gramos (3) Cereal (Arroz) Cantidad: 100 gramos (4) Ensalada de verduras o fruta. Cantidad: 100 gramos (5) Papa – yuca-plátano. Cantidad: 100 gramos (6) Bebida: Jugo de fruta o Gaseosa. 16 onzas. Empaque biodegradable servido con menaje | AA13: UN | AB13: =Z13=D13 -> TRUE | AC13: =AA13=F13 -> TRUE | AD13: Almuerzos y cenas Op2: (1) Entrada: Sopa 250 ml o 16 onzas de fruta de cosecha. Cantidad: 100 gramos. (2) Plato fuerte: Proteína de origen animal 100% (Carnes vacuna, cerdo, pollo ó pescado) Cantidad: 200 gramos (3) Cereal (Arroz) Cantidad: 100 gramos (4) Ensalada de verduras o fruta. Cantidad: 100 gramos (5) Papa – yuca-plátano. Cantidad: 100 gramos (6) Bebida: Jugo de fruta o Gaseosa. 16 onzas. Empaque biodegradable servido con menaje | AE13: UN | AF13: =AD13=D13 -> TRUE | AG13: =AE13=F13 -> TRUE
A14: 9 | D14: Servicio de bufet para 100 personas que ofrezca: plato fuerte proteína de origen animal 100% (Carnes vacuna, cerdo, pollo ó pescado) Cantidad: 200 gramos, Cereal (Arroz) Cantidad: 100 gramos, Ensalada de verduras o fruta. Cantidad: 100 gramos, Papa o yuca o plátano. Cantidad: 100 gramos, bebida: Jugo natural y/o agua 16 onzas. Servicio de meseros. | E14: 1 | F14: UN | H14: =E14*G14 -> 0 | I14: 4500000 | J14: =I14*E14 -> 4500000 | P14: =O14*E14 -> 0 | Q14: 4480000 | R14: =Q14*E14 -> 4480000 | S14: =ROUND(AVERAGE(G14,I14,K14,M14,O14,Q14),0) -> 4490000 | T14: =S14*E14 -> 4490000 | U14: =MIN(G14,I14,K14,M14,O14,Q14) -> 4480000 | V14: =MAX(G14,I14,K14,M14,O14,Q14) -> 4500000 | W14: =V14-U14 -> 20000 | X14: =W14/V14 -> 0.0044444444 | Z14: Servicio de bufet para 100 personas que ofrezca: plato fuerte proteína de origen animal 100% (Carnes vacuna, cerdo, pollo ó pescado) Cantidad: 200 gramos, Cereal (Arroz) Cantidad: 100 gramos, Ensalada de verduras o fruta. Cantidad: 100 gramos, Papa o yuca o plátano. Cantidad: 100 gramos, bebida: Jugo natural y/o agua 16 onzas. Servicio de meseros. | AA14: UN | AB14: =Z14=D14 -> TRUE | AC14: =AA14=F14 -> TRUE | AD14: Servicio de bufet para 100 personas que ofrezca: plato fuerte proteína de origen animal 100% (Carnes vacuna, cerdo, pollo ó pescado) Cantidad: 200 gramos, Cereal (Arroz) Cantidad: 100 gramos, Ensalada de verduras o fruta. Cantidad: 100 gramos, Papa o yuca o plátano. Cantidad: 100 gramos, bebida: Jugo natural y/o agua 16 onzas. Servicio de meseros. | AE14: UN | AF14: =AD14=D14 -> TRUE | AG14: =AE14=F14 -> TRUE
A15: 10 | D15: Servicio de bufet para 200 personas que ofrezca: plato fuerte proteína de origen animal 100% (Carnes vacuna, cerdo, pollo ó pescado) Cantidad: 200 gramos, Cereal (Arroz) Cantidad: 100 gramos, Ensalada de verduras o fruta. Cantidad: 100 gramos, Papa o yuca o plátano. Cantidad: 100 gramos, bebida: Jugo natural y/o agua 16 onzas. Servicio de meseros. | E15: 1 | F15: UN | H15: =E15*G15 -> 0 | I15: 8700000 | J15: =I15*E15 -> 8700000 | P15: =O15*E15 -> 0 | Q15: 8960000 | R15: =Q15*E15 -> 8960000 | S15: =ROUND(AVERAGE(G15,I15,K15,M15,O15,Q15),0) -> 8830000 | T15: =S15*E15 -> 8830000 | U15: =MIN(G15,I15,K15,M15,O15,Q15) -> 8700000 | V15: =MAX(G15,I15,K15,M15,O15,Q15) -> 8960000 | W15: =V15-U15 -> 260000 | X15: =W15/V15 -> 0.029017857 | Z15: Servicio de bufet para 200 personas que ofrezca: plato fuerte proteína de origen animal 100% (Carnes vacuna, cerdo, pollo ó pescado) Cantidad: 200 gramos, Cereal (Arroz) Cantidad: 100 gramos, Ensalada de verduras o fruta. Cantidad: 100 gramos, Papa o yuca o plátano. Cantidad: 100 gramos, bebida: Jugo natural y/o agua 16 onzas. Servicio de meseros. | AA15: UN | AB15: =Z15=D15 -> TRUE | AC15: =AA15=F15 -> TRUE | AD15: Servicio de bufet para 200 personas que ofrezca: plato fuerte proteína de origen animal 100% (Carnes vacuna, cerdo, pollo ó pescado) Cantidad: 200 gramos, Cereal (Arroz) Cantidad: 100 gramos, Ensalada de verduras o fruta. Cantidad: 100 gramos, Papa o yuca o plátano. Cantidad: 100 gramos, bebida: Jugo natural y/o agua 16 onzas. Servicio de meseros. | AE15: UN | AF15: =AD15=D15 -> TRUE | AG15: =AE15=F15 -> TRUE
A16: 11 | D16: Servicio de bufet para 300 personas que ofrezca: plato fuerte proteína de origen animal 100% (Carnes vacuna, cerdo, pollo ó pescado) Cantidad: 200 gramos, Cereal (Arroz) Cantidad: 100 gramos, Ensalada de verduras o fruta. Cantidad: 100 gramos, Papa o yuca o plátano. Cantidad: 100 gramos, bebida: Jugo natural y/o agua 16 onzas. Servicio de meseros. | E16: 1 | F16: UN | H16: =E16*G16 -> 0 | I16: 13000000 | J16: =I16*E16 -> 13000000 | P16: =O16*E16 -> 0 | Q16: 12800000 | R16: =Q16*E16 -> 12800000 | S16: =ROUND(AVERAGE(G16,I16,K16,M16,O16,Q16),0) -> 12900000 | T16: =S16*E16 -> 12900000 | U16: =MIN(G16,I16,K16,M16,O16,Q16) -> 12800000 | V16: =MAX(G16,I16,K16,M16,O16,Q16) -> 13000000 | W16: =V16-U16 -> 200000 | X16: =W16/V16 -> 0.015384615 | Z16: Servicio de bufet para 300 personas que ofrezca: plato fuerte proteína de origen animal 100% (Carnes vacuna, cerdo, pollo ó pescado) Cantidad: 200 gramos, Cereal (Arroz) Cantidad: 100 gramos, Ensalada de verduras o fruta. Cantidad: 100 gramos, Papa o yuca o plátano. Cantidad: 100 gramos, bebida: Jugo natural y/o agua 16 onzas. Servicio de meseros. | AA16: UN | AB16: =Z16=D16 -> TRUE | AC16: =AA16=F16 -> TRUE | AD16: Servicio de bufet para 300 personas que ofrezca: plato fuerte proteína de origen animal 100% (Carnes vacuna, cerdo, pollo ó pescado) Cantidad: 200 gramos, Cereal (Arroz) Cantidad: 100 gramos, Ensalada de verduras o fruta. Cantidad: 100 gramos, Papa o yuca o plátano. Cantidad: 100 gramos, bebida: Jugo natural y/o agua 16 onzas. Servicio de meseros. | AE16: UN | AF16: =AD16=D16 -> TRUE | AG16: =AE16=F16 -> TRUE
A17: 12 | D17: Refrigerio Op 1: Pan de bono o arepa (200 gr) +Avena o yogurt en bolsa (150 gr) +Manzana, empaque Biodegradable | E17: 1 | F17: UN | H17: =E17*G17 -> 0 | I17: 6500 | J17: =I17*E17 -> 6500 | P17: =O17*E17 -> 0 | Q17: 7040 | R17: =Q17*E17 -> 7040 | S17: =ROUND(AVERAGE(G17,I17,K17,M17,O17,Q17),0) -> 6770 | T17: =S17*E17 -> 6770 | U17: =MIN(G17,I17,K17,M17,O17,Q17) -> 6500 | V17: =MAX(G17,I17,K17,M17,O17,Q17) -> 7040 | W17: =V17-U17 -> 540 | X17: =W17/V17 -> 0.076704545 | Z17: Refrigerio Op 1: Pan de bono o arepa (200 gr) +Avena o yogurt en bolsa (150 gr) +Manzana, empaque Biodegradable | AA17: UN | AB17: =Z17=D17 -> TRUE | AC17: =AA17=F17 -> TRUE | AD17: Refrigerio Op 1: Pan de bono o arepa (200 gr) +Avena o yogurt en bolsa (150 gr) +Manzana, empaque Biodegradable | AE17: UN | AF17: =AD17=D17 -> TRUE | AG17: =AE17=F17 -> TRUE
A18: 13 | D18: Refrigerio Op 2: Sandwich de Pan fresco con Jamón y Queso (150gr), & Jugo caja tetrapack (200ml), empaque Biodegradable | E18: 1 | F18: UN | H18: =E18*G18 -> 0 | I18: 4500 | J18: =I18*E18 -> 4500 | P18: =O18*E18 -> 0 | Q18: 6016 | R18: =Q18*E18 -> 6016 | S18: =ROUND(AVERAGE(G18,I18,K18,M18,O18,Q18),0) -> 5258 | T18: =S18*E18 -> 5258 | U18: =MIN(G18,I18,K18,M18,O18,Q18) -> 4500 | V18: =MAX(G18,I18,K18,M18,O18,Q18) -> 6016 | W18: =V18-U18 -> 1516 | X18: =W18/V18 -> 0.25199468 | Z18: Refrigerio Op 2: Sandwich de Pan fresco con Jamón y Queso (150gr), & Jugo caja tetrapack (200ml), empaque Biodegradable | AA18: UN | AB18: =Z18=D18 -> TRUE | AC18: =AA18=F18 -> TRUE | AD18: Refrigerio Op 2: Sandwich de Pan fresco con Jamón y Queso (150gr), & Jugo caja tetrapack (200ml), empaque Biodegradable | AE18: UN | AF18: =AD18=D18 -> TRUE | AG18: =AE18=F18 -> TRUE
A19: 14 | D19: Refrigerio Op 3: Pastel de Pollo (150gr) + Jugo Caja Tetrapack (200ml), empaque Biodegradable | E19: 1 | F19: UN | G19: 9000 | H19: =E19*G19 -> 9000 | J19: =I19*E19 -> 0 | P19: =O19*E19 -> 0 | Q19: 6016 | R19: =Q19*E19 -> 6016 | S19: =ROUND(AVERAGE(G19,I19,K19,M19,O19,Q19),0) -> 7508 | T19: =S19*E19 -> 7508 | U19: =MIN(G19,I19,K19,M19,O19,Q19) -> 6016 | V19: =MAX(G19,I19,K19,M19,O19,Q19) -> 9000 | W19: =V19-U19 -> 2984 | X19: =W19/V19 -> 0.33155556 | Z19: Refrigerio Op 3: Pastel de Pollo (150gr) + Jugo Caja Tetrapack (200ml), empaque Biodegradable | AA19: UN | AB19: =Z19=D19 -> TRUE | AC19: =AA19=F19 -> TRUE | AD19: Refrigerio Op 3: Pastel de Pollo (150gr) + Jugo Caja Tetrapack (200ml), empaque Biodegradable | AE19: UN | AF19: =AD19=D19 -> TRUE | AG19: =AE19=F19 -> TRUE
A20: 15 | D20: Refrigerio Op 4: Refrigerio AM Sándwich 127 gramos aproximadamente (pan árabe, tajada de jamón de cerdo ahumado o jamón de pavo o jamón de cordero, queso tipo mozarella, salsa y lechuga), porción de fruta, bebida (café, aromática, jugo de caja 200ml) y golosina, empaque biodegradable. | E20: 1 | F20: UN | H20: =E20*G20 -> 0 | I20: 6800 | J20: =I20*E20 -> 6800 | P20: =O20*E20 -> 0 | Q20: 8320 | R20: =Q20*E20 -> 8320 | S20: =ROUND(AVERAGE(G20,I20,K20,M20,O20,Q20),0) -> 7560 | T20: =S20*E20 -> 7560 | U20: =MIN(G20,I20,K20,M20,O20,Q20) -> 6800 | V20: =MAX(G20,I20,K20,M20,O20,Q20) -> 8320 | W20: =V20-U20 -> 1520 | X20: =W20/V20 -> 0.18269231 | Z20: Refrigerio Op 4: Refrigerio AM Sándwich 127 gramos aproximadamente (pan árabe, tajada de jamón de cerdo ahumado o jamón de pavo o jamón de cordero, queso tipo mozarella, salsa y lechuga), porción de fruta, bebida (café, aromática, jugo de caja 200ml) y golosina, empaque biodegradable. | AA20: UN | AB20: =Z20=D20 -> TRUE | AC20: =AA20=F20 -> TRUE | AD20: Refrigerio Op 4: Refrigerio AM Sándwich 127 gramos aproximadamente (pan árabe, tajada de jamón de cerdo ahumado o jamón de pavo o jamón de cordero, queso tipo mozarella, salsa y lechuga), porción de fruta, bebida (café, aromática, jugo de caja 200ml) y golosina, empaque biodegradable. | AE20: UN | AF20: =AD20=D20 -> TRUE | AG20: =AE20=F20 -> TRUE
A21: 16 | D21: Refrigerio Op 5. Sandwich de Pan fresco con doble queso (150gr), & Jugo caja tetrapack (200ml), (vegetariano), empaque biodegradable | E21: 1 | F21: UN | H21: =E21*G21 -> 0 | I21: 5200 | J21: =I21*E21 -> 5200 | P21: =O21*E21 -> 0 | Q21: 6400 | R21: =Q21*E21 -> 6400 | S21: =ROUND(AVERAGE(G21,I21,K21,M21,O21,Q21),0) -> 5800 | T21: =S21*E21 -> 5800 | U21: =MIN(G21,I21,K21,M21,O21,Q21) -> 5200 | V21: =MAX(G21,I21,K21,M21,O21,Q21) -> 6400 | W21: =V21-U21 -> 1200 | X21: =W21/V21 -> 0.1875 | Z21: Refrigerio Op 5. Sandwich de Pan fresco con doble queso (150gr), & Jugo caja tetrapack (200ml), (vegetariano), empaque biodegradable | AA21: UN | AB21: =Z21=D21 -> TRUE | AC21: =AA21=F21 -> TRUE | AD21: Refrigerio Op 5. Sandwich de Pan fresco con doble queso (150gr), & Jugo caja tetrapack (200ml), (vegetariano), empaque biodegradable | AE21: UN | AF21: =AD21=D21 -> TRUE | AG21: =AE21=F21 -> TRUE
A22: 17 | D22: Porción de fruta picada (Papaya, Melon, Mango), 150 gr, empaque Biodegradable | E22: 1 | F22: UN | H22: =E22*G22 -> 0 | I22: 3000 | J22: =I22*E22 -> 3000 | P22: =O22*E22 -> 0 | Q22: 4480 | R22: =Q22*E22 -> 4480 | S22: =ROUND(AVERAGE(G22,I22,K22,M22,O22,Q22),0) -> 3740 | T22: =S22*E22 -> 3740 | U22: =MIN(G22,I22,K22,M22,O22,Q22) -> 3000 | V22: =MAX(G22,I22,K22,M22,O22,Q22) -> 4480 | W22: =V22-U22 -> 1480 | X22: =W22/V22 -> 0.33035714 | Z22: Porción de fruta picada (Papaya, Melon, Mango), 150 gr, empaque Biodegradable | AA22: UN | AB22: =Z22=D22 -> TRUE | AC22: =AA22=F22 -> TRUE | AD22: Porción de fruta picada (Papaya, Melon, Mango), 150 gr, empaque Biodegradable | AE22: UN | AF22: =AD22=D22 -> TRUE | AG22: =AE22=F22 -> TRUE
A23: 18 | D23: Paquete de fritos surtidos x 45 gr (tipo todo rico o detodito) x 12 unidades | E23: 1 | F23: UN | H23: =E23*G23 -> 0 | J23: =I23*E23 -> 0 | M23: 28667 | N23: =E23*M23 -> 28667 | O23: 36000 | P23: =O23*E23 -> 36000 | R23: =Q23*E23 -> 0 | S23: =ROUND(AVERAGE(G23,I23,K23,M23,O23,Q23),0) -> 32334 | T23: =S23*E23 -> 32334 | U23: =MIN(G23,I23,K23,M23,O23,Q23) -> 28667 | V23: =MAX(G23,I23,K23,M23,O23,Q23) -> 36000 | W23: =V23-U23 -> 7333 | X23: =W23/V23 -> 0.20369444 | Z23: Paquete de fritos surtidos x 45 gr (tipo todo rico o detodito) x 12 unidades | AA23: UN | AB23: =Z23=D23 -> TRUE | AC23: =AA23=F23 -> TRUE | AD23: Paquete de fritos surtidos x 45 gr (tipo todo rico o detodito) x 12 unidades | AE23: UN | AF23: =AD23=D23 -> TRUE | AG23: =AE23=F23 -> TRUE
A24: 19 | D24: Agua en botella 250 ml x 24unidades | E24: 1 | F24: EMB | H24: =E24*G24 -> 0 | J24: =I24*E24 -> 0 | M24: 19800 | N24: =E24*M24 -> 19800 | P24: =O24*E24 -> 0 | Q24: 19200 | R24: =Q24*E24 -> 19200 | S24: =ROUND(AVERAGE(G24,I24,K24,M24,O24,Q24),0) -> 19500 | T24: =S24*E24 -> 19500 | U24: =MIN(G24,I24,K24,M24,O24,Q24) -> 19200 | V24: =MAX(G24,I24,K24,M24,O24,Q24) -> 19800 | W24: =V24-U24 -> 600 | X24: =W24/V24 -> 0.03030303 | Z24: Agua en botella 250 ml x 24unidades | AA24: EMB | AB24: =Z24=D24 -> TRUE | AC24: =AA24=F24 -> TRUE | AD24: Agua en botella 250 ml x 24unidades | AE24: EMB | AF24: =AD24=D24 -> TRUE | AG24: =AE24=F24 -> TRUE
A25: 20 | D25: Galletas de mantequilla cada una de 8 gramos aproximadamente x 100 unidades | E25: 1 | F25: EMB | H25: =E25*G25 -> 0 | J25: =I25*E25 -> 0 | M25: 52000 | N25: =M25*E25 -> 52000 | P25: =O25*E25 -> 0 | R25: =Q25*E25 -> 0 | S25: =ROUND(AVERAGE(G25,I25,K25,M25,O25,Q25),0) -> 52000 | T25: =S25*E25 -> 52000 | U25: =MIN(G25,I25,K25,M25,O25,Q25) -> 52000 | V25: =MAX(G25,I25,K25,M25,O25,Q25) -> 52000 | W25: =V25-U25 -> 0 | X25: =W25/V25 -> 0 | Z25: Galletas de mantequilla cada una de 8 gramos aproximadamente x 100 unidades | AA25: UN | AB25: =Z25=D25 -> TRUE | AC25: =AA25=F25 -> FALSE | AD25: Galletas de mantequilla cada una de 8 gramos aproximadamente x 100 unidades | AE25: EMB | AF25: =AD25=D25 -> TRUE | AG25: =AE25=F25 -> TRUE
A26: 21 | D26: Bebidas gaseosas (3 lts) | E26: 1 | F26: UN | H26: =E26*G26 -> 0 | J26: =I26*E26 -> 0 | M26: 10667 | N26: =M26*E26 -> 10667 | O26: 9950 | P26: =O26*E26 -> 9950 | Q26: 8960 | R26: =Q26*E26 -> 8960 | S26: =ROUND(AVERAGE(G26,I26,K26,M26,O26,Q26),0) -> 9859 | T26: =S26*E26 -> 9859 | U26: =MIN(G26,I26,K26,M26,O26,Q26) -> 8960 | V26: =MAX(G26,I26,K26,M26,O26,Q26) -> 10667 | W26: =V26-U26 -> 1707 | X26: =W26/V26 -> 0.16002625 | Z26: Bebidas gaseosas (3 lts) | AA26: UN | AB26: =Z26=D26 -> TRUE | AC26: =AA26=F26 -> TRUE | AD26: Bebidas gaseosas (3 lts) | AE26: UN | AF26: =AD26=D26 -> TRUE | AG26: =AE26=F26 -> TRUE
A27: 22 | D27: Jugo de Caja tetrapack (200 ml) | E27: 1 | F27: UN | G27: 1100 | H27: =E27*G27 -> 1100 | J27: =I27*E27 -> 0 | M27: 1300 | N27: =M27*E27 -> 1300 | O27: 1450 | P27: =O27*E27 -> 1450 | Q27: 1536 | R27: =Q27*E27 -> 1536 | S27: =ROUND(AVERAGE(G27,I27,K27,M27,O27,Q27),0) -> 1347 | T27: =S27*E27 -> 1347 | U27: =MIN(G27,I27,K27,M27,O27,Q27) -> 1100 | V27: =MAX(G27,I27,K27,M27,O27,Q27) -> 1536 | W27: =V27-U27 -> 436 | X27: =W27/V27 -> 0.28385417 | Z27: Jugo de Caja tetrapack (200 ml) | AA27: UN | AB27: =Z27=D27 -> TRUE | AC27: =AA27=F27 -> TRUE | AD27: Jugo de Caja tetrapack (200 ml) | AE27: UN | AF27: =AD27=D27 -> TRUE | AG27: =AE27=F27 -> TRUE
A28: 23 | D28: Maiz Pira | E28: 1 | F28: KG | H28: =E28*G28 -> 0 | J28: =I28*E28 -> 0 | M28: 7250 | N28: =M28*E28 -> 7250 | O28: 8200 | P28: =O28*E28 -> 8200 | Q28: 10240 | R28: =Q28*E28 -> 10240 | S28: =ROUND(AVERAGE(G28,I28,K28,M28,O28,Q28),0) -> 8563 | T28: =S28*E28 -> 8563 | U28: =MIN(G28,I28,K28,M28,O28,Q28) -> 7250 | V28: =MAX(G28,I28,K28,M28,O28,Q28) -> 10240 | W28: =V28-U28 -> 2990 | X28: =W28/V28 -> 0.29199219 | Z28: Maiz Pira | AA28: KG | AB28: =Z28=D28 -> TRUE | AC28: =AA28=F28 -> TRUE | AD28: Maiz Pira | AE28: KG | AF28: =AD28=D28 -> TRUE | AG28: =AE28=F28 -> TRUE
A29: 24 | D29: Mantecada 60-80 gr 8 porc | E29: 1 | F29: UN | H29: =E29*G29 -> 0 | I29: 12000 | J29: =I29*E29 -> 12000 | M29: 15000 | N29: =M29*E29 -> 15000 | P29: =O29*E29 -> 0 | R29: =Q29*E29 -> 0 | S29: =ROUND(AVERAGE(G29,I29,K29,M29,O29,Q29),0) -> 13500 | T29: =S29*E29 -> 13500 | U29: =MIN(G29,I29,K29,M29,O29,Q29) -> 12000 | V29: =MAX(G29,I29,K29,M29,O29,Q29) -> 15000 | W29: =V29-U29 -> 3000 | X29: =W29/V29 -> 0.2 | Z29: Mantecada 60-80 gr 8 porc | AA29: UN | AB29: =Z29=D29 -> TRUE | AC29: =AA29=F29 -> TRUE | AD29: Mantecada 60-80 gr 8 porc | AE29: UN | AF29: =AD29=D29 -> TRUE | AG29: =AE29=F29 -> TRUE
A30: 25 | D30: Ponqué personal achocolatado x 20 gr aprox x 20 un | E30: 1 | F30: EMB | H30: =E30*G30 -> 0 | I30: 16000 | J30: =I30*E30 -> 16000 | N30: =M30*E30 -> 0 | P30: =O30*E30 -> 0 | Q30: 13824 | R30: =Q30*E30 -> 13824 | S30: =ROUND(AVERAGE(G30,I30,K30,M30,O30,Q30),0) -> 14912 | T30: =S30*E30 -> 14912 | U30: =MIN(G30,I30,K30,M30,O30,Q30) -> 13824 | V30: =MAX(G30,I30,K30,M30,O30,Q30) -> 16000 | W30: =V30-U30 -> 2176 | X30: =W30/V30 -> 0.136 | Z30: Ponqué personal achocolatado x 20 gr aprox x 20 un | AA30: UN | AB30: =Z30=D30 -> TRUE | AC30: =AA30=F30 -> FALSE | AD30: Ponqué personal achocolatado x 20 gr aprox x 20 un | AE30: EMB | AF30: =AD30=D30 -> TRUE | AG30: =AE30=F30 -> TRUE
A31: 26 | D31: Ponqué personal achocolatado x 70 gr aprox x 5 un | E31: 1 | F31: EMB | H31: =E31*G31 -> 0 | I31: 7500 | J31: =I31*E31 -> 7500 | M31: 6500 | N31: =M31*E31 -> 6500 | P31: =O31*E31 -> 0 | R31: =Q31*E31 -> 0 | S31: =ROUND(AVERAGE(G31,I31,K31,M31,O31,Q31),0) -> 7000 | T31: =S31*E31 -> 7000 | U31: =MIN(G31,I31,K31,M31,O31,Q31) -> 6500 | V31: =MAX(G31,I31,K31,M31,O31,Q31) -> 7500 | W31: =V31-U31 -> 1000 | X31: =W31/V31 -> 0.13333333 | Z31: Ponqué personal achocolatado x 70 gr aprox x 5 un | AA31: UN | AB31: =Z31=D31 -> TRUE | AC31: =AA31=F31 -> FALSE | AD31: Ponqué personal achocolatado x 70 gr aprox x 5 un | AE31: EMB | AF31: =AD31=D31 -> TRUE | AG31: =AE31=F31 -> TRUE
A32: 27 | D32: Cojín de lechona para 100 personas (cada porción de 300gr) | E32: 1 | F32: UN | H32: =E32*G32 -> 0 | J32: =I32*E32 -> 0 | M32: =14000*100 -> 1400000 | N32: =M32*E32 -> 1400000 | O32: 1500000 | P32: =O32*E32 -> 1500000 | R32: =Q32*E32 -> 0 | S32: =ROUND(AVERAGE(G32,I32,K32,M32,O32,Q32),0) -> 1450000 | T32: =S32*E32 -> 1450000 | U32: =MIN(G32,I32,K32,M32,O32,Q32) -> 1400000 | V32: =MAX(G32,I32,K32,M32,O32,Q32) -> 1500000 | W32: =V32-U32 -> 100000 | X32: =W32/V32 -> 0.066666667 | Z32: Cojín de lechona para 100 personas (cada porción de 300gr) | AA32: UN | AB32: =Z32=D32 -> TRUE | AC32: =AA32=F32 -> TRUE | AD32: Cojín de lechona para 100 personas (cada porción de 300gr) | AE32: UN | AF32: =AD32=D32 -> TRUE | AG32: =AE32=F32 -> TRUE
A33: 28 | D33: Estación de café: que ofrezca aromáticas, café y agua potable para 100 personas, durante el evento (se debera preveer suministrar como minimo 200 liquidos en el evento), incluye mesero. | E33: 1 | F33: UN | H33: =E33*G33 -> 0 | I33: 620000 | J33: =I33*E33 -> 620000 | M33: 850000 | N33: =M33*E33 -> 850000 | P33: =O33*E33 -> 0 | R33: =Q33*E33 -> 0 | S33: =ROUND(AVERAGE(G33,I33,K33,M33,O33,Q33),0) -> 735000 | T33: =S33*E33 -> 735000 | U33: =MIN(G33,I33,K33,M33,O33,Q33) -> 620000 | V33: =MAX(G33,I33,K33,M33,O33,Q33) -> 850000 | W33: =V33-U33 -> 230000 | X33: =W33/V33 -> 0.27058824 | Z33: Estación de café: que ofrezca aromáticas, café y agua potable para 100 personas, durante el evento (se debera preveer suministrar como minimo 200 liquidos en el evento), incluye mesero. | AA33: UN | AB33: =Z33=D33 -> TRUE | AC33: =AA33=F33 -> TRUE | AD33: Estación de café: que ofrezca aromáticas, café y agua potable para 100 personas, durante el evento (se debera preveer suministrar como minimo 200 liquidos en el evento), incluye mesero. | AE33: UN | AF33: =AD33=D33 -> TRUE | AG33: =AE33=F33 -> TRUE
A34: 29 | D34: Mojarra Roja de 500 gr aprox. | E34: 1 | F34: UN | G34: 10000 | H34: =E34*G34 -> 10000 | J34: =I34*E34 -> 0 | L34: =K34*E34 -> 0 | M34: 12500 | N34: =M34*E34 -> 12500 | O34: 9700 | P34: =O34*E34 -> 9700 | Q34: 10880 | R34: =Q34*E34 -> 10880 | S34: =ROUND(AVERAGE(G34,I34,K34,M34,O34,Q34),0) -> 10770 | T34: =S34*E34 -> 10770 | U34: =MIN(G34,I34,K34,M34,O34,Q34) -> 9700 | V34: =MAX(G34,I34,K34,M34,O34,Q34) -> 12500 | W34: =V34-U34 -> 2800 | X34: =W34/V34 -> 0.224 | Z34: Mojarra Roja de 500 gr aprox. | AA34: UN | AB34: =Z34=D34 -> TRUE | AC34: =AA34=F34 -> TRUE | AD34: Mojarra Roja de 500 gr aprox. | AE34: UN | AF34: =AD34=D34 -> TRUE | AG34: =AE34=F34 -> TRUE
A35: 30 | D35: Carne Centro de cadera | E35: 1 | F35: KG | G35: 24000 | H35: =E35*G35 -> 24000 | J35: =I35*E35 -> 0 | K35: 25000 | L35: =K35*E35 -> 25000 | N35: =M35*E35 -> 0 | O35: 25500 | P35: =O35*E35 -> 25500 | R35: =Q35*E35 -> 0 | S35: =ROUND(AVERAGE(G35,I35,K35,M35,O35,Q35),0) -> 24833 | T35: =S35*E35 -> 24833 | U35: =MIN(G35,I35,K35,M35,O35,Q35) -> 24000 | V35: =MAX(G35,I35,K35,M35,O35,Q35) -> 25500 | W35: =V35-U35 -> 1500 | X35: =W35/V35 -> 0.058823529 | Z35: Carne Centro de cadera | AA35: KG | AB35: =Z35=D35 -> TRUE | AC35: =AA35=F35 -> TRUE | AD35: Carne Centro de cadera | AE35: KG | AF35: =AD35=D35 -> TRUE | AG35: =AE35=F35 -> TRUE
A36: 31 | D36: Pollo entero sin viceras de 500 gr aprox | E36: 1 | F36: UN | H36: =E36*G36 -> 0 | J36: =I36*E36 -> 0 | L36: =K36*E36 -> 0 | M36: 18000 | N36: =M36*E36 -> 18000 | O36: 14200 | P36: =O36*E36 -> 14200 | Q36: 16640 | R36: =Q36*E36 -> 16640 | S36: =ROUND(AVERAGE(G36,I36,K36,M36,O36,Q36),0) -> 16280 | T36: =S36*E36 -> 16280 | U36: =MIN(G36,I36,K36,M36,O36,Q36) -> 14200 | V36: =MAX(G36,I36,K36,M36,O36,Q36) -> 18000 | W36: =V36-U36 -> 3800 | X36: =W36/V36 -> 0.21111111 | Z36: Pollo entero sin viceras de 500 gr aprox | AA36: UN | AB36: =Z36=D36 -> TRUE | AC36: =AA36=F36 -> TRUE | AD36: Pollo entero sin viceras de 500 gr aprox | AE36: UN | AF36: =AD36=D36 -> TRUE | AG36: =AE36=F36 -> TRUE
A37: 32 | D37: Manzana de agua 80 gr aproximadamente | E37: 1 | F37: UN | H37: =E37*G37 -> 0 | J37: =I37*E37 -> 0 | K37: =3500/2 -> 1750 | L37: =K37*E37 -> 1750 | N37: =M37*E37 -> 0 | O37: 1400 | P37: =O37*E37 -> 1400 | Q37: 1536 | R37: =Q37*E37 -> 1536 | S37: =ROUND(AVERAGE(G37,I37,K37,M37,O37,Q37),0) -> 1562 | T37: =S37*E37 -> 1562 | U37: =MIN(G37,I37,K37,M37,O37,Q37) -> 1400 | V37: =MAX(G37,I37,K37,M37,O37,Q37) -> 1750 | W37: =V37-U37 -> 350 | X37: =W37/V37 -> 0.2 | Z37: Manzana de agua 80 gr aproximadamente | AA37: KG | AB37: =Z37=D37 -> TRUE | AC37: =AA37=F37 -> FALSE | AD37: Manzana de agua 80 gr aproximadamente | AE37: UN | AF37: =AD37=D37 -> TRUE | AG37: =AE37=F37 -> TRUE
A38: 33 | D38: Piña Perolera | E38: 1 | F38: KG | G38: 3000 | H38: =E38*G38 -> 3000 | J38: =I38*E38 -> 0 | L38: =K38*E38 -> 0 | N38: =M38*E38 -> 0 | O38: 4400 | P38: =O38*E38 -> 4400 | R38: =Q38*E38 -> 0 | S38: =ROUND(AVERAGE(G38,I38,K38,M38,O38,Q38),0) -> 3700 | T38: =S38*E38 -> 3700 | U38: =MIN(G38,I38,K38,M38,O38,Q38) -> 3000 | V38: =MAX(G38,I38,K38,M38,O38,Q38) -> 4400 | W38: =V38-U38 -> 1400 | X38: =W38/V38 -> 0.31818182 | Z38: Piña Perolera | AA38: KG | AB38: =Z38=D38 -> TRUE | AC38: =AA38=F38 -> TRUE | AD38: Piña Perolera | AE38: KG | AF38: =AD38=D38 -> TRUE | AG38: =AE38=F38 -> TRUE
A39: 34 | D39: Guanabana | E39: 1 | F39: KG | G39: 4000 | H39: =E39*G39 -> 4000 | J39: =I39*E39 -> 0 | K39: 3500 | L39: =K39*E39 -> 3500 | N39: =M39*E39 -> 0 | P39: =O39*E39 -> 0 | Q39: 3840 | R39: =Q39*E39 -> 3840 | S39: =ROUND(AVERAGE(G39,I39,K39,M39,O39,Q39),0) -> 3780 | T39: =S39*E39 -> 3780 | U39: =MIN(G39,I39,K39,M39,O39,Q39) -> 3500 | V39: =MAX(G39,I39,K39,M39,O39,Q39) -> 4000 | W39: =V39-U39 -> 500 | X39: =W39/V39 -> 0.125 | Z39: Guanabana | AA39: KG | AB39: =Z39=D39 -> TRUE | AC39: =AA39=F39 -> TRUE | AD39: Guanabana | AE39: KG | AF39: =AD39=D39 -> TRUE | AG39: =AE39=F39 -> TRUE
A40: 35 | D40: Azúcar Blanca por libra | E40: 1 | F40: UN | G40: 1900 | H40: =E40*G40 -> 1900 | J40: =I40*E40 -> 0 | K40: 1600 | L40: =K40*E40 -> 1600 | M40: 2000 | N40: =M40*E40 -> 2000 | P40: =O40*E40 -> 0 | R40: =Q40*E40 -> 0 | S40: =ROUND(AVERAGE(G40,I40,K40,M40,O40,Q40),0) -> 1833 | T40: =S40*E40 -> 1833 | U40: =MIN(G40,I40,K40,M40,O40,Q40) -> 1600 | V40: =MAX(G40,I40,K40,M40,O40,Q40) -> 2000 | W40: =V40-U40 -> 400 | X40: =W40/V40 -> 0.2 | Z40: Azúcar Blanca por libra | AA40: UN | AB40: =Z40=D40 -> TRUE | AC40: =AA40=F40 -> TRUE | AD40: Azúcar Blanca por libra | AE40: UN | AF40: =AD40=D40 -> TRUE | AG40: =AE40=F40 -> TRUE
A41: 36 | D41: Cebolla Cabezona | E41: 1 | F41: KG | H41: =E41*G41 -> 0 | J41: =I41*E41 -> 0 | L41: =K41*E41 -> 0 | M41: 4000 | N41: =M41*E41 -> 4000 | O41: 5000 | P41: =O41*E41 -> 5000 | R41: =Q41*E41 -> 0 | S41: =ROUND(AVERAGE(G41,I41,K41,M41,O41,Q41),0) -> 4500 | T41: =S41*E41 -> 4500 | U41: =MIN(G41,I41,K41,M41,O41,Q41) -> 4000 | V41: =MAX(G41,I41,K41,M41,O41,Q41) -> 5000 | W41: =V41-U41 -> 1000 | X41: =W41/V41 -> 0.2 | Z41: Cebolla Cabezona | AA41: KG | AB41: =Z41=D41 -> TRUE | AC41: =AA41=F41 -> TRUE | AD41: Cebolla Cabezona | AE41: KG | AF41: =AD41=D41 -> TRUE | AG41: =AE41=F41 -> TRUE
A42: 37 | D42: Tomate Chonto | E42: 1 | F42: KG | H42: =E42*G42 -> 0 | J42: =I42*E42 -> 0 | K42: 3200 | L42: =K42*E42 -> 3200 | M42: 4100 | N42: =M42*E42 -> 4100 | P42: =O42*E42 -> 0 | Q42: 3840 | R42: =Q42*E42 -> 3840 | S42: =ROUND(AVERAGE(G42,I42,K42,M42,O42,Q42),0) -> 3713 | T42: =S42*E42 -> 3713 | U42: =MIN(G42,I42,K42,M42,O42,Q42) -> 3200 | V42: =MAX(G42,I42,K42,M42,O42,Q42) -> 4100 | W42: =V42-U42 -> 900 | X42: =W42/V42 -> 0.2195122 | Z42: Tomate Chonto | AA42: KG | AB42: =Z42=D42 -> TRUE | AC42: =AA42=F42 -> TRUE | AD42: Tomate Chonto | AE42: KG | AF42: =AD42=D42 -> TRUE | AG42: =AE42=F42 -> TRUE
A43: 38 | D43: Cabeza de Ajo | E43: 1 | F43: UN | G43: 7500 | H43: =E43*G43 -> 7500 | J43: =I43*E43 -> 0 | N43: =M43*E43 -> 0 | P43: =O43*E43 -> 0 | Q43: 6400 | R43: =Q43*E43 -> 6400 | S43: =ROUND(AVERAGE(G43,I43,K43,M43,O43,Q43),0) -> 6950 | T43: =S43*E43 -> 6950 | U43: =MIN(G43,I43,K43,M43,O43,Q43) -> 6400 | V43: =MAX(G43,I43,K43,M43,O43,Q43) -> 7500 | W43: =V43-U43 -> 1100 | X43: =W43/V43 -> 0.14666667 | Z43: Cabeza de Ajo | AA43: KG | AB43: =Z43=D43 -> TRUE | AC43: =AA43=F43 -> FALSE | AD43: Cabeza de Ajo | AE43: UN | AF43: =AD43=D43 -> TRUE | AG43: =AE43=F43 -> TRUE
A44: 39 | D44: Sal por libra | E44: 1 | F44: UN | H44: =E44*G44 -> 0 | J44: =I44*E44 -> 0 | L44: =K44*E44 -> 0 | M44: 1450 | N44: =M44*E44 -> 1450 | P44: =O44*E44 -> 0 | Q44: 1536 | R44: =Q44*E44 -> 1536 | S44: =ROUND(AVERAGE(G44,I44,K44,M44,O44,Q44),0) -> 1493 | T44: =S44*E44 -> 1493 | U44: =MIN(G44,I44,K44,M44,O44,Q44) -> 1450 | V44: =MAX(G44,I44,K44,M44,O44,Q44) -> 1536 | W44: =V44-U44 -> 86 | X44: =W44/V44 -> 0.055989583 | Z44: Sal por libra | AA44: UN | AB44: =Z44=D44 -> TRUE | AC44: =AA44=F44 -> TRUE | AD44: Sal por libra | AE44: UN | AF44: =AD44=D44 -> TRUE | AG44: =AE44=F44 -> TRUE
A45: 40 | D45: Arroz por libra | E45: 1 | F45: UN | G45: 2500 | H45: =E45*G45 -> 2500 | J45: =I45*E45 -> 0 | L45: =K45*E45 -> 0 | M45: 2000 | N45: =M45*E45 -> 2000 | P45: =O45*E45 -> 0 | R45: =Q45*E45 -> 0 | S45: =ROUND(AVERAGE(G45,I45,K45,M45,O45,Q45),0) -> 2250 | T45: =S45*E45 -> 2250 | U45: =MIN(G45,I45,K45,M45,O45,Q45) -> 2000 | V45: =MAX(G45,I45,K45,M45,O45,Q45) -> 2500 | W45: =V45-U45 -> 500 | X45: =W45/V45 -> 0.2 | Z45: Arroz por libra | AA45: UN | AB45: =Z45=D45 -> TRUE | AC45: =AA45=F45 -> TRUE | AD45: Arroz por libra | AE45: UN | AF45: =AD45=D45 -> TRUE | AG45: =AE45=F45 -> TRUE
A46: 41 | D46: Huevos cubeta tipo AA x 30 unidades | E46: 1 | F46: UN | G46: 13000 | H46: =E46*G46 -> 13000 | J46: =I46*E46 -> 0 | K46: =440*30 -> 13200 | L46: =K46*E46 -> 13200 | M46: 15500 | N46: =M46*E46 -> 15500 | P46: =O46*E46 -> 0 | Q46: 16640 | R46: =Q46*E46 -> 16640 | S46: =ROUND(AVERAGE(G46,I46,K46,M46,O46,Q46),0) -> 14585 | T46: =S46*E46 -> 14585 | U46: =MIN(G46,I46,K46,M46,O46,Q46) -> 13000 | V46: =MAX(G46,I46,K46,M46,O46,Q46) -> 16640 | W46: =V46-U46 -> 3640 | X46: =W46/V46 -> 0.21875 | Z46: Huevos cubeta tipo AA x 30 unidades | AA46: UN | AB46: =Z46=D46 -> TRUE | AC46: =AA46=F46 -> TRUE | AD46: Huevos cubeta tipo AA x 30 unidades | AE46: UN | AF46: =AD46=D46 -> TRUE | AG46: =AE46=F46 -> TRUE
A47: 42 | D47: Harina de trigo | E47: 1 | F47: KG | G47: 4000 | H47: =E47*G47 -> 4000 | J47: =I47*E47 -> 0 | L47: =K47*E47 -> 0 | M47: 4700 | N47: =M47*E47 -> 4700 | P47: =O47*E47 -> 0 | R47: =Q47*E47 -> 0 | S47: =ROUND(AVERAGE(G47,I47,K47,M47,O47,Q47),0) -> 4350 | T47: =S47*E47 -> 4350 | U47: =MIN(G47,I47,K47,M47,O47,Q47) -> 4000 | V47: =MAX(G47,I47,K47,M47,O47,Q47) -> 4700 | W47: =V47-U47 -> 700 | X47: =W47/V47 -> 0.14893617 | Z47: Harina de trigo | AA47: KG | AB47: =Z47=D47 -> TRUE | AC47: =AA47=F47 -> TRUE | AD47: Harina de trigo | AE47: KG | AF47: =AD47=D47 -> TRUE | AG47: =AE47=F47 -> TRUE
A48: 43 | D48: Banano | E48: 1 | F48: KG | H48: =E48*G48 -> 0 | J48: =I48*E48 -> 0 | L48: =K48*E48 -> 0 | M48: 3100 | N48: =M48*E48 -> 3100 | O48: 3350 | P48: =O48*E48 -> 3350 | R48: =Q48*E48 -> 0 | S48: =ROUND(AVERAGE(G48,I48,K48,M48,O48,Q48),0) -> 3225 | T48: =S48*E48 -> 3225 | U48: =MIN(G48,I48,K48,M48,O48,Q48) -> 3100 | V48: =MAX(G48,I48,K48,M48,O48,Q48) -> 3350 | W48: =V48-U48 -> 250 | X48: =W48/V48 -> 0.074626866 | Z48: Banano | AA48: KG | AB48: =Z48=D48 -> TRUE | AC48: =AA48=F48 -> TRUE | AD48: Banano | AE48: KG | AF48: =AD48=D48 -> TRUE | AG48: =AE48=F48 -> TRUE
A49: 44 | D49: Mango Tommy | E49: 1 | F49: KG | H49: =E49*G49 -> 0 | J49: =I49*E49 -> 0 | K49: 4091 | L49: =K49*E49 -> 4091 | M49: 4700 | N49: =M49*E49 -> 4700 | P49: =O49*E49 -> 0 | Q49: 4480 | R49: =Q49*E49 -> 4480 | S49: =ROUND(AVERAGE(G49,I49,K49,M49,O49,Q49),0) -> 4424 | T49: =S49*E49 -> 4424 | U49: =MIN(G49,I49,K49,M49,O49,Q49) -> 4091 | V49: =MAX(G49,I49,K49,M49,O49,Q49) -> 4700 | W49: =V49-U49 -> 609 | X49: =W49/V49 -> 0.12957447 | Z49: Mango Tommy | AA49: KG | AB49: =Z49=D49 -> TRUE | AC49: =AA49=F49 -> TRUE | AD49: Mango Tommy | AE49: KG | AF49: =AD49=D49 -> TRUE | AG49: =AE49=F49 -> TRUE
A50: 45 | D50: Lulo | E50: 1 | F50: KG | H50: =E50*G50 -> 0 | J50: =I50*E50 -> 0 | K50: 4200 | L50: =K50*E50 -> 4200 | M50: 4550 | N50: =M50*E50 -> 4550 | P50: =O50*E50 -> 0 | R50: =Q50*E50 -> 0 | S50: =ROUND(AVERAGE(G50,I50,K50,M50,O50,Q50),0) -> 4375 | T50: =S50*E50 -> 4375 | U50: =MIN(G50,I50,K50,M50,O50,Q50) -> 4200 | V50: =MAX(G50,I50,K50,M50,O50,Q50) -> 4550 | W50: =V50-U50 -> 350 | X50: =W50/V50 -> 0.076923077 | Z50: Lulo | AA50: KG | AB50: =Z50=D50 -> TRUE | AC50: =AA50=F50 -> TRUE | AD50: Lulo | AE50: KG | AF50: =AD50=D50 -> TRUE | AG50: =AE50=F50 -> TRUE
A51: 46 | D51: Panelon 250 gramos | E51: 1 | F51: UN | H51: =E51*G51 -> 0 | J51: =I51*E51 -> 0 | L51: =K51*E51 -> 0 | M51: =(7250/1000)*250 -> 1812.5 | N51: =M51*E51 -> 1812.5 | P51: =O51*E51 -> 0 | Q51: 2048 | R51: =Q51*E51 -> 2048 | S51: =ROUND(AVERAGE(G51,I51,K51,M51,O51,Q51),0) -> 1930 | T51: =S51*E51 -> 1930 | U51: =MIN(G51,I51,K51,M51,O51,Q51) -> 1812.5 | V51: =MAX(G51,I51,K51,M51,O51,Q51) -> 2048 | W51: =V51-U51 -> 235.5 | X51: =W51/V51 -> 0.11499023 | Z51: Panelon 250 gramos | AA51: KG | AB51: =Z51=D51 -> TRUE | AC51: =AA51=F51 -> FALSE | AD51: Panelon 250 gramos | AE51: UN | AF51: =AD51=D51 -> TRUE | AG51: =AE51=F51 -> TRUE
A52: 47 | D52: Panelon 500 gramos | E52: 1 | F52: UN | H52: =E52*G52 -> 0 | J52: =I52*E52 -> 0 | L52: =K52*E52 -> 0 | M52: =(7250/1000)*500 -> 3625 | N52: =M52*E52 -> 3625 | P52: =O52*E52 -> 0 | Q52: 4096 | R52: =Q52*E52 -> 4096 | S52: =ROUND(AVERAGE(G52,I52,K52,M52,O52,Q52),0) -> 3861 | T52: =S52*E52 -> 3861 | U52: =MIN(G52,I52,K52,M52,O52,Q52) -> 3625 | V52: =MAX(G52,I52,K52,M52,O52,Q52) -> 4096 | W52: =V52-U52 -> 471 | X52: =W52/V52 -> 0.11499023 | Z52: Panelon 500 gramos | AA52: KG | AB52: =Z52=D52 -> TRUE | AC52: =AA52=F52 -> FALSE | AD52: Panelon 500 gramos | AE52: UN | AF52: =AD52=D52 -> TRUE | AG52: =AE52=F52 -> TRUE
A53: 48 | D53: Platano maduro | E53: 1 | F53: KG | H53: =E53*G53 -> 0 | J53: =I53*E53 -> 0 | K53: 3864 | L53: =K53*E53 -> 3864 | M53: 3850 | N53: =M53*E53 -> 3850 | P53: =O53*E53 -> 0 | R53: =Q53*E53 -> 0 | S53: =ROUND(AVERAGE(G53,I53,K53,M53,O53,Q53),0) -> 3857 | T53: =S53*E53 -> 3857 | U53: =MIN(G53,I53,K53,M53,O53,Q53) -> 3850 | V53: =MAX(G53,I53,K53,M53,O53,Q53) -> 3864 | W53: =V53-U53 -> 14 | X53: =W53/V53 -> 0.0036231884 | Z53: Platano maduro | AA53: KG | AB53: =Z53=D53 -> TRUE | AC53: =AA53=F53 -> TRUE | AD53: Platano maduro | AE53: KG | AF53: =AD53=D53 -> TRUE | AG53: =AE53=F53 -> TRUE
A54: 49 | D54: Platano verde | E54: 1 | F54: KG | H54: =E54*G54 -> 0 | J54: =I54*E54 -> 0 | K54: 3864 | L54: =K54*E54 -> 3864 | M54: 3850 | N54: =M54*E54 -> 3850 | P54: =O54*E54 -> 0 | R54: =Q54*E54 -> 0 | S54: =ROUND(AVERAGE(G54,I54,K54,M54,O54,Q54),0) -> 3857 | T54: =S54*E54 -> 3857 | U54: =MIN(G54,I54,K54,M54,O54,Q54) -> 3850 | V54: =MAX(G54,I54,K54,M54,O54,Q54) -> 3864 | W54: =V54-U54 -> 14 | X54: =W54/V54 -> 0.0036231884 | Z54: Platano verde | AA54: KG | AB54: =Z54=D54 -> TRUE | AC54: =AA54=F54 -> TRUE | AD54: Platano verde | AE54: KG | AF54: =AD54=D54 -> TRUE | AG54: =AE54=F54 -> TRUE
A55: 50 | D55: Papa Pastusa | E55: 1 | F55: KG | G55: 7500 | H55: =E55*G55 -> 7500 | J55: =I55*E55 -> 0 | L55: =K55*E55 -> 0 | P55: =O55*E55 -> 0 | Q55: 7680 | R55: =Q55*E55 -> 7680 | S55: =ROUND(AVERAGE(G55,I55,K55,M55,O55,Q55),0) -> 7590 | T55: =S55*E55 -> 7590 | U55: =MIN(G55,I55,K55,M55,O55,Q55) -> 7500 | V55: =MAX(G55,I55,K55,M55,O55,Q55) -> 7680 | W55: =V55-U55 -> 180 | X55: =W55/V55 -> 0.0234375 | Z55: Papa Pastusa | AA55: KG | AB55: =Z55=D55 -> TRUE | AC55: =AA55=F55 -> TRUE | AD55: Papa Pastusa | AE55: KG | AF55: =AD55=D55 -> TRUE | AG55: =AE55=F55 -> TRUE
A56: 51 | D56: Servicio de mesero | E56: 1 | F56: Horas | H56: =E56*G56 -> 0 | I56: 35000 | J56: =I56*E56 -> 35000 | P56: =O56*E56 -> 0 | Q56: 25600 | R56: =Q56*E56 -> 25600 | S56: =ROUND(AVERAGE(G56,I56,K56,M56,O56,Q56),0) -> 30300 | T56: =S56*E56 -> 30300 | U56: =MIN(G56,I56,K56,M56,O56,Q56) -> 25600 | V56: =MAX(G56,I56,K56,M56,O56,Q56) -> 35000 | W56: =V56-U56 -> 9400 | X56: =W56/V56 -> 0.26857143 | Z56: Servicio de mesero | AA56: Horas | AB56: =Z56=D56 -> TRUE | AC56: =AA56=F56 -> TRUE | AD56: Servicio de mesero | AE56: Horas | AF56: =AD56=D56 -> TRUE | AG56: =AE56=F56 -> TRUE
A57: VALOR TOTAL ESTUDIO DE MERCADO | T57: =SUM(T6:T56) -> 28963866

Sheet Resumen
C1: GESTIÓN CONTRACTUAL | H1: Código: IDPAC-GC-FT-29 Versión: 1 Fecha: 06/03/2018 Página: 1 de 1
C2: FORMATO ELABORACIÓN ESTUDIOS DE MERCADO - PROCESOS DE GESTIÓN CONTRACTUAL
A3: Nivel | B3: Ref. Artículo | C3: Código UNSPSC | D3: Descripción | E3: Cantidad | F3: Unidad | G3: Precio unitario estimado | H3: Precio total estimado
A4: 1 | B4: 1 | C4: 93131610 | D4: =+'Estudio de mercado'!D6 -> Desayuno Op1: 1/4 lb de queso campesino +Vaso de chocolate o Café o Té (en leche) 12 Onzas + Almohabana o Pan de bono 200 gramos , empaque Biodegradable y cubiertos | E4: 1 | F4: =+'Estudio de mercado'!F6 -> UN | G4: =+'Estudio de mercado'!S6 -> 20650 | H4: =E4*G4 -> 20650
A5: 1 | B5: 2 | C5: 93131610 | D5: =+'Estudio de mercado'!D7 -> Desayuno Op2: 1/4 lb de queso campesino +Vaso de chocolate o Café o Té (en leche) 12 Onzas +Almohabana o Pan de bono 200 gramos, servidos con menaje | E5: 1 | F5: =+'Estudio de mercado'!F7 -> UN | G5: =+'Estudio de mercado'!S7 -> 21767 | H5: =E5*G5 -> 21767
A6: 1 | B6: 3 | C6: 93131610 | D6: =+'Estudio de mercado'!D8 -> Desayuno Op3: Desayunos de acuerdo a especificaciones técnicas // (1) Bebida: Te, Café, Chocolate, Yogurt , Kumis ó Avena. Cantidad: 12 onzas (2) Proteína: Huevo, Queso ó Carne 150 gramos. Cantidad: 150 gramos (3) Cereal :Pan – Arepa – Galletas. Cantidad: 100 gramos (4) Fruta: Fruta de cosecha. Cantidad: 100 gramos (5)Grasa: Mantequilla. Cantidad: 10 gramos (6) Dulce: Mermelada. 15 gramos. Empaque biodegradable con cubiertos | E6: 1 | F6: =+'Estudio de mercado'!F8 -> UN | G6: =+'Estudio de mercado'!S8 -> 20932 | H6: =E6*G6 -> 20932
A7: 1 | B7: 4 | C7: 93131610 | D7: =+'Estudio de mercado'!D9 -> Desayuno Op4: Desayunos de acuerdo a especificaciones técnicas // (1) Bebida: Te, Café, Chocolate, Yogurt , Kumis ó Avena. Cantidad: 12 onzas (2) Proteína: Huevo, Queso ó Carne 150 gramos. Cantidad: 150 gramos (3) Cereal :Pan – Arepa – Galletas. Cantidad: 100 gramos (4) Fruta: Fruta de cosecha. Cantidad: 100 gramos (5)Grasa: Mantequilla. Cantidad: 10 gramos (6) Dulce: Mermelada. 15 gramos. servidos con menaje | E7: 1 | F7: =+'Estudio de mercado'!F9 -> UN | G7: =+'Estudio de mercado'!S9 -> 37352 | H7: =E7*G7 -> 37352
A8: 1 | B8: 5 | C8: 93131610 | D8: =+'Estudio de mercado'!D10 -> Desayuno Op5:consta de: Sandwich pan especial con jamón de cerdo y queso (150gr) + Café (125ml) o Capuchino (125ml), o Aromática (125ml) o jugo Natural (125ml) + fruta (papaya, ,melón y fresas) (80gr) en empaque biodegradable con cubiertos | E8: 1 | F8: =+'Estudio de mercado'!F10 -> UN | G8: =+'Estudio de mercado'!S10 -> 18656 | H8: =E8*G8 -> 18656
A9: 1 | B9: 6 | C9: 93131610 | D9: =+'Estudio de mercado'!D11 -> Desayuno Op6: consta de: Sandwich pan especial con jamón de cerdo y queso (150gr) + Café (125ml) o Capuchino (125ml), o Aromática (125ml) o jugo Natural (125ml) + fruta (papaya, ,melón y fresas) (80gr) servidos con menaje | E9: 1 | F9: =+'Estudio de mercado'!F11 -> UN | G9: =+'Estudio de mercado'!S11 -> 28076 | H9: =E9*G9 -> 28076
A10: 1 | B10: 7 | C10: 93131610 | D10: =+'Estudio de mercado'!D12 -> Almuerzos y cenas Op1: (1) Entrada: Sopa 250 ml o 16 onzas de fruta de cosecha. Cantidad: 100 gramos. (2) Plato fuerte: Proteína de origen animal 100% (Carnes vacuna, cerdo, pollo ó pescado) Cantidad: 200 gramos (3) Cereal (Arroz) Cantidad: 100 gramos (4) Ensalada de verduras o fruta. Cantidad: 100 gramos (5) Papa – yuca-plátano. Cantidad: 100 gramos (6) Bebida: Jugo de fruta o Gaseosa. 16 onzas. Empaque biodegradable con cubiertos | E10: 1 | F10: =+'Estudio de mercado'!F12 -> UN | G10: =+'Estudio de mercado'!S12 -> 21356 | H10: =E10*G10 -> 21356
A11: 1 | B11: 8 | C11: 93131610 | D11: =+'Estudio de mercado'!D13 -> Almuerzos y cenas Op2: (1) Entrada: Sopa 250 ml o 16 onzas de fruta de cosecha. Cantidad: 100 gramos. (2) Plato fuerte: Proteína de origen animal 100% (Carnes vacuna, cerdo, pollo ó pescado) Cantidad: 200 gramos (3) Cereal (Arroz) Cantidad: 100 gramos (4) Ensalada de verduras o fruta. Cantidad: 100 gramos (5) Papa – yuca-plátano. Cantidad: 100 gramos (6) Bebida: Jugo de fruta o Gaseosa. 16 onzas. Empaque biodegradable servido con menaje | E11: 1 | F11: =+'Estudio de mercado'!F13 -> UN | G11: =+'Estudio de mercado'!S13 -> 30408 | H11: =E11*G11 -> 30408
A12: 1 | B12: 9 | C12: 93131610 | D12: =+'Estudio de mercado'!D14 -> Servicio de bufet para 100 personas que ofrezca: plato fuerte proteína de origen animal 100% (Carnes vacuna, cerdo, pollo ó pescado) Cantidad: 200 gramos, Cereal (Arroz) Cantidad: 100 gramos, Ensalada de verduras o fruta. Cantidad: 100 gramos, Papa o yuca o plátano. Cantidad: 100 gramos, bebida: Jugo natural y/o agua 16 onzas. Servicio de meseros. | E12: 1 | F12: =+'Estudio de mercado'!F14 -> UN | G12: =+'Estudio de mercado'!S14 -> 4490000 | H12: =E12*G12 -> 4490000
A13: 1 | B13: 10 | C13: 93131610 | D13: =+'Estudio de mercado'!D15 -> Servicio de bufet para 200 personas que ofrezca: plato fuerte proteína de origen animal 100% (Carnes vacuna, cerdo, pollo ó pescado) Cantidad: 200 gramos, Cereal (Arroz) Cantidad: 100 gramos, Ensalada de verduras o fruta. Cantidad: 100 gramos, Papa o yuca o plátano. Cantidad: 100 gramos, bebida: Jugo natural y/o agua 16 onzas. Servicio de meseros. | E13: 1 | F13: =+'Estudio de mercado'!F15 -> UN | G13: =+'Estudio de mercado'!S15 -> 8830000 | H13: =E13*G13 -> 8830000
A14: 1 | B14: 11 | C14: 93131610 | D14: =+'Estudio de mercado'!D16 -> Servicio de bufet para 300 personas que ofrezca: plato fuerte proteína de origen animal 100% (Carnes vacuna, cerdo, pollo ó pescado) Cantidad: 200 gramos, Cereal (Arroz) Cantidad: 100 gramos, Ensalada de verduras o fruta. Cantidad: 100 gramos, Papa o yuca o plátano. Cantidad: 100 gramos, bebida: Jugo natural y/o agua 16 onzas. Servicio de meseros. | E14: 1 | F14: =+'Estudio de mercado'!F16 -> UN | G14: =+'Estudio de mercado'!S16 -> 12900000 | H14: =E14*G14 -> 12900000
A15: 1 | B15: 12 | C15: 93131610 | D15: =+'Estudio de mercado'!D17 -> Refrigerio Op 1: Pan de bono o arepa (200 gr) +Avena o yogurt en bolsa (150 gr) +Manzana, empaque Biodegradable | E15: 1 | F15: =+'Estudio de mercado'!F17 -> UN | G15: =+'Estudio de mercado'!S17 -> 6770 | H15: =E15*G15 -> 6770
A16: 1 | B16: 13 | C16: 93131610 | D16: =+'Estudio de mercado'!D18 -> Refrigerio Op 2: Sandwich de Pan fresco con Jamón y Queso (150gr), & Jugo caja tetrapack (200ml), empaque Biodegradable | E16: 1 | F16: =+'Estudio de mercado'!F18 -> UN | G16: =+'Estudio de mercado'!S18 -> 5258 | H16: =E16*G16 -> 5258
... A54: 1 | B54: 51 | C54: 93131610 | D54: =+'Estudio de mercado'!D56 -> Servicio de mesero | E54: 1 | F54: =+'Estudio de mercado'!F56 -> Horas | G54: =+'Estudio de mercado'!S56 -> 30300 | H54: =E54*G54 -> 30300
A55: VALOR TOTAL ESTUDIO DE MERCADO | H55: =SUM(H4:H54) -> 28963866
A58: Observaciones:

Sheet listado de unidades
A1: UNIDADES
A2: Nombre | B2: Descripción
A3: µA | B3: Microamperio
A4: µGL | B4: Microgramos/Litro
A5: µGQ | B5: Microgramos/ Metro cúbico
A6: µM | B6: Micrómetro
A7: 2IN | B7: Pulgada cuadrada
A8: A | B8: Amperio
A9: ACR | B9: Acre
A10: ANO | B10: Año
A11: ARR | B11: Arroba
A12: AT | B12: Hierro atado
A13: BDN | B13: Bidón
... A186: YD | B186: Yarda
