Workbook
Name SML: [1]SMLV!$A$3:$B$63

Sheet Histórico SMML
B2: SALARIO MÍNIMO
B3: AÑO | C3: SALARIO
B4: 1950 | C4: 60
B5: 1951 | C5: 60
B6: 1952 | C6: 60
B7: 1953 | C7: 60
B8: 1954 | C8: 60
B9: 1955 | C9: 60
B10: 1956 | C10: 135
B11: 1957 | C11: 155
B12: 1958 | C12: 155
B13: 1959 | C13: 155
B14: 1960 | C14: 198
B15: 1961 | C15: 198
... B74: 2020 | C74: 877803
B75: 2021
B76: 2022
B77: 2023
B78: 2024
B79: 2025
B80: 2026
B81: 2027

Sheet Evaluación Propuesta CM
AC1: 0.2
B2: Rama Judicial del Poder Público Consejo Superior de la Judicatura Direccion Ejecutiva de Administraccion Judicial Unidad de Infraestructura Fisica | J2: EVALUACIÓN TÉCNICA PROPUESTAS CONCURSOS DE MÉRITOS - 2018
J3: PROCESO: | L3: CONCURSO DE MÉRITOS No. 08 DE 2019
J4: OBJETO: | L4: "Realizar la Interventoría Técnica, Administrativa, Jurídica, Financiera, Contable y Ambiental al contrato cuyo objeto es “Realizar el suministro, instalación, ejecución de obras civiles y eléctricas necesarias para la provisión y puesta en marcha de nueve (9) equipos de transporte vertical (ascensores) para el Palacio de Justicia de Cali Pedro Elías Serrano Abadía, así como, la desinstalación manejo y disposición final de residuos de los equipos existentes, a precio global fijo”.
J6: FECHA: | L6: =TODAY() -> 44649
B7: PRESUPUESTO OFICIAL: | J7: 168330890 | L7: EN SALARIOS: | M7: =(J7/'Histórico SMML'!$C$73)-0.01 -> 203.2597
B8: CALIFICACIÓN TÉCNICA
B9: No. PROPONENTE | C9: NOMBRE OFERENTE | J9: EXPERIENCIA | M9: EQUIPO DE TRABAJO | V9: Apoyo Industria Nacional Max. 10 PUNTOS | X9: INCENTIVO ADICIONAL PARA PROPONENTES CON TRABAJADORES CON DISCAPACIDAD. (1% ADICIONAL DEL PUNTAJE TOTAL) | Y9: PUNTAJE TOTAL | Z9: CUMPLE / NO CUMPLE | AA9: OBSERVACIONES
E10: AVAL DE LA PROPUESTA | J10: HABILITANTE (RUP) | K10: EXPERIENCIA ESPECÍFICA CALIFICABLE DEL PROPONENTE | M10: DIRECTOR DE INTERVENTORÍA (Ing. Civil o Ing. Eléctrico o Ing. Electricista o Ing. Mecánico o Ing. Industrial) | P10: RESIDENTE DE INTERVENTORÍA (Ing. Civil o Ing. Mecánico) | S10: RESIDENTE DE INTERVENTORIA (Ing. Eléctrico o Ing. Electricista)
E11: Nombre y apellido del profesional que avala la oferta (firma) | F11: Título de Pregrado del profesional que avala la oferta | G11: Número de matrícula profesional del profesional que avala la oferta | H11: Copia de la Tarjeta profesional del profesional que avala la oferta | I11: Certificado de vigencia y antecedentes disciplinarios del profesional que avala la oferta | J11: Mayor a | K11: Certificaciones de contratos ejecutados y terminados, cuyo objeto contemple las Obras ó Interventoría de contratos de Construcción ó Remodelación ó Adecuación ó Ampliación ó Mejoramiento ó Restauración de Edificaciones. | M11: Experiencia igual o mayor a 10 años, el cual debe contar con experiencia como Director de Interventoría o Director de obra, en contratos ejecutados y terminados, cuyo objeto contemple las obras o interventoría de contratos de construcción o remodelación o adecuación o ampliación o mejoramiento o restauración en edificaciones o instalación o remodelación o repotenciación de equipos de tráfico vertical. Toda la experiencia anterior debe ser en edificaciones en las que se haya instalado equipos de Tráfico Vertical de 2 paradas o más, en una edificación o en varias. Dentro de esa experiencia, debe acreditar por lo menos un (1) contrato en una (1) edificación en la que se haya instalado al menos un (1) equipo de 10 paradas o más. | P11: Experiencia igual o mayor a 6 años en los cuales se haya desempeñado como Director de Interventoría o Director de obra o Residente de Interventoría ó Residente de Obra en contratos ejecutados y terminados, cuyo objeto contemple las obras o interventoría de contratos de construcción o remodelación o adecuación o ampliación o mejoramiento o restauración en edificaciones o instalación o remodelación o repotenciación de equipos de tráfico vertical. Toda la experiencia anterior debe ser en edificaciones en las que se haya instalado equipos de Tráfico Vertical de 2 paradas o más, en una edificación o en varias. Dentro de esa experiencia, debe acreditar por lo menos un (1) contrato en una (1) edificación en la que se haya instalado al menos un (1) equipo de 10 paradas o más. | S11: Experiencia igual o mayor a 6 años en los cuales se haya desempeñado como Director de Interventoría o Director de obra o Residente de Interventoría ó Residente de Obra en contratos ejecutados y terminados, cuyo objeto contemple las obras o interventoría de contratos de construcción o remodelación o adecuación o ampliación o mejoramiento o restauración en edificaciones o instalación o remodelación o repotenciación de equipos de tráfico vertical. Toda la experiencia anterior debe ser en edificaciones en las que se haya instalado equipos de Tráfico Vertical de 2 paradas o más, en una edificación o en varias. Dentro de esa experiencia, debe acreditar por lo menos un (1) contrato en una (1) edificación en la que se haya instalado al menos un (1) equipo de 10 paradas o más.
J12: =+M7 -> 203.2597
J13: Cumple/No Cumple | V13: Empresa Nacional | W13: Empresa Extranjera con Particip. Nal.
K14: 30 | M14: Entre 10 años a 11 años 1 día | N14: Entre 11 años 2 días a 12 años 1 día | O14: 12 años 2 días en adelante | P14: Entre 6 años a 8 años 1 día | Q14: Entre 8 años 2 días a 10 años 1 día | R14: 10 años 2 días en adelante | S14: Entre 6 años a 8 años 1 día | T14: Entre 8 años 2 días a 10 años 1 día | U14: 10 años 2 días en adelante
B15: 2 | C15: VALLEJO H INGENIEROS CONSULTORES-CONSTRUCTORES SAS. | E15: =IF(AND(E20="SI",F20="SI",G20="SI",H20="SI",I20="SI"),"CUMPLE","NO CUMPLE") -> CUMPLE | J15: =IF(J19<>"NO APORTO","CUMPLE","NO CUMPLE") -> CUMPLE | K15: =IF(L18="CUMPLE","CUMPLE","NO CUMPLE") -> #REF! | M15: 15 | N15: 20 | O15: 25 | P15: 10 | Q15: 13 | R15: 17 | S15: 10 | T15: 13 | U15: 17 | V15: 10 | W15: 5 | X15: 1 | Y15: =SUM(M17:U18)+(IF(K15="CUMPLE",$K$17,"0"))+SUM(V16) -> #REF! | Z15: =IF(J15="CUMPLE",IF(K15="CUMPLE",IF(OR(M16="CUMPLE",N16="CUMPLE",O16="CUMPLE"),IF(OR(P16="CUMPLE",Q16="CUMPLE",R16="CUMPLE"),IF(OR(S16="CUMPLE",T16="CUMPLE",U16="CUMPLE"),"CUMPLE","NO CUMPLE")))),"NO CUMPLE") -> #REF!
M16: =IF(M17>0,"CUMPLE","NO CUMPLE") -> #REF! | N16: =IF(N17>0,"CUMPLE","NO CUMPLE") -> #REF! | O16: =IF(O17>0,"CUMPLE","NO CUMPLE") -> #REF! | P16: =IF(P17>0,"CUMPLE","NO CUMPLE") -> #REF! | Q16: =IF(Q17>0,"CUMPLE","NO CUMPLE") -> #REF! | R16: =IF(R17>0,"CUMPLE","NO CUMPLE") -> #REF! | S16: =IF(S17>0,"CUMPLE","NO CUMPLE") -> #REF! | T16: =IF(T17>0,"CUMPLE","NO CUMPLE") -> #REF! | U16: =IF(U17>0,"CUMPLE","NO CUMPLE") -> #REF! | V16: =IF(V19<>"NO APORTO",V15,0) -> 10 | W16: =IF(W19<>"NO APORTO",W15,0) -> 0 | X16: =IF(X19>0,X15,0) -> 0
K17: =IF(K19>=M7,K14,0) -> #REF! | M17: =IF(AND(#REF!>=10,#REF!<=11.0028),'Evaluación Propuesta CM'!M15,0) -> #REF! | N17: =IF(AND(#REF!>11.0028,#REF!<=12.0028),'Evaluación Propuesta CM'!N15,0) -> #REF! | O17: =IF(#REF!>12.0028,'Evaluación Propuesta CM'!O15,0) -> #REF! | P17: =IF(AND(#REF!>=6,#REF!<=8.0028),'Evaluación Propuesta CM'!P15,0) -> #REF! | Q17: =IF(AND(#REF!>8.0028,#REF!<=10.0028),'Evaluación Propuesta CM'!Q15,0) -> #REF! | R17: =IF(#REF!>10.0028,'Evaluación Propuesta CM'!R15,0) -> #REF! | S17: =IF(AND(#REF!>=6,#REF!<=8.0028),'Evaluación Propuesta CM'!S15,0) -> #REF! | T17: =IF(AND(#REF!>8.0028,#REF!<=10.0028),'Evaluación Propuesta CM'!T15,0) -> #REF! | U17: =IF(#REF!>10.0028,'Evaluación Propuesta CM'!U15,0) -> #REF!
K18: 100% DEL POE | L18: =IF(SUM('02B. Exp. ESPECÍFICA SINGULAR'!#REF!)>=$M$7,"CUMPLE","NO CUMPLE") -> #REF!
J19: APORTO | K19: =SUM('02B. Exp. ESPECÍFICA SINGULAR'!#REF!) -> #REF! | M19: 0 | N19: 0 | O19: 0 | P19: 0 | Q19: 0 | R19: 0 | S19: 0 | T19: 0 | U19: 0 | V19: APORTO | W19: NO APORTO | X19: 0
E20: SI | F20: SI | G20: SI | H20: SI | I20: SI
C23: CONSIDERACIONES PARA LA EVALUACIÓN:
B25: 1. | C25: EXPERIENCIA REQUISITOS TÉCNICOS HABILITANTES
C26: Para el presente proceso de selección, la Nación - Consejo Superior de la Judicatura, solicita a los proponentes, sean personas naturales o jurídicas, presentar el Registro Único de Proponentes (RUP), de acuerdo con el Clasificador de Bienes y Servicios de la UNSPSC, dónde se verifique una experiencia mínima requerida en el tercer nivel, conforme al numeral 1 del artículo 2.2.1.1.1.5.3 del Decreto 1082 de 2015, de:
C27: =+M7 -> 203.2597
C30: Para el caso de Personas Naturales o Jurídicas, deben estar clasificados en al menos uno de los códigos expuestos en la tabla anterior, y en el tercer nivel.
C31: En caso de Consorcios, Uniones Temporales o promesas de sociedad futura, cada integrante debe estar clasificado en al menos uno de los códigos expuestos en la tabla anterior y en el tercer nivel.
C32: Se tiene como experiencia general del proponente la acreditación de contratos suscritos y ejecutados por el proponente, que sumen por lo menos el 100% del presupuesto oficial expresado en SMMLV (Salarios Mínimos Mensuales Legales Vigentes).
C33: Para este caso, no se requiere soporte diferente a la relación de contratos que aparecen en el RUP, por lo tanto, se requiere que el Proponente diligencie el Anexo – Experiencia General Habilitante para Persona Singular o el Anexo – Experiencia General Habilitante para Persona Plural, según corresponda.
C34: Para los Consorcios o Uniones Temporales, la experiencia general será la sumatoria de la experiencia de sus integrantes.
C35: El valor de los Contratos se evalúa en SMMLV (Salarios Mínimos Mensuales Legales Vigentes) a la fecha de su terminación y deberá estar incluido dentro del Registro Único de Proponentes (RUP).
C36: Cualquier experiencia obtenida en el extranjero, se comprobará con el documento equivalente en el país respectivo, que llenará los requisitos establecidos en este numeral.
C37: Si la certificación fue expedida en idioma distinto al castellano, deben ser presentados en su lengua original junto con la traducción oficial al castellano. El proponente puede presentar con la oferta documentos con una traducción simple al castellano y entregar la traducción oficial al castellano dentro del plazo previsto para la subsanación. La traducción oficial debe ser el mismo texto presentado, de acuerdo con la Circular Externa Única emitida por Colombia Compra Eficiente.
C38: Nota 1: La Dirección Ejecutiva de Administración Judicial, debe solicitar las aclaraciones, información y soportes que considere necesarios para verificar la información presentada y el proponente debe entregarlos hasta el término de traslado del informe de evaluación, de conformidad con el artículo 5 de la Ley 1882 de 2018.
C39: Nota 2: El deber de subsanar los requisitos habilitantes es exclusivo del proponente.
C40: Si acredita los requisitos exigidos en este numeral se considera que la propuesta “CUMPLE” y no se otorga puntaje al Proponente ya que es un requisito habilitante. En caso que no se acrediten los requisitos de este numeral se considera que la propuesta “NO CUMPLE”.
B41: 2. | C41: EXPERIENCIA ESPECÍFICA CALIFICABLE DEL PROPONENTE
C42: El puntaje máximo a obtener por la Experiencia Calificable del Proponente, es de 30 puntos.Para este proceso de selección la Nación - Consejo Superior de la Judicatura, solicita presentar:
C43: Certificaciones de contratos ejecutados y terminados, cuyo objeto contemple las Obras ó Interventoría de contratos de Construcción ó Remodelación ó Adecuación ó Ampliación ó Mejoramiento ó Restauración de Edificaciones.
C44: Las certificaciones deben cumplir mínimo con los siguientes requisitos:  Nombre o razón social del contratante.  Nombre o razón social del contratista.  Objeto del contrato.  Fecha de emisión de la certificación.  Fecha de inicio del contrato.  Fecha de terminación del contrato.  Valor del contrato.  Estar inscrita en el RUP, en al menos uno de los códigos solicitados.
C45: El valor de las Certificaciones será evaluado en SMMLV a la fecha de terminación del respectivo contrato, el cual debe estar incluido dentro del Registro Único de Proponentes (RUP).
C46: La certificación debe estar suscrita por quien tenga tal facultad dentro de la entidad o firma contratante y debe contar con los datos de contacto, de tal manera que la información pueda ser verificada por la Nación – Consejo Superior de la Judicatura. Las certificaciones son necesarias para la evaluación de las ofertas. En caso de que no haya claridad en el objeto de la certificación, se requiere que se anexe:  El Contrato y  El Acta de Recibo Final o el Acta de Liquidación.
...

Sheet Hoja1
A1: SI
A2: NO

Sheet 02B. Exp. ESPECÍFICA SINGULAR
C1: RAMA JUDICIAL DEL PODER PÚBLICO CONSEJO SUPERIOR DE LA JUDICATURA DIRECCIÓN EJECUTIVA DE ADMINISTRACIÓN JUDICIAL
C2: Anexo - EXPERIENCIA ESPECÍFICA HABILITANTE PROPONENTE SINGULAR
B4: PROCESO DE SELECCIÓN | C4: SA-01-2022
B5: OBJETO | C5: PRESTAR EL SERVICIO DE MANTENIMIENTO INTEGRAL PREVENTIVO Y CORRECTIVO, PARA LOS EQUIPOS Y SISTEMAS DE SEGURIDAD INSTALADOS EN EL PALACIO DE JUSTICIA “ALFONSO REYES ECHANDÍA” Y SEDES ANEXAS EN LA CIUDAD DE BOGOTÁ D.C.
B7: NOMBRE DEL PROPONENTE o RAZÓN SOCIAL:
C9: RUP | F9: Código UNSCSP registrado para el Contrato
A10: No | B10: Nombre del Proponente o Razón social | C10: No. Contrato en el RUP | D10: No. Folio en el RUP | E10: % participación en el Contrato | F10: 72151700 | G10: 46171600 | H10: 92121700 | I10: SMMLV (Total contrato) | J10: SMMLV (Participación)
A11: 1 | J11: =I11*E11 -> 0
A12: 2 | J12: =I12*E12 -> 0
A13: 3 | J13: =I13*E13 -> 0
B15: TOTAL SMMLV | J15: =SUM(J11:J14) -> 0
A67: =IF(OR(AND(A64>#REF!,A64<#REF!),AND(A64>#REF!,A64<#REF!),AND(A64>#REF!,A64<#REF!),AND(A64>#REF!,A64<#REF!),AND(A64>#REF!,A64<#REF!),AND(A64>#REF!,A64<#REF!),AND(A64>#REF!,A64<#REF!),AND(A64>#REF!,A64<#REF!),AND(A64>#REF!,A64<#REF!),AND(A64>#REF!,A64<#REF!),AND(A64>B64,A64<B65),AND(A64>C64,A64<C65),AND(A64>D64,A64<D65),AND(A64>H65,A64<H66),AND(A64>I65,A64<I66),AND(A64>J64,A64<J65),AND(A64>#REF!,A64<#REF!),AND(A64>#REF!,A64<#REF!),AND(A64>#REF!,A64<#REF!),AND(A64>#REF!,A64<#REF!),AND(A64>#REF!,A64<#REF!),AND(A64>K64,A64<K65),AND(A64>$L64,A64<$L65))," ",0) -> #REF! | B67: =IF(OR(AND(B64>#REF!,B64<#REF!),AND(B64>#REF!,B64<#REF!),AND(B64>#REF!,B64<#REF!),AND(B64>#REF!,B64<#REF!),AND(B64>#REF!,B64<#REF!),AND(B64>#REF!,B64<#REF!),AND(B64>#REF!,B64<#REF!),AND(B64>#REF!,B64<#REF!),AND(B64>#REF!,B64<#REF!),AND(B64>#REF!,B64<#REF!),AND(B64>A64,B64<A65),AND(B64>C64,B64<C65),AND(B64>D64,B64<D65),AND(B64>H65,B64<H66),AND(B64>I65,B64<I66),AND(B64>J64,B64<J65),AND(B64>#REF!,B64<#REF!),AND(B64>#REF!,B64<#REF!),AND(B64>#REF!,B64<#REF!),AND(B64>#REF!,B64<#REF!),AND(B64>#REF!,B64<#REF!),AND(B64>K64,B64<K65),AND(B64>$L64,B64<$L65))," ",0) -> #REF! | C67: =IF(OR(AND(C64>#REF!,C64<#REF!),AND(C64>#REF!,C64<#REF!),AND(C64>#REF!,C64<#REF!),AND(C64>#REF!,C64<#REF!),AND(C64>#REF!,C64<#REF!),AND(C64>#REF!,C64<#REF!),AND(C64>#REF!,C64<#REF!),AND(C64>#REF!,C64<#REF!),AND(C64>#REF!,C64<#REF!),AND(C64>#REF!,C64<#REF!),AND(C64>A64,C64<A65),AND(C64>B64,C64<B65),AND(C64>D64,C64<D65),AND(C64>H65,C64<H66),AND(C64>I65,C64<I66),AND(C64>J64,C64<J65),AND(C64>#REF!,C64<#REF!),AND(C64>#REF!,C64<#REF!),AND(C64>#REF!,C64<#REF!),AND(C64>#REF!,C64<#REF!),AND(C64>#REF!,C64<#REF!),AND(C64>K64,C64<K65),AND(C64>$L64,C64<$L65))," ",0) -> #REF! | D67: =IF(OR(AND(D64>#REF!,D64<#REF!),AND(D64>#REF!,D64<#REF!),AND(D64>#REF!,D64<#REF!),AND(D64>#REF!,D64<#REF!),AND(D64>#REF!,D64<#REF!),AND(D64>#REF!,D64<#REF!),AND(D64>#REF!,D64<#REF!),AND(D64>#REF!,D64<#REF!),AND(D64>#REF!,D64<#REF!),AND(D64>#REF!,D64<#REF!),AND(D64>A64,D64<A65),AND(D64>B64,D64<B65),AND(D64>C64,D64<C65),AND(D64>H65,D64<H66),AND(D64>I65,D64<I66),AND(D64>J64,D64<J65),AND(D64>#REF!,D64<#REF!),AND(D64>#REF!,D64<#REF!),AND(D64>#REF!,D64<#REF!),AND(D64>#REF!,D64<#REF!),AND(D64>#REF!,D64<#REF!),AND(D64>K64,D64<K65),AND(D64>$L64,D64<$L65))," ",0) -> #REF! | J67: =IF(OR(AND(J64>#REF!,J64<#REF!),AND(J64>#REF!,J64<#REF!),AND(J64>#REF!,J64<#REF!),AND(J64>#REF!,J64<#REF!),AND(J64>#REF!,J64<#REF!),AND(J64>#REF!,J64<#REF!),AND(J64>#REF!,J64<#REF!),AND(J64>#REF!,J64<#REF!),AND(J64>#REF!,J64<#REF!),AND(J64>#REF!,J64<#REF!),AND(J64>A64,J64<A65),AND(J64>B64,J64<B65),AND(J64>C64,J64<C65),AND(J64>D64,J64<D65),AND(J64>H65,J64<H66),AND(J64>I65,J64<I66),AND(J64>#REF!,J64<#REF!),AND(J64>#REF!,J64<#REF!),AND(J64>#REF!,J64<#REF!),AND(J64>#REF!,J64<#REF!),AND(J64>#REF!,J64<#REF!),AND(J64>K64,J64<K65),AND(J64>$L64,J64<$L65))," ",0) -> #REF! | K67: =IF(OR(AND(K64>#REF!,K64<#REF!),AND(K64>#REF!,K64<#REF!),AND(K64>#REF!,K64<#REF!),AND(K64>#REF!,K64<#REF!),AND(K64>#REF!,K64<#REF!),AND(K64>#REF!,K64<#REF!),AND(K64>#REF!,K64<#REF!),AND(K64>#REF!,K64<#REF!),AND(K64>#REF!,K64<#REF!),AND(K64>#REF!,K64<#REF!),AND(K64>A64,K64<A65),AND(K64>B64,K64<B65),AND(K64>C64,K64<C65),AND(K64>D64,K64<D65),AND(K64>H65,K64<H66),AND(K64>I65,K64<I66),AND(K64>J64,K64<J65),AND(K64>#REF!,K64<#REF!),AND(K64>#REF!,K64<#REF!),AND(K64>#REF!,K64<#REF!),AND(K64>#REF!,K64<#REF!),AND(K64>#REF!,K64<#REF!),AND(K64>$L64,K64<$L65))," ",0) -> #REF! | L67: =IF(OR(AND(L64>#REF!,L64<#REF!),AND(L64>#REF!,L64<#REF!),AND(L64>#REF!,L64<#REF!),AND(L64>#REF!,L64<#REF!),AND(L64>#REF!,L64<#REF!),AND(L64>#REF!,L64<#REF!),AND(L64>#REF!,L64<#REF!),AND(L64>#REF!,L64<#REF!),AND(L64>#REF!,L64<#REF!),AND(L64>#REF!,L64<#REF!),AND(L64>A64,L64<A65),AND(L64>B64,L64<B65),AND(L64>C64,L64<C65),AND(L64>D64,L64<D65),AND(L64>H65,L64<H66),AND(L64>I65,L64<I66),AND(L64>J64,L64<J65),AND(L64>#REF!,L64<#REF!),AND(L64>#REF!,L64<#REF!),AND(L64>#REF!,L64<#REF!),AND(L64>#REF!,L64<#REF!),AND(L64>#REF!,L64<#REF!),AND(L64>K64,L64<K65))," ",0) -> #REF!
E68: =IF(OR(AND(E65>#REF!,E65<#REF!),AND(E65>#REF!,E65<#REF!),AND(E65>#REF!,E65<#REF!),AND(E65>#REF!,E65<#REF!),AND(E65>#REF!,E65<#REF!),AND(E65>#REF!,E65<#REF!),AND(E65>#REF!,E65<#REF!),AND(E65>#REF!,E65<#REF!),AND(E65>#REF!,E65<#REF!),AND(E65>#REF!,E65<#REF!),AND(E65>#REF!,E65<#REF!),AND(E65>#REF!,E65<#REF!),AND(E65>#REF!,E65<#REF!),AND(E65>#REF!,E65<#REF!),AND(E65>F65,E65<F66),AND(E65>#REF!,E65<#REF!),AND(E65>#REF!,E65<#REF!),AND(E65>#REF!,E65<#REF!),AND(E65>#REF!,E65<#REF!),AND(E65>#REF!,E65<#REF!),AND(E65>#REF!,E65<#REF!),AND(E65>#REF!,E65<#REF!),AND(E65>$L64,E65<$L65))," ",0) -> #REF! | F68: =IF(OR(AND(F65>#REF!,F65<#REF!),AND(F65>#REF!,F65<#REF!),AND(F65>#REF!,F65<#REF!),AND(F65>#REF!,F65<#REF!),AND(F65>#REF!,F65<#REF!),AND(F65>#REF!,F65<#REF!),AND(F65>#REF!,F65<#REF!),AND(F65>#REF!,F65<#REF!),AND(F65>#REF!,F65<#REF!),AND(F65>#REF!,F65<#REF!),AND(F65>#REF!,F65<#REF!),AND(F65>#REF!,F65<#REF!),AND(F65>#REF!,F65<#REF!),AND(F65>A64,F65<A65),AND(F65>#REF!,F65<#REF!),AND(F65>#REF!,F65<#REF!),AND(F65>#REF!,F65<#REF!),AND(F65>#REF!,F65<#REF!),AND(F65>#REF!,F65<#REF!),AND(F65>#REF!,F65<#REF!),AND(F65>#REF!,F65<#REF!),AND(F65>H64,F65<H65),AND(F65>$L64,F65<$L65))," ",0) -> #REF! | G68: =IF(OR(AND(G65>#REF!,G65<#REF!),AND(G65>#REF!,G65<#REF!),AND(G65>#REF!,G65<#REF!),AND(G65>#REF!,G65<#REF!),AND(G65>#REF!,G65<#REF!),AND(G65>#REF!,G65<#REF!),AND(G65>#REF!,G65<#REF!),AND(G65>#REF!,G65<#REF!),AND(G65>#REF!,G65<#REF!),AND(G65>#REF!,G65<#REF!),AND(G65>#REF!,G65<#REF!),AND(G65>A64,G65<A65),AND(G65>B64,G65<B65),AND(G65>C64,G65<C65),AND(G65>H65,G65<H66),AND(G65>I64,G65<I65),AND(G65>#REF!,G65<#REF!),AND(G65>#REF!,G65<#REF!),AND(G65>#REF!,G65<#REF!),AND(G65>#REF!,G65<#REF!),AND(G65>#REF!,G65<#REF!),AND(G65>J64,G65<J65),AND(G65>$L64,G65<$L65))," ",0) -> #REF! | H68: =IF(OR(AND(H65>#REF!,H65<#REF!),AND(H65>#REF!,H65<#REF!),AND(H65>#REF!,H65<#REF!),AND(H65>#REF!,H65<#REF!),AND(H65>#REF!,H65<#REF!),AND(H65>#REF!,H65<#REF!),AND(H65>#REF!,H65<#REF!),AND(H65>#REF!,H65<#REF!),AND(H65>#REF!,H65<#REF!),AND(H65>#REF!,H65<#REF!),AND(H65>A64,H65<A65),AND(H65>B64,H65<B65),AND(H65>C64,H65<C65),AND(H65>D64,H65<D65),AND(H65>I65,H65<I66),AND(H65>J64,H65<J65),AND(H65>#REF!,H65<#REF!),AND(H65>#REF!,H65<#REF!),AND(H65>#REF!,H65<#REF!),AND(H65>#REF!,H65<#REF!),AND(H65>#REF!,H65<#REF!),AND(H65>K64,H65<K65),AND(H65>$L64,H65<$L65))," ",0) -> #REF! | I68: =IF(OR(AND(I65>#REF!,I65<#REF!),AND(I65>#REF!,I65<#REF!),AND(I65>#REF!,I65<#REF!),AND(I65>#REF!,I65<#REF!),AND(I65>#REF!,I65<#REF!),AND(I65>#REF!,I65<#REF!),AND(I65>#REF!,I65<#REF!),AND(I65>#REF!,I65<#REF!),AND(I65>#REF!,I65<#REF!),AND(I65>#REF!,I65<#REF!),AND(I65>A64,I65<A65),AND(I65>B64,I65<B65),AND(I65>C64,I65<C65),AND(I65>D64,I65<D65),AND(I65>H65,I65<H66),AND(I65>J64,I65<J65),AND(I65>#REF!,I65<#REF!),AND(I65>#REF!,I65<#REF!),AND(I65>#REF!,I65<#REF!),AND(I65>#REF!,I65<#REF!),AND(I65>#REF!,I65<#REF!),AND(I65>K64,I65<K65),AND(I65>$L64,I65<$L65))," ",0) -> #REF!
A69: =IF(OR(AND(A64>#REF!,A64<#REF!),AND(A64>#REF!,A64<#REF!),AND(A64>#REF!,A64<#REF!),AND(A64>#REF!,A64<#REF!),AND(A64>#REF!,A64<#REF!),AND(A64>#REF!,A64<#REF!),AND(A64>#REF!,A64<#REF!),AND(A64>#REF!,A64<#REF!),AND(A64>#REF!,A64<#REF!),AND(A64>#REF!,A64<#REF!),AND(A64>B64,A64<B65),AND(A64>C64,A64<C65),AND(A64>D64,A64<D65),AND(A64>H65,A64<H66),AND(A64>I65,A64<I66),AND(A64>J64,A64<J65),AND(A64>#REF!,A64<#REF!),AND(A64>#REF!,A64<#REF!),AND(A64>#REF!,A64<#REF!),AND(A64>#REF!,A64<#REF!),AND(A64>#REF!,A64<#REF!),AND(A64>K64,A64<K65),AND(A64>$L64,A64<$L65)),"Traslapo"," ") -> #REF! | B69: =IF(OR(AND(B64>#REF!,B64<#REF!),AND(B64>#REF!,B64<#REF!),AND(B64>#REF!,B64<#REF!),AND(B64>#REF!,B64<#REF!),AND(B64>#REF!,B64<#REF!),AND(B64>#REF!,B64<#REF!),AND(B64>#REF!,B64<#REF!),AND(B64>#REF!,B64<#REF!),AND(B64>#REF!,B64<#REF!),AND(B64>#REF!,B64<#REF!),AND(B64>A64,B64<A65),AND(B64>C64,B64<C65),AND(B64>D64,B64<D65),AND(B64>H65,B64<H66),AND(B64>I65,B64<I66),AND(B64>J64,B64<J65),AND(B64>#REF!,B64<#REF!),AND(B64>#REF!,B64<#REF!),AND(B64>#REF!,B64<#REF!),AND(B64>#REF!,B64<#REF!),AND(B64>#REF!,B64<#REF!),AND(B64>K64,B64<K65),AND(B64>$L64,B64<$L65)),"Traslapo"," ") -> #REF! | C69: =IF(OR(AND(C64>#REF!,C64<#REF!),AND(C64>#REF!,C64<#REF!),AND(C64>#REF!,C64<#REF!),AND(C64>#REF!,C64<#REF!),AND(C64>#REF!,C64<#REF!),AND(C64>#REF!,C64<#REF!),AND(C64>#REF!,C64<#REF!),AND(C64>#REF!,C64<#REF!),AND(C64>#REF!,C64<#REF!),AND(C64>#REF!,C64<#REF!),AND(C64>A64,C64<A65),AND(C64>B64,C64<B65),AND(C64>D64,C64<D65),AND(C64>H65,C64<H66),AND(C64>I65,C64<I66),AND(C64>J64,C64<J65),AND(C64>#REF!,C64<#REF!),AND(C64>#REF!,C64<#REF!),AND(C64>#REF!,C64<#REF!),AND(C64>#REF!,C64<#REF!),AND(C64>#REF!,C64<#REF!),AND(C64>K64,C64<K65),AND(C64>$L64,C64<$L65)),"Traslapo"," ") -> #REF! | D69: =IF(OR(AND(D64>#REF!,D64<#REF!),AND(D64>#REF!,D64<#REF!),AND(D64>#REF!,D64<#REF!),AND(D64>#REF!,D64<#REF!),AND(D64>#REF!,D64<#REF!),AND(D64>#REF!,D64<#REF!),AND(D64>#REF!,D64<#REF!),AND(D64>#REF!,D64<#REF!),AND(D64>#REF!,D64<#REF!),AND(D64>#REF!,D64<#REF!),AND(D64>A64,D64<A65),AND(D64>B64,D64<B65),AND(D64>C64,D64<C65),AND(D64>H65,D64<H66),AND(D64>I65,D64<I66),AND(D64>J64,D64<J65),AND(D64>#REF!,D64<#REF!),AND(D64>#REF!,D64<#REF!),AND(D64>#REF!,D64<#REF!),AND(D64>#REF!,D64<#REF!),AND(D64>#REF!,D64<#REF!),AND(D64>K64,D64<K65),AND(D64>$L64,D64<$L65)),"Traslapo"," ") -> #REF! | J69: =IF(OR(AND(J64>#REF!,J64<#REF!),AND(J64>#REF!,J64<#REF!),AND(J64>#REF!,J64<#REF!),AND(J64>#REF!,J64<#REF!),AND(J64>#REF!,J64<#REF!),AND(J64>#REF!,J64<#REF!),AND(J64>#REF!,J64<#REF!),AND(J64>#REF!,J64<#REF!),AND(J64>#REF!,J64<#REF!),AND(J64>#REF!,J64<#REF!),AND(J64>A64,J64<A65),AND(J64>B64,J64<B65),AND(J64>C64,J64<C65),AND(J64>D64,J64<D65),AND(J64>H65,J64<H66),AND(J64>I65,J64<I66),AND(J64>#REF!,J64<#REF!),AND(J64>#REF!,J64<#REF!),AND(J64>#REF!,J64<#REF!),AND(J64>#REF!,J64<#REF!),AND(J64>#REF!,J64<#REF!),AND(J64>K64,J64<K65),AND(J64>$L64,J64<$L65)),"Traslapo"," ") -> #REF! | K69: =IF(OR(AND(K64>#REF!,K64<#REF!),AND(K64>#REF!,K64<#REF!),AND(K64>#REF!,K64<#REF!),AND(K64>#REF!,K64<#REF!),AND(K64>#REF!,K64<#REF!),AND(K64>#REF!,K64<#REF!),AND(K64>#REF!,K64<#REF!),AND(K64>#REF!,K64<#REF!),AND(K64>#REF!,K64<#REF!),AND(K64>#REF!,K64<#REF!),AND(K64>A64,K64<A65),AND(K64>B64,K64<B65),AND(K64>C64,K64<C65),AND(K64>D64,K64<D65),AND(K64>H65,K64<H66),AND(K64>I65,K64<I66),AND(K64>J64,K64<J65),AND(K64>#REF!,K64<#REF!),AND(K64>#REF!,K64<#REF!),AND(K64>#REF!,K64<#REF!),AND(K64>#REF!,K64<#REF!),AND(K64>#REF!,K64<#REF!),AND(K64>$L64,K64<$L65)),"Traslapo"," ") -> #REF! | L69: =IF(OR(AND(L64>#REF!,L64<#REF!),AND(L64>#REF!,L64<#REF!),AND(L64>#REF!,L64<#REF!),AND(L64>#REF!,L64<#REF!),AND(L64>#REF!,L64<#REF!),AND(L64>#REF!,L64<#REF!),AND(L64>#REF!,L64<#REF!),AND(L64>#REF!,L64<#REF!),AND(L64>#REF!,L64<#REF!),AND(L64>#REF!,L64<#REF!),AND(L64>A64,L64<A65),AND(L64>B64,L64<B65),AND(L64>C64,L64<C65),AND(L64>D64,L64<D65),AND(L64>H65,L64<H66),AND(L64>I65,L64<I66),AND(L64>J64,L64<J65),AND(L64>#REF!,L64<#REF!),AND(L64>#REF!,L64<#REF!),AND(L64>#REF!,L64<#REF!),AND(L64>#REF!,L64<#REF!),AND(L64>#REF!,L64<#REF!),AND(L64>K64,L64<K65)),"Traslapo"," ") -> #REF!
E70: =IF(OR(AND(E65>#REF!,E65<#REF!),AND(E65>#REF!,E65<#REF!),AND(E65>#REF!,E65<#REF!),AND(E65>#REF!,E65<#REF!),AND(E65>#REF!,E65<#REF!),AND(E65>#REF!,E65<#REF!),AND(E65>#REF!,E65<#REF!),AND(E65>#REF!,E65<#REF!),AND(E65>#REF!,E65<#REF!),AND(E65>#REF!,E65<#REF!),AND(E65>#REF!,E65<#REF!),AND(E65>#REF!,E65<#REF!),AND(E65>#REF!,E65<#REF!),AND(E65>#REF!,E65<#REF!),AND(E65>F65,E65<F66),AND(E65>#REF!,E65<#REF!),AND(E65>#REF!,E65<#REF!),AND(E65>#REF!,E65<#REF!),AND(E65>#REF!,E65<#REF!),AND(E65>#REF!,E65<#REF!),AND(E65>#REF!,E65<#REF!),AND(E65>#REF!,E65<#REF!),AND(E65>$L64,E65<$L65)),"Traslapo"," ") -> #REF! | F70: =IF(OR(AND(F65>#REF!,F65<#REF!),AND(F65>#REF!,F65<#REF!),AND(F65>#REF!,F65<#REF!),AND(F65>#REF!,F65<#REF!),AND(F65>#REF!,F65<#REF!),AND(F65>#REF!,F65<#REF!),AND(F65>#REF!,F65<#REF!),AND(F65>#REF!,F65<#REF!),AND(F65>#REF!,F65<#REF!),AND(F65>#REF!,F65<#REF!),AND(F65>#REF!,F65<#REF!),AND(F65>#REF!,F65<#REF!),AND(F65>#REF!,F65<#REF!),AND(F65>A64,F65<A65),AND(F65>#REF!,F65<#REF!),AND(F65>#REF!,F65<#REF!),AND(F65>#REF!,F65<#REF!),AND(F65>#REF!,F65<#REF!),AND(F65>#REF!,F65<#REF!),AND(F65>#REF!,F65<#REF!),AND(F65>#REF!,F65<#REF!),AND(F65>H64,F65<H65),AND(F65>$L64,F65<$L65)),"Traslapo"," ") -> #REF! | G70: =IF(OR(AND(G65>#REF!,G65<#REF!),AND(G65>#REF!,G65<#REF!),AND(G65>#REF!,G65<#REF!),AND(G65>#REF!,G65<#REF!),AND(G65>#REF!,G65<#REF!),AND(G65>#REF!,G65<#REF!),AND(G65>#REF!,G65<#REF!),AND(G65>#REF!,G65<#REF!),AND(G65>#REF!,G65<#REF!),AND(G65>#REF!,G65<#REF!),AND(G65>#REF!,G65<#REF!),AND(G65>A64,G65<A65),AND(G65>B64,G65<B65),AND(G65>C64,G65<C65),AND(G65>H65,G65<H66),AND(G65>I64,G65<I65),AND(G65>#REF!,G65<#REF!),AND(G65>#REF!,G65<#REF!),AND(G65>#REF!,G65<#REF!),AND(G65>#REF!,G65<#REF!),AND(G65>#REF!,G65<#REF!),AND(G65>J64,G65<J65),AND(G65>$L64,G65<$L65)),"Traslapo"," ") -> #REF! | H70: =IF(OR(AND(H65>#REF!,H65<#REF!),AND(H65>#REF!,H65<#REF!),AND(H65>#REF!,H65<#REF!),AND(H65>#REF!,H65<#REF!),AND(H65>#REF!,H65<#REF!),AND(H65>#REF!,H65<#REF!),AND(H65>#REF!,H65<#REF!),AND(H65>#REF!,H65<#REF!),AND(H65>#REF!,H65<#REF!),AND(H65>#REF!,H65<#REF!),AND(H65>A64,H65<A65),AND(H65>B64,H65<B65),AND(H65>C64,H65<C65),AND(H65>D64,H65<D65),AND(H65>I65,H65<I66),AND(H65>J64,H65<J65),AND(H65>#REF!,H65<#REF!),AND(H65>#REF!,H65<#REF!),AND(H65>#REF!,H65<#REF!),AND(H65>#REF!,H65<#REF!),AND(H65>#REF!,H65<#REF!),AND(H65>K64,H65<K65),AND(H65>$L64,H65<$L65)),"Traslapo"," ") -> #REF! | I70: =IF(OR(AND(I65>#REF!,I65<#REF!),AND(I65>#REF!,I65<#REF!),AND(I65>#REF!,I65<#REF!),AND(I65>#REF!,I65<#REF!),AND(I65>#REF!,I65<#REF!),AND(I65>#REF!,I65<#REF!),AND(I65>#REF!,I65<#REF!),AND(I65>#REF!,I65<#REF!),AND(I65>#REF!,I65<#REF!),AND(I65>#REF!,I65<#REF!),AND(I65>A64,I65<A65),AND(I65>B64,I65<B65),AND(I65>C64,I65<C65),AND(I65>D64,I65<D65),AND(I65>H65,I65<H66),AND(I65>J64,I65<J65),AND(I65>#REF!,I65<#REF!),AND(I65>#REF!,I65<#REF!),AND(I65>#REF!,I65<#REF!),AND(I65>#REF!,I65<#REF!),AND(I65>#REF!,I65<#REF!),AND(I65>K64,I65<K65),AND(I65>$L64,I65<$L65)),"Traslapo"," ") -> #REF!
A81: =IF(OR(AND(A78>#REF!,A78<#REF!),AND(A78>#REF!,A78<#REF!),AND(A78>#REF!,A78<#REF!),AND(A78>#REF!,A78<#REF!),AND(A78>#REF!,A78<#REF!),AND(A78>#REF!,A78<#REF!),AND(A78>#REF!,A78<#REF!),AND(A78>#REF!,A78<#REF!),AND(A78>#REF!,A78<#REF!),AND(A78>#REF!,A78<#REF!),AND(A78>B78,A78<B79),AND(A78>C78,A78<C79),AND(A78>D78,A78<D79),AND(A78>H79,A78<H80),AND(A78>I79,A78<I80),AND(A78>J78,A78<J79),AND(A78>#REF!,A78<#REF!),AND(A78>#REF!,A78<#REF!),AND(A78>#REF!,A78<#REF!),AND(A78>#REF!,A78<#REF!),AND(A78>#REF!,A78<#REF!),AND(A78>K78,A78<K79),AND(A78>$L78,A78<$L79))," ",0) -> #REF! | B81: =IF(OR(AND(B78>#REF!,B78<#REF!),AND(B78>#REF!,B78<#REF!),AND(B78>#REF!,B78<#REF!),AND(B78>#REF!,B78<#REF!),AND(B78>#REF!,B78<#REF!),AND(B78>#REF!,B78<#REF!),AND(B78>#REF!,B78<#REF!),AND(B78>#REF!,B78<#REF!),AND(B78>#REF!,B78<#REF!),AND(B78>#REF!,B78<#REF!),AND(B78>A78,B78<A79),AND(B78>C78,B78<C79),AND(B78>D78,B78<D79),AND(B78>H79,B78<H80),AND(B78>I79,B78<I80),AND(B78>J78,B78<J79),AND(B78>#REF!,B78<#REF!),AND(B78>#REF!,B78<#REF!),AND(B78>#REF!,B78<#REF!),AND(B78>#REF!,B78<#REF!),AND(B78>#REF!,B78<#REF!),AND(B78>K78,B78<K79),AND(B78>$L78,B78<$L79))," ",0) -> #REF! | C81: =IF(OR(AND(C78>#REF!,C78<#REF!),AND(C78>#REF!,C78<#REF!),AND(C78>#REF!,C78<#REF!),AND(C78>#REF!,C78<#REF!),AND(C78>#REF!,C78<#REF!),AND(C78>#REF!,C78<#REF!),AND(C78>#REF!,C78<#REF!),AND(C78>#REF!,C78<#REF!),AND(C78>#REF!,C78<#REF!),AND(C78>#REF!,C78<#REF!),AND(C78>A78,C78<A79),AND(C78>B78,C78<B79),AND(C78>D78,C78<D79),AND(C78>H79,C78<H80),AND(C78>I79,C78<I80),AND(C78>J78,C78<J79),AND(C78>#REF!,C78<#REF!),AND(C78>#REF!,C78<#REF!),AND(C78>#REF!,C78<#REF!),AND(C78>#REF!,C78<#REF!),AND(C78>#REF!,C78<#REF!),AND(C78>K78,C78<K79),AND(C78>$L78,C78<$L79))," ",0) -> #REF! | D81: =IF(OR(AND(D78>#REF!,D78<#REF!),AND(D78>#REF!,D78<#REF!),AND(D78>#REF!,D78<#REF!),AND(D78>#REF!,D78<#REF!),AND(D78>#REF!,D78<#REF!),AND(D78>#REF!,D78<#REF!),AND(D78>#REF!,D78<#REF!),AND(D78>#REF!,D78<#REF!),AND(D78>#REF!,D78<#REF!),AND(D78>#REF!,D78<#REF!),AND(D78>A78,D78<A79),AND(D78>B78,D78<B79),AND(D78>C78,D78<C79),AND(D78>H79,D78<H80),AND(D78>I79,D78<I80),AND(D78>J78,D78<J79),AND(D78>#REF!,D78<#REF!),AND(D78>#REF!,D78<#REF!),AND(D78>#REF!,D78<#REF!),AND(D78>#REF!,D78<#REF!),AND(D78>#REF!,D78<#REF!),AND(D78>K78,D78<K79),AND(D78>$L78,D78<$L79))," ",0) -> #REF! | J81: =IF(OR(AND(J78>#REF!,J78<#REF!),AND(J78>#REF!,J78<#REF!),AND(J78>#REF!,J78<#REF!),AND(J78>#REF!,J78<#REF!),AND(J78>#REF!,J78<#REF!),AND(J78>#REF!,J78<#REF!),AND(J78>#REF!,J78<#REF!),AND(J78>#REF!,J78<#REF!),AND(J78>#REF!,J78<#REF!),AND(J78>#REF!,J78<#REF!),AND(J78>A78,J78<A79),AND(J78>B78,J78<B79),AND(J78>C78,J78<C79),AND(J78>D78,J78<D79),AND(J78>H79,J78<H80),AND(J78>I79,J78<I80),AND(J78>#REF!,J78<#REF!),AND(J78>#REF!,J78<#REF!),AND(J78>#REF!,J78<#REF!),AND(J78>#REF!,J78<#REF!),AND(J78>#REF!,J78<#REF!),AND(J78>K78,J78<K79),AND(J78>$L78,J78<$L79))," ",0) -> #REF! | K81: =IF(OR(AND(K78>#REF!,K78<#REF!),AND(K78>#REF!,K78<#REF!),AND(K78>#REF!,K78<#REF!),AND(K78>#REF!,K78<#REF!),AND(K78>#REF!,K78<#REF!),AND(K78>#REF!,K78<#REF!),AND(K78>#REF!,K78<#REF!),AND(K78>#REF!,K78<#REF!),AND(K78>#REF!,K78<#REF!),AND(K78>#REF!,K78<#REF!),AND(K78>A78,K78<A79),AND(K78>B78,K78<B79),AND(K78>C78,K78<C79),AND(K78>D78,K78<D79),AND(K78>H79,K78<H80),AND(K78>I79,K78<I80),AND(K78>J78,K78<J79),AND(K78>#REF!,K78<#REF!),AND(K78>#REF!,K78<#REF!),AND(K78>#REF!,K78<#REF!),AND(K78>#REF!,K78<#REF!),AND(K78>#REF!,K78<#REF!),AND(K78>$L78,K78<$L79))," ",0) -> #REF! | L81: =IF(OR(AND(L78>#REF!,L78<#REF!),AND(L78>#REF!,L78<#REF!),AND(L78>#REF!,L78<#REF!),AND(L78>#REF!,L78<#REF!),AND(L78>#REF!,L78<#REF!),AND(L78>#REF!,L78<#REF!),AND(L78>#REF!,L78<#REF!),AND(L78>#REF!,L78<#REF!),AND(L78>#REF!,L78<#REF!),AND(L78>#REF!,L78<#REF!),AND(L78>A78,L78<A79),AND(L78>B78,L78<B79),AND(L78>C78,L78<C79),AND(L78>D78,L78<D79),AND(L78>H79,L78<H80),AND(L78>I79,L78<I80),AND(L78>J78,L78<J79),AND(L78>#REF!,L78<#REF!),AND(L78>#REF!,L78<#REF!),AND(L78>#REF!,L78<#REF!),AND(L78>#REF!,L78<#REF!),AND(L78>#REF!,L78<#REF!),AND(L78>K78,L78<K79))," ",0) -> #REF!
E82: =IF(OR(AND(E79>#REF!,E79<#REF!),AND(E79>#REF!,E79<#REF!),AND(E79>#REF!,E79<#REF!),AND(E79>#REF!,E79<#REF!),AND(E79>#REF!,E79<#REF!),AND(E79>#REF!,E79<#REF!),AND(E79>#REF!,E79<#REF!),AND(E79>#REF!,E79<#REF!),AND(E79>#REF!,E79<#REF!),AND(E79>#REF!,E79<#REF!),AND(E79>#REF!,E79<#REF!),AND(E79>#REF!,E79<#REF!),AND(E79>#REF!,E79<#REF!),AND(E79>#REF!,E79<#REF!),AND(E79>F79,E79<F80),AND(E79>#REF!,E79<#REF!),AND(E79>#REF!,E79<#REF!),AND(E79>#REF!,E79<#REF!),AND(E79>#REF!,E79<#REF!),AND(E79>#REF!,E79<#REF!),AND(E79>#REF!,E79<#REF!),AND(E79>#REF!,E79<#REF!),AND(E79>$L78,E79<$L79))," ",0) -> #REF! | F82: =IF(OR(AND(F79>#REF!,F79<#REF!),AND(F79>#REF!,F79<#REF!),AND(F79>#REF!,F79<#REF!),AND(F79>#REF!,F79<#REF!),AND(F79>#REF!,F79<#REF!),AND(F79>#REF!,F79<#REF!),AND(F79>#REF!,F79<#REF!),AND(F79>#REF!,F79<#REF!),AND(F79>#REF!,F79<#REF!),AND(F79>#REF!,F79<#REF!),AND(F79>#REF!,F79<#REF!),AND(F79>#REF!,F79<#REF!),AND(F79>#REF!,F79<#REF!),AND(F79>A78,F79<A79),AND(F79>#REF!,F79<#REF!),AND(F79>#REF!,F79<#REF!),AND(F79>#REF!,F79<#REF!),AND(F79>#REF!,F79<#REF!),AND(F79>#REF!,F79<#REF!),AND(F79>#REF!,F79<#REF!),AND(F79>#REF!,F79<#REF!),AND(F79>H78,F79<H79),AND(F79>$L78,F79<$L79))," ",0) -> #REF! | G82: =IF(OR(AND(G79>#REF!,G79<#REF!),AND(G79>#REF!,G79<#REF!),AND(G79>#REF!,G79<#REF!),AND(G79>#REF!,G79<#REF!),AND(G79>#REF!,G79<#REF!),AND(G79>#REF!,G79<#REF!),AND(G79>#REF!,G79<#REF!),AND(G79>#REF!,G79<#REF!),AND(G79>#REF!,G79<#REF!),AND(G79>#REF!,G79<#REF!),AND(G79>#REF!,G79<#REF!),AND(G79>A78,G79<A79),AND(G79>B78,G79<B79),AND(G79>C78,G79<C79),AND(G79>H79,G79<H80),AND(G79>I78,G79<I79),AND(G79>#REF!,G79<#REF!),AND(G79>#REF!,G79<#REF!),AND(G79>#REF!,G79<#REF!),AND(G79>#REF!,G79<#REF!),AND(G79>#REF!,G79<#REF!),AND(G79>J78,G79<J79),AND(G79>$L78,G79<$L79))," ",0) -> #REF! | H82: =IF(OR(AND(H79>#REF!,H79<#REF!),AND(H79>#REF!,H79<#REF!),AND(H79>#REF!,H79<#REF!),AND(H79>#REF!,H79<#REF!),AND(H79>#REF!,H79<#REF!),AND(H79>#REF!,H79<#REF!),AND(H79>#REF!,H79<#REF!),AND(H79>#REF!,H79<#REF!),AND(H79>#REF!,H79<#REF!),AND(H79>#REF!,H79<#REF!),AND(H79>A78,H79<A79),AND(H79>B78,H79<B79),AND(H79>C78,H79<C79),AND(H79>D78,H79<D79),AND(H79>I79,H79<I80),AND(H79>J78,H79<J79),AND(H79>#REF!,H79<#REF!),AND(H79>#REF!,H79<#REF!),AND(H79>#REF!,H79<#REF!),AND(H79>#REF!,H79<#REF!),AND(H79>#REF!,H79<#REF!),AND(H79>K78,H79<K79),AND(H79>$L78,H79<$L79))," ",0) -> #REF! | I82: =IF(OR(AND(I79>#REF!,I79<#REF!),AND(I79>#REF!,I79<#REF!),AND(I79>#REF!,I79<#REF!),AND(I79>#REF!,I79<#REF!),AND(I79>#REF!,I79<#REF!),AND(I79>#REF!,I79<#REF!),AND(I79>#REF!,I79<#REF!),AND(I79>#REF!,I79<#REF!),AND(I79>#REF!,I79<#REF!),AND(I79>#REF!,I79<#REF!),AND(I79>A78,I79<A79),AND(I79>B78,I79<B79),AND(I79>C78,I79<C79),AND(I79>D78,I79<D79),AND(I79>H79,I79<H80),AND(I79>J78,I79<J79),AND(I79>#REF!,I79<#REF!),AND(I79>#REF!,I79<#REF!),AND(I79>#REF!,I79<#REF!),AND(I79>#REF!,I79<#REF!),AND(I79>#REF!,I79<#REF!),AND(I79>K78,I79<K79),AND(I79>$L78,I79<$L79))," ",0) -> #REF!
A83: =IF(OR(AND(A78>#REF!,A78<#REF!),AND(A78>#REF!,A78<#REF!),AND(A78>#REF!,A78<#REF!),AND(A78>#REF!,A78<#REF!),AND(A78>#REF!,A78<#REF!),AND(A78>#REF!,A78<#REF!),AND(A78>#REF!,A78<#REF!),AND(A78>#REF!,A78<#REF!),AND(A78>#REF!,A78<#REF!),AND(A78>#REF!,A78<#REF!),AND(A78>B78,A78<B79),AND(A78>C78,A78<C79),AND(A78>D78,A78<D79),AND(A78>H79,A78<H80),AND(A78>I79,A78<I80),AND(A78>J78,A78<J79),AND(A78>#REF!,A78<#REF!),AND(A78>#REF!,A78<#REF!),AND(A78>#REF!,A78<#REF!),AND(A78>#REF!,A78<#REF!),AND(A78>#REF!,A78<#REF!),AND(A78>K78,A78<K79),AND(A78>$L78,A78<$L79)),"Traslapo"," ") -> #REF! | B83: =IF(OR(AND(B78>#REF!,B78<#REF!),AND(B78>#REF!,B78<#REF!),AND(B78>#REF!,B78<#REF!),AND(B78>#REF!,B78<#REF!),AND(B78>#REF!,B78<#REF!),AND(B78>#REF!,B78<#REF!),AND(B78>#REF!,B78<#REF!),AND(B78>#REF!,B78<#REF!),AND(B78>#REF!,B78<#REF!),AND(B78>#REF!,B78<#REF!),AND(B78>A78,B78<A79),AND(B78>C78,B78<C79),AND(B78>D78,B78<D79),AND(B78>H79,B78<H80),AND(B78>I79,B78<I80),AND(B78>J78,B78<J79),AND(B78>#REF!,B78<#REF!),AND(B78>#REF!,B78<#REF!),AND(B78>#REF!,B78<#REF!),AND(B78>#REF!,B78<#REF!),AND(B78>#REF!,B78<#REF!),AND(B78>K78,B78<K79),AND(B78>$L78,B78<$L79)),"Traslapo"," ") -> #REF! | C83: =IF(OR(AND(C78>#REF!,C78<#REF!),AND(C78>#REF!,C78<#REF!),AND(C78>#REF!,C78<#REF!),AND(C78>#REF!,C78<#REF!),AND(C78>#REF!,C78<#REF!),AND(C78>#REF!,C78<#REF!),AND(C78>#REF!,C78<#REF!),AND(C78>#REF!,C78<#REF!),AND(C78>#REF!,C78<#REF!),AND(C78>#REF!,C78<#REF!),AND(C78>A78,C78<A79),AND(C78>B78,C78<B79),AND(C78>D78,C78<D79),AND(C78>H79,C78<H80),AND(C78>I79,C78<I80),AND(C78>J78,C78<J79),AND(C78>#REF!,C78<#REF!),AND(C78>#REF!,C78<#REF!),AND(C78>#REF!,C78<#REF!),AND(C78>#REF!,C78<#REF!),AND(C78>#REF!,C78<#REF!),AND(C78>K78,C78<K79),AND(C78>$L78,C78<$L79)),"Traslapo"," ") -> #REF! | D83: =IF(OR(AND(D78>#REF!,D78<#REF!),AND(D78>#REF!,D78<#REF!),AND(D78>#REF!,D78<#REF!),AND(D78>#REF!,D78<#REF!),AND(D78>#REF!,D78<#REF!),AND(D78>#REF!,D78<#REF!),AND(D78>#REF!,D78<#REF!),AND(D78>#REF!,D78<#REF!),AND(D78>#REF!,D78<#REF!),AND(D78>#REF!,D78<#REF!),AND(D78>A78,D78<A79),AND(D78>B78,D78<B79),AND(D78>C78,D78<C79),AND(D78>H79,D78<H80),AND(D78>I79,D78<I80),AND(D78>J78,D78<J79),AND(D78>#REF!,D78<#REF!),AND(D78>#REF!,D78<#REF!),AND(D78>#REF!,D78<#REF!),AND(D78>#REF!,D78<#REF!),AND(D78>#REF!,D78<#REF!),AND(D78>K78,D78<K79),AND(D78>$L78,D78<$L79)),"Traslapo"," ") -> #REF! | J83: =IF(OR(AND(J78>#REF!,J78<#REF!),AND(J78>#REF!,J78<#REF!),AND(J78>#REF!,J78<#REF!),AND(J78>#REF!,J78<#REF!),AND(J78>#REF!,J78<#REF!),AND(J78>#REF!,J78<#REF!),AND(J78>#REF!,J78<#REF!),AND(J78>#REF!,J78<#REF!),AND(J78>#REF!,J78<#REF!),AND(J78>#REF!,J78<#REF!),AND(J78>A78,J78<A79),AND(J78>B78,J78<B79),AND(J78>C78,J78<C79),AND(J78>D78,J78<D79),AND(J78>H79,J78<H80),AND(J78>I79,J78<I80),AND(J78>#REF!,J78<#REF!),AND(J78>#REF!,J78<#REF!),AND(J78>#REF!,J78<#REF!),AND(J78>#REF!,J78<#REF!),AND(J78>#REF!,J78<#REF!),AND(J78>K78,J78<K79),AND(J78>$L78,J78<$L79)),"Traslapo"," ") -> #REF! | K83: =IF(OR(AND(K78>#REF!,K78<#REF!),AND(K78>#REF!,K78<#REF!),AND(K78>#REF!,K78<#REF!),AND(K78>#REF!,K78<#REF!),AND(K78>#REF!,K78<#REF!),AND(K78>#REF!,K78<#REF!),AND(K78>#REF!,K78<#REF!),AND(K78>#REF!,K78<#REF!),AND(K78>#REF!,K78<#REF!),AND(K78>#REF!,K78<#REF!),AND(K78>A78,K78<A79),AND(K78>B78,K78<B79),AND(K78>C78,K78<C79),AND(K78>D78,K78<D79),AND(K78>H79,K78<H80),AND(K78>I79,K78<I80),AND(K78>J78,K78<J79),AND(K78>#REF!,K78<#REF!),AND(K78>#REF!,K78<#REF!),AND(K78>#REF!,K78<#REF!),AND(K78>#REF!,K78<#REF!),AND(K78>#REF!,K78<#REF!),AND(K78>$L78,K78<$L79)),"Traslapo"," ") -> #REF! | L83: =IF(OR(AND(L78>#REF!,L78<#REF!),AND(L78>#REF!,L78<#REF!),AND(L78>#REF!,L78<#REF!),AND(L78>#REF!,L78<#REF!),AND(L78>#REF!,L78<#REF!),AND(L78>#REF!,L78<#REF!),AND(L78>#REF!,L78<#REF!),AND(L78>#REF!,L78<#REF!),AND(L78>#REF!,L78<#REF!),AND(L78>#REF!,L78<#REF!),AND(L78>A78,L78<A79),AND(L78>B78,L78<B79),AND(L78>C78,L78<C79),AND(L78>D78,L78<D79),AND(L78>H79,L78<H80),AND(L78>I79,L78<I80),AND(L78>J78,L78<J79),AND(L78>#REF!,L78<#REF!),AND(L78>#REF!,L78<#REF!),AND(L78>#REF!,L78<#REF!),AND(L78>#REF!,L78<#REF!),AND(L78>#REF!,L78<#REF!),AND(L78>K78,L78<K79)),"Traslapo"," ") -> #REF!
E84: =IF(OR(AND(E79>#REF!,E79<#REF!),AND(E79>#REF!,E79<#REF!),AND(E79>#REF!,E79<#REF!),AND(E79>#REF!,E79<#REF!),AND(E79>#REF!,E79<#REF!),AND(E79>#REF!,E79<#REF!),AND(E79>#REF!,E79<#REF!),AND(E79>#REF!,E79<#REF!),AND(E79>#REF!,E79<#REF!),AND(E79>#REF!,E79<#REF!),AND(E79>#REF!,E79<#REF!),AND(E79>#REF!,E79<#REF!),AND(E79>#REF!,E79<#REF!),AND(E79>#REF!,E79<#REF!),AND(E79>F79,E79<F80),AND(E79>#REF!,E79<#REF!),AND(E79>#REF!,E79<#REF!),AND(E79>#REF!,E79<#REF!),AND(E79>#REF!,E79<#REF!),AND(E79>#REF!,E79<#REF!),AND(E79>#REF!,E79<#REF!),AND(E79>#REF!,E79<#REF!),AND(E79>$L78,E79<$L79)),"Traslapo"," ") -> #REF! | F84: =IF(OR(AND(F79>#REF!,F79<#REF!),AND(F79>#REF!,F79<#REF!),AND(F79>#REF!,F79<#REF!),AND(F79>#REF!,F79<#REF!),AND(F79>#REF!,F79<#REF!),AND(F79>#REF!,F79<#REF!),AND(F79>#REF!,F79<#REF!),AND(F79>#REF!,F79<#REF!),AND(F79>#REF!,F79<#REF!),AND(F79>#REF!,F79<#REF!),AND(F79>#REF!,F79<#REF!),AND(F79>#REF!,F79<#REF!),AND(F79>#REF!,F79<#REF!),AND(F79>A78,F79<A79),AND(F79>#REF!,F79<#REF!),AND(F79>#REF!,F79<#REF!),AND(F79>#REF!,F79<#REF!),AND(F79>#REF!,F79<#REF!),AND(F79>#REF!,F79<#REF!),AND(F79>#REF!,F79<#REF!),AND(F79>#REF!,F79<#REF!),AND(F79>H78,F79<H79),AND(F79>$L78,F79<$L79)),"Traslapo"," ") -> #REF! | G84: =IF(OR(AND(G79>#REF!,G79<#REF!),AND(G79>#REF!,G79<#REF!),AND(G79>#REF!,G79<#REF!),AND(G79>#REF!,G79<#REF!),AND(G79>#REF!,G79<#REF!),AND(G79>#REF!,G79<#REF!),AND(G79>#REF!,G79<#REF!),AND(G79>#REF!,G79<#REF!),AND(G79>#REF!,G79<#REF!),AND(G79>#REF!,G79<#REF!),AND(G79>#REF!,G79<#REF!),AND(G79>A78,G79<A79),AND(G79>B78,G79<B79),AND(G79>C78,G79<C79),AND(G79>H79,G79<H80),AND(G79>I78,G79<I79),AND(G79>#REF!,G79<#REF!),AND(G79>#REF!,G79<#REF!),AND(G79>#REF!,G79<#REF!),AND(G79>#REF!,G79<#REF!),AND(G79>#REF!,G79<#REF!),AND(G79>J78,G79<J79),AND(G79>$L78,G79<$L79)),"Traslapo"," ") -> #REF! | H84: =IF(OR(AND(H79>#REF!,H79<#REF!),AND(H79>#REF!,H79<#REF!),AND(H79>#REF!,H79<#REF!),AND(H79>#REF!,H79<#REF!),AND(H79>#REF!,H79<#REF!),AND(H79>#REF!,H79<#REF!),AND(H79>#REF!,H79<#REF!),AND(H79>#REF!,H79<#REF!),AND(H79>#REF!,H79<#REF!),AND(H79>#REF!,H79<#REF!),AND(H79>A78,H79<A79),AND(H79>B78,H79<B79),AND(H79>C78,H79<C79),AND(H79>D78,H79<D79),AND(H79>I79,H79<I80),AND(H79>J78,H79<J79),AND(H79>#REF!,H79<#REF!),AND(H79>#REF!,H79<#REF!),AND(H79>#REF!,H79<#REF!),AND(H79>#REF!,H79<#REF!),AND(H79>#REF!,H79<#REF!),AND(H79>K78,H79<K79),AND(H79>$L78,H79<$L79)),"Traslapo"," ") -> #REF! | I84: =IF(OR(AND(I79>#REF!,I79<#REF!),AND(I79>#REF!,I79<#REF!),AND(I79>#REF!,I79<#REF!),AND(I79>#REF!,I79<#REF!),AND(I79>#REF!,I79<#REF!),AND(I79>#REF!,I79<#REF!),AND(I79>#REF!,I79<#REF!),AND(I79>#REF!,I79<#REF!),AND(I79>#REF!,I79<#REF!),AND(I79>#REF!,I79<#REF!),AND(I79>A78,I79<A79),AND(I79>B78,I79<B79),AND(I79>C78,I79<C79),AND(I79>D78,I79<D79),AND(I79>H79,I79<H80),AND(I79>J78,I79<J79),AND(I79>#REF!,I79<#REF!),AND(I79>#REF!,I79<#REF!),AND(I79>#REF!,I79<#REF!),AND(I79>#REF!,I79<#REF!),AND(I79>#REF!,I79<#REF!),AND(I79>K78,I79<K79),AND(I79>$L78,I79<$L79)),"Traslapo"," ") -> #REF!

Sheet Equipo
B2: =+#REF! -> #REF!
B3: =+#REF! -> #REF! | C3: PROPONENTE | D3: =+#REF! -> #REF!
B4: DIRECTOR | D4: =+#REF! -> #REF! | E4: =+#REF! -> #REF!
B5: RESIDENTE 1 | D5: =+#REF! -> #REF! | E5: =+#REF! -> #REF!
B6: RESIDENTE 2 | D6: =+#REF! -> #REF! | E6: =+#REF! -> #REF!
B8: =+#REF! -> #REF!

Sheet Hoja3
A1: CUMPLE | B1: APORTO
A2: NO CUMPLE | B2: NO APORTO
A3: NO APLICA
