Workbook

Sheet GRUPO 1  DE 60 
B1: PROCESO ADQUISICIONES COMPROMISO DE APORTE ADICIONAL EN DINERO O ESPECIE | F1: Código:
F2: Versión: 0
F3: Fecha:
F4: Página: 1 de 1
A6: Estructura de costos | B6: INTEGRARTE EXTERNO
A7: Proyecto Encargado | B7: Proyecto 1113 "Por una ciudad incluyente y sin barreras"
A8: Fecha Solicitud
A9: Yo, __________________, identificado con _____________, en mi condición de Representante Legal de (Razón social de la ESAL) identificada con Nit ________, para el presente proceso competitivo, me comprometo a ofrecer el siguiente aporte mínimo establecido en la Invitación, así:
A13: LOTE 1 | C13: OBJETO
C14: Prestar servicios sociales de atención externa en centros integrarte a personas mayores de 18 años con discapacidad intelectual o cognitiva, o discapacidad múltiple asociada a cognitiva, promoviendo sus procesos de inclusión a través del fortalecimiento de sus habilidades individuales, familiares y de entorno y territorio.
A15: CUPO 60
A16: TIEMPO DE EJECUCION: 9 MESES | B16: 9
A18: CONCEPTOS DE LA ESTRUCTURA | B18: CANTIDAD | C18: VALOR UNITARIO MENSUAL | D18: VALOR TOTAL | E18: VALOR DE LOS APORTES
E20: SDIS | F20: PROPONENTE
F21: VALOR EN ESPECIE | G21: VALOR EN DINERO
A22: COSTOS FIJOS
A23: Coordinador-a de Centro | B23: 1 | C23: 4070164 | D23: =B23*C23*$B$16 -> 36631476
A24: Psicóloga-o | B24: 1 | C24: 2864018 | D24: =B24*C24*$B$16 -> 25776162
A25: Trabajadora Social | B25: 1 | C25: 2864018 | D25: =B25*C25*$B$16 -> 25776162
A26: Terapeuta Ocupacional | B26: 1 | C26: 2864018 | D26: =B26*C26*$B$16 -> 25776162
A27: Educador-a Especial | B27: 1 | C27: 3018015 | D27: =B27*C27*$B$16 -> 27162135
A28: Educador-a Física | B28: 1 | C28: 2864018 | D28: =B28*C28*$B$16 -> 25776162
A29: Nutricionista | B29: 1 | C29: 2864018 | D29: =B29*C29*$B$16 -> 25776162
A30: Tecnólogo en alimentos o gastrónomo-a | B30: 1 | C30: 1929738 | D30: =B30*C30*$B$16 -> 17367642
A31: Instructor Laboral | B31: 4 | C31: 1740144 | D31: =B31*C31*$B$16 -> 62645184
A32: Auxiliar Administrativo | B32: 1 | C32: 1954564 | D32: =B32*C32*$B$16 -> 17591076
A33: Manipuladores de Alimentos | B33: 1 | C33: 1597917 | D33: =B33*C33*$B$16 -> 14381253
A34: Servicios Generales | B34: 1 | C34: 1608393 | D34: =B34*C34*$B$16 -> 14475537
A35: Transporte | C35: 17425689 | D35: =C35*$B$16 -> 156831201
A36: Vigilancia | C36: 7615622 | D36: =C36*$B$16 -> 68540598
A37: Aseo Institucional | C37: 1860678 | D37: =C37*$B$16 -> 16746102
A38: Espacios Físicos Funcionales* | C38: 6297277 | D38: =C38*$B$16 -> 56675493
A39: SUBTOTAL COSTOS FIJO | D39: =SUM(D23:D38) -> 617928507
A40: COSTOS VARIABLES
A41: Bienes Consumibles** | C41: 3817588 | D41: =C41*$B$16 -> 34358292
A42: Alimentos | C42: 13306036 | D42: =C42*$B$16 -> 119754324
A43: SUBTOTAL COSTOS VARIABLES | D43: =SUM(D41:D42) -> 154112616
A44: Este costo se reconocerá una vez se entregue el bien
A45: COSTOS POR REALIZACIÓN
A46: Piezas comunicativas | C46: 1089795 | D46: =C46 -> 1089795
A47: Desgaste y uso de los bienes muebles no consumibles | C47: 4530722 | D47: =C47 -> 4530722
A48: Bienes no Consumibles*** | C48: 12751812 | D48: =C48 -> 12751812
A49: SUBTOTAL COSTOS POR REALIZACIÓN | D49: =SUM(D46:D48) -> 18372329
A50: TOTAL | D50: =D39+D43+D49 -> 790413452
A51: Este grupo deberá estar ubicado en algunas de las siguientes localidades: Usaquén, Engativá, Suba, Chapinero, Teusaquillo y Barrios Unidos.
A52: Para conocer el detalle de los elementos que componen cada rubro presupuestal, remitirse al anexo técnico
A53: *Espacio Físicos Funcionales: este rubro presupuestal esta compuesto por: Arrendamiento, Servicios Públicos, Gestión Ambiental y mantenimiento
A54: **Bienes consumibles comprende: Papelería requerida para el desarrollo de los talleres, primeros auxilios y gestión Documental y Aseo personal
A55: *** Bienes no consumibles comprende: Aceites esenciales, Juegos de mesa, Parqués, Dóminos, Loterías, Juego de Bolos, Rompecabezas, Juegos de encajar figuras geométricas, Rana con tablero y argollas, Ajedrez, Juegos de Ensartado, balones, Lazos, Aros hula hula, Conos plásticos, entre otros elementos que se encuentran descritos en el anexo técnico
A58: Atentamente,
A60: Nombre o Razón Social del Proponente:
A62: NIT
A63: Nombre del Representante Legal:
A64: C.C. No. De
A65: Dirección Comercial del Proponente
A66: Teléfonos
... A72: NOMBRE DE QUIEN FIRMA:

Sheet GRUPO 2  DE 60  
B1: PROCESO ADQUISICIONES COMPROMISO DE APORTE ADICIONAL EN DINERO O ESPECIE | F1: Código:
F2: Versión: 0
F3: Fecha:
F4: Página: 1 de 1
A6: Estructura de costos | B6: INTEGRARTE EXTERNO
A7: Proyecto Encargado | B7: Proyecto 1113 "Por una ciudad incluyente y sin barreras"
A8: Fecha Solicitud
A9: Yo, __________________, identificado con _____________, en mi condición de Representante Legal de (Razón social de la ESAL) identificada con Nit ________, para el presente proceso competitivo, me comprometo a ofrecer el siguiente aporte mínimo establecido en la Invitación, así:
A13: LOTE 2 | C13: OBJETO
C14: Prestar servicios sociales de atención externa en centros integrarte a personas mayores de 18 años con discapacidad intelectual o cognitiva, o discapacidad múltiple asociada a cognitiva, promoviendo sus procesos de inclusión a través del fortalecimiento de sus habilidades individuales, familiares y de entorno y territorio.
A15: CUPO 60
A16: TIEMPO DE EJECUCION: 9 MESES | B16: 9
A18: CONCEPTOS DE LA ESTRUCTURA | B18: CANTIDAD | C18: VALOR UNITARIO MENSUAL | D18: VALOR TOTAL | E18: VALOR DE LOS APORTES
E20: SDIS | F20: PROPONENTE
F21: VALOR EN ESPECIE | G21: VALOR EN DINERO
A22: COSTOS FIJOS
A23: Coordinador-a de Centro | B23: 1 | C23: 4070164 | D23: =B23*C23*$B$16 -> 36631476
A24: Psicóloga-o | B24: 1 | C24: 2864018 | D24: =B24*C24*$B$16 -> 25776162
A25: Trabajadora Social | B25: 1 | C25: 2864018 | D25: =B25*C25*$B$16 -> 25776162
A26: Terapeuta Ocupacional | B26: 1 | C26: 2864018 | D26: =B26*C26*$B$16 -> 25776162
A27: Educador-a Especial | B27: 1 | C27: 3018015 | D27: =B27*C27*$B$16 -> 27162135
A28: Educador-a Física | B28: 1 | C28: 2864018 | D28: =B28*C28*$B$16 -> 25776162
A29: Nutricionista | B29: 1 | C29: 2864018 | D29: =B29*C29*$B$16 -> 25776162
A30: Tecnólogo en alimentos o gastrónomo-a | B30: 1 | C30: 1929738 | D30: =B30*C30*$B$16 -> 17367642
A31: Instructor Laboral | B31: 4 | C31: 1740144 | D31: =B31*C31*$B$16 -> 62645184
A32: Auxiliar Administrativo | B32: 1 | C32: 1954564 | D32: =B32*C32*$B$16 -> 17591076
A33: Manipuladores de Alimentos | B33: 1 | C33: 1597917 | D33: =B33*C33*$B$16 -> 14381253
A34: Servicios Generales | B34: 1 | C34: 1608393 | D34: =B34*C34*$B$16 -> 14475537
A35: Transporte | C35: 17425689 | D35: =C35*$B$16 -> 156831201
A36: Vigilancia | C36: 7615622 | D36: =C36*$B$16 -> 68540598
A37: Aseo Institucional | C37: 1860678 | D37: =C37*$B$16 -> 16746102
A38: Espacios Físicos Funcionales* | C38: 6297277 | D38: =C38*$B$16 -> 56675493
A39: SUBTOTAL COSTOS FIJO | D39: =SUM(D23:D38) -> 617928507
A40: COSTOS VARIABLES
A41: Bienes Consumibles** | C41: 3817588 | D41: =C41*$B$16 -> 34358292
A42: Alimentos | C42: 13306036 | D42: =C42*$B$16 -> 119754324
A43: SUBTOTAL COSTOS VARIABLES | D43: =SUM(D41:D42) -> 154112616
A44: Este costo se reconocerá una vez se entregue el bien
A45: COSTOS POR REALIZACIÓN
A46: Piezas comunicativas | C46: 1089795 | D46: =C46 -> 1089795
A47: Desgaste y uso de los bienes muebles no consumibles | C47: 4530722 | D47: =C47 -> 4530722
A48: Bienes no Consumibles*** | C48: 12751812 | D48: =C48 -> 12751812
A49: SUBTOTAL COSTOS POR REALIZACIÓN | D49: =SUM(D46:D48) -> 18372329
A50: TOTAL | D50: =D39+D43+D49 -> 790413452
A51: Este grupo deberá estar ubicado en algunas de las siguientes localidades: Fontibón, Kennedy, Tunjuelito, Bosa, Antonio Nariño y Chapinero.
A52: Para conocer el detalle de los elementos que componen cada rubro presupuestal, remitirse al anexo técnico
A53: *Espacio Físicos Funcionales: este rubro presupuestal esta compuesto por: Arrendamiento, Servicios Públicos, Gestión Ambiental y mantenimiento
A54: **Bienes consumibles comprende: Papelería requerida para el desarrollo de los talleres, primeros auxilios y gestión Documental y Aseo personal
A55: *** Bienes no consumibles comprende: Aceites esenciales, Juegos de mesa, Parqués, Dóminos, Loterías, Juego de Bolos, Rompecabezas, Juegos de encajar figuras geométricas, Rana con tablero y argollas, Ajedrez, Juegos de Ensartado, balones, Lazos, Aros hula hula, Conos plásticos, entre otros elementos que se encuentran descritos en el anexo técnico
A58: Atentamente,
A60: Nombre o Razón Social del Proponente:
A62: NIT
A63: Nombre del Representante Legal:
A64: C.C. No. De
A65: Dirección Comercial del Proponente
A66: Teléfonos
... A72: NOMBRE DE QUIEN FIRMA:

Sheet GRUPO 3  DE 65
B1: PROCESO ADQUISICIONES COMPROMISO DE APORTE ADICIONAL EN DINERO O ESPECIE | F1: Código:
F2: Versión: 0
F3: Fecha:
F4: Página: 1 de 1
A6: Estructura de costos | B6: INTEGRARTE EXTERNO
A7: Proyecto Encargado | B7: Proyecto 1113 "Por una ciudad incluyente y sin barreras"
A8: Fecha Solicitud
A9: Yo, __________________, identificado con _____________, en mi condición de Representante Legal de (Razón social de la ESAL) identificada con Nit ________, para el presente proceso competitivo, me comprometo a ofrecer el siguiente aporte mínimo establecido en la Invitación, así:
A13: LOTE 3 | C13: OBJETO
C14: Prestar servicios sociales de atención externa en centros integrarte a personas mayores de 18 años con discapacidad intelectual o cognitiva, o discapacidad múltiple asociada a cognitiva, promoviendo sus procesos de inclusión a través del fortalecimiento de sus habilidades individuales, familiares y de entorno y territorio.
A15: CUPO 65
A16: TIEMPO DE EJECUCION: 9 MESES | B16: 9
A18: CONCEPTOS DE LA ESTRUCTURA | B18: CANTIDAD | C18: VALOR UNITARIO MENSUAL | D18: VALOR TOTAL | E18: VALOR DE LOS APORTES
E20: SDIS | F20: PROPONENTE
F21: VALOR EN ESPECIE | G21: VALOR EN DINERO
A22: COSTOS FIJO
A23: Coordinador-a de Centro | B23: 1 | C23: 4070164 | D23: =B23*C23*$B$16 -> 36631476
A24: Psicóloga-o | B24: 1 | C24: 2864018 | D24: =B24*C24*$B$16 -> 25776162
A25: Trabajadora Social | B25: 1 | C25: 2864018 | D25: =B25*C25*$B$16 -> 25776162
A26: Terapeuta Ocupacional | B26: 1 | C26: 2864018 | D26: =B26*C26*$B$16 -> 25776162
A27: Educador-a Especial | B27: 1 | C27: 3018015 | D27: =B27*C27*$B$16 -> 27162135
A28: Educador-a Física | B28: 1 | C28: 2864018 | D28: =B28*C28*$B$16 -> 25776162
A29: Nutricionista | B29: 1 | C29: 2864018 | D29: =B29*C29*$B$16 -> 25776162
A30: Tecnólogo en alimentos o gastrónomo-a | B30: 1 | C30: 1929738 | D30: =B30*C30*$B$16 -> 17367642
A31: Instructor Laboral | B31: 4 | C31: 1740144 | D31: =B31*C31*$B$16 -> 62645184
A32: Auxiliar Administrativo | B32: 1 | C32: 1954564 | D32: =B32*C32*$B$16 -> 17591076
A33: Manipuladores de Alimentos | B33: 1 | C33: 1597917 | D33: =B33*C33*$B$16 -> 14381253
A34: Servicios Generales | B34: 1 | C34: 1608393 | D34: =B34*C34*$B$16 -> 14475537
A35: Transporte | C35: 17425689 | D35: =C35*$B$16 -> 156831201
A36: Vigilancia | C36: 7615622 | D36: =C36*$B$16 -> 68540598
A37: Aseo Institucional | C37: 1860678 | D37: =C37*$B$16 -> 16746102
A38: Espacios Físicos Funcionales* | C38: 6645540 | D38: =C38*$B$16 -> 59809860
A39: SUBTOTAL COSTOS FIJO | D39: =SUM(D23:D38) -> 621062874
A40: COSTOS VARIABLES
A41: Bienes Consumibles** | C41: 3817588 | D41: =C41*$B$16 -> 34358292
A42: Alimentos | C42: 13306036 | D42: =C42*$B$16 -> 119754324
A43: SUBTOTAL COSTOS VARIABLES | D43: =SUM(D41:D42) -> 154112616
A44: Este costo se reconocerá una vez se entregue el bien
A45: COSTOS POR REALIZACIÓN
A46: Piezas comunicativas | C46: 1089795 | D46: =C46 -> 1089795
A47: Desgaste y uso de los bienes muebles no consumibles | C47: 4530722 | D47: =C47 -> 4530722
A48: Bienes no Consumibles*** | C48: 12751812 | D48: =C48 -> 12751812
A49: SUBTOTAL COSTOS POR REALIZACIÓN | D49: =SUM(D46:D48) -> 18372329
A50: TOTAL | D50: =D39+D43+D49 -> 793547819
A51: Este grupo deberá estar ubicado en algunas de las siguientes localidades: Ciudad Bolívar, Rafael Uribe Uribe y Usme.
A52: Para conocer el detalle de los elementos que componen cada rubro presupuestal, remitirse al anexo técnico
A53: *Espacio Físicos Funcionales: este rubro presupuestal esta compuesto por: Arrendamiento, Servicios Públicos, Gestión Ambiental y mantenimiento
A54: **Bienes consumibles comprende: Papelería requerida para el desarrollo de los talleres, primeros auxilios y gestión Documental y Aseo personal
A55: *** Bienes no consumibles comprende: Aceites esenciales, Juegos de mesa, Parqués, Dóminos, Loterías, Juego de Bolos, Rompecabezas, Juegos de encajar figuras geométricas, Rana con tablero y argollas, Ajedrez, Juegos de Ensartado, balones, Lazos, Aros hula hula, Conos plásticos, entre otros elementos que se encuentran descritos en el anexo ténico
A58: Atentamente,
A60: Nombre o Razón Social del Proponente:
A62: NIT
A63: Nombre del Representante Legal:
A64: C.C. No. De
A65: Dirección Comercial del Proponente
A66: Teléfonos
... A72: NOMBRE DE QUIEN FIRMA:

Sheet GRUPO 4  DE 55
B1: PROCESO ADQUISICIONES COMPROMISO DE APORTE ADICIONAL EN DINERO O ESPECIE | F1: Código:
F2: Versión: 0
F3: Fecha:
F4: Página: 1 de 1
A6: Estructura de costos | B6: INTEGRARTE EXTERNO
A7: Proyecto Encargado | B7: Proyecto 1113 "Por una ciudad incluyente y sin barreras"
A8: Fecha Solicitud
A9: Yo, __________________, identificado con _____________, en mi condición de Representante Legal de (Razón social de la ESAL) identificada con Nit ________, para el presente proceso competitivo, me comprometo a ofrecer el siguiente aporte mínimo establecido en la Invitación, así:
A13: LOTE 4 | C13: OBJETO
C14: Prestar servicios sociales de atención externa en centros integrarte a personas mayores de 18 años con discapacidad intelectual o cognitiva, o discapacidad múltiple asociada a cognitiva, promoviendo sus procesos de inclusión a través del fortalecimiento de sus habilidades individuales, familiares y de entorno y territorio.
A15: CUPO 55
A16: TIEMPO DE EJECUCION: 9 MESES | B16: 9
A18: CONCEPTOS DE LA ESTRUCTURA | B18: CANTIDAD | C18: VALOR UNITARIO MENSUAL | D18: VALOR TOTAL | E18: VALOR DE LOS APORTES
E20: SDIS | F20: PROPONENTE
F21: VALOR EN ESPECIE | G21: VALOR EN DINERO
A22: COSTOS FIJOS
A23: Coordinador-a de Centro | B23: 1 | C23: 4070164 | D23: =B23*C23*$B$16 -> 36631476
A24: Psicóloga-o | B24: 1 | C24: 2864018 | D24: =B24*C24*$B$16 -> 25776162
A25: Trabajadora Social | B25: 1 | C25: 2864018 | D25: =B25*C25*$B$16 -> 25776162
A26: Terapeuta Ocupacional | B26: 1 | C26: 2864018 | D26: =B26*C26*$B$16 -> 25776162
A27: Educador-a Especial | B27: 1 | C27: 3018015 | D27: =B27*C27*$B$16 -> 27162135
A28: Educador-a Física | B28: 1 | C28: 2864018 | D28: =B28*C28*$B$16 -> 25776162
A29: Nutricionista | B29: 1 | C29: 2864018 | D29: =B29*C29*$B$16 -> 25776162
A30: Tecnólogo en alimentos o gastrónomo-a | B30: 1 | C30: 1929738 | D30: =B30*C30*$B$16 -> 17367642
A31: Instructor Laboral | B31: 4 | C31: 1740144 | D31: =B31*C31*$B$16 -> 62645184
A32: Auxiliar Administrativo | B32: 1 | C32: 1954564 | D32: =B32*C32*$B$16 -> 17591076
A33: Manipuladores de Alimentos | B33: 1 | C33: 1597917 | D33: =B33*C33*$B$16 -> 14381253
A34: Servicios Generales | B34: 1 | C34: 1608393 | D34: =B34*C34*$B$16 -> 14475537
A35: Transporte | C35: 17425689 | D35: =C35*$B$16 -> 156831201
A36: Vigilancia | C36: 7615622 | D36: =C36*$B$16 -> 68540598
A37: Aseo Institucional | C37: 1860678 | D37: =C37*$B$16 -> 16746102
A38: Espacios Físicos Funcionales* | C38: 5949013 | D38: =C38*$B$16 -> 53541117
A39: SUBTOTAL COSTOS FIJO | D39: =SUM(D23:D38) -> 614794131
A40: COSTOS VARIABLES
A41: Bienes Consumibles** | C41: 3817588 | D41: =C41*$B$16 -> 34358292
A42: Alimentos | C42: 13306036 | D42: =C42*$B$16 -> 119754324
A43: SUBTOTAL COSTOS VARIABLES | D43: =SUM(D41:D42) -> 154112616
A44: Este costo se reconocerá una vez se entregue el bien
A45: COSTOS POR REALIZACIÓN
A46: Piezas comunicativas | C46: 1089795 | D46: =C46 -> 1089795
A47: Desgaste y uso de los bienes muebles no consumibles | C47: 4530722 | D47: =C47 -> 4530722
A48: Bienes no Consumibles*** | C48: 12751812 | D48: =C48 -> 12751812
A49: SUBTOTAL COSTOS POR REALIZACIÓN | D49: =SUM(D46:D48) -> 18372329
A50: TOTAL | D50: =D39+D43+D49 -> 787279076
A51: Este grupo deberá estar ubicado en algunas de las siguientes localidades: San Cristóbal, Puente Aranda, Antonio Nariño, Santa fe, Candelaria y Mártires.
A52: Para conocer el detalle de los elementos que componen cada rubro presupuestal, remitirse al anexo técnico
A53: *Espacio Físicos Funcionales: este rubro presupuestal esta compuesto por: Arrendamiento, Servicios Públicos, Gestión Ambiental y mantenimiento
A54: **Bienes consumibles comprende: Papelería requerida para el desarrollo de los talleres, primeros auxilios y gestión Documental y Aseo personal
A55: *** Bienes no consumibles comprende: Aceites esenciales, Juegos de mesa, Parqués, Dóminos, Loterías, Juego de Bolos, Rompecabezas, Juegos de encajar figuras geométricas, Rana con tablero y argollas, Ajedrez, Juegos de Ensartado, balones, Lazos, Aros hula hula, Conos plásticos, entre otros elementos que se encuentran descritos en el anexo técnico
A58: Atentamente,
A60: Nombre o Razón Social del Proponente:
A62: NIT
A63: Nombre del Representante Legal:
A64: C.C. No. De
A65: Dirección Comercial del Proponente
A66: Teléfonos
... A72: NOMBRE DE QUIEN FIRMA:

Sheet GRUPO 5  DE 52
B1: PROCESO ADQUISICIONES COMPROMISO DE APORTE ADICIONAL EN DINERO O ESPECIE | F1: Código:
F2: Versión: 0
F3: Fecha:
F4: Página: 1 de 1
A6: Estructura de costos | B6: INTEGRARTE EXTERNO
A7: Proyecto Encargado | B7: Proyecto 1113 "Por una ciudad incluyente y sin barreras"
A8: Fecha Solicitud
A9: Yo, __________________, identificado con _____________, en mi condición de Representante Legal de (Razón social de la ESAL) identificada con Nit ________, para el presente proceso competitivo, me comprometo a ofrecer el siguiente aporte mínimo establecido en la Invitación, así:
A13: GRUPO 5 | C13: OBJETO
C14: Prestar servicios sociales de atención externa en centros integrarte a personas mayores de 18 años con discapacidad intelectual o cognitiva, o discapacidad múltiple asociada a cognitiva, promoviendo sus procesos de inclusión a través del fortalecimiento de sus habilidades individuales, familiares y de entorno y territorio.
A15: CUPO 52
A16: TIEMPO DE EJECUCION: 9 MESES | B16: 9
A18: CONCEPTOS DE LA ESTRUCTURA | B18: CANTIDAD | C18: VALOR UNITARIO MENSUAL | D18: VALOR TOTAL | E18: VALOR DE LOS APORTES
E20: SDIS | F20: PROPONENTE
F21: VALOR EN ESPECIE | G21: VALOR EN DINERO
A22: COSTOS FIJO
A23: Coordinador-a de Centro | B23: 1 | C23: 4070164 | D23: =B23*C23*$B$16 -> 36631476
A24: Psicóloga-o | B24: 1 | C24: 2864018 | D24: =B24*C24*$B$16 -> 25776162
A25: Trabajadora Social | B25: 1 | C25: 2864018 | D25: =B25*C25*$B$16 -> 25776162
A26: Terapeuta Ocupacional | B26: 1 | C26: 2864018 | D26: =B26*C26*$B$16 -> 25776162
A27: Terapeuta Física | B27: 1 | C27: 2864018 | D27: =B27*C27*$B$16 -> 25776162
A28: Educador-a Especial | B28: 1 | C28: 3018015 | D28: =B28*C28*$B$16 -> 27162135
A29: Educador-a Física | B29: 1 | C29: 2864018 | D29: =B29*C29*$B$16 -> 25776162
A30: Enfermera/o Profesional | B30: 1 | C30: 2858168 | D30: =B30*C30*$B$16 -> 25723512
A31: Nutricionista | B31: 1 | C31: 2864018 | D31: =B31*C31*$B$16 -> 25776162
A32: Tecnólogo en alimentos o gastrónomo-a | B32: 1 | C32: 1929738 | D32: =B32*C32*$B$16 -> 17367642
A33: Tallerista | B33: 1 | C33: 2047426 | D33: =B33*C33*$B$16 -> 18426834
A34: Auxiliar de enfermería | B34: 4 | C34: 2341625 | D34: =B34*C34*$B$16 -> 84298500
... A37: Servicios Generales | B37: 2 | C37: 1608393 | D37: =B37*C37*$B$16 -> 28951074
A38: Transporte | C38: 17425689 | D38: =C38*$B$16 -> 156831201
A39: Vigilancia | C39: 7615622 | D39: =C39*$B$16 -> 68540598
A40: Aseo Institucional | C40: 1860678 | D40: =C40*$B$16 -> 16746102
A41: Espacios Físicos Funcionales* | C41: 5740055 | D41: =C41*$B$16 -> 51660495
A42: SUBTOTAL COSTOS FIJO | D42: =SUM(D23:D41) -> 718968870
A43: COSTOS VARIABLES
A44: Bienes Consumibles** | C44: 3817588 | D44: =C44*$B$16 -> 34358292
A45: Alimentos | C45: 13306036 | D45: =C45*$B$16 -> 119754324
A46: SUBTOTAL COSTOS VARIABLES | D46: =SUM(D44:D45) -> 154112616
A47: Este costo se reconocerá una vez se entregue el bien
A48: COSTOS POR REALIZACIÓN
A49: Piezas comunicativas | C49: 1089795 | D49: =C49 -> 1089795
A50: Desgaste y uso de los bienes muebles no consumibles | C50: 4530722 | D50: =C50 -> 4530722
A51: Bienes no Consumibles*** | C51: 12751812 | D51: =C51 -> 12751812
A52: SUBTOTAL COSTOS POR REALIZACIÓN | D52: =SUM(D49:D51) -> 18372329
A53: TOTAL | D53: =D42+D46+D52 -> 891453815
A54: Este grupo deberá estar ubicado en algunas de las siguientes localidades: Engativá, Fontibón, Kennedy, Puente Aranda, Antonio Nariño, Tunjuelito.
A55: Para conocer el detalle de los elementos que componen cada rubro presupuestal, remitirse al anexo técnico
A56: *Espacio Físicos Funcionales: este rubro presupuestal esta compuesto por: Arrendamiento, Servicios Públicos, Gestión Ambiental y mantenimiento
A57: **Bienes consumibles comprende: Papelería requerida para el desarrollo de los talleres, primeros auxilios y gestión Documental y Aseo personal
A58: *** Bienes no consumibles comprende: Aceites esenciales, Juegos de mesa, Parqués, Dóminos, Loterías, Juego de Bolos, Rompecabezas, Juegos de encajar figuras geométricas, Rana con tablero y argollas, Ajedrez, Juegos de Ensartado, balones, Lazos, Aros hula hula, Conos plásticos, entre otros elementos que se encuentran descritos en el anexo técnico
A61: Atentamente,
A63: Nombre o Razón Social del Proponente:
A65: NIT
A66: Nombre del Representante Legal:
A67: C.C. No. De
A68: Dirección Comercial del Proponente
A69: Teléfonos
... A75: NOMBRE DE QUIEN FIRMA:

Sheet GRUPO 6  DE 58
B1: PROCESO ADQUISICIONES COMPROMISO DE APORTE ADICIONAL EN DINERO O ESPECIE | F1: Código:
F2: Versión: 0
F3: Fecha:
F4: Página: 1 de 1
A6: Estructura de costos | B6: INTEGRARTE EXTERNO
A7: Proyecto Encargado | B7: Proyecto 1113 "Por una ciudad incluyente y sin barreras"
A8: Fecha Solicitud
A9: Yo, __________________, identificado con _____________, en mi condición de Representante Legal de (Razón social de la ESAL) identificada con Nit ________, para el presente proceso competitivo, me comprometo a ofrecer el siguiente aporte mínimo establecido en la Invitación, así:
A13: GRUPO 6 | C13: OBJETO
C14: Prestar servicios sociales de atención externa en centros integrarte a personas mayores de 18 años con discapacidad intelectual o cognitiva, o discapacidad múltiple asociada a cognitiva, promoviendo sus procesos de inclusión a través del fortalecimiento de sus habilidades individuales, familiares y de entorno y territorio.
A15: CUPO 58
A16: TIEMPO DE EJECUCION: 9 MESES | B16: 9
A18: CONCEPTOS DE LA ESTRUCTURA | B18: CANTIDAD | C18: VALOR UNITARIO MENSUAL | D18: VALOR TOTAL | E18: VALOR DE LOS APORTES
E20: SDIS | F20: PROPONENTE
F21: VALOR EN ESPECIE | G21: VALOR EN DINERO
A22: COSTOS FIJO
A23: Coordinador-a de Centro | B23: 1 | C23: 4070164 | D23: =B23*C23*$B$16 -> 36631476
A24: Psicóloga-o | B24: 1 | C24: 2864018 | D24: =B24*C24*$B$16 -> 25776162
A25: Trabajadora Social | B25: 1 | C25: 2864018 | D25: =B25*C25*$B$16 -> 25776162
A26: Terapeuta Ocupacional | B26: 1 | C26: 2864018 | D26: =B26*C26*$B$16 -> 25776162
A27: Terapeuta Física | B27: 1 | C27: 2864018 | D27: =B27*C27*$B$16 -> 25776162
A28: Educador-a Especial | B28: 1 | C28: 3018015 | D28: =B28*C28*$B$16 -> 27162135
A29: Educador-a Física | B29: 1 | C29: 2864018 | D29: =B29*C29*$B$16 -> 25776162
A30: Enfermera/o Profesional | B30: 1 | C30: 2858168 | D30: =B30*C30*$B$16 -> 25723512
A31: Nutricionista | B31: 1 | C31: 2864018 | D31: =B31*C31*$B$16 -> 25776162
A32: Tecnólogo en alimentos o gastrónomo-a | B32: 1 | C32: 1929738 | D32: =B32*C32*$B$16 -> 17367642
A33: Tallerista | B33: 1 | C33: 2047426 | D33: =B33*C33*$B$16 -> 18426834
A34: Auxiliar de enfermería | B34: 4 | C34: 2341625 | D34: =B34*C34*$B$16 -> 84298500
... A37: Servicios Generales | B37: 2 | C37: 1608393 | D37: =B37*C37*$B$16 -> 28951074
A38: Transporte | C38: 17425689 | D38: =C38*$B$16 -> 156831201
A39: Vigilancia | C39: 7615622 | D39: =C39*$B$16 -> 68540598
A40: Aseo Institucional | C40: 1860678 | D40: =C40*$B$16 -> 16746102
A41: Espacios Físicos Funcionales* | C41: 6157971 | D41: =C41*$B$16 -> 55421739
A42: SUBTOTAL COSTOS FIJO | D42: =SUM(D23:D41) -> 722730114
A43: COSTOS VARIABLES
A44: Bienes Consumibles** | C44: 3817588 | D44: =C44*$B$16 -> 34358292
A45: Alimentos | C45: 13306036 | D45: =C45*$B$16 -> 119754324
A46: SUBTOTAL COSTOS VARIABLES | D46: =SUM(D44:D45) -> 154112616
A47: Este costo se reconocerá una vez se entregue el bien
A48: COSTOS POR REALIZACIÓN
A49: Piezas comunicativas | C49: 1089795 | D49: =C49 -> 1089795
A50: Desgaste y uso de los bienes muebles no consumibles | C50: 4530722 | D50: =C50 -> 4530722
A51: Bienes no Consumibles*** | C51: 12751812 | D51: =C51 -> 12751812
A52: SUBTOTAL COSTOS POR REALIZACIÓN | D52: =SUM(D49:D51) -> 18372329
A53: TOTAL | D53: =D42+D46+D52 -> 895215059
A54: Este grupo deberá estar ubicado en algunas de las siguientes localidades: Usaquén, Suba, Chapinero, Barrios Unidos y Teusaquillo.
A55: Para conocer el detalle de los elementos que componen cada rubro presupuestal, remitirse al anexo técnico
A56: *Espacio Físicos Funcionales: este rubro presupuestal esta compuesto por: Arrendamiento, Servicios Públicos, Gestión Ambiental y mantenimiento
A57: **Bienes consumibles comprende: Papelería requerida para el desarrollo de los talleres, primeros auxilios y gestión Documental y Aseo personal
A58: *** Bienes no consumibles comprende: Aceites esenciales, Juegos de mesa, Parqués, Dóminos, Loterías, Juego de Bolos, Rompecabezas, Juegos de encajar figuras geométricas, Rana con tablero y argollas, Ajedrez, Juegos de Ensartado, balones, Lazos, Aros hula hula, Conos plásticos, entre otros elementos que se encuentran descritos en el anexo técnico
A61: Atentamente,
A63: Nombre o Razón Social del Proponente:
A65: NIT
A66: Nombre del Representante Legal:
A67: C.C. No. De
A68: Dirección Comercial del Proponente
A69: Teléfonos
... A75: NOMBRE DE QUIEN FIRMA:

Sheet GRUPO 7  DE 60
B1: PROCESO ADQUISICIONES COMPROMISO DE APORTE ADICIONAL EN DINERO O ESPECIE | F1: Código:
F2: Versión: 0
F3: Fecha:
F4: Página: 1 de 1
A6: Estructura de costos | B6: INTEGRARTE EXTERNO
A7: Proyecto Encargado | B7: Proyecto 1113 "Por una ciudad incluyente y sin barreras"
A8: Fecha Solicitud
A9: Yo, __________________, identificado con _____________, en mi condición de Representante Legal de (Razón social de la ESAL) identificada con Nit ________, para el presente proceso competitivo, me comprometo a ofrecer el siguiente aporte mínimo establecido en la Invitación, así:
A13: GRUPO 7 | C13: OBJETO
C14: Prestar servicios sociales de atención externa en centros integrarte a personas mayores de 18 años con discapacidad intelectual o cognitiva, o discapacidad múltiple asociada a cognitiva, promoviendo sus procesos de inclusión a través del fortalecimiento de sus habilidades individuales, familiares y de entorno y territorio.
A15: CUPO 60
A16: TIEMPO DE EJECUCION: 9 MESES | B16: 9
A18: CONCEPTOS DE LA ESTRUCTURA | B18: CANTIDAD | C18: VALOR UNITARIO MENSUAL | D18: VALOR TOTAL | E18: VALOR DE LOS APORTES
E20: SDIS | F20: PROPONENTE
F21: VALOR EN ESPECIE | G21: VALOR EN DINERO
A22: COSTOS FIJO
A23: Coordinador-a de Centro | B23: 1 | C23: 4070164 | D23: =B23*C23*$B$16 -> 36631476
A24: Psicóloga-o | B24: 1 | C24: 2864018 | D24: =B24*C24*$B$16 -> 25776162
A25: Trabajadora Social | B25: 1 | C25: 2864018 | D25: =B25*C25*$B$16 -> 25776162
A26: Terapeuta Ocupacional | B26: 1 | C26: 2864018 | D26: =B26*C26*$B$16 -> 25776162
A27: Terapeuta Física | B27: 1 | C27: 2864018 | D27: =B27*C27*$B$16 -> 25776162
A28: Educador-a Especial | B28: 1 | C28: 3018015 | D28: =B28*C28*$B$16 -> 27162135
A29: Educador-a Física | B29: 1 | C29: 2864018 | D29: =B29*C29*$B$16 -> 25776162
A30: Enfermera/o Profesional | B30: 1 | C30: 2858168 | D30: =B30*C30*$B$16 -> 25723512
A31: Nutricionista | B31: 1 | C31: 2864018 | D31: =B31*C31*$B$16 -> 25776162
A32: Tecnólogo en alimentos o gastrónomo-a | B32: 1 | C32: 1929738 | D32: =B32*C32*$B$16 -> 17367642
A33: Tallerista | B33: 1 | C33: 2047426 | D33: =B33*C33*$B$16 -> 18426834
A34: Auxiliar de enfermería | B34: 4 | C34: 2341625 | D34: =B34*C34*$B$16 -> 84298500
... A37: Servicios Generales | B37: 2 | C37: 1608393 | D37: =B37*C37*$B$16 -> 28951074
A38: Transporte | C38: 17425689 | D38: =C38*$B$16 -> 156831201
A39: Vigilancia | C39: 7615622 | D39: =C39*$B$16 -> 68540598
A40: Aseo Institucional | C40: 1860678 | D40: =C40*$B$16 -> 16746102
A41: Espacios Físicos Funcionales* | C41: 6297277 | D41: =C41*$B$16 -> 56675493
A42: SUBTOTAL COSTOS FIJO | D42: =SUM(D23:D41) -> 723983868
A43: COSTOS VARIABLES
A44: Bienes Consumibles** | C44: 3817588 | D44: =C44*$B$16 -> 34358292
A45: Alimentos | C45: 13306036 | D45: =C45*$B$16 -> 119754324
A46: SUBTOTAL COSTOS VARIABLES | D46: =SUM(D44:D45) -> 154112616
A47: Este costo se reconocerá una vez se entregue el bien
A48: COSTOS POR REALIZACIÓN
A49: Piezas comunicativas | C49: 1089795 | D49: =C49 -> 1089795
A50: Desgaste y uso de los bienes muebles no consumibles | C50: 4530722 | D50: =C50 -> 4530722
A51: Bienes no Consumibles*** | C51: 12751812 | D51: =C51 -> 12751812
A52: SUBTOTAL COSTOS POR REALIZACIÓN | D52: =SUM(D49:D51) -> 18372329
A53: TOTAL | D53: =D42+D46+D52 -> 896468813
A54: Este grupo deberá estar ubicado en algunas de las siguientes localidades: Usme, San Cristóbal Santa Fe, Candelaria y Mártires.
A55: Para conocer el detalle de los elementos que componen cada rubro presupuestal, remitirse al anexo técnico
A56: *Espacio Físicos Funcionales: este rubro presupuestal esta compuesto por: Arrendamiento, Servicios Públicos, Gestión Ambiental y mantenimiento
A57: **Bienes consumibles comprende: Papelería requerida para el desarrollo de los talleres, primeros auxilios y gestión Documental y Aseo personal
A58: *** Bienes no consumibles comprende: Aceites esenciales, Juegos de mesa, Parqués, Dóminos, Loterías, Juego de Bolos, Rompecabezas, Juegos de encajar figuras geométricas, Rana con tablero y argollas, Ajedrez, Juegos de Ensartado, balones, Lazos, Aros hula hula, Conos plásticos, entre otros elementos que se encuentran descritos en el anexo técnico
A61: Atentamente,
A63: Nombre o Razón Social del Proponente:
A65: NIT
A66: Nombre del Representante Legal:
A67: C.C. No. De
A68: Dirección Comercial del Proponente
A69: Teléfonos
... A75: NOMBRE DE QUIEN FIRMA:

Sheet GRUPO 8  DE 54
B1: PROCESO ADQUISICIONES COMPROMISO DE APORTE ADICIONAL EN DINERO O ESPECIE | F1: Código:
F2: Versión: 0
F3: Fecha:
F4: Página: 1 de 1
A6: Estructura de costos | B6: INTEGRARTE EXTERNO
A7: Proyecto Encargado | B7: Proyecto 1113 "Por una ciudad incluyente y sin barreras"
A8: Fecha Solicitud
A9: Yo, __________________, identificado con _____________, en mi condición de Representante Legal de (Razón social de la ESAL) identificada con Nit ________, para el presente proceso competitivo, me comprometo a ofrecer el siguiente aporte mínimo establecido en la Invitación, así:
A13: GRUPO 8 | C13: OBJETO
C14: Prestar servicios sociales de atención externa en centros integrarte a personas mayores de 18 años con discapacidad intelectual o cognitiva, o discapacidad múltiple asociada a cognitiva, promoviendo sus procesos de inclusión a través del fortalecimiento de sus habilidades individuales, familiares y de entorno y territorio.
A15: CUPO 54
A16: TIEMPO DE EJECUCION: 9 MESES | B16: 9
A18: CONCEPTOS DE LA ESTRUCTURA | B18: CANTIDAD | C18: VALOR UNITARIO MENSUAL | D18: VALOR TOTAL | E18: VALOR DE LOS APORTES
E20: SDIS | F20: PROPONENTE
F21: VALOR EN ESPECIE | G21: VALOR EN DINERO
A22: COSTOS FIJOS
A23: Coordinador-a de Centro | B23: 1 | C23: 4070164 | D23: =B23*C23*$B$16 -> 36631476
A24: Psicóloga-o | B24: 1 | C24: 2864018 | D24: =B24*C24*$B$16 -> 25776162
A25: Trabajadora Social | B25: 1 | C25: 2864018 | D25: =B25*C25*$B$16 -> 25776162
A26: Terapeuta Ocupacional | B26: 1 | C26: 2864018 | D26: =B26*C26*$B$16 -> 25776162
A27: Terapeuta Física | B27: 1 | C27: 2864018 | D27: =B27*C27*$B$16 -> 25776162
A28: Educador-a Especial | B28: 1 | C28: 3018015 | D28: =B28*C28*$B$16 -> 27162135
A29: Educador-a Física | B29: 1 | C29: 2864018 | D29: =B29*C29*$B$16 -> 25776162
A30: Enfermera/o Profesional | B30: 1 | C30: 2858168 | D30: =B30*C30*$B$16 -> 25723512
A31: Nutricionista | B31: 1 | C31: 2864018 | D31: =B31*C31*$B$16 -> 25776162
A32: Tecnólogo en alimentos o gastrónomo-a | B32: 1 | C32: 1929738 | D32: =B32*C32*$B$16 -> 17367642
A33: Tallerista | B33: 1 | C33: 2047426 | D33: =B33*C33*$B$16 -> 18426834
A34: Auxiliar de enfermería | B34: 4 | C34: 2341625 | D34: =B34*C34*$B$16 -> 84298500
... A37: Servicios Generales | B37: 2 | C37: 1608393 | D37: =B37*C37*$B$16 -> 28951074
A38: Transporte | C38: 17425689 | D38: =C38*$B$16 -> 156831201
A39: Vigilancia | C39: 7615622 | D39: =C39*$B$16 -> 68540598
A40: Aseo Institucional | C40: 1860678 | D40: =C40*$B$16 -> 16746102
A41: Espacios Físicos Funcionales* | C41: 5879360 | D41: =C41*$B$16 -> 52914240
A42: SUBTOTAL COSTOS FIJO | D42: =SUM(D23:D41) -> 720222615
A43: COSTOS VARIABLES
A44: Bienes Consumibles** | C44: 3817588 | D44: =C44*$B$16 -> 34358292
A45: Alimentos | C45: 13306036 | D45: =C45*$B$16 -> 119754324
A46: SUBTOTAL COSTOS VARIABLES | D46: =SUM(D44:D45) -> 154112616
A47: Este costo se reconocerá una vez se entregue el bien
A48: COSTOS POR REALIZACIÓN
A49: Piezas comunicativas | C49: 1089795 | D49: =C49 -> 1089795
A50: Desgaste y uso de los bienes muebles no consumibles | C50: 4530722 | D50: =C50 -> 4530722
A51: Bienes no Consumibles*** | C51: 12751812 | D51: =C51 -> 12751812
A52: SUBTOTAL COSTOS POR REALIZACIÓN | D52: =SUM(D49:D51) -> 18372329
A53: TOTAL | D53: =D42+D46+D52 -> 892707560
A54: Este grupo deberá estar ubicado en algunas de las siguientes localidades: Ciudad Bolívar, Rafael Uribe Uribe y Bosa.
A55: Para conocer el detalle de los elementos que componen cada rubro presupuestal, remitirse al anexo técnico
A56: *Espacio Físicos Funcionales: este rubro presupuestal esta compuesto por: Arrendamiento, Servicios Públicos, Gestión Ambiental y mantenimiento
A57: **Bienes consumibles comprende: Papelería requerida para el desarrollo de los talleres, primeros auxilios y gestión Documental y Aseo personal
A58: *** Bienes no consumibles comprende: Aceites esenciales, Juegos de mesa, Parqués, Dóminos, Loterías, Juego de Bolos, Rompecabezas, Juegos de encajar figuras geométricas, Rana con tablero y argollas, Ajedrez, Juegos de Ensartado, balones, Lazos, Aros hula hula, Conos plásticos, entre otros elementos que se encuentran descritos en el anexo técnico
A61: Atentamente,
A63: Nombre o Razón Social del Proponente:
A65: NIT
A66: Nombre del Representante Legal:
A67: C.C. No. De
A68: Dirección Comercial del Proponente
A69: Teléfonos
... A75: NOMBRE DE QUIEN FIRMA:

Sheet GRUPO 9  DE 54 
B1: PROCESO ADQUISICIONES COMPROMISO DE APORTE ADICIONAL EN DINERO O ESPECIE | F1: Código:
F2: Versión: 0
F3: Fecha:
F4: Página: 1 de 1
A6: Estructura de costos | B6: INTEGRARTE EXTERNO
A7: Proyecto Encargado | B7: Proyecto 1113 "Por una ciudad incluyente y sin barreras"
A8: Fecha Solicitud
A9: Yo, __________________, identificado con _____________, en mi condición de Representante Legal de (Razón social de la ESAL) identificada con Nit ________, para el presente proceso competitivo, me comprometo a ofrecer el siguiente aporte mínimo establecido en la Invitación, así:
A13: GRUPO 9 | C13: OBJETO
C14: Prestar servicios sociales de atención externa en centros integrarte a personas mayores de 18 años con discapacidad intelectual o cognitiva, o discapacidad múltiple asociada a cognitiva, promoviendo sus procesos de inclusión a través del fortalecimiento de sus habilidades individuales, familiares y de entorno y territorio.
A15: CUPO 54
A16: TIEMPO DE EJECUCION: 9 MESES | B16: 9
A18: CONCEPTOS DE LA ESTRUCTURA | B18: CANTIDAD | C18: VALOR UNITARIO MENSUAL | D18: VALOR TOTAL | E18: VALOR DE LOS APORTES
E20: SDIS | F20: PROPONENTE
F21: VALOR EN ESPECIE | G21: VALOR EN DINERO
A22: COSTOS FIJOS
A23: Coordinador-a de Centro | B23: 1 | C23: 4070164 | D23: =B23*C23*$B$16 -> 36631476
A24: Psicóloga-o | B24: 1 | C24: 2864018 | D24: =B24*C24*$B$16 -> 25776162
A25: Trabajadora Social | B25: 1 | C25: 2864018 | D25: =B25*C25*$B$16 -> 25776162
A26: Terapeuta Ocupacional | B26: 1 | C26: 2864018 | D26: =B26*C26*$B$16 -> 25776162
A27: Terapeuta Física | B27: 1 | C27: 2864018 | D27: =B27*C27*$B$16 -> 25776162
A28: Educador-a Especial | B28: 1 | C28: 3018015 | D28: =B28*C28*$B$16 -> 27162135
A29: Educador-a Física | B29: 1 | C29: 2864018 | D29: =B29*C29*$B$16 -> 25776162
A30: Enfermera/o Profesional | B30: 1 | C30: 2858168 | D30: =B30*C30*$B$16 -> 25723512
A31: Nutricionista | B31: 1 | C31: 2864018 | D31: =B31*C31*$B$16 -> 25776162
A32: Tecnólogo en alimentos o gastrónomo-a | B32: 1 | C32: 1929738 | D32: =B32*C32*$B$16 -> 17367642
A33: Tallerista | B33: 1 | C33: 2047426 | D33: =B33*C33*$B$16 -> 18426834
A34: Auxiliar de enfermería | B34: 4 | C34: 2341625 | D34: =B34*C34*$B$16 -> 84298500
... A37: Servicios Generales | B37: 2 | C37: 1608393 | D37: =B37*C37*$B$16 -> 28951074
A38: Transporte | C38: 17425689 | D38: =C38*$B$16 -> 156831201
A39: Vigilancia | C39: 7615622 | D39: =C39*$B$16 -> 68540598
A40: Aseo Institucional | C40: 1860678 | D40: =C40*$B$16 -> 16746102
A41: Espacios Físicos Funcionales* | C41: 5879360 | D41: =C41*$B$16 -> 52914240
A42: SUBTOTAL COSTOS FIJO | D42: =SUM(D23:D41) -> 720222615
A43: COSTOS VARIABLES
A44: Bienes Consumibles** | C44: 3817588 | D44: =C44*$B$16 -> 34358292
A45: Alimentos | C45: 13306036 | D45: =C45*$B$16 -> 119754324
A46: SUBTOTAL COSTOS VARIABLES | D46: =SUM(D44:D45) -> 154112616
A47: Este costo se reconocerá una vez se entregue el bien
A48: COSTOS POR REALIZACIÓN
A49: Piezas comunicativas | C49: 1089795 | D49: =C49 -> 1089795
A50: Desgaste y uso de los bienes muebles no consumibles | C50: 4530722 | D50: =C50 -> 4530722
A51: Bienes no Consumibles*** | C51: 12751812 | D51: =C51 -> 12751812
A52: SUBTOTAL COSTOS POR REALIZACIÓN | D52: =SUM(D49:D51) -> 18372329
A53: TOTAL | D53: =D42+D46+D52 -> 892707560
A54: Este grupo deberá estar ubicado en algunas de las siguientes localidades: Suba, Usaquén, Engativá.
A55: Para conocer el detalle de los elementos que componen cada rubro presupuestal, remitirse al anexo técnico
A56: *Espacio Físicos Funcionales: este rubro presupuestal esta compuesto por: Arrendamiento, Servicios Públicos, Gestión Ambiental y mantenimiento
A57: **Bienes consumibles comprende: Papelería requerida para el desarrollo de los talleres, primeros auxilios y gestión Documental y Aseo personal
A58: *** Bienes no consumibles comprende: Aceites esenciales, Juegos de mesa, Parqués, Dóminos, Loterías, Juego de Bolos, Rompecabezas, Juegos de encajar figuras geométricas, Rana con tablero y argollas, Ajedrez, Juegos de Ensartado, balones, Lazos, Aros hula hula, Conos plásticos, entre otros elementos que se encuentran descritos en el anexo técnico
A61: Atentamente,
A63: Nombre o Razón Social del Proponente:
A65: NIT
A66: Nombre del Representante Legal:
A67: C.C. No. De
A68: Dirección Comercial del Proponente
A69: Teléfonos
... A75: NOMBRE DE QUIEN FIRMA:

Sheet GRUPO 10 DE 54
B1: PROCESO ADQUISICIONES COMPROMISO DE APORTE ADICIONAL EN DINERO O ESPECIE | F1: Código:
F2: Versión: 0
F3: Fecha:
F4: Página: 1 de 1
A6: Estructura de costos | B6: INTEGRARTE EXTERNO
A7: Proyecto Encargado | B7: Proyecto 1113 "Por una ciudad incluyente y sin barreras"
A8: Fecha Solicitud
A9: Yo, __________________, identificado con _____________, en mi condición de Representante Legal de (Razón social de la ESAL) identificada con Nit ________, para el presente proceso competitivo, me comprometo a ofrecer el siguiente aporte mínimo establecido en la Invitación, así:
A13: GRUPO 10 | C13: OBJETO
C14: Prestar servicios sociales de atención externa en centros integrarte a personas mayores de 18 años con discapacidad intelectual o cognitiva, o discapacidad múltiple asociada a cognitiva, promoviendo sus procesos de inclusión a través del fortalecimiento de sus habilidades individuales, familiares y de entorno y territorio.
A15: CUPO 54
A16: TIEMPO DE EJECUCION: 9 MESES | B16: 9
A18: CONCEPTOS DE LA ESTRUCTURA | B18: CANTIDAD | C18: VALOR UNITARIO MENSUAL | D18: VALOR TOTAL | E18: VALOR DE LOS APORTES
E20: SDIS | F20: PROPONENTE
F21: VALOR EN ESPECIE | G21: VALOR EN DINERO
A22: COSTOS FIJOS
A23: Coordinador-a de Centro | B23: 1 | C23: 4070164 | D23: =B23*C23*$B$16 -> 36631476
A24: Psicóloga-o | B24: 1 | C24: 2864018 | D24: =B24*C24*$B$16 -> 25776162
A25: Trabajadora Social | B25: 1 | C25: 2864018 | D25: =B25*C25*$B$16 -> 25776162
A26: Terapeuta Ocupacional | B26: 1 | C26: 2864018 | D26: =B26*C26*$B$16 -> 25776162
A27: Terapeuta Física | B27: 1 | C27: 2864018 | D27: =B27*C27*$B$16 -> 25776162
A28: Educador-a Especial | B28: 1 | C28: 3018015 | D28: =B28*C28*$B$16 -> 27162135
A29: Educador-a Física | B29: 1 | C29: 2864018 | D29: =B29*C29*$B$16 -> 25776162
A30: Enfermera/o Profesional | B30: 1 | C30: 2858168 | D30: =B30*C30*$B$16 -> 25723512
A31: Nutricionista | B31: 1 | C31: 2864018 | D31: =B31*C31*$B$16 -> 25776162
A32: Tecnólogo en alimentos o gastrónomo-a | B32: 1 | C32: 1929738 | D32: =B32*C32*$B$16 -> 17367642
A33: Tallerista | B33: 1 | C33: 2047426 | D33: =B33*C33*$B$16 -> 18426834
A34: Auxiliar de enfermería | B34: 4 | C34: 2341625 | D34: =B34*C34*$B$16 -> 84298500
... A37: Servicios Generales | B37: 2 | C37: 1608393 | D37: =B37*C37*$B$16 -> 28951074
A38: Transporte | C38: 17425689 | D38: =C38*$B$16 -> 156831201
A39: Vigilancia | C39: 7615622 | D39: =C39*$B$16 -> 68540598
A40: Aseo Institucional | C40: 1860678 | D40: =C40*$B$16 -> 16746102
A41: Espacios Físicos Funcionales* | C41: 5879360 | D41: =C41*$B$16 -> 52914240
A42: SUBTOTAL COSTOS FIJO | D42: =SUM(D23:D41) -> 720222615
A43: COSTOS VARIABLES
A44: Bienes Consumibles** | C44: 3817588 | D44: =C44*$B$16 -> 34358292
A45: Alimentos | C45: 13306036 | D45: =C45*$B$16 -> 119754324
A46: SUBTOTAL COSTOS VARIABLES | D46: =SUM(D44:D45) -> 154112616
A47: Este costo se reconocerá una vez se entregue el bien
A48: COSTOS POR REALIZACIÓN
A49: Piezas comunicativas | C49: 1089795 | D49: =C49 -> 1089795
A50: Desgaste y uso de los bienes muebles no consumibles | C50: 4530722 | D50: =C50 -> 4530722
A51: Bienes no Consumibles*** | C51: 12751812 | D51: =C51 -> 12751812
A52: SUBTOTAL COSTOS POR REALIZACIÓN | D52: =SUM(D49:D51) -> 18372329
A53: TOTAL | D53: =D42+D46+D52 -> 892707560
A54: Este grupo deberá estar ubicado en algunas de las siguientes localidades: Kennedy, Rafael Uribe Uribe, San Cristóbal, Bosa y Ciudad Bolívar.
A55: Para conocer el detalle de los elementos que componen cada rubro presupuestal, remitirse al anexo técnico
A56: *Espacio Físicos Funcionales: este rubro presupuestal esta compuesto por: Arrendamiento, Servicios Públicos, Gestión Ambiental y mantenimiento
A57: **Bienes consumibles comprende: Papelería requerida para el desarrollo de los talleres, primeros auxilios y gestión Documental y Aseo personal
A58: *** Bienes no consumibles comprende: Aceites esenciales, Juegos de mesa, Parqués, Dóminos, Loterías, Juego de Bolos, Rompecabezas, Juegos de encajar figuras geométricas, Rana con tablero y argollas, Ajedrez, Juegos de Ensartado, balones, Lazos, Aros hula hula, Conos plásticos, entre otros elementos que se encuentran descritos en el anexo técnico
A61: Atentamente,
A63: Nombre o Razón Social del Proponente:
A65: NIT
A66: Nombre del Representante Legal:
A67: C.C. No. De
A68: Dirección Comercial del Proponente
A69: Teléfonos
... A75: NOMBRE DE QUIEN FIRMA:

Sheet PRESUPUESTO
B2: GRUPOS | C2: COBERTURA | D2: COSTO TOTAL
B3: 1 | C3: 60 | D3: ='GRUPO 1 DE 60 '!D50 -> 790413452
B4: 2 | C4: 60 | D4: ='GRUPO 2 DE 60 '!D50 -> 790413452
B5: 3 | C5: 65 | D5: ='GRUPO 3 DE 65'!D50 -> 793547819
B6: 4 | C6: 55 | D6: ='GRUPO 4 DE 55'!D50 -> 787279076
B7: 5 | C7: 52 | D7: ='GRUPO 5 DE 52'!D53 -> 891453815
B8: 6 | C8: 58 | D8: ='GRUPO 6 DE 58'!D53 -> 895215059
B9: 7 | C9: 61 | D9: ='GRUPO 7 DE 60'!D53 -> 896468813
B10: 8 | C10: 54 | D10: ='GRUPO 8 DE 54'!D53 -> 892707560
B11: 9 | C11: 54 | D11: ='GRUPO 9 DE 54 '!D53 -> 892707560
B12: 10 | C12: 54 | D12: ='GRUPO 10 DE 54'!D53 -> 892707560
B13: PRESUPUESTO TOTAL | D13: =SUM(D3:D12) -> 8522914166
