Workbook

Sheet EVALUACIONES
A1: PROCESO DE CONTRATACION DE MINIMA CUANTIA MC 026 DE 2022
A2: "SUMINISTRO DE SERVICIO DE RESTAURANTE Y OPERACIÓN LOGÍSTICA (DESAYUNOS, ALMUERZOS, COMIDAS, BEBIDAS DE CAFETERÍA, REFRIGERIOS Y SUVENIRES) INCLUIDO EL SERVICIO DE CATERING CUANDO SE REQUIERA, PARA ATENDER LAS REUNIONES DE TRABAJO Y CONMEMORACIÓN DE CELEBRACIONES IMPORTANTES, EN EL MARCO DEL PLAN DE BIENESTAR LABORAL"
D4: PRESUPUESTO OFICIAL | E4: 24000000
A7: # | B7: OFERENTE | C7: NIT/CC | D7: OFERTA | E7: CRITERIO | F7: OBSERVACIONES
A8: 1 | B8: INGENIERIA INTEGRAL DE SERVICIOS | C8: 900505283 | D8: 190600 | E8: =INGENIERIAINTEGRAL!E38 -> CUMPLE | F8: =VLRMINIMO!D7 -> #REF!
A9: 2 | B9: M&F | C9: 900411336 | D9: 213050
A10: 3 | B10: FUNDACION ABRIENDO CAMINOS | C10: 900523724 | D10: 235150
B12: PRECIO MÁS BAJO | C12: =MIN(D8:D10) -> 190600
A18: RODRIGO FRANCO FRANCO
A19: SECRETARIO ADMINISTRATIVO Y FINANCIERO
A20: MIEMBRO DEL COMITÉ EVALUADOR
A22: Proyectó: Eduard Felipe Mejía Pineda, Contratista

Sheet VLRMINIMO
A1: =EVALUACIONES!A1 -> PROCESO DE CONTRATACION DE MINIMA CUANTIA MC 026 DE 2022
A2: =EVALUACIONES!A2 -> "SUMINISTRO DE SERVICIO DE RESTAURANTE Y OPERACIÓN LOGÍSTICA (DESAYUNOS, ALMUERZOS, COMIDAS, BEBIDAS DE CAFETERÍA, REFRIGERIOS Y SUVENIRES) INCLUIDO EL SERVICIO DE CATERING CUANDO SE REQUIERA, PARA ATENDER LAS REUNIONES DE TRABAJO Y CONMEMORACIÓN DE CELEBRACIONES IMPORTANTES, EN EL MARCO DEL PLAN DE BIENESTAR LABORAL"
B4: OFERTAS | C4: VALORES | D4: CRITERIO
A5: 1 | B5: FUNDACION ABRIENDO CAMINOS | C5: 235150 | D5: =IF(C5>=$C$10,"NO SOLICITAR ACLARACION", "SOLICITAR ACLARACION") -> #REF!
A6: 3 | B6: M&F | C6: 213050 | D6: =IF(C6>=$C$10,"NO SOLICITAR ACLARACION", "SOLICITAR ACLARACION") -> #REF!
A7: 2 | B7: INGENIERIA INTEGRAL DE SERVICIOS | C7: 190600 | D7: =IF(C7>=$C$10,"NO SOLICITAR ACLARACION", "SOLICITAR ACLARACION") -> #REF!
B9: PRECIO TECHO PROCESO | C9: =#REF! -> #REF!
B10: VALOR MÍNIMO ACEPTABLE | C10: =C9*0.8 -> #REF!
B14: RODRIGO FRANCO FRANCO
B15: SECRETARIO ADMINISTRATIVO Y FINANCIERO
B16: MIEMBRO DEL COMITÉ EVALUADOR
B18: Proyectó: Eduard Felipe Mejía Pineda, Contratista

Sheet INGENIERIAINTEGRAL
A1: =EVALUACIONES!A1 -> PROCESO DE CONTRATACION DE MINIMA CUANTIA MC 026 DE 2022
A2: =EVALUACIONES!A2 -> "SUMINISTRO DE SERVICIO DE RESTAURANTE Y OPERACIÓN LOGÍSTICA (DESAYUNOS, ALMUERZOS, COMIDAS, BEBIDAS DE CAFETERÍA, REFRIGERIOS Y SUVENIRES) INCLUIDO EL SERVICIO DE CATERING CUANDO SE REQUIERA, PARA ATENDER LAS REUNIONES DE TRABAJO Y CONMEMORACIÓN DE CELEBRACIONES IMPORTANTES, EN EL MARCO DEL PLAN DE BIENESTAR LABORAL"
C3: OFERENTE | D3: =EVALUACIONES!B9 -> M&F | E3: CC/NIT | F3: =EVALUACIONES!C9 -> 900411336
A5: TIPO DE ALIMENTACIÓN | B5: OPCIÓN | C5: VALOR UNITARIO OFERTA | D5: VALOR UNITARIO PROCESO | E5: CRITERIO | F5: OBSERVACIÓN
A6: DESAYUNO | B6: Crepes de jamón y queso | C6: 6050 | D6: 8250 | E6: =IF(C6<=D6,"CUMPLE","NO CUMPLE") -> CUMPLE
B7: Huevos al gusto con arepa, pan y queso | C7: 6050 | D7: 8250 | E7: =IF(C7<=D7,"CUMPLE","NO CUMPLE") -> CUMPLE
B8: Calentado con carne, con arepa, pan y queso | C8: 10950 | D8: 15000 | E8: =IF(C8<=D8,"CUMPLE","NO CUMPLE") -> CUMPLE
B9: Calentado con arepa | C9: 6050 | D9: 8250 | E9: =IF(C9<=D9,"CUMPLE","NO CUMPLE") -> CUMPLE
B10: Liquido: Café, chocolate con o sin leche o jugo natural | C10: 2750 | D10: 3750 | E10: =IF(C10<=D10,"CUMPLE","NO CUMPLE") -> CUMPLE
B11: Porción de fruta variada | C11: 3450 | D11: 4750 | E11: =IF(C11<=D11,"CUMPLE","NO CUMPLE") -> CUMPLE
A12: ALMUERZOS Y/O CENAS | B12: Guarniciones: Pure de papa, papa a la francesa, yuca frita, plátano maduro, patacón o pan (90 gramos) | C12: 11350 | D12: 15500 | E12: =IF(C12<=D12,"CUMPLE","NO CUMPLE") -> CUMPLE
B13: Acompañamientos: Blanquillos, frijoles, garbanzos, pastas en salsa roja o blanca, lentejas o arvejas (110 a 130 gramos)
B14: Arroces: Blanco, verde, negro o con vegetales (130 gramos)
B15: Proteínas: Carne de res, cerdo o pollo a la plancha, chicharrón, albóndigas, hígado a la plancha o encebollado, chorizo o carne molida (150 gms)
B16: Sopas: De verduras, de pastas, consomé, crema de tomate, crema de zanahoria, crema de ahuyama, crema de champiñones, crema de espinaca o sopa de plátano (300 ml)
B17: Ensaladas: De repollo, de coditos, de remolacha, rusa, dulce, arcoíris, verde, de lechuga con mango, de aguacate o de atún (100 gms)
B18: Postres: Cocada, mini brownie, mini chocorramo o postre casero
B19: Líquidos: Jugo 100% natural o gaseosa (250 ml)
A20: OTROS | B20: Otros: Sopa de mondongo, ajiaco, sudado de pollo o boloñesa, mini bandeja paisa, capon o tamal (800 gms) | C20: 13500 | D20: 18500
B21: Postres: Cocada, mini brownie, mini chocorramo o postre casero
B22: Líquidos: Jugo 100% natural o gaseosa (250 ml)
A23: REFRIGERIOS | B23: OPCION
A24: SANDUCHE DE POLLO O JAMON Y QUESO | B24: Pan, lechuga, tomate, salsas, queso, cebolla, pepinillo (No inferior a 170 gramos) liquido 200 mililitros | C24: 6750 | D24: 9250 | E24: =IF(C24<=D24,"CUMPLE","NO CUMPLE") -> CUMPLE
A25: HAMBURGUESA DE RES | B25: Pan redondo, tomate, lechuga, queso, ensalada, salsa, cebolla, tocineta, huevo de codorniz y paquete de papas. (No inferior a 250 gramos). Liquido 200 ml. | C25: 10750 | D25: 14750 | E25: =IF(C25<=D25,"CUMPLE","NO CUMPLE") -> CUMPLE
A26: HAMBURGUESA DE RES CON PAPA A LA FRANCESA | B26: Pan redondo, tomate, lechuga, queso, ensalada, salsa, cebolla, tocineta, huevo de codorniz (No inferior a 350 gramos) Liquido 200 mililitros | C26: 13150 | D26: 18000 | E26: =IF(C26<=D26,"CUMPLE","NO CUMPLE") -> CUMPLE
A27: SUIZA (OPCION 1) | B27: Con tomate y lechuga, ensalada y papas (criolla o paquete) (No inferior a 170 gramos) liquido 200 militros | C27: 5950 | D27: 8200 | E27: =IF(C27<=D27,"CUMPLE","NO CUMPLE") -> CUMPLE
A28: SUIZA (OPCION 2) | B28: Con tomate, lechuga y papa a la francesa (No inferior a 250 gramos (Liquido 200 mililitros | C28: 13850 | D28: 19000 | E28: =IF(C28<=D28,"CUMPLE","NO CUMPLE") -> CUMPLE
A29: SUPER PERRO | B29: Suiza, huevo de codorniz y ripio de papa, salsas (No inferior a 150 gramos) líquido 200 mililitros | C29: 10550 | D29: 14500 | E29: =IF(C29<=D29,"CUMPLE","NO CUMPLE") -> CUMPLE
A30: AREPA CON CARNE Y QUESO | B30: No inferior a 200 gramos y liquido de 200 mililitros | C30: 6750 | D30: 9250 | E30: =IF(C30<=D30,"CUMPLE","NO CUMPLE") -> CUMPLE
A31: PORCION DE PIZZA | B31: (Hawaiana o carnes) No inferior a 170 gramos y líquido de 200 militros. | C31: 8400 | D31: 11500 | E31: =IF(C31<=D31,"CUMPLE","NO CUMPLE") -> CUMPLE
A32: PATACON | B32: Con carne, pollo y queso. No inferior a 200 gramos y líquido a 200 mililitros. | C32: 10950 | D32: 15000 | E32: =IF(C32<=D32,"CUMPLE","NO CUMPLE") -> CUMPLE
A33: PORCION DE TORTA O POSTRE | B33: Porción de torta o postre de 150 gr personalizado según la fecha a conmemorar | C33: 4550 | D33: 6250 | E33: =IF(C33<=D33,"CUMPLE","NO CUMPLE") -> CUMPLE
A34: SUVENIRES
A35: TIPO | B35: OPCION
A36: HOMBRE | B36: Ancheta de dulces, chocolates de 80 gr personalizado, articulo de uso personal. | C36: 19400 | D36: 26500 | E36: =IF(C36<=D36,"CUMPLE","NO CUMPLE") -> CUMPLE
A37: MUJER | B37: Ancheta de dulces, chocolates de 80 gr personalizado, articulo de uso personal. | C37: 19400 | D37: 26500 | E37: =IF(C37<=D37,"CUMPLE","NO CUMPLE") -> CUMPLE
A38: TOTAL | C38: =SUM(C6:C37) -> 190600 | D38: =SUM(D6:D37) -> 260950 | E38: =IF(C38<=D38,"CUMPLE","NO CUMPLE") -> CUMPLE
