Workbook

Sheet PRESUPUESTO OFICIAL
C3: INSTITUTO FINANCIERO PARA EL DESARROLLO DE SANTANDER
C4: MINIMA CUANTÍA
C5: IDE-MC-04-2022
C7: ATENCIÓN DEL SECTOR DE VILLAS DE SAN IGNACIO (PR 18+800) EN EL TRAMO 4 CARGO DEL INSTITUTO FINANCIERO PARA EL DESARROLLO DE SANTANDER – IDESAN
C9: PRESUPUESTO OFICIAL
C12: TRATAMIENTO SUPERFICIAL (ATENCIÓN DE PUNTO CRÍTICO)
C15: CONVENIO 1113/2016: TRAMO 2: Sector comprendido entre la Intersección T del Aeropuerto (PR 63+800 Ruta 6602) y el municipio de Lebrija (PR 60+000 Ruta 6602); TRAMO 3: Sector comprendido entre la intersección T del Aeropuerto (PR 63+800 Ruta 6602) y el Aeropuerto de Palonegro de Bucaramanga; TRAMO 4: Sector comprendido entre la Intersección de Palenque comprendida la totalidad de la Intersección (PR 71+310 de la Ruta 6602 ó PR 10+100 de la Ruta 45 A ST 08) hasta Café Madrid (PR 19+300 de la Ruta 45 AST 08); TRAMO 5: Sector comprendido entre Café Madrid (PR19+300 de la Ruta 45 AST 08) y la Intersección La Cemento (PR0+300 Ruta 45A08), incluyendo toda la intersección; TRAMO 6A: Sector comprendido entre el Puente La Cemento (PR 0+000 de la ruta 45A 08) y la intersección La Cemento (PR 0+300 Ruta 45A08); TRAMO 6B: Sector comprendido entre el CAI La Virgen (Bucaramanga cruce Carrera 15 Calle 3) y la intersección La Cemento (PR0+300 Ruta 45A08); TRAMO 7: Sector comprendido entre la intersección La Cemento (PR 0+300 Ruta 45A08) y El Cero (PR 11+150 Ruta 45A08); TRAMO 9: Sector comprendido entre El Cero (PR 11+150 Ruta 45A08) y el municipio de Rionegro (PR 18+000 Ruta 45A08).
C17: No. | D17: ÍTEM DE PAGO | E17: ESPECIFICACIONES | G17: DESCRIPCIÓN | H17: UNID | I17: CANTIDAD | J17: VALOR UNITARIO | K17: VALOR TOTAL
E18: ESPECIFICACIÓN GENERAL | F18: ESPECIFICACIÓN PARTICULAR
C20: I - EXPLANACIONES
C21: 1 | D21: 201.7 | E21: 201-13 | G21: DEMOLICION ESTRUCTURAS | H21: m3 | I21: =20*7*0.2 -> 28 | J21: ='201.7'!L88 -> 227043.22 | K21: =I21*J21 -> 6357210.2
C22: II - SUBBASES, BASES Y AFIRMADOS
C23: 2 | D23: 310.1 | E23: 310-13 | G23: CONFORMACIÓN DE LA CALZADA EXISTENTE | H23: m2 | I23: =50*7 -> 350 | J23: ='310.1'!L88 -> 1277.6 | K23: =I23*J23 -> 447160
C24: 3 | D24: 320.1 | E24: 320-13 | G24: SUBBASE GRANULAR CLASE A | H24: m3 | I24: =40*7*0.2 -> 56 | J24: ='320.1'!L88 -> 142598 | K24: =I24*J24 -> 7985488
C25: 4 | D25: 330.1 | E25: 330-13 | G25: BASE GRANULAR CLASE A | H25: m3 | I25: =40*7*0.15 -> 42 | J25: ='330.1'!L88 -> 200039.28 | K25: =I25*J25 -> 8401649.6
C26: III - PAVIMENTOS ASFALTICOS
C27: 5 | D27: 420.2 | E27: 420-13 | G27: RIEGO DE IMPRIMACIÓN CON EMULSIÓN ASFÁLTICA CRL -1 | H27: m2 | I27: =50*7 -> 350 | J27: ='420.2'!L88 -> 2164.2906 | K27: =I27*J27 -> 757501.71
C28: 6 | D28: 430.1 | E28: 430-13 | G28: TRATAMIENTO SUPERFICIAL SIMPLE CON EMULSIÓN CRR-2 GRADACIÓN 19 | H28: m2 | I28: =50*7 -> 350 | J28: =+'430.1.1'!L89 -> 10033.016 | K28: =+I28*J28 -> 3511555.5
E29: SUBTOTAL OBRAS | K29: =SUM(K21:K28) -> 27460565
G30: PROVISIÓN PARA AJUSTES | J30: NO MODIFICAR | K30: 239120
G31: VALOR TOTAL BÁSICO DE OBRA | K31: =K29+K30 -> 27699685
G32: VALOR IVA (OBRA) (19% SOBRE UTILIDAD OBRA) | K32: =ROUNDUP(((K31/1.3)*0.05)*0.19,0) -> 202421
G33: SUBTOTAL OBRAS INCLUYENDO IVA | K33: =ROUND(K31+K32,0) -> 27902106
E34: VALOR TOTAL MANTENIMIENTO PERIÓDICO | K34: =K33 -> 27902106 | M34: {=+[1]!NumLetra(K34)} -> veintisiete millones novecientos dos mil ciento seis pesos
C37: VALOR TOTAL DEL MANTENIMIENTO PERIODICO A LAS LOS TRAMOS SE ENCUENTRAN A CARGO DEL INSTITUTO FINANCIERO PARA EL DESARROLLO DE SANTANDER – IDESAN | K37: =K34 -> 27902106
C38: VALOR TOTAL EN LETRAS: | E38: CUATRO MIL DOSCIENTOS MILLONES SEISCIENTOS NUEVE MIL OCHOCIENTOS CUARENTA Y SEIS PESOS CON DOS CENTAVOS MCTE
C39: NOTA 1: Teniendo en cuenta el Manual de Señalización Vial - dispositivos uniformes para la regulación del tránsito en calles, carreteras y ciclorrutas de Colombia, adoptado mediante resolución No. 0001885 de 17 de junio de 2015 del Ministerio de Transporte, se aclara que el aparte de SEÑALIZACIÓN se debe ajustar a todo su contenido; ésta señalización debe colocarse desde la órden de iniciación del contrato. | H39: DESCRIPCIÓN | K39: PORCENTAJE
C40: NOTA 2: El control de tráfico temporal (controladores de trafico) y la señalización provisional necesarios para la ejecución de las obras será por cuenta y riesgo del contratista. | H40: ADMINISTRACIÓN | J40: A= | K40: 0.2
C41: NOTA 3: Se debe tener en cuenta que el PRECIO UNITARIO incluye el valor de AIU. | H41: IMPREVISTO | J41: I= | K41: 0.05
C42: NOTA 4: Cuando la fracción decimal del peso sea igual o superior a 5 se aproximará por exceso al número entero siguiente del peso y cuando la fracción decimal del peso sea inferior a 5 se aproximará por defecto al número entero del peso. | H42: UTILIDAD | J42: U= | K42: 0.05
C43: NOTA 5: El A.I.U. y su discriminación deben estar en porcentaje (%). | H43: TOTAL AIU | J43: AIU= | K43: 0.3
C44: NOTA 6: Los valores que aparecen fijos e inmodificables no podrán alterarse, de lo contrario, será causal de rechazo de la propuesta que hace parte integral del presente proceso, conforme el literal P, del numeral 1.15 del pliego de condiciones.

Sheet PROPUESTA ECONÓMICA
C3: INSTITUTO FINANCIERO PARA EL DESARROLLO DE SANTANDER
C4: MINIMA CUANTÍA
C5: XXXXXXXXXXXXXXXX
C7: ATENCIÓN DEL SECTOR DE VILLAS DE SAN IGNACIO (PR 18+800) EN EL TRAMO 4 CARGO DEL INSTITUTO FINANCIERO PARA EL DESARROLLO DE SANTANDER – IDESAN
C9: PRESUPUESTO OFICIAL
C12: TRATAMIENTO SUPERFICIAL (ATENCIÓN DE PUNTO CRÍTICO)
C15: CONVENIO 1113/2016: TRAMO 2: Sector comprendido entre la Intersección T del Aeropuerto (PR 63+800 Ruta 6602) y el municipio de Lebrija (PR 60+000 Ruta 6602); TRAMO 3: Sector comprendido entre la intersección T del Aeropuerto (PR 63+800 Ruta 6602) y el Aeropuerto de Palonegro de Bucaramanga; TRAMO 4: Sector comprendido entre la Intersección de Palenque comprendida la totalidad de la Intersección (PR 71+310 de la Ruta 6602 ó PR 10+100 de la Ruta 45 A ST 08) hasta Café Madrid (PR 19+300 de la Ruta 45 AST 08); TRAMO 5: Sector comprendido entre Café Madrid (PR19+300 de la Ruta 45 AST 08) y la Intersección La Cemento (PR0+300 Ruta 45A08), incluyendo toda la intersección; TRAMO 6A: Sector comprendido entre el Puente La Cemento (PR 0+000 de la ruta 45A 08) y la intersección La Cemento (PR 0+300 Ruta 45A08); TRAMO 6B: Sector comprendido entre el CAI La Virgen (Bucaramanga cruce Carrera 15 Calle 3) y la intersección La Cemento (PR0+300 Ruta 45A08); TRAMO 7: Sector comprendido entre la intersección La Cemento (PR 0+300 Ruta 45A08) y El Cero (PR 11+150 Ruta 45A08); TRAMO 9: Sector comprendido entre El Cero (PR 11+150 Ruta 45A08) y el municipio de Rionegro (PR 18+000 Ruta 45A08).
C17: No. | D17: ÍTEM DE PAGO | E17: ESPECIFICACIONES | G17: DESCRIPCIÓN | H17: UNID | I17: CANTIDAD | J17: VALOR UNITARIO | K17: VALOR TOTAL
E18: ESPECIFICACIÓN GENERAL | F18: ESPECIFICACIÓN PARTICULAR
C20: I - EXPLANACIONES
C21: 1 | D21: 201.7 | E21: 201-13 | G21: DEMOLICION ESTRUCTURAS | H21: m3 | I21: =20*7*0.2 -> 28
C22: II - SUBBASES, BASES Y AFIRMADOS
C23: 2 | D23: 310.1 | E23: 310-13 | G23: CONFORMACIÓN DE LA CALZADA EXISTENTE | H23: m2 | I23: =50*7 -> 350
C24: 3 | D24: 320.1 | E24: 320-13 | G24: SUBBASE GRANULAR CLASE A | H24: m3 | I24: =40*7*0.2 -> 56
C25: 4 | D25: 330.1 | E25: 330-13 | G25: BASE GRANULAR CLASE A | H25: m3 | I25: =40*7*0.15 -> 42
C26: III - PAVIMENTOS ASFALTICOS
C27: 5 | D27: 420.2 | E27: 420-13 | G27: RIEGO DE IMPRIMACIÓN CON EMULSIÓN ASFÁLTICA CRL -1 | H27: m2 | I27: =50*7 -> 350
C28: 6 | D28: 430.1 | E28: 430-13 | G28: TRATAMIENTO SUPERFICIAL SIMPLE CON EMULSIÓN CRR-2 GRADACIÓN 19 | H28: m2 | I28: =50*7 -> 350
E29: SUBTOTAL OBRAS | K29: =SUM(K21:K28) -> 0
G30: PROVISIÓN PARA AJUSTES | J30: NO MODIFICAR | K30: 239120
G31: VALOR TOTAL BÁSICO DE OBRA | K31: =K29+K30 -> 239120
G32: VALOR IVA (OBRA) (19% SOBRE UTILIDAD OBRA) | K32: =ROUNDUP(((K31/1.3)*0.05)*0.19,0) -> 1748
G33: SUBTOTAL OBRAS INCLUYENDO IVA | K33: =ROUND(K31+K32,0) -> 240868
E34: VALOR TOTAL MANTENIMIENTO PERIÓDICO | K34: =K33 -> 240868
C37: VALOR TOTAL DEL MANTENIMIENTO PERIODICO A LAS LOS TRAMOS SE ENCUENTRAN A CARGO DEL INSTITUTO FINANCIERO PARA EL DESARROLLO DE SANTANDER – IDESAN | K37: =K34 -> 240868
C38: VALOR TOTAL EN LETRAS: | E38: CUATRO MIL DOSCIENTOS MILLONES SEISCIENTOS NUEVE MIL OCHOCIENTOS CUARENTA Y SEIS PESOS CON DOS CENTAVOS MCTE
C39: NOTA 1: Teniendo en cuenta el Manual de Señalización Vial - dispositivos uniformes para la regulación del tránsito en calles, carreteras y ciclorrutas de Colombia, adoptado mediante resolución No. 0001885 de 17 de junio de 2015 del Ministerio de Transporte, se aclara que el aparte de SEÑALIZACIÓN se debe ajustar a todo su contenido; ésta señalización debe colocarse desde la órden de iniciación del contrato. | H39: DESCRIPCIÓN | K39: PORCENTAJE
C40: NOTA 2: El control de tráfico temporal (controladores de trafico) y la señalización provisional necesarios para la ejecución de las obras será por cuenta y riesgo del contratista. | H40: ADMINISTRACIÓN | J40: A= | K40: 0.2
C41: NOTA 3: Se debe tener en cuenta que el PRECIO UNITARIO incluye el valor de AIU. | H41: IMPREVISTO | J41: I= | K41: 0.05
C42: NOTA 4: Cuando la fracción decimal del peso sea igual o superior a 5 se aproximará por exceso al número entero siguiente del peso y cuando la fracción decimal del peso sea inferior a 5 se aproximará por defecto al número entero del peso. | H42: UTILIDAD | J42: U= | K42: 0.05
C43: NOTA 5: El A.I.U. y su discriminación deben estar en porcentaje (%). | H43: TOTAL AIU | J43: AIU= | K43: 0.3
C44: NOTA 6: Los valores que aparecen fijos e inmodificables no podrán alterarse, de lo contrario, será causal de rechazo de la propuesta que hace parte integral del presente proceso, conforme el literal P, del numeral 1.15 del pliego de condiciones.

Sheet 201.7
I1: CÓDIGO | J1: MINFRA-MN-IN-10-FR-1
B2: INSTITUTO FINANCIERO PARA EL DESARROLLO DE SANTANDER
B3: CONVENIO 1113/2016 | I3: VERSIÓN | J3: 1
B4: MANUAL DE INTERVENTORÍA OBRA PÚBLICA
B5: ANÁLISIS DE PRECIOS UNITARIOS | I5: PÁGINA | K5: DE
I8: FECHA
J9: (Día) | K9: (Mes) | L9: (Año)
A10: ITEMS DE LA PROPUESTA ECONÓMICA | G10: ITEMS NO PREVISTOS
A11: UNIDAD EJECUTORA: | B11: SRN | H11: DIRECCIÓN TERRITORIAL: | I11: SANTANDER
A14: CONTRATO No. | C14: DE
A15: OBJETO DEL CONTRATO: | B15: ATENCIÓN DEL SECTOR DE VILLAS DE SAN IGNACIO (PR 18+800) EN EL TRAMO 4 CARGO DEL INSTITUTO FINANCIERO PARA EL DESARROLLO DE SANTANDER – IDESAN
A18: CARRETERA: | H18: SECTOR:
A20: CONTRATISTA:
A22: INTERVENTOR: | I22: CTO No.: | K22: DE
A24: FECHA CIERRE PROCESO DE SELECCIÓN CONTRATO DE OBRA:
E25: (Día) | G25: (Mes) | H25: (Año)
A27: DATOS ESPECÍFICOS
A29: ITEM | B29: DESCRIPCIÓN | I29: GRUPO DE AJUSTE | J29: UNIDAD | L29: CANTIDAD
A30: 201.7 | B30: DEMOLICION ESTRUCTURAS | J30: m3
A32: I. EQUIPO
A34: DESCRIPCIÓN | G34: TIPO | I34: TARIFA/HORA | J34: RENDIMIENTO | L34: Vr. UNITARIO
A35: COMPRESOR 120 HP - CON MARTILLOS | I35: =104865.36*1.0562 -> 110758.79 | J35: 2.5 | L35: =+I35/J35 -> 44303.517
A36: EQUIPO DE OXICORTE, CAPACIDAD DE CORTE: HASTA 6" (152MM) | I36: =17127.7*1.0562 -> 18090.277 | J36: 2.5 | L36: =+I36/J36 -> 7236.1107
A37: RETROEXCAVADORA SOBRE ORUGA, POTENCIA 138 HP | I37: =187282.66*1.0562 -> 197807.95 | J37: 2.5 | L37: =+I37/J37 -> 79123.178
A38: HERRAMIENTA MENOR (10%MO) | L38: =0.1*L76 -> 1117.7083
A43: SUBTOTAL $ | L43: =SUM(L35:L42) -> 131780.51
A45: II. MATERIALES
A47: DESCRIPCIÓN | H47: UNIDAD | I47: CANTIDAD | J47: PRECIO UNIT. | L47: Vr. UNITARIO
A48: Derechos de explotación y/o disposición de materiales (Incluye la conformación de sitios de disposición de sobrantes) | H48: M3 | I48: 1.4 | J48: 2500 | K48: 0 | L48: =+I48*J48 -> 3500
A62: SUBTOTAL $ | L62: =SUM(L48:L61) -> 3500
A64: III. TRANSPORTES
A66: MATERIAL | F66: UNIDAD | G66: CANTIDAD (1) | H66: DISTANCIA (2) | I66: CANTIDAD * DISTANCIA (1) * (2) | J66: TARIFA | L66: Vr. UNITARIO
A67: MATERIAL DE DEMOLICION | F67: M3-Km | G67: 1.4 | H67: 15 | I67: =+G67*H67 -> 21 | J67: =1271*1.0562 -> 1342.4302 | K67: 0 | L67: =+I67*J67 -> 28191.034
A69: SUBTOTAL $ | L69: =SUM(L67:L68) -> 28191.034
A71: IV. MANO DE OBRA
A73: DESCRIPCIÓN | G73: JORNAL | H73: PRESTACIONES | I73: JORNAL TOTAL | J73: RENDIMIENTO | L73: Vr. UNITARIO
A74: OBREROS (3) | G74: =67665.4*1.1001 -> 74438.707 | H74: 1.85 | I74: 166500 | J74: 24 | L74: 6937.5
A75: OFICIAL | G75: =57668.24*1.101 -> 63492.732 | H75: 1.85 | I75: 101750 | J75: 24 | L75: 4239.5833
A76: SUBTOTAL $ | L76: 11177.083
A78: TOTAL COSTO DIRECTO $ | L78: =+L43+L62+L69+L76 -> 174648.63
...

Sheet 310.1
I1: CÓDIGO | J1: MINFRA-MN-IN-10-FR-1
B2: INSTITUTO FINANCIERO PARA EL DESARROLLO DE SANTANDER
B3: CONVENIO 1113/2016 | I3: VERSIÓN | J3: 1
B4: MANUAL DE INTERVENTORÍA OBRA PÚBLICA
B5: ANÁLISIS DE PRECIOS UNITARIOS | I5: PÁGINA | K5: DE
I8: FECHA
J9: (Día) | K9: (Mes) | L9: (Año)
A10: ITEMS DE LA PROPUESTA ECONÓMICA | G10: ITEMS NO PREVISTOS
A11: UNIDAD EJECUTORA: | B11: SRN | H11: DIRECCIÓN TERRITORIAL: | I11: SANTANDER
A14: CONTRATO No. | C14: DE
A15: OBJETO DEL CONTRATO: | B15: ATENCIÓN DEL SECTOR DE VILLAS DE SAN IGNACIO (PR 18+800) EN EL TRAMO 4 CARGO DEL INSTITUTO FINANCIERO PARA EL DESARROLLO DE SANTANDER – IDESAN
A18: CARRETERA: | H18: SECTOR:
A20: CONTRATISTA:
A22: INTERVENTOR: | I22: CTO No.: | K22: DE
A24: FECHA CIERRE PROCESO DE SELECCIÓN CONTRATO DE OBRA:
E25: (Día) | G25: (Mes) | H25: (Año)
A27: DATOS ESPECÍFICOS
A29: ITEM | B29: DESCRIPCIÓN | I29: GRUPO DE AJUSTE | J29: UNIDAD | L29: CANTIDAD
A30: 310.1 | B30: CONFORMACIÓN DE LA CALZADA EXISTENTE | J30: m2
A32: I. EQUIPO
A34: DESCRIPCIÓN | G34: TIPO | I34: TARIFA/HORA | J34: RENDIMIENTO | L34: Vr. UNITARIO
A35: CARROTANQUE DE AGUA 10000 LITROS | I35: =124855.1*1.0562 -> 131871.96 | J35: 600 | L35: =I35/J35 -> 219.78659
A36: VIBROCOMPACTADOR, POTENCIA 153 HP, PESO 10 TN. | I36: =83236.74*1.0562 -> 87914.645 | J36: 600 | L36: =I36/J36 -> 146.52441
A37: MOTONIVELADORA Potencia 120 HP, o superior | I37: =156068.89*1.0562 -> 164839.96 | J37: 600 | L37: =I37/J37 -> 274.73327
A38: HERRAMIENTA MENOR 10% MO | L38: =L76*0.1 -> 8.5025715
A40: SUBTOTAL $ | L40: =SUM(L35:L39) -> 649.54684
A42: II. MATERIALES
A44: DESCRIPCIÓN | H44: UNIDAD | I44: CANTIDAD | J44: PRECIO UNIT. | L44: Vr. UNITARIO
A45: AGUA | H45: LT | I45: 3 | J45: =78.34*1.0562 -> 82.742708 | K45: 0 | L45: =I45*J45 -> 248.22812
A62: SUBTOTAL $ | L62: =L45 -> 248.22812
A64: III. TRANSPORTES
A66: MATERIAL | F66: UNIDAD | G66: CANTIDAD (1) | H66: DISTANCIA (2) | I66: CANTIDAD * DISTANCIA (1) * (2) | J66: TARIFA | L66: Vr. UNITARIO
A69: SUBTOTAL $
A71: IV. MANO DE OBRA
A73: DESCRIPCIÓN | G73: JORNAL | H73: PRESTACIONES | I73: JORNAL TOTAL | J73: RENDIMIENTO | L73: Vr. UNITARIO
A74: OBREROS (2) | G74: =67665.4*1.1001 -> 74438.707 | H74: 1.85 | I74: =G74*H74 -> 137711.61 | J74: 3000 | L74: =I74/J74 -> 45.903869
A75: OFICIAL | G75: =57668.24*1.1001 -> 63440.831 | H75: 1.85 | I75: =G75*H75 -> 117365.54 | J75: 3000 | L75: =I75/J75 -> 39.121846
A76: SUBTOTAL $ | L76: =SUM(L74:L75) -> 85.025715
A78: TOTAL COSTO DIRECTO $ | L78: =L40+L62+L69+L76 -> 982.80068
A80: V. COSTOS INDIRECTOS
...

Sheet 320.1
I1: CÓDIGO | J1: MINFRA-MN-IN-10-FR-1
B2: INSTITUTO FINANCIERO PARA EL DESARROLLO DE SANTANDER
B3: CONVENIO 1113/2016 | I3: VERSIÓN | J3: 1
B4: MANUAL DE INTERVENTORÍA OBRA PÚBLICA
B5: ANÁLISIS DE PRECIOS UNITARIOS | I5: PÁGINA | K5: DE
I8: FECHA
J9: (Día) | K9: (Mes) | L9: (Año)
A10: ITEMS DE LA PROPUESTA ECONÓMICA | G10: ITEMS NO PREVISTOS
A11: UNIDAD EJECUTORA: | B11: SRN | H11: DIRECCIÓN TERRITORIAL: | I11: SANTANDER
A14: CONTRATO No. | C14: DE
A15: OBJETO DEL CONTRATO: | B15: ATENCIÓN DEL SECTOR DE VILLAS DE SAN IGNACIO (PR 18+800) EN EL TRAMO 4 CARGO DEL INSTITUTO FINANCIERO PARA EL DESARROLLO DE SANTANDER – IDESAN
A18: CARRETERA: | H18: SECTOR:
A20: CONTRATISTA:
A22: INTERVENTOR: | I22: CTO No.: | K22: DE
A24: FECHA CIERRE PROCESO DE SELECCIÓN CONTRATO DE OBRA:
E25: (Día) | G25: (Mes) | H25: (Año)
A27: DATOS ESPECÍFICOS
A29: ITEM | B29: DESCRIPCIÓN | I29: GRUPO DE AJUSTE | J29: UNIDAD | L29: CANTIDAD
A30: 320,1 P | B30: SUBBASE GRANULAR CLASE A | J30: m3
A32: I. EQUIPO
A34: DESCRIPCIÓN | G34: TIPO | I34: TARIFA/HORA | J34: RENDIMIENTO | L34: Vr. UNITARIO
A35: CARROTANQUE DE AGUA 10000 LITROS | I35: =124855.11*1.0562 -> 131871.97 | J35: 45 | L35: =+I35/J35 -> 2930.4882
A36: VIBROCOMPACTADOR, POTENCIA 153 HP, PESO 10 TN. | I36: =83236.74*1.0562 -> 87914.645 | J36: 45 | L36: =+I36/J36 -> 1953.6588
A37: MOTONIVELADORA Potencia 215 HP, ANCHO DE CUCHILLA 4,27 m, PESO 18 TON. | I37: 165000 | J37: 45 | L37: =+I37/J37 -> 3666.6667
A38: HERRAMIENTA MENOR 10% MO | L38: =0.1*L76 -> 70.854762
A40: SUBTOTAL $ | L40: =SUM(L35:L39) -> 8621.6684
A42: II. MATERIALES
A44: DESCRIPCIÓN | H44: UNIDAD | I44: CANTIDAD | J44: PRECIO UNIT. | L44: Vr. UNITARIO
A45: MATERIAL DE SUBBASE CBR=20% | H45: M3 | I45: 1.3 | J45: =41169.5*1.0562 -> 43483.226 | K45: 0 | L45: =+I45*J45 -> 56528.194
A46: AGUA | H46: LT | I46: 24 | J46: =78.35*1.0562 -> 82.75327 | K46: 0 | L46: =+I46*J46 -> 1986.0785
A62: SUBTOTAL $ | L62: =SUM(L45:L61) -> 58514.272
A64: III. TRANSPORTES
A66: MATERIAL | F66: UNIDAD | G66: CANTIDAD (1) | H66: DISTANCIA (2) | I66: CANTIDAD * DISTANCIA (1) * (2) | J66: TARIFA | L66: Vr. UNITARIO
A67: Material de subbase | F67: m3-km | G67: 1.3 | H67: 37.2 | I67: =+G67*H67 -> 48.36 | J67: =821.75*1.0562 -> 867.93235 | L67: =+I67*J67 -> 41973.208
A69: SUBTOTAL $ | L69: =SUM(L67:L68) -> 41973.208
A71: IV. MANO DE OBRA
A73: DESCRIPCIÓN | G73: JORNAL | H73: PRESTACIONES | I73: JORNAL TOTAL | J73: RENDIMIENTO | L73: Vr. UNITARIO
A74: OBREROS (2) | G74: =67665.4*1.1001 -> 74438.707 | H74: 1.85 | I74: =+G74*H74 -> 137711.61 | J74: 360 | L74: =+I74/J74 -> 382.53224
A75: OFICIAL | G75: =57668.24*1.1001 -> 63440.831 | H75: 1.85 | I75: =+G75*H75 -> 117365.54 | J75: 360 | L75: =+I75/J75 -> 326.01538
A76: SUBTOTAL $ | L76: =SUM(L74:L75) -> 708.54762
...

Sheet 330.1
I1: CÓDIGO | J1: MINFRA-MN-IN-10-FR-1
B2: INSTITUTO FINANCIERO PARA EL DESARROLLO DE SANTANDER
B3: CONVENIO 1113/2016 | I3: VERSIÓN | J3: 1
B4: MANUAL DE INTERVENTORÍA OBRA PÚBLICA
B5: ANÁLISIS DE PRECIOS UNITARIOS | I5: PÁGINA | K5: DE
I8: FECHA
J9: (Día) | K9: (Mes) | L9: (Año)
A10: ITEMS DE LA PROPUESTA ECONÓMICA | G10: ITEMS NO PREVISTOS
A11: UNIDAD EJECUTORA: | B11: SRN | H11: DIRECCIÓN TERRITORIAL: | I11: SANTANDER
A14: CONTRATO No. | C14: DE
A15: OBJETO DEL CONTRATO: | B15: ATENCIÓN DEL SECTOR DE VILLAS DE SAN IGNACIO (PR 18+800) EN EL TRAMO 4 CARGO DEL INSTITUTO FINANCIERO PARA EL DESARROLLO DE SANTANDER – IDESAN
A18: CARRETERA: | H18: SECTOR:
A20: CONTRATISTA:
A22: INTERVENTOR: | I22: CTO No.: | K22: DE
A24: FECHA CIERRE PROCESO DE SELECCIÓN CONTRATO DE OBRA:
E25: (Día) | G25: (Mes) | H25: (Año)
A27: DATOS ESPECÍFICOS
A29: ITEM | B29: DESCRIPCIÓN | I29: GRUPO DE AJUSTE | J29: UNIDAD | L29: CANTIDAD
A30: 330.1 | B30: BASE GRANULAR CLASE A | J30: m3
A32: I. EQUIPO
A34: DESCRIPCIÓN | G34: TIPO | I34: TARIFA/HORA | J34: RENDIMIENTO | L34: Vr. UNITARIO
A35: CARROTANQUE DE AGUA 10000 LITROS | I35: =124855.11*1.0562 -> 131871.97 | J35: 45 | L35: =+I35/J35 -> 2930.4882
A36: VIBROCOMPACTADOR, POTENCIA 153 HP, PESO 10 TN. | I36: =83236*1.0562 -> 87913.863 | J36: 45 | L36: =+I36/J36 -> 1953.6414
A37: MOTONIVELADORA Potencia 215 HP, ANCHO DE CUCHILLA 4,25 M, PESO 18 TON | I37: =156068.89*1.0562 -> 164839.96 | J37: 45 | L37: =+I37/J37 -> 3663.1103
A38: HERRAMIENTA MENOR 10% MO | L38: =0.1*L76 -> 70.854762
A40: SUBTOTAL $ | L40: =SUM(L35:L39) -> 8618.0946
A42: II. MATERIALES
A44: DESCRIPCIÓN | H44: UNIDAD | I44: CANTIDAD | J44: PRECIO UNIT. | L44: Vr. UNITARIO
A45: MATERIAL DE BASE (GRADACIÓN 1) | H45: M3 | I45: 1.3 | J45: =73260.23*1.0562 -> 77377.455 | K45: 0 | L45: =+I45*J45 -> 100590.69
A46: AGUA | H46: LT | I46: 24 | J46: =78.34*1.0562 -> 82.742708 | K46: 0 | L46: =+I46*J46 -> 1985.825
A62: SUBTOTAL $ | L62: =SUM(L45:L61) -> 102576.52
A64: III. TRANSPORTES
A66: MATERIAL | F66: UNIDAD | G66: CANTIDAD (1) | H66: DISTANCIA (2) | I66: CANTIDAD * DISTANCIA (1) * (2) | J66: TARIFA | L66: Vr. UNITARIO
A67: Material de base | F67: m3-km | G67: 1.3 | H67: 37.2 | I67: =+G67*H67 -> 48.36 | J67: =821.75*1.0562 -> 867.93235 | L67: =+I67*J67 -> 41973.208
A69: SUBTOTAL $ | L69: =SUM(L67:L68) -> 41973.208
A71: IV. MANO DE OBRA
A73: DESCRIPCIÓN | G73: JORNAL | H73: PRESTACIONES | I73: JORNAL TOTAL | J73: RENDIMIENTO | L73: Vr. UNITARIO
A74: OBREROS (2) | G74: =67665.4*1.1001 -> 74438.707 | H74: 1.85 | I74: =+G74*H74 -> 137711.61 | J74: 360 | L74: =+I74/J74 -> 382.53224
A75: OFICIAL | G75: =57668.24*1.1001 -> 63440.831 | H75: 1.85 | I75: =+G75*H75 -> 117365.54 | J75: 360 | L75: =+I75/J75 -> 326.01538
A76: SUBTOTAL $ | L76: =SUM(L74:L75) -> 708.54762
...

Sheet 420.2
I1: CÓDIGO | J1: MINFRA-MN-IN-10-FR-1
B2: INSTITUTO FINANCIERO PARA EL DESARROLLO DE SANTANDER
B3: CONVENIO 1113/2016 | I3: VERSIÓN | J3: 1
B4: MANUAL DE INTERVENTORÍA OBRA PÚBLICA
B5: ANÁLISIS DE PRECIOS UNITARIOS | I5: PÁGINA | K5: DE
I8: FECHA
J9: (Día) | K9: (Mes) | L9: (Año)
A10: ITEMS DE LA PROPUESTA ECONÓMICA | G10: ITEMS NO PREVISTOS
A11: UNIDAD EJECUTORA: | B11: SRN | H11: DIRECCIÓN TERRITORIAL: | I11: SANTANDER
A14: CONTRATO No. | C14: DE
A15: OBJETO DEL CONTRATO: | B15: ATENCIÓN DEL SECTOR DE VILLAS DE SAN IGNACIO (PR 18+800) EN EL TRAMO 4 CARGO DEL INSTITUTO FINANCIERO PARA EL DESARROLLO DE SANTANDER – IDESAN
A18: CARRETERA: | H18: SECTOR:
A20: CONTRATISTA:
A22: INTERVENTOR: | I22: CTO No.: | K22: DE
A24: FECHA CIERRE PROCESO DE SELECCIÓN CONTRATO DE OBRA:
E25: (Día) | G25: (Mes) | H25: (Año)
A27: DATOS ESPECÍFICOS
A29: ITEM | B29: DESCRIPCIÓN | I29: GRUPO DE AJUSTE | J29: UNIDAD | L29: CANTIDAD
A30: 420.2 | B30: RIEGO DE IMPRIMACIÓN CON EMULSIÓN ASFÁLTICA CRL -1 | J30: m2
A32: I. EQUIPO
A34: DESCRIPCIÓN | G34: TIPO | I34: TARIFA/HORA | J34: RENDIMIENTO | L34: Vr. UNITARIO
A35: CARROTANQUE IRRIGADOR DE ASFALTO, CAP 1000 GAL | I35: =135762.4*1.0562 -> 143392.25 | J35: 500 | L35: =+I35/J35 -> 286.78449
A36: COMPRESOR 120 HP - SIN MARTILLOS | I36: =62919.22*1.0562 -> 66455.28 | J36: 500 | L36: =+I36/J36 -> 132.91056
A37: HERRAMIENTA MENOR 2% MO | L37: =0.02*L76 -> 1.3771161
A39: SUBTOTAL $ | L39: 334.555
A41: II. MATERIALES
A43: DESCRIPCIÓN | H43: UNIDAD | I43: CANTIDAD | J43: PRECIO UNIT. | L43: Vr. UNITARIO
A44: EMULSION ASFALTICA CRL-1 | H44: Lt | I44: 1 | J44: =1178.64*1.0562 -> 1244.8796 | K44: 0 | L44: =+I44*J44 -> 1244.8796
A45: AGUA | H45: Lt | I45: 0.2 | J45: =78.34*1.0562 -> 82.742708 | K45: 0 | L45: =+I45*J45 -> 16.548542
A62: SUBTOTAL $ | L62: =SUM(L44:L61) -> 1261.4281
A64: III. TRANSPORTES
A66: MATERIAL | F66: UNIDAD | G66: CANTIDAD (1) | H66: DISTANCIA (2) | I66: CANTIDAD * DISTANCIA (1) * (2) | J66: TARIFA | L66: Vr. UNITARIO
A69: SUBTOTAL $ | L69: 0
A71: IV. MANO DE OBRA
A73: DESCRIPCIÓN | G73: JORNAL | H73: PRESTACIONES | I73: JORNAL TOTAL | J73: RENDIMIENTO | L73: Vr. UNITARIO
A74: OBREROS (4) | G74: =135330.8*1.1001 -> 148877.41 | H74: 1.85 | I74: =+G74*H74 -> 275423.21 | J74: 4000 | L74: =+I74/J74 -> 68.855804
A76: SUBTOTAL $ | L76: =SUM(L74:L75) -> 68.855804
A78: TOTAL COSTO DIRECTO $ | L78: =+L39+L62+L69+L76 -> 1664.8389
A80: V. COSTOS INDIRECTOS
A82: DESCRIPCIÓN | I82: Porcentaje | J82: Valor Total
...

Sheet 430.1.1
I1: CÓDIGO | J1: MINFRA-MN-IN-10-FR-1
B2: INSTITUTO FINANCIERO PARA EL DESARROLLO DE SANTANDER
B3: CONVENIO 1113/2016 | I3: VERSIÓN | J3: 1
B4: MANUAL DE INTERVENTORÍA OBRA PÚBLICA
B5: ANÁLISIS DE PRECIOS UNITARIOS | I5: PÁGINA | K5: DE
I8: FECHA
J9: (Día) | K9: (Mes) | L9: (Año)
A10: ITEMS DE LA PROPUESTA ECONÓMICA | G10: ITEMS NO PREVISTOS
A11: UNIDAD EJECUTORA: | B11: SRN | H11: DIRECCIÓN TERRITORIAL: | I11: SANTANDER
A14: CONTRATO No. | C14: DE
A15: OBJETO DEL CONTRATO: | B15: ATENCIÓN DEL SECTOR DE VILLAS DE SAN IGNACIO (PR 18+800) EN EL TRAMO 4 CARGO DEL INSTITUTO FINANCIERO PARA EL DESARROLLO DE SANTANDER – IDESAN
A18: CARRETERA: | H18: SECTOR:
A20: CONTRATISTA:
A22: INTERVENTOR: | I22: CTO No.: | K22: DE
A24: FECHA CIERRE PROCESO DE SELECCIÓN CONTRATO DE OBRA:
E25: (Día) | G25: (Mes) | H25: (Año)
A27: DATOS ESPECÍFICOS
A29: ITEM | B29: DESCRIPCIÓN | I29: GRUPO DE AJUSTE | J29: UNIDAD | L29: CANTIDAD
A30: 430.1.1 | B30: TRATAMIENTO SUPERFICIAL SIMPLE CON EMULSIÓN CRR-2 GRADACION 19 | J30: m2
A32: I. EQUIPO
A34: DESCRIPCIÓN | G34: TIPO | I34: TARIFA/HORA | J34: RENDIMIENTO | L34: Vr. UNITARIO
A35: Carrotanque Irrigador de asfalto, 1000 GALONES DE CAPACIDAD | I35: =135762*1.0562 -> 143391.82 | J35: 400 | L35: =+I35/J35 -> 358.47956
A36: Compactador neumático de Potencia 70 HP, peso de 13 ton | I36: =177686*1.0562 -> 187671.95 | J36: 400 | L36: =+I36/J36 -> 469.17988
A37: Compresor (barrido y soplado) | I37: =62919*1.0562 -> 66455.048 | J37: 400 | L37: =+I37/J37 -> 166.13762
A38: Esparcidor de gravilla, Ancho de esparcimiento 3100mm, Velocidad de trabajo 10—20km2/h | I38: =61663*1.0562 -> 65128.461 | J38: 400 | L38: =+I38/J38 -> 162.82115
A39: herramienta menor (10%) | L39: =0.01*L77 -> 1.2277649
A40: SUBTOTAL $ | L40: =SUM(L35:L39) -> 1157.846
A42: II. MATERIALES
A44: DESCRIPCIÓN | H44: UNIDAD | I44: CANTIDAD | J44: PRECIO UNIT. | L44: Vr. UNITARIO
A45: EMULSION CRR-2 | H45: Lt | I45: 1.83 | J45: =2064.28*1.0562 -> 2180.2925 | K45: 0 | L45: =+I45*J45 -> 3989.9353
A46: AGREGADO PARA TRATAMIENTO SUPERFICIAL SIMPLE | H46: m3 | I46: 0.019 | J46: =74514.33*1.0562 -> 78702.035 | K46: 0 | L46: =+I46*J46 -> 1495.3387
A63: SUBTOTAL $ | L63: =SUM(L45:L62) -> 5485.274
A65: III. TRANSPORTES
A67: MATERIAL | F67: UNIDAD | G67: CANTIDAD (1) | H67: DISTANCIA (2) | I67: CANTIDAD * DISTANCIA (1) * (2) | J67: TARIFA | L67: Vr. UNITARIO
A68: TRANSPORTE DE AGREGADOS PÉTREOS | F68: m3-km | G68: 0.02 | H68: 37.2 | I68: =+G68*H68 -> 0.744 | J68: =1211.24*1.0562 -> 1279.3117 | L68: =+I68*J68 -> 951.8079
A70: SUBTOTAL $ | L70: =SUM(L68:L69) -> 951.8079
A72: IV. MANO DE OBRA
A74: DESCRIPCIÓN | G74: JORNAL | H74: PRESTACIONES | I74: JORNAL TOTAL | J74: RENDIMIENTO | L74: Vr. UNITARIO
A75: OBREROS (4) | G75: =135330.8*1.1001 -> 148877.41 | H75: 1.85 | I75: =+G75*H75 -> 275423.21 | J75: 3200 | L75: =+I75/J75 -> 86.069754
A76: OFICIAL | G76: =57668.24*1.101 -> 63492.732 | H76: 1.85 | I76: =+G76*H76 -> 117461.55 | J76: 3200 | L76: =+I76/J76 -> 36.706736
...
