Workbook
Name \0: #REF!
Name \0: #REF!
Name \0: #REF!
Name \00: #REF!
Name \00: #REF!
Name \00: #REF!
Name \a: #REF!
Name \a: #REF!
Name \a: #REF!
Name \AA: [1]LIQUIDACION!#REF!
Name \AA: [1]LIQUIDACION!#REF!
Name \AA: [1]LIQUIDACION!#REF!
Name \b: [2]STRSUMM0!#REF!
Name \b: [2]STRSUMM0!#REF!
Name \b: [2]STRSUMM0!#REF!
Name \bb: [2]STRSUMM0!#REF!
Name \bb: [2]STRSUMM0!#REF!
Name \bb: [2]STRSUMM0!#REF!
Name \E: #REF!
Name \E: #REF!
Name \E: #REF!
Name \EE: #REF!
Name \EE: #REF!
Name \EE: #REF!
Name \G: #REF!
Name \G: #REF!
Name \G: #REF!
Name \k: '[3]7422CW00'!#REF!
Name \k: '[3]7422CW00'!#REF!
Name \k: '[3]7422CW00'!#REF!
Name \l: [4]STRSUMM0!#REF!
Name \l: [4]STRSUMM0!#REF!
Name \l: [4]STRSUMM0!#REF!
Name \M: #REF!
Name \M: #REF!
Name \M: #REF!
Name \ñ: '[5]7422CW00'!#REF!
Name \ñ: '[5]7422CW00'!#REF!
Name \ñ: '[5]7422CW00'!#REF!
Name \P: #REF!
Name \P: #REF!
Name \P: #REF!
Name \R: #REF!
Name \R: #REF!
Name \R: #REF!
Name \s: #REF!
Name \s: #REF!
Name \s: #REF!
Name \V: #REF!
Name \V: #REF!
Name \V: #REF!
Name \X: [0]!ERR
Name \Z: [0]!ERR
Name _________AFC1: [6]INV!$A$25:$D$28
Name _________AFC3: [6]INV!$F$25:$I$28
Name _________AFC5: [6]INV!$K$25:$N$28
Name _________BGC1: [6]INV!$A$5:$D$8
Name _________BGC3: [6]INV!$F$5:$I$8
Name _________BGC5: [6]INV!$K$5:$N$8
Name _________CAC1: [6]INV!$A$19:$D$22

Sheet PUERTO BERRIO
F2: FORMATO
F3: FORMATO 7 PROPUESTA ECONÓMICA
C4: Principio de Procedencia: 1201.092 | F4: Clave: GCON-1.0-12-112 | G4: Versión: 03 | I4: Fecha de aprobación: 28/12/2020 | J4: Página: 1 de 1
C6: OBJETO: RANC0304 REALIZAR MANTENIMIENTO DE LA INFRAESTRUCTURA AEROPORTUARIA LADO AIRE Y LADO TIERRA DE LOS AEROPUERTOS DE CIMITARRA Y PUERTO BERRIO | I6: ING ARANGO CIA SAS | K6: VÍAS Y EDIFICACIONES COLOMBIA SAS | M6: CONDEIN SAS | O6: HAH CONSTRUCCIONES SAS | Q6: ENETEL | S6: ITALOAMBIENTES | U6: JUAN CARLOS ORTIZ LOPEZ | W6: OSCAR MUÑOZ CORREA | Y6: GUSTAVO VASQUEZ PINZON | AA6: CARLOS CASTRO VEGA | AC6: FRANCISCO ALVAREZ PEREZ | AE6: PROMEDIO PROPUESTAS PRESENTADAS CONTRATACIÓN 20000584 H4 02 DE 2020 INCREMENTADOLAS AL IPC 1,61% DE 2020. | AG6: PROMEDIO PROPUESTAS PRESENTADAS CONTRATACIÓN 20000584 H4 01 DE 2020 INCREMENTADOLAS AL IPC 1,61% DE 2020. | AI6: CONTRATO 19000915 H4 GRUPO SYC SAS | AK6: PROMEDIO | AM6: MEDIANA | AO6: MEDIA ARMÓNICA | AQ6: MEDIA GEOMÉTRICA
C7: ÍTEM | D7: DESCRIPCIÓN | G7: UNIDAD | H7: CANTIDAD | I7: VALOR UNITARIO | J7: VALOR PARCIAL | K7: VALOR UNITARIO | L7: VALOR PARCIAL | M7: VALOR UNITARIO | N7: VALOR PARCIAL | O7: VALOR UNITARIO | P7: VALOR PARCIAL | Q7: VALOR UNITARIO | R7: VALOR PARCIAL | S7: VALOR UNITARIO | T7: VALOR PARCIAL | U7: VALOR UNITARIO | V7: VALOR PARCIAL | W7: VALOR UNITARIO | X7: VALOR PARCIAL | Y7: VALOR UNITARIO | Z7: VALOR PARCIAL | AA7: VALOR UNITARIO | AB7: VALOR PARCIAL | AC7: VALOR UNITARIO | AD7: VALOR PARCIAL | AE7: VALOR UNITARIO | AF7: VALOR PARCIAL | AG7: VALOR UNITARIO | AH7: VALOR PARCIAL | AI7: VALOR UNITARIO | AJ7: VALOR PARCIAL | AK7: Valor Unitario | AL7: TOTAL | AM7: Valor Unitario | AN7: TOTAL | AO7: Valor Unitario | AP7: TOTAL | AQ7: Valor Unitario | AR7: TOTAL
D8: LADO TIERRA AEROPUERTO MORELA DE PUERTO BERRIO - ANTIOQUIA
C9: 1 | D9: Retiro de malla eslabonada | G9: m2 | H9: =1.8 -> 1.8 | I9: 12000 | J9: =I9*H9 -> 21600 | K9: 15600 | L9: =K9*H9 -> 28080 | M9: 25000 | N9: =M9*H9 -> 45000 | O9: 37900.8 | P9: =O9*H9 -> 68221.44 | Q9: 18600 | R9: =Q9*H9 -> 33480 | S9: 4200 | T9: =S9*H9 -> 7560 | U9: 13104 | V9: =U9*H9 -> 23587.2 | W9: 12525 | X9: =W9*H9 -> 22545 | Y9: 15257.338 | Z9: =Y9*H9 -> 27463.208 | AA9: 16000 | AB9: =AA9*H9 -> 28800 | AC9: 20000 | AD9: =AC9*H9 -> 36000 | AE9: =13104*1.0161 -> 13314.974 | AF9: =AE9*H9 -> 23966.954 | AH9: =AG9*H9 -> 0 | AJ9: =AI9*H9 -> 0 | AK9: =ROUND((AVERAGE(I9,K9,M9,O9,Q9,S9,U9,W9,Y9,AA9,AC9,AE9,AG9,AI9)),0) -> 16959 | AL9: =ROUND((AK9*H9),0) -> 30526 | AM9: =ROUND((MEDIAN(I9,K9,M9,O9,Q9,S9,U9,W9,Y9,AA9,AC9,AE9,AG9,AI9)),0) -> 15429 | AN9: =ROUND((H9*AM9),0) -> 27772 | AO9: =ROUND((HARMEAN(I9,K9,M9,O9,Q9,S9,U9,W9,Y9,AA9,AC9,AE9,AG9,AI9)),0) -> 13115 | AP9: =ROUND((H9*AO9),0) -> 23607 | AQ9: =ROUND((GEOMEAN(I9,K9,M9,O9,Q9,S9,U9,W9,Y9,AA9,AC9,AE9,AG9,AI9)),0) -> 15164 | AR9: =ROUND((H9*AQ9),0) -> 27295
C10: 2 | D10: Demolición de piso | E10: Demolición de piso | F10: Demolición de piso | G10: m2 | H10: 2 | I10: 24000 | J10: =I10*H10 -> 48000 | K10: 105000 | L10: =K10*H10 -> 210000 | M10: 300000 | N10: =M10*H10 -> 600000 | O10: 177851.26 | P10: =O10*H10 -> 355702.52 | Q10: 247000 | R10: =Q10*H10 -> 494000 | S10: 28000 | T10: =S10*H10 -> 56000 | U10: 10000 | V10: =U10*H10 -> 20000 | W10: 15000 | X10: =W10*H10 -> 30000 | Y10: 16000 | Z10: =Y10*H10 -> 32000 | AA10: 18000 | AB10: =AA10*H10 -> 36000 | AC10: 17000 | AD10: =AC10*H10 -> 34000 | AE10: =144215*1.0161 -> 146536.86 | AF10: =AE10*H10 -> 293073.72 | AG10: =19031*1.0161 -> 19337.399 | AH10: =AG10*H10 -> 38674.798 | AJ10: =AI10*H10 -> 0 | AK10: =ROUND((AVERAGE(I10,K10,M10,O10,Q10,S10,U10,W10,Y10,AA10,AC10,AE10,AG10,AI10)),0) -> 86440 | AL10: =ROUND((AK10*H10),0) -> 172880 | AM10: =ROUND((MEDIAN(I10,K10,M10,O10,Q10,S10,U10,W10,Y10,AA10,AC10,AE10,AG10,AI10)),0) -> 24000 | AN10: =ROUND((H10*AM10),0) -> 48000 | AO10: =ROUND((HARMEAN(I10,K10,M10,O10,Q10,S10,U10,W10,Y10,AA10,AC10,AE10,AG10,AI10)),0) -> 25897 | AP10: =ROUND((H10*AO10),0) -> 51794 | AQ10: =ROUND((GEOMEAN(I10,K10,M10,O10,Q10,S10,U10,W10,Y10,AA10,AC10,AE10,AG10,AI10)),0) -> 43395 | AR10: =ROUND((H10*AQ10),0) -> 86790
C11: 3 | D11: Demolición de muro en ladrillo o bloque o drywall | E11: Demolición de muro en ladrillo o bloque o drywall | F11: Demolición de muro en ladrillo o bloque o drywall | G11: m2 | H11: 4 | I11: 23000 | J11: =I11*H11 -> 92000 | K11: 45700 | L11: =K11*H11 -> 182800 | M11: 35000 | N11: =M11*H11 -> 140000 | O11: 39040 | P11: =O11*H11 -> 156160 | Q11: 31350 | R11: =Q11*H11 -> 125400 | S11: 35000 | T11: =S11*H11 -> 140000 | U11: 24000 | V11: =U11*H11 -> 96000 | W11: 30000 | X11: =W11*H11 -> 120000 | Y11: 32000 | Z11: =Y11*H11 -> 128000 | AA11: 29600 | AB11: =AA11*H11 -> 118400 | AC11: 36000 | AD11: =AC11*H11 -> 144000 | AE11: =27463*1.0161 -> 27905.154 | AF11: =AE11*H11 -> 111620.62 | AH11: =AG11*H11 -> 0 | AJ11: =AI11*H11 -> 0 | AK11: =ROUND((AVERAGE(I11,K11,M11,O11,Q11,S11,U11,W11,Y11,AA11,AC11,AE11,AG11,AI11)),0) -> 32383 | AL11: =ROUND((AK11*H11),0) -> 129532 | AM11: =ROUND((MEDIAN(I11,K11,M11,O11,Q11,S11,U11,W11,Y11,AA11,AC11,AE11,AG11,AI11)),0) -> 31675 | AN11: =ROUND((H11*AM11),0) -> 126700 | AO11: =ROUND((HARMEAN(I11,K11,M11,O11,Q11,S11,U11,W11,Y11,AA11,AC11,AE11,AG11,AI11)),0) -> 31277 | AP11: =ROUND((H11*AO11),0) -> 125108 | AQ11: =ROUND((GEOMEAN(I11,K11,M11,O11,Q11,S11,U11,W11,Y11,AA11,AC11,AE11,AG11,AI11)),0) -> 31825 | AR11: =ROUND((H11*AQ11),0) -> 127300
C12: 4 | D12: Desmonte de ventiladores | E12: Desmonte de ventiladores | F12: Desmonte de ventiladores | G12: UND. | H12: 2 | I12: 18000 | J12: =I12*H12 -> 36000 | K12: 25000 | L12: =K12*H12 -> 50000 | M12: 50000 | N12: =M12*H12 -> 100000 | O12: 18115.16 | P12: =O12*H12 -> 36230.32 | Q12: 85000 | R12: =Q12*H12 -> 170000 | S12: 21000 | T12: =S12*H12 -> 42000 | U12: 26000 | V12: =U12*H12 -> 52000 | W12: 30000 | X12: =W12*H12 -> 60000 | Y12: 30000 | Z12: =Y12*H12 -> 60000 | AA12: 35000 | AB12: =AA12*H12 -> 70000 | AC12: 40000 | AD12: =AC12*H12 -> 80000 | AF12: =AE12*H12 -> 0 | AH12: =AG12*H12 -> 0 | AJ12: =AI12*H12 -> 0 | AK12: =ROUND((AVERAGE(I12,K12,M12,O12,Q12,S12,U12,W12,Y12,AA12,AC12,AE12,AG12,AI12)),0) -> 34374 | AL12: =ROUND((AK12*H12),0) -> 68748 | AM12: =ROUND((MEDIAN(I12,K12,M12,O12,Q12,S12,U12,W12,Y12,AA12,AC12,AE12,AG12,AI12)),0) -> 30000 | AN12: =ROUND((H12*AM12),0) -> 60000 | AO12: =ROUND((HARMEAN(I12,K12,M12,O12,Q12,S12,U12,W12,Y12,AA12,AC12,AE12,AG12,AI12)),0) -> 28289 | AP12: =ROUND((H12*AO12),0) -> 56578 | AQ12: =ROUND((GEOMEAN(I12,K12,M12,O12,Q12,S12,U12,W12,Y12,AA12,AC12,AE12,AG12,AI12)),0) -> 30820 | AR12: =ROUND((H12*AQ12),0) -> 61640
C13: 5 | D13: Retiro de ventana metalica y vidrio | E13: Retiro de ventana metalica y vidrio | F13: Retiro de ventana metalica y vidrio | J13: =I13*H13 -> 0 | L13: =K13*H13 -> 0 | N13: =M13*H13 -> 0 | P13: =O13*H13 -> 0 | R13: =Q13*H13 -> 0 | T13: =S13*H13 -> 0 | V13: =U13*H13 -> 0 | X13: =W13*H13 -> 0 | Z13: =Y13*H13 -> 0 | AB13: =AA13*H13 -> 0 | AD13: =AC13*H13 -> 0 | AF13: =AE13*H13 -> 0 | AH13: =AG13*H13 -> 0 | AJ13: =AI13*H13 -> 0
C14: 5.1 | D14: De 2,00x2,80 m | E14: De 2,00x2,80 m | F14: De 2,00x2,80 m | G14: UND. | H14: 1 | I14: 32000 | J14: =I14*H14 -> 32000 | K14: 32600 | L14: =K14*H14 -> 32600 | M14: 200000 | N14: =M14*H14 -> 200000 | O14: 49239.04 | P14: =O14*H14 -> 49239.04 | Q14: 67200 | R14: =Q14*H14 -> 67200 | S14: 98000 | T14: =S14*H14 -> 98000 | U14: 30000 | V14: =U14*H14 -> 30000 | W14: 33000 | X14: =W14*H14 -> 33000 | Y14: 36000 | Z14: =Y14*H14 -> 36000 | AA14: 50000 | AB14: =AA14*H14 -> 50000 | AC14: 60000 | AD14: =AC14*H14 -> 60000 | AE14: =12000*1.0161 -> 12193.2 | AF14: =AE14*H14 -> 12193.2 | AH14: =AG14*H14 -> 0 | AJ14: =AI14*H14 -> 0 | AK14: =ROUND((AVERAGE(I14,K14,M14,O14,Q14,S14,U14,W14,Y14,AA14,AC14,AE14,AG14,AI14)),0) -> 58353 | AL14: =ROUND((AK14*H14),0) -> 58353 | AM14: =ROUND((MEDIAN(I14,K14,M14,O14,Q14,S14,U14,W14,Y14,AA14,AC14,AE14,AG14,AI14)),0) -> 42620 | AN14: =ROUND((H14*AM14),0) -> 42620 | AO14: =ROUND((HARMEAN(I14,K14,M14,O14,Q14,S14,U14,W14,Y14,AA14,AC14,AE14,AG14,AI14)),0) -> 37219 | AP14: =ROUND((H14*AO14),0) -> 37219 | AQ14: =ROUND((GEOMEAN(I14,K14,M14,O14,Q14,S14,U14,W14,Y14,AA14,AC14,AE14,AG14,AI14)),0) -> 45933 | AR14: =ROUND((H14*AQ14),0) -> 45933
C15: 5.2 | D15: De 2,79 x 2,65 m | E15: De 2,79 x 2,65 m | F15: De 2,79 x 2,65 m | G15: UND. | H15: 2 | I15: 38000 | J15: =I15*H15 -> 76000 | K15: 33200 | L15: =K15*H15 -> 66400 | M15: 250000 | N15: =M15*H15 -> 500000 | O15: 65007.36 | P15: =O15*H15 -> 130014.72 | Q15: 89040 | R15: =Q15*H15 -> 178080 | S15: 98000 | T15: =S15*H15 -> 196000 | U15: 32000 | V15: =U15*H15 -> 64000 | W15: 36000 | X15: =W15*H15 -> 72000 | Y15: 38000 | Z15: =Y15*H15 -> 76000 | AA15: 55000 | AB15: =AA15*H15 -> 110000 | AC15: 62000 | AD15: =AC15*H15 -> 124000 | AE15: =12000*1.0161 -> 12193.2 | AF15: =AE15*H15 -> 24386.4 | AH15: =AG15*H15 -> 0 | AJ15: =AI15*H15 -> 0 | AK15: =ROUND((AVERAGE(I15,K15,M15,O15,Q15,S15,U15,W15,Y15,AA15,AC15,AE15,AG15,AI15)),0) -> 67370 | AL15: =ROUND((AK15*H15),0) -> 134740 | AM15: =ROUND((MEDIAN(I15,K15,M15,O15,Q15,S15,U15,W15,Y15,AA15,AC15,AE15,AG15,AI15)),0) -> 46500 | AN15: =ROUND((H15*AM15),0) -> 93000 | AO15: =ROUND((HARMEAN(I15,K15,M15,O15,Q15,S15,U15,W15,Y15,AA15,AC15,AE15,AG15,AI15)),0) -> 40144 | AP15: =ROUND((H15*AO15),0) -> 80288 | AQ15: =ROUND((GEOMEAN(I15,K15,M15,O15,Q15,S15,U15,W15,Y15,AA15,AC15,AE15,AG15,AI15)),0) -> 51215 | AR15: =ROUND((H15*AQ15),0) -> 102430
C16: 5.3 | D16: Retiro de ventana metalica y vidrio | E16: Retiro de ventana metalica y vidrio | F16: Retiro de ventana metalica y vidrio | G16: m2 | H16: 20.5 | I16: 34000 | J16: =I16*H16 -> 697000 | K16: 31500 | L16: =K16*H16 -> 645750 | M16: 40000 | N16: =M16*H16 -> 820000 | O16: 57472 | P16: =O16*H16 -> 1178176 | Q16: 12000 | R16: =Q16*H16 -> 246000 | S16: 602000 | T16: =S16*H16 -> 12341000 | U16: 36000 | V16: =U16*H16 -> 738000 | W16: 40000 | X16: =W16*H16 -> 820000 | Y16: 41000 | Z16: =Y16*H16 -> 840500 | AA16: 59000 | AB16: =AA16*H16 -> 1209500 | AC16: 62000 | AD16: =AC16*H16 -> 1271000 | AE16: =12000*1.0161 -> 12193.2 | AF16: =AE16*H16 -> 249960.6 | AG16: =61433.33*1.0161 -> 62422.407 | AH16: =AG16*H16 -> 1279659.3 | AJ16: =AI16*H16 -> 0 | AK16: =ROUND((AVERAGE(I16,K16,M16,O16,Q16,S16,U16,W16,Y16,AA16,AC16,AE16,AG16,AI16)),0) -> 83814 | AL16: =ROUND((AK16*H16),0) -> 1718187 | AM16: =ROUND((MEDIAN(I16,K16,M16,O16,Q16,S16,U16,W16,Y16,AA16,AC16,AE16,AG16,AI16)),0) -> 40000 | AN16: =ROUND((H16*AM16),0) -> 820000 | AO16: =ROUND((HARMEAN(I16,K16,M16,O16,Q16,S16,U16,W16,Y16,AA16,AC16,AE16,AG16,AI16)),0) -> 32760 | AP16: =ROUND((H16*AO16),0) -> 671580 | AQ16: =ROUND((GEOMEAN(I16,K16,M16,O16,Q16,S16,U16,W16,Y16,AA16,AC16,AE16,AG16,AI16)),0) -> 44795 | AR16: =ROUND((H16*AQ16),0) -> 918298
C17: 6 | D17: Suministro e instalación de Ventilador industrial 56 pulgadas cm Mediterráneo blanco o similar. Ventilador para techo, 3 aspas, 5 velocidades. Voltaje 110 - 120v. Metalico. | E17: Suministro e instalación de Ventilador industrial 56 pulgadas cm Mediterráneo blanco o similar. Ventilador para techo, 3 aspas, 5 velocidades. Voltaje 110 - 120v. Metalico. | F17: Suministro e instalación de Ventilador industrial 56 pulgadas cm Mediterráneo blanco o similar. Ventilador para techo, 3 aspas, 5 velocidades. Voltaje 110 - 120v. Metalico. | G17: UND. | H17: 4 | I17: 560000 | J17: =I17*H17 -> 2240000 | K17: 750654 | L17: =K17*H17 -> 3002616 | M17: 450000 | N17: =M17*H17 -> 1800000 | O17: 413888 | P17: =O17*H17 -> 1655552 | Q17: 750000 | R17: =Q17*H17 -> 3000000 | S17: 560000 | T17: =S17*H17 -> 2240000 | U17: 400000 | V17: =U17*H17 -> 1600000 | W17: 420000 | X17: =W17*H17 -> 1680000 | Y17: 425000 | Z17: =Y17*H17 -> 1700000 | AA17: 430000 | AB17: =AA17*H17 -> 1720000 | AC17: 426000 | AD17: =AC17*H17 -> 1704000 | AF17: =AE17*H17 -> 0 | AH17: =AG17*H17 -> 0 | AJ17: =AI17*H17 -> 0 | AK17: =ROUND((AVERAGE(I17,K17,M17,O17,Q17,S17,U17,W17,Y17,AA17,AC17,AE17,AG17,AI17)),0) -> 507777 | AL17: =ROUND((AK17*H17),0) -> 2031108 | AM17: =ROUND((MEDIAN(I17,K17,M17,O17,Q17,S17,U17,W17,Y17,AA17,AC17,AE17,AG17,AI17)),0) -> 430000 | AN17: =ROUND((H17*AM17),0) -> 1720000 | AO17: =ROUND((HARMEAN(I17,K17,M17,O17,Q17,S17,U17,W17,Y17,AA17,AC17,AE17,AG17,AI17)),0) -> 482834 | AP17: =ROUND((H17*AO17),0) -> 1931336 | AQ17: =ROUND((GEOMEAN(I17,K17,M17,O17,Q17,S17,U17,W17,Y17,AA17,AC17,AE17,AG17,AI17)),0) -> 494264 | AR17: =ROUND((H17*AQ17),0) -> 1977056
C18: 7 | D18: Suministro e instalación de black out, telon blanco manual, pentagrama o similar, con barrera protectora que aislan el frío / calor y ruido al interior. | E18: Suministro e instalación de black out, telon blanco manual, pentagrama o similar, con barrera protectora que aislan el frío / calor y ruido al interior. | F18: Suministro e instalación de black out, telon blanco manual, pentagrama o similar, con barrera protectora que aislan el frío / calor y ruido al interior. | G18: m2 | H18: 33 | I18: 160000 | J18: =I18*H18 -> 5280000 | K18: 17600 | L18: =K18*H18 -> 580800 | M18: 220000 | N18: =M18*H18 -> 7260000 | O18: 500934.4 | P18: =O18*H18 -> 16530835 | Q18: 115000 | R18: =Q18*H18 -> 3795000 | S18: 154000 | T18: =S18*H18 -> 5082000 | U18: 282784 | V18: =U18*H18 -> 9331872 | W18: 220000 | X18: =W18*H18 -> 7260000 | Y18: 600000 | Z18: =Y18*H18 -> 19800000 | AA18: 350000 | AB18: =AA18*H18 -> 11550000 | AC18: 100000 | AD18: =AC18*H18 -> 3300000 | AF18: =AE18*H18 -> 0 | AH18: =AG18*H18 -> 0 | AJ18: =AI18*H18 -> 0 | AK18: =ROUND((AVERAGE(I18,K18,M18,O18,Q18,S18,U18,W18,Y18,AA18,AC18,AE18,AG18,AI18)),0) -> 247302 | AL18: =ROUND((AK18*H18),0) -> 8160966 | AM18: =ROUND((MEDIAN(I18,K18,M18,O18,Q18,S18,U18,W18,Y18,AA18,AC18,AE18,AG18,AI18)),0) -> 220000 | AN18: =ROUND((H18*AM18),0) -> 7260000 | AO18: =ROUND((HARMEAN(I18,K18,M18,O18,Q18,S18,U18,W18,Y18,AA18,AC18,AE18,AG18,AI18)),0) -> 102416 | AP18: =ROUND((H18*AO18),0) -> 3379728 | AQ18: =ROUND((GEOMEAN(I18,K18,M18,O18,Q18,S18,U18,W18,Y18,AA18,AC18,AE18,AG18,AI18)),0) -> 181824 | AR18: =ROUND((H18*AQ18),0) -> 6000192
C19: 8 | D19: Suministro e instalacion de ventanal de piso en aluminio y vidrio color bronce con pelicula de seguridad a los vidrios. Diseño en dos niveles, el nivel superior con una altura de 75 cm alas pivontantes. El Nivel inferior con una altura de 2 m y dos (2) alas corredizas. Ver diseño. | E19: Suministro e instalacion de ventanal de piso en aluminio y vidrio color bronce con pelicula de seguridad a los vidrios. Diseño en dos niveles, el nivel superior con una altura de 75 cm alas pivontantes. El Nivel inferior con una altura de 2 m y dos (2) alas corredizas. Ver diseño. | F19: Suministro e instalacion de ventanal de piso en aluminio y vidrio color bronce con pelicula de seguridad a los vidrios. Diseño en dos niveles, el nivel superior con una altura de 75 cm alas pivontantes. El Nivel inferior con una altura de 2 m y dos (2) alas corredizas. Ver diseño. | J19: =I19*H19 -> 0 | L19: =K19*H19 -> 0 | N19: =M19*H19 -> 0 | P19: =O19*H19 -> 0 | R19: =Q19*H19 -> 0 | T19: =S19*H19 -> 0 | V19: =U19*H19 -> 0 | X19: =W19*H19 -> 0 | Z19: =Y19*H19 -> 0 | AB19: =AA19*H19 -> 0 | AD19: =AC19*H19 -> 0 | AF19: =AE19*H19 -> 0 | AH19: =AG19*H19 -> 0 | AJ19: =AI19*H19 -> 0
C20: 8.1 | D20: De 2,00x2,80 m | G20: UND. | H20: 1 | I20: 626000 | J20: =I20*H20 -> 626000 | K20: 858000 | L20: =K20*H20 -> 858000 | M20: 3600000 | N20: =M20*H20 -> 3600000 | O20: 4071424 | P20: =O20*H20 -> 4071424 | Q20: 1904000 | R20: =Q20*H20 -> 1904000 | S20: 2380000 | T20: =S20*H20 -> 2380000 | U20: 600000 | V20: =U20*H20 -> 600000 | W20: 450000 | X20: =W20*H20 -> 450000 | Y20: 500000 | Z20: =Y20*H20 -> 500000 | AA20: 520000 | AB20: =AA20*H20 -> 520000 | AC20: 580000 | AD20: =AC20*H20 -> 580000 | AF20: =AE20*H20 -> 0 | AH20: =AG20*H20 -> 0 | AJ20: =AI20*H20 -> 0 | AK20: =ROUND((AVERAGE(I20,K20,M20,O20,Q20,S20,U20,W20,Y20,AA20,AC20,AE20,AG20,AI20)),0) -> 1462675 | AL20: =ROUND((AK20*H20),0) -> 1462675 | AM20: =ROUND((MEDIAN(I20,K20,M20,O20,Q20,S20,U20,W20,Y20,AA20,AC20,AE20,AG20,AI20)),0) -> 626000 | AN20: =ROUND((H20*AM20),0) -> 626000 | AO20: =ROUND((HARMEAN(I20,K20,M20,O20,Q20,S20,U20,W20,Y20,AA20,AC20,AE20,AG20,AI20)),0) -> 798965 | AP20: =ROUND((H20*AO20),0) -> 798965 | AQ20: =ROUND((GEOMEAN(I20,K20,M20,O20,Q20,S20,U20,W20,Y20,AA20,AC20,AE20,AG20,AI20)),0) -> 1034518 | AR20: =ROUND((H20*AQ20),0) -> 1034518
C21: 8.2 | D21: De 2,79 x 2,65 m | G21: UND. | H21: 2 | I21: 835000 | J21: =I21*H21 -> 1670000 | K21: 965480 | L21: =K21*H21 -> 1930960 | M21: 4800000 | N21: =M21*H21 -> 9600000 | O21: 5675370.2 | P21: =O21*H21 -> 11350740 | Q21: 2513000 | R21: =Q21*H21 -> 5026000 | S21: 2940000 | T21: =S21*H21 -> 5880000 | U21: 650000 | V21: =U21*H21 -> 1300000 | W21: 470000 | X21: =W21*H21 -> 940000 | Y21: 470000 | Z21: =Y21*H21 -> 940000 | AA21: 490000 | AB21: =AA21*H21 -> 980000 | AC21: 500000 | AD21: =AC21*H21 -> 1000000 | AF21: =AE21*H21 -> 0 | AH21: =AG21*H21 -> 0 | AJ21: =AI21*H21 -> 0 | AK21: =ROUND((AVERAGE(I21,K21,M21,O21,Q21,S21,U21,W21,Y21,AA21,AC21,AE21,AG21,AI21)),0) -> 1846259 | AL21: =ROUND((AK21*H21),0) -> 3692518 | AM21: =ROUND((MEDIAN(I21,K21,M21,O21,Q21,S21,U21,W21,Y21,AA21,AC21,AE21,AG21,AI21)),0) -> 835000 | AN21: =ROUND((H21*AM21),0) -> 1670000 | AO21: =ROUND((HARMEAN(I21,K21,M21,O21,Q21,S21,U21,W21,Y21,AA21,AC21,AE21,AG21,AI21)),0) -> 833930 | AP21: =ROUND((H21*AO21),0) -> 1667860 | AQ21: =ROUND((GEOMEAN(I21,K21,M21,O21,Q21,S21,U21,W21,Y21,AA21,AC21,AE21,AG21,AI21)),0) -> 1171577 | AR21: =ROUND((H21*AQ21),0) -> 2343154
C22: 8.3 | D22: De 2,80 x 0,75 m | G22: UND. | H22: 1 | I22: 480000 | J22: =I22*H22 -> 480000 | K22: 790830 | L22: =K22*H22 -> 790830 | M22: 1350000 | N22: =M22*H22 -> 1350000 | O22: 1526784 | P22: =O22*H22 -> 1526784 | Q22: 7140000 | R22: =Q22*H22 -> 7140000 | S22: 2380000 | T22: =S22*H22 -> 2380000 | U22: 450000 | V22: =U22*H22 -> 450000 | W22: 400000 | X22: =W22*H22 -> 400000 | Y22: 390000 | Z22: =Y22*H22 -> 390000 | AA22: 412000 | AB22: =AA22*H22 -> 412000 | AC22: 420000 | AD22: =AC22*H22 -> 420000 | AF22: =AE22*H22 -> 0 | AH22: =AG22*H22 -> 0 | AJ22: =AI22*H22 -> 0 | AK22: =ROUND((AVERAGE(I22,K22,M22,O22,Q22,S22,U22,W22,Y22,AA22,AC22,AE22,AG22,AI22)),0) -> 1430874 | AL22: =ROUND((AK22*H22),0) -> 1430874 | AM22: =ROUND((MEDIAN(I22,K22,M22,O22,Q22,S22,U22,W22,Y22,AA22,AC22,AE22,AG22,AI22)),0) -> 480000 | AN22: =ROUND((H22*AM22),0) -> 480000 | AO22: =ROUND((HARMEAN(I22,K22,M22,O22,Q22,S22,U22,W22,Y22,AA22,AC22,AE22,AG22,AI22)),0) -> 632248 | AP22: =ROUND((H22*AO22),0) -> 632248 | AQ22: =ROUND((GEOMEAN(I22,K22,M22,O22,Q22,S22,U22,W22,Y22,AA22,AC22,AE22,AG22,AI22)),0) -> 847262 | AR22: =ROUND((H22*AQ22),0) -> 847262
C23: 8.4 | D23: De 1,70 x 1,74 m | G23: UND. | H23: 1 | I23: 390000 | J23: =I23*H23 -> 390000 | K23: 760760 | L23: =K23*H23 -> 760760 | M23: 2000000 | N23: =M23*H23 -> 2000000 | O23: 2150584.3 | P23: =O23*H23 -> 2150584.3 | Q23: 1005000 | R23: =Q23*H23 -> 1005000 | S23: 1260000 | T23: =S23*H23 -> 1260000 | U23: 380000 | V23: =U23*H23 -> 380000 | W23: 320000 | X23: =W23*H23 -> 320000 | Y23: 330000 | Z23: =Y23*H23 -> 330000 | AA23: 330000 | AB23: =AA23*H23 -> 330000 | AC23: 350000 | AD23: =AC23*H23 -> 350000 | AF23: =AE23*H23 -> 0 | AH23: =AG23*H23 -> 0 | AJ23: =AI23*H23 -> 0 | AK23: =ROUND((AVERAGE(I23,K23,M23,O23,Q23,S23,U23,W23,Y23,AA23,AC23,AE23,AG23,AI23)),0) -> 843304 | AL23: =ROUND((AK23*H23),0) -> 843304 | AM23: =ROUND((MEDIAN(I23,K23,M23,O23,Q23,S23,U23,W23,Y23,AA23,AC23,AE23,AG23,AI23)),0) -> 390000 | AN23: =ROUND((H23*AM23),0) -> 390000 | AO23: =ROUND((HARMEAN(I23,K23,M23,O23,Q23,S23,U23,W23,Y23,AA23,AC23,AE23,AG23,AI23)),0) -> 516273 | AP23: =ROUND((H23*AO23),0) -> 516273 | AQ23: =ROUND((GEOMEAN(I23,K23,M23,O23,Q23,S23,U23,W23,Y23,AA23,AC23,AE23,AG23,AI23)),0) -> 640869 | AR23: =ROUND((H23*AQ23),0) -> 640869
C24: 8.5 | D24: De 1,74 x 2,78 m | G24: UND. | H24: 1 | I24: 460000 | J24: =I24*H24 -> 460000 | K24: 858000 | L24: =K24*H24 -> 858000 | M24: 3200000 | N24: =M24*H24 -> 3200000 | O24: 3516837.9 | P24: =O24*H24 -> 3516837.9 | Q24: 1644648 | R24: =Q24*H24 -> 1644648 | S24: 210000 | T24: =S24*H24 -> 210000 | U24: 450000 | V24: =U24*H24 -> 450000 | W24: 420000 | X24: =W24*H24 -> 420000 | Y24: 400000 | Z24: =Y24*H24 -> 400000 | AA24: 420000 | AB24: =AA24*H24 -> 420000 | AC24: 430000 | AD24: =AC24*H24 -> 430000 | AF24: =AE24*H24 -> 0 | AH24: =AG24*H24 -> 0 | AJ24: =AI24*H24 -> 0 | AK24: =ROUND((AVERAGE(I24,K24,M24,O24,Q24,S24,U24,W24,Y24,AA24,AC24,AE24,AG24,AI24)),0) -> 1091771 | AL24: =ROUND((AK24*H24),0) -> 1091771 | AM24: =ROUND((MEDIAN(I24,K24,M24,O24,Q24,S24,U24,W24,Y24,AA24,AC24,AE24,AG24,AI24)),0) -> 450000 | AN24: =ROUND((H24*AM24),0) -> 450000 | AO24: =ROUND((HARMEAN(I24,K24,M24,O24,Q24,S24,U24,W24,Y24,AA24,AC24,AE24,AG24,AI24)),0) -> 520934 | AP24: =ROUND((H24*AO24),0) -> 520934 | AQ24: =ROUND((GEOMEAN(I24,K24,M24,O24,Q24,S24,U24,W24,Y24,AA24,AC24,AE24,AG24,AI24)),0) -> 703673 | AR24: =ROUND((H24*AQ24),0) -> 703673
C25: 8.6 | D25: De 1,54 x 1,59 m | G25: UND. | H25: 1 | I25: 350000 | J25: =I25*H25 -> 350000 | K25: 790830 | L25: =K25*H25 -> 790830 | M25: 1600000 | N25: =M25*H25 -> 1600000 | O25: 1780230.1 | P25: =O25*H25 -> 1780230.1 | Q25: 832524 | R25: =Q25*H25 -> 832524 | S25: 1274000 | T25: =S25*H25 -> 1274000 | U25: 350000 | V25: =U25*H25 -> 350000 | W25: 300000 | X25: =W25*H25 -> 300000 | Y25: 280000 | Z25: =Y25*H25 -> 280000 | AA25: 320000 | AB25: =AA25*H25 -> 320000 | AC25: 330000 | AD25: =AC25*H25 -> 330000 | AF25: =AE25*H25 -> 0 | AH25: =AG25*H25 -> 0 | AJ25: =AI25*H25 -> 0 | AK25: =ROUND((AVERAGE(I25,K25,M25,O25,Q25,S25,U25,W25,Y25,AA25,AC25,AE25,AG25,AI25)),0) -> 746144 | AL25: =ROUND((AK25*H25),0) -> 746144 | AM25: =ROUND((MEDIAN(I25,K25,M25,O25,Q25,S25,U25,W25,Y25,AA25,AC25,AE25,AG25,AI25)),0) -> 350000 | AN25: =ROUND((H25*AM25),0) -> 350000 | AO25: =ROUND((HARMEAN(I25,K25,M25,O25,Q25,S25,U25,W25,Y25,AA25,AC25,AE25,AG25,AI25)),0) -> 473900 | AP25: =ROUND((H25*AO25),0) -> 473900 | AQ25: =ROUND((GEOMEAN(I25,K25,M25,O25,Q25,S25,U25,W25,Y25,AA25,AC25,AE25,AG25,AI25)),0) -> 582021 | AR25: =ROUND((H25*AQ25),0) -> 582021
C26: 9 | D26: Suministro e instalacion de ventanal de piso en aluminio y vidrio color bronce con pelicula de seguridad a los vidrios. Diseño en dos niveles, el nivel superior con una altura de 75 cm alas pivontantes. El Nivel inferior con una altura de 2 m y dos (2) alas corredizas. Ver diseño. | G26: m2 | H26: 33 | I26: 680000 | J26: =I26*H26 -> 22440000 | K26: 998980 | L26: =K26*H26 -> 32966340 | M26: 650000 | N26: =M26*H26 -> 21450000 | O26: 727040 | P26: =O26*H26 -> 23992320 | Q26: 335000 | R26: =Q26*H26 -> 11055000 | S26: 560000 | T26: =S26*H26 -> 18480000 | U26: 400000 | V26: =U26*H26 -> 13200000 | W26: 350000 | X26: =W26*H26 -> 11550000 | Y26: 500000 | Z26: =Y26*H26 -> 16500000 | AA26: 420000 | AB26: =AA26*H26 -> 13860000 | AC26: 430000 | AD26: =AC26*H26 -> 14190000 | AE26: =425000*1.0161 -> 431842.5 | AF26: =AE26*H26 -> 14250802 | AG26: =520000*1.0161 -> 528372 | AH26: =AG26*H26 -> 17436276 | AJ26: =AI26*H26 -> 0 | AK26: =ROUND((AVERAGE(I26,K26,M26,O26,Q26,S26,U26,W26,Y26,AA26,AC26,AE26,AG26,AI26)),0) -> 539326 | AL26: =ROUND((AK26*H26),0) -> 17797758 | AM26: =ROUND((MEDIAN(I26,K26,M26,O26,Q26,S26,U26,W26,Y26,AA26,AC26,AE26,AG26,AI26)),0) -> 500000 | AN26: =ROUND((H26*AM26),0) -> 16500000 | AO26: =ROUND((HARMEAN(I26,K26,M26,O26,Q26,S26,U26,W26,Y26,AA26,AC26,AE26,AG26,AI26)),0) -> 491898 | AP26: =ROUND((H26*AO26),0) -> 16232634 | AQ26: =ROUND((GEOMEAN(I26,K26,M26,O26,Q26,S26,U26,W26,Y26,AA26,AC26,AE26,AG26,AI26)),0) -> 513757 | AR26: =ROUND((H26*AQ26),0) -> 16953981
C27: 10 | D27: Construcción de rampa en concreto, F'c= 21 Mpa incluye malla electrosoldada y acero de reduerzo. Ancho = 1,50 m. h = 30 cm | G27: m3 | H27: 2 | I27: 760000 | J27: =I27*H27 -> 1520000 | K27: 750890 | L27: =K27*H27 -> 1501780 | M27: 1200000 | N27: =M27*H27 -> 2400000 | O27: 551949.48 | P27: =O27*H27 -> 1103899 | Q27: 1386000 | R27: =Q27*H27 -> 2772000 | S27: 210000 | T27: =S27*H27 -> 420000 | U27: 700000 | V27: =U27*H27 -> 1400000 | W27: 690000 | X27: =W27*H27 -> 1380000 | Y27: 751000 | Z27: =Y27*H27 -> 1502000 | AA27: 560000 | AB27: =AA27*H27 -> 1120000 | AC27: 580000 | AD27: =AC27*H27 -> 1160000 | AF27: =AE27*H27 -> 0 | AG27: =137723*1.0161 -> 139940.34 | AH27: =AG27*H27 -> 279880.68 | AJ27: =AI27*H27 -> 0 | AK27: =ROUND((AVERAGE(I27,K27,M27,O27,Q27,S27,U27,W27,Y27,AA27,AC27,AE27,AG27,AI27)),0) -> 689982 | AL27: =ROUND((AK27*H27),0) -> 1379964 | AM27: =ROUND((MEDIAN(I27,K27,M27,O27,Q27,S27,U27,W27,Y27,AA27,AC27,AE27,AG27,AI27)),0) -> 695000 | AN27: =ROUND((H27*AM27),0) -> 1390000 | AO27: =ROUND((HARMEAN(I27,K27,M27,O27,Q27,S27,U27,W27,Y27,AA27,AC27,AE27,AG27,AI27)),0) -> 467997 | AP27: =ROUND((H27*AO27),0) -> 935994 | AQ27: =ROUND((GEOMEAN(I27,K27,M27,O27,Q27,S27,U27,W27,Y27,AA27,AC27,AE27,AG27,AI27)),0) -> 590949 | AR27: =ROUND((H27*AQ27),0) -> 1181898
C28: 11 | D28: Suministro y aplicación de pintura acrílica para exterior, tipo Koraza o similar, de primera calidad, sobre columnas, muro o vigas y/o pintura existente, color a definir, en todas las superficies a pintar, se aplicarán cuantas manos de pintura e imprimantes sean necesarios. Incluye todo tipo de resanes y preparación de superficie. | G28: m2 | H28: 35 | I28: 26000 | J28: =I28*H28 -> 910000 | K28: 15600 | L28: =K28*H28 -> 546000 | M28: 40000 | N28: =M28*H28 -> 1400000 | O28: 35200 | P28: =O28*H28 -> 1232000 | Q28: 23400 | R28: =Q28*H28 -> 819000 | S28: 32200 | T28: =S28*H28 -> 1127000 | U28: 23000 | V28: =U28*H28 -> 805000 | W28: 25000 | X28: =W28*H28 -> 875000 | Y28: 32000 | Z28: =Y28*H28 -> 1120000 | AA28: 25000 | AB28: =AA28*H28 -> 875000 | AC28: 28000 | AD28: =AC28*H28 -> 980000 | AF28: =AE28*H28 -> 0 | AG28: =27250*1.0161 -> 27688.725 | AH28: =AG28*H28 -> 969105.38 | AJ28: =AI28*H28 -> 0 | AK28: =ROUND((AVERAGE(I28,K28,M28,O28,Q28,S28,U28,W28,Y28,AA28,AC28,AE28,AG28,AI28)),0) -> 27757 | AL28: =ROUND((AK28*H28),0) -> 971495 | AM28: =ROUND((MEDIAN(I28,K28,M28,O28,Q28,S28,U28,W28,Y28,AA28,AC28,AE28,AG28,AI28)),0) -> 26844 | AN28: =ROUND((H28*AM28),0) -> 939540 | AO28: =ROUND((HARMEAN(I28,K28,M28,O28,Q28,S28,U28,W28,Y28,AA28,AC28,AE28,AG28,AI28)),0) -> 26297 | AP28: =ROUND((H28*AO28),0) -> 920395 | AQ28: =ROUND((GEOMEAN(I28,K28,M28,O28,Q28,S28,U28,W28,Y28,AA28,AC28,AE28,AG28,AI28)),0) -> 27050 | AR28: =ROUND((H28*AQ28),0) -> 946750
C29: 12 | D29: Suministro y colocación de teja ecologica, placa ondulada, fabricada con fibras vegetales y saturada con bitumen. Color verde. Incluye estructura en metalica para colocación de teja sobre la existente, correas, traslapos frontales minimo 17 cm, traslape lateral minimo 1 ondulación. | G29: m2 | H29: 180 | I29: 58000 | J29: =I29*H29 -> 10440000 | K29: 98100 | L29: =K29*H29 -> 17658000 | M29: 80000 | N29: =M29*H29 -> 14400000 | O29: 134505.18 | P29: =O29*H29 -> 24210932 | Q29: 230000 | R29: =Q29*H29 -> 41400000 | S29: 123200 | T29: =S29*H29 -> 22176000 | U29: 78000 | V29: =U29*H29 -> 14040000 | W29: 62000 | X29: =W29*H29 -> 11160000 | Y29: 75000 | Z29: =Y29*H29 -> 13500000 | AA29: 50000 | AB29: =AA29*H29 -> 9000000 | AC29: 45000 | AD29: =AC29*H29 -> 8100000 | AE29: =46500*1.0161 -> 47248.65 | AF29: =AE29*H29 -> 8504757 | AH29: =AG29*H29 -> 0 | AJ29: =AI29*H29 -> 0 | AK29: =ROUND((AVERAGE(I29,K29,M29,O29,Q29,S29,U29,W29,Y29,AA29,AC29,AE29,AG29,AI29)),0) -> 90088 | AL29: =ROUND((AK29*H29),0) -> 16215840 | AM29: =ROUND((MEDIAN(I29,K29,M29,O29,Q29,S29,U29,W29,Y29,AA29,AC29,AE29,AG29,AI29)),0) -> 76500 | AN29: =ROUND((H29*AM29),0) -> 13770000 | AO29: =ROUND((HARMEAN(I29,K29,M29,O29,Q29,S29,U29,W29,Y29,AA29,AC29,AE29,AG29,AI29)),0) -> 72506 | AP29: =ROUND((H29*AO29),0) -> 13051080 | AQ29: =ROUND((GEOMEAN(I29,K29,M29,O29,Q29,S29,U29,W29,Y29,AA29,AC29,AE29,AG29,AI29)),0) -> 79821 | AR29: =ROUND((H29*AQ29),0) -> 14367780
C30: 13 | D30: Suministro e instalación de impermeabilización con Restrucreto MIP o similar y pintura Supercryl larga vida o similar.(losa terraza) | G30: m2 | H30: 10 | I30: 16000 | J30: =I30*H30 -> 160000 | K30: 35890 | L30: =K30*H30 -> 358900 | M30: 160000 | N30: =M30*H30 -> 1600000 | O30: 140800 | P30: =O30*H30 -> 1408000 | Q30: 61170 | R30: =Q30*H30 -> 611700 | S30: 63000 | T30: =S30*H30 -> 630000 | U30: 99000 | V30: =U30*H30 -> 990000 | W30: 90000 | X30: =W30*H30 -> 900000 | Y30: 110000 | Z30: =Y30*H30 -> 1100000 | AA30: 113000 | AB30: =AA30*H30 -> 1130000 | AC30: 120000 | AD30: =AC30*H30 -> 1200000 | AF30: =AE30*H30 -> 0 | AH30: =AG30*H30 -> 0 | AJ30: =AI30*H30 -> 0 | AK30: =ROUND((AVERAGE(I30,K30,M30,O30,Q30,S30,U30,W30,Y30,AA30,AC30,AE30,AG30,AI30)),0) -> 91715 | AL30: =ROUND((AK30*H30),0) -> 917150 | AM30: =ROUND((MEDIAN(I30,K30,M30,O30,Q30,S30,U30,W30,Y30,AA30,AC30,AE30,AG30,AI30)),0) -> 99000 | AN30: =ROUND((H30*AM30),0) -> 990000 | AO30: =ROUND((HARMEAN(I30,K30,M30,O30,Q30,S30,U30,W30,Y30,AA30,AC30,AE30,AG30,AI30)),0) -> 59971 | AP30: =ROUND((H30*AO30),0) -> 599710 | AQ30: =ROUND((GEOMEAN(I30,K30,M30,O30,Q30,S30,U30,W30,Y30,AA30,AC30,AE30,AG30,AI30)),0) -> 78134 | AR30: =ROUND((H30*AQ30),0) -> 781340
C31: 14 | D31: Suministro y aplicación de pintura para aislamiento termico, para aplicar en teja de fibrocemento en el interior, de primera calidad, dejajo de la teja, color a definir, en todas las superficies a pintar, se aplicarán cuantas manos de pintura e imprimantes sean necesarios. Incluye todo tipo de resanes y preparación de superficie. Para Muros, columnas y vigas. | G31: m2 | H31: 180 | I31: 23000 | J31: =I31*H31 -> 4140000 | K31: 18600 | L31: =K31*H31 -> 3348000 | M31: 50000 | N31: =M31*H31 -> 9000000 | O31: 25344 | P31: =O31*H31 -> 4561920 | Q31: 23800 | R31: =Q31*H31 -> 4284000 | S31: 39200 | T31: =S31*H31 -> 7056000 | U31: 26000 | V31: =U31*H31 -> 4680000 | W31: 35000 | X31: =W31*H31 -> 6300000 | Y31: 32000 | Z31: =Y31*H31 -> 5760000 | AA31: 35000 | AB31: =AA31*H31 -> 6300000 | AC31: 38000 | AD31: =AC31*H31 -> 6840000 | AF31: =AE31*H31 -> 0 | AH31: =AG31*H31 -> 0 | AJ31: =AI31*H31 -> 0 | AK31: =ROUND((AVERAGE(I31,K31,M31,O31,Q31,S31,U31,W31,Y31,AA31,AC31,AE31,AG31,AI31)),0) -> 31449 | AL31: =ROUND((AK31*H31),0) -> 5660820 | AM31: =ROUND((MEDIAN(I31,K31,M31,O31,Q31,S31,U31,W31,Y31,AA31,AC31,AE31,AG31,AI31)),0) -> 32000 | AN31: =ROUND((H31*AM31),0) -> 5760000 | AO31: =ROUND((HARMEAN(I31,K31,M31,O31,Q31,S31,U31,W31,Y31,AA31,AC31,AE31,AG31,AI31)),0) -> 29147 | AP31: =ROUND((H31*AO31),0) -> 5246460 | AQ31: =ROUND((GEOMEAN(I31,K31,M31,O31,Q31,S31,U31,W31,Y31,AA31,AC31,AE31,AG31,AI31)),0) -> 30275 | AR31: =ROUND((H31*AQ31),0) -> 5449500
D32: LADO AIRE AEROPUERTO MORELA DE PUERTO BERRIO - ANTIOQUIA | J32: =I32*H32 -> 0 | L32: =K32*H32 -> 0 | N32: =M32*H32 -> 0 | P32: =O32*H32 -> 0 | R32: =Q32*H32 -> 0 | T32: =S32*H32 -> 0 | V32: =U32*H32 -> 0 | X32: =W32*H32 -> 0 | Z32: =Y32*H32 -> 0 | AB32: =AA32*H32 -> 0 | AD32: =AC32*H32 -> 0 | AF32: =AE32*H32 -> 0 | AH32: =AG32*H32 -> 0 | AJ32: =AI32*H32 -> 0
C33: 15 | D33: Excavación mecanica en material común y conglomerado. Incluye cargue y botada de escombros. | G33: m3 | H33: 609 | I33: 98000 | J33: =I33*H33 -> 59682000 | K33: 27890 | L33: =K33*H33 -> 16985010 | M33: 70000 | N33: =M33*H33 -> 42630000 | O33: 63744 | P33: =O33*H33 -> 38820096 | Q33: 89700 | R33: =Q33*H33 -> 54627300 | S33: 42000 | T33: =S33*H33 -> 25578000 | U33: 42641 | V33: =U33*H33 -> 25968369 | W33: 40759 | X33: =W33*H33 -> 24822231 | Y33: 43465.034 | Z33: =Y33*H33 -> 26470205 | AA33: 27000 | AB33: =AA33*H33 -> 16443000 | AC33: 31000 | AD33: =AC33*H33 -> 18879000 | AE33: =42641*1.0161 -> 43327.52 | AF33: =AE33*H33 -> 26386460 | AH33: =AG33*H33 -> 0 | AI33: =4752*1.038*1.0161 -> 5011.9905 | AJ33: =AI33*H33 -> 3052302.2 | AK33: =ROUND((AVERAGE(I33,K33,M33,O33,Q33,S33,U33,W33,Y33,AA33,AC33,AE33,AG33,AI33)),0) -> 48041 | AL33: =ROUND((AK33*H33),0) -> 29256969 | AM33: =ROUND((MEDIAN(I33,K33,M33,O33,Q33,S33,U33,W33,Y33,AA33,AC33,AE33,AG33,AI33)),0) -> 42641 | AN33: =ROUND((H33*AM33),0) -> 25968369 | AO33: =ROUND((HARMEAN(I33,K33,M33,O33,Q33,S33,U33,W33,Y33,AA33,AC33,AE33,AG33,AI33)),0) -> 27433 | AP33: =ROUND((H33*AO33),0) -> 16706697 | AQ33: =ROUND((GEOMEAN(I33,K33,M33,O33,Q33,S33,U33,W33,Y33,AA33,AC33,AE33,AG33,AI33)),0) -> 39810 | AR33: =ROUND((H33*AQ33),0) -> 24244290
C34: 16 | D34: Suministro, colocacion y compactación de Subbase granular estabilizada con cemento, con materiales de la zona mejorada en sitio con equipo especializado, espesor 15 cm | G34: m3 | H34: =1218*0.15 -> 182.7 | I34: 910000 | J34: =I34*H34 -> 166257000 | K34: 160234 | L34: =K34*H34 -> 29274752 | M34: 300000 | N34: =M34*H34 -> 54810000 | O34: 134400 | P34: =O34*H34 -> 24554880 | Q34: 206639 | R34: =Q34*H34 -> 37752945 | S34: 92400 | T34: =S34*H34 -> 16881480 | U34: 280000 | V34: =U34*H34 -> 51156000 | W34: 300000 | X34: =W34*H34 -> 54810000 | Y34: 210000 | Z34: =Y34*H34 -> 38367000 | AA34: 220000 | AB34: =AA34*H34 -> 40194000 | AC34: 200000 | AD34: =AC34*H34 -> 36540000 | AE34: =213000*1.0161 -> 216429.3 | AF34: =AE34*H34 -> 39541633 | AH34: =AG34*H34 -> 0 | AI34: =159009.13*1.038*1.0161 -> 167708.81 | AJ34: =AI34*H34 -> 30640399 | AK34: =ROUND((AVERAGE(I34,K34,M34,O34,Q34,S34,U34,W34,Y34,AA34,AC34,AE34,AG34,AI34)),0) -> 261370 | AL34: =ROUND((AK34*H34),0) -> 47752299 | AM34: =ROUND((MEDIAN(I34,K34,M34,O34,Q34,S34,U34,W34,Y34,AA34,AC34,AE34,AG34,AI34)),0) -> 210000 | AN34: =ROUND((H34*AM34),0) -> 38367000 | AO34: =ROUND((HARMEAN(I34,K34,M34,O34,Q34,S34,U34,W34,Y34,AA34,AC34,AE34,AG34,AI34)),0) -> 198259 | AP34: =ROUND((H34*AO34),0) -> 36221919 | AQ34: =ROUND((GEOMEAN(I34,K34,M34,O34,Q34,S34,U34,W34,Y34,AA34,AC34,AE34,AG34,AI34)),0) -> 221899 | AR34: =ROUND((H34*AQ34),0) -> 40540947
C35: 17 | D35: Reciclado de pavimento y estructura en zona de repavimentación espesor 30 cm, incluye mejoramiento de la estructura con cemento y compactacion de la misma para posterior pavimentación | G35: m2 | H35: 1218 | I35: 939000 | J35: =I35*H35 -> 1143702000 | K35: 18890 | L35: =K35*H35 -> 23008020 | M35: 55000 | N35: =M35*H35 -> 66990000 | O35: 377664 | P35: =O35*H35 -> 459994752 | Q35: 432123 | R35: =Q35*H35 -> 526325814 | S35: 63000 | T35: =S35*H35 -> 76734000 | U35: 60000 | V35: =U35*H35 -> 73080000 | W35: 42000 | X35: =W35*H35 -> 51156000 | Y35: 45000 | Z35: =Y35*H35 -> 54810000 | AA35: 39000 | AB35: =AA35*H35 -> 47502000 | AC35: 50000 | AD35: =AC35*H35 -> 60900000 | AF35: =AE35*H35 -> 0 | AH35: =AG35*H35 -> 0 | AI35: =38000*1.038*1.0161 -> 40079.048 | AJ35: =AI35*H35 -> 48816281 | AK35: =ROUND((AVERAGE(I35,K35,M35,O35,Q35,S35,U35,W35,Y35,AA35,AC35,AE35,AG35,AI35)),0) -> 180146 | AL35: =ROUND((AK35*H35),0) -> 219417828 | AM35: =ROUND((MEDIAN(I35,K35,M35,O35,Q35,S35,U35,W35,Y35,AA35,AC35,AE35,AG35,AI35)),0) -> 52500 | AN35: =ROUND((H35*AM35),0) -> 63945000 | AO35: =ROUND((HARMEAN(I35,K35,M35,O35,Q35,S35,U35,W35,Y35,AA35,AC35,AE35,AG35,AI35)),0) -> 53025 | AP35: =ROUND((H35*AO35),0) -> 64584450 | AQ35: =ROUND((GEOMEAN(I35,K35,M35,O35,Q35,S35,U35,W35,Y35,AA35,AC35,AE35,AG35,AI35)),0) -> 81735 | AR35: =ROUND((H35*AQ35),0) -> 99553230
C36: 18 | D36: Suministro y aplicación de Imprimación y Riego de liga con emulsión asfáltica P-402-403 | G36: m2 | H36: 1218 | I36: 9200 | J36: =I36*H36 -> 11205600 | K36: 4867 | L36: =K36*H36 -> 5928006 | M36: 6000 | N36: =M36*H36 -> 7308000 | O36: 3585.28 | P36: =O36*H36 -> 4366871 | Q36: 321000 | R36: =Q36*H36 -> 390978000 | S36: 6300 | T36: =S36*H36 -> 7673400 | U36: 4800 | V36: =U36*H36 -> 5846400 | W36: 5200 | X36: =W36*H36 -> 6333600 | Y36: 4700 | Z36: =Y36*H36 -> 5724600 | AA36: 4500 | AB36: =AA36*H36 -> 5481000 | AC36: 4900 | AD36: =AC36*H36 -> 5968200 | AE36: =4200*1.0161 -> 4267.62 | AF36: =AE36*H36 -> 5197961.2 | AH36: =AG36*H36 -> 0 | AI36: =4038*1.038*1.0161 -> 4258.9262 | AJ36: =AI36*H36 -> 5187372.2 | AK36: =ROUND((AVERAGE(I36,K36,M36,O36,Q36,S36,U36,W36,Y36,AA36,AC36,AE36,AG36,AI36)),0) -> 29506 | AL36: =ROUND((AK36*H36),0) -> 35938308 | AM36: =ROUND((MEDIAN(I36,K36,M36,O36,Q36,S36,U36,W36,Y36,AA36,AC36,AE36,AG36,AI36)),0) -> 4867 | AN36: =ROUND((H36*AM36),0) -> 5928006 | AO36: =ROUND((HARMEAN(I36,K36,M36,O36,Q36,S36,U36,W36,Y36,AA36,AC36,AE36,AG36,AI36)),0) -> 5349 | AP36: =ROUND((H36*AO36),0) -> 6515082 | AQ36: =ROUND((GEOMEAN(I36,K36,M36,O36,Q36,S36,U36,W36,Y36,AA36,AC36,AE36,AG36,AI36)),0) -> 6970 | AR36: =ROUND((H36*AQ36),0) -> 8489460
C37: 19 | D37: Suministro e instalación de carpeta de rodadura mezcla densa en caliente Norma P-401 FAA. | G37: m3 | H37: =1218*0.12 -> 146.16 | I37: 489000 | J37: =I37*H37 -> 71472240 | K37: 980650 | L37: =K37*H37 -> 143331804 | M37: 1600000 | N37: =M37*H37 -> 233856000 | O37: 702085.12 | P37: =O37*H37 -> 1.0261676e+08 | Q37: 432123 | R37: =Q37*H37 -> 63159098 | S37: 98000 | T37: =S37*H37 -> 14323680 | U37: 800000 | V37: =U37*H37 -> 116928000 | W37: 820000 | X37: =W37*H37 -> 119851200 | Y37: 890000 | Z37: =Y37*H37 -> 130082400 | AA37: 750000 | AB37: =AA37*H37 -> 109620000 | AC37: 780000 | AD37: =AC37*H37 -> 114004800 | AE37: =935000*1.0161 -> 950053.5 | AF37: =AE37*H37 -> 1.3885982e+08 | AH37: =AG37*H37 -> 0 | AI37: =738018*1.038*1.0161 -> 778396.29 | AJ37: =AI37*H37 -> 1.137704e+08 | AK37: =ROUND((AVERAGE(I37,K37,M37,O37,Q37,S37,U37,W37,Y37,AA37,AC37,AE37,AG37,AI37)),0) -> 774639 | AL37: =ROUND((AK37*H37),0) -> 113221236 | AM37: =ROUND((MEDIAN(I37,K37,M37,O37,Q37,S37,U37,W37,Y37,AA37,AC37,AE37,AG37,AI37)),0) -> 780000 | AN37: =ROUND((H37*AM37),0) -> 114004800 | AO37: =ROUND((HARMEAN(I37,K37,M37,O37,Q37,S37,U37,W37,Y37,AA37,AC37,AE37,AG37,AI37)),0) -> 496599 | AP37: =ROUND((H37*AO37),0) -> 72582910 | AQ37: =ROUND((GEOMEAN(I37,K37,M37,O37,Q37,S37,U37,W37,Y37,AA37,AC37,AE37,AG37,AI37)),0) -> 672567 | AR37: =ROUND((H37*AQ37),0) -> 98302393
C38: 20 | D38: Relleno de margen de seguridad en sub base compactada | G38: m3 | H38: =700*2*0.1 -> 140 | I38: 84000 | J38: =I38*H38 -> 11760000 | K38: 116890 | L38: =K38*H38 -> 16364600 | M38: 1800000 | N38: =M38*H38 -> 252000000 | O38: 72343.2 | P38: =O38*H38 -> 10128048 | Q38: 98765 | R38: =Q38*H38 -> 13827100 | S38: 42000 | T38: =S38*H38 -> 5880000 | U38: 95000 | V38: =U38*H38 -> 13300000 | W38: 120000 | X38: =W38*H38 -> 16800000 | Y38: 78000 | Z38: =Y38*H38 -> 10920000 | AA38: 80000 | AB38: =AA38*H38 -> 11200000 | AC38: 100000 | AD38: =AC38*H38 -> 14000000 | AE38: =51430*1.0161 -> 52258.023 | AF38: =AE38*H38 -> 7316123.2 | AH38: =AG38*H38 -> 0 | AI38: =94459.23*1.038*1.0161 -> 99627.264 | AJ38: =AI38*H38 -> 13947817 | AK38: =ROUND((AVERAGE(I38,K38,M38,O38,Q38,S38,U38,W38,Y38,AA38,AC38,AE38,AG38,AI38)),0) -> 218376 | AL38: =ROUND((AK38*H38),0) -> 30572640 | AM38: =ROUND((MEDIAN(I38,K38,M38,O38,Q38,S38,U38,W38,Y38,AA38,AC38,AE38,AG38,AI38)),0) -> 95000 | AN38: =ROUND((H38*AM38),0) -> 13300000 | AO38: =ROUND((HARMEAN(I38,K38,M38,O38,Q38,S38,U38,W38,Y38,AA38,AC38,AE38,AG38,AI38)),0) -> 85455 | AP38: =ROUND((H38*AO38),0) -> 11963700 | AQ38: =ROUND((GEOMEAN(I38,K38,M38,O38,Q38,S38,U38,W38,Y38,AA38,AC38,AE38,AG38,AI38)),0) -> 105330 | AR38: =ROUND((H38*AQ38),0) -> 14746200
C39: 21 | D39: Suministro e instalación de señalización de la pista, llaves de volteo, calles de rodaje y plataforma con pintura acrilica de tráfico pesado y microesferas reflectivas en colores amarillo y blanco. Normatividad vigente: Anexo 14 de la OACI, RAC, Norma ICONTEC 1360 y FAA P-620 | G39: m2 | H39: 3527 | I39: 58000 | J39: =I39*H39 -> 204566000 | K39: 26800 | L39: =K39*H39 -> 94523600 | M39: 80000 | N39: =M39*H39 -> 282160000 | O39: 12070.4 | P39: =O39*H39 -> 42572301 | Q39: 87654 | R39: =Q39*H39 -> 309155658 | S39: 17852 | T39: =S39*H39 -> 62964004 | U39: 47000 | V39: =U39*H39 -> 165769000 | W39: 60000 | X39: =W39*H39 -> 211620000 | Y39: 50000 | Z39: =Y39*H39 -> 176350000 | AA39: 48000 | AB39: =AA39*H39 -> 169296000 | AC39: 45000 | AD39: =AC39*H39 -> 158715000 | AF39: =AE39*H39 -> 0 | AH39: =AG39*H39 -> 0 | AI39: =40657*1.038*1.0161 -> 42881.418 | AJ39: =AI39*H39 -> 1.5124276e+08 | AK39: =ROUND((AVERAGE(I39,K39,M39,O39,Q39,S39,U39,W39,Y39,AA39,AC39,AE39,AG39,AI39)),0) -> 47938 | AL39: =ROUND((AK39*H39),0) -> 169077326 | AM39: =ROUND((MEDIAN(I39,K39,M39,O39,Q39,S39,U39,W39,Y39,AA39,AC39,AE39,AG39,AI39)),0) -> 47500 | AN39: =ROUND((H39*AM39),0) -> 167532500 | AO39: =ROUND((HARMEAN(I39,K39,M39,O39,Q39,S39,U39,W39,Y39,AA39,AC39,AE39,AG39,AI39)),0) -> 35124 | AP39: =ROUND((H39*AO39),0) -> 123882348 | AQ39: =ROUND((GEOMEAN(I39,K39,M39,O39,Q39,S39,U39,W39,Y39,AA39,AC39,AE39,AG39,AI39)),0) -> 42063 | AR39: =ROUND((H39*AQ39),0) -> 148356201
C40: 22 | D40: Retiro de postes de cerramiento | G40: UND. | H40: 5 | I40: 16000 | J40: =I40*H40 -> 80000 | K40: 15800 | L40: =K40*H40 -> 79000 | M40: 12000 | N40: =M40*H40 -> 60000 | O40: 9984 | P40: =O40*H40 -> 49920 | Q40: 16800 | R40: =Q40*H40 -> 84000 | S40: 35000 | T40: =S40*H40 -> 175000 | U40: 18000 | V40: =U40*H40 -> 90000 | W40: 17800 | X40: =W40*H40 -> 89000 | Y40: 20000 | Z40: =Y40*H40 -> 100000 | AA40: 15000 | AB40: =AA40*H40 -> 75000 | AC40: 14800 | AD40: =AC40*H40 -> 74000 | AF40: =AE40*H40 -> 0 | AH40: =AG40*H40 -> 0 | AJ40: =AI40*H40 -> 0 | AK40: =ROUND((AVERAGE(I40,K40,M40,O40,Q40,S40,U40,W40,Y40,AA40,AC40,AE40,AG40,AI40)),0) -> 17380 | AL40: =ROUND((AK40*H40),0) -> 86900 | AM40: =ROUND((MEDIAN(I40,K40,M40,O40,Q40,S40,U40,W40,Y40,AA40,AC40,AE40,AG40,AI40)),0) -> 16000 | AN40: =ROUND((H40*AM40),0) -> 80000 | AO40: =ROUND((HARMEAN(I40,K40,M40,O40,Q40,S40,U40,W40,Y40,AA40,AC40,AE40,AG40,AI40)),0) -> 15865 | AP40: =ROUND((H40*AO40),0) -> 79325 | AQ40: =ROUND((GEOMEAN(I40,K40,M40,O40,Q40,S40,U40,W40,Y40,AA40,AC40,AE40,AG40,AI40)),0) -> 16539 | AR40: =ROUND((H40*AQ40),0) -> 82695
C41: 23 | D41: Retiro de malla eslabonada | G41: m2 | H41: =30*2 -> 60 | I41: 18000 | J41: =I41*H41 -> 1080000 | K41: 15600 | L41: =K41*H41 -> 936000 | M41: 18000 | N41: =M41*H41 -> 1080000 | O41: 37900.8 | P41: =O41*H41 -> 2274048 | Q41: 15500 | R41: =Q41*H41 -> 930000 | S41: 4200 | T41: =S41*H41 -> 252000 | U41: 13104 | V41: =U41*H41 -> 786240 | W41: 12525 | X41: =W41*H41 -> 751500 | Y41: 15257.338 | Z41: =Y41*H41 -> 915440.28 | AA41: 16000 | AB41: =AA41*H41 -> 960000 | AC41: 20000 | AD41: =AC41*H41 -> 1200000 | AE41: =13104*1.0161 -> 13314.974 | AF41: =AE41*H41 -> 798898.46 | AH41: =AG41*H41 -> 0 | AJ41: =AI41*H41 -> 0 | AK41: =ROUND((AVERAGE(I41,K41,M41,O41,Q41,S41,U41,W41,Y41,AA41,AC41,AE41,AG41,AI41)),0) -> 16617 | AL41: =ROUND((AK41*H41),0) -> 997020 | AM41: =ROUND((MEDIAN(I41,K41,M41,O41,Q41,S41,U41,W41,Y41,AA41,AC41,AE41,AG41,AI41)),0) -> 15550 | AN41: =ROUND((H41*AM41),0) -> 933000 | AO41: =ROUND((HARMEAN(I41,K41,M41,O41,Q41,S41,U41,W41,Y41,AA41,AC41,AE41,AG41,AI41)),0) -> 13136 | AP41: =ROUND((H41*AO41),0) -> 788160 | AQ41: =ROUND((GEOMEAN(I41,K41,M41,O41,Q41,S41,U41,W41,Y41,AA41,AC41,AE41,AG41,AI41)),0) -> 15032 | AR41: =ROUND((H41*AQ41),0) -> 901920
C42: 24 | D42: Suministro e instalación cerramiento tipo I en malla eslabonada con recubrimiento en PVC, calibre 8" incluyendo el recubrimiento, Incluye tuberia (Poste, Pie de apoyo y pie de amigo). Cuatro hilos de alambre de pua y accesorios. | G42: m2 | H42: =30*2 -> 60 | I42: 162000 | J42: =I42*H42 -> 9720000 | K42: 185600 | L42: =K42*H42 -> 11136000 | M42: 125000 | N42: =M42*H42 -> 7500000 | O42: 382336 | P42: =O42*H42 -> 22940160 | Q42: 175000 | R42: =Q42*H42 -> 10500000 | S42: 140000 | T42: =S42*H42 -> 8400000 | U42: 177257 | V42: =U42*H42 -> 10635420 | W42: 169430 | X42: =W42*H42 -> 10165800 | Y42: 189720.75 | Z42: =Y42*H42 -> 11383245 | AA42: 163000 | AB42: =AA42*H42 -> 9780000 | AC42: 170000 | AD42: =AC42*H42 -> 10200000 | AE42: =177257*1.0161 -> 180110.84 | AF42: =AE42*H42 -> 10806650 | AH42: =AG42*H42 -> 0 | AJ42: =AI42*H42 -> 0 | AK42: =ROUND((AVERAGE(I42,K42,M42,O42,Q42,S42,U42,W42,Y42,AA42,AC42,AE42,AG42,AI42)),0) -> 184955 | AL42: =ROUND((AK42*H42),0) -> 11097300 | AM42: =ROUND((MEDIAN(I42,K42,M42,O42,Q42,S42,U42,W42,Y42,AA42,AC42,AE42,AG42,AI42)),0) -> 172500 | AN42: =ROUND((H42*AM42),0) -> 10350000 | AO42: =ROUND((HARMEAN(I42,K42,M42,O42,Q42,S42,U42,W42,Y42,AA42,AC42,AE42,AG42,AI42)),0) -> 172867 | AP42: =ROUND((H42*AO42),0) -> 10372020 | AQ42: =ROUND((GEOMEAN(I42,K42,M42,O42,Q42,S42,U42,W42,Y42,AA42,AC42,AE42,AG42,AI42)),0) -> 177845 | AR42: =ROUND((H42*AQ42),0) -> 10670700
...

Sheet CIMITARRA
F2: FORMATO
F3: FORMATO 7 PROPUESTA ECONÓMICA
C4: Principio de Procedencia: 1201.092 | F4: Clave: GCON-1.0-12-112 | G4: Versión: 03 | I4: Fecha de aprobación: 28/12/2020 | J4: Página: 1 de 1
C6: OBJETO: RANC0304 REALIZAR MANTENIMIENTO DE LA INFRAESTRUCTURA AEROPORTUARIA LADO AIRE Y LADO TIERRA DE LOS AEROPUERTOS DE CIMITARRA Y PUERTO BERRIO | I6: ING ARANGO CIA SAS | K6: VÍAS Y EDIFICACIONES COLOMBIA SAS | M6: CONDEIN SAS | O6: HAH CONSTRUCCIONES SAS | Q6: ENETEL | S6: ITALOAMBIENTES | U6: JUAN CARLOS ORTIZ LOPEZ | W6: OSCAR MUÑOZ CORREA | Y6: GUSTAVO VASQUEZ PINZON | AA6: CARLOS CASTRO VEGA | AC6: FRANCISCO ALVAREZ PEREZ | AE6: PROMEDIO PROPUESTAS PRESENTADAS CONTRATACIÓN 20000584 H4 02 DE 2020 INCREMENTADOLAS AL IPC 1,61% DE 2020. | AG6: PROMEDIO PROPUESTAS PRESENTADAS CONTRATACIÓN 20000584 H4 03 DE 2020 INCREMENTADOLAS AL IPC 1,61% DE 2020. | AI6: PROMEDIO PROPUESTAS PRESENTADAS CONTRATACIÓN 20000584 H4 01 DE 2020 INCREMENTADOLAS AL IPC 1,61% DE 2020. | AK6: CONTRATO 19000734 H3 GRUPO SYC SAS | AM6: PROMEDIO | AO6: MEDIANA | AQ6: MEDIA ARMÓNICA | AS6: MEDIA GEOMÉTRICA
C7: ÍTEM | D7: DESCRIPCIÓN | G7: UNIDAD | H7: CANTIDAD | I7: VALOR UNITARIO | J7: VALOR PARCIAL | K7: VALOR UNITARIO | L7: VALOR PARCIAL | M7: VALOR UNITARIO | N7: VALOR PARCIAL | O7: VALOR UNITARIO | P7: VALOR PARCIAL | Q7: VALOR UNITARIO | R7: VALOR PARCIAL | S7: VALOR UNITARIO | T7: VALOR PARCIAL | U7: VALOR UNITARIO | V7: VALOR PARCIAL | W7: VALOR UNITARIO | X7: VALOR PARCIAL | Y7: VALOR UNITARIO | Z7: VALOR PARCIAL | AA7: VALOR UNITARIO | AB7: VALOR PARCIAL | AC7: VALOR UNITARIO | AD7: VALOR PARCIAL | AE7: VALOR UNITARIO | AF7: VALOR PARCIAL | AG7: VALOR UNITARIO | AH7: VALOR PARCIAL | AI7: VALOR UNITARIO | AJ7: VALOR PARCIAL | AK7: VALOR UNITARIO | AL7: VALOR PARCIAL | AM7: Valor Unitario | AN7: TOTAL | AO7: Valor Unitario | AP7: TOTAL | AQ7: Valor Unitario | AR7: TOTAL | AS7: Valor Unitario | AT7: TOTAL
D8: LADO TIERRA AEROPUERTO GUSTAVO ROJAS PINILLA DE CIMITARRA - SANTANDER
C9: 26 | D9: Demolicion de revoque en cielos y muros. | E9: Demolicion de revoque en cielos y muros. | F9: Demolicion de revoque en cielos y muros. | G9: m2 | H9: 500 | I9: 8000 | J9: =I9*H9 -> 4000000 | K9: 12300 | L9: =K9*H9 -> 6150000 | M9: 20000 | N9: =M9*H9 -> 10000000 | O9: 7040 | P9: =O9*H9 -> 3520000 | Q9: 14147 | R9: =H9*Q9 -> 7073500 | T9: =S9*H9 -> 0 | U9: 7100 | V9: =U9*H9 -> 3550000 | W9: 7500 | X9: =W9*H9 -> 3750000 | Y9: 10000 | Z9: =Y9*H9 -> 5000000 | AA9: 7600 | AB9: =AA9*H9 -> 3800000 | AC9: 8000 | AD9: =AC9*H9 -> 4000000 | AF9: =AE9*H9 -> 0 | AH9: =AG9*H9 -> 0 | AJ9: =AI9*H9 -> 0 | AL9: =AK9*H9 -> 0 | AM9: =ROUND((AVERAGE(I9,K9,M9,O9,Q9,S9,U9,W9,Y9,AA9,AC9,AE9,AG9,AI9,AK9)),0) -> 10169 | AN9: =ROUND((AM9*H9),0) -> 5084500 | AO9: =ROUND((MEDIAN(I9,K9,M9,O9,Q9,S9,U9,W9,Y9,AA9,AC9,AE9,AG9,AI9,AK9)),0) -> 8000 | AP9: =ROUND((H9*AO9),0) -> 4000000 | AQ9: =ROUND((HARMEAN(I9,K9,M9,O9,Q9,S9,U9,W9,Y9,AA9,AC9,AE9,AG9,AI9,AK9)),0) -> 9093 | AR9: =ROUND((H9*AQ9),0) -> 4546500 | AS9: =ROUND((GEOMEAN(I9,K9,M9,O9,Q9:S9,U9,W9,Y9,AA9,AC9,AE9,AG9,AI9,AK9)),0) -> 17422 | AT9: =ROUND((H9*AS9),0) -> 8711000
C10: 27 | D10: Suministro y colocación de revoque. Incluye ranuras, filetes y dilataciones. En muros y cielos. | E10: Suministro y colocación de revoque. Incluye ranuras, filetes y dilataciones. En muros y cielos. | F10: Suministro y colocación de revoque. Incluye ranuras, filetes y dilataciones. En muros y cielos. | G10: m2 | H10: 500 | I10: 18000 | J10: =I10*H10 -> 9000000 | K10: 28700 | L10: =K10*H10 -> 14350000 | M10: 40000 | N10: =M10*H10 -> 20000000 | O10: 27685.36 | P10: =O10*H10 -> 13842680 | Q10: 29611 | R10: =H10*Q10 -> 14805500 | S10: 21000 | T10: =S10*H10 -> 10500000 | U10: 22000 | V10: =U10*H10 -> 11000000 | W10: 25000 | X10: =W10*H10 -> 12500000 | Y10: 30000 | Z10: =Y10*H10 -> 15000000 | AA10: 25000 | AB10: =AA10*H10 -> 12500000 | AC10: 23000 | AD10: =AC10*H10 -> 11500000 | AE10: =26052*1.0161 -> 26471.437 | AF10: =AE10*H10 -> 13235719 | AH10: =AG10*H10 -> 0 | AI10: =41950*1.0161 -> 42625.395 | AJ10: =AI10*H10 -> 21312698 | AM10: =ROUND((AVERAGE(I10,K10,M10,O10,Q10,S10,U10,W10,Y10,AA10,AC10,AE10,AG10,AI10,AK10)),0) -> 27623 | AN10: =ROUND((AM10*H10),0) -> 13811500 | AO10: =ROUND((MEDIAN(I10,K10,M10,O10,Q10,S10,U10,W10,Y10,AA10,AC10,AE10,AG10,AI10,AK10)),0) -> 26471 | AP10: =ROUND((H10*AO10),0) -> 13235500 | AQ10: =ROUND((HARMEAN(I10,K10,M10,O10,Q10,S10,U10,W10,Y10,AA10,AC10,AE10,AG10,AI10,AK10)),0) -> 26188 | AR10: =ROUND((H10*AQ10),0) -> 13094000 | AS10: =ROUND((GEOMEAN(I10,K10,M10,O10,Q10:S10,U10,W10,Y10,AA10,AC10,AE10,AG10,AI10,AK10)),0) -> 42178 | AT10: =ROUND((H10*AS10),0) -> 21089000
C11: 28 | D11: Suministro y aplicación de pintura acrílica para interior, tipo Koraza o similar, de primera calidad, sobre columnas, muro o vigas y/o pintura existente, color a definir, en todas las superficies a pintar, se aplicarán cuantas manos de pintura e imprimantes sean necesarios. Incluye todo tipo de resanes y preparación de superficie. Para Muros, columnas y vigas. | E11: Suministro y aplicación de pintura acrílica para interior, tipo Koraza o similar, de primera calidad, sobre columnas, muro o vigas y/o pintura existente, color a definir, en todas las superficies a pintar, se aplicarán cuantas manos de pintura e imprimantes sean necesarios. Incluye todo tipo de resanes y preparación de superficie. Para Muros, columnas y vigas. | F11: Suministro y aplicación de pintura acrílica para interior, tipo Koraza o similar, de primera calidad, sobre columnas, muro o vigas y/o pintura existente, color a definir, en todas las superficies a pintar, se aplicarán cuantas manos de pintura e imprimantes sean necesarios. Incluye todo tipo de resanes y preparación de superficie. Para Muros, columnas y vigas. | G11: m2 | H11: 450 | I11: 18000 | J11: =I11*H11 -> 8100000 | K11: 15600 | L11: =K11*H11 -> 7020000 | M11: 40000 | N11: =M11*H11 -> 18000000 | O11: 35200 | P11: =O11*H11 -> 15840000 | Q11: 23400 | R11: =H11*Q11 -> 10530000 | S11: 32200 | T11: =S11*H11 -> 14490000 | U11: 23000 | V11: =U11*H11 -> 10350000 | W11: 25000 | X11: =W11*H11 -> 11250000 | Y11: 32000 | Z11: =Y11*H11 -> 14400000 | AA11: 25000 | AB11: =AA11*H11 -> 11250000 | AC11: 28000 | AD11: =AC11*H11 -> 12600000 | AF11: =AE11*H11 -> 0 | AH11: =AG11*H11 -> 0 | AI11: =27250*1.0161 -> 27688.725 | AJ11: =AI11*H11 -> 12459926 | AM11: =ROUND((AVERAGE(I11,K11,M11,O11,Q11,S11,U11,W11,Y11,AA11,AC11,AE11,AG11,AI11,AK11)),0) -> 27091 | AN11: =ROUND((AM11*H11),0) -> 12190950 | AO11: =ROUND((MEDIAN(I11,K11,M11,O11,Q11,S11,U11,W11,Y11,AA11,AC11,AE11,AG11,AI11,AK11)),0) -> 26344 | AP11: =ROUND((H11*AO11),0) -> 11854800 | AQ11: =ROUND((HARMEAN(I11,K11,M11,O11,Q11,S11,U11,W11,Y11,AA11,AC11,AE11,AG11,AI11,AK11)),0) -> 25348 | AR11: =ROUND((H11*AQ11),0) -> 11406600 | AS11: =ROUND((GEOMEAN(I11,K11,M11,O11,Q11:S11,U11,W11,Y11,AA11,AC11,AE11,AG11,AI11,AK11)),0) -> 41604 | AT11: =ROUND((H11*AS11),0) -> 18721800
C12: 29 | D12: Suministro y aplicación de pintura acrílica para exterior, tipo Koraza o similar, de primera calidad, sobre columnas, muro o vigas y/o pintura existente, color a definir, en todas las superficies a pintar, se aplicarán cuantas manos de pintura e imprimantes sean necesarios. Incluye todo tipo de resanes y preparación de superficie. Para Muros, columnas y vigas. | E12: Suministro y aplicación de pintura acrílica para exterior, tipo Koraza o similar, de primera calidad, sobre columnas, muro o vigas y/o pintura existente, color a definir, en todas las superficies a pintar, se aplicarán cuantas manos de pintura e imprimantes sean necesarios. Incluye todo tipo de resanes y preparación de superficie. Para Muros, columnas y vigas. | F12: Suministro y aplicación de pintura acrílica para exterior, tipo Koraza o similar, de primera calidad, sobre columnas, muro o vigas y/o pintura existente, color a definir, en todas las superficies a pintar, se aplicarán cuantas manos de pintura e imprimantes sean necesarios. Incluye todo tipo de resanes y preparación de superficie. Para Muros, columnas y vigas. | G12: m2 | H12: 700 | I12: 18000 | J12: =I12*H12 -> 12600000 | K12: 15600 | L12: =K12*H12 -> 10920000 | M12: 40000 | N12: =M12*H12 -> 28000000 | O12: 35200 | P12: =O12*H12 -> 24640000 | Q12: 23400 | R12: =H12*Q12 -> 16380000 | S12: 32200 | T12: =S12*H12 -> 22540000 | U12: 23000 | V12: =U12*H12 -> 16100000 | W12: 25000 | X12: =W12*H12 -> 17500000 | Y12: 32000 | Z12: =Y12*H12 -> 22400000 | AA12: 25000 | AB12: =AA12*H12 -> 17500000 | AC12: 28000 | AD12: =AC12*H12 -> 19600000 | AE12: =20137*1.0161 -> 20461.206 | AF12: =AE12*H12 -> 14322844 | AH12: =AG12*H12 -> 0 | AJ12: =AI12*H12 -> 0 | AM12: =ROUND((AVERAGE(I12,K12,M12,O12,Q12,S12,U12,W12,Y12,AA12,AC12,AE12,AG12,AI12,AK12)),0) -> 26488 | AN12: =ROUND((AM12*H12),0) -> 18541600 | AO12: =ROUND((MEDIAN(I12,K12,M12,O12,Q12,S12,U12,W12,Y12,AA12,AC12,AE12,AG12,AI12,AK12)),0) -> 25000 | AP12: =ROUND((H12*AO12),0) -> 17500000 | AQ12: =ROUND((HARMEAN(I12,K12,M12,O12,Q12,S12,U12,W12,Y12,AA12,AC12,AE12,AG12,AI12,AK12)),0) -> 24683 | AR12: =ROUND((H12*AQ12),0) -> 17278100 | AS12: =ROUND((GEOMEAN(I12,K12,M12,O12,Q12:S12,U12,W12,Y12,AA12,AC12,AE12,AG12,AI12,AK12)),0) -> 42052 | AT12: =ROUND((H12*AS12),0) -> 29436400
C13: 30 | D13: Demolición de piso | E13: Demolición de piso | F13: Demolición de piso | G13: m2 | H13: 240 | I13: 12000 | J13: =I13*H13 -> 2880000 | K13: 10900 | L13: =K13*H13 -> 2616000 | M13: 30000 | N13: =M13*H13 -> 7200000 | O13: 7040 | P13: =O13*H13 -> 1689600 | Q13: 24700 | R13: =H13*Q13 -> 5928000 | S13: 21000 | T13: =S13*H13 -> 5040000 | U13: 10000 | V13: =U13*H13 -> 2400000 | W13: 15000 | X13: =W13*H13 -> 3600000 | Y13: 16000 | Z13: =Y13*H13 -> 3840000 | AA13: 18000 | AB13: =AA13*H13 -> 4320000 | AC13: 17000 | AD13: =AC13*H13 -> 4080000 | AF13: =AE13*H13 -> 0 | AH13: =AG13*H13 -> 0 | AJ13: =AI13*H13 -> 0 | AM13: =ROUND((AVERAGE(I13,K13,M13,O13,Q13,S13,U13,W13,Y13,AA13,AC13,AE13,AG13,AI13,AK13)),0) -> 16513 | AN13: =ROUND((AM13*H13),0) -> 3963120 | AO13: =ROUND((MEDIAN(I13,K13,M13,O13,Q13,S13,U13,W13,Y13,AA13,AC13,AE13,AG13,AI13,AK13)),0) -> 16000 | AP13: =ROUND((H13*AO13),0) -> 3840000 | AQ13: =ROUND((HARMEAN(I13,K13,M13,O13,Q13,S13,U13,W13,Y13,AA13,AC13,AE13,AG13,AI13,AK13)),0) -> 14065 | AR13: =ROUND((H13*AQ13),0) -> 3375600 | AS13: =ROUND((GEOMEAN(I13,K13,M13,O13,Q13:S13,U13,W13,Y13,AA13,AC13,AE13,AG13,AI13,AK13)),0) -> 25095 | AT13: =ROUND((H13*AS13),0) -> 6022800
C14: 31 | D14: Suministro e instalación de impermeabilización con Restrucreto MIP o similar y pintura Supercryl larga vida o similar.(losa terraza torre de control) | E14: Suministro e instalación de impermeabilización con Restrucreto MIP o similar y pintura Supercryl larga vida o similar.(losa terraza torre de control) | F14: Suministro e instalación de impermeabilización con Restrucreto MIP o similar y pintura Supercryl larga vida o similar.(losa terraza torre de control) | G14: m2 | H14: 255 | I14: 12000 | J14: =I14*H14 -> 3060000 | K14: 35890 | L14: =K14*H14 -> 9151950 | M14: 160000 | N14: =M14*H14 -> 40800000 | O14: 140800 | P14: =O14*H14 -> 35904000 | Q14: 61170 | R14: =H14*Q14 -> 15598350 | S14: 77000 | T14: =S14*H14 -> 19635000 | U14: 99000 | V14: =U14*H14 -> 25245000 | W14: 90000 | X14: =W14*H14 -> 22950000 | Y14: 110000 | Z14: =Y14*H14 -> 28050000 | AA14: 113000 | AB14: =AA14*H14 -> 28815000 | AC14: 80000 | AD14: =AC14*H14 -> 20400000 | AF14: =AE14*H14 -> 0 | AH14: =AG14*H14 -> 0 | AJ14: =AI14*H14 -> 0 | AM14: =ROUND((AVERAGE(I14,K14,M14,O14,Q14,S14,U14,W14,Y14,AA14,AC14,AE14,AG14,AI14,AK14)),0) -> 88987 | AN14: =ROUND((AM14*H14),0) -> 22691685 | AO14: =ROUND((MEDIAN(I14,K14,M14,O14,Q14,S14,U14,W14,Y14,AA14,AC14,AE14,AG14,AI14,AK14)),0) -> 90000 | AP14: =ROUND((H14*AO14),0) -> 22950000 | AQ14: =ROUND((HARMEAN(I14,K14,M14,O14,Q14,S14,U14,W14,Y14,AA14,AC14,AE14,AG14,AI14,AK14)),0) -> 53519 | AR14: =ROUND((H14*AQ14),0) -> 13647345 | AS14: =ROUND((GEOMEAN(I14,K14,M14,O14,Q14:S14,U14,W14,Y14,AA14,AC14,AE14,AG14,AI14,AK14)),0) -> 116601 | AT14: =ROUND((H14*AS14),0) -> 29733255
C15: 32 | D15: Suministro e Instalacion muro en lámina en superboard | E15: Instalacion muro en lámina en superboard | F15: Instalacion muro en lámina en superboard | G15: m2 | H15: 77 | I15: 180000 | J15: =I15*H15 -> 13860000 | K15: 85600 | L15: =K15*H15 -> 6591200 | M15: 150000 | N15: =M15*H15 -> 11550000 | O15: 101335.04 | P15: =O15*H15 -> 7802798.1 | Q15: 98400 | R15: =H15*Q15 -> 7576800 | S15: 105000 | T15: =S15*H15 -> 8085000 | U15: 102000 | V15: =U15*H15 -> 7854000 | W15: 110000 | X15: =W15*H15 -> 8470000 | Y15: 135000 | Z15: =Y15*H15 -> 10395000 | AA15: 138000 | AB15: =AA15*H15 -> 10626000 | AC15: 120000 | AD15: =AC15*H15 -> 9240000 | AE15: =45000*1.0161 -> 45724.5 | AF15: =AE15*H15 -> 3520786.5 | AH15: =AG15*H15 -> 0 | AJ15: =AI15*H15 -> 0 | AM15: =ROUND((AVERAGE(I15,K15,M15,O15,Q15,S15,U15,W15,Y15,AA15,AC15,AE15,AG15,AI15,AK15)),0) -> 114255 | AN15: =ROUND((AM15*H15),0) -> 8797635 | AO15: =ROUND((MEDIAN(I15,K15,M15,O15,Q15,S15,U15,W15,Y15,AA15,AC15,AE15,AG15,AI15,AK15)),0) -> 107500 | AP15: =ROUND((H15*AO15),0) -> 8277500 | AQ15: =ROUND((HARMEAN(I15,K15,M15,O15,Q15,S15,U15,W15,Y15,AA15,AC15,AE15,AG15,AI15,AK15)),0) -> 102379 | AR15: =ROUND((H15*AQ15),0) -> 7883183 | AS15: =ROUND((GEOMEAN(I15,K15,M15,O15,Q15:S15,U15,W15,Y15,AA15,AC15,AE15,AG15,AI15,AK15)),0) -> 150896 | AT15: =ROUND((H15*AS15),0) -> 11618992
